Workbook

Sheet ごみ処理概要
A1: ごみ処理の概要（令和5年度実績）
A2: 都道府県名 | B2: 地方公共団体コード | C2: 市区町村名 | D2: 総人口 | G2: 総人口のうち、外国人人口 | H2: ごみ総排出量 (計画収集量+直接搬入量+集団回収量) | L2: １人１日当たりの排出量 | P2: 自家処理量 | Q2: ごみ処理量 (直接焼却量+直接最終処分量+焼却以外の中間処理量+直接資源化量) | AC2: 減量処理率 (直接資源化量+直接焼却量+焼却以外の中間処理量)/ごみ処理量*100 | AD2: 中間処理後再生利用量 (焼却施設＋粗大ごみ処理施設+ごみ堆肥化施設+ごみ飼料化施設+メタン化施設+ごみ燃料化施設+その他の資源化等を行う施設+その他の施設) | AL2: リサイクル率 Ｒ (直接資源化量+中間処理後再生利用量+集団回収量)/(ごみ処理量+集団回収量)*100 | AM2: リサイクル率 Ｒ’ (直接資源化量+中間処理後再生利用量〔固形燃料、焼却灰・飛灰のｾﾒﾝﾄ原料化、セメント等への直接投入、飛灰の山元還元 を除く〕+集団回収量)/(ごみ処理量+集団回収量)*100 | AN2: 最終処分量 (直接最終処分量+焼却残渣量+処理残渣量)
E3: 計画収集人口 | F3: 自家処理人口 | H3: 計画収集量 | I3: 直接搬入量 | J3: 集団回収量 | K3: 合計 | L3: 合計 (ごみ総排出量)*10^6/総人口/366 | M3: 生活系ごみ (生活系ごみ搬入量+集団回収量)*10^6/総人口/366 | N3: 家庭系ごみ (生活系ごみ-集団回収量-生活系直接搬入ごみ[資源ごみ]-資源ごみ収集量)*10^6/総人口/366 | O3: 事業系ごみ (事業系ごみ搬入量)*10^6/総人口/366 | Q3: 直接焼却量 | R3: 直接最終 処分量 | S3: 焼却以外の中間処理量(粗大ごみ処理施設+ごみ堆肥化施設+ごみ飼料化施設+メタン化施設+ごみ燃料化施設+その他の資源化等を行う施設+その他の施設) | AA3: 直接 資源化量 | AB3: 合計 | AD3: 焼却施設 | AE3: 粗大ごみ 処理施設 | AF3: ごみ堆肥化施設 | AG3: ごみ飼料化施設 | AH3: メタン化施設 | AI3: ごみ燃料化施設 | AJ3: その他の資源化等を行う施設 | AK3: 合計 | AN3: 直接最終 処分量 | AO3: 焼却残渣量 | AP3: 処理残渣量 | AQ3: 合計
S4: 合計 | T4: 粗大ごみ 処理施設 | U4: 資源化等を行う施設 | V4: ごみ堆肥化施設 | W4: ごみ飼料化施設 | X4: メタン化施設 | Y4: ごみ燃料化 施設 | Z4: その他の 施設
D6: （人） | E6: （人） | F6: （人） | G6: （人） | H6: （ｔ） | I6: （ｔ） | J6: （ｔ） | K6: （ｔ） | L6: （g/人日) | M6: （g/人日) | N6: （g/人日) | O6: （g/人日) | P6: （ｔ） | Q6: （ｔ） | R6: （ｔ） | S6: （ｔ） | T6: （ｔ） | U6: （ｔ） | V6: （ｔ） | W6: （ｔ） | X6: （ｔ） | Y6: （ｔ） | Z6: （ｔ） | AA6: （ｔ） | AB6: （ｔ） | AC6: （％） | AD6: （ｔ） | AE6: （ｔ） | AF6: （ｔ） | AG6: （ｔ） | AH6: （ｔ） | AI6: （ｔ） | AJ6: （ｔ） | AK6: （ｔ） | AL6: （％） | AM6: （％） | AN6: （ｔ） | AO6: （ｔ） | AP6: （ｔ） | AQ6: （ｔ）
A7: 愛知県 | B7: 23000 | C7: 合計 | D7: =+E7+F7 -> 7500116 | E7: =SUM(E$8:E$207) -> 7500116 | F7: =SUM(F$8:F$207) -> 0 | G7: =SUM(G$8:G$207) -> 296151 | H7: =SUM(ごみ搬入量内訳!E7,+ごみ搬入量内訳!AD7) -> 1950873 | I7: =ごみ搬入量内訳!BC7 -> 246348 | J7: =資源化量内訳!BR7 -> 84830 | K7: =SUM(H7:J7) -> 2282051 | L7: =IF(D7<>0,K7/D7/366*1000000,"-") -> 831.33541 | M7: =IF(D7<>0,(ごみ搬入量内訳!BR7+ごみ処理概要!J7)/ごみ処理概要!D7/366*1000000,"-") -> 593.11287 | N7: =IF(D7<>0,(ごみ搬入量内訳!E7+ごみ搬入量内訳!BD7-ごみ搬入量内訳!R7-ごみ搬入量内訳!BH7)/D7/366*1000000,"-") -> 475.11105 | O7: =IF(D7<>0,ごみ搬入量内訳!CM7/ごみ処理概要!D7/366*1000000,"-") -> 238.22254 | P7: =ごみ搬入量内訳!DH7 -> 0 | Q7: =ごみ処理量内訳!E7 -> 1730404 | R7: =ごみ処理量内訳!N7 -> 13677 | S7: =SUM(T7:Z7) -> 373373 | T7: =ごみ処理量内訳!G7 -> 99619 | U7: =ごみ処理量内訳!L7 -> 200304 | V7: =ごみ処理量内訳!H7 -> 37057 | W7: =ごみ処理量内訳!I7 -> 4789 | X7: =ごみ処理量内訳!J7 -> 22085 | Y7: =ごみ処理量内訳!K7 -> 7828 | Z7: =ごみ処理量内訳!M7 -> 1691 | AA7: =資源化量内訳!Z7 -> 85507 | AB7: =SUM(Q7,R7,S7,AA7) -> 2202961 | AC7: =IF(AB7<>0,(AA7+Q7+S7)/AB7*100,"-") -> 99.379154 | AD7: =施設資源化量内訳!Z7 -> 105503 | AE7: =施設資源化量内訳!AV7 -> 13726 | AF7: =施設資源化量内訳!BR7 -> 22415 | AG7: =施設資源化量内訳!CN7 -> 1277 | AH7: =施設資源化量内訳!DJ7 -> 14435 | AI7: =施設資源化量内訳!EF7 -> 6660 | AJ7: =施設資源化量内訳!FB7 -> 169264 | AK7: =SUM(AD7:AJ7) -> 333280 | AL7: =IF((AB7+J7)<>0,(AA7+AK7+J7)/(AB7+J7)*100,"-") -> 22.013243 | AM7: =IF((AB7+J7)<>0,(資源化量内訳!D7-資源化量内訳!S7-資源化量内訳!U7-資源化量内訳!W7-資源化量内訳!V7)/(AB7+J7)*100,"-") -> 21.136371 | AN7: =ごみ処理量内訳!AA7 -> 13677 | AO7: =ごみ処理量内訳!AB7 -> 122064 | AP7: =ごみ処理量内訳!AC7 -> 7514 | AQ7: =SUM(AN7:AP7) -> 143255
A8: 愛知県 | B8: 23100 | C8: 名古屋市 | D8: =+E8+F8 -> 2296259 | E8: 2296259 | F8: 0 | G8: 90728 | H8: =SUM(ごみ搬入量内訳!E8,+ごみ搬入量内訳!AD8) -> 621856 | I8: =ごみ搬入量内訳!BC8 -> 44204 | J8: =資源化量内訳!BR8 -> 48540 | K8: =SUM(H8:J8) -> 714600 | L8: =IF(D8<>0,K8/D8/366*1000000,"-") -> 850.27822 | M8: =IF(D8<>0,(ごみ搬入量内訳!BR8+ごみ処理概要!J8)/ごみ処理概要!D8/366*1000000,"-") -> 577.69421 | N8: =IF(D8<>0,(ごみ搬入量内訳!E8+ごみ搬入量内訳!BD8-ごみ搬入量内訳!R8-ごみ搬入量内訳!BH8)/D8/366*1000000,"-") -> 450.57369 | O8: =IF(D8<>0,ごみ搬入量内訳!CM8/ごみ処理概要!D8/366*1000000,"-") -> 272.58401 | P8: =ごみ搬入量内訳!DH8 -> 0 | Q8: =ごみ処理量内訳!E8 -> 521595 | R8: =ごみ処理量内訳!N8 -> 1632 | S8: =SUM(T8:Z8) -> 142833 | T8: =ごみ処理量内訳!G8 -> 30118 | U8: =ごみ処理量内訳!L8 -> 89107 | V8: =ごみ処理量内訳!H8 -> 14249 | W8: =ごみ処理量内訳!I8 -> 4331 | X8: =ごみ処理量内訳!J8 -> 4849 | Y8: =ごみ処理量内訳!K8 -> 0 | Z8: =ごみ処理量内訳!M8 -> 179 | AA8: =資源化量内訳!Z8 -> 0 | AB8: =SUM(Q8,R8,S8,AA8) -> 666060 | AC8: =IF(AB8<>0,(AA8+Q8+S8)/AB8*100,"-") -> 99.754977 | AD8: =施設資源化量内訳!Z8 -> 56543 | AE8: =施設資源化量内訳!AV8 -> 1716 | AF8: =施設資源化量内訳!BR8 -> 3799 | AG8: =施設資源化量内訳!CN8 -> 819 | AH8: =施設資源化量内訳!DJ8 -> 296 | AI8: =施設資源化量内訳!EF8 -> 0 | AJ8: =施設資源化量内訳!FB8 -> 83842 | AK8: =SUM(AD8:AJ8) -> 147015 | AL8: =IF((AB8+J8)<>0,(AA8+AK8+J8)/(AB8+J8)*100,"-") -> 27.365659 | AM8: =IF((AB8+J8)<>0,(資源化量内訳!D8-資源化量内訳!S8-資源化量内訳!U8-資源化量内訳!W8-資源化量内訳!V8)/(AB8+J8)*100,"-") -> 26.446683 | AN8: =ごみ処理量内訳!AA8 -> 1632 | AO8: =ごみ処理量内訳!AB8 -> 13710 | AP8: =ごみ処理量内訳!AC8 -> 613 | AQ8: =SUM(AN8:AP8) -> 15955
A9: 愛知県 | B9: 23201 | C9: 豊橋市 | D9: =+E9+F9 -> 368996 | E9: 368996 | F9: 0 | G9: 20447 | H9: =SUM(ごみ搬入量内訳!E9,+ごみ搬入量内訳!AD9) -> 95852 | I9: =ごみ搬入量内訳!BC9 -> 19073 | J9: =資源化量内訳!BR9 -> 3628 | K9: =SUM(H9:J9) -> 118553 | L9: =IF(D9<>0,K9/D9/366*1000000,"-") -> 877.82876 | M9: =IF(D9<>0,(ごみ搬入量内訳!BR9+ごみ処理概要!J9)/ごみ処理概要!D9/366*1000000,"-") -> 596.51601 | N9: =IF(D9<>0,(ごみ搬入量内訳!E9+ごみ搬入量内訳!BD9-ごみ搬入量内訳!R9-ごみ搬入量内訳!BH9)/D9/366*1000000,"-") -> 406.66397 | O9: =IF(D9<>0,ごみ搬入量内訳!CM9/ごみ処理概要!D9/366*1000000,"-") -> 281.31275 | P9: =ごみ搬入量内訳!DH9 -> 0 | Q9: =ごみ処理量内訳!E9 -> 77905 | R9: =ごみ処理量内訳!N9 -> 2997 | S9: =SUM(T9:Z9) -> 33143 | T9: =ごみ処理量内訳!G9 -> 9831 | U9: =ごみ処理量内訳!L9 -> 8272 | V9: =ごみ処理量内訳!H9 -> 0 | W9: =ごみ処理量内訳!I9 -> 0 | X9: =ごみ処理量内訳!J9 -> 15040 | Y9: =ごみ処理量内訳!K9 -> 0 | Z9: =ごみ処理量内訳!M9 -> 0 | AA9: =資源化量内訳!Z9 -> 890 | AB9: =SUM(Q9,R9,S9,AA9) -> 114935 | AC9: =IF(AB9<>0,(AA9+Q9+S9)/AB9*100,"-") -> 97.392439 | AD9: =施設資源化量内訳!Z9 -> 2130 | AE9: =施設資源化量内訳!AV9 -> 1286 | AF9: =施設資源化量内訳!BR9 -> 0 | AG9: =施設資源化量内訳!CN9 -> 0 | AH9: =施設資源化量内訳!DJ9 -> 11943 | AI9: =施設資源化量内訳!EF9 -> 0 | AJ9: =施設資源化量内訳!FB9 -> 5576 | AK9: =SUM(AD9:AJ9) -> 20935 | AL9: =IF((AB9+J9)<>0,(AA9+AK9+J9)/(AB9+J9)*100,"-") -> 21.467912 | AM9: =IF((AB9+J9)<>0,(資源化量内訳!D9-資源化量内訳!S9-資源化量内訳!U9-資源化量内訳!W9-資源化量内訳!V9)/(AB9+J9)*100,"-") -> 21.467912 | AN9: =ごみ処理量内訳!AA9 -> 2997 | AO9: =ごみ処理量内訳!AB9 -> 8677 | AP9: =ごみ処理量内訳!AC9 -> 584 | AQ9: =SUM(AN9:AP9) -> 12258
A10: 愛知県 | B10: 23202 | C10: 岡崎市 | D10: =+E10+F10 -> 383141 | E10: 383141 | F10: 0 | G10: 13785 | H10: =SUM(ごみ搬入量内訳!E10,+ごみ搬入量内訳!AD10) -> 100974 | I10: =ごみ搬入量内訳!BC10 -> 18716 | J10: =資源化量内訳!BR10 -> 3100 | K10: =SUM(H10:J10) -> 122790 | L10: =IF(D10<>0,K10/D10/366*1000000,"-") -> 875.63535 | M10: =IF(D10<>0,(ごみ搬入量内訳!BR10+ごみ処理概要!J10)/ごみ処理概要!D10/366*1000000,"-") -> 603.8026 | N10: =IF(D10<>0,(ごみ搬入量内訳!E10+ごみ搬入量内訳!BD10-ごみ搬入量内訳!R10-ごみ搬入量内訳!BH10)/D10/366*1000000,"-") -> 525.46678 | O10: =IF(D10<>0,ごみ搬入量内訳!CM10/ごみ処理概要!D10/366*1000000,"-") -> 271.83275 | P10: =ごみ搬入量内訳!DH10 -> 0 | Q10: =ごみ処理量内訳!E10 -> 103669 | R10: =ごみ処理量内訳!N10 -> 3232 | S10: =SUM(T10:Z10) -> 12789 | T10: =ごみ処理量内訳!G10 -> 0 | U10: =ごみ処理量内訳!L10 -> 12789 | V10: =ごみ処理量内訳!H10 -> 0 | W10: =ごみ処理量内訳!I10 -> 0 | X10: =ごみ処理量内訳!J10 -> 0 | Y10: =ごみ処理量内訳!K10 -> 0 | Z10: =ごみ処理量内訳!M10 -> 0 | AA10: =資源化量内訳!Z10 -> 0 | AB10: =SUM(Q10,R10,S10,AA10) -> 119690 | AC10: =IF(AB10<>0,(AA10+Q10+S10)/AB10*100,"-") -> 97.299691 | AD10: =施設資源化量内訳!Z10 -> 10581 | AE10: =施設資源化量内訳!AV10 -> 0 | AF10: =施設資源化量内訳!BR10 -> 0 | AG10: =施設資源化量内訳!CN10 -> 0 | AH10: =施設資源化量内訳!DJ10 -> 0 | AI10: =施設資源化量内訳!EF10 -> 0 | AJ10: =施設資源化量内訳!FB10 -> 9191 | AK10: =SUM(AD10:AJ10) -> 19772 | AL10: =IF((AB10+J10)<>0,(AA10+AK10+J10)/(AB10+J10)*100,"-") -> 18.626924 | AM10: =IF((AB10+J10)<>0,(資源化量内訳!D10-資源化量内訳!S10-資源化量内訳!U10-資源化量内訳!W10-資源化量内訳!V10)/(AB10+J10)*100,"-") -> 18.626924 | AN10: =ごみ処理量内訳!AA10 -> 3232 | AO10: =ごみ処理量内訳!AB10 -> 3439 | AP10: =ごみ処理量内訳!AC10 -> 967 | AQ10: =SUM(AN10:AP10) -> 7638
A11: 愛知県 | B11: 23203 | C11: 一宮市 | D11: =+E11+F11 -> 378786 | E11: 378786 | F11: 0 | G11: 8014 | H11: =SUM(ごみ搬入量内訳!E11,+ごみ搬入量内訳!AD11) -> 102770 | I11: =ごみ搬入量内訳!BC11 -> 9576 | J11: =資源化量内訳!BR11 -> 416 | K11: =SUM(H11:J11) -> 112762 | L11: =IF(D11<>0,K11/D11/366*1000000,"-") -> 813.36928 | M11: =IF(D11<>0,(ごみ搬入量内訳!BR11+ごみ処理概要!J11)/ごみ処理概要!D11/366*1000000,"-") -> 609.35974 | N11: =IF(D11<>0,(ごみ搬入量内訳!E11+ごみ搬入量内訳!BD11-ごみ搬入量内訳!R11-ごみ搬入量内訳!BH11)/D11/366*1000000,"-") -> 517.88978 | O11: =IF(D11<>0,ごみ搬入量内訳!CM11/ごみ処理概要!D11/366*1000000,"-") -> 204.00954 | P11: =ごみ搬入量内訳!DH11 -> 0 | Q11: =ごみ処理量内訳!E11 -> 87219 | R11: =ごみ処理量内訳!N11 -> 611 | S11: =SUM(T11:Z11) -> 17781 | T11: =ごみ処理量内訳!G11 -> 7522 | U11: =ごみ処理量内訳!L11 -> 5146 | V11: =ごみ処理量内訳!H11 -> 5110 | W11: =ごみ処理量内訳!I11 -> 0 | X11: =ごみ処理量内訳!J11 -> 0 | Y11: =ごみ処理量内訳!K11 -> 0 | Z11: =ごみ処理量内訳!M11 -> 3 | AA11: =資源化量内訳!Z11 -> 6731 | AB11: =SUM(Q11,R11,S11,AA11) -> 112342 | AC11: =IF(AB11<>0,(AA11+Q11+S11)/AB11*100,"-") -> 99.456125 | AD11: =施設資源化量内訳!Z11 -> 1412 | AE11: =施設資源化量内訳!AV11 -> 1574 | AF11: =施設資源化量内訳!BR11 -> 3855 | AG11: =施設資源化量内訳!CN11 -> 0 | AH11: =施設資源化量内訳!DJ11 -> 0 | AI11: =施設資源化量内訳!EF11 -> 0 | AJ11: =施設資源化量内訳!FB11 -> 3463 | AK11: =SUM(AD11:AJ11) -> 10304 | AL11: =IF((AB11+J11)<>0,(AA11+AK11+J11)/(AB11+J11)*100,"-") -> 15.476507 | AM11: =IF((AB11+J11)<>0,(資源化量内訳!D11-資源化量内訳!S11-資源化量内訳!U11-資源化量内訳!W11-資源化量内訳!V11)/(AB11+J11)*100,"-") -> 15.476507 | AN11: =ごみ処理量内訳!AA11 -> 611 | AO11: =ごみ処理量内訳!AB11 -> 12299 | AP11: =ごみ処理量内訳!AC11 -> 323 | AQ11: =SUM(AN11:AP11) -> 13233
A12: 愛知県 | B12: 23204 | C12: 瀬戸市 | D12: =+E12+F12 -> 127568 | E12: 127568 | F12: 0 | G12: 4924 | H12: =SUM(ごみ搬入量内訳!E12,+ごみ搬入量内訳!AD12) -> 32607 | I12: =ごみ搬入量内訳!BC12 -> 3343 | J12: =資源化量内訳!BR12 -> 1652 | K12: =SUM(H12:J12) -> 37602 | L12: =IF(D12<>0,K12/D12/366*1000000,"-") -> 805.3564 | M12: =IF(D12<>0,(ごみ搬入量内訳!BR12+ごみ処理概要!J12)/ごみ処理概要!D12/366*1000000,"-") -> 616.70741 | N12: =IF(D12<>0,(ごみ搬入量内訳!E12+ごみ搬入量内訳!BD12-ごみ搬入量内訳!R12-ごみ搬入量内訳!BH12)/D12/366*1000000,"-") -> 472.24358 | O12: =IF(D12<>0,ごみ搬入量内訳!CM12/ごみ処理概要!D12/366*1000000,"-") -> 188.64899 | P12: =ごみ搬入量内訳!DH12 -> 0 | Q12: =ごみ処理量内訳!E12 -> 29305 | R12: =ごみ処理量内訳!N12 -> 0 | S12: =SUM(T12:Z12) -> 1552 | T12: =ごみ処理量内訳!G12 -> 1552 | U12: =ごみ処理量内訳!L12 -> 0 | V12: =ごみ処理量内訳!H12 -> 0 | W12: =ごみ処理量内訳!I12 -> 0 | X12: =ごみ処理量内訳!J12 -> 0 | Y12: =ごみ処理量内訳!K12 -> 0 | Z12: =ごみ処理量内訳!M12 -> 0 | AA12: =資源化量内訳!Z12 -> 5093 | AB12: =SUM(Q12,R12,S12,AA12) -> 35950 | AC12: =IF(AB12<>0,(AA12+Q12+S12)/AB12*100,"-") -> 100 | AD12: =施設資源化量内訳!Z12 -> 49 | AE12: =施設資源化量内訳!AV12 -> 381 | AF12: =施設資源化量内訳!BR12 -> 0 | AG12: =施設資源化量内訳!CN12 -> 0 | AH12: =施設資源化量内訳!DJ12 -> 0 | AI12: =施設資源化量内訳!EF12 -> 0 | AJ12: =施設資源化量内訳!FB12 -> 0 | AK12: =SUM(AD12:AJ12) -> 430 | AL12: =IF((AB12+J12)<>0,(AA12+AK12+J12)/(AB12+J12)*100,"-") -> 19.081432 | AM12: =IF((AB12+J12)<>0,(資源化量内訳!D12-資源化量内訳!S12-資源化量内訳!U12-資源化量内訳!W12-資源化量内訳!V12)/(AB12+J12)*100,"-") -> 19.081432 | AN12: =ごみ処理量内訳!AA12 -> 0 | AO12: =ごみ処理量内訳!AB12 -> 3333 | AP12: =ごみ処理量内訳!AC12 -> 312 | AQ12: =SUM(AN12:AP12) -> 3645
A13: 愛知県 | B13: 23205 | C13: 半田市 | D13: =+E13+F13 -> 117418 | E13: 117418 | F13: 0 | G13: 4770 | H13: =SUM(ごみ搬入量内訳!E13,+ごみ搬入量内訳!AD13) -> 26657 | I13: =ごみ搬入量内訳!BC13 -> 8531 | J13: =資源化量内訳!BR13 -> 2055 | K13: =SUM(H13:J13) -> 37243 | L13: =IF(D13<>0,K13/D13/366*1000000,"-") -> 866.62037 | M13: =IF(D13<>0,(ごみ搬入量内訳!BR13+ごみ処理概要!J13)/ごみ処理概要!D13/366*1000000,"-") -> 627.73723 | N13: =IF(D13<>0,(ごみ搬入量内訳!E13+ごみ搬入量内訳!BD13-ごみ搬入量内訳!R13-ごみ搬入量内訳!BH13)/D13/366*1000000,"-") -> 440.81455 | O13: =IF(D13<>0,ごみ搬入量内訳!CM13/ごみ処理概要!D13/366*1000000,"-") -> 238.88314 | P13: =ごみ搬入量内訳!DH13 -> 0 | Q13: =ごみ処理量内訳!E13 -> 23957 | R13: =ごみ処理量内訳!N13 -> 0 | S13: =SUM(T13:Z13) -> 11231 | T13: =ごみ処理量内訳!G13 -> 1792 | U13: =ごみ処理量内訳!L13 -> 5239 | V13: =ごみ処理量内訳!H13 -> 4200 | W13: =ごみ処理量内訳!I13 -> 0 | X13: =ごみ処理量内訳!J13 -> 0 | Y13: =ごみ処理量内訳!K13 -> 0 | Z13: =ごみ処理量内訳!M13 -> 0 | AA13: =資源化量内訳!Z13 -> 0 | AB13: =SUM(Q13,R13,S13,AA13) -> 35188 | AC13: =IF(AB13<>0,(AA13+Q13+S13)/AB13*100,"-") -> 100 | AD13: =施設資源化量内訳!Z13 -> 0 | AE13: =施設資源化量内訳!AV13 -> 0 | AF13: =施設資源化量内訳!BR13 -> 4200 | AG13: =施設資源化量内訳!CN13 -> 0 | AH13: =施設資源化量内訳!DJ13 -> 0 | AI13: =施設資源化量内訳!EF13 -> 0 | AJ13: =施設資源化量内訳!FB13 -> 5239 | AK13: =SUM(AD13:AJ13) -> 9439 | AL13: =IF((AB13+J13)<>0,(AA13+AK13+J13)/(AB13+J13)*100,"-") -> 30.862175 | AM13: =IF((AB13+J13)<>0,(資源化量内訳!D13-資源化量内訳!S13-資源化量内訳!U13-資源化量内訳!W13-資源化量内訳!V13)/(AB13+J13)*100,"-") -> 30.862175 | AN13: =ごみ処理量内訳!AA13 -> 0 | AO13: =ごみ処理量内訳!AB13 -> 1897 | AP13: =ごみ処理量内訳!AC13 -> 554 | AQ13: =SUM(AN13:AP13) -> 2451
A14: 愛知県 | B14: 23206 | C14: 春日井市 | D14: =+E14+F14 -> 307765 | E14: 307765 | F14: 0 | G14: 8710 | H14: =SUM(ごみ搬入量内訳!E14,+ごみ搬入量内訳!AD14) -> 77426 | I14: =ごみ搬入量内訳!BC14 -> 6586 | J14: =資源化量内訳!BR14 -> 702 | K14: =SUM(H14:J14) -> 84714 | L14: =IF(D14<>0,K14/D14/366*1000000,"-") -> 752.06413 | M14: =IF(D14<>0,(ごみ搬入量内訳!BR14+ごみ処理概要!J14)/ごみ処理概要!D14/366*1000000,"-") -> 565.01132 | N14: =IF(D14<>0,(ごみ搬入量内訳!E14+ごみ搬入量内訳!BD14-ごみ搬入量内訳!R14-ごみ搬入量内訳!BH14)/D14/366*1000000,"-") -> 470.02898 | O14: =IF(D14<>0,ごみ搬入量内訳!CM14/ごみ処理概要!D14/366*1000000,"-") -> 187.0528 | P14: =ごみ搬入量内訳!DH14 -> 0 | Q14: =ごみ処理量内訳!E14 -> 69951 | R14: =ごみ処理量内訳!N14 -> 511 | S14: =SUM(T14:Z14) -> 6618 | T14: =ごみ処理量内訳!G14 -> 4771 | U14: =ごみ処理量内訳!L14 -> 1847 | V14: =ごみ処理量内訳!H14 -> 0 | W14: =ごみ処理量内訳!I14 -> 0 | X14: =ごみ処理量内訳!J14 -> 0 | Y14: =ごみ処理量内訳!K14 -> 0 | Z14: =ごみ処理量内訳!M14 -> 0 | AA14: =資源化量内訳!Z14 -> 6932 | AB14: =SUM(Q14,R14,S14,AA14) -> 84012 | AC14: =IF(AB14<>0,(AA14+Q14+S14)/AB14*100,"-") -> 99.391754 | AD14: =施設資源化量内訳!Z14 -> 2979 | AE14: =施設資源化量内訳!AV14 -> 1034 | AF14: =施設資源化量内訳!BR14 -> 0 | AG14: =施設資源化量内訳!CN14 -> 0 | AH14: =施設資源化量内訳!DJ14 -> 0 | AI14: =施設資源化量内訳!EF14 -> 0 | AJ14: =施設資源化量内訳!FB14 -> 1846 | AK14: =SUM(AD14:AJ14) -> 5859 | AL14: =IF((AB14+J14)<>0,(AA14+AK14+J14)/(AB14+J14)*100,"-") -> 15.92771 | AM14: =IF((AB14+J14)<>0,(資源化量内訳!D14-資源化量内訳!S14-資源化量内訳!U14-資源化量内訳!W14-資源化量内訳!V14)/(AB14+J14)*100,"-") -> 12.411172 | AN14: =ごみ処理量内訳!AA14 -> 511 | AO14: =ごみ処理量内訳!AB14 -> 6045 | AP14: =ごみ処理量内訳!AC14 -> 372 | AQ14: =SUM(AN14:AP14) -> 6928
A15: 愛知県 | B15: 23207 | C15: 豊川市 | D15: =+E15+F15 -> 186364 | E15: 186364 | F15: 0 | G15: 7939 | H15: =SUM(ごみ搬入量内訳!E15,+ごみ搬入量内訳!AD15) -> 53859 | I15: =ごみ搬入量内訳!BC15 -> 9218 | J15: =資源化量内訳!BR15 -> 699 | K15: =SUM(H15:J15) -> 63776 | L15: =IF(D15<>0,K15/D15/366*1000000,"-") -> 935.00551 | M15: =IF(D15<>0,(ごみ搬入量内訳!BR15+ごみ処理概要!J15)/ごみ処理概要!D15/366*1000000,"-") -> 688.27934 | N15: =IF(D15<>0,(ごみ搬入量内訳!E15+ごみ搬入量内訳!BD15-ごみ搬入量内訳!R15-ごみ搬入量内訳!BH15)/D15/366*1000000,"-") -> 576.85746 | O15: =IF(D15<>0,ごみ搬入量内訳!CM15/ごみ処理概要!D15/366*1000000,"-") -> 246.72616 | P15: =ごみ搬入量内訳!DH15 -> 0 | Q15: =ごみ処理量内訳!E15 -> 51677 | R15: =ごみ処理量内訳!N15 -> 36 | S15: =SUM(T15:Z15) -> 6753 | T15: =ごみ処理量内訳!G15 -> 397 | U15: =ごみ処理量内訳!L15 -> 3087 | V15: =ごみ処理量内訳!H15 -> 1247 | W15: =ごみ処理量内訳!I15 -> 0 | X15: =ごみ処理量内訳!J15 -> 0 | Y15: =ごみ処理量内訳!K15 -> 2022 | Z15: =ごみ処理量内訳!M15 -> 0 | AA15: =資源化量内訳!Z15 -> 4608 | AB15: =SUM(Q15,R15,S15,AA15) -> 63074 | AC15: =IF(AB15<>0,(AA15+Q15+S15)/AB15*100,"-") -> 99.942924 | AD15: =施設資源化量内訳!Z15 -> 4968 | AE15: =施設資源化量内訳!AV15 -> 397 | AF15: =施設資源化量内訳!BR15 -> 982 | AG15: =施設資源化量内訳!CN15 -> 0 | AH15: =施設資源化量内訳!DJ15 -> 0 | AI15: =施設資源化量内訳!EF15 -> 854 | AJ15: =施設資源化量内訳!FB15 -> 2526 | AK15: =SUM(AD15:AJ15) -> 9727 | AL15: =IF((AB15+J15)<>0,(AA15+AK15+J15)/(AB15+J15)*100,"-") -> 23.57424 | AM15: =IF((AB15+J15)<>0,(資源化量内訳!D15-資源化量内訳!S15-資源化量内訳!U15-資源化量内訳!W15-資源化量内訳!V15)/(AB15+J15)*100,"-") -> 23.57424 | AN15: =ごみ処理量内訳!AA15 -> 36 | AO15: =ごみ処理量内訳!AB15 -> 1761 | AP15: =ごみ処理量内訳!AC15 -> 338 | AQ15: =SUM(AN15:AP15) -> 2135
A16: 愛知県 | B16: 23208 | C16: 津島市 | D16: =+E16+F16 -> 60204 | E16: 60204 | F16: 0 | G16: 2266 | H16: =SUM(ごみ搬入量内訳!E16,+ごみ搬入量内訳!AD16) -> 15379 | I16: =ごみ搬入量内訳!BC16 -> 163 | J16: =資源化量内訳!BR16 -> 0 | K16: =SUM(H16:J16) -> 15542 | L16: =IF(D16<>0,K16/D16/366*1000000,"-") -> 705.34318 | M16: =IF(D16<>0,(ごみ搬入量内訳!BR16+ごみ処理概要!J16)/ごみ処理概要!D16/366*1000000,"-") -> 538.01592 | N16: =IF(D16<>0,(ごみ搬入量内訳!E16+ごみ搬入量内訳!BD16-ごみ搬入量内訳!R16-ごみ搬入量内訳!BH16)/D16/366*1000000,"-") -> 487.45921 | O16: =IF(D16<>0,ごみ搬入量内訳!CM16/ごみ処理概要!D16/366*1000000,"-") -> 167.32726 | P16: =ごみ搬入量内訳!DH16 -> 0 | Q16: =ごみ処理量内訳!E16 -> 13612 | R16: =ごみ処理量内訳!N16 -> 1 | S16: =SUM(T16:Z16) -> 796 | T16: =ごみ処理量内訳!G16 -> 796 | U16: =ごみ処理量内訳!L16 -> 0 | V16: =ごみ処理量内訳!H16 -> 0 | W16: =ごみ処理量内訳!I16 -> 0 | X16: =ごみ処理量内訳!J16 -> 0 | Y16: =ごみ処理量内訳!K16 -> 0 | Z16: =ごみ処理量内訳!M16 -> 0 | AA16: =資源化量内訳!Z16 -> 1133 | AB16: =SUM(Q16,R16,S16,AA16) -> 15542 | AC16: =IF(AB16<>0,(AA16+Q16+S16)/AB16*100,"-") -> 99.993566 | AD16: =施設資源化量内訳!Z16 -> 1139 | AE16: =施設資源化量内訳!AV16 -> 105 | AF16: =施設資源化量内訳!BR16 -> 0 | AG16: =施設資源化量内訳!CN16 -> 0 | AH16: =施設資源化量内訳!DJ16 -> 0 | AI16: =施設資源化量内訳!EF16 -> 0 | AJ16: =施設資源化量内訳!FB16 -> 0 | AK16: =SUM(AD16:AJ16) -> 1244 | AL16: =IF((AB16+J16)<>0,(AA16+AK16+J16)/(AB16+J16)*100,"-") -> 15.294042 | AM16: =IF((AB16+J16)<>0,(資源化量内訳!D16-資源化量内訳!S16-資源化量内訳!U16-資源化量内訳!W16-資源化量内訳!V16)/(AB16+J16)*100,"-") -> 7.9655128 | AN16: =ごみ処理量内訳!AA16 -> 1 | AO16: =ごみ処理量内訳!AB16 -> 831 | AP16: =ごみ処理量内訳!AC16 -> 0 | AQ16: =SUM(AN16:AP16) -> 832
A17: 愛知県 | B17: 23209 | C17: 碧南市 | D17: =+E17+F17 -> 72540 | E17: 72540 | F17: 0 | G17: 6216 | H17: =SUM(ごみ搬入量内訳!E17,+ごみ搬入量内訳!AD17) -> 19442 | I17: =ごみ搬入量内訳!BC17 -> 5980 | J17: =資源化量内訳!BR17 -> 254 | K17: =SUM(H17:J17) -> 25676 | L17: =IF(D17<>0,K17/D17/366*1000000,"-") -> 967.09409 | M17: =IF(D17<>0,(ごみ搬入量内訳!BR17+ごみ処理概要!J17)/ごみ処理概要!D17/366*1000000,"-") -> 612.40002 | N17: =IF(D17<>0,(ごみ搬入量内訳!E17+ごみ搬入量内訳!BD17-ごみ搬入量内訳!R17-ごみ搬入量内訳!BH17)/D17/366*1000000,"-") -> 523.58525 | O17: =IF(D17<>0,ごみ搬入量内訳!CM17/ごみ処理概要!D17/366*1000000,"-") -> 354.69407 | P17: =ごみ搬入量内訳!DH17 -> 0 | Q17: =ごみ処理量内訳!E17 -> 17011 | R17: =ごみ処理量内訳!N17 -> 214 | S17: =SUM(T17:Z17) -> 6362 | T17: =ごみ処理量内訳!G17 -> 5789 | U17: =ごみ処理量内訳!L17 -> 500 | V17: =ごみ処理量内訳!H17 -> 0 | W17: =ごみ処理量内訳!I17 -> 73 | X17: =ごみ処理量内訳!J17 -> 0 | Y17: =ごみ処理量内訳!K17 -> 0 | Z17: =ごみ処理量内訳!M17 -> 0 | AA17: =資源化量内訳!Z17 -> 1835 | AB17: =SUM(Q17,R17,S17,AA17) -> 25422 | AC17: =IF(AB17<>0,(AA17+Q17+S17)/AB17*100,"-") -> 99.158209 | AD17: =施設資源化量内訳!Z17 -> 678 | AE17: =施設資源化量内訳!AV17 -> 447 | AF17: =施設資源化量内訳!BR17 -> 0 | AG17: =施設資源化量内訳!CN17 -> 73 | AH17: =施設資源化量内訳!DJ17 -> 0 | AI17: =施設資源化量内訳!EF17 -> 0 | AJ17: =施設資源化量内訳!FB17 -> 500 | AK17: =SUM(AD17:AJ17) -> 1698 | AL17: =IF((AB17+J17)<>0,(AA17+AK17+J17)/(AB17+J17)*100,"-") -> 14.749182 | AM17: =IF((AB17+J17)<>0,(資源化量内訳!D17-資源化量内訳!S17-資源化量内訳!U17-資源化量内訳!W17-資源化量内訳!V17)/(AB17+J17)*100,"-") -> 14.749182 | AN17: =ごみ処理量内訳!AA17 -> 214 | AO17: =ごみ処理量内訳!AB17 -> 2266 | AP17: =ごみ処理量内訳!AC17 -> 79 | AQ17: =SUM(AN17:AP17) -> 2559
A18: 愛知県 | B18: 23210 | C18: 刈谷市 | D18: =+E18+F18 -> 152786 | E18: 152786 | F18: 0 | G18: 5476 | H18: =SUM(ごみ搬入量内訳!E18,+ごみ搬入量内訳!AD18) -> 37248 | I18: =ごみ搬入量内訳!BC18 -> 10751 | J18: =資源化量内訳!BR18 -> 1806 | K18: =SUM(H18:J18) -> 49805 | L18: =IF(D18<>0,K18/D18/366*1000000,"-") -> 890.65251 | M18: =IF(D18<>0,(ごみ搬入量内訳!BR18+ごみ処理概要!J18)/ごみ処理概要!D18/366*1000000,"-") -> 604.45629 | N18: =IF(D18<>0,(ごみ搬入量内訳!E18+ごみ搬入量内訳!BD18-ごみ搬入量内訳!R18-ごみ搬入量内訳!BH18)/D18/366*1000000,"-") -> 513.00369 | O18: =IF(D18<>0,ごみ搬入量内訳!CM18/ごみ処理概要!D18/366*1000000,"-") -> 286.19622 | P18: =ごみ搬入量内訳!DH18 -> 0 | Q18: =ごみ処理量内訳!E18 -> 40846 | R18: =ごみ処理量内訳!N18 -> 385 | S18: =SUM(T18:Z18) -> 5619 | T18: =ごみ処理量内訳!G18 -> 2059 | U18: =ごみ処理量内訳!L18 -> 3160 | V18: =ごみ処理量内訳!H18 -> 400 | W18: =ごみ処理量内訳!I18 -> 0 | X18: =ごみ処理量内訳!J18 -> 0 | Y18: =ごみ処理量内訳!K18 -> 0 | Z18: =ごみ処理量内訳!M18 -> 0 | AA18: =資源化量内訳!Z18 -> 1136 | AB18: =SUM(Q18,R18,S18,AA18) -> 47986 | AC18: =IF(AB18<>0,(AA18+Q18+S18)/AB18*100,"-") -> 99.197683 | AD18: =施設資源化量内訳!Z18 -> 701 | AE18: =施設資源化量内訳!AV18 -> 539 | AF18: =施設資源化量内訳!BR18 -> 400 | AG18: =施設資源化量内訳!CN18 -> 0 | AH18: =施設資源化量内訳!DJ18 -> 0 | AI18: =施設資源化量内訳!EF18 -> 0 | AJ18: =施設資源化量内訳!FB18 -> 2810 | AK18: =SUM(AD18:AJ18) -> 4450 | AL18: =IF((AB18+J18)<>0,(AA18+AK18+J18)/(AB18+J18)*100,"-") -> 14.845758 | AM18: =IF((AB18+J18)<>0,(資源化量内訳!D18-資源化量内訳!S18-資源化量内訳!U18-資源化量内訳!W18-資源化量内訳!V18)/(AB18+J18)*100,"-") -> 13.437902 | AN18: =ごみ処理量内訳!AA18 -> 385 | AO18: =ごみ処理量内訳!AB18 -> 4452 | AP18: =ごみ処理量内訳!AC18 -> 232 | AQ18: =SUM(AN18:AP18) -> 5069
A19: 愛知県 | B19: 23211 | C19: 豊田市 | D19: =+E19+F19 -> 416880 | E19: 416880 | F19: 0 | G19: 19962 | H19: =SUM(ごみ搬入量内訳!E19,+ごみ搬入量内訳!AD19) -> 108741 | I19: =ごみ搬入量内訳!BC19 -> 18250 | J19: =資源化量内訳!BR19 -> 2284 | K19: =SUM(H19:J19) -> 129275 | L19: =IF(D19<>0,K19/D19/366*1000000,"-") -> 847.27112 | M19: =IF(D19<>0,(ごみ搬入量内訳!BR19+ごみ処理概要!J19)/ごみ処理概要!D19/366*1000000,"-") -> 589.94057 | N19: =IF(D19<>0,(ごみ搬入量内訳!E19+ごみ搬入量内訳!BD19-ごみ搬入量内訳!R19-ごみ搬入量内訳!BH19)/D19/366*1000000,"-") -> 496.30982 | O19: =IF(D19<>0,ごみ搬入量内訳!CM19/ごみ処理概要!D19/366*1000000,"-") -> 257.33054 | P19: =ごみ搬入量内訳!DH19 -> 0 | Q19: =ごみ処理量内訳!E19 -> 102905 | R19: =ごみ処理量内訳!N19 -> 1429 | S19: =SUM(T19:Z19) -> 18730 | T19: =ごみ処理量内訳!G19 -> 0 | U19: =ごみ処理量内訳!L19 -> 15710 | V19: =ごみ処理量内訳!H19 -> 2999 | W19: =ごみ処理量内訳!I19 -> 0 | X19: =ごみ処理量内訳!J19 -> 0 | Y19: =ごみ処理量内訳!K19 -> 21 | Z19: =ごみ処理量内訳!M19 -> 0 | AA19: =資源化量内訳!Z19 -> 6301 | AB19: =SUM(Q19,R19,S19,AA19) -> 129365 | AC19: =IF(AB19<>0,(AA19+Q19+S19)/AB19*100,"-") -> 98.895374 | AD19: =施設資源化量内訳!Z19 -> 2892 | AE19: =施設資源化量内訳!AV19 -> 0 | AF19: =施設資源化量内訳!BR19 -> 591 | AG19: =施設資源化量内訳!CN19 -> 0 | AH19: =施設資源化量内訳!DJ19 -> 0 | AI19: =施設資源化量内訳!EF19 -> 21 | AJ19: =施設資源化量内訳!FB19 -> 7215 | AK19: =SUM(AD19:AJ19) -> 10719 | AL19: =IF((AB19+J19)<>0,(AA19+AK19+J19)/(AB19+J19)*100,"-") -> 14.663233 | AM19: =IF((AB19+J19)<>0,(資源化量内訳!D19-資源化量内訳!S19-資源化量内訳!U19-資源化量内訳!W19-資源化量内訳!V19)/(AB19+J19)*100,"-") -> 14.663233 | AN19: =ごみ処理量内訳!AA19 -> 1429 | AO19: =ごみ処理量内訳!AB19 -> 6406 | AP19: =ごみ処理量内訳!AC19 -> 0 | AQ19: =SUM(AN19:AP19) -> 7835
... A61: 愛知県 | B61: 23563 | C61: 豊根村 | D61: =+E61+F61 -> 954 | E61: 954 | F61: 0 | G61: 17 | H61: =SUM(ごみ搬入量内訳!E61,+ごみ搬入量内訳!AD61) -> 199 | I61: =ごみ搬入量内訳!BC61 -> 81 | J61: =資源化量内訳!BR61 -> 0 | K61: =SUM(H61:J61) -> 280 | L61: =IF(D61<>0,K61/D61/366*1000000,"-") -> 801.91543 | M61: =IF(D61<>0,(ごみ搬入量内訳!BR61+ごみ処理概要!J61)/ごみ処理概要!D61/366*1000000,"-") -> 652.98828 | N61: =IF(D61<>0,(ごみ搬入量内訳!E61+ごみ搬入量内訳!BD61-ごみ搬入量内訳!R61-ごみ搬入量内訳!BH61)/D61/366*1000000,"-") -> 581.38869 | O61: =IF(D61<>0,ごみ搬入量内訳!CM61/ごみ処理概要!D61/366*1000000,"-") -> 148.92715 | P61: =ごみ搬入量内訳!DH61 -> 0 | Q61: =ごみ処理量内訳!E61 -> 224 | R61: =ごみ処理量内訳!N61 -> 0 | S61: =SUM(T61:Z61) -> 33 | T61: =ごみ処理量内訳!G61 -> 10 | U61: =ごみ処理量内訳!L61 -> 18 | V61: =ごみ処理量内訳!H61 -> 0 | W61: =ごみ処理量内訳!I61 -> 0 | X61: =ごみ処理量内訳!J61 -> 0 | Y61: =ごみ処理量内訳!K61 -> 0 | Z61: =ごみ処理量内訳!M61 -> 5 | AA61: =資源化量内訳!Z61 -> 23 | AB61: =SUM(Q61,R61,S61,AA61) -> 280 | AC61: =IF(AB61<>0,(AA61+Q61+S61)/AB61*100,"-") -> 100 | AD61: =施設資源化量内訳!Z61 -> 0 | AE61: =施設資源化量内訳!AV61 -> 0 | AF61: =施設資源化量内訳!BR61 -> 0 | AG61: =施設資源化量内訳!CN61 -> 0 | AH61: =施設資源化量内訳!DJ61 -> 0 | AI61: =施設資源化量内訳!EF61 -> 0 | AJ61: =施設資源化量内訳!FB61 -> 18 | AK61: =SUM(AD61:AJ61) -> 18 | AL61: =IF((AB61+J61)<>0,(AA61+AK61+J61)/(AB61+J61)*100,"-") -> 14.642857 | AM61: =IF((AB61+J61)<>0,(資源化量内訳!D61-資源化量内訳!S61-資源化量内訳!U61-資源化量内訳!W61-資源化量内訳!V61)/(AB61+J61)*100,"-") -> 14.642857 | AN61: =ごみ処理量内訳!AA61 -> 0 | AO61: =ごみ処理量内訳!AB61 -> 41 | AP61: =ごみ処理量内訳!AC61 -> 5 | AQ61: =SUM(AN61:AP61) -> 46

Sheet ごみ搬入量内訳
A1: ごみ搬入量の状況（令和5年度実績）
A2: 都道府県名 | B2: 地方公共団体コード | C2: 市区町村名 | D2: ごみ搬入量 (生活系ごみ収集量+事業系ごみ収集量+直接搬入量) | BR2: 生活系ごみ搬入量 | CM2: 事業系ごみ搬入量 | DH2: 自家処理量 | DI2: 家電４品目収集量(直営+委託+許可+直接搬入)
E3: 生活系ごみ収集量 (混合ごみ+可燃ごみ+不燃ごみ+資源ごみ+その他+粗大ごみ) | AD3: 事業系ごみ収集量 (混合ごみ+可燃ごみ+不燃ごみ+資源ごみ+その他+粗大ごみ) | BC3: 直接搬入量 | BS3: 生活系ごみ収集量＋直接搬入量 | CN3: 事業系ごみ収集量＋直接搬入量 | DI3: 合計 | DJ3: 直営 | DK3: 委託 | DL3: 許可 | DM3: 直接搬入
F4: 混合ごみ (直営+委託+許可) | J4: 可燃ごみ (直営+委託+許可) | N4: 不燃ごみ (直営+委託+許可) | R4: 資源ごみ (直営+委託+許可) | V4: その他のごみ (直営+委託+許可) | Z4: 粗大ごみ (直営+委託+許可) | AE4: 混合ごみ (直営+委託+許可) | AI4: 可燃ごみ (直営+委託+許可) | AM4: 不燃ごみ (直営+委託+許可) | AQ4: 資源ごみ (直営+委託+許可) | AU4: その他のごみ (直営+委託+許可) | AY4: 粗大ごみ (直営+委託+許可) | BD4: 直接搬入量（生活系ごみ） | BK4: 直接搬入量（事業系ごみ） | BY4: 生活系ごみ収集量 (混合ごみ+可燃ごみ+不燃ごみ+資源ごみ+その他+粗大ごみ) | CF4: 直接搬入量(混合ごみ+可燃ごみ+不燃ごみ+資源ごみ+その他+粗大ごみ) | CT4: 事業系ごみ収集量 (混合ごみ+可燃ごみ+不燃ごみ+資源ごみ+その他+粗大ごみ) | DA4: 直接搬入量(混合ごみ+可燃ごみ+不燃ごみ+資源ごみ+その他+粗大ごみ)
D5: 合計 | E5: 合計 | F5: 合計 | G5: 直営 | H5: 委託 | I5: 許可 | J5: 合計 | K5: 直営 | L5: 委託 | M5: 許可 | N5: 合計 | O5: 直営 | P5: 委託 | Q5: 許可 | R5: 合計 | S5: 直営 | T5: 委託 | U5: 許可 | V5: 合計 | W5: 直営 | X5: 委託 | Y5: 許可 | Z5: 合計 | AA5: 直営 | AB5: 委託 | AC5: 許可 | AD5: 合計 | AE5: 合計 | AF5: 直営 | AG5: 委託 | AH5: 許可 | AI5: 合計 | AJ5: 直営 | AK5: 委託 | AL5: 許可 | AM5: 合計 | AN5: 直営 | AO5: 委託 | AP5: 許可 | AQ5: 合計 | AR5: 直営 | AS5: 委託 | AT5: 許可 | AU5: 合計 | AV5: 直営 | AW5: 委託 | AX5: 許可 | AY5: 合計 | AZ5: 直営 | BA5: 委託 | BB5: 許可 | BC5: 合計 | BD5: 合計 | BE5: 混合ごみ | BF5: 可燃ごみ | BG5: 不燃ごみ | BH5: 資源ごみ | BI5: その他のごみ | BJ5: 粗大ごみ | BK5: 合計 | BL5: 混合ごみ | BM5: 可燃ごみ | BN5: 不燃ごみ | BO5: 資源ごみ | BP5: その他のごみ | BQ5: 粗大ごみ | BR5: 合計 | BS5: 混合ごみ | BT5: 可燃ごみ | BU5: 不燃ごみ | BV5: 資源ごみ | BW5: その他のごみ | BX5: 粗大ごみ | BY5: 合計 | BZ5: 混合ごみ | CA5: 可燃ごみ | CB5: 不燃ごみ | CC5: 資源ごみ | CD5: その他のごみ | CE5: 粗大ごみ | CF5: 合計 | CG5: 混合ごみ | CH5: 可燃ごみ | CI5: 不燃ごみ | CJ5: 資源ごみ | CK5: その他のごみ | CL5: 粗大ごみ | CM5: 合計 | CN5: 混合ごみ | CO5: 可燃ごみ | CP5: 不燃ごみ | CQ5: 資源ごみ | CR5: その他のごみ | CS5: 粗大ごみ | CT5: 合計 | CU5: 混合ごみ | CV5: 可燃ごみ | CW5: 不燃ごみ | CX5: 資源ごみ | CY5: その他のごみ | CZ5: 粗大ごみ | DA5: 合計 | DB5: 混合ごみ | DC5: 可燃ごみ | DD5: 不燃ごみ | DE5: 資源ごみ | DF5: その他のごみ | DG5: 粗大ごみ
D6: （ｔ） | E6: （ｔ） | F6: （ｔ） | G6: （ｔ） | H6: （ｔ） | I6: （ｔ） | J6: （ｔ） | K6: （ｔ） | L6: （ｔ） | M6: （ｔ） | N6: （ｔ） | O6: （ｔ） | P6: （ｔ） | Q6: （ｔ） | R6: （ｔ） | S6: （ｔ） | T6: （ｔ） | U6: （ｔ） | V6: （ｔ） | W6: （ｔ） | X6: （ｔ） | Y6: （ｔ） | Z6: （ｔ） | AA6: （ｔ） | AB6: （ｔ） | AC6: （ｔ） | AD6: （ｔ） | AE6: （ｔ） | AF6: （ｔ） | AG6: （ｔ） | AH6: （ｔ） | AI6: （ｔ） | AJ6: （ｔ） | AK6: （ｔ） | AL6: （ｔ） | AM6: （ｔ） | AN6: （ｔ） | AO6: （ｔ） | AP6: （ｔ） | AQ6: （ｔ） | AR6: （ｔ） | AS6: （ｔ） | AT6: （ｔ） | AU6: （ｔ） | AV6: （ｔ） | AW6: （ｔ） | AX6: （ｔ） | AY6: （ｔ） | AZ6: （ｔ） | BA6: （ｔ） | BB6: （ｔ） | BC6: （ｔ） | BD6: （ｔ） | BE6: （ｔ） | BF6: （ｔ） | BG6: （ｔ） | BH6: （ｔ） | BI6: （ｔ） | BJ6: （ｔ） | BK6: （ｔ） | BL6: （ｔ） | BM6: （ｔ） | BN6: （ｔ） | BO6: （ｔ） | BP6: （ｔ） | BQ6: （ｔ） | BR6: （ｔ） | BS6: （ｔ） | BT6: （ｔ） | BU6: （ｔ） | BV6: （ｔ） | BW6: （ｔ） | BX6: （ｔ） | BY6: （ｔ） | BZ6: （ｔ） | CA6: （ｔ） | CB6: （ｔ） | CC6: （ｔ） | CD6: （ｔ） | CE6: （ｔ） | CF6: （ｔ） | CG6: （ｔ） | CH6: （ｔ） | CI6: （ｔ） | CJ6: （ｔ） | CK6: （ｔ） | CL6: （ｔ） | CM6: （ｔ） | CN6: （ｔ） | CO6: （ｔ） | CP6: （ｔ） | CQ6: （ｔ） | CR6: （ｔ） | CS6: （ｔ） | CT6: （ｔ） | CU6: （ｔ） | CV6: （ｔ） | CW6: （ｔ） | CX6: （ｔ） | CY6: （ｔ） | CZ6: （ｔ） | DA6: （ｔ） | DB6: （ｔ） | DC6: （ｔ） | DD6: （ｔ） | DE6: （ｔ） | DF6: （ｔ） | DG6: （ｔ） | DH6: （ｔ） | DI6: (t) | DJ6: （ｔ） | DK6: （ｔ） | DL6: （ｔ） | DM6: （ｔ）
A7: =ごみ処理概要!A7 -> 愛知県 | B7: =ごみ処理概要!B7 -> 23000 | C7: 合計 | D7: =SUM(E7,AD7,BC7) -> 2197221 | E7: =SUM(F7,J7,N7,R7,V7,Z7) -> 1455584 | F7: =SUM(G7:I7) -> 0 | G7: =SUM(G$8:G$207) -> 0 | H7: =SUM(H$8:H$207) -> 0 | I7: =SUM(I$8:I$207) -> 0 | J7: =SUM(K7:M7) -> 1170511 | K7: =SUM(K$8:K$207) -> 370660 | L7: =SUM(L$8:L$207) -> 799012 | M7: =SUM(M$8:M$207) -> 839 | N7: =SUM(O7:Q7) -> 50103 | O7: =SUM(O$8:O$207) -> 20835 | P7: =SUM(P$8:P$207) -> 29102 | Q7: =SUM(Q$8:Q$207) -> 166 | R7: =SUM(S7:U7) -> 213854 | S7: =SUM(S$8:S$207) -> 60008 | T7: =SUM(T$8:T$207) -> 152815 | U7: =SUM(U$8:U$207) -> 1031 | V7: =SUM(W7:Y7) -> 3374 | W7: =SUM(W$8:W$207) -> 1769 | X7: =SUM(X$8:X$207) -> 1605 | Y7: =SUM(Y$8:Y$207) -> 0 | Z7: =SUM(AA7:AC7) -> 17742 | AA7: =SUM(AA$8:AA$207) -> 10654 | AB7: =SUM(AB$8:AB$207) -> 6776 | AC7: =SUM(AC$8:AC$207) -> 312 | AD7: =SUM(AE7,AI7,AM7,AQ7,AU7,AY7) -> 495289 | AE7: =SUM(AF7:AH7) -> 0 | AF7: =SUM(AF$8:AF$207) -> 0 | AG7: =SUM(AG$8:AG$207) -> 0 | AH7: =SUM(AH$8:AH$207) -> 0 | AI7: =SUM(AJ7:AL7) -> 449528 | AJ7: =SUM(AJ$8:AJ$207) -> 228 | AK7: =SUM(AK$8:AK$207) -> 1390 | AL7: =SUM(AL$8:AL$207) -> 447910 | AM7: =SUM(AN7:AP7) -> 3132 | AN7: =SUM(AN$8:AN$207) -> 0 | AO7: =SUM(AO$8:AO$207) -> 69 | AP7: =SUM(AP$8:AP$207) -> 3063 | AQ7: =SUM(AR7:AT7) -> 41731 | AR7: =SUM(AR$8:AR$207) -> 115 | AS7: =SUM(AS$8:AS$207) -> 673 | AT7: =SUM(AT$8:AT$207) -> 40943 | AU7: =SUM(AV7:AX7) -> 0 | AV7: =SUM(AV$8:AV$207) -> 0 | AW7: =SUM(AW$8:AW$207) -> 0 | AX7: =SUM(AX$8:AX$207) -> 0 | AY7: =SUM(AZ7:BB7) -> 898 | AZ7: =SUM(AZ$8:AZ$207) -> 0 | BA7: =SUM(BA$8:BA$207) -> 0 | BB7: =SUM(BB$8:BB$207) -> 898 | BC7: =SUM(BD7,BK7) -> 246348 | BD7: =SUM(BE7:BJ7) -> 87706 | BE7: =SUM(BE$8:BE$207) -> 0 | BF7: =SUM(BF$8:BF$207) -> 24670 | BG7: =SUM(BG$8:BG$207) -> 12907 | BH7: =SUM(BH$8:BH$207) -> 25236 | BI7: =SUM(BI$8:BI$207) -> 1542 | BJ7: =SUM(BJ$8:BJ$207) -> 23351 | BK7: =SUM(BL7:BQ7) -> 158642 | BL7: =SUM(BL$8:BL$207) -> 0 | BM7: =SUM(BM$8:BM$207) -> 83481 | BN7: =SUM(BN$8:BN$207) -> 10867 | BO7: =SUM(BO$8:BO$207) -> 59059 | BP7: =SUM(BP$8:BP$207) -> 634 | BQ7: =SUM(BQ$8:BQ$207) -> 4601 | BR7: =SUM(BY7,CF7) -> 1543290 | BS7: =SUM(BZ7,CG7) -> 0 | BT7: =SUM(CA7,CH7) -> 1195181 | BU7: =SUM(CB7,CI7) -> 63010 | BV7: =SUM(CC7,CJ7) -> 239090 | BW7: =SUM(CD7,CK7) -> 4916 | BX7: =SUM(CE7,CL7) -> 41093 | BY7: =SUM(BZ7:CE7) -> 1455584 | BZ7: =F7 -> 0 | CA7: =J7 -> 1170511 | CB7: =N7 -> 50103 | CC7: =R7 -> 213854 | CD7: =V7 -> 3374 | CE7: =Z7 -> 17742 | CF7: =SUM(CG7:CL7) -> 87706 | CG7: =BE7 -> 0 | CH7: =BF7 -> 24670 | CI7: =BG7 -> 12907 | CJ7: =BH7 -> 25236 | CK7: =BI7 -> 1542 | CL7: =BJ7 -> 23351 | CM7: =SUM(CT7,DA7) -> 653931 | CN7: =SUM(CU7,DB7) -> 0 | CO7: =SUM(CV7,DC7) -> 533009 | CP7: =SUM(CW7,DD7) -> 13999 | CQ7: =SUM(CX7,DE7) -> 100790 | CR7: =SUM(CY7,DF7) -> 634 | CS7: =SUM(CZ7,DG7) -> 5499 | CT7: =SUM(CU7:CZ7) -> 495289 | CU7: =AE7 -> 0 | CV7: =AI7 -> 449528 | CW7: =AM7 -> 3132 | CX7: =AQ7 -> 41731 | CY7: =AU7 -> 0 | CZ7: =AY7 -> 898 | DA7: =SUM(DB7:DG7) -> 158642 | DB7: =BL7 -> 0 | DC7: =BM7 -> 83481 | DD7: =BN7 -> 10867 | DE7: =BO7 -> 59059 | DF7: =BP7 -> 634 | DG7: =BQ7 -> 4601 | DH7: =SUM(DH$8:DH$207) -> 0 | DI7: =SUM(DJ7:DM7) -> 354 | DJ7: =SUM(DJ$8:DJ$207) -> 97 | DK7: =SUM(DK$8:DK$207) -> 10 | DL7: =SUM(DL$8:DL$207) -> 131 | DM7: =SUM(DM$8:DM$207) -> 116
A8: 愛知県 | B8: 23100 | C8: 名古屋市 | D8: =SUM(E8,AD8,BC8) -> 666060 | E8: =SUM(F8,J8,N8,R8,V8,Z8) -> 436558 | F8: =SUM(G8:I8) -> 0 | G8: 0 | H8: 0 | I8: 0 | J8: =SUM(K8:M8) -> 354513 | K8: 185386 | L8: 169127 | M8: 0 | N8: =SUM(O8:Q8) -> 14095 | O8: 8914 | P8: 5181 | Q8: 0 | R8: =SUM(S8:U8) -> 57975 | S8: 26519 | T8: 31456 | U8: 0 | V8: =SUM(W8:Y8) -> 1590 | W8: 1353 | X8: 237 | Y8: 0 | Z8: =SUM(AA8:AC8) -> 8385 | AA8: 7836 | AB8: 549 | AC8: 0 | AD8: =SUM(AE8,AI8,AM8,AQ8,AU8,AY8) -> 185298 | AE8: =SUM(AF8:AH8) -> 0 | AF8: 0 | AG8: 0 | AH8: 0 | AI8: =SUM(AJ8:AL8) -> 159158 | AJ8: 0 | AK8: 0 | AL8: 159158 | AM8: =SUM(AN8:AP8) -> 2768 | AN8: 0 | AO8: 0 | AP8: 2768 | AQ8: =SUM(AR8:AT8) -> 23372 | AR8: 0 | AS8: 0 | AT8: 23372 | AU8: =SUM(AV8:AX8) -> 0 | AV8: 0 | AW8: 0 | AX8: 0 | AY8: =SUM(AZ8:BB8) -> 0 | AZ8: 0 | BA8: 0 | BB8: 0 | BC8: =SUM(BD8,BK8) -> 44204 | BD8: =SUM(BE8:BJ8) -> 414 | BE8: 0 | BF8: 0 | BG8: 0 | BH8: 321 | BI8: 93 | BJ8: 0 | BK8: =SUM(BL8:BQ8) -> 43790 | BL8: 0 | BM8: 8240 | BN8: 5568 | BO8: 29982 | BP8: 0 | BQ8: 0 | BR8: =SUM(BY8,CF8) -> 436972 | BS8: =SUM(BZ8,CG8) -> 0 | BT8: =SUM(CA8,CH8) -> 354513 | BU8: =SUM(CB8,CI8) -> 14095 | BV8: =SUM(CC8,CJ8) -> 58296 | BW8: =SUM(CD8,CK8) -> 1683 | BX8: =SUM(CE8,CL8) -> 8385 | BY8: =SUM(BZ8:CE8) -> 436558 | BZ8: =F8 -> 0 | CA8: =J8 -> 354513 | CB8: =N8 -> 14095 | CC8: =R8 -> 57975 | CD8: =V8 -> 1590 | CE8: =Z8 -> 8385 | CF8: =SUM(CG8:CL8) -> 414 | CG8: =BE8 -> 0 | CH8: =BF8 -> 0 | CI8: =BG8 -> 0 | CJ8: =BH8 -> 321 | CK8: =BI8 -> 93 | CL8: =BJ8 -> 0 | CM8: =SUM(CT8,DA8) -> 229088 | CN8: =SUM(CU8,DB8) -> 0 | CO8: =SUM(CV8,DC8) -> 167398 | CP8: =SUM(CW8,DD8) -> 8336 | CQ8: =SUM(CX8,DE8) -> 53354 | CR8: =SUM(CY8,DF8) -> 0 | CS8: =SUM(CZ8,DG8) -> 0 | CT8: =SUM(CU8:CZ8) -> 185298 | CU8: =AE8 -> 0 | CV8: =AI8 -> 159158 | CW8: =AM8 -> 2768 | CX8: =AQ8 -> 23372 | CY8: =AU8 -> 0 | CZ8: =AY8 -> 0 | DA8: =SUM(DB8:DG8) -> 43790 | DB8: =BL8 -> 0 | DC8: =BM8 -> 8240 | DD8: =BN8 -> 5568 | DE8: =BO8 -> 29982 | DF8: =BP8 -> 0 | DG8: =BQ8 -> 0 | DH8: 0 | DI8: =SUM(DJ8:DM8) -> 116 | DJ8: 9 | DK8: 0 | DL8: 107 | DM8: 0
A9: 愛知県 | B9: 23201 | C9: 豊橋市 | D9: =SUM(E9,AD9,BC9) -> 114925 | E9: =SUM(F9,J9,N9,R9,V9,Z9) -> 71485 | F9: =SUM(G9:I9) -> 0 | G9: 0 | H9: 0 | I9: 0 | J9: =SUM(K9:M9) -> 45747 | K9: 29816 | L9: 15931 | M9: 0 | N9: =SUM(O9:Q9) -> 3895 | O9: 2696 | P9: 1199 | Q9: 0 | R9: =SUM(S9:U9) -> 21343 | S9: 14583 | T9: 6760 | U9: 0 | V9: =SUM(W9:Y9) -> 170 | W9: 111 | X9: 59 | Y9: 0 | Z9: =SUM(AA9:AC9) -> 330 | AA9: 330 | AB9: 0 | AC9: 0 | AD9: =SUM(AE9,AI9,AM9,AQ9,AU9,AY9) -> 24367 | AE9: =SUM(AF9:AH9) -> 0 | AF9: 0 | AG9: 0 | AH9: 0 | AI9: =SUM(AJ9:AL9) -> 21516 | AJ9: 0 | AK9: 0 | AL9: 21516 | AM9: =SUM(AN9:AP9) -> 0 | AN9: 0 | AO9: 0 | AP9: 0 | AQ9: =SUM(AR9:AT9) -> 2851 | AR9: 0 | AS9: 0 | AT9: 2851 | AU9: =SUM(AV9:AX9) -> 0 | AV9: 0 | AW9: 0 | AX9: 0 | AY9: =SUM(AZ9:BB9) -> 0 | AZ9: 0 | BA9: 0 | BB9: 0 | BC9: =SUM(BD9,BK9) -> 19073 | BD9: =SUM(BE9:BJ9) -> 5448 | BE9: 0 | BF9: 0 | BG9: 2132 | BH9: 669 | BI9: 0 | BJ9: 2647 | BK9: =SUM(BL9:BQ9) -> 13625 | BL9: 0 | BM9: 12211 | BN9: 983 | BO9: 431 | BP9: 0 | BQ9: 0 | BR9: =SUM(BY9,CF9) -> 76933 | BS9: =SUM(BZ9,CG9) -> 0 | BT9: =SUM(CA9,CH9) -> 45747 | BU9: =SUM(CB9,CI9) -> 6027 | BV9: =SUM(CC9,CJ9) -> 22012 | BW9: =SUM(CD9,CK9) -> 170 | BX9: =SUM(CE9,CL9) -> 2977 | BY9: =SUM(BZ9:CE9) -> 71485 | BZ9: =F9 -> 0 | CA9: =J9 -> 45747 | CB9: =N9 -> 3895 | CC9: =R9 -> 21343 | CD9: =V9 -> 170 | CE9: =Z9 -> 330 | CF9: =SUM(CG9:CL9) -> 5448 | CG9: =BE9 -> 0 | CH9: =BF9 -> 0 | CI9: =BG9 -> 2132 | CJ9: =BH9 -> 669 | CK9: =BI9 -> 0 | CL9: =BJ9 -> 2647 | CM9: =SUM(CT9,DA9) -> 37992 | CN9: =SUM(CU9,DB9) -> 0 | CO9: =SUM(CV9,DC9) -> 33727 | CP9: =SUM(CW9,DD9) -> 983 | CQ9: =SUM(CX9,DE9) -> 3282 | CR9: =SUM(CY9,DF9) -> 0 | CS9: =SUM(CZ9,DG9) -> 0 | CT9: =SUM(CU9:CZ9) -> 24367 | CU9: =AE9 -> 0 | CV9: =AI9 -> 21516 | CW9: =AM9 -> 0 | CX9: =AQ9 -> 2851 | CY9: =AU9 -> 0 | CZ9: =AY9 -> 0 | DA9: =SUM(DB9:DG9) -> 13625 | DB9: =BL9 -> 0 | DC9: =BM9 -> 12211 | DD9: =BN9 -> 983 | DE9: =BO9 -> 431 | DF9: =BP9 -> 0 | DG9: =BQ9 -> 0 | DH9: 0 | DI9: =SUM(DJ9:DM9) -> 22 | DJ9: 22 | DK9: 0 | DL9: 0 | DM9: 0
A10: 愛知県 | B10: 23202 | C10: 岡崎市 | D10: =SUM(E10,AD10,BC10) -> 119690 | E10: =SUM(F10,J10,N10,R10,V10,Z10) -> 73952 | F10: =SUM(G10:I10) -> 0 | G10: 0 | H10: 0 | I10: 0 | J10: =SUM(K10:M10) -> 63524 | K10: 18854 | L10: 44670 | M10: 0 | N10: =SUM(O10:Q10) -> 2236 | O10: 2236 | P10: 0 | Q10: 0 | R10: =SUM(S10:U10) -> 7885 | S10: 2952 | T10: 4933 | U10: 0 | V10: =SUM(W10:Y10) -> 129 | W10: 0 | X10: 129 | Y10: 0 | Z10: =SUM(AA10:AC10) -> 178 | AA10: 178 | AB10: 0 | AC10: 0 | AD10: =SUM(AE10,AI10,AM10,AQ10,AU10,AY10) -> 27022 | AE10: =SUM(AF10:AH10) -> 0 | AF10: 0 | AG10: 0 | AH10: 0 | AI10: =SUM(AJ10:AL10) -> 27021 | AJ10: 0 | AK10: 0 | AL10: 27021 | AM10: =SUM(AN10:AP10) -> 0 | AN10: 0 | AO10: 0 | AP10: 0 | AQ10: =SUM(AR10:AT10) -> 1 | AR10: 0 | AS10: 0 | AT10: 1 | AU10: =SUM(AV10:AX10) -> 0 | AV10: 0 | AW10: 0 | AX10: 0 | AY10: =SUM(AZ10:BB10) -> 0 | AZ10: 0 | BA10: 0 | BB10: 0 | BC10: =SUM(BD10,BK10) -> 18716 | BD10: =SUM(BE10:BJ10) -> 7619 | BE10: 0 | BF10: 4831 | BG10: 2788 | BH10: 0 | BI10: 0 | BJ10: 0 | BK10: =SUM(BL10:BQ10) -> 11097 | BL10: 0 | BM10: 8219 | BN10: 2876 | BO10: 2 | BP10: 0 | BQ10: 0 | BR10: =SUM(BY10,CF10) -> 81571 | BS10: =SUM(BZ10,CG10) -> 0 | BT10: =SUM(CA10,CH10) -> 68355 | BU10: =SUM(CB10,CI10) -> 5024 | BV10: =SUM(CC10,CJ10) -> 7885 | BW10: =SUM(CD10,CK10) -> 129 | BX10: =SUM(CE10,CL10) -> 178 | BY10: =SUM(BZ10:CE10) -> 73952 | BZ10: =F10 -> 0 | CA10: =J10 -> 63524 | CB10: =N10 -> 2236 | CC10: =R10 -> 7885 | CD10: =V10 -> 129 | CE10: =Z10 -> 178 | CF10: =SUM(CG10:CL10) -> 7619 | CG10: =BE10 -> 0 | CH10: =BF10 -> 4831 | CI10: =BG10 -> 2788 | CJ10: =BH10 -> 0 | CK10: =BI10 -> 0 | CL10: =BJ10 -> 0 | CM10: =SUM(CT10,DA10) -> 38119 | CN10: =SUM(CU10,DB10) -> 0 | CO10: =SUM(CV10,DC10) -> 35240 | CP10: =SUM(CW10,DD10) -> 2876 | CQ10: =SUM(CX10,DE10) -> 3 | CR10: =SUM(CY10,DF10) -> 0 | CS10: =SUM(CZ10,DG10) -> 0 | CT10: =SUM(CU10:CZ10) -> 27022 | CU10: =AE10 -> 0 | CV10: =AI10 -> 27021 | CW10: =AM10 -> 0 | CX10: =AQ10 -> 1 | CY10: =AU10 -> 0 | CZ10: =AY10 -> 0 | DA10: =SUM(DB10:DG10) -> 11097 | DB10: =BL10 -> 0 | DC10: =BM10 -> 8219 | DD10: =BN10 -> 2876 | DE10: =BO10 -> 2 | DF10: =BP10 -> 0 | DG10: =BQ10 -> 0 | DH10: 0 | DI10: =SUM(DJ10:DM10) -> 0 | DJ10: 0 | DK10: 0 | DL10: 0 | DM10: 0
A11: 愛知県 | B11: 23203 | C11: 一宮市 | D11: =SUM(E11,AD11,BC11) -> 112346 | E11: =SUM(F11,J11,N11,R11,V11,Z11) -> 79265 | F11: =SUM(G11:I11) -> 0 | G11: 0 | H11: 0 | I11: 0 | J11: =SUM(K11:M11) -> 63045 | K11: 8506 | L11: 54539 | M11: 0 | N11: =SUM(O11:Q11) -> 4098 | O11: 184 | P11: 3914 | Q11: 0 | R11: =SUM(S11:U11) -> 11132 | S11: 646 | T11: 10472 | U11: 14 | V11: =SUM(W11:Y11) -> 95 | W11: 17 | X11: 78 | Y11: 0 | Z11: =SUM(AA11:AC11) -> 895 | AA11: 14 | AB11: 580 | AC11: 301 | AD11: =SUM(AE11,AI11,AM11,AQ11,AU11,AY11) -> 23505 | AE11: =SUM(AF11:AH11) -> 0 | AF11: 0 | AG11: 0 | AH11: 0 | AI11: =SUM(AJ11:AL11) -> 18395 | AJ11: 0 | AK11: 0 | AL11: 18395 | AM11: =SUM(AN11:AP11) -> 0 | AN11: 0 | AO11: 0 | AP11: 0 | AQ11: =SUM(AR11:AT11) -> 5110 | AR11: 0 | AS11: 0 | AT11: 5110 | AU11: =SUM(AV11:AX11) -> 0 | AV11: 0 | AW11: 0 | AX11: 0 | AY11: =SUM(AZ11:BB11) -> 0 | AZ11: 0 | BA11: 0 | BB11: 0 | BC11: =SUM(BD11,BK11) -> 9576 | BD11: =SUM(BE11:BJ11) -> 4798 | BE11: 0 | BF11: 1001 | BG11: 1904 | BH11: 1133 | BI11: 760 | BJ11: 0 | BK11: =SUM(BL11:BQ11) -> 4778 | BL11: 0 | BM11: 4778 | BN11: 0 | BO11: 0 | BP11: 0 | BQ11: 0 | BR11: =SUM(BY11,CF11) -> 84063 | BS11: =SUM(BZ11,CG11) -> 0 | BT11: =SUM(CA11,CH11) -> 64046 | BU11: =SUM(CB11,CI11) -> 6002 | BV11: =SUM(CC11,CJ11) -> 12265 | BW11: =SUM(CD11,CK11) -> 855 | BX11: =SUM(CE11,CL11) -> 895 | BY11: =SUM(BZ11:CE11) -> 79265 | BZ11: =F11 -> 0 | CA11: =J11 -> 63045 | CB11: =N11 -> 4098 | CC11: =R11 -> 11132 | CD11: =V11 -> 95 | CE11: =Z11 -> 895 | CF11: =SUM(CG11:CL11) -> 4798 | CG11: =BE11 -> 0 | CH11: =BF11 -> 1001 | CI11: =BG11 -> 1904 | CJ11: =BH11 -> 1133 | CK11: =BI11 -> 760 | CL11: =BJ11 -> 0 | CM11: =SUM(CT11,DA11) -> 28283 | CN11: =SUM(CU11,DB11) -> 0 | CO11: =SUM(CV11,DC11) -> 23173 | CP11: =SUM(CW11,DD11) -> 0 | CQ11: =SUM(CX11,DE11) -> 5110 | CR11: =SUM(CY11,DF11) -> 0 | CS11: =SUM(CZ11,DG11) -> 0 | CT11: =SUM(CU11:CZ11) -> 23505 | CU11: =AE11 -> 0 | CV11: =AI11 -> 18395 | CW11: =AM11 -> 0 | CX11: =AQ11 -> 5110 | CY11: =AU11 -> 0 | CZ11: =AY11 -> 0 | DA11: =SUM(DB11:DG11) -> 4778 | DB11: =BL11 -> 0 | DC11: =BM11 -> 4778 | DD11: =BN11 -> 0 | DE11: =BO11 -> 0 | DF11: =BP11 -> 0 | DG11: =BQ11 -> 0 | DH11: 0 | DI11: =SUM(DJ11:DM11) -> 0 | DJ11: 0 | DK11: 0 | DL11: 0 | DM11: 0
A12: 愛知県 | B12: 23204 | C12: 瀬戸市 | D12: =SUM(E12,AD12,BC12) -> 35950 | E12: =SUM(F12,J12,N12,R12,V12,Z12) -> 25848 | F12: =SUM(G12:I12) -> 0 | G12: 0 | H12: 0 | I12: 0 | J12: =SUM(K12:M12) -> 20928 | K12: 123 | L12: 20805 | M12: 0 | N12: =SUM(O12:Q12) -> 737 | O12: 736 | P12: 1 | Q12: 0 | R12: =SUM(S12:U12) -> 3799 | S12: 0 | T12: 3799 | U12: 0 | V12: =SUM(W12:Y12) -> 0 | W12: 0 | X12: 0 | Y12: 0 | Z12: =SUM(AA12:AC12) -> 384 | AA12: 358 | AB12: 26 | AC12: 0 | AD12: =SUM(AE12,AI12,AM12,AQ12,AU12,AY12) -> 6759 | AE12: =SUM(AF12:AH12) -> 0 | AF12: 0 | AG12: 0 | AH12: 0 | AI12: =SUM(AJ12:AL12) -> 6759 | AJ12: 0 | AK12: 0 | AL12: 6759 | AM12: =SUM(AN12:AP12) -> 0 | AN12: 0 | AO12: 0 | AP12: 0 | AQ12: =SUM(AR12:AT12) -> 0 | AR12: 0 | AS12: 0 | AT12: 0 | AU12: =SUM(AV12:AX12) -> 0 | AV12: 0 | AW12: 0 | AX12: 0 | AY12: =SUM(AZ12:BB12) -> 0 | AZ12: 0 | BA12: 0 | BB12: 0 | BC12: =SUM(BD12,BK12) -> 3343 | BD12: =SUM(BE12:BJ12) -> 1294 | BE12: 0 | BF12: 0 | BG12: 0 | BH12: 1294 | BI12: 0 | BJ12: 0 | BK12: =SUM(BL12:BQ12) -> 2049 | BL12: 0 | BM12: 1618 | BN12: 170 | BO12: 0 | BP12: 0 | BQ12: 261 | BR12: =SUM(BY12,CF12) -> 27142 | BS12: =SUM(BZ12,CG12) -> 0 | BT12: =SUM(CA12,CH12) -> 20928 | BU12: =SUM(CB12,CI12) -> 737 | BV12: =SUM(CC12,CJ12) -> 5093 | BW12: =SUM(CD12,CK12) -> 0 | BX12: =SUM(CE12,CL12) -> 384 | BY12: =SUM(BZ12:CE12) -> 25848 | BZ12: =F12 -> 0 | CA12: =J12 -> 20928 | CB12: =N12 -> 737 | CC12: =R12 -> 3799 | CD12: =V12 -> 0 | CE12: =Z12 -> 384 | CF12: =SUM(CG12:CL12) -> 1294 | CG12: =BE12 -> 0 | CH12: =BF12 -> 0 | CI12: =BG12 -> 0 | CJ12: =BH12 -> 1294 | CK12: =BI12 -> 0 | CL12: =BJ12 -> 0 | CM12: =SUM(CT12,DA12) -> 8808 | CN12: =SUM(CU12,DB12) -> 0 | CO12: =SUM(CV12,DC12) -> 8377 | CP12: =SUM(CW12,DD12) -> 170 | CQ12: =SUM(CX12,DE12) -> 0 | CR12: =SUM(CY12,DF12) -> 0 | CS12: =SUM(CZ12,DG12) -> 261 | CT12: =SUM(CU12:CZ12) -> 6759 | CU12: =AE12 -> 0 | CV12: =AI12 -> 6759 | CW12: =AM12 -> 0 | CX12: =AQ12 -> 0 | CY12: =AU12 -> 0 | CZ12: =AY12 -> 0 | DA12: =SUM(DB12:DG12) -> 2049 | DB12: =BL12 -> 0 | DC12: =BM12 -> 1618 | DD12: =BN12 -> 170 | DE12: =BO12 -> 0 | DF12: =BP12 -> 0 | DG12: =BQ12 -> 261 | DH12: 0 | DI12: =SUM(DJ12:DM12) -> 1 | DJ12: 1 | DK12: 0 | DL12: 0 | DM12: 0
A13: 愛知県 | B13: 23205 | C13: 半田市 | D13: =SUM(E13,AD13,BC13) -> 35188 | E13: =SUM(F13,J13,N13,R13,V13,Z13) -> 20334 | F13: =SUM(G13:I13) -> 0 | G13: 0 | H13: 0 | I13: 0 | J13: =SUM(K13:M13) -> 16879 | K13: 48 | L13: 16792 | M13: 39 | N13: =SUM(O13:Q13) -> 1167 | O13: 0 | P13: 1153 | Q13: 14 | R13: =SUM(S13:U13) -> 2274 | S13: 0 | T13: 2274 | U13: 0 | V13: =SUM(W13:Y13) -> 0 | W13: 0 | X13: 0 | Y13: 0 | Z13: =SUM(AA13:AC13) -> 14 | AA13: 13 | AB13: 0 | AC13: 1 | AD13: =SUM(AE13,AI13,AM13,AQ13,AU13,AY13) -> 6323 | AE13: =SUM(AF13:AH13) -> 0 | AF13: 0 | AG13: 0 | AH13: 0 | AI13: =SUM(AJ13:AL13) -> 6323 | AJ13: 0 | AK13: 213 | AL13: 6110 | AM13: =SUM(AN13:AP13) -> 0 | AN13: 0 | AO13: 0 | AP13: 0 | AQ13: =SUM(AR13:AT13) -> 0 | AR13: 0 | AS13: 0 | AT13: 0 | AU13: =SUM(AV13:AX13) -> 0 | AV13: 0 | AW13: 0 | AX13: 0 | AY13: =SUM(AZ13:BB13) -> 0 | AZ13: 0 | BA13: 0 | BB13: 0 | BC13: =SUM(BD13,BK13) -> 8531 | BD13: =SUM(BE13:BJ13) -> 4588 | BE13: 0 | BF13: 276 | BG13: 85 | BH13: 3704 | BI13: 0 | BJ13: 523 | BK13: =SUM(BL13:BQ13) -> 3943 | BL13: 0 | BM13: 479 | BN13: 3 | BO13: 3461 | BP13: 0 | BQ13: 0 | BR13: =SUM(BY13,CF13) -> 24922 | BS13: =SUM(BZ13,CG13) -> 0 | BT13: =SUM(CA13,CH13) -> 17155 | BU13: =SUM(CB13,CI13) -> 1252 | BV13: =SUM(CC13,CJ13) -> 5978 | BW13: =SUM(CD13,CK13) -> 0 | BX13: =SUM(CE13,CL13) -> 537 | BY13: =SUM(BZ13:CE13) -> 20334 | BZ13: =F13 -> 0 | CA13: =J13 -> 16879 | CB13: =N13 -> 1167 | CC13: =R13 -> 2274 | CD13: =V13 -> 0 | CE13: =Z13 -> 14 | CF13: =SUM(CG13:CL13) -> 4588 | CG13: =BE13 -> 0 | CH13: =BF13 -> 276 | CI13: =BG13 -> 85 | CJ13: =BH13 -> 3704 | CK13: =BI13 -> 0 | CL13: =BJ13 -> 523 | CM13: =SUM(CT13,DA13) -> 10266 | CN13: =SUM(CU13,DB13) -> 0 | CO13: =SUM(CV13,DC13) -> 6802 | CP13: =SUM(CW13,DD13) -> 3 | CQ13: =SUM(CX13,DE13) -> 3461 | CR13: =SUM(CY13,DF13) -> 0 | CS13: =SUM(CZ13,DG13) -> 0 | CT13: =SUM(CU13:CZ13) -> 6323 | CU13: =AE13 -> 0 | CV13: =AI13 -> 6323 | CW13: =AM13 -> 0 | CX13: =AQ13 -> 0 | CY13: =AU13 -> 0 | CZ13: =AY13 -> 0 | DA13: =SUM(DB13:DG13) -> 3943 | DB13: =BL13 -> 0 | DC13: =BM13 -> 479 | DD13: =BN13 -> 3 | DE13: =BO13 -> 3461 | DF13: =BP13 -> 0 | DG13: =BQ13 -> 0 | DH13: 0 | DI13: =SUM(DJ13:DM13) -> 3 | DJ13: 3 | DK13: 0 | DL13: 0 | DM13: 0
A14: 愛知県 | B14: 23206 | C14: 春日井市 | D14: =SUM(E14,AD14,BC14) -> 84012 | E14: =SUM(F14,J14,N14,R14,V14,Z14) -> 60534 | F14: =SUM(G14:I14) -> 0 | G14: 0 | H14: 0 | I14: 0 | J14: =SUM(K14:M14) -> 47651 | K14: 29491 | L14: 18160 | M14: 0 | N14: =SUM(O14:Q14) -> 2479 | O14: 118 | P14: 2361 | Q14: 0 | R14: =SUM(S14:U14) -> 9997 | S14: 56 | T14: 9941 | U14: 0 | V14: =SUM(W14:Y14) -> 90 | W14: 20 | X14: 70 | Y14: 0 | Z14: =SUM(AA14:AC14) -> 317 | AA14: 317 | AB14: 0 | AC14: 0 | AD14: =SUM(AE14,AI14,AM14,AQ14,AU14,AY14) -> 16892 | AE14: =SUM(AF14:AH14) -> 0 | AF14: 0 | AG14: 0 | AH14: 0 | AI14: =SUM(AJ14:AL14) -> 16892 | AJ14: 0 | AK14: 879 | AL14: 16013 | AM14: =SUM(AN14:AP14) -> 0 | AN14: 0 | AO14: 0 | AP14: 0 | AQ14: =SUM(AR14:AT14) -> 0 | AR14: 0 | AS14: 0 | AT14: 0 | AU14: =SUM(AV14:AX14) -> 0 | AV14: 0 | AW14: 0 | AX14: 0 | AY14: =SUM(AZ14:BB14) -> 0 | AZ14: 0 | BA14: 0 | BB14: 0 | BC14: =SUM(BD14,BK14) -> 6586 | BD14: =SUM(BE14:BJ14) -> 2408 | BE14: 0 | BF14: 570 | BG14: 378 | BH14: 0 | BI14: 172 | BJ14: 1288 | BK14: =SUM(BL14:BQ14) -> 4178 | BL14: 0 | BM14: 3935 | BN14: 32 | BO14: 0 | BP14: 204 | BQ14: 7 | BR14: =SUM(BY14,CF14) -> 62942 | BS14: =SUM(BZ14,CG14) -> 0 | BT14: =SUM(CA14,CH14) -> 48221 | BU14: =SUM(CB14,CI14) -> 2857 | BV14: =SUM(CC14,CJ14) -> 9997 | BW14: =SUM(CD14,CK14) -> 262 | BX14: =SUM(CE14,CL14) -> 1605 | BY14: =SUM(BZ14:CE14) -> 60534 | BZ14: =F14 -> 0 | CA14: =J14 -> 47651 | CB14: =N14 -> 2479 | CC14: =R14 -> 9997 | CD14: =V14 -> 90 | CE14: =Z14 -> 317 | CF14: =SUM(CG14:CL14) -> 2408 | CG14: =BE14 -> 0 | CH14: =BF14 -> 570 | CI14: =BG14 -> 378 | CJ14: =BH14 -> 0 | CK14: =BI14 -> 172 | CL14: =BJ14 -> 1288 | CM14: =SUM(CT14,DA14) -> 21070 | CN14: =SUM(CU14,DB14) -> 0 | CO14: =SUM(CV14,DC14) -> 20827 | CP14: =SUM(CW14,DD14) -> 32 | CQ14: =SUM(CX14,DE14) -> 0 | CR14: =SUM(CY14,DF14) -> 204 | CS14: =SUM(CZ14,DG14) -> 7 | CT14: =SUM(CU14:CZ14) -> 16892 | CU14: =AE14 -> 0 | CV14: =AI14 -> 16892 | CW14: =AM14 -> 0 | CX14: =AQ14 -> 0 | CY14: =AU14 -> 0 | CZ14: =AY14 -> 0 | DA14: =SUM(DB14:DG14) -> 4178 | DB14: =BL14 -> 0 | DC14: =BM14 -> 3935 | DD14: =BN14 -> 32 | DE14: =BO14 -> 0 | DF14: =BP14 -> 204 | DG14: =BQ14 -> 7 | DH14: 0 | DI14: =SUM(DJ14:DM14) -> 16 | DJ14: 11 | DK14: 0 | DL14: 0 | DM14: 5
A15: 愛知県 | B15: 23207 | C15: 豊川市 | D15: =SUM(E15,AD15,BC15) -> 63077 | E15: =SUM(F15,J15,N15,R15,V15,Z15) -> 43073 | F15: =SUM(G15:I15) -> 0 | G15: 0 | H15: 0 | I15: 0 | J15: =SUM(K15:M15) -> 35597 | K15: 8302 | L15: 27198 | M15: 97 | N15: =SUM(O15:Q15) -> 629 | O15: 0 | P15: 618 | Q15: 11 | R15: =SUM(S15:U15) -> 6722 | S15: 11 | T15: 6711 | U15: 0 | V15: =SUM(W15:Y15) -> 100 | W15: 88 | X15: 12 | Y15: 0 | Z15: =SUM(AA15:AC15) -> 25 | AA15: 0 | AB15: 25 | AC15: 0 | AD15: =SUM(AE15,AI15,AM15,AQ15,AU15,AY15) -> 10786 | AE15: =SUM(AF15:AH15) -> 0 | AF15: 0 | AG15: 0 | AH15: 0 | AI15: =SUM(AJ15:AL15) -> 10786 | AJ15: 0 | AK15: 0 | AL15: 10786 | AM15: =SUM(AN15:AP15) -> 0 | AN15: 0 | AO15: 0 | AP15: 0 | AQ15: =SUM(AR15:AT15) -> 0 | AR15: 0 | AS15: 0 | AT15: 0 | AU15: =SUM(AV15:AX15) -> 0 | AV15: 0 | AW15: 0 | AX15: 0 | AY15: =SUM(AZ15:BB15) -> 0 | AZ15: 0 | BA15: 0 | BB15: 0 | BC15: =SUM(BD15,BK15) -> 9218 | BD15: =SUM(BE15:BJ15) -> 3175 | BE15: 0 | BF15: 343 | BG15: 46 | BH15: 179 | BI15: 0 | BJ15: 2607 | BK15: =SUM(BL15:BQ15) -> 6043 | BL15: 0 | BM15: 4951 | BN15: 7 | BO15: 1068 | BP15: 0 | BQ15: 17 | BR15: =SUM(BY15,CF15) -> 46248 | BS15: =SUM(BZ15,CG15) -> 0 | BT15: =SUM(CA15,CH15) -> 35940 | BU15: =SUM(CB15,CI15) -> 675 | BV15: =SUM(CC15,CJ15) -> 6901 | BW15: =SUM(CD15,CK15) -> 100 | BX15: =SUM(CE15,CL15) -> 2632 | BY15: =SUM(BZ15:CE15) -> 43073 | BZ15: =F15 -> 0 | CA15: =J15 -> 35597 | CB15: =N15 -> 629 | CC15: =R15 -> 6722 | CD15: =V15 -> 100 | CE15: =Z15 -> 25 | CF15: =SUM(CG15:CL15) -> 3175 | CG15: =BE15 -> 0 | CH15: =BF15 -> 343 | CI15: =BG15 -> 46 | CJ15: =BH15 -> 179 | CK15: =BI15 -> 0 | CL15: =BJ15 -> 2607 | CM15: =SUM(CT15,DA15) -> 16829 | CN15: =SUM(CU15,DB15) -> 0 | CO15: =SUM(CV15,DC15) -> 15737 | CP15: =SUM(CW15,DD15) -> 7 | CQ15: =SUM(CX15,DE15) -> 1068 | CR15: =SUM(CY15,DF15) -> 0 | CS15: =SUM(CZ15,DG15) -> 17 | CT15: =SUM(CU15:CZ15) -> 10786 | CU15: =AE15 -> 0 | CV15: =AI15 -> 10786 | CW15: =AM15 -> 0 | CX15: =AQ15 -> 0 | CY15: =AU15 -> 0 | CZ15: =AY15 -> 0 | DA15: =SUM(DB15:DG15) -> 6043 | DB15: =BL15 -> 0 | DC15: =BM15 -> 4951 | DD15: =BN15 -> 7 | DE15: =BO15 -> 1068 | DF15: =BP15 -> 0 | DG15: =BQ15 -> 17 | DH15: 0 | DI15: =SUM(DJ15:DM15) -> 29 | DJ15: 1 | DK15: 5 | DL15: 5 | DM15: 18
A16: 愛知県 | B16: 23208 | C16: 津島市 | D16: =SUM(E16,AD16,BC16) -> 15542 | E16: =SUM(F16,J16,N16,R16,V16,Z16) -> 11692 | F16: =SUM(G16:I16) -> 0 | G16: 0 | H16: 0 | I16: 0 | J16: =SUM(K16:M16) -> 9924 | K16: 75 | L16: 9849 | M16: 0 | N16: =SUM(O16:Q16) -> 364 | O16: 0 | P16: 364 | Q16: 0 | R16: =SUM(S16:U16) -> 1109 | S16: 0 | T16: 1109 | U16: 0 | V16: =SUM(W16:Y16) -> 19 | W16: 0 | X16: 19 | Y16: 0 | Z16: =SUM(AA16:AC16) -> 276 | AA16: 134 | AB16: 142 | AC16: 0 | AD16: =SUM(AE16,AI16,AM16,AQ16,AU16,AY16) -> 3687 | AE16: =SUM(AF16:AH16) -> 0 | AF16: 0 | AG16: 0 | AH16: 0 | AI16: =SUM(AJ16:AL16) -> 3687 | AJ16: 0 | AK16: 0 | AL16: 3687 | AM16: =SUM(AN16:AP16) -> 0 | AN16: 0 | AO16: 0 | AP16: 0 | AQ16: =SUM(AR16:AT16) -> 0 | AR16: 0 | AS16: 0 | AT16: 0 | AU16: =SUM(AV16:AX16) -> 0 | AV16: 0 | AW16: 0 | AX16: 0 | AY16: =SUM(AZ16:BB16) -> 0 | AZ16: 0 | BA16: 0 | BB16: 0 | BC16: =SUM(BD16,BK16) -> 163 | BD16: =SUM(BE16:BJ16) -> 163 | BE16: 0 | BF16: 1 | BG16: 2 | BH16: 5 | BI16: 0 | BJ16: 155 | BK16: =SUM(BL16:BQ16) -> 0 | BL16: 0 | BM16: 0 | BN16: 0 | BO16: 0 | BP16: 0 | BQ16: 0 | BR16: =SUM(BY16,CF16) -> 11855 | BS16: =SUM(BZ16,CG16) -> 0 | BT16: =SUM(CA16,CH16) -> 9925 | BU16: =SUM(CB16,CI16) -> 366 | BV16: =SUM(CC16,CJ16) -> 1114 | BW16: =SUM(CD16,CK16) -> 19 | BX16: =SUM(CE16,CL16) -> 431 | BY16: =SUM(BZ16:CE16) -> 11692 | BZ16: =F16 -> 0 | CA16: =J16 -> 9924 | CB16: =N16 -> 364 | CC16: =R16 -> 1109 | CD16: =V16 -> 19 | CE16: =Z16 -> 276 | CF16: =SUM(CG16:CL16) -> 163 | CG16: =BE16 -> 0 | CH16: =BF16 -> 1 | CI16: =BG16 -> 2 | CJ16: =BH16 -> 5 | CK16: =BI16 -> 0 | CL16: =BJ16 -> 155 | CM16: =SUM(CT16,DA16) -> 3687 | CN16: =SUM(CU16,DB16) -> 0 | CO16: =SUM(CV16,DC16) -> 3687 | CP16: =SUM(CW16,DD16) -> 0 | CQ16: =SUM(CX16,DE16) -> 0 | CR16: =SUM(CY16,DF16) -> 0 | CS16: =SUM(CZ16,DG16) -> 0 | CT16: =SUM(CU16:CZ16) -> 3687 | CU16: =AE16 -> 0 | CV16: =AI16 -> 3687 | CW16: =AM16 -> 0 | CX16: =AQ16 -> 0 | CY16: =AU16 -> 0 | CZ16: =AY16 -> 0 | DA16: =SUM(DB16:DG16) -> 0 | DB16: =BL16 -> 0 | DC16: =BM16 -> 0 | DD16: =BN16 -> 0 | DE16: =BO16 -> 0 | DF16: =BP16 -> 0 | DG16: =BQ16 -> 0 | DH16: 0 | DI16: =SUM(DJ16:DM16) -> 0 | DJ16: 0 | DK16: 0 | DL16: 0 | DM16: 0
A17: 愛知県 | B17: 23209 | C17: 碧南市 | D17: =SUM(E17,AD17,BC17) -> 25422 | E17: =SUM(F17,J17,N17,R17,V17,Z17) -> 13153 | F17: =SUM(G17:I17) -> 0 | G17: 0 | H17: 0 | I17: 0 | J17: =SUM(K17:M17) -> 11170 | K17: 0 | L17: 11170 | M17: 0 | N17: =SUM(O17:Q17) -> 214 | O17: 0 | P17: 214 | Q17: 0 | R17: =SUM(S17:U17) -> 1497 | S17: 0 | T17: 1497 | U17: 0 | V17: =SUM(W17:Y17) -> 0 | W17: 0 | X17: 0 | Y17: 0 | Z17: =SUM(AA17:AC17) -> 272 | AA17: 0 | AB17: 272 | AC17: 0 | AD17: =SUM(AE17,AI17,AM17,AQ17,AU17,AY17) -> 6289 | AE17: =SUM(AF17:AH17) -> 0 | AF17: 0 | AG17: 0 | AH17: 0 | AI17: =SUM(AJ17:AL17) -> 5561 | AJ17: 0 | AK17: 0 | AL17: 5561 | AM17: =SUM(AN17:AP17) -> 124 | AN17: 0 | AO17: 0 | AP17: 124 | AQ17: =SUM(AR17:AT17) -> 304 | AR17: 0 | AS17: 0 | AT17: 304 | AU17: =SUM(AV17:AX17) -> 0 | AV17: 0 | AW17: 0 | AX17: 0 | AY17: =SUM(AZ17:BB17) -> 300 | AZ17: 0 | BA17: 0 | BB17: 300 | BC17: =SUM(BD17,BK17) -> 5980 | BD17: =SUM(BE17:BJ17) -> 2852 | BE17: 0 | BF17: 0 | BG17: 459 | BH17: 607 | BI17: 0 | BJ17: 1786 | BK17: =SUM(BL17:BQ17) -> 3128 | BL17: 0 | BM17: 280 | BN17: 84 | BO17: 0 | BP17: 0 | BQ17: 2764 | BR17: =SUM(BY17,CF17) -> 16005 | BS17: =SUM(BZ17,CG17) -> 0 | BT17: =SUM(CA17,CH17) -> 11170 | BU17: =SUM(CB17,CI17) -> 673 | BV17: =SUM(CC17,CJ17) -> 2104 | BW17: =SUM(CD17,CK17) -> 0 | BX17: =SUM(CE17,CL17) -> 2058 | BY17: =SUM(BZ17:CE17) -> 13153 | BZ17: =F17 -> 0 | CA17: =J17 -> 11170 | CB17: =N17 -> 214 | CC17: =R17 -> 1497 | CD17: =V17 -> 0 | CE17: =Z17 -> 272 | CF17: =SUM(CG17:CL17) -> 2852 | CG17: =BE17 -> 0 | CH17: =BF17 -> 0 | CI17: =BG17 -> 459 | CJ17: =BH17 -> 607 | CK17: =BI17 -> 0 | CL17: =BJ17 -> 1786 | CM17: =SUM(CT17,DA17) -> 9417 | CN17: =SUM(CU17,DB17) -> 0 | CO17: =SUM(CV17,DC17) -> 5841 | CP17: =SUM(CW17,DD17) -> 208 | CQ17: =SUM(CX17,DE17) -> 304 | CR17: =SUM(CY17,DF17) -> 0 | CS17: =SUM(CZ17,DG17) -> 3064 | CT17: =SUM(CU17:CZ17) -> 6289 | CU17: =AE17 -> 0 | CV17: =AI17 -> 5561 | CW17: =AM17 -> 124 | CX17: =AQ17 -> 304 | CY17: =AU17 -> 0 | CZ17: =AY17 -> 300 | DA17: =SUM(DB17:DG17) -> 3128 | DB17: =BL17 -> 0 | DC17: =BM17 -> 280 | DD17: =BN17 -> 84 | DE17: =BO17 -> 0 | DF17: =BP17 -> 0 | DG17: =BQ17 -> 2764 | DH17: 0 | DI17: =SUM(DJ17:DM17) -> 2 | DJ17: 0 | DK17: 2 | DL17: 0 | DM17: 0
A18: 愛知県 | B18: 23210 | C18: 刈谷市 | D18: =SUM(E18,AD18,BC18) -> 47999 | E18: =SUM(F18,J18,N18,R18,V18,Z18) -> 27295 | F18: =SUM(G18:I18) -> 0 | G18: 0 | H18: 0 | I18: 0 | J18: =SUM(K18:M18) -> 23678 | K18: 5511 | L18: 17793 | M18: 374 | N18: =SUM(O18:Q18) -> 699 | O18: 0 | P18: 674 | Q18: 25 | R18: =SUM(S18:U18) -> 2771 | S18: 54 | T18: 2717 | U18: 0 | V18: =SUM(W18:Y18) -> 82 | W18: 74 | X18: 8 | Y18: 0 | Z18: =SUM(AA18:AC18) -> 65 | AA18: 64 | AB18: 0 | AC18: 1 | AD18: =SUM(AE18,AI18,AM18,AQ18,AU18,AY18) -> 9953 | AE18: =SUM(AF18:AH18) -> 0 | AF18: 0 | AG18: 0 | AH18: 0 | AI18: =SUM(AJ18:AL18) -> 9877 | AJ18: 124 | AK18: 116 | AL18: 9637 | AM18: =SUM(AN18:AP18) -> 15 | AN18: 0 | AO18: 15 | AP18: 0 | AQ18: =SUM(AR18:AT18) -> 61 | AR18: 3 | AS18: 58 | AT18: 0 | AU18: =SUM(AV18:AX18) -> 0 | AV18: 0 | AW18: 0 | AX18: 0 | AY18: =SUM(AZ18:BB18) -> 0 | AZ18: 0 | BA18: 0 | BB18: 0 | BC18: =SUM(BD18,BK18) -> 10751 | BD18: =SUM(BE18:BJ18) -> 4700 | BE18: 0 | BF18: 1853 | BG18: 421 | BH18: 537 | BI18: 0 | BJ18: 1889 | BK18: =SUM(BL18:BQ18) -> 6051 | BL18: 0 | BM18: 5414 | BN18: 5 | BO18: 144 | BP18: 400 | BQ18: 88 | BR18: =SUM(BY18,CF18) -> 31995 | BS18: =SUM(BZ18,CG18) -> 0 | BT18: =SUM(CA18,CH18) -> 25531 | BU18: =SUM(CB18,CI18) -> 1120 | BV18: =SUM(CC18,CJ18) -> 3308 | BW18: =SUM(CD18,CK18) -> 82 | BX18: =SUM(CE18,CL18) -> 1954 | BY18: =SUM(BZ18:CE18) -> 27295 | BZ18: =F18 -> 0 | CA18: =J18 -> 23678 | CB18: =N18 -> 699 | CC18: =R18 -> 2771 | CD18: =V18 -> 82 | CE18: =Z18 -> 65 | CF18: =SUM(CG18:CL18) -> 4700 | CG18: =BE18 -> 0 | CH18: =BF18 -> 1853 | CI18: =BG18 -> 421 | CJ18: =BH18 -> 537 | CK18: =BI18 -> 0 | CL18: =BJ18 -> 1889 | CM18: =SUM(CT18,DA18) -> 16004 | CN18: =SUM(CU18,DB18) -> 0 | CO18: =SUM(CV18,DC18) -> 15291 | CP18: =SUM(CW18,DD18) -> 20 | CQ18: =SUM(CX18,DE18) -> 205 | CR18: =SUM(CY18,DF18) -> 400 | CS18: =SUM(CZ18,DG18) -> 88 | CT18: =SUM(CU18:CZ18) -> 9953 | CU18: =AE18 -> 0 | CV18: =AI18 -> 9877 | CW18: =AM18 -> 15 | CX18: =AQ18 -> 61 | CY18: =AU18 -> 0 | CZ18: =AY18 -> 0 | DA18: =SUM(DB18:DG18) -> 6051 | DB18: =BL18 -> 0 | DC18: =BM18 -> 5414 | DD18: =BN18 -> 5 | DE18: =BO18 -> 144 | DF18: =BP18 -> 400 | DG18: =BQ18 -> 88 | DH18: 0 | DI18: =SUM(DJ18:DM18) -> 72 | DJ18: 10 | DK18: 0 | DL18: 0 | DM18: 62
A19: 愛知県 | B19: 23211 | C19: 豊田市 | D19: =SUM(E19,AD19,BC19) -> 126991 | E19: =SUM(F19,J19,N19,R19,V19,Z19) -> 83680 | F19: =SUM(G19:I19) -> 0 | G19: 0 | H19: 0 | I19: 0 | J19: =SUM(K19:M19) -> 68570 | K19: 62389 | L19: 6002 | M19: 179 | N19: =SUM(O19:Q19) -> 2364 | O19: 2196 | P19: 168 | Q19: 0 | R19: =SUM(S19:U19) -> 11773 | S19: 9119 | T19: 2654 | U19: 0 | V19: =SUM(W19:Y19) -> 258 | W19: 0 | X19: 258 | Y19: 0 | Z19: =SUM(AA19:AC19) -> 715 | AA19: 658 | AB19: 57 | AC19: 0 | AD19: =SUM(AE19,AI19,AM19,AQ19,AU19,AY19) -> 25061 | AE19: =SUM(AF19:AH19) -> 0 | AF19: 0 | AG19: 0 | AH19: 0 | AI19: =SUM(AJ19:AL19) -> 23976 | AJ19: 0 | AK19: 0 | AL19: 23976 | AM19: =SUM(AN19:AP19) -> 0 | AN19: 0 | AO19: 0 | AP19: 0 | AQ19: =SUM(AR19:AT19) -> 1085 | AR19: 0 | AS19: 75 | AT19: 1010 | AU19: =SUM(AV19:AX19) -> 0 | AV19: 0 | AW19: 0 | AX19: 0 | AY19: =SUM(AZ19:BB19) -> 0 | AZ19: 0 | BA19: 0 | BB19: 0 | BC19: =SUM(BD19,BK19) -> 18250 | BD19: =SUM(BE19:BJ19) -> 4048 | BE19: 0 | BF19: 2828 | BG19: 991 | BH19: 229 | BI19: 0 | BJ19: 0 | BK19: =SUM(BL19:BQ19) -> 14202 | BL19: 0 | BM19: 4983 | BN19: 196 | BO19: 9023 | BP19: 0 | BQ19: 0 | BR19: =SUM(BY19,CF19) -> 87728 | BS19: =SUM(BZ19,CG19) -> 0 | BT19: =SUM(CA19,CH19) -> 71398 | BU19: =SUM(CB19,CI19) -> 3355 | BV19: =SUM(CC19,CJ19) -> 12002 | BW19: =SUM(CD19,CK19) -> 258 | BX19: =SUM(CE19,CL19) -> 715 | BY19: =SUM(BZ19:CE19) -> 83680 | BZ19: =F19 -> 0 | CA19: =J19 -> 68570 | CB19: =N19 -> 2364 | CC19: =R19 -> 11773 | CD19: =V19 -> 258 | CE19: =Z19 -> 715 | CF19: =SUM(CG19:CL19) -> 4048 | CG19: =BE19 -> 0 | CH19: =BF19 -> 2828 | CI19: =BG19 -> 991 | CJ19: =BH19 -> 229 | CK19: =BI19 -> 0 | CL19: =BJ19 -> 0 | CM19: =SUM(CT19,DA19) -> 39263 | CN19: =SUM(CU19,DB19) -> 0 | CO19: =SUM(CV19,DC19) -> 28959 | CP19: =SUM(CW19,DD19) -> 196 | CQ19: =SUM(CX19,DE19) -> 10108 | CR19: =SUM(CY19,DF19) -> 0 | CS19: =SUM(CZ19,DG19) -> 0 | CT19: =SUM(CU19:CZ19) -> 25061 | CU19: =AE19 -> 0 | CV19: =AI19 -> 23976 | CW19: =AM19 -> 0 | CX19: =AQ19 -> 1085 | CY19: =AU19 -> 0 | CZ19: =AY19 -> 0 | DA19: =SUM(DB19:DG19) -> 14202 | DB19: =BL19 -> 0 | DC19: =BM19 -> 4983 | DD19: =BN19 -> 196 | DE19: =BO19 -> 9023 | DF19: =BP19 -> 0 | DG19: =BQ19 -> 0 | DH19: 0 | DI19: =SUM(DJ19:DM19) -> 4 | DJ19: 4 | DK19: 0 | DL19: 0 | DM19: 0
... A61: 愛知県 | B61: 23563 | C61: 豊根村 | D61: =SUM(E61,AD61,BC61) -> 280 | E61: =SUM(F61,J61,N61,R61,V61,Z61) -> 199 | F61: =SUM(G61:I61) -> 0 | G61: 0 | H61: 0 | I61: 0 | J61: =SUM(K61:M61) -> 179 | K61: 0 | L61: 179 | M61: 0 | N61: =SUM(O61:Q61) -> 2 | O61: 0 | P61: 2 | Q61: 0 | R61: =SUM(S61:U61) -> 18 | S61: 0 | T61: 18 | U61: 0 | V61: =SUM(W61:Y61) -> 0 | W61: 0 | X61: 0 | Y61: 0 | Z61: =SUM(AA61:AC61) -> 0 | AA61: 0 | AB61: 0 | AC61: 0 | AD61: =SUM(AE61,AI61,AM61,AQ61,AU61,AY61) -> 0 | AE61: =SUM(AF61:AH61) -> 0 | AF61: 0 | AG61: 0 | AH61: 0 | AI61: =SUM(AJ61:AL61) -> 0 | AJ61: 0 | AK61: 0 | AL61: 0 | AM61: =SUM(AN61:AP61) -> 0 | AN61: 0 | AO61: 0 | AP61: 0 | AQ61: =SUM(AR61:AT61) -> 0 | AR61: 0 | AS61: 0 | AT61: 0 | AU61: =SUM(AV61:AX61) -> 0 | AV61: 0 | AW61: 0 | AX61: 0 | AY61: =SUM(AZ61:BB61) -> 0 | AZ61: 0 | BA61: 0 | BB61: 0 | BC61: =SUM(BD61,BK61) -> 81 | BD61: =SUM(BE61:BJ61) -> 29 | BE61: 0 | BF61: 11 | BG61: 3 | BH61: 7 | BI61: 0 | BJ61: 8 | BK61: =SUM(BL61:BQ61) -> 52 | BL61: 0 | BM61: 34 | BN61: 0 | BO61: 16 | BP61: 0 | BQ61: 2 | BR61: =SUM(BY61,CF61) -> 228 | BS61: =SUM(BZ61,CG61) -> 0 | BT61: =SUM(CA61,CH61) -> 190 | BU61: =SUM(CB61,CI61) -> 5 | BV61: =SUM(CC61,CJ61) -> 25 | BW61: =SUM(CD61,CK61) -> 0 | BX61: =SUM(CE61,CL61) -> 8 | BY61: =SUM(BZ61:CE61) -> 199 | BZ61: =F61 -> 0 | CA61: =J61 -> 179 | CB61: =N61 -> 2 | CC61: =R61 -> 18 | CD61: =V61 -> 0 | CE61: =Z61 -> 0 | CF61: =SUM(CG61:CL61) -> 29 | CG61: =BE61 -> 0 | CH61: =BF61 -> 11 | CI61: =BG61 -> 3 | CJ61: =BH61 -> 7 | CK61: =BI61 -> 0 | CL61: =BJ61 -> 8 | CM61: =SUM(CT61,DA61) -> 52 | CN61: =SUM(CU61,DB61) -> 0 | CO61: =SUM(CV61,DC61) -> 34 | CP61: =SUM(CW61,DD61) -> 0 | CQ61: =SUM(CX61,DE61) -> 16 | CR61: =SUM(CY61,DF61) -> 0 | CS61: =SUM(CZ61,DG61) -> 2 | CT61: =SUM(CU61:CZ61) -> 0 | CU61: =AE61 -> 0 | CV61: =AI61 -> 0 | CW61: =AM61 -> 0 | CX61: =AQ61 -> 0 | CY61: =AU61 -> 0 | CZ61: =AY61 -> 0 | DA61: =SUM(DB61:DG61) -> 52 | DB61: =BL61 -> 0 | DC61: =BM61 -> 34 | DD61: =BN61 -> 0 | DE61: =BO61 -> 16 | DF61: =BP61 -> 0 | DG61: =BQ61 -> 2 | DH61: 0 | DI61: =SUM(DJ61:DM61) -> 0 | DJ61: 0 | DK61: 0 | DL61: 0 | DM61: 0

Sheet 施設区分別搬入量内訳
A1: 処理施設別ごみ搬入量の状況（令和5年度実績）
A2: 都道府県名 | B2: 地方公共団体コード | C2: 市区町村名 | D2: 処理施設別のごみ搬入量(処理施設+直接資源化+直接埋立)
E3: 焼却施設（収集ごみ＋直接搬入ごみ） | T3: 粗大ごみ処理施設（収集ごみ＋直接搬入ごみ） | AI3: ごみ堆肥化施設（収集ごみ＋直接搬入ごみ） | AX3: ごみ飼料化施設（収集ごみ＋直接搬入ごみ） | BM3: メタン化施設（収集ごみ＋直接搬入ごみ） | CB3: ごみ燃料化施設（収集ごみ＋直接搬入ごみ） | CQ3: その他の資源化等を行う施設（収集ごみ＋直接搬入ごみ） ＋ セメント等への直接投入（収集ごみ＋直接搬入ごみ） | DF3: その他の施設（収集ごみ＋直接搬入ごみ） | DU3: 直接資源化（収集ごみ＋直接搬入ごみ） | DZ3: 直接埋立（収集ごみ＋直接搬入ごみ）
F4: 収集ごみ (混合ごみ+可燃ごみ+不燃ごみ+資源ごみ+その他+粗大ごみ) | M4: 直接搬入ごみ (混合ごみ+可燃ごみ+不燃ごみ+資源ごみ+その他+粗大ごみ) | U4: 収集ごみ (混合ごみ+可燃ごみ+不燃ごみ+資源ごみ+その他+粗大ごみ) | AB4: 直接搬入ごみ (混合ごみ+可燃ごみ+不燃ごみ+資源ごみ+その他+粗大ごみ) | AJ4: 収集ごみ (混合ごみ+可燃ごみ+不燃ごみ+資源ごみ+その他+粗大ごみ) | AQ4: 直接搬入ごみ (混合ごみ+可燃ごみ+不燃ごみ+資源ごみ+その他+粗大ごみ) | AY4: 収集ごみ (混合ごみ+可燃ごみ+不燃ごみ+資源ごみ+その他+粗大ごみ) | BF4: 直接搬入ごみ (混合ごみ+可燃ごみ+不燃ごみ+資源ごみ+その他+粗大ごみ) | BN4: 収集ごみ (混合ごみ+可燃ごみ+不燃ごみ+資源ごみ+その他+粗大ごみ) | BU4: 直接搬入ごみ (混合ごみ+可燃ごみ+不燃ごみ+資源ごみ+その他+粗大ごみ) | CC4: 収集ごみ (混合ごみ+可燃ごみ+不燃ごみ+資源ごみ+その他+粗大ごみ) | CJ4: 直接搬入ごみ (混合ごみ+可燃ごみ+不燃ごみ+資源ごみ+その他+粗大ごみ) | CR4: 収集ごみ (混合ごみ+可燃ごみ+不燃ごみ+資源ごみ+その他+粗大ごみ) | CY4: 直接搬入ごみ (混合ごみ+可燃ごみ+不燃ごみ+資源ごみ+その他+粗大ごみ) | DG4: 収集ごみ (混合ごみ+可燃ごみ+不燃ごみ+資源ごみ+その他+粗大ごみ) | DN4: 直接搬入ごみ (混合ごみ+可燃ごみ+不燃ごみ+資源ごみ+その他+粗大ごみ) | DV4: 収集ごみ | DX4: 直接搬入ごみ | EA4: 収集ごみ (混合ごみ+可燃ごみ+不燃ごみ+資源ごみ+その他+粗大ごみ) | EH4: 直接搬入ごみ (混合ごみ+可燃ごみ+不燃ごみ+資源ごみ+その他+粗大ごみ)
