Workbook

Sheet ごみ処理概要
A1: ごみ処理の概要（令和5年度実績）
A2: 都道府県名 | B2: 地方公共団体コード | C2: 市区町村名 | D2: 総人口 | G2: 総人口のうち、外国人人口 | H2: ごみ総排出量 (計画収集量+直接搬入量+集団回収量) | L2: １人１日当たりの排出量 | P2: 自家処理量 | Q2: ごみ処理量 (直接焼却量+直接最終処分量+焼却以外の中間処理量+直接資源化量) | AC2: 減量処理率 (直接資源化量+直接焼却量+焼却以外の中間処理量)/ごみ処理量*100 | AD2: 中間処理後再生利用量 (焼却施設＋粗大ごみ処理施設+ごみ堆肥化施設+ごみ飼料化施設+メタン化施設+ごみ燃料化施設+その他の資源化等を行う施設+その他の施設) | AL2: リサイクル率 Ｒ (直接資源化量+中間処理後再生利用量+集団回収量)/(ごみ処理量+集団回収量)*100 | AM2: リサイクル率 Ｒ’ (直接資源化量+中間処理後再生利用量〔固形燃料、焼却灰・飛灰のｾﾒﾝﾄ原料化、セメント等への直接投入、飛灰の山元還元 を除く〕+集団回収量)/(ごみ処理量+集団回収量)*100 | AN2: 最終処分量 (直接最終処分量+焼却残渣量+処理残渣量)
E3: 計画収集人口 | F3: 自家処理人口 | H3: 計画収集量 | I3: 直接搬入量 | J3: 集団回収量 | K3: 合計 | L3: 合計 (ごみ総排出量)*10^6/総人口/366 | M3: 生活系ごみ (生活系ごみ搬入量+集団回収量)*10^6/総人口/366 | N3: 家庭系ごみ (生活系ごみ-集団回収量-生活系直接搬入ごみ[資源ごみ]-資源ごみ収集量)*10^6/総人口/366 | O3: 事業系ごみ (事業系ごみ搬入量)*10^6/総人口/366 | Q3: 直接焼却量 | R3: 直接最終 処分量 | S3: 焼却以外の中間処理量(粗大ごみ処理施設+ごみ堆肥化施設+ごみ飼料化施設+メタン化施設+ごみ燃料化施設+その他の資源化等を行う施設+その他の施設) | AA3: 直接 資源化量 | AB3: 合計 | AD3: 焼却施設 | AE3: 粗大ごみ 処理施設 | AF3: ごみ堆肥化施設 | AG3: ごみ飼料化施設 | AH3: メタン化施設 | AI3: ごみ燃料化施設 | AJ3: その他の資源化等を行う施設 | AK3: 合計 | AN3: 直接最終 処分量 | AO3: 焼却残渣量 | AP3: 処理残渣量 | AQ3: 合計
S4: 合計 | T4: 粗大ごみ 処理施設 | U4: 資源化等を行う施設 | V4: ごみ堆肥化施設 | W4: ごみ飼料化施設 | X4: メタン化施設 | Y4: ごみ燃料化 施設 | Z4: その他の 施設
D6: （人） | E6: （人） | F6: （人） | G6: （人） | H6: （ｔ） | I6: （ｔ） | J6: （ｔ） | K6: （ｔ） | L6: （g/人日) | M6: （g/人日) | N6: （g/人日) | O6: （g/人日) | P6: （ｔ） | Q6: （ｔ） | R6: （ｔ） | S6: （ｔ） | T6: （ｔ） | U6: （ｔ） | V6: （ｔ） | W6: （ｔ） | X6: （ｔ） | Y6: （ｔ） | Z6: （ｔ） | AA6: （ｔ） | AB6: （ｔ） | AC6: （％） | AD6: （ｔ） | AE6: （ｔ） | AF6: （ｔ） | AG6: （ｔ） | AH6: （ｔ） | AI6: （ｔ） | AJ6: （ｔ） | AK6: （ｔ） | AL6: （％） | AM6: （％） | AN6: （ｔ） | AO6: （ｔ） | AP6: （ｔ） | AQ6: （ｔ）
A7: 愛知県 | B7: 23000 | C7: 合計 | D7: =+E7+F7 -> 7500116 | E7: =SUM(E$8:E$207) -> 7500116 | F7: =SUM(F$8:F$207) -> 0 | G7: =SUM(G$8:G$207) -> 296151 | H7: =SUM(ごみ搬入量内訳!E7,+ごみ搬入量内訳!AD7) -> 1950873 | I7: =ごみ搬入量内訳!BC7 -> 246348 | J7: =資源化量内訳!BR7 -> 84830 | K7: =SUM(H7:J7) -> 2282051 | L7: =IF(D7<>0,K7/D7/366*1000000,"-") -> 831.33541 | M7: =IF(D7<>0,(ごみ搬入量内訳!BR7+ごみ処理概要!J7)/ごみ処理概要!D7/366*1000000,"-") -> 593.11287 | N7: =IF(D7<>0,(ごみ搬入量内訳!E7+ごみ搬入量内訳!BD7-ごみ搬入量内訳!R7-ごみ搬入量内訳!BH7)/D7/366*1000000,"-") -> 475.11105 | O7: =IF(D7<>0,ごみ搬入量内訳!CM7/ごみ処理概要!D7/366*1000000,"-") -> 238.22254 | P7: =ごみ搬入量内訳!DH7 -> 0 | Q7: =ごみ処理量内訳!E7 -> 1730404 | R7: =ごみ処理量内訳!N7 -> 13677 | S7: =SUM(T7:Z7) -> 373373 | T7: =ごみ処理量内訳!G7 -> 99619 | U7: =ごみ処理量内訳!L7 -> 200304 | V7: =ごみ処理量内訳!H7 -> 37057 | W7: =ごみ処理量内訳!I7 -> 4789 | X7: =ごみ処理量内訳!J7 -> 22085 | Y7: =ごみ処理量内訳!K7 -> 7828 | Z7: =ごみ処理量内訳!M7 -> 1691 | AA7: =資源化量内訳!Z7 -> 85507 | AB7: =SUM(Q7,R7,S7,AA7) -> 2202961 | AC7: =IF(AB7<>0,(AA7+Q7+S7)/AB7*100,"-") -> 99.379154 | AD7: =施設資源化量内訳!Z7 -> 105503 | AE7: =施設資源化量内訳!AV7 -> 13726 | AF7: =施設資源化量内訳!BR7 -> 22415 | AG7: =施設資源化量内訳!CN7 -> 1277 | AH7: =施設資源化量内訳!DJ7 -> 14435 | AI7: =施設資源化量内訳!EF7 -> 6660 | AJ7: =施設資源化量内訳!FB7 -> 169264 | AK7: =SUM(AD7:AJ7) -> 333280 | AL7: =IF((AB7+J7)<>0,(AA7+AK7+J7)/(AB7+J7)*100,"-") -> 22.013243 | AM7: =IF((AB7+J7)<>0,(資源化量内訳!D7-資源化量内訳!S7-資源化量内訳!U7-資源化量内訳!W7-資源化量内訳!V7)/(AB7+J7)*100,"-") -> 21.136371 | AN7: =ごみ処理量内訳!AA7 -> 13677 | AO7: =ごみ処理量内訳!AB7 -> 122064 | AP7: =ごみ処理量内訳!AC7 -> 7514 | AQ7: =SUM(AN7:AP7) -> 143255
A8: 愛知県 | B8: 23100 | C8: 名古屋市 | D8: =+E8+F8 -> 2296259 | E8: 2296259 | F8: 0 | G8: 90728 | H8: =SUM(ごみ搬入量内訳!E8,+ごみ搬入量内訳!AD8) -> 621856 | I8: =ごみ搬入量内訳!BC8 -> 44204 | J8: =資源化量内訳!BR8 -> 48540 | K8: =SUM(H8:J8) -> 714600 | L8: =IF(D8<>0,K8/D8/366*1000000,"-") -> 850.27822 | M8: =IF(D8<>0,(ごみ搬入量内訳!BR8+ごみ処理概要!J8)/ごみ処理概要!D8/366*1000000,"-") -> 577.69421 | N8: =IF(D8<>0,(ごみ搬入量内訳!E8+ごみ搬入量内訳!BD8-ごみ搬入量内訳!R8-ごみ搬入量内訳!BH8)/D8/366*1000000,"-") -> 450.57369 | O8: =IF(D8<>0,ごみ搬入量内訳!CM8/ごみ処理概要!D8/366*1000000,"-") -> 272.58401 | P8: =ごみ搬入量内訳!DH8 -> 0 | Q8: =ごみ処理量内訳!E8 -> 521595 | R8: =ごみ処理量内訳!N8 -> 1632 | S8: =SUM(T8:Z8) -> 142833 | T8: =ごみ処理量内訳!G8 -> 30118 | U8: =ごみ処理量内訳!L8 -> 89107 | V8: =ごみ処理量内訳!H8 -> 14249 | W8: =ごみ処理量内訳!I8 -> 4331 | X8: =ごみ処理量内訳!J8 -> 4849 | Y8: =ごみ処理量内訳!K8 -> 0 | Z8: =ごみ処理量内訳!M8 -> 179 | AA8: =資源化量内訳!Z8 -> 0 | AB8: =SUM(Q8,R8,S8,AA8) -> 666060 | AC8: =IF(AB8<>0,(AA8+Q8+S8)/AB8*100,"-") -> 99.754977 | AD8: =施設資源化量内訳!Z8 -> 56543 | AE8: =施設資源化量内訳!AV8 -> 1716 | AF8: =施設資源化量内訳!BR8 -> 3799 | AG8: =施設資源化量内訳!CN8 -> 819 | AH8: =施設資源化量内訳!DJ8 -> 296 | AI8: =施設資源化量内訳!EF8 -> 0 | AJ8: =施設資源化量内訳!FB8 -> 83842 | AK8: =SUM(AD8:AJ8) -> 147015 | AL8: =IF((AB8+J8)<>0,(AA8+AK8+J8)/(AB8+J8)*100,"-") -> 27.365659 | AM8: =IF((AB8+J8)<>0,(資源化量内訳!D8-資源化量内訳!S8-資源化量内訳!U8-資源化量内訳!W8-資源化量内訳!V8)/(AB8+J8)*100,"-") -> 26.446683 | AN8: =ごみ処理量内訳!AA8 -> 1632 | AO8: =ごみ処理量内訳!AB8 -> 13710 | AP8: =ごみ処理量内訳!AC8 -> 613 | AQ8: =SUM(AN8:AP8) -> 15955
A9: 愛知県 | B9: 23201 | C9: 豊橋市 | D9: =+E9+F9 -> 368996 | E9: 368996 | F9: 0 | G9: 20447 | H9: =SUM(ごみ搬入量内訳!E9,+ごみ搬入量内訳!AD9) -> 95852 | I9: =ごみ搬入量内訳!BC9 -> 19073 | J9: =資源化量内訳!BR9 -> 3628 | K9: =SUM(H9:J9) -> 118553 | L9: =IF(D9<>0,K9/D9/366*1000000,"-") -> 877.82876 | M9: =IF(D9<>0,(ごみ搬入量内訳!BR9+ごみ処理概要!J9)/ごみ処理概要!D9/366*1000000,"-") -> 596.51601 | N9: =IF(D9<>0,(ごみ搬入量内訳!E9+ごみ搬入量内訳!BD9-ごみ搬入量内訳!R9-ごみ搬入量内訳!BH9)/D9/366*1000000,"-") -> 406.66397 | O9: =IF(D9<>0,ごみ搬入量内訳!CM9/ごみ処理概要!D9/366*1000000,"-") -> 281.31275 | P9: =ごみ搬入量内訳!DH9 -> 0 | Q9: =ごみ処理量内訳!E9 -> 77905 | R9: =ごみ処理量内訳!N9 -> 2997 | S9: =SUM(T9:Z9) -> 33143 | T9: =ごみ処理量内訳!G9 -> 9831 | U9: =ごみ処理量内訳!L9 -> 8272 | V9: =ごみ処理量内訳!H9 -> 0 | W9: =ごみ処理量内訳!I9 -> 0 | X9: =ごみ処理量内訳!J9 -> 15040 | Y9: =ごみ処理量内訳!K9 -> 0 | Z9: =ごみ処理量内訳!M9 -> 0 | AA9: =資源化量内訳!Z9 -> 890 | AB9: =SUM(Q9,R9,S9,AA9) -> 114935 | AC9: =IF(AB9<>0,(AA9+Q9+S9)/AB9*100,"-") -> 97.392439 | AD9: =施設資源化量内訳!Z9 -> 2130 | AE9: =施設資源化量内訳!AV9 -> 1286 | AF9: =施設資源化量内訳!BR9 -> 0 | AG9: =施設資源化量内訳!CN9 -> 0 | AH9: =施設資源化量内訳!DJ9 -> 11943 | AI9: =施設資源化量内訳!EF9 -> 0 | AJ9: =施設資源化量内訳!FB9 -> 5576 | AK9: =SUM(AD9:AJ9) -> 20935 | AL9: =IF((AB9+J9)<>0,(AA9+AK9+J9)/(AB9+J9)*100,"-") -> 21.467912 | AM9: =IF((AB9+J9)<>0,(資源化量内訳!D9-資源化量内訳!S9-資源化量内訳!U9-資源化量内訳!W9-資源化量内訳!V9)/(AB9+J9)*100,"-") -> 21.467912 | AN9: =ごみ処理量内訳!AA9 -> 2997 | AO9: =ごみ処理量内訳!AB9 -> 8677 | AP9: =ごみ処理量内訳!AC9 -> 584 | AQ9: =SUM(AN9:AP9) -> 12258
A10: 愛知県 | B10: 23202 | C10: 岡崎市 | D10: =+E10+F10 -> 383141 | E10: 383141 | F10: 0 | G10: 13785 | H10: =SUM(ごみ搬入量内訳!E10,+ごみ搬入量内訳!AD10) -> 100974 | I10: =ごみ搬入量内訳!BC10 -> 18716 | J10: =資源化量内訳!BR10 -> 3100 | K10: =SUM(H10:J10) -> 122790 | L10: =IF(D10<>0,K10/D10/366*1000000,"-") -> 875.63535 | M10: =IF(D10<>0,(ごみ搬入量内訳!BR10+ごみ処理概要!J10)/ごみ処理概要!D10/366*1000000,"-") -> 603.8026 | N10: =IF(D10<>0,(ごみ搬入量内訳!E10+ごみ搬入量内訳!BD10-ごみ搬入量内訳!R10-ごみ搬入量内訳!BH10)/D10/366*1000000,"-") -> 525.46678 | O10: =IF(D10<>0,ごみ搬入量内訳!CM10/ごみ処理概要!D10/366*1000000,"-") -> 271.83275 | P10: =ごみ搬入量内訳!DH10 -> 0 | Q10: =ごみ処理量内訳!E10 -> 103669 | R10: =ごみ処理量内訳!N10 -> 3232 | S10: =SUM(T10:Z10) -> 12789 | T10: =ごみ処理量内訳!G10 -> 0 | U10: =ごみ処理量内訳!L10 -> 12789 | V10: =ごみ処理量内訳!H10 -> 0 | W10: =ごみ処理量内訳!I10 -> 0 | X10: =ごみ処理量内訳!J10 -> 0 | Y10: =ごみ処理量内訳!K10 -> 0 | Z10: =ごみ処理量内訳!M10 -> 0 | AA10: =資源化量内訳!Z10 -> 0 | AB10: =SUM(Q10,R10,S10,AA10) -> 119690 | AC10: =IF(AB10<>0,(AA10+Q10+S10)/AB10*100,"-") -> 97.299691 | AD10: =施設資源化量内訳!Z10 -> 10581 | AE10: =施設資源化量内訳!AV10 -> 0 | AF10: =施設資源化量内訳!BR10 -> 0 | AG10: =施設資源化量内訳!CN10 -> 0 | AH10: =施設資源化量内訳!DJ10 -> 0 | AI10: =施設資源化量内訳!EF10 -> 0 | AJ10: =施設資源化量内訳!FB10 -> 9191 | AK10: =SUM(AD10:AJ10) -> 19772 | AL10: =IF((AB10+J10)<>0,(AA10+AK10+J10)/(AB10+J10)*100,"-") -> 18.626924 | AM10: =IF((AB10+J10)<>0,(資源化量内訳!D10-資源化量内訳!S10-資源化量内訳!U10-資源化量内訳!W10-資源化量内訳!V10)/(AB10+J10)*100,"-") -> 18.626924 | AN10: =ごみ処理量内訳!AA10 -> 3232 | AO10: =ごみ処理量内訳!AB10 -> 3439 | AP10: =ごみ処理量内訳!AC10 -> 967 | AQ10: =SUM(AN10:AP10) -> 7638
A11: 愛知県 | B11: 23203 | C11: 一宮市 | D11: =+E11+F11 -> 378786 | E11: 378786 | F11: 0 | G11: 8014 | H11: =SUM(ごみ搬入量内訳!E11,+ごみ搬入量内訳!AD11) -> 102770 | I11: =ごみ搬入量内訳!BC11 -> 9576 | J11: =資源化量内訳!BR11 -> 416 | K11: =SUM(H11:J11) -> 112762 | L11: =IF(D11<>0,K11/D11/366*1000000,"-") -> 813.36928 | M11: =IF(D11<>0,(ごみ搬入量内訳!BR11+ごみ処理概要!J11)/ごみ処理概要!D11/366*1000000,"-") -> 609.35974 | N11: =IF(D11<>0,(ごみ搬入量内訳!E11+ごみ搬入量内訳!BD11-ごみ搬入量内訳!R11-ごみ搬入量内訳!BH11)/D11/366*1000000,"-") -> 517.88978 | O11: =IF(D11<>0,ごみ搬入量内訳!CM11/ごみ処理概要!D11/366*1000000,"-") -> 204.00954 | P11: =ごみ搬入量内訳!DH11 -> 0 | Q11: =ごみ処理量内訳!E11 -> 87219 | R11: =ごみ処理量内訳!N11 -> 611 | S11: =SUM(T11:Z11) -> 17781 | T11: =ごみ処理量内訳!G11 -> 7522 | U11: =ごみ処理量内訳!L11 -> 5146 | V11: =ごみ処理量内訳!H11 -> 5110 | W11: =ごみ処理量内訳!I11 -> 0 | X11: =ごみ処理量内訳!J11 -> 0 | Y11: =ごみ処理量内訳!K11 -> 0 | Z11: =ごみ処理量内訳!M11 -> 3 | AA11: =資源化量内訳!Z11 -> 6731 | AB11: =SUM(Q11,R11,S11,AA11) -> 112342 | AC11: =IF(AB11<>0,(AA11+Q11+S11)/AB11*100,"-") -> 99.456125 | AD11: =施設資源化量内訳!Z11 -> 1412 | AE11: =施設資源化量内訳!AV11 -> 1574 | AF11: =施設資源化量内訳!BR11 -> 3855 | AG11: =施設資源化量内訳!CN11 -> 0 | AH11: =施設資源化量内訳!DJ11 -> 0 | AI11: =施設資源化量内訳!EF11 -> 0 | AJ11: =施設資源化量内訳!FB11 -> 3463 | AK11: =SUM(AD11:AJ11) -> 10304 | AL11: =IF((AB11+J11)<>0,(AA11+AK11+J11)/(AB11+J11)*100,"-") -> 15.476507 | AM11: =IF((AB11+J11)<>0,(資源化量内訳!D11-資源化量内訳!S11-資源化量内訳!U11-資源化量内訳!W11-資源化量内訳!V11)/(AB11+J11)*100,"-") -> 15.476507 | AN11: =ごみ処理量内訳!AA11 -> 611 | AO11: =ごみ処理量内訳!AB11 -> 12299 | AP11: =ごみ処理量内訳!AC11 -> 323 | AQ11: =SUM(AN11:AP11) -> 13233
A12: 愛知県 | B12: 23204 | C12: 瀬戸市 | D12: =+E12+F12 -> 127568 | E12: 127568 | F12: 0 | G12: 4924 | H12: =SUM(ごみ搬入量内訳!E12,+ごみ搬入量内訳!AD12) -> 32607 | I12: =ごみ搬入量内訳!BC12 -> 3343 | J12: =資源化量内訳!BR12 -> 1652 | K12: =SUM(H12:J12) -> 37602 | L12: =IF(D12<>0,K12/D12/366*1000000,"-") -> 805.3564 | M12: =IF(D12<>0,(ごみ搬入量内訳!BR12+ごみ処理概要!J12)/ごみ処理概要!D12/366*1000000,"-") -> 616.70741 | N12: =IF(D12<>0,(ごみ搬入量内訳!E12+ごみ搬入量内訳!BD12-ごみ搬入量内訳!R12-ごみ搬入量内訳!BH12)/D12/366*1000000,"-") -> 472.24358 | O12: =IF(D12<>0,ごみ搬入量内訳!CM12/ごみ処理概要!D12/366*1000000,"-") -> 188.64899 | P12: =ごみ搬入量内訳!DH12 -> 0 | Q12: =ごみ処理量内訳!E12 -> 29305 | R12: =ごみ処理量内訳!N12 -> 0 | S12: =SUM(T12:Z12) -> 1552 | T12: =ごみ処理量内訳!G12 -> 1552 | U12: =ごみ処理量内訳!L12 -> 0 | V12: =ごみ処理量内訳!H12 -> 0 | W12: =ごみ処理量内訳!I12 -> 0 | X12: =ごみ処理量内訳!J12 -> 0 | Y12: =ごみ処理量内訳!K12 -> 0 | Z12: =ごみ処理量内訳!M12 -> 0 | AA12: =資源化量内訳!Z12 -> 5093 | AB12: =SUM(Q12,R12,S12,AA12) -> 35950 | AC12: =IF(AB12<>0,(AA12+Q12+S12)/AB12*100,"-") -> 100 | AD12: =施設資源化量内訳!Z12 -> 49 | AE12: =施設資源化量内訳!AV12 -> 381 | AF12: =施設資源化量内訳!BR12 -> 0 | AG12: =施設資源化量内訳!CN12 -> 0 | AH12: =施設資源化量内訳!DJ12 -> 0 | AI12: =施設資源化量内訳!EF12 -> 0 | AJ12: =施設資源化量内訳!FB12 -> 0 | AK12: =SUM(AD12:AJ12) -> 430 | AL12: =IF((AB12+J12)<>0,(AA12+AK12+J12)/(AB12+J12)*100,"-") -> 19.081432 | AM12: =IF((AB12+J12)<>0,(資源化量内訳!D12-資源化量内訳!S12-資源化量内訳!U12-資源化量内訳!W12-資源化量内訳!V12)/(AB12+J12)*100,"-") -> 19.081432 | AN12: =ごみ処理量内訳!AA12 -> 0 | AO12: =ごみ処理量内訳!AB12 -> 3333 | AP12: =ごみ処理量内訳!AC12 -> 312 | AQ12: =SUM(AN12:AP12) -> 3645
A13: 愛知県 | B13: 23205 | C13: 半田市 | D13: =+E13+F13 -> 117418 | E13: 117418 | F13: 0 | G13: 4770 | H13: =SUM(ごみ搬入量内訳!E13,+ごみ搬入量内訳!AD13) -> 26657 | I13: =ごみ搬入量内訳!BC13 -> 8531 | J13: =資源化量内訳!BR13 -> 2055 | K13: =SUM(H13:J13) -> 37243 | L13: =IF(D13<>0,K13/D13/366*1000000,"-") -> 866.62037 | M13: =IF(D13<>0,(ごみ搬入量内訳!BR13+ごみ処理概要!J13)/ごみ処理概要!D13/366*1000000,"-") -> 627.73723 | N13: =IF(D13<>0,(ごみ搬入量内訳!E13+ごみ搬入量内訳!BD13-ごみ搬入量内訳!R13-ごみ搬入量内訳!BH13)/D13/366*1000000,"-") -> 440.81455 | O13: =IF(D13<>0,ごみ搬入量内訳!CM13/ごみ処理概要!D13/366*1000000,"-") -> 238.88314 | P13: =ごみ搬入量内訳!DH13 -> 0 | Q13: =ごみ処理量内訳!E13 -> 23957 | R13: =ごみ処理量内訳!N13 -> 0 | S13: =SUM(T13:Z13) -> 11231 | T13: =ごみ処理量内訳!G13 -> 1792 | U13: =ごみ処理量内訳!L13 -> 5239 | V13: =ごみ処理量内訳!H13 -> 4200 | W13: =ごみ処理量内訳!I13 -> 0 | X13: =ごみ処理量内訳!J13 -> 0 | Y13: =ごみ処理量内訳!K13 -> 0 | Z13: =ごみ処理量内訳!M13 -> 0 | AA13: =資源化量内訳!Z13 -> 0 | AB13: =SUM(Q13,R13,S13,AA13) -> 35188 | AC13: =IF(AB13<>0,(AA13+Q13+S13)/AB13*100,"-") -> 100 | AD13: =施設資源化量内訳!Z13 -> 0 | AE13: =施設資源化量内訳!AV13 -> 0 | AF13: =施設資源化量内訳!BR13 -> 4200 | AG13: =施設資源化量内訳!CN13 -> 0 | AH13: =施設資源化量内訳!DJ13 -> 0 | AI13: =施設資源化量内訳!EF13 -> 0 | AJ13: =施設資源化量内訳!FB13 -> 5239 | AK13: =SUM(AD13:AJ13) -> 9439 | AL13: =IF((AB13+J13)<>0,(AA13+AK13+J13)/(AB13+J13)*100,"-") -> 30.862175 | AM13: =IF((AB13+J13)<>0,(資源化量内訳!D13-資源化量内訳!S13-資源化量内訳!U13-資源化量内訳!W13-資源化量内訳!V13)/(AB13+J13)*100,"-") -> 30.862175 | AN13: =ごみ処理量内訳!AA13 -> 0 | AO13: =ごみ処理量内訳!AB13 -> 1897 | AP13: =ごみ処理量内訳!AC13 -> 554 | AQ13: =SUM(AN13:AP13) -> 2451
A14: 愛知県 | B14: 23206 | C14: 春日井市 | D14: =+E14+F14 -> 307765 | E14: 307765 | F14: 0 | G14: 8710 | H14: =SUM(ごみ搬入量内訳!E14,+ごみ搬入量内訳!AD14) -> 77426 | I14: =ごみ搬入量内訳!BC14 -> 6586 | J14: =資源化量内訳!BR14 -> 702 | K14: =SUM(H14:J14) -> 84714 | L14: =IF(D14<>0,K14/D14/366*1000000,"-") -> 752.06413 | M14: =IF(D14<>0,(ごみ搬入量内訳!BR14+ごみ処理概要!J14)/ごみ処理概要!D14/366*1000000,"-") -> 565.01132 | N14: =IF(D14<>0,(ごみ搬入量内訳!E14+ごみ搬入量内訳!BD14-ごみ搬入量内訳!R14-ごみ搬入量内訳!BH14)/D14/366*1000000,"-") -> 470.02898 | O14: =IF(D14<>0,ごみ搬入量内訳!CM14/ごみ処理概要!D14/366*1000000,"-") -> 187.0528 | P14: =ごみ搬入量内訳!DH14 -> 0 | Q14: =ごみ処理量内訳!E14 -> 69951 | R14: =ごみ処理量内訳!N14 -> 511 | S14: =SUM(T14:Z14) -> 6618 | T14: =ごみ処理量内訳!G14 -> 4771 | U14: =ごみ処理量内訳!L14 -> 1847 | V14: =ごみ処理量内訳!H14 -> 0 | W14: =ごみ処理量内訳!I14 -> 0 | X14: =ごみ処理量内訳!J14 -> 0 | Y14: =ごみ処理量内訳!K14 -> 0 | Z14: =ごみ処理量内訳!M14 -> 0 | AA14: =資源化量内訳!Z14 -> 6932 | AB14: =SUM(Q14,R14,S14,AA14) -> 84012 | AC14: =IF(AB14<>0,(AA14+Q14+S14)/AB14*100,"-") -> 99.391754 | AD14: =施設資源化量内訳!Z14 -> 2979 | AE14: =施設資源化量内訳!AV14 -> 1034 | AF14: =施設資源化量内訳!BR14 -> 0 | AG14: =施設資源化量内訳!CN14 -> 0 | AH14: =施設資源化量内訳!DJ14 -> 0 | AI14: =施設資源化量内訳!EF14 -> 0 | AJ14: =施設資源化量内訳!FB14 -> 1846 | AK14: =SUM(AD14:AJ14) -> 5859 | AL14: =IF((AB14+J14)<>0,(AA14+AK14+J14)/(AB14+J14)*100,"-") -> 15.92771 | AM14: =IF((AB14+J14)<>0,(資源化量内訳!D14-資源化量内訳!S14-資源化量内訳!U14-資源化量内訳!W14-資源化量内訳!V14)/(AB14+J14)*100,"-") -> 12.411172 | AN14: =ごみ処理量内訳!AA14 -> 511 | AO14: =ごみ処理量内訳!AB14 -> 6045 | AP14: =ごみ処理量内訳!AC14 -> 372 | AQ14: =SUM(AN14:AP14) -> 6928
A15: 愛知県 | B15: 23207 | C15: 豊川市 | D15: =+E15+F15 -> 186364 | E15: 186364 | F15: 0 | G15: 7939 | H15: =SUM(ごみ搬入量内訳!E15,+ごみ搬入量内訳!AD15) -> 53859 | I15: =ごみ搬入量内訳!BC15 -> 9218 | J15: =資源化量内訳!BR15 -> 699 | K15: =SUM(H15:J15) -> 63776 | L15: =IF(D15<>0,K15/D15/366*1000000,"-") -> 935.00551 | M15: =IF(D15<>0,(ごみ搬入量内訳!BR15+ごみ処理概要!J15)/ごみ処理概要!D15/366*1000000,"-") -> 688.27934 | N15: =IF(D15<>0,(ごみ搬入量内訳!E15+ごみ搬入量内訳!BD15-ごみ搬入量内訳!R15-ごみ搬入量内訳!BH15)/D15/366*1000000,"-") -> 576.85746 | O15: =IF(D15<>0,ごみ搬入量内訳!CM15/ごみ処理概要!D15/366*1000000,"-") -> 246.72616 | P15: =ごみ搬入量内訳!DH15 -> 0 | Q15: =ごみ処理量内訳!E15 -> 51677 | R15: =ごみ処理量内訳!N15 -> 36 | S15: =SUM(T15:Z15) -> 6753 | T15: =ごみ処理量内訳!G15 -> 397 | U15: =ごみ処理量内訳!L15 -> 3087 | V15: =ごみ処理量内訳!H15 -> 1247 | W15: =ごみ処理量内訳!I15 -> 0 | X15: =ごみ処理量内訳!J15 -> 0 | Y15: =ごみ処理量内訳!K15 -> 2022 | Z15: =ごみ処理量内訳!M15 -> 0 | AA15: =資源化量内訳!Z15 -> 4608 | AB15: =SUM(Q15,R15,S15,AA15) -> 63074 | AC15: =IF(AB15<>0,(AA15+Q15+S15)/AB15*100,"-") -> 99.942924 | AD15: =施設資源化量内訳!Z15 -> 4968 | AE15: =施設資源化量内訳!AV15 -> 397 | AF15: =施設資源化量内訳!BR15 -> 982 | AG15: =施設資源化量内訳!CN15 -> 0 | AH15: =施設資源化量内訳!DJ15 -> 0 | AI15: =施設資源化量内訳!EF15 -> 854 | AJ15: =施設資源化量内訳!FB15 -> 2526 | AK15: =SUM(AD15:AJ15) -> 9727 | AL15: =IF((AB15+J15)<>0,(AA15+AK15+J15)/(AB15+J15)*100,"-") -> 23.57424 | AM15: =IF((AB15+J15)<>0,(資源化量内訳!D15-資源化量内訳!S15-資源化量内訳!U15-資源化量内訳!W15-資源化量内訳!V15)/(AB15+J15)*100,"-") -> 23.57424 | AN15: =ごみ処理量内訳!AA15 -> 36 | AO15: =ごみ処理量内訳!AB15 -> 1761 | AP15: =ごみ処理量内訳!AC15 -> 338 | AQ15: =SUM(AN15:AP15) -> 2135
A16: 愛知県 | B16: 23208 | C16: 津島市 | D16: =+E16+F16 -> 60204 | E16: 60204 | F16: 0 | G16: 2266 | H16: =SUM(ごみ搬入量内訳!E16,+ごみ搬入量内訳!AD16) -> 15379 | I16: =ごみ搬入量内訳!BC16 -> 163 | J16: =資源化量内訳!BR16 -> 0 | K16: =SUM(H16:J16) -> 15542 | L16: =IF(D16<>0,K16/D16/366*1000000,"-") -> 705.34318 | M16: =IF(D16<>0,(ごみ搬入量内訳!BR16+ごみ処理概要!J16)/ごみ処理概要!D16/366*1000000,"-") -> 538.01592 | N16: =IF(D16<>0,(ごみ搬入量内訳!E16+ごみ搬入量内訳!BD16-ごみ搬入量内訳!R16-ごみ搬入量内訳!BH16)/D16/366*1000000,"-") -> 487.45921 | O16: =IF(D16<>0,ごみ搬入量内訳!CM16/ごみ処理概要!D16/366*1000000,"-") -> 167.32726 | P16: =ごみ搬入量内訳!DH16 -> 0 | Q16: =ごみ処理量内訳!E16 -> 13612 | R16: =ごみ処理量内訳!N16 -> 1 | S16: =SUM(T16:Z16) -> 796 | T16: =ごみ処理量内訳!G16 -> 796 | U16: =ごみ処理量内訳!L16 -> 0 | V16: =ごみ処理量内訳!H16 -> 0 | W16: =ごみ処理量内訳!I16 -> 0 | X16: =ごみ処理量内訳!J16 -> 0 | Y16: =ごみ処理量内訳!K16 -> 0 | Z16: =ごみ処理量内訳!M16 -> 0 | AA16: =資源化量内訳!Z16 -> 1133 | AB16: =SUM(Q16,R16,S16,AA16) -> 15542 | AC16: =IF(AB16<>0,(AA16+Q16+S16)/AB16*100,"-") -> 99.993566 | AD16: =施設資源化量内訳!Z16 -> 1139 | AE16: =施設資源化量内訳!AV16 -> 105 | AF16: =施設資源化量内訳!BR16 -> 0 | AG16: =施設資源化量内訳!CN16 -> 0 | AH16: =施設資源化量内訳!DJ16 -> 0 | AI16: =施設資源化量内訳!EF16 -> 0 | AJ16: =施設資源化量内訳!FB16 -> 0 | AK16: =SUM(AD16:AJ16) -> 1244 | AL16: =IF((AB16+J16)<>0,(AA16+AK16+J16)/(AB16+J16)*100,"-") -> 15.294042 | AM16: =IF((AB16+J16)<>0,(資源化量内訳!D16-資源化量内訳!S16-資源化量内訳!U16-資源化量内訳!W16-資源化量内訳!V16)/(AB16+J16)*100,"-") -> 7.9655128 | AN16: =ごみ処理量内訳!AA16 -> 1 | AO16: =ごみ処理量内訳!AB16 -> 831 | AP16: =ごみ処理量内訳!AC16 -> 0 | AQ16: =SUM(AN16:AP16) -> 832
A17: 愛知県 | B17: 23209 | C17: 碧南市 | D17: =+E17+F17 -> 72540 | E17: 72540 | F17: 0 | G17: 6216 | H17: =SUM(ごみ搬入量内訳!E17,+ごみ搬入量内訳!AD17) -> 19442 | I17: =ごみ搬入量内訳!BC17 -> 5980 | J17: =資源化量内訳!BR17 -> 254 | K17: =SUM(H17:J17) -> 25676 | L17: =IF(D17<>0,K17/D17/366*1000000,"-") -> 967.09409 | M17: =IF(D17<>0,(ごみ搬入量内訳!BR17+ごみ処理概要!J17)/ごみ処理概要!D17/366*1000000,"-") -> 612.40002 | N17: =IF(D17<>0,(ごみ搬入量内訳!E17+ごみ搬入量内訳!BD17-ごみ搬入量内訳!R17-ごみ搬入量内訳!BH17)/D17/366*1000000,"-") -> 523.58525 | O17: =IF(D17<>0,ごみ搬入量内訳!CM17/ごみ処理概要!D17/366*1000000,"-") -> 354.69407 | P17: =ごみ搬入量内訳!DH17 -> 0 | Q17: =ごみ処理量内訳!E17 -> 17011 | R17: =ごみ処理量内訳!N17 -> 214 | S17: =SUM(T17:Z17) -> 6362 | T17: =ごみ処理量内訳!G17 -> 5789 | U17: =ごみ処理量内訳!L17 -> 500 | V17: =ごみ処理量内訳!H17 -> 0 | W17: =ごみ処理量内訳!I17 -> 73 | X17: =ごみ処理量内訳!J17 -> 0 | Y17: =ごみ処理量内訳!K17 -> 0 | Z17: =ごみ処理量内訳!M17 -> 0 | AA17: =資源化量内訳!Z17 -> 1835 | AB17: =SUM(Q17,R17,S17,AA17) -> 25422 | AC17: =IF(AB17<>0,(AA17+Q17+S17)/AB17*100,"-") -> 99.158209 | AD17: =施設資源化量内訳!Z17 -> 678 | AE17: =施設資源化量内訳!AV17 -> 447 | AF17: =施設資源化量内訳!BR17 -> 0 | AG17: =施設資源化量内訳!CN17 -> 73 | AH17: =施設資源化量内訳!DJ17 -> 0 | AI17: =施設資源化量内訳!EF17 -> 0 | AJ17: =施設資源化量内訳!FB17 -> 500 | AK17: =SUM(AD17:AJ17) -> 1698 | AL17: =IF((AB17+J17)<>0,(AA17+AK17+J17)/(AB17+J17)*100,"-") -> 14.749182 | AM17: =IF((AB17+J17)<>0,(資源化量内訳!D17-資源化量内訳!S17-資源化量内訳!U17-資源化量内訳!W17-資源化量内訳!V17)/(AB17+J17)*100,"-") -> 14.749182 | AN17: =ごみ処理量内訳!AA17 -> 214 | AO17: =ごみ処理量内訳!AB17 -> 2266 | AP17: =ごみ処理量内訳!AC17 -> 79 | AQ17: =SUM(AN17:AP17) -> 2559
A18: 愛知県 | B18: 23210 | C18: 刈谷市 | D18: =+E18+F18 -> 152786 | E18: 152786 | F18: 0 | G18: 5476 | H18: =SUM(ごみ搬入量内訳!E18,+ごみ搬入量内訳!AD18) -> 37248 | I18: =ごみ搬入量内訳!BC18 -> 10751 | J18: =資源化量内訳!BR18 -> 1806 | K18: =SUM(H18:J18) -> 49805 | L18: =IF(D18<>0,K18/D18/366*1000000,"-") -> 890.65251 | M18: =IF(D18<>0,(ごみ搬入量内訳!BR18+ごみ処理概要!J18)/ごみ処理概要!D18/366*1000000,"-") -> 604.45629 | N18: =IF(D18<>0,(ごみ搬入量内訳!E18+ごみ搬入量内訳!BD18-ごみ搬入量内訳!R18-ごみ搬入量内訳!BH18)/D18/366*1000000,"-") -> 513.00369 | O18: =IF(D18<>0,ごみ搬入量内訳!CM18/ごみ処理概要!D18/366*1000000,"-") -> 286.19622 | P18: =ごみ搬入量内訳!DH18 -> 0 | Q18: =ごみ処理量内訳!E18 -> 40846 | R18: =ごみ処理量内訳!N18 -> 385 | S18: =SUM(T18:Z18) -> 5619 | T18: =ごみ処理量内訳!G18 -> 2059 | U18: =ごみ処理量内訳!L18 -> 3160 | V18: =ごみ処理量内訳!H18 -> 400 | W18: =ごみ処理量内訳!I18 -> 0 | X18: =ごみ処理量内訳!J18 -> 0 | Y18: =ごみ処理量内訳!K18 -> 0 | Z18: =ごみ処理量内訳!M18 -> 0 | AA18: =資源化量内訳!Z18 -> 1136 | AB18: =SUM(Q18,R18,S18,AA18) -> 47986 | AC18: =IF(AB18<>0,(AA18+Q18+S18)/AB18*100,"-") -> 99.197683 | AD18: =施設資源化量内訳!Z18 -> 701 | AE18: =施設資源化量内訳!AV18 -> 539 | AF18: =施設資源化量内訳!BR18 -> 400 | AG18: =施設資源化量内訳!CN18 -> 0 | AH18: =施設資源化量内訳!DJ18 -> 0 | AI18: =施設資源化量内訳!EF18 -> 0 | AJ18: =施設資源化量内訳!FB18 -> 2810 | AK18: =SUM(AD18:AJ18) -> 4450 | AL18: =IF((AB18+J18)<>0,(AA18+AK18+J18)/(AB18+J18)*100,"-") -> 14.845758 | AM18: =IF((AB18+J18)<>0,(資源化量内訳!D18-資源化量内訳!S18-資源化量内訳!U18-資源化量内訳!W18-資源化量内訳!V18)/(AB18+J18)*100,"-") -> 13.437902 | AN18: =ごみ処理量内訳!AA18 -> 385 | AO18: =ごみ処理量内訳!AB18 -> 4452 | AP18: =ごみ処理量内訳!AC18 -> 232 | AQ18: =SUM(AN18:AP18) -> 5069
A19: 愛知県 | B19: 23211 | C19: 豊田市 | D19: =+E19+F19 -> 416880 | E19: 416880 | F19: 0 | G19: 19962 | H19: =SUM(ごみ搬入量内訳!E19,+ごみ搬入量内訳!AD19) -> 108741 | I19: =ごみ搬入量内訳!BC19 -> 18250 | J19: =資源化量内訳!BR19 -> 2284 | K19: =SUM(H19:J19) -> 129275 | L19: =IF(D19<>0,K19/D19/366*1000000,"-") -> 847.27112 | M19: =IF(D19<>0,(ごみ搬入量内訳!BR19+ごみ処理概要!J19)/ごみ処理概要!D19/366*1000000,"-") -> 589.94057 | N19: =IF(D19<>0,(ごみ搬入量内訳!E19+ごみ搬入量内訳!BD19-ごみ搬入量内訳!R19-ごみ搬入量内訳!BH19)/D19/366*1000000,"-") -> 496.30982 | O19: =IF(D19<>0,ごみ搬入量内訳!CM19/ごみ処理概要!D19/366*1000000,"-") -> 257.33054 | P19: =ごみ搬入量内訳!DH19 -> 0 | Q19: =ごみ処理量内訳!E19 -> 102905 | R19: =ごみ処理量内訳!N19 -> 1429 | S19: =SUM(T19:Z19) -> 18730 | T19: =ごみ処理量内訳!G19 -> 0 | U19: =ごみ処理量内訳!L19 -> 15710 | V19: =ごみ処理量内訳!H19 -> 2999 | W19: =ごみ処理量内訳!I19 -> 0 | X19: =ごみ処理量内訳!J19 -> 0 | Y19: =ごみ処理量内訳!K19 -> 21 | Z19: =ごみ処理量内訳!M19 -> 0 | AA19: =資源化量内訳!Z19 -> 6301 | AB19: =SUM(Q19,R19,S19,AA19) -> 129365 | AC19: =IF(AB19<>0,(AA19+Q19+S19)/AB19*100,"-") -> 98.895374 | AD19: =施設資源化量内訳!Z19 -> 2892 | AE19: =施設資源化量内訳!AV19 -> 0 | AF19: =施設資源化量内訳!BR19 -> 591 | AG19: =施設資源化量内訳!CN19 -> 0 | AH19: =施設資源化量内訳!DJ19 -> 0 | AI19: =施設資源化量内訳!EF19 -> 21 | AJ19: =施設資源化量内訳!FB19 -> 7215 | AK19: =SUM(AD19:AJ19) -> 10719 | AL19: =IF((AB19+J19)<>0,(AA19+AK19+J19)/(AB19+J19)*100,"-") -> 14.663233 | AM19: =IF((AB19+J19)<>0,(資源化量内訳!D19-資源化量内訳!S19-資源化量内訳!U19-資源化量内訳!W19-資源化量内訳!V19)/(AB19+J19)*100,"-") -> 14.663233 | AN19: =ごみ処理量内訳!AA19 -> 1429 | AO19: =ごみ処理量内訳!AB19 -> 6406 | AP19: =ごみ処理量内訳!AC19 -> 0 | AQ19: =SUM(AN19:AP19) -> 7835
... A61: 愛知県 | B61: 23563 | C61: 豊根村 | D61: =+E61+F61 -> 954 | E61: 954 | F61: 0 | G61: 17 | H61: =SUM(ごみ搬入量内訳!E61,+ごみ搬入量内訳!AD61) -> 199 | I61: =ごみ搬入量内訳!BC61 -> 81 | J61: =資源化量内訳!BR61 -> 0 | K61: =SUM(H61:J61) -> 280 | L61: =IF(D61<>0,K61/D61/366*1000000,"-") -> 801.91543 | M61: =IF(D61<>0,(ごみ搬入量内訳!BR61+ごみ処理概要!J61)/ごみ処理概要!D61/366*1000000,"-") -> 652.98828 | N61: =IF(D61<>0,(ごみ搬入量内訳!E61+ごみ搬入量内訳!BD61-ごみ搬入量内訳!R61-ごみ搬入量内訳!BH61)/D61/366*1000000,"-") -> 581.38869 | O61: =IF(D61<>0,ごみ搬入量内訳!CM61/ごみ処理概要!D61/366*1000000,"-") -> 148.92715 | P61: =ごみ搬入量内訳!DH61 -> 0 | Q61: =ごみ処理量内訳!E61 -> 224 | R61: =ごみ処理量内訳!N61 -> 0 | S61: =SUM(T61:Z61) -> 33 | T61: =ごみ処理量内訳!G61 -> 10 | U61: =ごみ処理量内訳!L61 -> 18 | V61: =ごみ処理量内訳!H61 -> 0 | W61: =ごみ処理量内訳!I61 -> 0 | X61: =ごみ処理量内訳!J61 -> 0 | Y61: =ごみ処理量内訳!K61 -> 0 | Z61: =ごみ処理量内訳!M61 -> 5 | AA61: =資源化量内訳!Z61 -> 23 | AB61: =SUM(Q61,R61,S61,AA61) -> 280 | AC61: =IF(AB61<>0,(AA61+Q61+S61)/AB61*100,"-") -> 100 | AD61: =施設資源化量内訳!Z61 -> 0 | AE61: =施設資源化量内訳!AV61 -> 0 | AF61: =施設資源化量内訳!BR61 -> 0 | AG61: =施設資源化量内訳!CN61 -> 0 | AH61: =施設資源化量内訳!DJ61 -> 0 | AI61: =施設資源化量内訳!EF61 -> 0 | AJ61: =施設資源化量内訳!FB61 -> 18 | AK61: =SUM(AD61:AJ61) -> 18 | AL61: =IF((AB61+J61)<>0,(AA61+AK61+J61)/(AB61+J61)*100,"-") -> 14.642857 | AM61: =IF((AB61+J61)<>0,(資源化量内訳!D61-資源化量内訳!S61-資源化量内訳!U61-資源化量内訳!W61-資源化量内訳!V61)/(AB61+J61)*100,"-") -> 14.642857 | AN61: =ごみ処理量内訳!AA61 -> 0 | AO61: =ごみ処理量内訳!AB61 -> 41 | AP61: =ごみ処理量内訳!AC61 -> 5 | AQ61: =SUM(AN61:AP61) -> 46

Sheet ごみ搬入量内訳
A1: ごみ搬入量の状況（令和5年度実績）
A2: 都道府県名 | B2: 地方公共団体コード | C2: 市区町村名 | D2: ごみ搬入量 (生活系ごみ収集量+事業系ごみ収集量+直接搬入量) | BR2: 生活系ごみ搬入量 | CM2: 事業系ごみ搬入量 | DH2: 自家処理量 | DI2: 家電４品目収集量(直営+委託+許可+直接搬入)
E3: 生活系ごみ収集量 (混合ごみ+可燃ごみ+不燃ごみ+資源ごみ+その他+粗大ごみ) | AD3: 事業系ごみ収集量 (混合ごみ+可燃ごみ+不燃ごみ+資源ごみ+その他+粗大ごみ) | BC3: 直接搬入量 | BS3: 生活系ごみ収集量＋直接搬入量 | CN3: 事業系ごみ収集量＋直接搬入量 | DI3: 合計 | DJ3: 直営 | DK3: 委託 | DL3: 許可 | DM3: 直接搬入
F4: 混合ごみ (直営+委託+許可) | J4: 可燃ごみ (直営+委託+許可) | N4: 不燃ごみ (直営+委託+許可) | R4: 資源ごみ (直営+委託+許可) | V4: その他のごみ (直営+委託+許可) | Z4: 粗大ごみ (直営+委託+許可) | AE4: 混合ごみ (直営+委託+許可) | AI4: 可燃ごみ (直営+委託+許可) | AM4: 不燃ごみ (直営+委託+許可) | AQ4: 資源ごみ (直営+委託+許可) | AU4: その他のごみ (直営+委託+許可) | AY4: 粗大ごみ (直営+委託+許可) | BD4: 直接搬入量（生活系ごみ） | BK4: 直接搬入量（事業系ごみ） | BY4: 生活系ごみ収集量 (混合ごみ+可燃ごみ+不燃ごみ+資源ごみ+その他+粗大ごみ) | CF4: 直接搬入量(混合ごみ+可燃ごみ+不燃ごみ+資源ごみ+その他+粗大ごみ) | CT4: 事業系ごみ収集量 (混合ごみ+可燃ごみ+不燃ごみ+資源ごみ+その他+粗大ごみ) | DA4: 直接搬入量(混合ごみ+可燃ごみ+不燃ごみ+資源ごみ+その他+粗大ごみ)
D5: 合計 | E5: 合計 | F5: 合計 | G5: 直営 | H5: 委託 | I5: 許可 | J5: 合計 | K5: 直営 | L5: 委託 | M5: 許可 | N5: 合計 | O5: 直営 | P5: 委託 | Q5: 許可 | R5: 合計 | S5: 直営 | T5: 委託 | U5: 許可 | V5: 合計 | W5: 直営 | X5: 委託 | Y5: 許可 | Z5: 合計 | AA5: 直営 | AB5: 委託 | AC5: 許可 | AD5: 合計 | AE5: 合計 | AF5: 直営 | AG5: 委託 | AH5: 許可 | AI5: 合計 | AJ5: 直営 | AK5: 委託 | AL5: 許可 | AM5: 合計 | AN5: 直営 | AO5: 委託 | AP5: 許可 | AQ5: 合計 | AR5: 直営 | AS5: 委託 | AT5: 許可 | AU5: 合計 | AV5: 直営 | AW5: 委託 | AX5: 許可 | AY5: 合計 | AZ5: 直営 | BA5: 委託 | BB5: 許可 | BC5: 合計 | BD5: 合計 | BE5: 混合ごみ | BF5: 可燃ごみ | BG5: 不燃ごみ | BH5: 資源ごみ | BI5: その他のごみ | BJ5: 粗大ごみ | BK5: 合計 | BL5: 混合ごみ | BM5: 可燃ごみ | BN5: 不燃ごみ | BO5: 資源ごみ | BP5: その他のごみ | BQ5: 粗大ごみ | BR5: 合計 | BS5: 混合ごみ | BT5: 可燃ごみ | BU5: 不燃ごみ | BV5: 資源ごみ | BW5: その他のごみ | BX5: 粗大ごみ | BY5: 合計 | BZ5: 混合ごみ | CA5: 可燃ごみ | CB5: 不燃ごみ | CC5: 資源ごみ | CD5: その他のごみ | CE5: 粗大ごみ | CF5: 合計 | CG5: 混合ごみ | CH5: 可燃ごみ | CI5: 不燃ごみ | CJ5: 資源ごみ | CK5: その他のごみ | CL5: 粗大ごみ | CM5: 合計 | CN5: 混合ごみ | CO5: 可燃ごみ | CP5: 不燃ごみ | CQ5: 資源ごみ | CR5: その他のごみ | CS5: 粗大ごみ | CT5: 合計 | CU5: 混合ごみ | CV5: 可燃ごみ | CW5: 不燃ごみ | CX5: 資源ごみ | CY5: その他のごみ | CZ5: 粗大ごみ | DA5: 合計 | DB5: 混合ごみ | DC5: 可燃ごみ | DD5: 不燃ごみ | DE5: 資源ごみ | DF5: その他のごみ | DG5: 粗大ごみ
D6: （ｔ） | E6: （ｔ） | F6: （ｔ） | G6: （ｔ） | H6: （ｔ） | I6: （ｔ） | J6: （ｔ） | K6: （ｔ） | L6: （ｔ） | M6: （ｔ） | N6: （ｔ） | O6: （ｔ） | P6: （ｔ） | Q6: （ｔ） | R6: （ｔ） | S6: （ｔ） | T6: （ｔ） | U6: （ｔ） | V6: （ｔ） | W6: （ｔ） | X6: （ｔ） | Y6: （ｔ） | Z6: （ｔ） | AA6: （ｔ） | AB6: （ｔ） | AC6: （ｔ） | AD6: （ｔ） | AE6: （ｔ） | AF6: （ｔ） | AG6: （ｔ） | AH6: （ｔ） | AI6: （ｔ） | AJ6: （ｔ） | AK6: （ｔ） | AL6: （ｔ） | AM6: （ｔ） | AN6: （ｔ） | AO6: （ｔ） | AP6: （ｔ） | AQ6: （ｔ） | AR6: （ｔ） | AS6: （ｔ） | AT6: （ｔ） | AU6: （ｔ） | AV6: （ｔ） | AW6: （ｔ） | AX6: （ｔ） | AY6: （ｔ） | AZ6: （ｔ） | BA6: （ｔ） | BB6: （ｔ） | BC6: （ｔ） | BD6: （ｔ） | BE6: （ｔ） | BF6: （ｔ） | BG6: （ｔ） | BH6: （ｔ） | BI6: （ｔ） | BJ6: （ｔ） | BK6: （ｔ） | BL6: （ｔ） | BM6: （ｔ） | BN6: （ｔ） | BO6: （ｔ） | BP6: （ｔ） | BQ6: （ｔ） | BR6: （ｔ） | BS6: （ｔ） | BT6: （ｔ） | BU6: （ｔ） | BV6: （ｔ） | BW6: （ｔ） | BX6: （ｔ） | BY6: （ｔ） | BZ6: （ｔ） | CA6: （ｔ） | CB6: （ｔ） | CC6: （ｔ） | CD6: （ｔ） | CE6: （ｔ） | CF6: （ｔ） | CG6: （ｔ） | CH6: （ｔ） | CI6: （ｔ） | CJ6: （ｔ） | CK6: （ｔ） | CL6: （ｔ） | CM6: （ｔ） | CN6: （ｔ） | CO6: （ｔ） | CP6: （ｔ） | CQ6: （ｔ） | CR6: （ｔ） | CS6: （ｔ） | CT6: （ｔ） | CU6: （ｔ） | CV6: （ｔ） | CW6: （ｔ） | CX6: （ｔ） | CY6: （ｔ） | CZ6: （ｔ） | DA6: （ｔ） | DB6: （ｔ） | DC6: （ｔ） | DD6: （ｔ） | DE6: （ｔ） | DF6: （ｔ） | DG6: （ｔ） | DH6: （ｔ） | DI6: (t) | DJ6: （ｔ） | DK6: （ｔ） | DL6: （ｔ） | DM6: （ｔ）
A7: =ごみ処理概要!A7 -> 愛知県 | B7: =ごみ処理概要!B7 -> 23000 | C7: 合計 | D7: =SUM(E7,AD7,BC7) -> 2197221 | E7: =SUM(F7,J7,N7,R7,V7,Z7) -> 1455584 | F7: =SUM(G7:I7) -> 0 | G7: =SUM(G$8:G$207) -> 0 | H7: =SUM(H$8:H$207) -> 0 | I7: =SUM(I$8:I$207) -> 0 | J7: =SUM(K7:M7) -> 1170511 | K7: =SUM(K$8:K$207) -> 370660 | L7: =SUM(L$8:L$207) -> 799012 | M7: =SUM(M$8:M$207) -> 839 | N7: =SUM(O7:Q7) -> 50103 | O7: =SUM(O$8:O$207) -> 20835 | P7: =SUM(P$8:P$207) -> 29102 | Q7: =SUM(Q$8:Q$207) -> 166 | R7: =SUM(S7:U7) -> 213854 | S7: =SUM(S$8:S$207) -> 60008 | T7: =SUM(T$8:T$207) -> 152815 | U7: =SUM(U$8:U$207) -> 1031 | V7: =SUM(W7:Y7) -> 3374 | W7: =SUM(W$8:W$207) -> 1769 | X7: =SUM(X$8:X$207) -> 1605 | Y7: =SUM(Y$8:Y$207) -> 0 | Z7: =SUM(AA7:AC7) -> 17742 | AA7: =SUM(AA$8:AA$207) -> 10654 | AB7: =SUM(AB$8:AB$207) -> 6776 | AC7: =SUM(AC$8:AC$207) -> 312 | AD7: =SUM(AE7,AI7,AM7,AQ7,AU7,AY7) -> 495289 | AE7: =SUM(AF7:AH7) -> 0 | AF7: =SUM(AF$8:AF$207) -> 0 | AG7: =SUM(AG$8:AG$207) -> 0 | AH7: =SUM(AH$8:AH$207) -> 0 | AI7: =SUM(AJ7:AL7) -> 449528 | AJ7: =SUM(AJ$8:AJ$207) -> 228 | AK7: =SUM(AK$8:AK$207) -> 1390 | AL7: =SUM(AL$8:AL$207) -> 447910 | AM7: =SUM(AN7:AP7) -> 3132 | AN7: =SUM(AN$8:AN$207) -> 0 | AO7: =SUM(AO$8:AO$207) -> 69 | AP7: =SUM(AP$8:AP$207) -> 3063 | AQ7: =SUM(AR7:AT7) -> 41731 | AR7: =SUM(AR$8:AR$207) -> 115 | AS7: =SUM(AS$8:AS$207) -> 673 | AT7: =SUM(AT$8:AT$207) -> 40943 | AU7: =SUM(AV7:AX7) -> 0 | AV7: =SUM(AV$8:AV$207) -> 0 | AW7: =SUM(AW$8:AW$207) -> 0 | AX7: =SUM(AX$8:AX$207) -> 0 | AY7: =SUM(AZ7:BB7) -> 898 | AZ7: =SUM(AZ$8:AZ$207) -> 0 | BA7: =SUM(BA$8:BA$207) -> 0 | BB7: =SUM(BB$8:BB$207) -> 898 | BC7: =SUM(BD7,BK7) -> 246348 | BD7: =SUM(BE7:BJ7) -> 87706 | BE7: =SUM(BE$8:BE$207) -> 0 | BF7: =SUM(BF$8:BF$207) -> 24670 | BG7: =SUM(BG$8:BG$207) -> 12907 | BH7: =SUM(BH$8:BH$207) -> 25236 | BI7: =SUM(BI$8:BI$207) -> 1542 | BJ7: =SUM(BJ$8:BJ$207) -> 23351 | BK7: =SUM(BL7:BQ7) -> 158642 | BL7: =SUM(BL$8:BL$207) -> 0 | BM7: =SUM(BM$8:BM$207) -> 83481 | BN7: =SUM(BN$8:BN$207) -> 10867 | BO7: =SUM(BO$8:BO$207) -> 59059 | BP7: =SUM(BP$8:BP$207) -> 634 | BQ7: =SUM(BQ$8:BQ$207) -> 4601 | BR7: =SUM(BY7,CF7) -> 1543290 | BS7: =SUM(BZ7,CG7) -> 0 | BT7: =SUM(CA7,CH7) -> 1195181 | BU7: =SUM(CB7,CI7) -> 63010 | BV7: =SUM(CC7,CJ7) -> 239090 | BW7: =SUM(CD7,CK7) -> 4916 | BX7: =SUM(CE7,CL7) -> 41093 | BY7: =SUM(BZ7:CE7) -> 1455584 | BZ7: =F7 -> 0 | CA7: =J7 -> 1170511 | CB7: =N7 -> 50103 | CC7: =R7 -> 213854 | CD7: =V7 -> 3374 | CE7: =Z7 -> 17742 | CF7: =SUM(CG7:CL7) -> 87706 | CG7: =BE7 -> 0 | CH7: =BF7 -> 24670 | CI7: =BG7 -> 12907 | CJ7: =BH7 -> 25236 | CK7: =BI7 -> 1542 | CL7: =BJ7 -> 23351 | CM7: =SUM(CT7,DA7) -> 653931 | CN7: =SUM(CU7,DB7) -> 0 | CO7: =SUM(CV7,DC7) -> 533009 | CP7: =SUM(CW7,DD7) -> 13999 | CQ7: =SUM(CX7,DE7) -> 100790 | CR7: =SUM(CY7,DF7) -> 634 | CS7: =SUM(CZ7,DG7) -> 5499 | CT7: =SUM(CU7:CZ7) -> 495289 | CU7: =AE7 -> 0 | CV7: =AI7 -> 449528 | CW7: =AM7 -> 3132 | CX7: =AQ7 -> 41731 | CY7: =AU7 -> 0 | CZ7: =AY7 -> 898 | DA7: =SUM(DB7:DG7) -> 158642 | DB7: =BL7 -> 0 | DC7: =BM7 -> 83481 | DD7: =BN7 -> 10867 | DE7: =BO7 -> 59059 | DF7: =BP7 -> 634 | DG7: =BQ7 -> 4601 | DH7: =SUM(DH$8:DH$207) -> 0 | DI7: =SUM(DJ7:DM7) -> 354 | DJ7: =SUM(DJ$8:DJ$207) -> 97 | DK7: =SUM(DK$8:DK$207) -> 10 | DL7: =SUM(DL$8:DL$207) -> 131 | DM7: =SUM(DM$8:DM$207) -> 116
A8: 愛知県 | B8: 23100 | C8: 名古屋市 | D8: =SUM(E8,AD8,BC8) -> 666060 | E8: =SUM(F8,J8,N8,R8,V8,Z8) -> 436558 | F8: =SUM(G8:I8) -> 0 | G8: 0 | H8: 0 | I8: 0 | J8: =SUM(K8:M8) -> 354513 | K8: 185386 | L8: 169127 | M8: 0 | N8: =SUM(O8:Q8) -> 14095 | O8: 8914 | P8: 5181 | Q8: 0 | R8: =SUM(S8:U8) -> 57975 | S8: 26519 | T8: 31456 | U8: 0 | V8: =SUM(W8:Y8) -> 1590 | W8: 1353 | X8: 237 | Y8: 0 | Z8: =SUM(AA8:AC8) -> 8385 | AA8: 7836 | AB8: 549 | AC8: 0 | AD8: =SUM(AE8,AI8,AM8,AQ8,AU8,AY8) -> 185298 | AE8: =SUM(AF8:AH8) -> 0 | AF8: 0 | AG8: 0 | AH8: 0 | AI8: =SUM(AJ8:AL8) -> 159158 | AJ8: 0 | AK8: 0 | AL8: 159158 | AM8: =SUM(AN8:AP8) -> 2768 | AN8: 0 | AO8: 0 | AP8: 2768 | AQ8: =SUM(AR8:AT8) -> 23372 | AR8: 0 | AS8: 0 | AT8: 23372 | AU8: =SUM(AV8:AX8) -> 0 | AV8: 0 | AW8: 0 | AX8: 0 | AY8: =SUM(AZ8:BB8) -> 0 | AZ8: 0 | BA8: 0 | BB8: 0 | BC8: =SUM(BD8,BK8) -> 44204 | BD8: =SUM(BE8:BJ8) -> 414 | BE8: 0 | BF8: 0 | BG8: 0 | BH8: 321 | BI8: 93 | BJ8: 0 | BK8: =SUM(BL8:BQ8) -> 43790 | BL8: 0 | BM8: 8240 | BN8: 5568 | BO8: 29982 | BP8: 0 | BQ8: 0 | BR8: =SUM(BY8,CF8) -> 436972 | BS8: =SUM(BZ8,CG8) -> 0 | BT8: =SUM(CA8,CH8) -> 354513 | BU8: =SUM(CB8,CI8) -> 14095 | BV8: =SUM(CC8,CJ8) -> 58296 | BW8: =SUM(CD8,CK8) -> 1683 | BX8: =SUM(CE8,CL8) -> 8385 | BY8: =SUM(BZ8:CE8) -> 436558 | BZ8: =F8 -> 0 | CA8: =J8 -> 354513 | CB8: =N8 -> 14095 | CC8: =R8 -> 57975 | CD8: =V8 -> 1590 | CE8: =Z8 -> 8385 | CF8: =SUM(CG8:CL8) -> 414 | CG8: =BE8 -> 0 | CH8: =BF8 -> 0 | CI8: =BG8 -> 0 | CJ8: =BH8 -> 321 | CK8: =BI8 -> 93 | CL8: =BJ8 -> 0 | CM8: =SUM(CT8,DA8) -> 229088 | CN8: =SUM(CU8,DB8) -> 0 | CO8: =SUM(CV8,DC8) -> 167398 | CP8: =SUM(CW8,DD8) -> 8336 | CQ8: =SUM(CX8,DE8) -> 53354 | CR8: =SUM(CY8,DF8) -> 0 | CS8: =SUM(CZ8,DG8) -> 0 | CT8: =SUM(CU8:CZ8) -> 185298 | CU8: =AE8 -> 0 | CV8: =AI8 -> 159158 | CW8: =AM8 -> 2768 | CX8: =AQ8 -> 23372 | CY8: =AU8 -> 0 | CZ8: =AY8 -> 0 | DA8: =SUM(DB8:DG8) -> 43790 | DB8: =BL8 -> 0 | DC8: =BM8 -> 8240 | DD8: =BN8 -> 5568 | DE8: =BO8 -> 29982 | DF8: =BP8 -> 0 | DG8: =BQ8 -> 0 | DH8: 0 | DI8: =SUM(DJ8:DM8) -> 116 | DJ8: 9 | DK8: 0 | DL8: 107 | DM8: 0
A9: 愛知県 | B9: 23201 | C9: 豊橋市 | D9: =SUM(E9,AD9,BC9) -> 114925 | E9: =SUM(F9,J9,N9,R9,V9,Z9) -> 71485 | F9: =SUM(G9:I9) -> 0 | G9: 0 | H9: 0 | I9: 0 | J9: =SUM(K9:M9) -> 45747 | K9: 29816 | L9: 15931 | M9: 0 | N9: =SUM(O9:Q9) -> 3895 | O9: 2696 | P9: 1199 | Q9: 0 | R9: =SUM(S9:U9) -> 21343 | S9: 14583 | T9: 6760 | U9: 0 | V9: =SUM(W9:Y9) -> 170 | W9: 111 | X9: 59 | Y9: 0 | Z9: =SUM(AA9:AC9) -> 330 | AA9: 330 | AB9: 0 | AC9: 0 | AD9: =SUM(AE9,AI9,AM9,AQ9,AU9,AY9) -> 24367 | AE9: =SUM(AF9:AH9) -> 0 | AF9: 0 | AG9: 0 | AH9: 0 | AI9: =SUM(AJ9:AL9) -> 21516 | AJ9: 0 | AK9: 0 | AL9: 21516 | AM9: =SUM(AN9:AP9) -> 0 | AN9: 0 | AO9: 0 | AP9: 0 | AQ9: =SUM(AR9:AT9) -> 2851 | AR9: 0 | AS9: 0 | AT9: 2851 | AU9: =SUM(AV9:AX9) -> 0 | AV9: 0 | AW9: 0 | AX9: 0 | AY9: =SUM(AZ9:BB9) -> 0 | AZ9: 0 | BA9: 0 | BB9: 0 | BC9: =SUM(BD9,BK9) -> 19073 | BD9: =SUM(BE9:BJ9) -> 5448 | BE9: 0 | BF9: 0 | BG9: 2132 | BH9: 669 | BI9: 0 | BJ9: 2647 | BK9: =SUM(BL9:BQ9) -> 13625 | BL9: 0 | BM9: 12211 | BN9: 983 | BO9: 431 | BP9: 0 | BQ9: 0 | BR9: =SUM(BY9,CF9) -> 76933 | BS9: =SUM(BZ9,CG9) -> 0 | BT9: =SUM(CA9,CH9) -> 45747 | BU9: =SUM(CB9,CI9) -> 6027 | BV9: =SUM(CC9,CJ9) -> 22012 | BW9: =SUM(CD9,CK9) -> 170 | BX9: =SUM(CE9,CL9) -> 2977 | BY9: =SUM(BZ9:CE9) -> 71485 | BZ9: =F9 -> 0 | CA9: =J9 -> 45747 | CB9: =N9 -> 3895 | CC9: =R9 -> 21343 | CD9: =V9 -> 170 | CE9: =Z9 -> 330 | CF9: =SUM(CG9:CL9) -> 5448 | CG9: =BE9 -> 0 | CH9: =BF9 -> 0 | CI9: =BG9 -> 2132 | CJ9: =BH9 -> 669 | CK9: =BI9 -> 0 | CL9: =BJ9 -> 2647 | CM9: =SUM(CT9,DA9) -> 37992 | CN9: =SUM(CU9,DB9) -> 0 | CO9: =SUM(CV9,DC9) -> 33727 | CP9: =SUM(CW9,DD9) -> 983 | CQ9: =SUM(CX9,DE9) -> 3282 | CR9: =SUM(CY9,DF9) -> 0 | CS9: =SUM(CZ9,DG9) -> 0 | CT9: =SUM(CU9:CZ9) -> 24367 | CU9: =AE9 -> 0 | CV9: =AI9 -> 21516 | CW9: =AM9 -> 0 | CX9: =AQ9 -> 2851 | CY9: =AU9 -> 0 | CZ9: =AY9 -> 0 | DA9: =SUM(DB9:DG9) -> 13625 | DB9: =BL9 -> 0 | DC9: =BM9 -> 12211 | DD9: =BN9 -> 983 | DE9: =BO9 -> 431 | DF9: =BP9 -> 0 | DG9: =BQ9 -> 0 | DH9: 0 | DI9: =SUM(DJ9:DM9) -> 22 | DJ9: 22 | DK9: 0 | DL9: 0 | DM9: 0
A10: 愛知県 | B10: 23202 | C10: 岡崎市 | D10: =SUM(E10,AD10,BC10) -> 119690 | E10: =SUM(F10,J10,N10,R10,V10,Z10) -> 73952 | F10: =SUM(G10:I10) -> 0 | G10: 0 | H10: 0 | I10: 0 | J10: =SUM(K10:M10) -> 63524 | K10: 18854 | L10: 44670 | M10: 0 | N10: =SUM(O10:Q10) -> 2236 | O10: 2236 | P10: 0 | Q10: 0 | R10: =SUM(S10:U10) -> 7885 | S10: 2952 | T10: 4933 | U10: 0 | V10: =SUM(W10:Y10) -> 129 | W10: 0 | X10: 129 | Y10: 0 | Z10: =SUM(AA10:AC10) -> 178 | AA10: 178 | AB10: 0 | AC10: 0 | AD10: =SUM(AE10,AI10,AM10,AQ10,AU10,AY10) -> 27022 | AE10: =SUM(AF10:AH10) -> 0 | AF10: 0 | AG10: 0 | AH10: 0 | AI10: =SUM(AJ10:AL10) -> 27021 | AJ10: 0 | AK10: 0 | AL10: 27021 | AM10: =SUM(AN10:AP10) -> 0 | AN10: 0 | AO10: 0 | AP10: 0 | AQ10: =SUM(AR10:AT10) -> 1 | AR10: 0 | AS10: 0 | AT10: 1 | AU10: =SUM(AV10:AX10) -> 0 | AV10: 0 | AW10: 0 | AX10: 0 | AY10: =SUM(AZ10:BB10) -> 0 | AZ10: 0 | BA10: 0 | BB10: 0 | BC10: =SUM(BD10,BK10) -> 18716 | BD10: =SUM(BE10:BJ10) -> 7619 | BE10: 0 | BF10: 4831 | BG10: 2788 | BH10: 0 | BI10: 0 | BJ10: 0 | BK10: =SUM(BL10:BQ10) -> 11097 | BL10: 0 | BM10: 8219 | BN10: 2876 | BO10: 2 | BP10: 0 | BQ10: 0 | BR10: =SUM(BY10,CF10) -> 81571 | BS10: =SUM(BZ10,CG10) -> 0 | BT10: =SUM(CA10,CH10) -> 68355 | BU10: =SUM(CB10,CI10) -> 5024 | BV10: =SUM(CC10,CJ10) -> 7885 | BW10: =SUM(CD10,CK10) -> 129 | BX10: =SUM(CE10,CL10) -> 178 | BY10: =SUM(BZ10:CE10) -> 73952 | BZ10: =F10 -> 0 | CA10: =J10 -> 63524 | CB10: =N10 -> 2236 | CC10: =R10 -> 7885 | CD10: =V10 -> 129 | CE10: =Z10 -> 178 | CF10: =SUM(CG10:CL10) -> 7619 | CG10: =BE10 -> 0 | CH10: =BF10 -> 4831 | CI10: =BG10 -> 2788 | CJ10: =BH10 -> 0 | CK10: =BI10 -> 0 | CL10: =BJ10 -> 0 | CM10: =SUM(CT10,DA10) -> 38119 | CN10: =SUM(CU10,DB10) -> 0 | CO10: =SUM(CV10,DC10) -> 35240 | CP10: =SUM(CW10,DD10) -> 2876 | CQ10: =SUM(CX10,DE10) -> 3 | CR10: =SUM(CY10,DF10) -> 0 | CS10: =SUM(CZ10,DG10) -> 0 | CT10: =SUM(CU10:CZ10) -> 27022 | CU10: =AE10 -> 0 | CV10: =AI10 -> 27021 | CW10: =AM10 -> 0 | CX10: =AQ10 -> 1 | CY10: =AU10 -> 0 | CZ10: =AY10 -> 0 | DA10: =SUM(DB10:DG10) -> 11097 | DB10: =BL10 -> 0 | DC10: =BM10 -> 8219 | DD10: =BN10 -> 2876 | DE10: =BO10 -> 2 | DF10: =BP10 -> 0 | DG10: =BQ10 -> 0 | DH10: 0 | DI10: =SUM(DJ10:DM10) -> 0 | DJ10: 0 | DK10: 0 | DL10: 0 | DM10: 0
A11: 愛知県 | B11: 23203 | C11: 一宮市 | D11: =SUM(E11,AD11,BC11) -> 112346 | E11: =SUM(F11,J11,N11,R11,V11,Z11) -> 79265 | F11: =SUM(G11:I11) -> 0 | G11: 0 | H11: 0 | I11: 0 | J11: =SUM(K11:M11) -> 63045 | K11: 8506 | L11: 54539 | M11: 0 | N11: =SUM(O11:Q11) -> 4098 | O11: 184 | P11: 3914 | Q11: 0 | R11: =SUM(S11:U11) -> 11132 | S11: 646 | T11: 10472 | U11: 14 | V11: =SUM(W11:Y11) -> 95 | W11: 17 | X11: 78 | Y11: 0 | Z11: =SUM(AA11:AC11) -> 895 | AA11: 14 | AB11: 580 | AC11: 301 | AD11: =SUM(AE11,AI11,AM11,AQ11,AU11,AY11) -> 23505 | AE11: =SUM(AF11:AH11) -> 0 | AF11: 0 | AG11: 0 | AH11: 0 | AI11: =SUM(AJ11:AL11) -> 18395 | AJ11: 0 | AK11: 0 | AL11: 18395 | AM11: =SUM(AN11:AP11) -> 0 | AN11: 0 | AO11: 0 | AP11: 0 | AQ11: =SUM(AR11:AT11) -> 5110 | AR11: 0 | AS11: 0 | AT11: 5110 | AU11: =SUM(AV11:AX11) -> 0 | AV11: 0 | AW11: 0 | AX11: 0 | AY11: =SUM(AZ11:BB11) -> 0 | AZ11: 0 | BA11: 0 | BB11: 0 | BC11: =SUM(BD11,BK11) -> 9576 | BD11: =SUM(BE11:BJ11) -> 4798 | BE11: 0 | BF11: 1001 | BG11: 1904 | BH11: 1133 | BI11: 760 | BJ11: 0 | BK11: =SUM(BL11:BQ11) -> 4778 | BL11: 0 | BM11: 4778 | BN11: 0 | BO11: 0 | BP11: 0 | BQ11: 0 | BR11: =SUM(BY11,CF11) -> 84063 | BS11: =SUM(BZ11,CG11) -> 0 | BT11: =SUM(CA11,CH11) -> 64046 | BU11: =SUM(CB11,CI11) -> 6002 | BV11: =SUM(CC11,CJ11) -> 12265 | BW11: =SUM(CD11,CK11) -> 855 | BX11: =SUM(CE11,CL11) -> 895 | BY11: =SUM(BZ11:CE11) -> 79265 | BZ11: =F11 -> 0 | CA11: =J11 -> 63045 | CB11: =N11 -> 4098 | CC11: =R11 -> 11132 | CD11: =V11 -> 95 | CE11: =Z11 -> 895 | CF11: =SUM(CG11:CL11) -> 4798 | CG11: =BE11 -> 0 | CH11: =BF11 -> 1001 | CI11: =BG11 -> 1904 | CJ11: =BH11 -> 1133 | CK11: =BI11 -> 760 | CL11: =BJ11 -> 0 | CM11: =SUM(CT11,DA11) -> 28283 | CN11: =SUM(CU11,DB11) -> 0 | CO11: =SUM(CV11,DC11) -> 23173 | CP11: =SUM(CW11,DD11) -> 0 | CQ11: =SUM(CX11,DE11) -> 5110 | CR11: =SUM(CY11,DF11) -> 0 | CS11: =SUM(CZ11,DG11) -> 0 | CT11: =SUM(CU11:CZ11) -> 23505 | CU11: =AE11 -> 0 | CV11: =AI11 -> 18395 | CW11: =AM11 -> 0 | CX11: =AQ11 -> 5110 | CY11: =AU11 -> 0 | CZ11: =AY11 -> 0 | DA11: =SUM(DB11:DG11) -> 4778 | DB11: =BL11 -> 0 | DC11: =BM11 -> 4778 | DD11: =BN11 -> 0 | DE11: =BO11 -> 0 | DF11: =BP11 -> 0 | DG11: =BQ11 -> 0 | DH11: 0 | DI11: =SUM(DJ11:DM11) -> 0 | DJ11: 0 | DK11: 0 | DL11: 0 | DM11: 0
A12: 愛知県 | B12: 23204 | C12: 瀬戸市 | D12: =SUM(E12,AD12,BC12) -> 35950 | E12: =SUM(F12,J12,N12,R12,V12,Z12) -> 25848 | F12: =SUM(G12:I12) -> 0 | G12: 0 | H12: 0 | I12: 0 | J12: =SUM(K12:M12) -> 20928 | K12: 123 | L12: 20805 | M12: 0 | N12: =SUM(O12:Q12) -> 737 | O12: 736 | P12: 1 | Q12: 0 | R12: =SUM(S12:U12) -> 3799 | S12: 0 | T12: 3799 | U12: 0 | V12: =SUM(W12:Y12) -> 0 | W12: 0 | X12: 0 | Y12: 0 | Z12: =SUM(AA12:AC12) -> 384 | AA12: 358 | AB12: 26 | AC12: 0 | AD12: =SUM(AE12,AI12,AM12,AQ12,AU12,AY12) -> 6759 | AE12: =SUM(AF12:AH12) -> 0 | AF12: 0 | AG12: 0 | AH12: 0 | AI12: =SUM(AJ12:AL12) -> 6759 | AJ12: 0 | AK12: 0 | AL12: 6759 | AM12: =SUM(AN12:AP12) -> 0 | AN12: 0 | AO12: 0 | AP12: 0 | AQ12: =SUM(AR12:AT12) -> 0 | AR12: 0 | AS12: 0 | AT12: 0 | AU12: =SUM(AV12:AX12) -> 0 | AV12: 0 | AW12: 0 | AX12: 0 | AY12: =SUM(AZ12:BB12) -> 0 | AZ12: 0 | BA12: 0 | BB12: 0 | BC12: =SUM(BD12,BK12) -> 3343 | BD12: =SUM(BE12:BJ12) -> 1294 | BE12: 0 | BF12: 0 | BG12: 0 | BH12: 1294 | BI12: 0 | BJ12: 0 | BK12: =SUM(BL12:BQ12) -> 2049 | BL12: 0 | BM12: 1618 | BN12: 170 | BO12: 0 | BP12: 0 | BQ12: 261 | BR12: =SUM(BY12,CF12) -> 27142 | BS12: =SUM(BZ12,CG12) -> 0 | BT12: =SUM(CA12,CH12) -> 20928 | BU12: =SUM(CB12,CI12) -> 737 | BV12: =SUM(CC12,CJ12) -> 5093 | BW12: =SUM(CD12,CK12) -> 0 | BX12: =SUM(CE12,CL12) -> 384 | BY12: =SUM(BZ12:CE12) -> 25848 | BZ12: =F12 -> 0 | CA12: =J12 -> 20928 | CB12: =N12 -> 737 | CC12: =R12 -> 3799 | CD12: =V12 -> 0 | CE12: =Z12 -> 384 | CF12: =SUM(CG12:CL12) -> 1294 | CG12: =BE12 -> 0 | CH12: =BF12 -> 0 | CI12: =BG12 -> 0 | CJ12: =BH12 -> 1294 | CK12: =BI12 -> 0 | CL12: =BJ12 -> 0 | CM12: =SUM(CT12,DA12) -> 8808 | CN12: =SUM(CU12,DB12) -> 0 | CO12: =SUM(CV12,DC12) -> 8377 | CP12: =SUM(CW12,DD12) -> 170 | CQ12: =SUM(CX12,DE12) -> 0 | CR12: =SUM(CY12,DF12) -> 0 | CS12: =SUM(CZ12,DG12) -> 261 | CT12: =SUM(CU12:CZ12) -> 6759 | CU12: =AE12 -> 0 | CV12: =AI12 -> 6759 | CW12: =AM12 -> 0 | CX12: =AQ12 -> 0 | CY12: =AU12 -> 0 | CZ12: =AY12 -> 0 | DA12: =SUM(DB12:DG12) -> 2049 | DB12: =BL12 -> 0 | DC12: =BM12 -> 1618 | DD12: =BN12 -> 170 | DE12: =BO12 -> 0 | DF12: =BP12 -> 0 | DG12: =BQ12 -> 261 | DH12: 0 | DI12: =SUM(DJ12:DM12) -> 1 | DJ12: 1 | DK12: 0 | DL12: 0 | DM12: 0
A13: 愛知県 | B13: 23205 | C13: 半田市 | D13: =SUM(E13,AD13,BC13) -> 35188 | E13: =SUM(F13,J13,N13,R13,V13,Z13) -> 20334 | F13: =SUM(G13:I13) -> 0 | G13: 0 | H13: 0 | I13: 0 | J13: =SUM(K13:M13) -> 16879 | K13: 48 | L13: 16792 | M13: 39 | N13: =SUM(O13:Q13) -> 1167 | O13: 0 | P13: 1153 | Q13: 14 | R13: =SUM(S13:U13) -> 2274 | S13: 0 | T13: 2274 | U13: 0 | V13: =SUM(W13:Y13) -> 0 | W13: 0 | X13: 0 | Y13: 0 | Z13: =SUM(AA13:AC13) -> 14 | AA13: 13 | AB13: 0 | AC13: 1 | AD13: =SUM(AE13,AI13,AM13,AQ13,AU13,AY13) -> 6323 | AE13: =SUM(AF13:AH13) -> 0 | AF13: 0 | AG13: 0 | AH13: 0 | AI13: =SUM(AJ13:AL13) -> 6323 | AJ13: 0 | AK13: 213 | AL13: 6110 | AM13: =SUM(AN13:AP13) -> 0 | AN13: 0 | AO13: 0 | AP13: 0 | AQ13: =SUM(AR13:AT13) -> 0 | AR13: 0 | AS13: 0 | AT13: 0 | AU13: =SUM(AV13:AX13) -> 0 | AV13: 0 | AW13: 0 | AX13: 0 | AY13: =SUM(AZ13:BB13) -> 0 | AZ13: 0 | BA13: 0 | BB13: 0 | BC13: =SUM(BD13,BK13) -> 8531 | BD13: =SUM(BE13:BJ13) -> 4588 | BE13: 0 | BF13: 276 | BG13: 85 | BH13: 3704 | BI13: 0 | BJ13: 523 | BK13: =SUM(BL13:BQ13) -> 3943 | BL13: 0 | BM13: 479 | BN13: 3 | BO13: 3461 | BP13: 0 | BQ13: 0 | BR13: =SUM(BY13,CF13) -> 24922 | BS13: =SUM(BZ13,CG13) -> 0 | BT13: =SUM(CA13,CH13) -> 17155 | BU13: =SUM(CB13,CI13) -> 1252 | BV13: =SUM(CC13,CJ13) -> 5978 | BW13: =SUM(CD13,CK13) -> 0 | BX13: =SUM(CE13,CL13) -> 537 | BY13: =SUM(BZ13:CE13) -> 20334 | BZ13: =F13 -> 0 | CA13: =J13 -> 16879 | CB13: =N13 -> 1167 | CC13: =R13 -> 2274 | CD13: =V13 -> 0 | CE13: =Z13 -> 14 | CF13: =SUM(CG13:CL13) -> 4588 | CG13: =BE13 -> 0 | CH13: =BF13 -> 276 | CI13: =BG13 -> 85 | CJ13: =BH13 -> 3704 | CK13: =BI13 -> 0 | CL13: =BJ13 -> 523 | CM13: =SUM(CT13,DA13) -> 10266 | CN13: =SUM(CU13,DB13) -> 0 | CO13: =SUM(CV13,DC13) -> 6802 | CP13: =SUM(CW13,DD13) -> 3 | CQ13: =SUM(CX13,DE13) -> 3461 | CR13: =SUM(CY13,DF13) -> 0 | CS13: =SUM(CZ13,DG13) -> 0 | CT13: =SUM(CU13:CZ13) -> 6323 | CU13: =AE13 -> 0 | CV13: =AI13 -> 6323 | CW13: =AM13 -> 0 | CX13: =AQ13 -> 0 | CY13: =AU13 -> 0 | CZ13: =AY13 -> 0 | DA13: =SUM(DB13:DG13) -> 3943 | DB13: =BL13 -> 0 | DC13: =BM13 -> 479 | DD13: =BN13 -> 3 | DE13: =BO13 -> 3461 | DF13: =BP13 -> 0 | DG13: =BQ13 -> 0 | DH13: 0 | DI13: =SUM(DJ13:DM13) -> 3 | DJ13: 3 | DK13: 0 | DL13: 0 | DM13: 0
A14: 愛知県 | B14: 23206 | C14: 春日井市 | D14: =SUM(E14,AD14,BC14) -> 84012 | E14: =SUM(F14,J14,N14,R14,V14,Z14) -> 60534 | F14: =SUM(G14:I14) -> 0 | G14: 0 | H14: 0 | I14: 0 | J14: =SUM(K14:M14) -> 47651 | K14: 29491 | L14: 18160 | M14: 0 | N14: =SUM(O14:Q14) -> 2479 | O14: 118 | P14: 2361 | Q14: 0 | R14: =SUM(S14:U14) -> 9997 | S14: 56 | T14: 9941 | U14: 0 | V14: =SUM(W14:Y14) -> 90 | W14: 20 | X14: 70 | Y14: 0 | Z14: =SUM(AA14:AC14) -> 317 | AA14: 317 | AB14: 0 | AC14: 0 | AD14: =SUM(AE14,AI14,AM14,AQ14,AU14,AY14) -> 16892 | AE14: =SUM(AF14:AH14) -> 0 | AF14: 0 | AG14: 0 | AH14: 0 | AI14: =SUM(AJ14:AL14) -> 16892 | AJ14: 0 | AK14: 879 | AL14: 16013 | AM14: =SUM(AN14:AP14) -> 0 | AN14: 0 | AO14: 0 | AP14: 0 | AQ14: =SUM(AR14:AT14) -> 0 | AR14: 0 | AS14: 0 | AT14: 0 | AU14: =SUM(AV14:AX14) -> 0 | AV14: 0 | AW14: 0 | AX14: 0 | AY14: =SUM(AZ14:BB14) -> 0 | AZ14: 0 | BA14: 0 | BB14: 0 | BC14: =SUM(BD14,BK14) -> 6586 | BD14: =SUM(BE14:BJ14) -> 2408 | BE14: 0 | BF14: 570 | BG14: 378 | BH14: 0 | BI14: 172 | BJ14: 1288 | BK14: =SUM(BL14:BQ14) -> 4178 | BL14: 0 | BM14: 3935 | BN14: 32 | BO14: 0 | BP14: 204 | BQ14: 7 | BR14: =SUM(BY14,CF14) -> 62942 | BS14: =SUM(BZ14,CG14) -> 0 | BT14: =SUM(CA14,CH14) -> 48221 | BU14: =SUM(CB14,CI14) -> 2857 | BV14: =SUM(CC14,CJ14) -> 9997 | BW14: =SUM(CD14,CK14) -> 262 | BX14: =SUM(CE14,CL14) -> 1605 | BY14: =SUM(BZ14:CE14) -> 60534 | BZ14: =F14 -> 0 | CA14: =J14 -> 47651 | CB14: =N14 -> 2479 | CC14: =R14 -> 9997 | CD14: =V14 -> 90 | CE14: =Z14 -> 317 | CF14: =SUM(CG14:CL14) -> 2408 | CG14: =BE14 -> 0 | CH14: =BF14 -> 570 | CI14: =BG14 -> 378 | CJ14: =BH14 -> 0 | CK14: =BI14 -> 172 | CL14: =BJ14 -> 1288 | CM14: =SUM(CT14,DA14) -> 21070 | CN14: =SUM(CU14,DB14) -> 0 | CO14: =SUM(CV14,DC14) -> 20827 | CP14: =SUM(CW14,DD14) -> 32 | CQ14: =SUM(CX14,DE14) -> 0 | CR14: =SUM(CY14,DF14) -> 204 | CS14: =SUM(CZ14,DG14) -> 7 | CT14: =SUM(CU14:CZ14) -> 16892 | CU14: =AE14 -> 0 | CV14: =AI14 -> 16892 | CW14: =AM14 -> 0 | CX14: =AQ14 -> 0 | CY14: =AU14 -> 0 | CZ14: =AY14 -> 0 | DA14: =SUM(DB14:DG14) -> 4178 | DB14: =BL14 -> 0 | DC14: =BM14 -> 3935 | DD14: =BN14 -> 32 | DE14: =BO14 -> 0 | DF14: =BP14 -> 204 | DG14: =BQ14 -> 7 | DH14: 0 | DI14: =SUM(DJ14:DM14) -> 16 | DJ14: 11 | DK14: 0 | DL14: 0 | DM14: 5
A15: 愛知県 | B15: 23207 | C15: 豊川市 | D15: =SUM(E15,AD15,BC15) -> 63077 | E15: =SUM(F15,J15,N15,R15,V15,Z15) -> 43073 | F15: =SUM(G15:I15) -> 0 | G15: 0 | H15: 0 | I15: 0 | J15: =SUM(K15:M15) -> 35597 | K15: 8302 | L15: 27198 | M15: 97 | N15: =SUM(O15:Q15) -> 629 | O15: 0 | P15: 618 | Q15: 11 | R15: =SUM(S15:U15) -> 6722 | S15: 11 | T15: 6711 | U15: 0 | V15: =SUM(W15:Y15) -> 100 | W15: 88 | X15: 12 | Y15: 0 | Z15: =SUM(AA15:AC15) -> 25 | AA15: 0 | AB15: 25 | AC15: 0 | AD15: =SUM(AE15,AI15,AM15,AQ15,AU15,AY15) -> 10786 | AE15: =SUM(AF15:AH15) -> 0 | AF15: 0 | AG15: 0 | AH15: 0 | AI15: =SUM(AJ15:AL15) -> 10786 | AJ15: 0 | AK15: 0 | AL15: 10786 | AM15: =SUM(AN15:AP15) -> 0 | AN15: 0 | AO15: 0 | AP15: 0 | AQ15: =SUM(AR15:AT15) -> 0 | AR15: 0 | AS15: 0 | AT15: 0 | AU15: =SUM(AV15:AX15) -> 0 | AV15: 0 | AW15: 0 | AX15: 0 | AY15: =SUM(AZ15:BB15) -> 0 | AZ15: 0 | BA15: 0 | BB15: 0 | BC15: =SUM(BD15,BK15) -> 9218 | BD15: =SUM(BE15:BJ15) -> 3175 | BE15: 0 | BF15: 343 | BG15: 46 | BH15: 179 | BI15: 0 | BJ15: 2607 | BK15: =SUM(BL15:BQ15) -> 6043 | BL15: 0 | BM15: 4951 | BN15: 7 | BO15: 1068 | BP15: 0 | BQ15: 17 | BR15: =SUM(BY15,CF15) -> 46248 | BS15: =SUM(BZ15,CG15) -> 0 | BT15: =SUM(CA15,CH15) -> 35940 | BU15: =SUM(CB15,CI15) -> 675 | BV15: =SUM(CC15,CJ15) -> 6901 | BW15: =SUM(CD15,CK15) -> 100 | BX15: =SUM(CE15,CL15) -> 2632 | BY15: =SUM(BZ15:CE15) -> 43073 | BZ15: =F15 -> 0 | CA15: =J15 -> 35597 | CB15: =N15 -> 629 | CC15: =R15 -> 6722 | CD15: =V15 -> 100 | CE15: =Z15 -> 25 | CF15: =SUM(CG15:CL15) -> 3175 | CG15: =BE15 -> 0 | CH15: =BF15 -> 343 | CI15: =BG15 -> 46 | CJ15: =BH15 -> 179 | CK15: =BI15 -> 0 | CL15: =BJ15 -> 2607 | CM15: =SUM(CT15,DA15) -> 16829 | CN15: =SUM(CU15,DB15) -> 0 | CO15: =SUM(CV15,DC15) -> 15737 | CP15: =SUM(CW15,DD15) -> 7 | CQ15: =SUM(CX15,DE15) -> 1068 | CR15: =SUM(CY15,DF15) -> 0 | CS15: =SUM(CZ15,DG15) -> 17 | CT15: =SUM(CU15:CZ15) -> 10786 | CU15: =AE15 -> 0 | CV15: =AI15 -> 10786 | CW15: =AM15 -> 0 | CX15: =AQ15 -> 0 | CY15: =AU15 -> 0 | CZ15: =AY15 -> 0 | DA15: =SUM(DB15:DG15) -> 6043 | DB15: =BL15 -> 0 | DC15: =BM15 -> 4951 | DD15: =BN15 -> 7 | DE15: =BO15 -> 1068 | DF15: =BP15 -> 0 | DG15: =BQ15 -> 17 | DH15: 0 | DI15: =SUM(DJ15:DM15) -> 29 | DJ15: 1 | DK15: 5 | DL15: 5 | DM15: 18
A16: 愛知県 | B16: 23208 | C16: 津島市 | D16: =SUM(E16,AD16,BC16) -> 15542 | E16: =SUM(F16,J16,N16,R16,V16,Z16) -> 11692 | F16: =SUM(G16:I16) -> 0 | G16: 0 | H16: 0 | I16: 0 | J16: =SUM(K16:M16) -> 9924 | K16: 75 | L16: 9849 | M16: 0 | N16: =SUM(O16:Q16) -> 364 | O16: 0 | P16: 364 | Q16: 0 | R16: =SUM(S16:U16) -> 1109 | S16: 0 | T16: 1109 | U16: 0 | V16: =SUM(W16:Y16) -> 19 | W16: 0 | X16: 19 | Y16: 0 | Z16: =SUM(AA16:AC16) -> 276 | AA16: 134 | AB16: 142 | AC16: 0 | AD16: =SUM(AE16,AI16,AM16,AQ16,AU16,AY16) -> 3687 | AE16: =SUM(AF16:AH16) -> 0 | AF16: 0 | AG16: 0 | AH16: 0 | AI16: =SUM(AJ16:AL16) -> 3687 | AJ16: 0 | AK16: 0 | AL16: 3687 | AM16: =SUM(AN16:AP16) -> 0 | AN16: 0 | AO16: 0 | AP16: 0 | AQ16: =SUM(AR16:AT16) -> 0 | AR16: 0 | AS16: 0 | AT16: 0 | AU16: =SUM(AV16:AX16) -> 0 | AV16: 0 | AW16: 0 | AX16: 0 | AY16: =SUM(AZ16:BB16) -> 0 | AZ16: 0 | BA16: 0 | BB16: 0 | BC16: =SUM(BD16,BK16) -> 163 | BD16: =SUM(BE16:BJ16) -> 163 | BE16: 0 | BF16: 1 | BG16: 2 | BH16: 5 | BI16: 0 | BJ16: 155 | BK16: =SUM(BL16:BQ16) -> 0 | BL16: 0 | BM16: 0 | BN16: 0 | BO16: 0 | BP16: 0 | BQ16: 0 | BR16: =SUM(BY16,CF16) -> 11855 | BS16: =SUM(BZ16,CG16) -> 0 | BT16: =SUM(CA16,CH16) -> 9925 | BU16: =SUM(CB16,CI16) -> 366 | BV16: =SUM(CC16,CJ16) -> 1114 | BW16: =SUM(CD16,CK16) -> 19 | BX16: =SUM(CE16,CL16) -> 431 | BY16: =SUM(BZ16:CE16) -> 11692 | BZ16: =F16 -> 0 | CA16: =J16 -> 9924 | CB16: =N16 -> 364 | CC16: =R16 -> 1109 | CD16: =V16 -> 19 | CE16: =Z16 -> 276 | CF16: =SUM(CG16:CL16) -> 163 | CG16: =BE16 -> 0 | CH16: =BF16 -> 1 | CI16: =BG16 -> 2 | CJ16: =BH16 -> 5 | CK16: =BI16 -> 0 | CL16: =BJ16 -> 155 | CM16: =SUM(CT16,DA16) -> 3687 | CN16: =SUM(CU16,DB16) -> 0 | CO16: =SUM(CV16,DC16) -> 3687 | CP16: =SUM(CW16,DD16) -> 0 | CQ16: =SUM(CX16,DE16) -> 0 | CR16: =SUM(CY16,DF16) -> 0 | CS16: =SUM(CZ16,DG16) -> 0 | CT16: =SUM(CU16:CZ16) -> 3687 | CU16: =AE16 -> 0 | CV16: =AI16 -> 3687 | CW16: =AM16 -> 0 | CX16: =AQ16 -> 0 | CY16: =AU16 -> 0 | CZ16: =AY16 -> 0 | DA16: =SUM(DB16:DG16) -> 0 | DB16: =BL16 -> 0 | DC16: =BM16 -> 0 | DD16: =BN16 -> 0 | DE16: =BO16 -> 0 | DF16: =BP16 -> 0 | DG16: =BQ16 -> 0 | DH16: 0 | DI16: =SUM(DJ16:DM16) -> 0 | DJ16: 0 | DK16: 0 | DL16: 0 | DM16: 0
A17: 愛知県 | B17: 23209 | C17: 碧南市 | D17: =SUM(E17,AD17,BC17) -> 25422 | E17: =SUM(F17,J17,N17,R17,V17,Z17) -> 13153 | F17: =SUM(G17:I17) -> 0 | G17: 0 | H17: 0 | I17: 0 | J17: =SUM(K17:M17) -> 11170 | K17: 0 | L17: 11170 | M17: 0 | N17: =SUM(O17:Q17) -> 214 | O17: 0 | P17: 214 | Q17: 0 | R17: =SUM(S17:U17) -> 1497 | S17: 0 | T17: 1497 | U17: 0 | V17: =SUM(W17:Y17) -> 0 | W17: 0 | X17: 0 | Y17: 0 | Z17: =SUM(AA17:AC17) -> 272 | AA17: 0 | AB17: 272 | AC17: 0 | AD17: =SUM(AE17,AI17,AM17,AQ17,AU17,AY17) -> 6289 | AE17: =SUM(AF17:AH17) -> 0 | AF17: 0 | AG17: 0 | AH17: 0 | AI17: =SUM(AJ17:AL17) -> 5561 | AJ17: 0 | AK17: 0 | AL17: 5561 | AM17: =SUM(AN17:AP17) -> 124 | AN17: 0 | AO17: 0 | AP17: 124 | AQ17: =SUM(AR17:AT17) -> 304 | AR17: 0 | AS17: 0 | AT17: 304 | AU17: =SUM(AV17:AX17) -> 0 | AV17: 0 | AW17: 0 | AX17: 0 | AY17: =SUM(AZ17:BB17) -> 300 | AZ17: 0 | BA17: 0 | BB17: 300 | BC17: =SUM(BD17,BK17) -> 5980 | BD17: =SUM(BE17:BJ17) -> 2852 | BE17: 0 | BF17: 0 | BG17: 459 | BH17: 607 | BI17: 0 | BJ17: 1786 | BK17: =SUM(BL17:BQ17) -> 3128 | BL17: 0 | BM17: 280 | BN17: 84 | BO17: 0 | BP17: 0 | BQ17: 2764 | BR17: =SUM(BY17,CF17) -> 16005 | BS17: =SUM(BZ17,CG17) -> 0 | BT17: =SUM(CA17,CH17) -> 11170 | BU17: =SUM(CB17,CI17) -> 673 | BV17: =SUM(CC17,CJ17) -> 2104 | BW17: =SUM(CD17,CK17) -> 0 | BX17: =SUM(CE17,CL17) -> 2058 | BY17: =SUM(BZ17:CE17) -> 13153 | BZ17: =F17 -> 0 | CA17: =J17 -> 11170 | CB17: =N17 -> 214 | CC17: =R17 -> 1497 | CD17: =V17 -> 0 | CE17: =Z17 -> 272 | CF17: =SUM(CG17:CL17) -> 2852 | CG17: =BE17 -> 0 | CH17: =BF17 -> 0 | CI17: =BG17 -> 459 | CJ17: =BH17 -> 607 | CK17: =BI17 -> 0 | CL17: =BJ17 -> 1786 | CM17: =SUM(CT17,DA17) -> 9417 | CN17: =SUM(CU17,DB17) -> 0 | CO17: =SUM(CV17,DC17) -> 5841 | CP17: =SUM(CW17,DD17) -> 208 | CQ17: =SUM(CX17,DE17) -> 304 | CR17: =SUM(CY17,DF17) -> 0 | CS17: =SUM(CZ17,DG17) -> 3064 | CT17: =SUM(CU17:CZ17) -> 6289 | CU17: =AE17 -> 0 | CV17: =AI17 -> 5561 | CW17: =AM17 -> 124 | CX17: =AQ17 -> 304 | CY17: =AU17 -> 0 | CZ17: =AY17 -> 300 | DA17: =SUM(DB17:DG17) -> 3128 | DB17: =BL17 -> 0 | DC17: =BM17 -> 280 | DD17: =BN17 -> 84 | DE17: =BO17 -> 0 | DF17: =BP17 -> 0 | DG17: =BQ17 -> 2764 | DH17: 0 | DI17: =SUM(DJ17:DM17) -> 2 | DJ17: 0 | DK17: 2 | DL17: 0 | DM17: 0
A18: 愛知県 | B18: 23210 | C18: 刈谷市 | D18: =SUM(E18,AD18,BC18) -> 47999 | E18: =SUM(F18,J18,N18,R18,V18,Z18) -> 27295 | F18: =SUM(G18:I18) -> 0 | G18: 0 | H18: 0 | I18: 0 | J18: =SUM(K18:M18) -> 23678 | K18: 5511 | L18: 17793 | M18: 374 | N18: =SUM(O18:Q18) -> 699 | O18: 0 | P18: 674 | Q18: 25 | R18: =SUM(S18:U18) -> 2771 | S18: 54 | T18: 2717 | U18: 0 | V18: =SUM(W18:Y18) -> 82 | W18: 74 | X18: 8 | Y18: 0 | Z18: =SUM(AA18:AC18) -> 65 | AA18: 64 | AB18: 0 | AC18: 1 | AD18: =SUM(AE18,AI18,AM18,AQ18,AU18,AY18) -> 9953 | AE18: =SUM(AF18:AH18) -> 0 | AF18: 0 | AG18: 0 | AH18: 0 | AI18: =SUM(AJ18:AL18) -> 9877 | AJ18: 124 | AK18: 116 | AL18: 9637 | AM18: =SUM(AN18:AP18) -> 15 | AN18: 0 | AO18: 15 | AP18: 0 | AQ18: =SUM(AR18:AT18) -> 61 | AR18: 3 | AS18: 58 | AT18: 0 | AU18: =SUM(AV18:AX18) -> 0 | AV18: 0 | AW18: 0 | AX18: 0 | AY18: =SUM(AZ18:BB18) -> 0 | AZ18: 0 | BA18: 0 | BB18: 0 | BC18: =SUM(BD18,BK18) -> 10751 | BD18: =SUM(BE18:BJ18) -> 4700 | BE18: 0 | BF18: 1853 | BG18: 421 | BH18: 537 | BI18: 0 | BJ18: 1889 | BK18: =SUM(BL18:BQ18) -> 6051 | BL18: 0 | BM18: 5414 | BN18: 5 | BO18: 144 | BP18: 400 | BQ18: 88 | BR18: =SUM(BY18,CF18) -> 31995 | BS18: =SUM(BZ18,CG18) -> 0 | BT18: =SUM(CA18,CH18) -> 25531 | BU18: =SUM(CB18,CI18) -> 1120 | BV18: =SUM(CC18,CJ18) -> 3308 | BW18: =SUM(CD18,CK18) -> 82 | BX18: =SUM(CE18,CL18) -> 1954 | BY18: =SUM(BZ18:CE18) -> 27295 | BZ18: =F18 -> 0 | CA18: =J18 -> 23678 | CB18: =N18 -> 699 | CC18: =R18 -> 2771 | CD18: =V18 -> 82 | CE18: =Z18 -> 65 | CF18: =SUM(CG18:CL18) -> 4700 | CG18: =BE18 -> 0 | CH18: =BF18 -> 1853 | CI18: =BG18 -> 421 | CJ18: =BH18 -> 537 | CK18: =BI18 -> 0 | CL18: =BJ18 -> 1889 | CM18: =SUM(CT18,DA18) -> 16004 | CN18: =SUM(CU18,DB18) -> 0 | CO18: =SUM(CV18,DC18) -> 15291 | CP18: =SUM(CW18,DD18) -> 20 | CQ18: =SUM(CX18,DE18) -> 205 | CR18: =SUM(CY18,DF18) -> 400 | CS18: =SUM(CZ18,DG18) -> 88 | CT18: =SUM(CU18:CZ18) -> 9953 | CU18: =AE18 -> 0 | CV18: =AI18 -> 9877 | CW18: =AM18 -> 15 | CX18: =AQ18 -> 61 | CY18: =AU18 -> 0 | CZ18: =AY18 -> 0 | DA18: =SUM(DB18:DG18) -> 6051 | DB18: =BL18 -> 0 | DC18: =BM18 -> 5414 | DD18: =BN18 -> 5 | DE18: =BO18 -> 144 | DF18: =BP18 -> 400 | DG18: =BQ18 -> 88 | DH18: 0 | DI18: =SUM(DJ18:DM18) -> 72 | DJ18: 10 | DK18: 0 | DL18: 0 | DM18: 62
A19: 愛知県 | B19: 23211 | C19: 豊田市 | D19: =SUM(E19,AD19,BC19) -> 126991 | E19: =SUM(F19,J19,N19,R19,V19,Z19) -> 83680 | F19: =SUM(G19:I19) -> 0 | G19: 0 | H19: 0 | I19: 0 | J19: =SUM(K19:M19) -> 68570 | K19: 62389 | L19: 6002 | M19: 179 | N19: =SUM(O19:Q19) -> 2364 | O19: 2196 | P19: 168 | Q19: 0 | R19: =SUM(S19:U19) -> 11773 | S19: 9119 | T19: 2654 | U19: 0 | V19: =SUM(W19:Y19) -> 258 | W19: 0 | X19: 258 | Y19: 0 | Z19: =SUM(AA19:AC19) -> 715 | AA19: 658 | AB19: 57 | AC19: 0 | AD19: =SUM(AE19,AI19,AM19,AQ19,AU19,AY19) -> 25061 | AE19: =SUM(AF19:AH19) -> 0 | AF19: 0 | AG19: 0 | AH19: 0 | AI19: =SUM(AJ19:AL19) -> 23976 | AJ19: 0 | AK19: 0 | AL19: 23976 | AM19: =SUM(AN19:AP19) -> 0 | AN19: 0 | AO19: 0 | AP19: 0 | AQ19: =SUM(AR19:AT19) -> 1085 | AR19: 0 | AS19: 75 | AT19: 1010 | AU19: =SUM(AV19:AX19) -> 0 | AV19: 0 | AW19: 0 | AX19: 0 | AY19: =SUM(AZ19:BB19) -> 0 | AZ19: 0 | BA19: 0 | BB19: 0 | BC19: =SUM(BD19,BK19) -> 18250 | BD19: =SUM(BE19:BJ19) -> 4048 | BE19: 0 | BF19: 2828 | BG19: 991 | BH19: 229 | BI19: 0 | BJ19: 0 | BK19: =SUM(BL19:BQ19) -> 14202 | BL19: 0 | BM19: 4983 | BN19: 196 | BO19: 9023 | BP19: 0 | BQ19: 0 | BR19: =SUM(BY19,CF19) -> 87728 | BS19: =SUM(BZ19,CG19) -> 0 | BT19: =SUM(CA19,CH19) -> 71398 | BU19: =SUM(CB19,CI19) -> 3355 | BV19: =SUM(CC19,CJ19) -> 12002 | BW19: =SUM(CD19,CK19) -> 258 | BX19: =SUM(CE19,CL19) -> 715 | BY19: =SUM(BZ19:CE19) -> 83680 | BZ19: =F19 -> 0 | CA19: =J19 -> 68570 | CB19: =N19 -> 2364 | CC19: =R19 -> 11773 | CD19: =V19 -> 258 | CE19: =Z19 -> 715 | CF19: =SUM(CG19:CL19) -> 4048 | CG19: =BE19 -> 0 | CH19: =BF19 -> 2828 | CI19: =BG19 -> 991 | CJ19: =BH19 -> 229 | CK19: =BI19 -> 0 | CL19: =BJ19 -> 0 | CM19: =SUM(CT19,DA19) -> 39263 | CN19: =SUM(CU19,DB19) -> 0 | CO19: =SUM(CV19,DC19) -> 28959 | CP19: =SUM(CW19,DD19) -> 196 | CQ19: =SUM(CX19,DE19) -> 10108 | CR19: =SUM(CY19,DF19) -> 0 | CS19: =SUM(CZ19,DG19) -> 0 | CT19: =SUM(CU19:CZ19) -> 25061 | CU19: =AE19 -> 0 | CV19: =AI19 -> 23976 | CW19: =AM19 -> 0 | CX19: =AQ19 -> 1085 | CY19: =AU19 -> 0 | CZ19: =AY19 -> 0 | DA19: =SUM(DB19:DG19) -> 14202 | DB19: =BL19 -> 0 | DC19: =BM19 -> 4983 | DD19: =BN19 -> 196 | DE19: =BO19 -> 9023 | DF19: =BP19 -> 0 | DG19: =BQ19 -> 0 | DH19: 0 | DI19: =SUM(DJ19:DM19) -> 4 | DJ19: 4 | DK19: 0 | DL19: 0 | DM19: 0
... A61: 愛知県 | B61: 23563 | C61: 豊根村 | D61: =SUM(E61,AD61,BC61) -> 280 | E61: =SUM(F61,J61,N61,R61,V61,Z61) -> 199 | F61: =SUM(G61:I61) -> 0 | G61: 0 | H61: 0 | I61: 0 | J61: =SUM(K61:M61) -> 179 | K61: 0 | L61: 179 | M61: 0 | N61: =SUM(O61:Q61) -> 2 | O61: 0 | P61: 2 | Q61: 0 | R61: =SUM(S61:U61) -> 18 | S61: 0 | T61: 18 | U61: 0 | V61: =SUM(W61:Y61) -> 0 | W61: 0 | X61: 0 | Y61: 0 | Z61: =SUM(AA61:AC61) -> 0 | AA61: 0 | AB61: 0 | AC61: 0 | AD61: =SUM(AE61,AI61,AM61,AQ61,AU61,AY61) -> 0 | AE61: =SUM(AF61:AH61) -> 0 | AF61: 0 | AG61: 0 | AH61: 0 | AI61: =SUM(AJ61:AL61) -> 0 | AJ61: 0 | AK61: 0 | AL61: 0 | AM61: =SUM(AN61:AP61) -> 0 | AN61: 0 | AO61: 0 | AP61: 0 | AQ61: =SUM(AR61:AT61) -> 0 | AR61: 0 | AS61: 0 | AT61: 0 | AU61: =SUM(AV61:AX61) -> 0 | AV61: 0 | AW61: 0 | AX61: 0 | AY61: =SUM(AZ61:BB61) -> 0 | AZ61: 0 | BA61: 0 | BB61: 0 | BC61: =SUM(BD61,BK61) -> 81 | BD61: =SUM(BE61:BJ61) -> 29 | BE61: 0 | BF61: 11 | BG61: 3 | BH61: 7 | BI61: 0 | BJ61: 8 | BK61: =SUM(BL61:BQ61) -> 52 | BL61: 0 | BM61: 34 | BN61: 0 | BO61: 16 | BP61: 0 | BQ61: 2 | BR61: =SUM(BY61,CF61) -> 228 | BS61: =SUM(BZ61,CG61) -> 0 | BT61: =SUM(CA61,CH61) -> 190 | BU61: =SUM(CB61,CI61) -> 5 | BV61: =SUM(CC61,CJ61) -> 25 | BW61: =SUM(CD61,CK61) -> 0 | BX61: =SUM(CE61,CL61) -> 8 | BY61: =SUM(BZ61:CE61) -> 199 | BZ61: =F61 -> 0 | CA61: =J61 -> 179 | CB61: =N61 -> 2 | CC61: =R61 -> 18 | CD61: =V61 -> 0 | CE61: =Z61 -> 0 | CF61: =SUM(CG61:CL61) -> 29 | CG61: =BE61 -> 0 | CH61: =BF61 -> 11 | CI61: =BG61 -> 3 | CJ61: =BH61 -> 7 | CK61: =BI61 -> 0 | CL61: =BJ61 -> 8 | CM61: =SUM(CT61,DA61) -> 52 | CN61: =SUM(CU61,DB61) -> 0 | CO61: =SUM(CV61,DC61) -> 34 | CP61: =SUM(CW61,DD61) -> 0 | CQ61: =SUM(CX61,DE61) -> 16 | CR61: =SUM(CY61,DF61) -> 0 | CS61: =SUM(CZ61,DG61) -> 2 | CT61: =SUM(CU61:CZ61) -> 0 | CU61: =AE61 -> 0 | CV61: =AI61 -> 0 | CW61: =AM61 -> 0 | CX61: =AQ61 -> 0 | CY61: =AU61 -> 0 | CZ61: =AY61 -> 0 | DA61: =SUM(DB61:DG61) -> 52 | DB61: =BL61 -> 0 | DC61: =BM61 -> 34 | DD61: =BN61 -> 0 | DE61: =BO61 -> 16 | DF61: =BP61 -> 0 | DG61: =BQ61 -> 2 | DH61: 0 | DI61: =SUM(DJ61:DM61) -> 0 | DJ61: 0 | DK61: 0 | DL61: 0 | DM61: 0

Sheet 施設区分別搬入量内訳
A1: 処理施設別ごみ搬入量の状況（令和5年度実績）
A2: 都道府県名 | B2: 地方公共団体コード | C2: 市区町村名 | D2: 処理施設別のごみ搬入量(処理施設+直接資源化+直接埋立)
E3: 焼却施設（収集ごみ＋直接搬入ごみ） | T3: 粗大ごみ処理施設（収集ごみ＋直接搬入ごみ） | AI3: ごみ堆肥化施設（収集ごみ＋直接搬入ごみ） | AX3: ごみ飼料化施設（収集ごみ＋直接搬入ごみ） | BM3: メタン化施設（収集ごみ＋直接搬入ごみ） | CB3: ごみ燃料化施設（収集ごみ＋直接搬入ごみ） | CQ3: その他の資源化等を行う施設（収集ごみ＋直接搬入ごみ） ＋ セメント等への直接投入（収集ごみ＋直接搬入ごみ） | DF3: その他の施設（収集ごみ＋直接搬入ごみ） | DU3: 直接資源化（収集ごみ＋直接搬入ごみ） | DZ3: 直接埋立（収集ごみ＋直接搬入ごみ）
F4: 収集ごみ (混合ごみ+可燃ごみ+不燃ごみ+資源ごみ+その他+粗大ごみ) | M4: 直接搬入ごみ (混合ごみ+可燃ごみ+不燃ごみ+資源ごみ+その他+粗大ごみ) | U4: 収集ごみ (混合ごみ+可燃ごみ+不燃ごみ+資源ごみ+その他+粗大ごみ) | AB4: 直接搬入ごみ (混合ごみ+可燃ごみ+不燃ごみ+資源ごみ+その他+粗大ごみ) | AJ4: 収集ごみ (混合ごみ+可燃ごみ+不燃ごみ+資源ごみ+その他+粗大ごみ) | AQ4: 直接搬入ごみ (混合ごみ+可燃ごみ+不燃ごみ+資源ごみ+その他+粗大ごみ) | AY4: 収集ごみ (混合ごみ+可燃ごみ+不燃ごみ+資源ごみ+その他+粗大ごみ) | BF4: 直接搬入ごみ (混合ごみ+可燃ごみ+不燃ごみ+資源ごみ+その他+粗大ごみ) | BN4: 収集ごみ (混合ごみ+可燃ごみ+不燃ごみ+資源ごみ+その他+粗大ごみ) | BU4: 直接搬入ごみ (混合ごみ+可燃ごみ+不燃ごみ+資源ごみ+その他+粗大ごみ) | CC4: 収集ごみ (混合ごみ+可燃ごみ+不燃ごみ+資源ごみ+その他+粗大ごみ) | CJ4: 直接搬入ごみ (混合ごみ+可燃ごみ+不燃ごみ+資源ごみ+その他+粗大ごみ) | CR4: 収集ごみ (混合ごみ+可燃ごみ+不燃ごみ+資源ごみ+その他+粗大ごみ) | CY4: 直接搬入ごみ (混合ごみ+可燃ごみ+不燃ごみ+資源ごみ+その他+粗大ごみ) | DG4: 収集ごみ (混合ごみ+可燃ごみ+不燃ごみ+資源ごみ+その他+粗大ごみ) | DN4: 直接搬入ごみ (混合ごみ+可燃ごみ+不燃ごみ+資源ごみ+その他+粗大ごみ) | DV4: 収集ごみ | DX4: 直接搬入ごみ | EA4: 収集ごみ (混合ごみ+可燃ごみ+不燃ごみ+資源ごみ+その他+粗大ごみ) | EH4: 直接搬入ごみ (混合ごみ+可燃ごみ+不燃ごみ+資源ごみ+その他+粗大ごみ)
D5: 合計 | E5: 合計 | F5: 合計 | G5: 混合ごみ | H5: 可燃ごみ | I5: 不燃ごみ | J5: 資源ごみ | K5: その他 | L5: 粗大ごみ | M5: 合計 | N5: 混合ごみ | O5: 可燃ごみ | P5: 不燃ごみ | Q5: 資源ごみ | R5: その他 | S5: 粗大ごみ | T5: 合計 | U5: 合計 | V5: 混合ごみ | W5: 可燃ごみ | X5: 不燃ごみ | Y5: 資源ごみ | Z5: その他 | AA5: 粗大ごみ | AB5: 合計 | AC5: 混合ごみ | AD5: 可燃ごみ | AE5: 不燃ごみ | AF5: 資源ごみ | AG5: その他 | AH5: 粗大ごみ | AI5: 合計 | AJ5: 合計 | AK5: 混合ごみ | AL5: 可燃ごみ | AM5: 不燃ごみ | AN5: 資源ごみ | AO5: その他 | AP5: 粗大ごみ | AQ5: 合計 | AR5: 混合ごみ | AS5: 可燃ごみ | AT5: 不燃ごみ | AU5: 資源ごみ | AV5: その他 | AW5: 粗大ごみ | AX5: 合計 | AY5: 合計 | AZ5: 混合ごみ | BA5: 可燃ごみ | BB5: 不燃ごみ | BC5: 資源ごみ | BD5: その他 | BE5: 粗大ごみ | BF5: 合計 | BG5: 混合ごみ | BH5: 可燃ごみ | BI5: 不燃ごみ | BJ5: 資源ごみ | BK5: その他 | BL5: 粗大ごみ | BM5: 合計 | BN5: 合計 | BO5: 混合ごみ | BP5: 可燃ごみ | BQ5: 不燃ごみ | BR5: 資源ごみ | BS5: その他 | BT5: 粗大ごみ | BU5: 合計 | BV5: 混合ごみ | BW5: 可燃ごみ | BX5: 不燃ごみ | BY5: 資源ごみ | BZ5: その他 | CA5: 粗大ごみ | CB5: 合計 | CC5: 合計 | CD5: 混合ごみ | CE5: 可燃ごみ | CF5: 不燃ごみ | CG5: 資源ごみ | CH5: その他 | CI5: 粗大ごみ | CJ5: 合計 | CK5: 混合ごみ | CL5: 可燃ごみ | CM5: 不燃ごみ | CN5: 資源ごみ | CO5: その他 | CP5: 粗大ごみ | CQ5: 合計 | CR5: 合計 | CS5: 混合ごみ | CT5: 可燃ごみ | CU5: 不燃ごみ | CV5: 資源ごみ | CW5: その他 | CX5: 粗大ごみ | CY5: 合計 | CZ5: 混合ごみ | DA5: 可燃ごみ | DB5: 不燃ごみ | DC5: 資源ごみ | DD5: その他 | DE5: 粗大ごみ | DF5: 合計 | DG5: 合計 | DH5: 混合ごみ | DI5: 可燃ごみ | DJ5: 不燃ごみ | DK5: 資源ごみ | DL5: その他 | DM5: 粗大ごみ | DN5: 合計 | DO5: 混合ごみ | DP5: 可燃ごみ | DQ5: 不燃ごみ | DR5: 資源ごみ | DS5: その他 | DT5: 粗大ごみ | DU5: 合計 | DV5: 資源ごみ | DW5: その他 | DX5: 資源ごみ | DY5: その他 | DZ5: 合計 | EA5: 合計 | EB5: 混合ごみ | EC5: 可燃ごみ | ED5: 不燃ごみ | EE5: 資源ごみ | EF5: その他 | EG5: 粗大ごみ | EH5: 合計 | EI5: 混合ごみ | EJ5: 可燃ごみ | EK5: 不燃ごみ | EL5: 資源ごみ | EM5: その他 | EN5: 粗大ごみ
D6: （ｔ） | E6: （ｔ） | F6: （ｔ） | G6: （ｔ） | H6: （ｔ） | I6: （ｔ） | J6: （ｔ） | K6: （ｔ） | L6: （ｔ） | M6: （ｔ） | N6: （ｔ） | O6: （ｔ） | P6: （ｔ） | Q6: （ｔ） | R6: （ｔ） | S6: （ｔ） | T6: （ｔ） | U6: （ｔ） | V6: （ｔ） | W6: （ｔ） | X6: （ｔ） | Y6: （ｔ） | Z6: （ｔ） | AA6: （ｔ） | AB6: （ｔ） | AC6: （ｔ） | AD6: （ｔ） | AE6: （ｔ） | AF6: （ｔ） | AG6: （ｔ） | AH6: （ｔ） | AI6: （ｔ） | AJ6: （ｔ） | AK6: （ｔ） | AL6: （ｔ） | AM6: （ｔ） | AN6: （ｔ） | AO6: （ｔ） | AP6: （ｔ） | AQ6: （ｔ） | AR6: （ｔ） | AS6: （ｔ） | AT6: （ｔ） | AU6: （ｔ） | AV6: （ｔ） | AW6: （ｔ） | AX6: （ｔ） | AY6: （ｔ） | AZ6: （ｔ） | BA6: （ｔ） | BB6: （ｔ） | BC6: （ｔ） | BD6: （ｔ） | BE6: （ｔ） | BF6: （ｔ） | BG6: （ｔ） | BH6: （ｔ） | BI6: （ｔ） | BJ6: （ｔ） | BK6: （ｔ） | BL6: （ｔ） | BM6: （ｔ） | BN6: （ｔ） | BO6: （ｔ） | BP6: （ｔ） | BQ6: （ｔ） | BR6: （ｔ） | BS6: （ｔ） | BT6: （ｔ） | BU6: （ｔ） | BV6: （ｔ） | BW6: （ｔ） | BX6: （ｔ） | BY6: （ｔ） | BZ6: （ｔ） | CA6: （ｔ） | CB6: （ｔ） | CC6: （ｔ） | CD6: （ｔ） | CE6: （ｔ） | CF6: （ｔ） | CG6: （ｔ） | CH6: （ｔ） | CI6: （ｔ） | CJ6: （ｔ） | CK6: （ｔ） | CL6: （ｔ） | CM6: （ｔ） | CN6: （ｔ） | CO6: （ｔ） | CP6: （ｔ） | CQ6: （ｔ） | CR6: （ｔ） | CS6: （ｔ） | CT6: （ｔ） | CU6: （ｔ） | CV6: （ｔ） | CW6: （ｔ） | CX6: （ｔ） | CY6: （ｔ） | CZ6: （ｔ） | DA6: （ｔ） | DB6: （ｔ） | DC6: （ｔ） | DD6: （ｔ） | DE6: （ｔ） | DF6: （ｔ） | DG6: （ｔ） | DH6: （ｔ） | DI6: （ｔ） | DJ6: （ｔ） | DK6: （ｔ） | DL6: （ｔ） | DM6: （ｔ） | DN6: （ｔ） | DO6: （ｔ） | DP6: （ｔ） | DQ6: （ｔ） | DR6: （ｔ） | DS6: （ｔ） | DT6: （ｔ） | DU6: （ｔ） | DV6: （ｔ） | DW6: （ｔ） | DX6: （ｔ） | DY6: （ｔ） | DZ6: （ｔ） | EA6: （ｔ） | EB6: （ｔ） | EC6: （ｔ） | ED6: （ｔ） | EE6: （ｔ） | EF6: （ｔ） | EG6: （ｔ） | EH6: （ｔ） | EI6: （ｔ） | EJ6: （ｔ） | EK6: （ｔ） | EL6: （ｔ） | EM6: （ｔ） | EN6: （ｔ）
A7: =ごみ処理概要!A7 -> 愛知県 | B7: =ごみ処理概要!B7 -> 23000 | C7: 合計 | D7: =SUM(E7,T7,AI7,AX7,BM7,CB7,CQ7,DF7,DU7,DZ7) -> 2197221 | E7: =SUM(F7,M7) -> 1725821 | F7: =SUM(G7:L7) -> 1618791 | G7: =SUM(G$8:G$207) -> 0 | H7: =SUM(H$8:H$207) -> 1614980 | I7: =SUM(I$8:I$207) -> 0 | J7: =SUM(J$8:J$207) -> 2266 | K7: =SUM(K$8:K$207) -> 257 | L7: =SUM(L$8:L$207) -> 1288 | M7: =SUM(N7:S7) -> 107030 | N7: =SUM(N$8:N$207) -> 0 | O7: =SUM(O$8:O$207) -> 105530 | P7: =SUM(P$8:P$207) -> 22 | Q7: =SUM(Q$8:Q$207) -> 1 | R7: =SUM(R$8:R$207) -> 2 | S7: =SUM(S$8:S$207) -> 1475 | T7: =SUM(U7,AB7) -> 99661 | U7: =SUM(V7:AA7) -> 65873 | V7: =SUM(V$8:V$207) -> 0 | W7: =SUM(W$8:W$207) -> 4493 | X7: =SUM(X$8:X$207) -> 41734 | Y7: =SUM(Y$8:Y$207) -> 1948 | Z7: =SUM(Z$8:Z$207) -> 1824 | AA7: =SUM(AA$8:AA$207) -> 15874 | AB7: =SUM(AC7:AH7) -> 33788 | AC7: =SUM(AC$8:AC$207) -> 0 | AD7: =SUM(AD$8:AD$207) -> 2621 | AE7: =SUM(AE$8:AE$207) -> 10309 | AF7: =SUM(AF$8:AF$207) -> 4 | AG7: =SUM(AG$8:AG$207) -> 771 | AH7: =SUM(AH$8:AH$207) -> 20083 | AI7: =SUM(AJ7,AQ7) -> 37020 | AJ7: =SUM(AK7:AP7) -> 25253 | AK7: =SUM(AK$8:AK$207) -> 0 | AL7: =SUM(AL$8:AL$207) -> 0 | AM7: =SUM(AM$8:AM$207) -> 0 | AN7: =SUM(AN$8:AN$207) -> 25253 | AO7: =SUM(AO$8:AO$207) -> 0 | AP7: =SUM(AP$8:AP$207) -> 0 | AQ7: =SUM(AR7:AW7) -> 11767 | AR7: =SUM(AR$8:AR$207) -> 0 | AS7: =SUM(AS$8:AS$207) -> 0 | AT7: =SUM(AT$8:AT$207) -> 0 | AU7: =SUM(AU$8:AU$207) -> 11357 | AV7: =SUM(AV$8:AV$207) -> 400 | AW7: =SUM(AW$8:AW$207) -> 10 | AX7: =SUM(AY7,BF7) -> 4789 | AY7: =SUM(AZ7:BE7) -> 4787 | AZ7: =SUM(AZ$8:AZ$207) -> 0 | BA7: =SUM(BA$8:BA$207) -> 0 | BB7: =SUM(BB$8:BB$207) -> 0 | BC7: =SUM(BC$8:BC$207) -> 4787 | BD7: =SUM(BD$8:BD$207) -> 0 | BE7: =SUM(BE$8:BE$207) -> 0 | BF7: =SUM(BG7:BL7) -> 2 | BG7: =SUM(BG$8:BG$207) -> 0 | BH7: =SUM(BH$8:BH$207) -> 0 | BI7: =SUM(BI$8:BI$207) -> 0 | BJ7: =SUM(BJ$8:BJ$207) -> 2 | BK7: =SUM(BK$8:BK$207) -> 0 | BL7: =SUM(BL$8:BL$207) -> 0 | BM7: =SUM(BN7,BU7) -> 22085 | BN7: =SUM(BO7:BT7) -> 21972 | BO7: =SUM(BO$8:BO$207) -> 0 | BP7: =SUM(BP$8:BP$207) -> 0 | BQ7: =SUM(BQ$8:BQ$207) -> 0 | BR7: =SUM(BR$8:BR$207) -> 21972 | BS7: =SUM(BS$8:BS$207) -> 0 | BT7: =SUM(BT$8:BT$207) -> 0 | BU7: =SUM(BV7:CA7) -> 113 | BV7: =SUM(BV$8:BV$207) -> 0 | BW7: =SUM(BW$8:BW$207) -> 0 | BX7: =SUM(BX$8:BX$207) -> 0 | BY7: =SUM(BY$8:BY$207) -> 113 | BZ7: =SUM(BZ$8:BZ$207) -> 0 | CA7: =SUM(CA$8:CA$207) -> 0 | CB7: =SUM(CC7,CJ7) -> 7828 | CC7: =SUM(CD7:CI7) -> 1169 | CD7: =SUM(CD$8:CD$207) -> 0 | CE7: =SUM(CE$8:CE$207) -> 0 | CF7: =SUM(CF$8:CF$207) -> 0 | CG7: =SUM(CG$8:CG$207) -> 847 | CH7: =SUM(CH$8:CH$207) -> 0 | CI7: =SUM(CI$8:CI$207) -> 322 | CJ7: =SUM(CK7:CP7) -> 6659 | CK7: =SUM(CK$8:CK$207) -> 0 | CL7: =SUM(CL$8:CL$207) -> 0 | CM7: =SUM(CM$8:CM$207) -> 0 | CN7: =SUM(CN$8:CN$207) -> 4173 | CO7: =SUM(CO$8:CO$207) -> 417 | CP7: =SUM(CP$8:CP$207) -> 2069 | CQ7: =SUM(CR7,CY7) -> 199900 | CR7: =SUM(CS7:CX7) -> 140124 | CS7: =SUM(CS$8:CS$207) -> 0 | CT7: =SUM(CT$8:CT$207) -> 465 | CU7: =SUM(CU$8:CU$207) -> 7349 | CV7: =SUM(CV$8:CV$207) -> 130414 | CW7: =SUM(CW$8:CW$207) -> 1012 | CX7: =SUM(CX$8:CX$207) -> 884 | CY7: =SUM(CZ7:DE7) -> 59776 | CZ7: =SUM(CZ$8:CZ$207) -> 0 | DA7: =SUM(DA$8:DA$207) -> 0 | DB7: =SUM(DB$8:DB$207) -> 3571 | DC7: =SUM(DC$8:DC$207) -> 52190 | DD7: =SUM(DD$8:DD$207) -> 96 | DE7: =SUM(DE$8:DE$207) -> 3919 | DF7: =SUM(DG7,DN7) -> 1613 | DG7: =SUM(DH7:DM7) -> 1098 | DH7: =SUM(DH$8:DH$207) -> 0 | DI7: =SUM(DI$8:DI$207) -> 101 | DJ7: =SUM(DJ$8:DJ$207) -> 736 | DK7: =SUM(DK$8:DK$207) -> 0 | DL7: =SUM(DL$8:DL$207) -> 3 | DM7: =SUM(DM$8:DM$207) -> 258 | DN7: =SUM(DO7:DT7) -> 515 | DO7: =SUM(DO$8:DO$207) -> 0 | DP7: =SUM(DP$8:DP$207) -> 0 | DQ7: =SUM(DQ$8:DQ$207) -> 113 | DR7: =SUM(DR$8:DR$207) -> 6 | DS7: =SUM(DS$8:DS$207) -> 0 | DT7: =SUM(DT$8:DT$207) -> 396 | DU7: =SUM(DV7:DY7) -> 84629 | DV7: =SUM(DV$8:DV$207) -> 68069 | DW7: =SUM(DW$8:DW$207) -> 275 | DX7: =SUM(DX$8:DX$207) -> 16210 | DY7: =SUM(DY$8:DY$207) -> 75 | DZ7: =SUM(EA7,EH7) -> 13875 | EA7: =SUM(EB7:EG7) -> 3462 | EB7: =SUM(EB$8:EB$207) -> 0 | EC7: =SUM(EC$8:EC$207) -> 0 | ED7: =SUM(ED$8:ED$207) -> 3416 | EE7: =SUM(EE$8:EE$207) -> 29 | EF7: =SUM(EF$8:EF$207) -> 3 | EG7: =SUM(EG$8:EG$207) -> 14 | EH7: =SUM(EI7:EN7) -> 10413 | EI7: =SUM(EI$8:EI$207) -> 0 | EJ7: =SUM(EJ$8:EJ$207) -> 0 | EK7: =SUM(EK$8:EK$207) -> 9759 | EL7: =SUM(EL$8:EL$207) -> 239 | EM7: =SUM(EM$8:EM$207) -> 415 | EN7: =SUM(EN$8:EN$207) -> 0
A8: 愛知県 | B8: 23100 | C8: 名古屋市 | D8: =SUM(E8,T8,AI8,AX8,BM8,CB8,CQ8,DF8,DU8,DZ8) -> 666060 | E8: =SUM(F8,M8) -> 521595 | F8: =SUM(G8:L8) -> 513355 | G8: 0 | H8: 513106 | I8: 0 | J8: 0 | K8: 249 | L8: 0 | M8: =SUM(N8:S8) -> 8240 | N8: 0 | O8: 8240 | P8: 0 | Q8: 0 | R8: 0 | S8: 0 | T8: =SUM(U8,AB8) -> 30118 | U8: =SUM(V8:AA8) -> 26257 | V8: 0 | W8: 0 | X8: 16856 | Y8: 0 | Z8: 1016 | AA8: 8385 | AB8: =SUM(AC8:AH8) -> 3861 | AC8: 0 | AD8: 0 | AE8: 3861 | AF8: 0 | AG8: 0 | AH8: 0 | AI8: =SUM(AJ8,AQ8) -> 14249 | AJ8: =SUM(AK8:AP8) -> 14153 | AK8: 0 | AL8: 0 | AM8: 0 | AN8: 14153 | AO8: 0 | AP8: 0 | AQ8: =SUM(AR8:AW8) -> 96 | AR8: 0 | AS8: 0 | AT8: 0 | AU8: 96 | AV8: 0 | AW8: 0 | AX8: =SUM(AY8,BF8) -> 4331 | AY8: =SUM(AZ8:BE8) -> 4329 | AZ8: 0 | BA8: 0 | BB8: 0 | BC8: 4329 | BD8: 0 | BE8: 0 | BF8: =SUM(BG8:BL8) -> 2 | BG8: 0 | BH8: 0 | BI8: 0 | BJ8: 2 | BK8: 0 | BL8: 0 | BM8: =SUM(BN8,BU8) -> 4849 | BN8: =SUM(BO8:BT8) -> 4736 | BO8: 0 | BP8: 0 | BQ8: 0 | BR8: 4736 | BS8: 0 | BT8: 0 | BU8: =SUM(BV8:CA8) -> 113 | BV8: 0 | BW8: 0 | BX8: 0 | BY8: 113 | BZ8: 0 | CA8: 0 | CB8: =SUM(CC8,CJ8) -> 0 | CC8: =SUM(CD8:CI8) -> 0 | CD8: 0 | CE8: 0 | CF8: 0 | CG8: 0 | CH8: 0 | CI8: 0 | CJ8: =SUM(CK8:CP8) -> 0 | CK8: 0 | CL8: 0 | CM8: 0 | CN8: 0 | CO8: 0 | CP8: 0 | CQ8: =SUM(CR8,CY8) -> 89107 | CR8: =SUM(CS8:CX8) -> 58922 | CS8: 0 | CT8: 464 | CU8: 7 | CV8: 58129 | CW8: 322 | CX8: 0 | CY8: =SUM(CZ8:DE8) -> 30185 | CZ8: 0 | DA8: 0 | DB8: 0 | DC8: 30092 | DD8: 93 | DE8: 0 | DF8: =SUM(DG8,DN8) -> 179 | DG8: =SUM(DH8:DM8) -> 101 | DH8: 0 | DI8: 101 | DJ8: 0 | DK8: 0 | DL8: 0 | DM8: 0 | DN8: =SUM(DO8:DT8) -> 78 | DO8: 0 | DP8: 0 | DQ8: 78 | DR8: 0 | DS8: 0 | DT8: 0 | DU8: =SUM(DV8:DY8) -> 0 | DV8: 0 | DW8: 0 | DX8: 0 | DY8: 0 | DZ8: =SUM(EA8,EH8) -> 1632 | EA8: =SUM(EB8:EG8) -> 3 | EB8: 0 | EC8: 0 | ED8: 0 | EE8: 0 | EF8: 3 | EG8: 0 | EH8: =SUM(EI8:EN8) -> 1629 | EI8: 0 | EJ8: 0 | EK8: 1629 | EL8: 0 | EM8: 0 | EN8: 0
A9: 愛知県 | B9: 23201 | C9: 豊橋市 | D9: =SUM(E9,T9,AI9,AX9,BM9,CB9,CQ9,DF9,DU9,DZ9) -> 114925 | E9: =SUM(F9,M9) -> 77905 | F9: =SUM(G9:L9) -> 68310 | G9: 0 | H9: 67213 | I9: 0 | J9: 1097 | K9: 0 | L9: 0 | M9: =SUM(N9:S9) -> 9595 | N9: 0 | O9: 9595 | P9: 0 | Q9: 0 | R9: 0 | S9: 0 | T9: =SUM(U9,AB9) -> 9821 | U9: =SUM(V9:AA9) -> 3636 | V9: 0 | W9: 50 | X9: 3091 | Y9: 0 | Z9: 170 | AA9: 325 | AB9: =SUM(AC9:AH9) -> 6185 | AC9: 0 | AD9: 2616 | AE9: 922 | AF9: 0 | AG9: 0 | AH9: 2647 | AI9: =SUM(AJ9,AQ9) -> 0 | AJ9: =SUM(AK9:AP9) -> 0 | AK9: 0 | AL9: 0 | AM9: 0 | AN9: 0 | AO9: 0 | AP9: 0 | AQ9: =SUM(AR9:AW9) -> 0 | AR9: 0 | AS9: 0 | AT9: 0 | AU9: 0 | AV9: 0 | AW9: 0 | AX9: =SUM(AY9,BF9) -> 0 | AY9: =SUM(AZ9:BE9) -> 0 | AZ9: 0 | BA9: 0 | BB9: 0 | BC9: 0 | BD9: 0 | BE9: 0 | BF9: =SUM(BG9:BL9) -> 0 | BG9: 0 | BH9: 0 | BI9: 0 | BJ9: 0 | BK9: 0 | BL9: 0 | BM9: =SUM(BN9,BU9) -> 15040 | BN9: =SUM(BO9:BT9) -> 15040 | BO9: 0 | BP9: 0 | BQ9: 0 | BR9: 15040 | BS9: 0 | BT9: 0 | BU9: =SUM(BV9:CA9) -> 0 | BV9: 0 | BW9: 0 | BX9: 0 | BY9: 0 | BZ9: 0 | CA9: 0 | CB9: =SUM(CC9,CJ9) -> 0 | CC9: =SUM(CD9:CI9) -> 0 | CD9: 0 | CE9: 0 | CF9: 0 | CG9: 0 | CH9: 0 | CI9: 0 | CJ9: =SUM(CK9:CP9) -> 0 | CK9: 0 | CL9: 0 | CM9: 0 | CN9: 0 | CO9: 0 | CP9: 0 | CQ9: =SUM(CR9,CY9) -> 8272 | CR9: =SUM(CS9:CX9) -> 7841 | CS9: 0 | CT9: 0 | CU9: 0 | CV9: 7836 | CW9: 0 | CX9: 5 | CY9: =SUM(CZ9:DE9) -> 431 | CZ9: 0 | DA9: 0 | DB9: 0 | DC9: 431 | DD9: 0 | DE9: 0 | DF9: =SUM(DG9,DN9) -> 0 | DG9: =SUM(DH9:DM9) -> 0 | DH9: 0 | DI9: 0 | DJ9: 0 | DK9: 0 | DL9: 0 | DM9: 0 | DN9: =SUM(DO9:DT9) -> 0 | DO9: 0 | DP9: 0 | DQ9: 0 | DR9: 0 | DS9: 0 | DT9: 0 | DU9: =SUM(DV9:DY9) -> 890 | DV9: 221 | DW9: 0 | DX9: 669 | DY9: 0 | DZ9: =SUM(EA9,EH9) -> 2997 | EA9: =SUM(EB9:EG9) -> 804 | EB9: 0 | EC9: 0 | ED9: 804 | EE9: 0 | EF9: 0 | EG9: 0 | EH9: =SUM(EI9:EN9) -> 2193 | EI9: 0 | EJ9: 0 | EK9: 2193 | EL9: 0 | EM9: 0 | EN9: 0
A10: 愛知県 | B10: 23202 | C10: 岡崎市 | D10: =SUM(E10,T10,AI10,AX10,BM10,CB10,CQ10,DF10,DU10,DZ10) -> 119690 | E10: =SUM(F10,M10) -> 103669 | F10: =SUM(G10:L10) -> 90619 | G10: 0 | H10: 90545 | I10: 0 | J10: 0 | K10: 0 | L10: 74 | M10: =SUM(N10:S10) -> 13050 | N10: 0 | O10: 13050 | P10: 0 | Q10: 0 | R10: 0 | S10: 0 | T10: =SUM(U10,AB10) -> 0 | U10: =SUM(V10:AA10) -> 0 | V10: 0 | W10: 0 | X10: 0 | Y10: 0 | Z10: 0 | AA10: 0 | AB10: =SUM(AC10:AH10) -> 0 | AC10: 0 | AD10: 0 | AE10: 0 | AF10: 0 | AG10: 0 | AH10: 0 | AI10: =SUM(AJ10,AQ10) -> 0 | AJ10: =SUM(AK10:AP10) -> 0 | AK10: 0 | AL10: 0 | AM10: 0 | AN10: 0 | AO10: 0 | AP10: 0 | AQ10: =SUM(AR10:AW10) -> 0 | AR10: 0 | AS10: 0 | AT10: 0 | AU10: 0 | AV10: 0 | AW10: 0 | AX10: =SUM(AY10,BF10) -> 0 | AY10: =SUM(AZ10:BE10) -> 0 | AZ10: 0 | BA10: 0 | BB10: 0 | BC10: 0 | BD10: 0 | BE10: 0 | BF10: =SUM(BG10:BL10) -> 0 | BG10: 0 | BH10: 0 | BI10: 0 | BJ10: 0 | BK10: 0 | BL10: 0 | BM10: =SUM(BN10,BU10) -> 0 | BN10: =SUM(BO10:BT10) -> 0 | BO10: 0 | BP10: 0 | BQ10: 0 | BR10: 0 | BS10: 0 | BT10: 0 | BU10: =SUM(BV10:CA10) -> 0 | BV10: 0 | BW10: 0 | BX10: 0 | BY10: 0 | BZ10: 0 | CA10: 0 | CB10: =SUM(CC10,CJ10) -> 0 | CC10: =SUM(CD10:CI10) -> 0 | CD10: 0 | CE10: 0 | CF10: 0 | CG10: 0 | CH10: 0 | CI10: 0 | CJ10: =SUM(CK10:CP10) -> 0 | CK10: 0 | CL10: 0 | CM10: 0 | CN10: 0 | CO10: 0 | CP10: 0 | CQ10: =SUM(CR10,CY10) -> 12789 | CR10: =SUM(CS10:CX10) -> 10355 | CS10: 0 | CT10: 0 | CU10: 2236 | CV10: 7886 | CW10: 129 | CX10: 104 | CY10: =SUM(CZ10:DE10) -> 2434 | CZ10: 0 | DA10: 0 | DB10: 2432 | DC10: 2 | DD10: 0 | DE10: 0 | DF10: =SUM(DG10,DN10) -> 0 | DG10: =SUM(DH10:DM10) -> 0 | DH10: 0 | DI10: 0 | DJ10: 0 | DK10: 0 | DL10: 0 | DM10: 0 | DN10: =SUM(DO10:DT10) -> 0 | DO10: 0 | DP10: 0 | DQ10: 0 | DR10: 0 | DS10: 0 | DT10: 0 | DU10: =SUM(DV10:DY10) -> 0 | DV10: 0 | DW10: 0 | DX10: 0 | DY10: 0 | DZ10: =SUM(EA10,EH10) -> 3232 | EA10: =SUM(EB10:EG10) -> 0 | EB10: 0 | EC10: 0 | ED10: 0 | EE10: 0 | EF10: 0 | EG10: 0 | EH10: =SUM(EI10:EN10) -> 3232 | EI10: 0 | EJ10: 0 | EK10: 3232 | EL10: 0 | EM10: 0 | EN10: 0
A11: 愛知県 | B11: 23203 | C11: 一宮市 | D11: =SUM(E11,T11,AI11,AX11,BM11,CB11,CQ11,DF11,DU11,DZ11) -> 112346 | E11: =SUM(F11,M11) -> 87219 | F11: =SUM(G11:L11) -> 81440 | G11: 0 | H11: 81440 | I11: 0 | J11: 0 | K11: 0 | L11: 0 | M11: =SUM(N11:S11) -> 5779 | N11: 0 | O11: 5779 | P11: 0 | Q11: 0 | R11: 0 | S11: 0 | T11: =SUM(U11,AB11) -> 7526 | U11: =SUM(V11:AA11) -> 5473 | V11: 0 | W11: 0 | X11: 4086 | Y11: 492 | Z11: 14 | AA11: 881 | AB11: =SUM(AC11:AH11) -> 2053 | AC11: 0 | AD11: 0 | AE11: 1319 | AF11: 0 | AG11: 734 | AH11: 0 | AI11: =SUM(AJ11,AQ11) -> 5110 | AJ11: =SUM(AK11:AP11) -> 5110 | AK11: 0 | AL11: 0 | AM11: 0 | AN11: 5110 | AO11: 0 | AP11: 0 | AQ11: =SUM(AR11:AW11) -> 0 | AR11: 0 | AS11: 0 | AT11: 0 | AU11: 0 | AV11: 0 | AW11: 0 | AX11: =SUM(AY11,BF11) -> 0 | AY11: =SUM(AZ11:BE11) -> 0 | AZ11: 0 | BA11: 0 | BB11: 0 | BC11: 0 | BD11: 0 | BE11: 0 | BF11: =SUM(BG11:BL11) -> 0 | BG11: 0 | BH11: 0 | BI11: 0 | BJ11: 0 | BK11: 0 | BL11: 0 | BM11: =SUM(BN11,BU11) -> 0 | BN11: =SUM(BO11:BT11) -> 0 | BO11: 0 | BP11: 0 | BQ11: 0 | BR11: 0 | BS11: 0 | BT11: 0 | BU11: =SUM(BV11:CA11) -> 0 | BV11: 0 | BW11: 0 | BX11: 0 | BY11: 0 | BZ11: 0 | CA11: 0 | CB11: =SUM(CC11,CJ11) -> 0 | CC11: =SUM(CD11:CI11) -> 0 | CD11: 0 | CE11: 0 | CF11: 0 | CG11: 0 | CH11: 0 | CI11: 0 | CJ11: =SUM(CK11:CP11) -> 0 | CK11: 0 | CL11: 0 | CM11: 0 | CN11: 0 | CO11: 0 | CP11: 0 | CQ11: =SUM(CR11,CY11) -> 5146 | CR11: =SUM(CS11:CX11) -> 5146 | CS11: 0 | CT11: 0 | CU11: 0 | CV11: 5146 | CW11: 0 | CX11: 0 | CY11: =SUM(CZ11:DE11) -> 0 | CZ11: 0 | DA11: 0 | DB11: 0 | DC11: 0 | DD11: 0 | DE11: 0 | DF11: =SUM(DG11,DN11) -> 3 | DG11: =SUM(DH11:DM11) -> 3 | DH11: 0 | DI11: 0 | DJ11: 0 | DK11: 0 | DL11: 3 | DM11: 0 | DN11: =SUM(DO11:DT11) -> 0 | DO11: 0 | DP11: 0 | DQ11: 0 | DR11: 0 | DS11: 0 | DT11: 0 | DU11: =SUM(DV11:DY11) -> 6731 | DV11: 5494 | DW11: 78 | DX11: 1133 | DY11: 26 | DZ11: =SUM(EA11,EH11) -> 611 | EA11: =SUM(EB11:EG11) -> 26 | EB11: 0 | EC11: 0 | ED11: 12 | EE11: 0 | EF11: 0 | EG11: 14 | EH11: =SUM(EI11:EN11) -> 585 | EI11: 0 | EJ11: 0 | EK11: 585 | EL11: 0 | EM11: 0 | EN11: 0
A12: 愛知県 | B12: 23204 | C12: 瀬戸市 | D12: =SUM(E12,T12,AI12,AX12,BM12,CB12,CQ12,DF12,DU12,DZ12) -> 35950 | E12: =SUM(F12,M12) -> 29305 | F12: =SUM(G12:L12) -> 27687 | G12: 0 | H12: 27687 | I12: 0 | J12: 0 | K12: 0 | L12: 0 | M12: =SUM(N12:S12) -> 1618 | N12: 0 | O12: 1618 | P12: 0 | Q12: 0 | R12: 0 | S12: 0 | T12: =SUM(U12,AB12) -> 1552 | U12: =SUM(V12:AA12) -> 1121 | V12: 0 | W12: 0 | X12: 737 | Y12: 0 | Z12: 0 | AA12: 384 | AB12: =SUM(AC12:AH12) -> 431 | AC12: 0 | AD12: 0 | AE12: 170 | AF12: 0 | AG12: 0 | AH12: 261 | AI12: =SUM(AJ12,AQ12) -> 0 | AJ12: =SUM(AK12:AP12) -> 0 | AK12: 0 | AL12: 0 | AM12: 0 | AN12: 0 | AO12: 0 | AP12: 0 | AQ12: =SUM(AR12:AW12) -> 0 | AR12: 0 | AS12: 0 | AT12: 0 | AU12: 0 | AV12: 0 | AW12: 0 | AX12: =SUM(AY12,BF12) -> 0 | AY12: =SUM(AZ12:BE12) -> 0 | AZ12: 0 | BA12: 0 | BB12: 0 | BC12: 0 | BD12: 0 | BE12: 0 | BF12: =SUM(BG12:BL12) -> 0 | BG12: 0 | BH12: 0 | BI12: 0 | BJ12: 0 | BK12: 0 | BL12: 0 | BM12: =SUM(BN12,BU12) -> 0 | BN12: =SUM(BO12:BT12) -> 0 | BO12: 0 | BP12: 0 | BQ12: 0 | BR12: 0 | BS12: 0 | BT12: 0 | BU12: =SUM(BV12:CA12) -> 0 | BV12: 0 | BW12: 0 | BX12: 0 | BY12: 0 | BZ12: 0 | CA12: 0 | CB12: =SUM(CC12,CJ12) -> 0 | CC12: =SUM(CD12:CI12) -> 0 | CD12: 0 | CE12: 0 | CF12: 0 | CG12: 0 | CH12: 0 | CI12: 0 | CJ12: =SUM(CK12:CP12) -> 0 | CK12: 0 | CL12: 0 | CM12: 0 | CN12: 0 | CO12: 0 | CP12: 0 | CQ12: =SUM(CR12,CY12) -> 0 | CR12: =SUM(CS12:CX12) -> 0 | CS12: 0 | CT12: 0 | CU12: 0 | CV12: 0 | CW12: 0 | CX12: 0 | CY12: =SUM(CZ12:DE12) -> 0 | CZ12: 0 | DA12: 0 | DB12: 0 | DC12: 0 | DD12: 0 | DE12: 0 | DF12: =SUM(DG12,DN12) -> 0 | DG12: =SUM(DH12:DM12) -> 0 | DH12: 0 | DI12: 0 | DJ12: 0 | DK12: 0 | DL12: 0 | DM12: 0 | DN12: =SUM(DO12:DT12) -> 0 | DO12: 0 | DP12: 0 | DQ12: 0 | DR12: 0 | DS12: 0 | DT12: 0 | DU12: =SUM(DV12:DY12) -> 5093 | DV12: 3799 | DW12: 0 | DX12: 1294 | DY12: 0 | DZ12: =SUM(EA12,EH12) -> 0 | EA12: =SUM(EB12:EG12) -> 0 | EB12: 0 | EC12: 0 | ED12: 0 | EE12: 0 | EF12: 0 | EG12: 0 | EH12: =SUM(EI12:EN12) -> 0 | EI12: 0 | EJ12: 0 | EK12: 0 | EL12: 0 | EM12: 0 | EN12: 0
A13: 愛知県 | B13: 23205 | C13: 半田市 | D13: =SUM(E13,T13,AI13,AX13,BM13,CB13,CQ13,DF13,DU13,DZ13) -> 35188 | E13: =SUM(F13,M13) -> 23957 | F13: =SUM(G13:L13) -> 23202 | G13: 0 | H13: 23202 | I13: 0 | J13: 0 | K13: 0 | L13: 0 | M13: =SUM(N13:S13) -> 755 | N13: 0 | O13: 755 | P13: 0 | Q13: 0 | R13: 0 | S13: 0 | T13: =SUM(U13,AB13) -> 1792 | U13: =SUM(V13:AA13) -> 1181 | V13: 0 | W13: 0 | X13: 1167 | Y13: 0 | Z13: 0 | AA13: 14 | AB13: =SUM(AC13:AH13) -> 611 | AC13: 0 | AD13: 0 | AE13: 88 | AF13: 0 | AG13: 0 | AH13: 523 | AI13: =SUM(AJ13,AQ13) -> 4200 | AJ13: =SUM(AK13:AP13) -> 0 | AK13: 0 | AL13: 0 | AM13: 0 | AN13: 0 | AO13: 0 | AP13: 0 | AQ13: =SUM(AR13:AW13) -> 4200 | AR13: 0 | AS13: 0 | AT13: 0 | AU13: 4200 | AV13: 0 | AW13: 0 | AX13: =SUM(AY13,BF13) -> 0 | AY13: =SUM(AZ13:BE13) -> 0 | AZ13: 0 | BA13: 0 | BB13: 0 | BC13: 0 | BD13: 0 | BE13: 0 | BF13: =SUM(BG13:BL13) -> 0 | BG13: 0 | BH13: 0 | BI13: 0 | BJ13: 0 | BK13: 0 | BL13: 0 | BM13: =SUM(BN13,BU13) -> 0 | BN13: =SUM(BO13:BT13) -> 0 | BO13: 0 | BP13: 0 | BQ13: 0 | BR13: 0 | BS13: 0 | BT13: 0 | BU13: =SUM(BV13:CA13) -> 0 | BV13: 0 | BW13: 0 | BX13: 0 | BY13: 0 | BZ13: 0 | CA13: 0 | CB13: =SUM(CC13,CJ13) -> 0 | CC13: =SUM(CD13:CI13) -> 0 | CD13: 0 | CE13: 0 | CF13: 0 | CG13: 0 | CH13: 0 | CI13: 0 | CJ13: =SUM(CK13:CP13) -> 0 | CK13: 0 | CL13: 0 | CM13: 0 | CN13: 0 | CO13: 0 | CP13: 0 | CQ13: =SUM(CR13,CY13) -> 5239 | CR13: =SUM(CS13:CX13) -> 2274 | CS13: 0 | CT13: 0 | CU13: 0 | CV13: 2274 | CW13: 0 | CX13: 0 | CY13: =SUM(CZ13:DE13) -> 2965 | CZ13: 0 | DA13: 0 | DB13: 0 | DC13: 2965 | DD13: 0 | DE13: 0 | DF13: =SUM(DG13,DN13) -> 0 | DG13: =SUM(DH13:DM13) -> 0 | DH13: 0 | DI13: 0 | DJ13: 0 | DK13: 0 | DL13: 0 | DM13: 0 | DN13: =SUM(DO13:DT13) -> 0 | DO13: 0 | DP13: 0 | DQ13: 0 | DR13: 0 | DS13: 0 | DT13: 0 | DU13: =SUM(DV13:DY13) -> 0 | DV13: 0 | DW13: 0 | DX13: 0 | DY13: 0 | DZ13: =SUM(EA13,EH13) -> 0 | EA13: =SUM(EB13:EG13) -> 0 | EB13: 0 | EC13: 0 | ED13: 0 | EE13: 0 | EF13: 0 | EG13: 0 | EH13: =SUM(EI13:EN13) -> 0 | EI13: 0 | EJ13: 0 | EK13: 0 | EL13: 0 | EM13: 0 | EN13: 0
A14: 愛知県 | B14: 23206 | C14: 春日井市 | D14: =SUM(E14,T14,AI14,AX14,BM14,CB14,CQ14,DF14,DU14,DZ14) -> 84012 | E14: =SUM(F14,M14) -> 69951 | F14: =SUM(G14:L14) -> 65446 | G14: 0 | H14: 64543 | I14: 0 | J14: 903 | K14: 0 | L14: 0 | M14: =SUM(N14:S14) -> 4505 | N14: 0 | O14: 4505 | P14: 0 | Q14: 0 | R14: 0 | S14: 0 | T14: =SUM(U14,AB14) -> 4771 | U14: =SUM(V14:AA14) -> 3034 | V14: 0 | W14: 0 | X14: 2312 | Y14: 385 | Z14: 20 | AA14: 317 | AB14: =SUM(AC14:AH14) -> 1737 | AC14: 0 | AD14: 0 | AE14: 410 | AF14: 0 | AG14: 32 | AH14: 1295 | AI14: =SUM(AJ14,AQ14) -> 0 | AJ14: =SUM(AK14:AP14) -> 0 | AK14: 0 | AL14: 0 | AM14: 0 | AN14: 0 | AO14: 0 | AP14: 0 | AQ14: =SUM(AR14:AW14) -> 0 | AR14: 0 | AS14: 0 | AT14: 0 | AU14: 0 | AV14: 0 | AW14: 0 | AX14: =SUM(AY14,BF14) -> 0 | AY14: =SUM(AZ14:BE14) -> 0 | AZ14: 0 | BA14: 0 | BB14: 0 | BC14: 0 | BD14: 0 | BE14: 0 | BF14: =SUM(BG14:BL14) -> 0 | BG14: 0 | BH14: 0 | BI14: 0 | BJ14: 0 | BK14: 0 | BL14: 0 | BM14: =SUM(BN14,BU14) -> 0 | BN14: =SUM(BO14:BT14) -> 0 | BO14: 0 | BP14: 0 | BQ14: 0 | BR14: 0 | BS14: 0 | BT14: 0 | BU14: =SUM(BV14:CA14) -> 0 | BV14: 0 | BW14: 0 | BX14: 0 | BY14: 0 | BZ14: 0 | CA14: 0 | CB14: =SUM(CC14,CJ14) -> 0 | CC14: =SUM(CD14:CI14) -> 0 | CD14: 0 | CE14: 0 | CF14: 0 | CG14: 0 | CH14: 0 | CI14: 0 | CJ14: =SUM(CK14:CP14) -> 0 | CK14: 0 | CL14: 0 | CM14: 0 | CN14: 0 | CO14: 0 | CP14: 0 | CQ14: =SUM(CR14,CY14) -> 1847 | CR14: =SUM(CS14:CX14) -> 1847 | CS14: 0 | CT14: 0 | CU14: 0 | CV14: 1847 | CW14: 0 | CX14: 0 | CY14: =SUM(CZ14:DE14) -> 0 | CZ14: 0 | DA14: 0 | DB14: 0 | DC14: 0 | DD14: 0 | DE14: 0 | DF14: =SUM(DG14,DN14) -> 0 | DG14: =SUM(DH14:DM14) -> 0 | DH14: 0 | DI14: 0 | DJ14: 0 | DK14: 0 | DL14: 0 | DM14: 0 | DN14: =SUM(DO14:DT14) -> 0 | DO14: 0 | DP14: 0 | DQ14: 0 | DR14: 0 | DS14: 0 | DT14: 0 | DU14: =SUM(DV14:DY14) -> 6932 | DV14: 6862 | DW14: 70 | DX14: 0 | DY14: 0 | DZ14: =SUM(EA14,EH14) -> 511 | EA14: =SUM(EB14:EG14) -> 167 | EB14: 0 | EC14: 0 | ED14: 167 | EE14: 0 | EF14: 0 | EG14: 0 | EH14: =SUM(EI14:EN14) -> 344 | EI14: 0 | EJ14: 0 | EK14: 0 | EL14: 0 | EM14: 344 | EN14: 0
A15: 愛知県 | B15: 23207 | C15: 豊川市 | D15: =SUM(E15,T15,AI15,AX15,BM15,CB15,CQ15,DF15,DU15,DZ15) -> 63077 | E15: =SUM(F15,M15) -> 51680 | F15: =SUM(G15:L15) -> 46386 | G15: 0 | H15: 46383 | I15: 0 | J15: 0 | K15: 3 | L15: 0 | M15: =SUM(N15:S15) -> 5294 | N15: 0 | O15: 5294 | P15: 0 | Q15: 0 | R15: 0 | S15: 0 | T15: =SUM(U15,AB15) -> 397 | U15: =SUM(V15:AA15) -> 4 | V15: 0 | W15: 0 | X15: 0 | Y15: 0 | Z15: 0 | AA15: 4 | AB15: =SUM(AC15:AH15) -> 393 | AC15: 0 | AD15: 0 | AE15: 0 | AF15: 0 | AG15: 0 | AH15: 393 | AI15: =SUM(AJ15,AQ15) -> 1247 | AJ15: =SUM(AK15:AP15) -> 0 | AK15: 0 | AL15: 0 | AM15: 0 | AN15: 0 | AO15: 0 | AP15: 0 | AQ15: =SUM(AR15:AW15) -> 1247 | AR15: 0 | AS15: 0 | AT15: 0 | AU15: 1247 | AV15: 0 | AW15: 0 | AX15: =SUM(AY15,BF15) -> 0 | AY15: =SUM(AZ15:BE15) -> 0 | AZ15: 0 | BA15: 0 | BB15: 0 | BC15: 0 | BD15: 0 | BE15: 0 | BF15: =SUM(BG15:BL15) -> 0 | BG15: 0 | BH15: 0 | BI15: 0 | BJ15: 0 | BK15: 0 | BL15: 0 | BM15: =SUM(BN15,BU15) -> 0 | BN15: =SUM(BO15:BT15) -> 0 | BO15: 0 | BP15: 0 | BQ15: 0 | BR15: 0 | BS15: 0 | BT15: 0 | BU15: =SUM(BV15:CA15) -> 0 | BV15: 0 | BW15: 0 | BX15: 0 | BY15: 0 | BZ15: 0 | CA15: 0 | CB15: =SUM(CC15,CJ15) -> 2022 | CC15: =SUM(CD15:CI15) -> 19 | CD15: 0 | CE15: 0 | CF15: 0 | CG15: 0 | CH15: 0 | CI15: 19 | CJ15: =SUM(CK15:CP15) -> 2003 | CK15: 0 | CL15: 0 | CM15: 0 | CN15: 0 | CO15: 0 | CP15: 2003 | CQ15: =SUM(CR15,CY15) -> 3087 | CR15: =SUM(CS15:CX15) -> 2836 | CS15: 0 | CT15: 0 | CU15: 623 | CV15: 2114 | CW15: 97 | CX15: 2 | CY15: =SUM(CZ15:DE15) -> 251 | CZ15: 0 | DA15: 0 | DB15: 23 | DC15: 0 | DD15: 0 | DE15: 228 | DF15: =SUM(DG15,DN15) -> 0 | DG15: =SUM(DH15:DM15) -> 0 | DH15: 0 | DI15: 0 | DJ15: 0 | DK15: 0 | DL15: 0 | DM15: 0 | DN15: =SUM(DO15:DT15) -> 0 | DO15: 0 | DP15: 0 | DQ15: 0 | DR15: 0 | DS15: 0 | DT15: 0 | DU15: =SUM(DV15:DY15) -> 4608 | DV15: 4608 | DW15: 0 | DX15: 0 | DY15: 0 | DZ15: =SUM(EA15,EH15) -> 36 | EA15: =SUM(EB15:EG15) -> 6 | EB15: 0 | EC15: 0 | ED15: 6 | EE15: 0 | EF15: 0 | EG15: 0 | EH15: =SUM(EI15:EN15) -> 30 | EI15: 0 | EJ15: 0 | EK15: 30 | EL15: 0 | EM15: 0 | EN15: 0
A16: 愛知県 | B16: 23208 | C16: 津島市 | D16: =SUM(E16,T16,AI16,AX16,BM16,CB16,CQ16,DF16,DU16,DZ16) -> 15542 | E16: =SUM(F16,M16) -> 13612 | F16: =SUM(G16:L16) -> 13611 | G16: 0 | H16: 13611 | I16: 0 | J16: 0 | K16: 0 | L16: 0 | M16: =SUM(N16:S16) -> 1 | N16: 0 | O16: 1 | P16: 0 | Q16: 0 | R16: 0 | S16: 0 | T16: =SUM(U16,AB16) -> 796 | U16: =SUM(V16:AA16) -> 640 | V16: 0 | W16: 0 | X16: 364 | Y16: 0 | Z16: 0 | AA16: 276 | AB16: =SUM(AC16:AH16) -> 156 | AC16: 0 | AD16: 0 | AE16: 1 | AF16: 0 | AG16: 0 | AH16: 155 | AI16: =SUM(AJ16,AQ16) -> 0 | AJ16: =SUM(AK16:AP16) -> 0 | AK16: 0 | AL16: 0 | AM16: 0 | AN16: 0 | AO16: 0 | AP16: 0 | AQ16: =SUM(AR16:AW16) -> 0 | AR16: 0 | AS16: 0 | AT16: 0 | AU16: 0 | AV16: 0 | AW16: 0 | AX16: =SUM(AY16,BF16) -> 0 | AY16: =SUM(AZ16:BE16) -> 0 | AZ16: 0 | BA16: 0 | BB16: 0 | BC16: 0 | BD16: 0 | BE16: 0 | BF16: =SUM(BG16:BL16) -> 0 | BG16: 0 | BH16: 0 | BI16: 0 | BJ16: 0 | BK16: 0 | BL16: 0 | BM16: =SUM(BN16,BU16) -> 0 | BN16: =SUM(BO16:BT16) -> 0 | BO16: 0 | BP16: 0 | BQ16: 0 | BR16: 0 | BS16: 0 | BT16: 0 | BU16: =SUM(BV16:CA16) -> 0 | BV16: 0 | BW16: 0 | BX16: 0 | BY16: 0 | BZ16: 0 | CA16: 0 | CB16: =SUM(CC16,CJ16) -> 0 | CC16: =SUM(CD16:CI16) -> 0 | CD16: 0 | CE16: 0 | CF16: 0 | CG16: 0 | CH16: 0 | CI16: 0 | CJ16: =SUM(CK16:CP16) -> 0 | CK16: 0 | CL16: 0 | CM16: 0 | CN16: 0 | CO16: 0 | CP16: 0 | CQ16: =SUM(CR16,CY16) -> 0 | CR16: =SUM(CS16:CX16) -> 0 | CS16: 0 | CT16: 0 | CU16: 0 | CV16: 0 | CW16: 0 | CX16: 0 | CY16: =SUM(CZ16:DE16) -> 0 | CZ16: 0 | DA16: 0 | DB16: 0 | DC16: 0 | DD16: 0 | DE16: 0 | DF16: =SUM(DG16,DN16) -> 0 | DG16: =SUM(DH16:DM16) -> 0 | DH16: 0 | DI16: 0 | DJ16: 0 | DK16: 0 | DL16: 0 | DM16: 0 | DN16: =SUM(DO16:DT16) -> 0 | DO16: 0 | DP16: 0 | DQ16: 0 | DR16: 0 | DS16: 0 | DT16: 0 | DU16: =SUM(DV16:DY16) -> 1133 | DV16: 1109 | DW16: 19 | DX16: 5 | DY16: 0 | DZ16: =SUM(EA16,EH16) -> 1 | EA16: =SUM(EB16:EG16) -> 0 | EB16: 0 | EC16: 0 | ED16: 0 | EE16: 0 | EF16: 0 | EG16: 0 | EH16: =SUM(EI16:EN16) -> 1 | EI16: 0 | EJ16: 0 | EK16: 1 | EL16: 0 | EM16: 0 | EN16: 0
A17: 愛知県 | B17: 23209 | C17: 碧南市 | D17: =SUM(E17,T17,AI17,AX17,BM17,CB17,CQ17,DF17,DU17,DZ17) -> 25422 | E17: =SUM(F17,M17) -> 17011 | F17: =SUM(G17:L17) -> 16731 | G17: 0 | H17: 16731 | I17: 0 | J17: 0 | K17: 0 | L17: 0 | M17: =SUM(N17:S17) -> 280 | N17: 0 | O17: 280 | P17: 0 | Q17: 0 | R17: 0 | S17: 0 | T17: =SUM(U17,AB17) -> 5789 | U17: =SUM(V17:AA17) -> 809 | V17: 0 | W17: 0 | X17: 237 | Y17: 0 | Z17: 0 | AA17: 572 | AB17: =SUM(AC17:AH17) -> 4980 | AC17: 0 | AD17: 0 | AE17: 430 | AF17: 0 | AG17: 0 | AH17: 4550 | AI17: =SUM(AJ17,AQ17) -> 0 | AJ17: =SUM(AK17:AP17) -> 0 | AK17: 0 | AL17: 0 | AM17: 0 | AN17: 0 | AO17: 0 | AP17: 0 | AQ17: =SUM(AR17:AW17) -> 0 | AR17: 0 | AS17: 0 | AT17: 0 | AU17: 0 | AV17: 0 | AW17: 0 | AX17: =SUM(AY17,BF17) -> 73 | AY17: =SUM(AZ17:BE17) -> 73 | AZ17: 0 | BA17: 0 | BB17: 0 | BC17: 73 | BD17: 0 | BE17: 0 | BF17: =SUM(BG17:BL17) -> 0 | BG17: 0 | BH17: 0 | BI17: 0 | BJ17: 0 | BK17: 0 | BL17: 0 | BM17: =SUM(BN17,BU17) -> 0 | BN17: =SUM(BO17:BT17) -> 0 | BO17: 0 | BP17: 0 | BQ17: 0 | BR17: 0 | BS17: 0 | BT17: 0 | BU17: =SUM(BV17:CA17) -> 0 | BV17: 0 | BW17: 0 | BX17: 0 | BY17: 0 | BZ17: 0 | CA17: 0 | CB17: =SUM(CC17,CJ17) -> 0 | CC17: =SUM(CD17:CI17) -> 0 | CD17: 0 | CE17: 0 | CF17: 0 | CG17: 0 | CH17: 0 | CI17: 0 | CJ17: =SUM(CK17:CP17) -> 0 | CK17: 0 | CL17: 0 | CM17: 0 | CN17: 0 | CO17: 0 | CP17: 0 | CQ17: =SUM(CR17,CY17) -> 500 | CR17: =SUM(CS17:CX17) -> 377 | CS17: 0 | CT17: 0 | CU17: 0 | CV17: 377 | CW17: 0 | CX17: 0 | CY17: =SUM(CZ17:DE17) -> 123 | CZ17: 0 | DA17: 0 | DB17: 0 | DC17: 123 | DD17: 0 | DE17: 0 | DF17: =SUM(DG17,DN17) -> 0 | DG17: =SUM(DH17:DM17) -> 0 | DH17: 0 | DI17: 0 | DJ17: 0 | DK17: 0 | DL17: 0 | DM17: 0 | DN17: =SUM(DO17:DT17) -> 0 | DO17: 0 | DP17: 0 | DQ17: 0 | DR17: 0 | DS17: 0 | DT17: 0 | DU17: =SUM(DV17:DY17) -> 1835 | DV17: 1351 | DW17: 0 | DX17: 484 | DY17: 0 | DZ17: =SUM(EA17,EH17) -> 214 | EA17: =SUM(EB17:EG17) -> 101 | EB17: 0 | EC17: 0 | ED17: 101 | EE17: 0 | EF17: 0 | EG17: 0 | EH17: =SUM(EI17:EN17) -> 113 | EI17: 0 | EJ17: 0 | EK17: 113 | EL17: 0 | EM17: 0 | EN17: 0
A18: 愛知県 | B18: 23210 | C18: 刈谷市 | D18: =SUM(E18,T18,AI18,AX18,BM18,CB18,CQ18,DF18,DU18,DZ18) -> 47999 | E18: =SUM(F18,M18) -> 40846 | F18: =SUM(G18:L18) -> 33557 | G18: 0 | H18: 33555 | I18: 0 | J18: 0 | K18: 2 | L18: 0 | M18: =SUM(N18:S18) -> 7289 | N18: 0 | O18: 7267 | P18: 22 | Q18: 0 | R18: 0 | S18: 0 | T18: =SUM(U18,AB18) -> 2074 | U18: =SUM(V18:AA18) -> 97 | V18: 0 | W18: 0 | X18: 32 | Y18: 0 | Z18: 0 | AA18: 65 | AB18: =SUM(AC18:AH18) -> 1977 | AC18: 0 | AD18: 0 | AE18: 0 | AF18: 0 | AG18: 0 | AH18: 1977 | AI18: =SUM(AJ18,AQ18) -> 400 | AJ18: =SUM(AK18:AP18) -> 0 | AK18: 0 | AL18: 0 | AM18: 0 | AN18: 0 | AO18: 0 | AP18: 0 | AQ18: =SUM(AR18:AW18) -> 400 | AR18: 0 | AS18: 0 | AT18: 0 | AU18: 0 | AV18: 400 | AW18: 0 | AX18: =SUM(AY18,BF18) -> 0 | AY18: =SUM(AZ18:BE18) -> 0 | AZ18: 0 | BA18: 0 | BB18: 0 | BC18: 0 | BD18: 0 | BE18: 0 | BF18: =SUM(BG18:BL18) -> 0 | BG18: 0 | BH18: 0 | BI18: 0 | BJ18: 0 | BK18: 0 | BL18: 0 | BM18: =SUM(BN18,BU18) -> 0 | BN18: =SUM(BO18:BT18) -> 0 | BO18: 0 | BP18: 0 | BQ18: 0 | BR18: 0 | BS18: 0 | BT18: 0 | BU18: =SUM(BV18:CA18) -> 0 | BV18: 0 | BW18: 0 | BX18: 0 | BY18: 0 | BZ18: 0 | CA18: 0 | CB18: =SUM(CC18,CJ18) -> 0 | CC18: =SUM(CD18:CI18) -> 0 | CD18: 0 | CE18: 0 | CF18: 0 | CG18: 0 | CH18: 0 | CI18: 0 | CJ18: =SUM(CK18:CP18) -> 0 | CK18: 0 | CL18: 0 | CM18: 0 | CN18: 0 | CO18: 0 | CP18: 0 | CQ18: =SUM(CR18,CY18) -> 3139 | CR18: =SUM(CS18:CX18) -> 2940 | CS18: 0 | CT18: 0 | CU18: 682 | CV18: 2186 | CW18: 72 | CX18: 0 | CY18: =SUM(CZ18:DE18) -> 199 | CZ18: 0 | DA18: 0 | DB18: 0 | DC18: 199 | DD18: 0 | DE18: 0 | DF18: =SUM(DG18,DN18) -> 0 | DG18: =SUM(DH18:DM18) -> 0 | DH18: 0 | DI18: 0 | DJ18: 0 | DK18: 0 | DL18: 0 | DM18: 0 | DN18: =SUM(DO18:DT18) -> 0 | DO18: 0 | DP18: 0 | DQ18: 0 | DR18: 0 | DS18: 0 | DT18: 0 | DU18: =SUM(DV18:DY18) -> 1136 | DV18: 646 | DW18: 8 | DX18: 482 | DY18: 0 | DZ18: =SUM(EA18,EH18) -> 404 | EA18: =SUM(EB18:EG18) -> 0 | EB18: 0 | EC18: 0 | ED18: 0 | EE18: 0 | EF18: 0 | EG18: 0 | EH18: =SUM(EI18:EN18) -> 404 | EI18: 0 | EJ18: 0 | EK18: 404 | EL18: 0 | EM18: 0 | EN18: 0
A19: 愛知県 | B19: 23211 | C19: 豊田市 | D19: =SUM(E19,T19,AI19,AX19,BM19,CB19,CQ19,DF19,DU19,DZ19) -> 126991 | E19: =SUM(F19,M19) -> 100670 | F19: =SUM(G19:L19) -> 92859 | G19: 0 | H19: 92546 | I19: 0 | J19: 0 | K19: 0 | L19: 313 | M19: =SUM(N19:S19) -> 7811 | N19: 0 | O19: 7811 | P19: 0 | Q19: 0 | R19: 0 | S19: 0 | T19: =SUM(U19,AB19) -> 0 | U19: =SUM(V19:AA19) -> 0 | V19: 0 | W19: 0 | X19: 0 | Y19: 0 | Z19: 0 | AA19: 0 | AB19: =SUM(AC19:AH19) -> 0 | AC19: 0 | AD19: 0 | AE19: 0 | AF19: 0 | AG19: 0 | AH19: 0 | AI19: =SUM(AJ19,AQ19) -> 2962 | AJ19: =SUM(AK19:AP19) -> 1010 | AK19: 0 | AL19: 0 | AM19: 0 | AN19: 1010 | AO19: 0 | AP19: 0 | AQ19: =SUM(AR19:AW19) -> 1952 | AR19: 0 | AS19: 0 | AT19: 0 | AU19: 1952 | AV19: 0 | AW19: 0 | AX19: =SUM(AY19,BF19) -> 0 | AY19: =SUM(AZ19:BE19) -> 0 | AZ19: 0 | BA19: 0 | BB19: 0 | BC19: 0 | BD19: 0 | BE19: 0 | BF19: =SUM(BG19:BL19) -> 0 | BG19: 0 | BH19: 0 | BI19: 0 | BJ19: 0 | BK19: 0 | BL19: 0 | BM19: =SUM(BN19,BU19) -> 0 | BN19: =SUM(BO19:BT19) -> 0 | BO19: 0 | BP19: 0 | BQ19: 0 | BR19: 0 | BS19: 0 | BT19: 0 | BU19: =SUM(BV19:CA19) -> 0 | BV19: 0 | BW19: 0 | BX19: 0 | BY19: 0 | BZ19: 0 | CA19: 0 | CB19: =SUM(CC19,CJ19) -> 21 | CC19: =SUM(CD19:CI19) -> 21 | CD19: 0 | CE19: 0 | CF19: 0 | CG19: 21 | CH19: 0 | CI19: 0 | CJ19: =SUM(CK19:CP19) -> 0 | CK19: 0 | CL19: 0 | CM19: 0 | CN19: 0 | CO19: 0 | CP19: 0 | CQ19: =SUM(CR19,CY19) -> 15607 | CR19: =SUM(CS19:CX19) -> 7605 | CS19: 0 | CT19: 0 | CU19: 1419 | CV19: 5526 | CW19: 258 | CX19: 402 | CY19: =SUM(CZ19:DE19) -> 8002 | CZ19: 0 | DA19: 0 | DB19: 702 | DC19: 7300 | DD19: 0 | DE19: 0 | DF19: =SUM(DG19,DN19) -> 0 | DG19: =SUM(DH19:DM19) -> 0 | DH19: 0 | DI19: 0 | DJ19: 0 | DK19: 0 | DL19: 0 | DM19: 0 | DN19: =SUM(DO19:DT19) -> 0 | DO19: 0 | DP19: 0 | DQ19: 0 | DR19: 0 | DS19: 0 | DT19: 0 | DU19: =SUM(DV19:DY19) -> 6301 | DV19: 6301 | DW19: 0 | DX19: 0 | DY19: 0 | DZ19: =SUM(EA19,EH19) -> 1430 | EA19: =SUM(EB19:EG19) -> 945 | EB19: 0 | EC19: 0 | ED19: 945 | EE19: 0 | EF19: 0 | EG19: 0 | EH19: =SUM(EI19:EN19) -> 485 | EI19: 0 | EJ19: 0 | EK19: 485 | EL19: 0 | EM19: 0 | EN19: 0
... A61: 愛知県 | B61: 23563 | C61: 豊根村 | D61: =SUM(E61,T61,AI61,AX61,BM61,CB61,CQ61,DF61,DU61,DZ61) -> 280 | E61: =SUM(F61,M61) -> 224 | F61: =SUM(G61:L61) -> 179 | G61: 0 | H61: 179 | I61: 0 | J61: 0 | K61: 0 | L61: 0 | M61: =SUM(N61:S61) -> 45 | N61: 0 | O61: 45 | P61: 0 | Q61: 0 | R61: 0 | S61: 0 | T61: =SUM(U61,AB61) -> 10 | U61: =SUM(V61:AA61) -> 0 | V61: 0 | W61: 0 | X61: 0 | Y61: 0 | Z61: 0 | AA61: 0 | AB61: =SUM(AC61:AH61) -> 10 | AC61: 0 | AD61: 0 | AE61: 0 | AF61: 0 | AG61: 0 | AH61: 10 | AI61: =SUM(AJ61,AQ61) -> 0 | AJ61: =SUM(AK61:AP61) -> 0 | AK61: 0 | AL61: 0 | AM61: 0 | AN61: 0 | AO61: 0 | AP61: 0 | AQ61: =SUM(AR61:AW61) -> 0 | AR61: 0 | AS61: 0 | AT61: 0 | AU61: 0 | AV61: 0 | AW61: 0 | AX61: =SUM(AY61,BF61) -> 0 | AY61: =SUM(AZ61:BE61) -> 0 | AZ61: 0 | BA61: 0 | BB61: 0 | BC61: 0 | BD61: 0 | BE61: 0 | BF61: =SUM(BG61:BL61) -> 0 | BG61: 0 | BH61: 0 | BI61: 0 | BJ61: 0 | BK61: 0 | BL61: 0 | BM61: =SUM(BN61,BU61) -> 0 | BN61: =SUM(BO61:BT61) -> 0 | BO61: 0 | BP61: 0 | BQ61: 0 | BR61: 0 | BS61: 0 | BT61: 0 | BU61: =SUM(BV61:CA61) -> 0 | BV61: 0 | BW61: 0 | BX61: 0 | BY61: 0 | BZ61: 0 | CA61: 0 | CB61: =SUM(CC61,CJ61) -> 0 | CC61: =SUM(CD61:CI61) -> 0 | CD61: 0 | CE61: 0 | CF61: 0 | CG61: 0 | CH61: 0 | CI61: 0 | CJ61: =SUM(CK61:CP61) -> 0 | CK61: 0 | CL61: 0 | CM61: 0 | CN61: 0 | CO61: 0 | CP61: 0 | CQ61: =SUM(CR61,CY61) -> 18 | CR61: =SUM(CS61:CX61) -> 14 | CS61: 0 | CT61: 0 | CU61: 0 | CV61: 14 | CW61: 0 | CX61: 0 | CY61: =SUM(CZ61:DE61) -> 4 | CZ61: 0 | DA61: 0 | DB61: 0 | DC61: 4 | DD61: 0 | DE61: 0 | DF61: =SUM(DG61,DN61) -> 5 | DG61: =SUM(DH61:DM61) -> 2 | DH61: 0 | DI61: 0 | DJ61: 2 | DK61: 0 | DL61: 0 | DM61: 0 | DN61: =SUM(DO61:DT61) -> 3 | DO61: 0 | DP61: 0 | DQ61: 3 | DR61: 0 | DS61: 0 | DT61: 0 | DU61: =SUM(DV61:DY61) -> 23 | DV61: 4 | DW61: 0 | DX61: 19 | DY61: 0 | DZ61: =SUM(EA61,EH61) -> 0 | EA61: =SUM(EB61:EG61) -> 0 | EB61: 0 | EC61: 0 | ED61: 0 | EE61: 0 | EF61: 0 | EG61: 0 | EH61: =SUM(EI61:EN61) -> 0 | EI61: 0 | EJ61: 0 | EK61: 0 | EL61: 0 | EM61: 0 | EN61: 0

Sheet ごみ処理量内訳
A1: ごみ処理の状況（令和5年度実績）
A2: 都道府県名 | B2: 地方公共団体コード | C2: 市区町村名 | D2: 処理量（直接焼却量+焼却以外の中間処理量+直接最終処分量+直接資源化量) | P2: 焼却処理量 (直接焼却量+焼却施設以外の中間処理施設からの搬入量) | Z2: 最終処分量 (直接最終処分量+焼却残渣量+焼却施設以外の中間処理施設からの残渣量) | AK2: 処理残渣保管量
D3: 合計 | E3: 直接焼却量 | F3: 焼却以外の中間処理量 (粗大ごみ処理施設+ごみ堆肥化施設+ごみ飼料化施設+メタン化施設+ごみ燃料化施設+その他の資源化等を行う施設+その他の施設) | N3: 直接 最終処分量 | O3: 直接 資源化量 | P3: 合計 | Q3: 直接焼却量 | R3: 焼却施設以外の中間処理施設からの搬入量 | Z3: 合計 | AA3: 直接最終 処分量 | AB3: 焼却残渣量 | AC3: 焼却施設以外の中間処理施設からの残渣量 | AK3: 合計 | AL3: 焼却処理残渣の保管量 | AM3: 粗大ごみ 処理施設 | AN3: ごみ堆肥化施設 | AO3: ごみ飼料化施設 | AP3: メタン化施設 | AQ3: ごみ燃料化 施設 | AR3: その他の資源化等を行う施設 | AS3: その他の 施設
F4: 合計 | G4: 粗大ごみ 処理施設 | H4: ごみ堆肥化施設 | I4: ごみ飼料化施設 | J4: メタン化施設 | K4: ごみ燃料化 施設 | L4: その他の資源化等を行う施設 | M4: その他の 施設 | R4: 合計 | S4: 粗大ごみ 処理施設 | T4: ごみ堆肥化施設 | U4: ごみ飼料化施設 | V4: メタン化施設 | W4: ごみ燃料化 施設 | X4: その他の資源化等を行う施設 | Y4: その他の 施設 | AC4: 合計 | AD4: 粗大ごみ 処理施設 | AE4: ごみ堆肥化施設 | AF4: ごみ飼料化施設 | AG4: メタン化施設 | AH4: ごみ燃料化 施設 | AI4: その他の資源化等を行う施設 | AJ4: その他の 施設
D6: （ｔ） | E6: （ｔ） | F6: （ｔ） | G6: （ｔ） | H6: （ｔ） | I6: （ｔ） | J6: （ｔ） | K6: （ｔ） | L6: （ｔ） | M6: （ｔ） | N6: （ｔ） | O6: （ｔ） | P6: （ｔ） | Q6: （ｔ） | R6: （ｔ） | S6: （ｔ） | T6: （ｔ） | U6: （ｔ） | V6: （ｔ） | W6: （ｔ） | X6: （ｔ） | Y6: （ｔ） | Z6: （ｔ） | AA6: （ｔ） | AB6: （ｔ） | AC6: （ｔ） | AD6: （ｔ） | AE6: （ｔ） | AF6: （ｔ） | AG6: （ｔ） | AH6: （ｔ） | AI6: （ｔ） | AJ6: （ｔ） | AK6: （ｔ） | AL6: （ｔ） | AM6: （ｔ） | AN6: （ｔ） | AO6: （ｔ） | AP6: （ｔ） | AQ6: （ｔ） | AR6: （ｔ） | AS6: （ｔ）
A7: =ごみ処理概要!A7 -> 愛知県 | B7: =ごみ処理概要!B7 -> 23000 | C7: 合計 | D7: =SUM(E7,F7,N7,O7) -> 2202961 | E7: =+Q7 -> 1730404 | F7: =SUM(G7:M7) -> 373373 | G7: =SUM(G$8:G$207) -> 99619 | H7: =SUM(H$8:H$207) -> 37057 | I7: =SUM(I$8:I$207) -> 4789 | J7: =SUM(J$8:J$207) -> 22085 | K7: =SUM(K$8:K$207) -> 7828 | L7: =SUM(L$8:L$207) -> 200304 | M7: =SUM(M$8:M$207) -> 1691 | N7: =+AA7 -> 13677 | O7: =+資源化量内訳!Z7 -> 85507 | P7: =+SUM(Q7,R7) -> 1824137 | Q7: =SUM(Q$8:Q$207) -> 1730404 | R7: =+SUM(S7,T7,U7,V7,W7,X7,Y7) -> 93733 | S7: =SUM(S$8:S$207) -> 77318 | T7: =SUM(T$8:T$207) -> 93 | U7: =SUM(U$8:U$207) -> 0 | V7: =SUM(V$8:V$207) -> 3097 | W7: =SUM(W$8:W$207) -> 1168 | X7: =SUM(X$8:X$207) -> 10913 | Y7: =SUM(Y$8:Y$207) -> 1144 | Z7: =SUM(AA7:AC7) -> 143255 | AA7: =SUM(AA$8:AA$207) -> 13677 | AB7: =SUM(AB$8:AB$207) -> 122064 | AC7: =SUM(AD7:AJ7) -> 7514 | AD7: =SUM(AD$8:AD$207) -> 3856 | AE7: =SUM(AE$8:AE$207) -> 0 | AF7: =SUM(AF$8:AF$207) -> 0 | AG7: =SUM(AG$8:AG$207) -> 0 | AH7: =SUM(AH$8:AH$207) -> 0 | AI7: =SUM(AI$8:AI$207) -> 3111 | AJ7: =SUM(AJ$8:AJ$207) -> 547 | AK7: =SUM(AL7:AS7) -> 0 | AL7: =SUM(AL$8:AL$207) -> 0 | AM7: =SUM(AM$8:AM$207) -> 0 | AN7: =SUM(AN$8:AN$207) -> 0 | AO7: =SUM(AO$8:AO$207) -> 0 | AP7: =SUM(AP$8:AP$207) -> 0 | AQ7: =SUM(AQ$8:AQ$207) -> 0 | AR7: =SUM(AR$8:AR$207) -> 0 | AS7: =SUM(AS$8:AS$207) -> 0
A8: 愛知県 | B8: 23100 | C8: 名古屋市 | D8: =SUM(E8,F8,N8,O8) -> 666060 | E8: =+Q8 -> 521595 | F8: =SUM(G8:M8) -> 142833 | G8: 30118 | H8: 14249 | I8: 4331 | J8: 4849 | K8: 0 | L8: 89107 | M8: 179 | N8: =+AA8 -> 1632 | O8: =+資源化量内訳!Z8 -> 0 | P8: =+SUM(Q8,R8) -> 549563 | Q8: 521595 | R8: =+SUM(S8,T8,U8,V8,W8,X8,Y8) -> 27968 | S8: 27823 | T8: 0 | U8: 0 | V8: 0 | W8: 0 | X8: 0 | Y8: 145 | Z8: =SUM(AA8:AC8) -> 15955 | AA8: 1632 | AB8: 13710 | AC8: =SUM(AD8:AJ8) -> 613 | AD8: 579 | AE8: 0 | AF8: 0 | AG8: 0 | AH8: 0 | AI8: 0 | AJ8: 34 | AK8: =SUM(AL8:AS8) -> 0 | AL8: 0 | AM8: 0 | AN8: 0 | AO8: 0 | AP8: 0 | AQ8: 0 | AR8: 0 | AS8: 0
A9: 愛知県 | B9: 23201 | C9: 豊橋市 | D9: =SUM(E9,F9,N9,O9) -> 114935 | E9: =+Q9 -> 77905 | F9: =SUM(G9:M9) -> 33143 | G9: 9831 | H9: 0 | I9: 0 | J9: 15040 | K9: 0 | L9: 8272 | M9: 0 | N9: =+AA9 -> 2997 | O9: =+資源化量内訳!Z9 -> 890 | P9: =+SUM(Q9,R9) -> 91649 | Q9: 77905 | R9: =+SUM(S9,T9,U9,V9,W9,X9,Y9) -> 13744 | S9: 8489 | T9: 0 | U9: 0 | V9: 3097 | W9: 0 | X9: 2158 | Y9: 0 | Z9: =SUM(AA9:AC9) -> 12258 | AA9: 2997 | AB9: 8677 | AC9: =SUM(AD9:AJ9) -> 584 | AD9: 56 | AE9: 0 | AF9: 0 | AG9: 0 | AH9: 0 | AI9: 528 | AJ9: 0 | AK9: =SUM(AL9:AS9) -> 0 | AL9: 0 | AM9: 0 | AN9: 0 | AO9: 0 | AP9: 0 | AQ9: 0 | AR9: 0 | AS9: 0
A10: 愛知県 | B10: 23202 | C10: 岡崎市 | D10: =SUM(E10,F10,N10,O10) -> 119690 | E10: =+Q10 -> 103669 | F10: =SUM(G10:M10) -> 12789 | G10: 0 | H10: 0 | I10: 0 | J10: 0 | K10: 0 | L10: 12789 | M10: 0 | N10: =+AA10 -> 3232 | O10: =+資源化量内訳!Z10 -> 0 | P10: =+SUM(Q10,R10) -> 105060 | Q10: 103669 | R10: =+SUM(S10,T10,U10,V10,W10,X10,Y10) -> 1391 | S10: 0 | T10: 0 | U10: 0 | V10: 0 | W10: 0 | X10: 1391 | Y10: 0 | Z10: =SUM(AA10:AC10) -> 7638 | AA10: 3232 | AB10: 3439 | AC10: =SUM(AD10:AJ10) -> 967 | AD10: 0 | AE10: 0 | AF10: 0 | AG10: 0 | AH10: 0 | AI10: 967 | AJ10: 0 | AK10: =SUM(AL10:AS10) -> 0 | AL10: 0 | AM10: 0 | AN10: 0 | AO10: 0 | AP10: 0 | AQ10: 0 | AR10: 0 | AS10: 0
A11: 愛知県 | B11: 23203 | C11: 一宮市 | D11: =SUM(E11,F11,N11,O11) -> 112342 | E11: =+Q11 -> 87219 | F11: =SUM(G11:M11) -> 17781 | G11: 7522 | H11: 5110 | I11: 0 | J11: 0 | K11: 0 | L11: 5146 | M11: 3 | N11: =+AA11 -> 611 | O11: =+資源化量内訳!Z11 -> 6731 | P11: =+SUM(Q11,R11) -> 94502 | Q11: 87219 | R11: =+SUM(S11,T11,U11,V11,W11,X11,Y11) -> 7283 | S11: 5619 | T11: 0 | U11: 0 | V11: 0 | W11: 0 | X11: 1664 | Y11: 0 | Z11: =SUM(AA11:AC11) -> 13233 | AA11: 611 | AB11: 12299 | AC11: =SUM(AD11:AJ11) -> 323 | AD11: 320 | AE11: 0 | AF11: 0 | AG11: 0 | AH11: 0 | AI11: 0 | AJ11: 3 | AK11: =SUM(AL11:AS11) -> 0 | AL11: 0 | AM11: 0 | AN11: 0 | AO11: 0 | AP11: 0 | AQ11: 0 | AR11: 0 | AS11: 0
A12: 愛知県 | B12: 23204 | C12: 瀬戸市 | D12: =SUM(E12,F12,N12,O12) -> 35950 | E12: =+Q12 -> 29305 | F12: =SUM(G12:M12) -> 1552 | G12: 1552 | H12: 0 | I12: 0 | J12: 0 | K12: 0 | L12: 0 | M12: 0 | N12: =+AA12 -> 0 | O12: =+資源化量内訳!Z12 -> 5093 | P12: =+SUM(Q12,R12) -> 30145 | Q12: 29305 | R12: =+SUM(S12,T12,U12,V12,W12,X12,Y12) -> 840 | S12: 840 | T12: 0 | U12: 0 | V12: 0 | W12: 0 | X12: 0 | Y12: 0 | Z12: =SUM(AA12:AC12) -> 3645 | AA12: 0 | AB12: 3333 | AC12: =SUM(AD12:AJ12) -> 312 | AD12: 312 | AE12: 0 | AF12: 0 | AG12: 0 | AH12: 0 | AI12: 0 | AJ12: 0 | AK12: =SUM(AL12:AS12) -> 0 | AL12: 0 | AM12: 0 | AN12: 0 | AO12: 0 | AP12: 0 | AQ12: 0 | AR12: 0 | AS12: 0
A13: 愛知県 | B13: 23205 | C13: 半田市 | D13: =SUM(E13,F13,N13,O13) -> 35188 | E13: =+Q13 -> 23957 | F13: =SUM(G13:M13) -> 11231 | G13: 1792 | H13: 4200 | I13: 0 | J13: 0 | K13: 0 | L13: 5239 | M13: 0 | N13: =+AA13 -> 0 | O13: =+資源化量内訳!Z13 -> 0 | P13: =+SUM(Q13,R13) -> 23957 | Q13: 23957 | R13: =+SUM(S13,T13,U13,V13,W13,X13,Y13) -> 0 | S13: 0 | T13: 0 | U13: 0 | V13: 0 | W13: 0 | X13: 0 | Y13: 0 | Z13: =SUM(AA13:AC13) -> 2451 | AA13: 0 | AB13: 1897 | AC13: =SUM(AD13:AJ13) -> 554 | AD13: 554 | AE13: 0 | AF13: 0 | AG13: 0 | AH13: 0 | AI13: 0 | AJ13: 0 | AK13: =SUM(AL13:AS13) -> 0 | AL13: 0 | AM13: 0 | AN13: 0 | AO13: 0 | AP13: 0 | AQ13: 0 | AR13: 0 | AS13: 0
A14: 愛知県 | B14: 23206 | C14: 春日井市 | D14: =SUM(E14,F14,N14,O14) -> 84012 | E14: =+Q14 -> 69951 | F14: =SUM(G14:M14) -> 6618 | G14: 4771 | H14: 0 | I14: 0 | J14: 0 | K14: 0 | L14: 1847 | M14: 0 | N14: =+AA14 -> 511 | O14: =+資源化量内訳!Z14 -> 6932 | P14: =+SUM(Q14,R14) -> 73316 | Q14: 69951 | R14: =+SUM(S14,T14,U14,V14,W14,X14,Y14) -> 3365 | S14: 3365 | T14: 0 | U14: 0 | V14: 0 | W14: 0 | X14: 0 | Y14: 0 | Z14: =SUM(AA14:AC14) -> 6928 | AA14: 511 | AB14: 6045 | AC14: =SUM(AD14:AJ14) -> 372 | AD14: 372 | AE14: 0 | AF14: 0 | AG14: 0 | AH14: 0 | AI14: 0 | AJ14: 0 | AK14: =SUM(AL14:AS14) -> 0 | AL14: 0 | AM14: 0 | AN14: 0 | AO14: 0 | AP14: 0 | AQ14: 0 | AR14: 0 | AS14: 0
A15: 愛知県 | B15: 23207 | C15: 豊川市 | D15: =SUM(E15,F15,N15,O15) -> 63074 | E15: =+Q15 -> 51677 | F15: =SUM(G15:M15) -> 6753 | G15: 397 | H15: 1247 | I15: 0 | J15: 0 | K15: 2022 | L15: 3087 | M15: 0 | N15: =+AA15 -> 36 | O15: =+資源化量内訳!Z15 -> 4608 | P15: =+SUM(Q15,R15) -> 53068 | Q15: 51677 | R15: =+SUM(S15,T15,U15,V15,W15,X15,Y15) -> 1391 | S15: 0 | T15: 0 | U15: 0 | V15: 0 | W15: 1168 | X15: 223 | Y15: 0 | Z15: =SUM(AA15:AC15) -> 2135 | AA15: 36 | AB15: 1761 | AC15: =SUM(AD15:AJ15) -> 338 | AD15: 0 | AE15: 0 | AF15: 0 | AG15: 0 | AH15: 0 | AI15: 338 | AJ15: 0 | AK15: =SUM(AL15:AS15) -> 0 | AL15: 0 | AM15: 0 | AN15: 0 | AO15: 0 | AP15: 0 | AQ15: 0 | AR15: 0 | AS15: 0
A16: 愛知県 | B16: 23208 | C16: 津島市 | D16: =SUM(E16,F16,N16,O16) -> 15542 | E16: =+Q16 -> 13612 | F16: =SUM(G16:M16) -> 796 | G16: 796 | H16: 0 | I16: 0 | J16: 0 | K16: 0 | L16: 0 | M16: 0 | N16: =+AA16 -> 1 | O16: =+資源化量内訳!Z16 -> 1133 | P16: =+SUM(Q16,R16) -> 14302 | Q16: 13612 | R16: =+SUM(S16,T16,U16,V16,W16,X16,Y16) -> 690 | S16: 690 | T16: 0 | U16: 0 | V16: 0 | W16: 0 | X16: 0 | Y16: 0 | Z16: =SUM(AA16:AC16) -> 832 | AA16: 1 | AB16: 831 | AC16: =SUM(AD16:AJ16) -> 0 | AD16: 0 | AE16: 0 | AF16: 0 | AG16: 0 | AH16: 0 | AI16: 0 | AJ16: 0 | AK16: =SUM(AL16:AS16) -> 0 | AL16: 0 | AM16: 0 | AN16: 0 | AO16: 0 | AP16: 0 | AQ16: 0 | AR16: 0 | AS16: 0
A17: 愛知県 | B17: 23209 | C17: 碧南市 | D17: =SUM(E17,F17,N17,O17) -> 25422 | E17: =+Q17 -> 17011 | F17: =SUM(G17:M17) -> 6362 | G17: 5789 | H17: 0 | I17: 73 | J17: 0 | K17: 0 | L17: 500 | M17: 0 | N17: =+AA17 -> 214 | O17: =+資源化量内訳!Z17 -> 1835 | P17: =+SUM(Q17,R17) -> 22274 | Q17: 17011 | R17: =+SUM(S17,T17,U17,V17,W17,X17,Y17) -> 5263 | S17: 5263 | T17: 0 | U17: 0 | V17: 0 | W17: 0 | X17: 0 | Y17: 0 | Z17: =SUM(AA17:AC17) -> 2559 | AA17: 214 | AB17: 2266 | AC17: =SUM(AD17:AJ17) -> 79 | AD17: 79 | AE17: 0 | AF17: 0 | AG17: 0 | AH17: 0 | AI17: 0 | AJ17: 0 | AK17: =SUM(AL17:AS17) -> 0 | AL17: 0 | AM17: 0 | AN17: 0 | AO17: 0 | AP17: 0 | AQ17: 0 | AR17: 0 | AS17: 0
A18: 愛知県 | B18: 23210 | C18: 刈谷市 | D18: =SUM(E18,F18,N18,O18) -> 47986 | E18: =+Q18 -> 40846 | F18: =SUM(G18:M18) -> 5619 | G18: 2059 | H18: 400 | I18: 0 | J18: 0 | K18: 0 | L18: 3160 | M18: 0 | N18: =+AA18 -> 385 | O18: =+資源化量内訳!Z18 -> 1136 | P18: =+SUM(Q18,R18) -> 42463 | Q18: 40846 | R18: =+SUM(S18,T18,U18,V18,W18,X18,Y18) -> 1617 | S18: 1520 | T18: 0 | U18: 0 | V18: 0 | W18: 0 | X18: 97 | Y18: 0 | Z18: =SUM(AA18:AC18) -> 5069 | AA18: 385 | AB18: 4452 | AC18: =SUM(AD18:AJ18) -> 232 | AD18: 0 | AE18: 0 | AF18: 0 | AG18: 0 | AH18: 0 | AI18: 232 | AJ18: 0 | AK18: =SUM(AL18:AS18) -> 0 | AL18: 0 | AM18: 0 | AN18: 0 | AO18: 0 | AP18: 0 | AQ18: 0 | AR18: 0 | AS18: 0
A19: 愛知県 | B19: 23211 | C19: 豊田市 | D19: =SUM(E19,F19,N19,O19) -> 129365 | E19: =+Q19 -> 102905 | F19: =SUM(G19:M19) -> 18730 | G19: 0 | H19: 2999 | I19: 0 | J19: 0 | K19: 21 | L19: 15710 | M19: 0 | N19: =+AA19 -> 1429 | O19: =+資源化量内訳!Z19 -> 6301 | P19: =+SUM(Q19,R19) -> 104201 | Q19: 102905 | R19: =+SUM(S19,T19,U19,V19,W19,X19,Y19) -> 1296 | S19: 0 | T19: 93 | U19: 0 | V19: 0 | W19: 0 | X19: 1203 | Y19: 0 | Z19: =SUM(AA19:AC19) -> 7835 | AA19: 1429 | AB19: 6406 | AC19: =SUM(AD19:AJ19) -> 0 | AD19: 0 | AE19: 0 | AF19: 0 | AG19: 0 | AH19: 0 | AI19: 0 | AJ19: 0 | AK19: =SUM(AL19:AS19) -> 0 | AL19: 0 | AM19: 0 | AN19: 0 | AO19: 0 | AP19: 0 | AQ19: 0 | AR19: 0 | AS19: 0
... A61: 愛知県 | B61: 23563 | C61: 豊根村 | D61: =SUM(E61,F61,N61,O61) -> 280 | E61: =+Q61 -> 224 | F61: =SUM(G61:M61) -> 33 | G61: 10 | H61: 0 | I61: 0 | J61: 0 | K61: 0 | L61: 18 | M61: 5 | N61: =+AA61 -> 0 | O61: =+資源化量内訳!Z61 -> 23 | P61: =+SUM(Q61,R61) -> 234 | Q61: 224 | R61: =+SUM(S61,T61,U61,V61,W61,X61,Y61) -> 10 | S61: 10 | T61: 0 | U61: 0 | V61: 0 | W61: 0 | X61: 0 | Y61: 0 | Z61: =SUM(AA61:AC61) -> 46 | AA61: 0 | AB61: 41 | AC61: =SUM(AD61:AJ61) -> 5 | AD61: 0 | AE61: 0 | AF61: 0 | AG61: 0 | AH61: 0 | AI61: 0 | AJ61: 5 | AK61: =SUM(AL61:AS61) -> 0 | AL61: 0 | AM61: 0 | AN61: 0 | AO61: 0 | AP61: 0 | AQ61: 0 | AR61: 0 | AS61: 0

Sheet 資源化量内訳
A1: ごみ資源化の状況（令和5年度実績）
A2: 都道府県名 | B2: 地方公共団体コード | C2: 市区町村名 | D2: 資源化量 (直接資源化量+中間処理後再生利用量+集団回収量) | Z2: 直接資源化量 (紙類+金属類+ガラス類+ペットボトル+白色トレイ+容器包装プラスチック+プラスチック類+布類+廃食用油+その他) | AV2: 中間処理後再生利用量 (紙類+金属類+ガラス類+ペットボトル+白色トレイ+容器包装プラスチック+プラスチック類+布類+肥料+飼料+溶融スラグ+固形燃料+燃料+焼却灰・飛灰+セメント直接投入+廃食用油+その他) | BR2: 集団回収量 (紙類+金属類+ガラス類+ペットボトル+白色トレイ+容器包装プラスチック+プラスチック類+布類+廃食用油+その他) | CN2: 最終処分場の有無
D3: 合計 | E3: 紙類(02、03を除く) | F3: 紙パック | G3: 紙製容器包装 | H3: 金属類 | I3: ガラス類 | J3: ペットボトル | K3: 白色トレイ | L3: 容器包装プラスチック(07を除く) | M3: 製品プラスチック | N3: その他プラスチック類 | O3: 布類 | P3: 肥料 | Q3: 飼料 | R3: 溶融スラグ | S3: 固形燃料 （RDF,RPF） | T3: 燃料 （15を除く） | U3: 焼却灰・飛灰のセメント原料化 | V3: セメント等への直接投入 ※廃食用油（BDF以外）を除く | W3: 飛灰の山元還元 | X3: 廃食用油(BDF)+(BDF以外) | Y3: その他 | Z3: 合計 | AA3: 紙類(02、03を除く) | AB3: 紙パック | AC3: 紙製容器包装 | AD3: 金属類 | AE3: ガラス類 | AF3: ペットボトル | AG3: 白色トレイ | AH3: 容器包装プラスチック(07を除く) | AI3: 製品プラスチック | AJ3: その他プラスチック類 | AK3: 布類 | AL3: 肥料 | AM3: 飼料 | AN3: 溶融スラグ | AO3: 固形燃料 （RDF,RPF） | AP3: 燃料 （15を除く） | AQ3: 焼却灰・飛灰のセメント原料化 | AR3: セメント等への直接投入 | AS3: 飛灰の山元還元 | AT3: 廃食用油(BDF)+(BDF以外) | AU3: その他 | AV3: 合計 | AW3: 紙類(02、03を除く) | AX3: 紙パック | AY3: 紙製容器包装 | AZ3: 金属類 | BA3: ガラス類 | BB3: ペットボトル | BC3: 白色トレイ | BD3: 容器包装プラスチック(07を除く) | BE3: 製品プラスチック | BF3: その他プラスチック類 | BG3: 布類 | BH3: 肥料 | BI3: 飼料 | BJ3: 溶融スラグ | BK3: 固形燃料 （RDF,RPF） | BL3: 燃料 （15を除く） | BM3: 焼却灰・飛灰のセメント原料化 | BN3: セメント等への直接投入 ※廃食用油（BDF以外）を除く | BO3: 飛灰の山元還元 | BP3: 廃食用油(BDF)+(BDF以外) | BQ3: その他 | BR3: 合計 | BS3: 紙類(02、03を除く) | BT3: 紙パック | BU3: 紙製容器包装 | BV3: 金属類 | BW3: ガラス類 | BX3: ペットボトル | BY3: 白色トレイ | BZ3: 容器包装プラスチック(07を除く) | CA3: 製品プラスチック | CB3: その他プラスチック類 | CC3: 布類 | CD3: 肥料 | CE3: 飼料 | CF3: 溶融スラグ | CG3: 固形燃料 （RDF,RPF） | CH3: 燃料 （15を除く） | CI3: 焼却灰・飛灰のセメント原料化 | CJ3: セメント等への直接投入 | CK3: 飛灰の山元還元 | CL3: 廃食用油(BDF)+(BDF以外) | CM3: その他
D6: （ｔ） | E6: （ｔ） | F6: （ｔ） | G6: （ｔ） | H6: （ｔ） | I6: （ｔ） | J6: （ｔ） | K6: （ｔ） | L6: （ｔ） | M6: （ｔ） | N6: （ｔ） | O6: （ｔ） | P6: （ｔ） | Q6: （ｔ） | R6: （ｔ） | S6: （ｔ） | T6: （ｔ） | U6: （ｔ） | V6: （ｔ） | W6: （ｔ） | X6: （ｔ） | Y6: （ｔ） | Z6: （ｔ） | AA6: （ｔ） | AB6: （ｔ） | AC6: （ｔ） | AD6: （ｔ） | AE6: （ｔ） | AF6: （ｔ） | AG6: （ｔ） | AH6: （ｔ） | AI6: （ｔ） | AJ6: （ｔ） | AK6: （ｔ） | AL6: （ｔ） | AM6: （ｔ） | AN6: （ｔ） | AO6: （ｔ） | AP6: （ｔ） | AQ6: （ｔ） | AR6: （ｔ） | AS6: （ｔ） | AT6: （ｔ） | AU6: （ｔ） | AV6: （ｔ） | AW6: （ｔ） | AX6: （ｔ） | AY6: （ｔ） | AZ6: （ｔ） | BA6: （ｔ） | BB6: （ｔ） | BC6: （ｔ） | BD6: （ｔ） | BE6: （ｔ） | BF6: （ｔ） | BG6: （ｔ） | BH6: （ｔ） | BI6: （ｔ） | BJ6: （ｔ） | BK6: （ｔ） | BL6: （ｔ） | BM6: （ｔ） | BN6: （ｔ） | BO6: （ｔ） | BP6: （ｔ） | BQ6: （ｔ） | BR6: （ｔ） | BS6: （ｔ） | BT6: （ｔ） | BU6: （ｔ） | BV6: （ｔ） | BW6: （ｔ） | BX6: （ｔ） | BY6: （ｔ） | BZ6: （ｔ） | CA6: （ｔ） | CB6: （ｔ） | CC6: （ｔ） | CD6: （ｔ） | CE6: （ｔ） | CF6: （ｔ） | CG6: （ｔ） | CH6: （ｔ） | CI6: （ｔ） | CJ6: （ｔ） | CK6: （ｔ） | CL6: （ｔ） | CM6: （ｔ）
A7: =ごみ処理概要!A7 -> 愛知県 | B7: =ごみ処理概要!B7 -> 23000 | C7: 合計 | D7: =SUM(Z7,AV7,BR7) -> 503617 | E7: =SUM(AA7,AW7,BS7) -> 137151 | F7: =SUM(AB7,AX7,BT7) -> 1269 | G7: =SUM(AC7,AY7,BU7) -> 9589 | H7: =SUM(AD7,AZ7,BV7) -> 41724 | I7: =SUM(AE7,BA7,BW7) -> 34488 | J7: =SUM(AF7,BB7,BX7) -> 18884 | K7: =SUM(AG7,BC7,BY7) -> 175 | ... Y7: =SUM(AU7,BQ7,CM7) -> 87660 | Z7: =SUM(AA7:AU7) -> 85507 | AA7: =SUM(AA$8:AA$207) -> 44518 | AB7: =SUM(AB$8:AB$207) -> 512 | AC7: =SUM(AC$8:AC$207) -> 195 | AD7: =SUM(AD$8:AD$207) -> 4902 | AE7: =SUM(AE$8:AE$207) -> 8741 | AF7: =SUM(AF$8:AF$207) -> 2685 | AG7: =SUM(AG$8:AG$207) -> 20 | AH7: =SUM(AH$8:AH$207) -> 10021 | ... AK7: =SUM(AK$8:AK$207) -> 4789 | AL7: - | AM7: - | AN7: - | AO7: - | AP7: - | AQ7: - | AR7: - | AS7: - | AT7: =SUM(AT$8:AT$207) -> 129 | AU7: =SUM(AU$8:AU$207) -> 8487 | AV7: =施設資源化量内訳!D7 -> 333280 | AW7: =施設資源化量内訳!E7 -> 14151 | AX7: =施設資源化量内訳!F7 -> 209 | AY7: =施設資源化量内訳!G7 -> 9186 | AZ7: =施設資源化量内訳!H7 -> 35442 | BA7: =施設資源化量内訳!I7 -> 25341 | BB7: =施設資源化量内訳!J7 -> 16180 | BC7: =施設資源化量内訳!K7 -> 155 | ... BQ7: =施設資源化量内訳!Y7 -> 79171 | BR7: =SUM(BS7:CM7) -> 84830 | BS7: =SUM(BS$8:BS$207) -> 78482 | BT7: =SUM(BT$8:BT$207) -> 548 | BU7: =SUM(BU$8:BU$207) -> 208 | BV7: =SUM(BV$8:BV$207) -> 1380 | BW7: =SUM(BW$8:BW$207) -> 406 | BX7: =SUM(BX$8:BX$207) -> 19 | BY7: =SUM(BY$8:BY$207) -> 0 | BZ7: =SUM(BZ$8:BZ$207) -> 0 | ... CC7: =SUM(CC$8:CC$207) -> 3776 | CD7: - | CE7: - | CF7: - | CG7: - | CH7: - | CI7: - | CJ7: - | CK7: - | CL7: =SUM(CL$8:CL$207) -> 0 | CM7: =SUM(CM$8:CM$207) -> 2 | CN7: =+COUNTIF(CN$8:CN$207,"有る") -> 47
A8: 愛知県 | B8: 23100 | C8: 名古屋市 | D8: =SUM(Z8,AV8,BR8) -> 195555 | E8: =SUM(AA8,AW8,BS8) -> 46648 | F8: =SUM(AB8,AX8,BT8) -> 245 | G8: =SUM(AC8,AY8,BU8) -> 6403 | H8: =SUM(AD8,AZ8,BV8) -> 12498 | I8: =SUM(AE8,BA8,BW8) -> 12287 | J8: =SUM(AF8,BB8,BX8) -> 7728 | K8: =SUM(AG8,BC8,BY8) -> 0 | ... Y8: =SUM(AU8,BQ8,CM8) -> 35012 | Z8: =SUM(AA8:AU8) -> 0 | AA8: 0 | AB8: 0 | AC8: 0 | AD8: 0 | AE8: 0 | AF8: 0 | AG8: 0 | AH8: 0 | AI8: 0 | AJ8: 0 | AK8: 0 | AL8: - | AM8: - | AN8: - | AO8: - | AP8: - | AQ8: - | AR8: - | AS8: - | AT8: 0 | AU8: 0 | AV8: =施設資源化量内訳!D8 -> 147015 | AW8: =施設資源化量内訳!E8 -> 1389 | AX8: =施設資源化量内訳!F8 -> 22 | AY8: =施設資源化量内訳!G8 -> 6403 | AZ8: =施設資源化量内訳!H8 -> 11761 | BA8: =施設資源化量内訳!I8 -> 12274 | BB8: =施設資源化量内訳!J8 -> 7728 | BC8: =施設資源化量内訳!K8 -> 0 | ... BQ8: =施設資源化量内訳!Y8 -> 35012 | BR8: =SUM(BS8:CM8) -> 48540 | BS8: 45259 | BT8: 223 | BU8: 0 | BV8: 737 | BW8: 13 | BX8: 0 | BY8: 0 | BZ8: 0 | CA8: 0 | CB8: 0 | CC8: 2308 | CD8: - | CE8: - | CF8: - | CG8: - | CH8: - | CI8: - | CJ8: - | CK8: - | CL8: 0 | CM8: 0 | CN8: 有る
A9: 愛知県 | B9: 23201 | C9: 豊橋市 | D9: =SUM(Z9,AV9,BR9) -> 25453 | E9: =SUM(AA9,AW9,BS9) -> 3829 | F9: =SUM(AB9,AX9,BT9) -> 0 | G9: =SUM(AC9,AY9,BU9) -> 0 | H9: =SUM(AD9,AZ9,BV9) -> 2379 | I9: =SUM(AE9,BA9,BW9) -> 1498 | J9: =SUM(AF9,BB9,BX9) -> 520 | K9: =SUM(AG9,BC9,BY9) -> 0 | ... Y9: =SUM(AU9,BQ9,CM9) -> 12669 | Z9: =SUM(AA9:AU9) -> 890 | AA9: 296 | AB9: 0 | AC9: 0 | AD9: 0 | AE9: 0 | AF9: 0 | AG9: 0 | AH9: 0 | AI9: 0 | AJ9: 0 | AK9: 587 | AL9: - | AM9: - | AN9: - | AO9: - | AP9: - | AQ9: - | AR9: - | AS9: - | AT9: 7 | AU9: 0 | AV9: =施設資源化量内訳!D9 -> 20935 | AW9: =施設資源化量内訳!E9 -> 0 | AX9: =施設資源化量内訳!F9 -> 0 | AY9: =施設資源化量内訳!G9 -> 0 | AZ9: =施設資源化量内訳!H9 -> 2334 | BA9: =施設資源化量内訳!I9 -> 1498 | BB9: =施設資源化量内訳!J9 -> 520 | BC9: =施設資源化量内訳!K9 -> 0 | ... BQ9: =施設資源化量内訳!Y9 -> 12669 | BR9: =SUM(BS9:CM9) -> 3628 | BS9: 3533 | BT9: 0 | BU9: 0 | BV9: 45 | BW9: 0 | BX9: 0 | BY9: 0 | BZ9: 0 | CA9: 0 | CB9: 0 | CC9: 50 | CD9: - | CE9: - | CF9: - | CG9: - | CH9: - | CI9: - | CJ9: - | CK9: - | CL9: 0 | CM9: 0 | CN9: 有る
A10: 愛知県 | B10: 23202 | C10: 岡崎市 | D10: =SUM(Z10,AV10,BR10) -> 22872 | E10: =SUM(AA10,AW10,BS10) -> 4510 | F10: =SUM(AB10,AX10,BT10) -> 53 | G10: =SUM(AC10,AY10,BU10) -> 726 | H10: =SUM(AD10,AZ10,BV10) -> 2184 | I10: =SUM(AE10,BA10,BW10) -> 1601 | J10: =SUM(AF10,BB10,BX10) -> 899 | K10: =SUM(AG10,BC10,BY10) -> 0 | ... Y10: =SUM(AU10,BQ10,CM10) -> 1116 | Z10: =SUM(AA10:AU10) -> 0 | AA10: 0 | AB10: 0 | AC10: 0 | AD10: 0 | AE10: 0 | AF10: 0 | AG10: 0 | AH10: 0 | AI10: 0 | AJ10: 0 | AK10: 0 | AL10: - | AM10: - | AN10: - | AO10: - | AP10: - | AQ10: - | AR10: - | AS10: - | AT10: 0 | AU10: 0 | AV10: =施設資源化量内訳!D10 -> 19772 | AW10: =施設資源化量内訳!E10 -> 1617 | AX10: =施設資源化量内訳!F10 -> 12 | AY10: =施設資源化量内訳!G10 -> 726 | AZ10: =施設資源化量内訳!H10 -> 2142 | BA10: =施設資源化量内訳!I10 -> 1601 | BB10: =施設資源化量内訳!J10 -> 899 | BC10: =施設資源化量内訳!K10 -> 0 | ... BQ10: =施設資源化量内訳!Y10 -> 1116 | BR10: =SUM(BS10:CM10) -> 3100 | BS10: 2893 | BT10: 41 | BU10: 0 | BV10: 42 | BW10: 0 | BX10: 0 | BY10: 0 | BZ10: 0 | CA10: 0 | CB10: 0 | CC10: 124 | CD10: - | CE10: - | CF10: - | CG10: - | CH10: - | CI10: - | CJ10: - | CK10: - | CL10: 0 | CM10: 0 | CN10: 有る
A11: 愛知県 | B11: 23203 | C11: 一宮市 | D11: =SUM(Z11,AV11,BR11) -> 17451 | E11: =SUM(AA11,AW11,BS11) -> 5133 | F11: =SUM(AB11,AX11,BT11) -> 109 | G11: =SUM(AC11,AY11,BU11) -> 0 | H11: =SUM(AD11,AZ11,BV11) -> 1547 | I11: =SUM(AE11,BA11,BW11) -> 1290 | J11: =SUM(AF11,BB11,BX11) -> 714 | K11: =SUM(AG11,BC11,BY11) -> 0 | ... Y11: =SUM(AU11,BQ11,CM11) -> 1612 | Z11: =SUM(AA11:AU11) -> 6731 | AA11: 4747 | AB11: 104 | AC11: 0 | AD11: 47 | AE11: 1290 | AF11: 55 | AG11: 0 | AH11: 0 | AI11: 0 | AJ11: 0 | AK11: 367 | AL11: - | AM11: - | AN11: - | AO11: - | AP11: - | AQ11: - | AR11: - | AS11: - | AT11: 0 | AU11: 121 | AV11: =施設資源化量内訳!D11 -> 10304 | AW11: =施設資源化量内訳!E11 -> 0 | AX11: =施設資源化量内訳!F11 -> 0 | AY11: =施設資源化量内訳!G11 -> 0 | AZ11: =施設資源化量内訳!H11 -> 1495 | BA11: =施設資源化量内訳!I11 -> 0 | BB11: =施設資源化量内訳!J11 -> 659 | BC11: =施設資源化量内訳!K11 -> 0 | ... BQ11: =施設資源化量内訳!Y11 -> 1491 | BR11: =SUM(BS11:CM11) -> 416 | BS11: 386 | BT11: 5 | BU11: 0 | BV11: 5 | BW11: 0 | BX11: 0 | BY11: 0 | BZ11: 0 | CA11: 0 | CB11: 0 | CC11: 20 | CD11: - | CE11: - | CF11: - | CG11: - | CH11: - | CI11: - | CJ11: - | CK11: - | CL11: 0 | CM11: 0 | CN11: 有る
A12: 愛知県 | B12: 23204 | C12: 瀬戸市 | D12: =SUM(Z12,AV12,BR12) -> 7175 | E12: =SUM(AA12,AW12,BS12) -> 3820 | F12: =SUM(AB12,AX12,BT12) -> 37 | G12: =SUM(AC12,AY12,BU12) -> 0 | H12: =SUM(AD12,AZ12,BV12) -> 670 | I12: =SUM(AE12,BA12,BW12) -> 628 | J12: =SUM(AF12,BB12,BX12) -> 326 | K12: =SUM(AG12,BC12,BY12) -> 0 | ... Y12: =SUM(AU12,BQ12,CM12) -> 407 | Z12: =SUM(AA12:AU12) -> 5093 | AA12: 2244 | AB12: 12 | AC12: 0 | AD12: 253 | AE12: 628 | AF12: 326 | AG12: 0 | AH12: 788 | AI12: 0 | AJ12: 0 | AK12: 432 | AL12: - | AM12: - | AN12: - | AO12: - | AP12: - | AQ12: - | AR12: - | AS12: - | AT12: 3 | AU12: 407 | AV12: =施設資源化量内訳!D12 -> 430 | AW12: =施設資源化量内訳!E12 -> 19 | AX12: =施設資源化量内訳!F12 -> 0 | AY12: =施設資源化量内訳!G12 -> 0 | AZ12: =施設資源化量内訳!H12 -> 411 | BA12: =施設資源化量内訳!I12 -> 0 | BB12: =施設資源化量内訳!J12 -> 0 | BC12: =施設資源化量内訳!K12 -> 0 | ... BQ12: =施設資源化量内訳!Y12 -> 0 | BR12: =SUM(BS12:CM12) -> 1652 | BS12: 1557 | BT12: 25 | BU12: 0 | BV12: 6 | BW12: 0 | BX12: 0 | BY12: 0 | BZ12: 0 | CA12: 0 | CB12: 0 | CC12: 64 | CD12: - | CE12: - | CF12: - | CG12: - | CH12: - | CI12: - | CJ12: - | CK12: - | CL12: 0 | CM12: 0 | CN12: 有る
A13: 愛知県 | B13: 23205 | C13: 半田市 | D13: =SUM(Z13,AV13,BR13) -> 11494 | E13: =SUM(AA13,AW13,BS13) -> 3155 | F13: =SUM(AB13,AX13,BT13) -> 29 | G13: =SUM(AC13,AY13,BU13) -> 711 | H13: =SUM(AD13,AZ13,BV13) -> 311 | I13: =SUM(AE13,BA13,BW13) -> 326 | J13: =SUM(AF13,BB13,BX13) -> 395 | K13: =SUM(AG13,BC13,BY13) -> 0 | ... Y13: =SUM(AU13,BQ13,CM13) -> 4950 | Z13: =SUM(AA13:AU13) -> 0 | AA13: 0 | AB13: 0 | AC13: 0 | AD13: 0 | AE13: 0 | AF13: 0 | AG13: 0 | AH13: 0 | AI13: 0 | AJ13: 0 | AK13: 0 | AL13: - | AM13: - | AN13: - | AO13: - | AP13: - | AQ13: - | AR13: - | AS13: - | AT13: 0 | AU13: 0 | AV13: =施設資源化量内訳!D13 -> 9439 | AW13: =施設資源化量内訳!E13 -> 1578 | AX13: =施設資源化量内訳!F13 -> 9 | AY13: =施設資源化量内訳!G13 -> 711 | AZ13: =施設資源化量内訳!H13 -> 177 | BA13: =施設資源化量内訳!I13 -> 52 | BB13: =施設資源化量内訳!J13 -> 395 | BC13: =施設資源化量内訳!K13 -> 0 | ... BQ13: =施設資源化量内訳!Y13 -> 4950 | BR13: =SUM(BS13:CM13) -> 2055 | BS13: 1577 | BT13: 20 | BU13: 0 | BV13: 134 | BW13: 274 | BX13: 0 | BY13: 0 | BZ13: 0 | CA13: 0 | CB13: 0 | CC13: 50 | CD13: - | CE13: - | CF13: - | CG13: - | CH13: - | CI13: - | CJ13: - | CK13: - | CL13: 0 | CM13: 0 | CN13: 有る
A14: 愛知県 | B14: 23206 | C14: 春日井市 | D14: =SUM(Z14,AV14,BR14) -> 13493 | E14: =SUM(AA14,AW14,BS14) -> 4643 | F14: =SUM(AB14,AX14,BT14) -> 43 | G14: =SUM(AC14,AY14,BU14) -> 0 | H14: =SUM(AD14,AZ14,BV14) -> 1225 | I14: =SUM(AE14,BA14,BW14) -> 1089 | J14: =SUM(AF14,BB14,BX14) -> 590 | K14: =SUM(AG14,BC14,BY14) -> 0 | ... Y14: =SUM(AU14,BQ14,CM14) -> 70 | Z14: =SUM(AA14:AU14) -> 6932 | AA14: 3989 | AB14: 36 | AC14: 0 | AD14: 0 | AE14: 0 | AF14: 0 | AG14: 0 | AH14: 2465 | AI14: 0 | AJ14: 0 | AK14: 363 | AL14: - | AM14: - | AN14: - | AO14: - | AP14: - | AQ14: - | AR14: - | AS14: - | AT14: 9 | AU14: 70 | AV14: =施設資源化量内訳!D14 -> 5859 | AW14: =施設資源化量内訳!E14 -> 0 | AX14: =施設資源化量内訳!F14 -> 0 | AY14: =施設資源化量内訳!G14 -> 0 | AZ14: =施設資源化量内訳!H14 -> 1201 | BA14: =施設資源化量内訳!I14 -> 1089 | BB14: =施設資源化量内訳!J14 -> 590 | BC14: =施設資源化量内訳!K14 -> 0 | ... BQ14: =施設資源化量内訳!Y14 -> 0 | BR14: =SUM(BS14:CM14) -> 702 | BS14: 654 | BT14: 7 | BU14: 0 | BV14: 24 | BW14: 0 | BX14: 0 | BY14: 0 | BZ14: 0 | CA14: 0 | CB14: 0 | CC14: 17 | CD14: - | CE14: - | CF14: - | CG14: - | CH14: - | CI14: - | CJ14: - | CK14: - | CL14: 0 | CM14: 0 | CN14: 有る
A15: 愛知県 | B15: 23207 | C15: 豊川市 | D15: =SUM(Z15,AV15,BR15) -> 15034 | E15: =SUM(AA15,AW15,BS15) -> 5036 | F15: =SUM(AB15,AX15,BT15) -> 53 | G15: =SUM(AC15,AY15,BU15) -> 0 | H15: =SUM(AD15,AZ15,BV15) -> 1629 | I15: =SUM(AE15,BA15,BW15) -> 939 | J15: =SUM(AF15,BB15,BX15) -> 618 | K15: =SUM(AG15,BC15,BY15) -> 23 | ... Y15: =SUM(AU15,BQ15,CM15) -> 742 | Z15: =SUM(AA15:AU15) -> 4608 | AA15: 4372 | AB15: 44 | AC15: 0 | AD15: 0 | AE15: 0 | AF15: 0 | AG15: 0 | AH15: 0 | AI15: 0 | AJ15: 0 | AK15: 181 | AL15: - | AM15: - | AN15: - | AO15: - | AP15: - | AQ15: - | AR15: - | AS15: - | AT15: 11 | AU15: 0 | AV15: =施設資源化量内訳!D15 -> 9727 | AW15: =施設資源化量内訳!E15 -> 0 | AX15: =施設資源化量内訳!F15 -> 0 | AY15: =施設資源化量内訳!G15 -> 0 | AZ15: =施設資源化量内訳!H15 -> 1615 | BA15: =施設資源化量内訳!I15 -> 939 | BB15: =施設資源化量内訳!J15 -> 617 | BC15: =施設資源化量内訳!K15 -> 23 | ... BQ15: =施設資源化量内訳!Y15 -> 742 | BR15: =SUM(BS15:CM15) -> 699 | BS15: 664 | BT15: 9 | BU15: 0 | BV15: 14 | BW15: 0 | BX15: 1 | BY15: 0 | BZ15: 0 | CA15: 0 | CB15: 0 | CC15: 11 | CD15: - | CE15: - | CF15: - | CG15: - | CH15: - | CI15: - | CJ15: - | CK15: - | CL15: 0 | CM15: 0 | CN15: 有る
A16: 愛知県 | B16: 23208 | C16: 津島市 | D16: =SUM(Z16,AV16,BR16) -> 2377 | E16: =SUM(AA16,AW16,BS16) -> 275 | F16: =SUM(AB16,AX16,BT16) -> 0 | G16: =SUM(AC16,AY16,BU16) -> 0 | H16: =SUM(AD16,AZ16,BV16) -> 187 | I16: =SUM(AE16,BA16,BW16) -> 262 | J16: =SUM(AF16,BB16,BX16) -> 57 | K16: =SUM(AG16,BC16,BY16) -> 0 | ... Y16: =SUM(AU16,BQ16,CM16) -> 35 | Z16: =SUM(AA16:AU16) -> 1133 | AA16: 275 | AB16: 0 | AC16: 0 | AD16: 98 | AE16: 262 | AF16: 57 | AG16: 0 | AH16: 405 | AI16: 0 | AJ16: 0 | AK16: 16 | AL16: - | AM16: - | AN16: - | AO16: - | AP16: - | AQ16: - | AR16: - | AS16: - | AT16: 1 | AU16: 19 | AV16: =施設資源化量内訳!D16 -> 1244 | AW16: =施設資源化量内訳!E16 -> 0 | AX16: =施設資源化量内訳!F16 -> 0 | AY16: =施設資源化量内訳!G16 -> 0 | AZ16: =施設資源化量内訳!H16 -> 89 | BA16: =施設資源化量内訳!I16 -> 0 | BB16: =施設資源化量内訳!J16 -> 0 | BC16: =施設資源化量内訳!K16 -> 0 | ... BQ16: =施設資源化量内訳!Y16 -> 16 | BR16: =SUM(BS16:CM16) -> 0 | BS16: 0 | BT16: 0 | BU16: 0 | BV16: 0 | BW16: 0 | BX16: 0 | BY16: 0 | BZ16: 0 | CA16: 0 | CB16: 0 | CC16: 0 | CD16: - | CE16: - | CF16: - | CG16: - | CH16: - | CI16: - | CJ16: - | CK16: - | CL16: 0 | CM16: 0 | CN16: 有る
A17: 愛知県 | B17: 23209 | C17: 碧南市 | D17: =SUM(Z17,AV17,BR17) -> 3787 | E17: =SUM(AA17,AW17,BS17) -> 1092 | F17: =SUM(AB17,AX17,BT17) -> 11 | G17: =SUM(AC17,AY17,BU17) -> 0 | H17: =SUM(AD17,AZ17,BV17) -> 726 | I17: =SUM(AE17,BA17,BW17) -> 324 | J17: =SUM(AF17,BB17,BX17) -> 267 | K17: =SUM(AG17,BC17,BY17) -> 45 | ... Y17: =SUM(AU17,BQ17,CM17) -> 841 | Z17: =SUM(AA17:AU17) -> 1835 | AA17: 853 | AB17: 11 | AC17: 0 | AD17: 273 | AE17: 324 | AF17: 144 | AG17: 0 | AH17: 0 | AI17: 0 | AJ17: 0 | AK17: 104 | AL17: - | AM17: - | AN17: - | AO17: - | AP17: - | AQ17: - | AR17: - | AS17: - | AT17: 0 | AU17: 126 | AV17: =施設資源化量内訳!D17 -> 1698 | AW17: =施設資源化量内訳!E17 -> 0 | AX17: =施設資源化量内訳!F17 -> 0 | AY17: =施設資源化量内訳!G17 -> 0 | AZ17: =施設資源化量内訳!H17 -> 447 | BA17: =施設資源化量内訳!I17 -> 0 | BB17: =施設資源化量内訳!J17 -> 123 | BC17: =施設資源化量内訳!K17 -> 45 | ... BQ17: =施設資源化量内訳!Y17 -> 715 | BR17: =SUM(BS17:CM17) -> 254 | BS17: 239 | BT17: 0 | BU17: 0 | BV17: 6 | BW17: 0 | BX17: 0 | BY17: 0 | BZ17: 0 | CA17: 0 | CB17: 9 | CC17: 0 | CD17: - | CE17: - | CF17: - | CG17: - | CH17: - | CI17: - | CJ17: - | CK17: - | CL17: 0 | CM17: 0 | CN17: 有る
A18: 愛知県 | B18: 23210 | C18: 刈谷市 | D18: =SUM(Z18,AV18,BR18) -> 7392 | E18: =SUM(AA18,AW18,BS18) -> 2431 | F18: =SUM(AB18,AX18,BT18) -> 22 | G18: =SUM(AC18,AY18,BU18) -> 211 | H18: =SUM(AD18,AZ18,BV18) -> 888 | I18: =SUM(AE18,BA18,BW18) -> 718 | J18: =SUM(AF18,BB18,BX18) -> 343 | K18: =SUM(AG18,BC18,BY18) -> 0 | ... Y18: =SUM(AU18,BQ18,CM18) -> 423 | Z18: =SUM(AA18:AU18) -> 1136 | AA18: 701 | AB18: 2 | AC18: 0 | AD18: 305 | AE18: 36 | AF18: 0 | AG18: 0 | AH18: 8 | AI18: 0 | AJ18: 0 | AK18: 1 | AL18: - | AM18: - | AN18: - | AO18: - | AP18: - | AQ18: - | AR18: - | AS18: - | AT18: 0 | AU18: 83 | AV18: =施設資源化量内訳!D18 -> 4450 | AW18: =施設資源化量内訳!E18 -> 2 | AX18: =施設資源化量内訳!F18 -> 1 | AY18: =施設資源化量内訳!G18 -> 211 | AZ18: =施設資源化量内訳!H18 -> 544 | BA18: =施設資源化量内訳!I18 -> 682 | BB18: =施設資源化量内訳!J18 -> 343 | BC18: =施設資源化量内訳!K18 -> 0 | ... BQ18: =施設資源化量内訳!Y18 -> 338 | BR18: =SUM(BS18:CM18) -> 1806 | BS18: 1728 | BT18: 19 | BU18: 0 | BV18: 39 | BW18: 0 | BX18: 0 | BY18: 0 | BZ18: 0 | CA18: 0 | CB18: 0 | CC18: 18 | CD18: - | CE18: - | CF18: - | CG18: - | CH18: - | CI18: - | CJ18: - | CK18: - | CL18: 0 | CM18: 2 | CN18: 有る
A19: 愛知県 | B19: 23211 | C19: 豊田市 | D19: =SUM(Z19,AV19,BR19) -> 19304 | E19: =SUM(AA19,AW19,BS19) -> 8013 | F19: =SUM(AB19,AX19,BT19) -> 107 | G19: =SUM(AC19,AY19,BU19) -> 0 | H19: =SUM(AD19,AZ19,BV19) -> 2416 | I19: =SUM(AE19,BA19,BW19) -> 2137 | J19: =SUM(AF19,BB19,BX19) -> 1040 | K19: =SUM(AG19,BC19,BY19) -> 0 | ... Y19: =SUM(AU19,BQ19,CM19) -> 31 | Z19: =SUM(AA19:AU19) -> 6301 | AA19: 5812 | AB19: 77 | AC19: 0 | AD19: 0 | AE19: 0 | AF19: 0 | AG19: 0 | AH19: 0 | AI19: 0 | AJ19: 0 | AK19: 412 | AL19: - | AM19: - | AN19: - | AO19: - | AP19: - | AQ19: - | AR19: - | AS19: - | AT19: 0 | AU19: 0 | AV19: =施設資源化量内訳!D19 -> 10719 | AW19: =施設資源化量内訳!E19 -> 0 | AX19: =施設資源化量内訳!F19 -> 0 | AY19: =施設資源化量内訳!G19 -> 0 | AZ19: =施設資源化量内訳!H19 -> 2416 | BA19: =施設資源化量内訳!I19 -> 2137 | BB19: =施設資源化量内訳!J19 -> 1040 | BC19: =施設資源化量内訳!K19 -> 0 | ... BQ19: =施設資源化量内訳!Y19 -> 31 | BR19: =SUM(BS19:CM19) -> 2284 | BS19: 2201 | BT19: 30 | BU19: 0 | BV19: 0 | BW19: 0 | BX19: 0 | BY19: 0 | BZ19: 0 | CA19: 0 | CB19: 0 | CC19: 53 | CD19: - | CE19: - | CF19: - | CG19: - | CH19: - | CI19: - | CJ19: - | CK19: - | CL19: 0 | CM19: 0 | CN19: 有る
... A61: 愛知県 | B61: 23563 | C61: 豊根村 | D61: =SUM(Z61,AV61,BR61) -> 41 | E61: =SUM(AA61,AW61,BS61) -> 5 | F61: =SUM(AB61,AX61,BT61) -> 0 | G61: =SUM(AC61,AY61,BU61) -> 11 | H61: =SUM(AD61,AZ61,BV61) -> 9 | I61: =SUM(AE61,BA61,BW61) -> 6 | J61: =SUM(AF61,BB61,BX61) -> 3 | K61: =SUM(AG61,BC61,BY61) -> 0 | ... Y61: =SUM(AU61,BQ61,CM61) -> 0 | Z61: =SUM(AA61:AU61) -> 23 | AA61: 5 | AB61: 0 | AC61: 11 | AD61: 0 | AE61: 0 | AF61: 0 | AG61: 0 | AH61: 0 | AI61: 0 | AJ61: 4 | AK61: 3 | AL61: - | AM61: - | AN61: - | AO61: - | AP61: - | AQ61: - | AR61: - | AS61: - | AT61: 0 | AU61: 0 | AV61: =施設資源化量内訳!D61 -> 18 | AW61: =施設資源化量内訳!E61 -> 0 | AX61: =施設資源化量内訳!F61 -> 0 | AY61: =施設資源化量内訳!G61 -> 0 | AZ61: =施設資源化量内訳!H61 -> 9 | BA61: =施設資源化量内訳!I61 -> 6 | BB61: =施設資源化量内訳!J61 -> 3 | BC61: =施設資源化量内訳!K61 -> 0 | ... BQ61: =施設資源化量内訳!Y61 -> 0 | BR61: =SUM(BS61:CM61) -> 0 | BS61: 0 | BT61: 0 | BU61: 0 | BV61: 0 | BW61: 0 | BX61: 0 | BY61: 0 | BZ61: 0 | CA61: 0 | CB61: 0 | CC61: 0 | CD61: - | CE61: - | CF61: - | CG61: - | CH61: - | CI61: - | CJ61: - | CK61: - | CL61: 0 | CM61: 0 | CN61: 有る

Sheet 施設資源化量内訳
A1: 中間処理後の再生利用量の状況（令和5年度実績）
A2: 都道府県名 | B2: 地方公共団体コード | C2: 市区町村名 | D2: 中間処理後再生利用量 (紙類+金属類+ガラス類+ペットボトル+白色トレイ+容器包装プラスチック+プラスチック類+布類+肥料+飼料+溶融スラグ+固形燃料+燃料+焼却灰・飛灰+セメント直接投入+廃食用油+その他)
D3: 合計 | E3: 紙類(02、03を除く) | F3: 紙パック | G3: 紙製容器包装 | H3: 金属類 | I3: ガラス類 | J3: ペットボトル | K3: 白色トレイ | L3: 容器包装プラスチック（07を除く） | M3: 製品プラスチック | N3: その他プラスチック類 | O3: 布類 | P3: 肥料 | Q3: 飼料 | R3: 溶融スラグ | S3: 固形燃料 （RDF,RPF） | T3: 燃料 （15を除く） | U3: 焼却灰・飛灰のセメント原料化 | V3: セメント等への直接投入 ※廃食用油（BDF以外）を除く | W3: 飛灰の山元還元 | X3: 廃食用油(BDF)+(BDF以外) | Y3: その他 | Z3: 焼却施設処理に伴う資源化量(紙類+金属類+ガラス類+ペットボトル+白色トレイ+容器包装プラスチック+プラスチック類+布類+溶融スラグ+焼却灰・飛灰+その他) | AV3: 粗大ごみ処理施設処理に伴う資源化量(紙類+金属類+ガラス類+ペットボトル+白色トレイ+容器包装プラスチック+プラスチック類+布類+その他) | BR3: ごみ堆肥化施設処理に伴う資源化量(紙類+金属類+ガラス類+ペットボトル+白色トレイ+容器包装プラスチック+プラスチック類+布類+肥料+飼料+その他) | CN3: ごみ飼料化施設処理に伴う資源化量 (紙類+金属類+ガラス類+ペットボトル+白色トレイ+容器包装プラスチック+プラスチック類+布類+肥料+飼料+その他) | DJ3: メタン化施設処理に伴う資源化量 (紙類+金属類+ガラス類+ペットボトル+白色トレイ+容器包装プラスチック+プラスチック類+布類+肥料+飼料+その他) | EF3: ごみ燃料化施設処理に伴う資源化量 (紙類+金属類+ガラス類+ペットボトル+白色トレイ+容器包装プラスチック+プラスチック類+布類+固形燃料+燃料+廃食用油+その他) | FB3: その他の資源化等を行う施設処理に伴う資源化量 (紙類+金属類+ガラス類+ペットボトル+白色トレイ+容器包装プラスチック+プラスチック類+布類+肥料+飼料+焼却灰・飛灰+セメント直接投入+廃食用油+その他)
Z4: 合計 | AA4: 紙類(02、03を除く) | AB4: 紙パック | AC4: 紙製容器包装 | AD4: 金属類 | AE4: ガラス類 | AF4: ペットボトル | AG4: 白色トレイ | AH4: 容器包装プラスチック（07を除く） | AI4: 製品プラスチック | AJ4: その他プラスチック類 | AK4: 布類 | AL4: 肥料 | AM4: 飼料 | AN4: 溶融スラグ | AO4: 固形燃料 （RDF,RPF） | AP4: 燃料 （15を除く） | AQ4: 焼却灰・飛灰のセメント原料化 | AR4: セメント等への直接投入 | AS4: 飛灰の山元還元 | AT4: 廃食用油(BDF以外) | AU4: その他 | AV4: 合計 | AW4: 紙類(02、03を除く) | AX4: 紙パック | AY4: 紙製容器包装 | AZ4: 金属類 | BA4: ガラス類 | BB4: ペットボトル | BC4: 白色トレイ | BD4: 容器包装プラスチック（07を除く） | BE4: 製品プラスチック | BF4: その他プラスチック類 | BG4: 布類 | BH4: 肥料 | BI4: 飼料 | BJ4: 溶融スラグ | BK4: 固形燃料 （RDF,RPF） | BL4: 燃料 （15を除く） | BM4: 焼却灰・飛灰のセメント原料化 | BN4: セメント等への直接投入 | BO4: 飛灰の山元還元 | BP4: 廃食用油(BDF以外) | BQ4: その他 | BR4: 合計 | BS4: 紙類(02、03を除く) | BT4: 紙パック | BU4: 紙製容器包装 | BV4: 金属類 | BW4: ガラス類 | BX4: ペットボトル | BY4: 白色トレイ | BZ4: 容器包装プラスチック（07を除く） | CA4: 製品プラスチック | CB4: その他プラスチック類 | CC4: 布類 | CD4: 肥料 | CE4: 飼料 | CF4: 溶融スラグ | CG4: 固形燃料 （RDF,RPF） | CH4: 燃料 （15を除く） | CI4: 焼却灰・飛灰のセメント原料化 | CJ4: セメント等への直接投入 | CK4: 飛灰の山元還元 | CL4: 廃食用油(BDF以外) | CM4: その他 | CN4: 合計 | CO4: 紙類(02、03を除く) | CP4: 紙パック | CQ4: 紙製容器包装 | CR4: 金属類 | CS4: ガラス類 | CT4: ペットボトル | CU4: 白色トレイ | CV4: 容器包装プラスチック（07を除く） | CW4: 製品プラスチック | CX4: その他プラスチック類 | CY4: 布類 | CZ4: 肥料 | DA4: 飼料 | DB4: 溶融スラグ | DC4: 固形燃料 （RDF,RPF） | DD4: 燃料 （15を除く） | DE4: 焼却灰・飛灰のセメント原料化 | DF4: セメント等への直接投入 | DG4: 飛灰の山元還元 | DH4: 廃食用油(BDF以外) | DI4: その他 | DJ4: 合計 | DK4: 紙類(02、03を除く) | DL4: 紙パック | DM4: 紙製容器包装 | DN4: 金属類 | DO4: ガラス類 | DP4: ペットボトル | DQ4: 白色トレイ | DR4: 容器包装プラスチック（07を除く） | DS4: 製品プラスチック | DT4: その他プラスチック類 | DU4: 布類 | DV4: 肥料 | DW4: 飼料 | DX4: 溶融スラグ | DY4: 固形燃料 （RDF,RPF） | DZ4: 燃料 （15を除く） | EA4: 焼却灰・飛灰のセメント原料化 | EB4: セメント等への直接投入 | EC4: 飛灰の山元還元 | ED4: 廃食用油(BDF以外) | EE4: その他 | EF4: 合計 | EG4: 紙類(02、03を除く) | EH4: 紙パック | EI4: 紙製容器包装 | EJ4: 金属類 | EK4: ガラス類 | EL4: ペットボトル | EM4: 白色トレイ | EN4: 容器包装プラスチック（07を除く） | EO4: 製品プラスチック | EP4: その他プラスチック類 | EQ4: 布類 | ER4: 肥料 | ES4: 飼料 | ET4: 溶融スラグ | EU4: 固形燃料 （RDF,RPF） | EV4: 燃料 （15を除く） | EW4: 焼却灰・飛灰のセメント原料化 | EX4: セメント等への直接投入 | EY4: 飛灰の山元還元 | EZ4: 廃食用油(BDF)+(BDF以外) | FA4: その他 | FB4: 合計 | FC4: 紙類(02、03を除く) | FD4: 紙パック | FE4: 紙製容器包装 | FF4: 金属類 | FG4: ガラス類 | FH4: ペットボトル | FI4: 白色トレイ | FJ4: 容器包装プラスチック（07を除く） | FK4: 製品プラスチック | FL4: その他プラスチック類 | FM4: 布類 | FN4: 肥料 | FO4: 飼料 | FP4: 溶融スラグ | FQ4: 固形燃料 （RDF,RPF） | FR4: 燃料 （15を除く） | FS4: 焼却灰・飛灰のセメント原料化 | FT4: セメント等への直接投入 ※廃食用油（BDF以外）を除く | FU4: 飛灰の山元還元 | FV4: 廃食用油(BDF)+(BDF以外) | FW4: その他
D6: （ｔ） | E6: （ｔ） | F6: （ｔ） | G6: （ｔ） | H6: （ｔ） | I6: （ｔ） | J6: （ｔ） | K6: （ｔ） | L6: （ｔ） | M6: （ｔ） | N6: （ｔ） | O6: （ｔ） | P6: （ｔ） | Q6: （ｔ） | R6: （ｔ） | S6: （ｔ） | T6: （ｔ） | U6: （ｔ） | V6: （ｔ） | W6: （ｔ） | X6: （ｔ） | Y6: （ｔ） | Z6: （ｔ） | AA6: （ｔ） | AB6: （ｔ） | AC6: （ｔ） | AD6: （ｔ） | AE6: （ｔ） | AF6: （ｔ） | AG6: （ｔ） | AH6: （ｔ） | AI6: （ｔ） | AJ6: （ｔ） | AK6: （ｔ） | AL6: （ｔ） | AM6: （ｔ） | AN6: （ｔ） | AO6: （ｔ） | AP6: （ｔ） | AQ6: （ｔ） | AR6: （ｔ） | AS6: （ｔ） | AT6: （ｔ） | AU6: （ｔ） | AV6: （ｔ） | AW6: （ｔ） | AX6: （ｔ） | AY6: （ｔ） | AZ6: （ｔ） | BA6: （ｔ） | BB6: （ｔ） | BC6: （ｔ） | BD6: （ｔ） | BE6: （ｔ） | BF6: （ｔ） | BG6: （ｔ） | BH6: （ｔ） | BI6: （ｔ） | BJ6: （ｔ） | BK6: （ｔ） | BL6: （ｔ） | BM6: （ｔ） | BN6: （ｔ） | BO6: （ｔ） | BP6: （ｔ） | BQ6: （ｔ） | BR6: （ｔ） | BS6: （ｔ） | BT6: （ｔ） | BU6: （ｔ） | BV6: （ｔ） | BW6: （ｔ） | BX6: （ｔ） | BY6: （ｔ） | BZ6: （ｔ） | CA6: （ｔ） | CB6: （ｔ） | CC6: （ｔ） | CD6: （ｔ） | CE6: （ｔ） | CF6: （ｔ） | CG6: （ｔ） | CH6: （ｔ） | CI6: （ｔ） | CJ6: （ｔ） | CK6: （ｔ） | CL6: （ｔ） | CM6: （ｔ） | CN6: （ｔ） | CO6: （ｔ） | CP6: （ｔ） | CQ6: （ｔ） | CR6: （ｔ） | CS6: （ｔ） | CT6: （ｔ） | CU6: （ｔ） | CV6: （ｔ） | CW6: （ｔ） | CX6: （ｔ） | CY6: （ｔ） | CZ6: （ｔ） | DA6: （ｔ） | DB6: （ｔ） | DC6: （ｔ） | DD6: （ｔ） | DE6: （ｔ） | DF6: （ｔ） | DG6: （ｔ） | DH6: （ｔ） | DI6: （ｔ） | DJ6: （ｔ） | DK6: （ｔ） | DL6: （ｔ） | DM6: （ｔ） | DN6: （ｔ） | DO6: （ｔ） | DP6: （ｔ） | DQ6: （ｔ） | DR6: （ｔ） | DS6: （ｔ） | DT6: （ｔ） | DU6: （ｔ） | DV6: （ｔ） | DW6: （ｔ） | DX6: （ｔ） | DY6: （ｔ） | DZ6: （ｔ） | EA6: （ｔ） | EB6: （ｔ） | EC6: （ｔ） | ED6: （ｔ） | EE6: （ｔ） | EF6: （ｔ） | EG6: （ｔ） | EH6: （ｔ） | EI6: （ｔ） | EJ6: （ｔ） | EK6: （ｔ） | EL6: （ｔ） | EM6: （ｔ） | EN6: （ｔ） | EO6: （ｔ） | EP6: （ｔ） | EQ6: （ｔ） | ER6: （ｔ） | ES6: （ｔ） | ET6: （ｔ） | EU6: （ｔ） | EV6: （ｔ） | EW6: （ｔ） | EX6: （ｔ） | EY6: （ｔ） | EZ6: （ｔ） | FA6: （ｔ） | FB6: （ｔ） | FC6: （ｔ） | FD6: （ｔ） | FE6: （ｔ） | FF6: （ｔ） | FG6: （ｔ） | FH6: （ｔ） | FI6: （ｔ） | FJ6: （ｔ） | FK6: （ｔ） | FL6: （ｔ） | FM6: （ｔ） | FN6: （ｔ） | FO6: （ｔ） | FP6: （ｔ） | FQ6: （ｔ） | FR6: （ｔ） | FS6: （ｔ） | FT6: （ｔ） | FU6: （ｔ） | FV6: （ｔ） | FW6: （ｔ）
A7: =ごみ処理概要!A7 -> 愛知県 | B7: =ごみ処理概要!B7 -> 23000 | C7: 合計 | D7: =SUM(Z7,AV7,BR7,CN7,DJ7,EF7,FB7) -> 333280 | E7: =SUM(AA7,AW7,BS7,CO7,DK7,EG7,FC7) -> 14151 | F7: =SUM(AB7,AX7,BT7,CP7,DL7,EH7,FD7) -> 209 | G7: =SUM(AC7,AY7,BU7,CQ7,DM7,EI7,FE7) -> 9186 | H7: =SUM(AD7,AZ7,BV7,CR7,DN7,EJ7,FF7) -> 35442 | I7: =SUM(AE7,BA7,BW7,CS7,DO7,EK7,FG7) -> 25341 | J7: =SUM(AF7,BB7,BX7,CT7,DP7,EL7,FH7) -> 16180 | K7: =SUM(AG7,BC7,BY7,CU7,DQ7,EM7,FI7) -> 155 | ... Y7: =SUM(AU7,BQ7,CM7,DI7,EE7,FA7,FW7) -> 79171 | Z7: =SUM(AA7:AU7) -> 105503 | AA7: =SUM(AA$8:AA$207) -> 43 | AB7: =SUM(AB$8:AB$207) -> 0 | AC7: =SUM(AC$8:AC$207) -> 9 | AD7: =SUM(AD$8:AD$207) -> 9869 | AE7: =SUM(AE$8:AE$207) -> 0 | AF7: =SUM(AF$8:AF$207) -> 0 | AG7: =SUM(AG$8:AG$207) -> 0 | AH7: =SUM(AH$8:AH$207) -> 0 | ... AK7: =SUM(AK$8:AK$207) -> 0 | AL7: - | AM7: - | AN7: =SUM(AN$8:AN$207) -> 65026 | AO7: - | AP7: - | AQ7: =SUM(AQ$8:AQ$207) -> 14404 | AR7: - | AS7: =SUM(AS$8:AS$207) -> 5307 | AT7: =SUM(AT$8:AT$207) -> 0 | AU7: =SUM(AU$8:AU$207) -> 10845 | AV7: =SUM(AW7:BQ7) -> 13726 | AW7: =SUM(AW$8:AW$207) -> 0 | AX7: =SUM(AX$8:AX$207) -> 0 | AY7: =SUM(AY$8:AY$207) -> 6 | AZ7: =SUM(AZ$8:AZ$207) -> 11938 | BA7: =SUM(BA$8:BA$207) -> 3 | BB7: =SUM(BB$8:BB$207) -> 0 | BC7: =SUM(BC$8:BC$207) -> 0 | BD7: =SUM(BD$8:BD$207) -> 0 | ... BG7: =SUM(BG$8:BG$207) -> 4 | BH7: - | BI7: - | BJ7: - | BK7: - | BL7: - | BM7: - | BN7: - | BO7: - | BP7: =SUM(BP$8:BP$207) -> 0 | BQ7: =SUM(BQ$8:BQ$207) -> 714 | BR7: =SUM(BS7:CM7) -> 22415 | BS7: - | BT7: - | BU7: - | BV7: - | BW7: - | BX7: - | BY7: - | BZ7: - | CA7: - | CB7: - | CC7: - | CD7: =SUM(CD$8:CD$207) -> 16267 | CE7: - | CF7: - | CG7: - | CH7: - | CI7: - | CJ7: - | CK7: - | CL7: =SUM(CL$8:CL$207) -> 0 | CM7: =SUM(CM$8:CM$207) -> 6148 | CN7: =SUM(CO7:DI7) -> 1277 | CO7: - | CP7: - | CQ7: - | CR7: - | CS7: - | CT7: - | CU7: - | CV7: - | CW7: - | CX7: - | CY7: - | CZ7: - | DA7: =SUM(DA$8:DA$207) -> 1213 | DB7: - | DC7: - | DD7: - | DE7: - | DF7: - | DG7: - | DH7: =SUM(DH$8:DH$207) -> 0 | DI7: =SUM(DI$8:DI$207) -> 64 | DJ7: =SUM(DK7:EE7) -> 14435 | DK7: - | DL7: - | DM7: - | DN7: - | DO7: - | DP7: - | DQ7: - | DR7: - | DS7: - | DT7: - | DU7: - | DV7: =SUM(DV$8:DV$207) -> 0 | DW7: - | DX7: - | DY7: - | DZ7: =SUM(DZ$8:DZ$207) -> 296 | EA7: - | EB7: - | EC7: - | ED7: =SUM(ED$8:ED$207) -> 0 | EE7: =SUM(EE$8:EE$207) -> 14139 | EF7: =SUM(EG7:FA7) -> 6660 | EG7: =SUM(EG$8:EG$207) -> 0 | EH7: - | EI7: - | EJ7: =SUM(EJ$8:EJ$207) -> 0 | EK7: - | EL7: - | EM7: - | EN7: =SUM(EN$8:EN$207) -> 0 | EO7: =SUM(EO$8:EO$207) -> 0 | EP7: =SUM(EP$8:EP$207) -> 0 | EQ7: - | ER7: - | ES7: - | ET7: - | EU7: =SUM(EU$8:EU$207) -> 350 | EV7: =SUM(EV$8:EV$207) -> 1505 | EW7: - | EX7: - | EY7: - | EZ7: =SUM(EZ$8:EZ$207) -> 21 | FA7: =SUM(FA$8:FA$207) -> 4784 | FB7: =SUM(FC7:FW7) -> 169264 | FC7: =SUM(FC$8:FC$207) -> 14108 | FD7: =SUM(FD$8:FD$207) -> 209 | FE7: =SUM(FE$8:FE$207) -> 9171 | FF7: =SUM(FF$8:FF$207) -> 13635 | FG7: =SUM(FG$8:FG$207) -> 25338 | FH7: =SUM(FH$8:FH$207) -> 16180 | FI7: =SUM(FI$8:FI$207) -> 155 | FJ7: =SUM(FJ$8:FJ$207) -> 44171 | ... FO7: =SUM(FO$8:FO$207) -> 0 | FP7: - | FQ7: - | FR7: - | FS7: =SUM(FS$8:FS$207) -> 0 | FT7: =SUM(FT$8:FT$207) -> 0 | FU7: =SUM(FU$8:FU$207) -> 0 | FV7: =SUM(FV$8:FV$207) -> 113 | FW7: =SUM(FW$8:FW$207) -> 42477
A8: 愛知県 | B8: 23100 | C8: 名古屋市 | D8: =SUM(Z8,AV8,BR8,CN8,DJ8,EF8,FB8) -> 147015 | E8: =SUM(AA8,AW8,BS8,CO8,DK8,EG8,FC8) -> 1389 | F8: =SUM(AB8,AX8,BT8,CP8,DL8,EH8,FD8) -> 22 | G8: =SUM(AC8,AY8,BU8,CQ8,DM8,EI8,FE8) -> 6403 | H8: =SUM(AD8,AZ8,BV8,CR8,DN8,EJ8,FF8) -> 11761 | I8: =SUM(AE8,BA8,BW8,CS8,DO8,EK8,FG8) -> 12274 | J8: =SUM(AF8,BB8,BX8,CT8,DP8,EL8,FH8) -> 7728 | K8: =SUM(AG8,BC8,BY8,CU8,DQ8,EM8,FI8) -> 0 | ... Y8: =SUM(AU8,BQ8,CM8,DI8,EE8,FA8,FW8) -> 35012 | Z8: =SUM(AA8:AU8) -> 56543 | AA8: 0 | AB8: 0 | AC8: 0 | AD8: 7513 | AE8: 0 | AF8: 0 | AG8: 0 | AH8: 0 | AI8: 0 | AJ8: 0 | AK8: 0 | AL8: - | AM8: - | AN8: 38052 | AO8: - | AP8: - | AQ8: 1836 | AR8: - | AS8: 4731 | AT8: 0 | AU8: 4411 | AV8: =SUM(AW8:BQ8) -> 1716 | AW8: 0 | AX8: 0 | AY8: 0 | AZ8: 1716 | BA8: 0 | BB8: 0 | BC8: 0 | BD8: 0 | BE8: 0 | BF8: 0 | BG8: 0 | BH8: - | BI8: - | BJ8: - | BK8: - | BL8: - | BM8: - | BN8: - | BO8: - | BP8: 0 | BQ8: 0 | BR8: =SUM(BS8:CM8) -> 3799 | BS8: - | BT8: - | BU8: - | BV8: - | BW8: - | BX8: - | BY8: - | BZ8: - | CA8: - | CB8: - | CC8: - | CD8: 3799 | CE8: - | CF8: - | CG8: - | CH8: - | CI8: - | CJ8: - | CK8: - | CL8: 0 | CM8: 0 | CN8: =SUM(CO8:DI8) -> 819 | CO8: - | CP8: - | CQ8: - | CR8: - | CS8: - | CT8: - | CU8: - | CV8: - | CW8: - | CX8: - | CY8: - | CZ8: - | DA8: 819 | DB8: - | DC8: - | DD8: - | DE8: - | DF8: - | DG8: - | DH8: 0 | DI8: 0 | DJ8: =SUM(DK8:EE8) -> 296 | DK8: - | DL8: - | DM8: - | DN8: - | DO8: - | DP8: - | DQ8: - | DR8: - | DS8: - | DT8: - | DU8: - | DV8: 0 | DW8: - | DX8: - | DY8: - | DZ8: 296 | EA8: - | EB8: - | EC8: - | ED8: 0 | EE8: 0 | EF8: =SUM(EG8:FA8) -> 0 | EG8: 0 | EH8: - | EI8: - | EJ8: 0 | EK8: - | EL8: - | EM8: - | EN8: 0 | EO8: 0 | EP8: 0 | EQ8: - | ER8: - | ES8: - | ET8: - | EU8: 0 | EV8: 0 | EW8: - | EX8: - | EY8: - | EZ8: 0 | FA8: 0 | FB8: =SUM(FC8:FW8) -> 83842 | FC8: 1389 | FD8: 22 | FE8: 6403 | FF8: 2532 | FG8: 12274 | FH8: 7728 | FI8: 0 | FJ8: 22732 | FK8: 0 | FL8: 108 | FM8: 0 | FN8: 0 | FO8: 0 | FP8: - | FQ8: - | FR8: - | FS8: 0 | FT8: 0 | FU8: 0 | FV8: 53 | FW8: 30601
A9: 愛知県 | B9: 23201 | C9: 豊橋市 | D9: =SUM(Z9,AV9,BR9,CN9,DJ9,EF9,FB9) -> 20935 | E9: =SUM(AA9,AW9,BS9,CO9,DK9,EG9,FC9) -> 0 | F9: =SUM(AB9,AX9,BT9,CP9,DL9,EH9,FD9) -> 0 | G9: =SUM(AC9,AY9,BU9,CQ9,DM9,EI9,FE9) -> 0 | H9: =SUM(AD9,AZ9,BV9,CR9,DN9,EJ9,FF9) -> 2334 | I9: =SUM(AE9,BA9,BW9,CS9,DO9,EK9,FG9) -> 1498 | J9: =SUM(AF9,BB9,BX9,CT9,DP9,EL9,FH9) -> 520 | K9: =SUM(AG9,BC9,BY9,CU9,DQ9,EM9,FI9) -> 0 | ... Y9: =SUM(AU9,BQ9,CM9,DI9,EE9,FA9,FW9) -> 12669 | Z9: =SUM(AA9:AU9) -> 2130 | AA9: 0 | AB9: 0 | AC9: 0 | AD9: 278 | AE9: 0 | AF9: 0 | AG9: 0 | AH9: 0 | AI9: 0 | AJ9: 0 | AK9: 0 | AL9: - | AM9: - | AN9: 1587 | AO9: - | AP9: - | AQ9: 0 | AR9: - | AS9: 0 | AT9: 0 | AU9: 265 | AV9: =SUM(AW9:BQ9) -> 1286 | AW9: 0 | AX9: 0 | AY9: 0 | AZ9: 1261 | BA9: 0 | BB9: 0 | BC9: 0 | BD9: 0 | BE9: 0 | BF9: 0 | BG9: 0 | BH9: - | BI9: - | BJ9: - | BK9: - | BL9: - | BM9: - | BN9: - | BO9: - | BP9: 0 | BQ9: 25 | BR9: =SUM(BS9:CM9) -> 0 | BS9: - | BT9: - | BU9: - | BV9: - | BW9: - | BX9: - | BY9: - | BZ9: - | CA9: - | CB9: - | CC9: - | CD9: 0 | CE9: - | CF9: - | CG9: - | CH9: - | CI9: - | CJ9: - | CK9: - | CL9: 0 | CM9: 0 | CN9: =SUM(CO9:DI9) -> 0 | CO9: - | CP9: - | CQ9: - | CR9: - | CS9: - | CT9: - | CU9: - | CV9: - | CW9: - | CX9: - | CY9: - | CZ9: - | DA9: 0 | DB9: - | DC9: - | DD9: - | DE9: - | DF9: - | DG9: - | DH9: 0 | DI9: 0 | DJ9: =SUM(DK9:EE9) -> 11943 | DK9: - | DL9: - | DM9: - | DN9: - | DO9: - | DP9: - | DQ9: - | DR9: - | DS9: - | DT9: - | DU9: - | DV9: 0 | DW9: - | DX9: - | DY9: - | DZ9: 0 | EA9: - | EB9: - | EC9: - | ED9: 0 | EE9: 11943 | EF9: =SUM(EG9:FA9) -> 0 | EG9: 0 | EH9: - | EI9: - | EJ9: 0 | EK9: - | EL9: - | EM9: - | EN9: 0 | EO9: 0 | EP9: 0 | EQ9: - | ER9: - | ES9: - | ET9: - | EU9: 0 | EV9: 0 | EW9: - | EX9: - | EY9: - | EZ9: 0 | FA9: 0 | FB9: =SUM(FC9:FW9) -> 5576 | FC9: 0 | FD9: 0 | FE9: 0 | FF9: 795 | FG9: 1498 | FH9: 520 | FI9: 0 | FJ9: 2327 | FK9: 0 | FL9: 0 | FM9: 0 | FN9: 0 | FO9: 0 | FP9: - | FQ9: - | FR9: - | FS9: 0 | FT9: 0 | FU9: 0 | FV9: 0 | FW9: 436
A10: 愛知県 | B10: 23202 | C10: 岡崎市 | D10: =SUM(Z10,AV10,BR10,CN10,DJ10,EF10,FB10) -> 19772 | E10: =SUM(AA10,AW10,BS10,CO10,DK10,EG10,FC10) -> 1617 | F10: =SUM(AB10,AX10,BT10,CP10,DL10,EH10,FD10) -> 12 | G10: =SUM(AC10,AY10,BU10,CQ10,DM10,EI10,FE10) -> 726 | H10: =SUM(AD10,AZ10,BV10,CR10,DN10,EJ10,FF10) -> 2142 | I10: =SUM(AE10,BA10,BW10,CS10,DO10,EK10,FG10) -> 1601 | J10: =SUM(AF10,BB10,BX10,CT10,DP10,EL10,FH10) -> 899 | K10: =SUM(AG10,BC10,BY10,CU10,DQ10,EM10,FI10) -> 0 | ... Y10: =SUM(AU10,BQ10,CM10,DI10,EE10,FA10,FW10) -> 1116 | Z10: =SUM(AA10:AU10) -> 10581 | AA10: 0 | AB10: 0 | AC10: 0 | AD10: 0 | AE10: 0 | AF10: 0 | AG10: 0 | AH10: 0 | AI10: 0 | AJ10: 0 | AK10: 0 | AL10: - | AM10: - | AN10: 9465 | AO10: - | AP10: - | AQ10: 0 | AR10: - | AS10: 0 | AT10: 0 | AU10: 1116 | AV10: =SUM(AW10:BQ10) -> 0 | AW10: 0 | AX10: 0 | AY10: 0 | AZ10: 0 | BA10: 0 | BB10: 0 | BC10: 0 | BD10: 0 | BE10: 0 | BF10: 0 | BG10: 0 | BH10: - | BI10: - | BJ10: - | BK10: - | BL10: - | BM10: - | BN10: - | BO10: - | BP10: 0 | BQ10: 0 | BR10: =SUM(BS10:CM10) -> 0 | BS10: - | BT10: - | BU10: - | BV10: - | BW10: - | BX10: - | BY10: - | BZ10: - | CA10: - | CB10: - | CC10: - | CD10: 0 | CE10: - | CF10: - | CG10: - | CH10: - | CI10: - | CJ10: - | CK10: - | CL10: 0 | CM10: 0 | CN10: =SUM(CO10:DI10) -> 0 | CO10: - | CP10: - | CQ10: - | CR10: - | CS10: - | CT10: - | CU10: - | CV10: - | CW10: - | CX10: - | CY10: - | CZ10: - | DA10: 0 | DB10: - | DC10: - | DD10: - | DE10: - | DF10: - | DG10: - | DH10: 0 | DI10: 0 | DJ10: =SUM(DK10:EE10) -> 0 | DK10: - | DL10: - | DM10: - | DN10: - | DO10: - | DP10: - | DQ10: - | DR10: - | DS10: - | DT10: - | DU10: - | DV10: 0 | DW10: - | DX10: - | DY10: - | DZ10: 0 | EA10: - | EB10: - | EC10: - | ED10: 0 | EE10: 0 | EF10: =SUM(EG10:FA10) -> 0 | EG10: 0 | EH10: - | EI10: - | EJ10: 0 | EK10: - | EL10: - | EM10: - | EN10: 0 | EO10: 0 | EP10: 0 | EQ10: - | ER10: - | ES10: - | ET10: - | EU10: 0 | EV10: 0 | EW10: - | EX10: - | EY10: - | EZ10: 0 | FA10: 0 | FB10: =SUM(FC10:FW10) -> 9191 | FC10: 1617 | FD10: 12 | FE10: 726 | FF10: 2142 | FG10: 1601 | FH10: 899 | FI10: 0 | FJ10: 1905 | FK10: 82 | FL10: 0 | FM10: 207 | FN10: 0 | FO10: 0 | FP10: - | FQ10: - | FR10: - | FS10: 0 | FT10: 0 | FU10: 0 | FV10: 0 | FW10: 0
A11: 愛知県 | B11: 23203 | C11: 一宮市 | D11: =SUM(Z11,AV11,BR11,CN11,DJ11,EF11,FB11) -> 10304 | E11: =SUM(AA11,AW11,BS11,CO11,DK11,EG11,FC11) -> 0 | F11: =SUM(AB11,AX11,BT11,CP11,DL11,EH11,FD11) -> 0 | G11: =SUM(AC11,AY11,BU11,CQ11,DM11,EI11,FE11) -> 0 | H11: =SUM(AD11,AZ11,BV11,CR11,DN11,EJ11,FF11) -> 1495 | I11: =SUM(AE11,BA11,BW11,CS11,DO11,EK11,FG11) -> 0 | J11: =SUM(AF11,BB11,BX11,CT11,DP11,EL11,FH11) -> 659 | K11: =SUM(AG11,BC11,BY11,CU11,DQ11,EM11,FI11) -> 0 | ... Y11: =SUM(AU11,BQ11,CM11,DI11,EE11,FA11,FW11) -> 1491 | Z11: =SUM(AA11:AU11) -> 1412 | AA11: 0 | AB11: 0 | AC11: 0 | AD11: 0 | AE11: 0 | AF11: 0 | AG11: 0 | AH11: 0 | AI11: 0 | AJ11: 0 | AK11: 0 | AL11: - | AM11: - | AN11: 0 | AO11: - | AP11: - | AQ11: 0 | AR11: - | AS11: 0 | AT11: 0 | AU11: 1412 | AV11: =SUM(AW11:BQ11) -> 1574 | AW11: 0 | AX11: 0 | AY11: 0 | AZ11: 1495 | BA11: 0 | BB11: 0 | BC11: 0 | BD11: 0 | BE11: 0 | BF11: 0 | BG11: 0 | BH11: - | BI11: - | BJ11: - | BK11: - | BL11: - | BM11: - | BN11: - | BO11: - | BP11: 0 | BQ11: 79 | BR11: =SUM(BS11:CM11) -> 3855 | BS11: - | BT11: - | BU11: - | BV11: - | BW11: - | BX11: - | BY11: - | BZ11: - | CA11: - | CB11: - | CC11: - | CD11: 3855 | CE11: - | CF11: - | CG11: - | CH11: - | CI11: - | CJ11: - | CK11: - | CL11: 0 | CM11: 0 | CN11: =SUM(CO11:DI11) -> 0 | CO11: - | CP11: - | CQ11: - | CR11: - | CS11: - | CT11: - | CU11: - | CV11: - | CW11: - | CX11: - | CY11: - | CZ11: - | DA11: 0 | DB11: - | DC11: - | DD11: - | DE11: - | DF11: - | DG11: - | DH11: 0 | DI11: 0 | DJ11: =SUM(DK11:EE11) -> 0 | DK11: - | DL11: - | DM11: - | DN11: - | DO11: - | DP11: - | DQ11: - | DR11: - | DS11: - | DT11: - | DU11: - | DV11: 0 | DW11: - | DX11: - | DY11: - | DZ11: 0 | EA11: - | EB11: - | EC11: - | ED11: 0 | EE11: 0 | EF11: =SUM(EG11:FA11) -> 0 | EG11: 0 | EH11: - | EI11: - | EJ11: 0 | EK11: - | EL11: - | EM11: - | EN11: 0 | EO11: 0 | EP11: 0 | EQ11: - | ER11: - | ES11: - | ET11: - | EU11: 0 | EV11: 0 | EW11: - | EX11: - | EY11: - | EZ11: 0 | FA11: 0 | FB11: =SUM(FC11:FW11) -> 3463 | FC11: 0 | FD11: 0 | FE11: 0 | FF11: 0 | FG11: 0 | FH11: 659 | FI11: 0 | FJ11: 2804 | FK11: 0 | FL11: 0 | FM11: 0 | FN11: 0 | FO11: 0 | FP11: - | FQ11: - | FR11: - | FS11: 0 | FT11: 0 | FU11: 0 | FV11: 0 | FW11: 0
A12: 愛知県 | B12: 23204 | C12: 瀬戸市 | D12: =SUM(Z12,AV12,BR12,CN12,DJ12,EF12,FB12) -> 430 | E12: =SUM(AA12,AW12,BS12,CO12,DK12,EG12,FC12) -> 19 | F12: =SUM(AB12,AX12,BT12,CP12,DL12,EH12,FD12) -> 0 | G12: =SUM(AC12,AY12,BU12,CQ12,DM12,EI12,FE12) -> 0 | H12: =SUM(AD12,AZ12,BV12,CR12,DN12,EJ12,FF12) -> 411 | I12: =SUM(AE12,BA12,BW12,CS12,DO12,EK12,FG12) -> 0 | J12: =SUM(AF12,BB12,BX12,CT12,DP12,EL12,FH12) -> 0 | K12: =SUM(AG12,BC12,BY12,CU12,DQ12,EM12,FI12) -> 0 | ... Y12: =SUM(AU12,BQ12,CM12,DI12,EE12,FA12,FW12) -> 0 | Z12: =SUM(AA12:AU12) -> 49 | AA12: 19 | AB12: 0 | AC12: 0 | AD12: 30 | AE12: 0 | AF12: 0 | AG12: 0 | AH12: 0 | AI12: 0 | AJ12: 0 | AK12: 0 | AL12: - | AM12: - | AN12: 0 | AO12: - | AP12: - | AQ12: 0 | AR12: - | AS12: 0 | AT12: 0 | AU12: 0 | AV12: =SUM(AW12:BQ12) -> 381 | AW12: 0 | AX12: 0 | AY12: 0 | AZ12: 381 | BA12: 0 | BB12: 0 | BC12: 0 | BD12: 0 | BE12: 0 | BF12: 0 | BG12: 0 | BH12: - | BI12: - | BJ12: - | BK12: - | BL12: - | BM12: - | BN12: - | BO12: - | BP12: 0 | BQ12: 0 | BR12: =SUM(BS12:CM12) -> 0 | BS12: - | BT12: - | BU12: - | BV12: - | BW12: - | BX12: - | BY12: - | BZ12: - | CA12: - | CB12: - | CC12: - | CD12: 0 | CE12: - | CF12: - | CG12: - | CH12: - | CI12: - | CJ12: - | CK12: - | CL12: 0 | CM12: 0 | CN12: =SUM(CO12:DI12) -> 0 | CO12: - | CP12: - | CQ12: - | CR12: - | CS12: - | CT12: - | CU12: - | CV12: - | CW12: - | CX12: - | CY12: - | CZ12: - | DA12: 0 | DB12: - | DC12: - | DD12: - | DE12: - | DF12: - | DG12: - | DH12: 0 | DI12: 0 | DJ12: =SUM(DK12:EE12) -> 0 | DK12: - | DL12: - | DM12: - | DN12: - | DO12: - | DP12: - | DQ12: - | DR12: - | DS12: - | DT12: - | DU12: - | DV12: 0 | DW12: - | DX12: - | DY12: - | DZ12: 0 | EA12: - | EB12: - | EC12: - | ED12: 0 | EE12: 0 | EF12: =SUM(EG12:FA12) -> 0 | EG12: 0 | EH12: - | EI12: - | EJ12: 0 | EK12: - | EL12: - | EM12: - | EN12: 0 | EO12: 0 | EP12: 0 | EQ12: - | ER12: - | ES12: - | ET12: - | EU12: 0 | EV12: 0 | EW12: - | EX12: - | EY12: - | EZ12: 0 | FA12: 0 | FB12: =SUM(FC12:FW12) -> 0 | FC12: 0 | FD12: 0 | FE12: 0 | FF12: 0 | FG12: 0 | FH12: 0 | FI12: 0 | FJ12: 0 | FK12: 0 | FL12: 0 | FM12: 0 | FN12: 0 | FO12: 0 | FP12: - | FQ12: - | FR12: - | FS12: 0 | FT12: 0 | FU12: 0 | FV12: 0 | FW12: 0
A13: 愛知県 | B13: 23205 | C13: 半田市 | D13: =SUM(Z13,AV13,BR13,CN13,DJ13,EF13,FB13) -> 9439 | E13: =SUM(AA13,AW13,BS13,CO13,DK13,EG13,FC13) -> 1578 | F13: =SUM(AB13,AX13,BT13,CP13,DL13,EH13,FD13) -> 9 | G13: =SUM(AC13,AY13,BU13,CQ13,DM13,EI13,FE13) -> 711 | H13: =SUM(AD13,AZ13,BV13,CR13,DN13,EJ13,FF13) -> 177 | I13: =SUM(AE13,BA13,BW13,CS13,DO13,EK13,FG13) -> 52 | J13: =SUM(AF13,BB13,BX13,CT13,DP13,EL13,FH13) -> 395 | K13: =SUM(AG13,BC13,BY13,CU13,DQ13,EM13,FI13) -> 0 | ... Y13: =SUM(AU13,BQ13,CM13,DI13,EE13,FA13,FW13) -> 4950 | Z13: =SUM(AA13:AU13) -> 0 | AA13: 0 | AB13: 0 | AC13: 0 | AD13: 0 | AE13: 0 | AF13: 0 | AG13: 0 | AH13: 0 | AI13: 0 | AJ13: 0 | AK13: 0 | AL13: - | AM13: - | AN13: 0 | AO13: - | AP13: - | AQ13: 0 | AR13: - | AS13: 0 | AT13: 0 | AU13: 0 | AV13: =SUM(AW13:BQ13) -> 0 | AW13: 0 | AX13: 0 | AY13: 0 | AZ13: 0 | BA13: 0 | BB13: 0 | BC13: 0 | BD13: 0 | BE13: 0 | BF13: 0 | BG13: 0 | BH13: - | BI13: - | BJ13: - | BK13: - | BL13: - | BM13: - | BN13: - | BO13: - | BP13: 0 | BQ13: 0 | BR13: =SUM(BS13:CM13) -> 4200 | BS13: - | BT13: - | BU13: - | BV13: - | BW13: - | BX13: - | BY13: - | BZ13: - | CA13: - | CB13: - | CC13: - | CD13: 0 | CE13: - | CF13: - | CG13: - | CH13: - | CI13: - | CJ13: - | CK13: - | CL13: 0 | CM13: 4200 | CN13: =SUM(CO13:DI13) -> 0 | CO13: - | CP13: - | CQ13: - | CR13: - | CS13: - | CT13: - | CU13: - | CV13: - | CW13: - | CX13: - | CY13: - | CZ13: - | DA13: 0 | DB13: - | DC13: - | DD13: - | DE13: - | DF13: - | DG13: - | DH13: 0 | DI13: 0 | DJ13: =SUM(DK13:EE13) -> 0 | DK13: - | DL13: - | DM13: - | DN13: - | DO13: - | DP13: - | DQ13: - | DR13: - | DS13: - | DT13: - | DU13: - | DV13: 0 | DW13: - | DX13: - | DY13: - | DZ13: 0 | EA13: - | EB13: - | EC13: - | ED13: 0 | EE13: 0 | EF13: =SUM(EG13:FA13) -> 0 | EG13: 0 | EH13: - | EI13: - | EJ13: 0 | EK13: - | EL13: - | EM13: - | EN13: 0 | EO13: 0 | EP13: 0 | EQ13: - | ER13: - | ES13: - | ET13: - | EU13: 0 | EV13: 0 | EW13: - | EX13: - | EY13: - | EZ13: 0 | FA13: 0 | FB13: =SUM(FC13:FW13) -> 5239 | FC13: 1578 | FD13: 9 | FE13: 711 | FF13: 177 | FG13: 52 | FH13: 395 | FI13: 0 | FJ13: 1242 | FK13: 71 | FL13: 0 | FM13: 246 | FN13: 0 | FO13: 0 | FP13: - | FQ13: - | FR13: - | FS13: 0 | FT13: 0 | FU13: 0 | FV13: 8 | FW13: 750
A14: 愛知県 | B14: 23206 | C14: 春日井市 | D14: =SUM(Z14,AV14,BR14,CN14,DJ14,EF14,FB14) -> 5859 | E14: =SUM(AA14,AW14,BS14,CO14,DK14,EG14,FC14) -> 0 | F14: =SUM(AB14,AX14,BT14,CP14,DL14,EH14,FD14) -> 0 | G14: =SUM(AC14,AY14,BU14,CQ14,DM14,EI14,FE14) -> 0 | H14: =SUM(AD14,AZ14,BV14,CR14,DN14,EJ14,FF14) -> 1201 | I14: =SUM(AE14,BA14,BW14,CS14,DO14,EK14,FG14) -> 1089 | J14: =SUM(AF14,BB14,BX14,CT14,DP14,EL14,FH14) -> 590 | K14: =SUM(AG14,BC14,BY14,CU14,DQ14,EM14,FI14) -> 0 | ... Y14: =SUM(AU14,BQ14,CM14,DI14,EE14,FA14,FW14) -> 0 | Z14: =SUM(AA14:AU14) -> 2979 | AA14: 0 | AB14: 0 | AC14: 0 | AD14: 0 | AE14: 0 | AF14: 0 | AG14: 0 | AH14: 0 | AI14: 0 | AJ14: 0 | AK14: 0 | AL14: - | AM14: - | AN14: 0 | AO14: - | AP14: - | AQ14: 2979 | AR14: - | AS14: 0 | AT14: 0 | AU14: 0 | AV14: =SUM(AW14:BQ14) -> 1034 | AW14: 0 | AX14: 0 | AY14: 0 | AZ14: 1034 | BA14: 0 | BB14: 0 | BC14: 0 | BD14: 0 | BE14: 0 | BF14: 0 | BG14: 0 | BH14: - | BI14: - | BJ14: - | BK14: - | BL14: - | BM14: - | BN14: - | BO14: - | BP14: 0 | BQ14: 0 | BR14: =SUM(BS14:CM14) -> 0 | BS14: - | BT14: - | BU14: - | BV14: - | BW14: - | BX14: - | BY14: - | BZ14: - | CA14: - | CB14: - | CC14: - | CD14: 0 | CE14: - | CF14: - | CG14: - | CH14: - | CI14: - | CJ14: - | CK14: - | CL14: 0 | CM14: 0 | CN14: =SUM(CO14:DI14) -> 0 | CO14: - | CP14: - | CQ14: - | CR14: - | CS14: - | CT14: - | CU14: - | CV14: - | CW14: - | CX14: - | CY14: - | CZ14: - | DA14: 0 | DB14: - | DC14: - | DD14: - | DE14: - | DF14: - | DG14: - | DH14: 0 | DI14: 0 | DJ14: =SUM(DK14:EE14) -> 0 | DK14: - | DL14: - | DM14: - | DN14: - | DO14: - | DP14: - | DQ14: - | DR14: - | DS14: - | DT14: - | DU14: - | DV14: 0 | DW14: - | DX14: - | DY14: - | DZ14: 0 | EA14: - | EB14: - | EC14: - | ED14: 0 | EE14: 0 | EF14: =SUM(EG14:FA14) -> 0 | EG14: 0 | EH14: - | EI14: - | EJ14: 0 | EK14: - | EL14: - | EM14: - | EN14: 0 | EO14: 0 | EP14: 0 | EQ14: - | ER14: - | ES14: - | ET14: - | EU14: 0 | EV14: 0 | EW14: - | EX14: - | EY14: - | EZ14: 0 | FA14: 0 | FB14: =SUM(FC14:FW14) -> 1846 | FC14: 0 | FD14: 0 | FE14: 0 | FF14: 167 | FG14: 1089 | FH14: 590 | FI14: 0 | FJ14: 0 | FK14: 0 | FL14: 0 | FM14: 0 | FN14: 0 | FO14: 0 | FP14: - | FQ14: - | FR14: - | FS14: 0 | FT14: 0 | FU14: 0 | FV14: 0 | FW14: 0
A15: 愛知県 | B15: 23207 | C15: 豊川市 | D15: =SUM(Z15,AV15,BR15,CN15,DJ15,EF15,FB15) -> 9727 | E15: =SUM(AA15,AW15,BS15,CO15,DK15,EG15,FC15) -> 0 | F15: =SUM(AB15,AX15,BT15,CP15,DL15,EH15,FD15) -> 0 | G15: =SUM(AC15,AY15,BU15,CQ15,DM15,EI15,FE15) -> 0 | H15: =SUM(AD15,AZ15,BV15,CR15,DN15,EJ15,FF15) -> 1615 | I15: =SUM(AE15,BA15,BW15,CS15,DO15,EK15,FG15) -> 939 | J15: =SUM(AF15,BB15,BX15,CT15,DP15,EL15,FH15) -> 617 | K15: =SUM(AG15,BC15,BY15,CU15,DQ15,EM15,FI15) -> 23 | ... Y15: =SUM(AU15,BQ15,CM15,DI15,EE15,FA15,FW15) -> 742 | Z15: =SUM(AA15:AU15) -> 4968 | AA15: 0 | AB15: 0 | AC15: 0 | AD15: 579 | AE15: 0 | AF15: 0 | AG15: 0 | AH15: 0 | AI15: 0 | AJ15: 0 | AK15: 0 | AL15: - | AM15: - | AN15: 4389 | AO15: - | AP15: - | AQ15: 0 | AR15: - | AS15: 0 | AT15: 0 | AU15: 0 | AV15: =SUM(AW15:BQ15) -> 397 | AW15: 0 | AX15: 0 | AY15: 0 | AZ15: 397 | BA15: 0 | BB15: 0 | BC15: 0 | BD15: 0 | BE15: 0 | BF15: 0 | BG15: 0 | BH15: - | BI15: - | BJ15: - | BK15: - | BL15: - | BM15: - | BN15: - | BO15: - | BP15: 0 | BQ15: 0 | BR15: =SUM(BS15:CM15) -> 982 | BS15: - | BT15: - | BU15: - | BV15: - | BW15: - | BX15: - | BY15: - | BZ15: - | CA15: - | CB15: - | CC15: - | CD15: 536 | CE15: - | CF15: - | CG15: - | CH15: - | CI15: - | CJ15: - | CK15: - | CL15: 0 | CM15: 446 | CN15: =SUM(CO15:DI15) -> 0 | CO15: - | CP15: - | CQ15: - | CR15: - | CS15: - | CT15: - | CU15: - | CV15: - | CW15: - | CX15: - | CY15: - | CZ15: - | DA15: 0 | DB15: - | DC15: - | DD15: - | DE15: - | DF15: - | DG15: - | DH15: 0 | DI15: 0 | DJ15: =SUM(DK15:EE15) -> 0 | DK15: - | DL15: - | DM15: - | DN15: - | DO15: - | DP15: - | DQ15: - | DR15: - | DS15: - | DT15: - | DU15: - | DV15: 0 | DW15: - | DX15: - | DY15: - | DZ15: 0 | EA15: - | EB15: - | EC15: - | ED15: 0 | EE15: 0 | EF15: =SUM(EG15:FA15) -> 854 | EG15: 0 | EH15: - | EI15: - | EJ15: 0 | EK15: - | EL15: - | EM15: - | EN15: 0 | EO15: 0 | EP15: 0 | EQ15: - | ER15: - | ES15: - | ET15: - | EU15: 0 | EV15: 854 | EW15: - | EX15: - | EY15: - | EZ15: 0 | FA15: 0 | FB15: =SUM(FC15:FW15) -> 2526 | FC15: 0 | FD15: 0 | FE15: 0 | FF15: 639 | FG15: 939 | FH15: 617 | FI15: 23 | FJ15: 0 | FK15: 0 | FL15: 10 | FM15: 2 | FN15: 0 | FO15: 0 | FP15: - | FQ15: - | FR15: - | FS15: 0 | FT15: 0 | FU15: 0 | FV15: 0 | FW15: 296
A16: 愛知県 | B16: 23208 | C16: 津島市 | D16: =SUM(Z16,AV16,BR16,CN16,DJ16,EF16,FB16) -> 1244 | E16: =SUM(AA16,AW16,BS16,CO16,DK16,EG16,FC16) -> 0 | F16: =SUM(AB16,AX16,BT16,CP16,DL16,EH16,FD16) -> 0 | G16: =SUM(AC16,AY16,BU16,CQ16,DM16,EI16,FE16) -> 0 | H16: =SUM(AD16,AZ16,BV16,CR16,DN16,EJ16,FF16) -> 89 | I16: =SUM(AE16,BA16,BW16,CS16,DO16,EK16,FG16) -> 0 | J16: =SUM(AF16,BB16,BX16,CT16,DP16,EL16,FH16) -> 0 | K16: =SUM(AG16,BC16,BY16,CU16,DQ16,EM16,FI16) -> 0 | ... Y16: =SUM(AU16,BQ16,CM16,DI16,EE16,FA16,FW16) -> 16 | Z16: =SUM(AA16:AU16) -> 1139 | AA16: 0 | AB16: 0 | AC16: 0 | AD16: 0 | AE16: 0 | AF16: 0 | AG16: 0 | AH16: 0 | AI16: 0 | AJ16: 0 | AK16: 0 | AL16: - | AM16: - | AN16: 0 | AO16: - | AP16: - | AQ16: 1139 | AR16: - | AS16: 0 | AT16: 0 | AU16: 0 | AV16: =SUM(AW16:BQ16) -> 105 | AW16: 0 | AX16: 0 | AY16: 0 | AZ16: 89 | BA16: 0 | BB16: 0 | BC16: 0 | BD16: 0 | BE16: 0 | BF16: 0 | BG16: 0 | BH16: - | BI16: - | BJ16: - | BK16: - | BL16: - | BM16: - | BN16: - | BO16: - | BP16: 0 | BQ16: 16 | BR16: =SUM(BS16:CM16) -> 0 | BS16: - | BT16: - | BU16: - | BV16: - | BW16: - | BX16: - | BY16: - | BZ16: - | CA16: - | CB16: - | CC16: - | CD16: 0 | CE16: - | CF16: - | CG16: - | CH16: - | CI16: - | CJ16: - | CK16: - | CL16: 0 | CM16: 0 | CN16: =SUM(CO16:DI16) -> 0 | CO16: - | CP16: - | CQ16: - | CR16: - | CS16: - | CT16: - | CU16: - | CV16: - | CW16: - | CX16: - | CY16: - | CZ16: - | DA16: 0 | DB16: - | DC16: - | DD16: - | DE16: - | DF16: - | DG16: - | DH16: 0 | DI16: 0 | DJ16: =SUM(DK16:EE16) -> 0 | DK16: - | DL16: - | DM16: - | DN16: - | DO16: - | DP16: - | DQ16: - | DR16: - | DS16: - | DT16: - | DU16: - | DV16: 0 | DW16: - | DX16: - | DY16: - | DZ16: 0 | EA16: - | EB16: - | EC16: - | ED16: 0 | EE16: 0 | EF16: =SUM(EG16:FA16) -> 0 | EG16: 0 | EH16: - | EI16: - | EJ16: 0 | EK16: - | EL16: - | EM16: - | EN16: 0 | EO16: 0 | EP16: 0 | EQ16: - | ER16: - | ES16: - | ET16: - | EU16: 0 | EV16: 0 | EW16: - | EX16: - | EY16: - | EZ16: 0 | FA16: 0 | FB16: =SUM(FC16:FW16) -> 0 | FC16: 0 | FD16: 0 | FE16: 0 | FF16: 0 | FG16: 0 | FH16: 0 | FI16: 0 | FJ16: 0 | FK16: 0 | FL16: 0 | FM16: 0 | FN16: 0 | FO16: 0 | FP16: - | FQ16: - | FR16: - | FS16: 0 | FT16: 0 | FU16: 0 | FV16: 0 | FW16: 0
A17: 愛知県 | B17: 23209 | C17: 碧南市 | D17: =SUM(Z17,AV17,BR17,CN17,DJ17,EF17,FB17) -> 1698 | E17: =SUM(AA17,AW17,BS17,CO17,DK17,EG17,FC17) -> 0 | F17: =SUM(AB17,AX17,BT17,CP17,DL17,EH17,FD17) -> 0 | G17: =SUM(AC17,AY17,BU17,CQ17,DM17,EI17,FE17) -> 0 | H17: =SUM(AD17,AZ17,BV17,CR17,DN17,EJ17,FF17) -> 447 | I17: =SUM(AE17,BA17,BW17,CS17,DO17,EK17,FG17) -> 0 | J17: =SUM(AF17,BB17,BX17,CT17,DP17,EL17,FH17) -> 123 | K17: =SUM(AG17,BC17,BY17,CU17,DQ17,EM17,FI17) -> 45 | ... Y17: =SUM(AU17,BQ17,CM17,DI17,EE17,FA17,FW17) -> 715 | Z17: =SUM(AA17:AU17) -> 678 | AA17: 0 | AB17: 0 | AC17: 0 | AD17: 0 | AE17: 0 | AF17: 0 | AG17: 0 | AH17: 0 | AI17: 0 | AJ17: 0 | AK17: 0 | AL17: - | AM17: - | AN17: 0 | AO17: - | AP17: - | AQ17: 0 | AR17: - | AS17: 0 | AT17: 0 | AU17: 678 | AV17: =SUM(AW17:BQ17) -> 447 | AW17: 0 | AX17: 0 | AY17: 0 | AZ17: 447 | BA17: 0 | BB17: 0 | BC17: 0 | BD17: 0 | BE17: 0 | BF17: 0 | BG17: 0 | BH17: - | BI17: - | BJ17: - | BK17: - | BL17: - | BM17: - | BN17: - | BO17: - | BP17: 0 | BQ17: 0 | BR17: =SUM(BS17:CM17) -> 0 | BS17: - | BT17: - | BU17: - | BV17: - | BW17: - | BX17: - | BY17: - | BZ17: - | CA17: - | CB17: - | CC17: - | CD17: 0 | CE17: - | CF17: - | CG17: - | CH17: - | CI17: - | CJ17: - | CK17: - | CL17: 0 | CM17: 0 | CN17: =SUM(CO17:DI17) -> 73 | CO17: - | CP17: - | CQ17: - | CR17: - | CS17: - | CT17: - | CU17: - | CV17: - | CW17: - | CX17: - | CY17: - | CZ17: - | DA17: 73 | DB17: - | DC17: - | DD17: - | DE17: - | DF17: - | DG17: - | DH17: 0 | DI17: 0 | DJ17: =SUM(DK17:EE17) -> 0 | DK17: - | DL17: - | DM17: - | DN17: - | DO17: - | DP17: - | DQ17: - | DR17: - | DS17: - | DT17: - | DU17: - | DV17: 0 | DW17: - | DX17: - | DY17: - | DZ17: 0 | EA17: - | EB17: - | EC17: - | ED17: 0 | EE17: 0 | EF17: =SUM(EG17:FA17) -> 0 | EG17: 0 | EH17: - | EI17: - | EJ17: 0 | EK17: - | EL17: - | EM17: - | EN17: 0 | EO17: 0 | EP17: 0 | EQ17: - | ER17: - | ES17: - | ET17: - | EU17: 0 | EV17: 0 | EW17: - | EX17: - | EY17: - | EZ17: 0 | FA17: 0 | FB17: =SUM(FC17:FW17) -> 500 | FC17: 0 | FD17: 0 | FE17: 0 | FF17: 0 | FG17: 0 | FH17: 123 | FI17: 45 | FJ17: 295 | FK17: 0 | FL17: 0 | FM17: 0 | FN17: 0 | FO17: 0 | FP17: - | FQ17: - | FR17: - | FS17: 0 | FT17: 0 | FU17: 0 | FV17: 0 | FW17: 37
A18: 愛知県 | B18: 23210 | C18: 刈谷市 | D18: =SUM(Z18,AV18,BR18,CN18,DJ18,EF18,FB18) -> 4450 | E18: =SUM(AA18,AW18,BS18,CO18,DK18,EG18,FC18) -> 2 | F18: =SUM(AB18,AX18,BT18,CP18,DL18,EH18,FD18) -> 1 | G18: =SUM(AC18,AY18,BU18,CQ18,DM18,EI18,FE18) -> 211 | H18: =SUM(AD18,AZ18,BV18,CR18,DN18,EJ18,FF18) -> 544 | I18: =SUM(AE18,BA18,BW18,CS18,DO18,EK18,FG18) -> 682 | J18: =SUM(AF18,BB18,BX18,CT18,DP18,EL18,FH18) -> 343 | K18: =SUM(AG18,BC18,BY18,CU18,DQ18,EM18,FI18) -> 0 | ... Y18: =SUM(AU18,BQ18,CM18,DI18,EE18,FA18,FW18) -> 338 | Z18: =SUM(AA18:AU18) -> 701 | AA18: 0 | AB18: 0 | AC18: 0 | AD18: 0 | AE18: 0 | AF18: 0 | AG18: 0 | AH18: 0 | AI18: 0 | AJ18: 0 | AK18: 0 | AL18: - | AM18: - | AN18: 0 | AO18: - | AP18: - | AQ18: 701 | AR18: - | AS18: 0 | AT18: 0 | AU18: 0 | AV18: =SUM(AW18:BQ18) -> 539 | AW18: 0 | AX18: 0 | AY18: 0 | AZ18: 383 | BA18: 0 | BB18: 0 | BC18: 0 | BD18: 0 | BE18: 0 | BF18: 0 | BG18: 0 | BH18: - | BI18: - | BJ18: - | BK18: - | BL18: - | BM18: - | BN18: - | BO18: - | BP18: 0 | BQ18: 156 | BR18: =SUM(BS18:CM18) -> 400 | BS18: - | BT18: - | BU18: - | BV18: - | BW18: - | BX18: - | BY18: - | BZ18: - | CA18: - | CB18: - | CC18: - | CD18: 400 | CE18: - | CF18: - | CG18: - | CH18: - | CI18: - | CJ18: - | CK18: - | CL18: 0 | CM18: 0 | CN18: =SUM(CO18:DI18) -> 0 | CO18: - | CP18: - | CQ18: - | CR18: - | CS18: - | CT18: - | CU18: - | CV18: - | CW18: - | CX18: - | CY18: - | CZ18: - | DA18: 0 | DB18: - | DC18: - | DD18: - | DE18: - | DF18: - | DG18: - | DH18: 0 | DI18: 0 | DJ18: =SUM(DK18:EE18) -> 0 | DK18: - | DL18: - | DM18: - | DN18: - | DO18: - | DP18: - | DQ18: - | DR18: - | DS18: - | DT18: - | DU18: - | DV18: 0 | DW18: - | DX18: - | DY18: - | DZ18: 0 | EA18: - | EB18: - | EC18: - | ED18: 0 | EE18: 0 | EF18: =SUM(EG18:FA18) -> 0 | EG18: 0 | EH18: - | EI18: - | EJ18: 0 | EK18: - | EL18: - | EM18: - | EN18: 0 | EO18: 0 | EP18: 0 | EQ18: - | ER18: - | ES18: - | ET18: - | EU18: 0 | EV18: 0 | EW18: - | EX18: - | EY18: - | EZ18: 0 | FA18: 0 | FB18: =SUM(FC18:FW18) -> 2810 | FC18: 2 | FD18: 1 | FE18: 211 | FF18: 161 | FG18: 682 | FH18: 343 | FI18: 0 | FJ18: 1093 | FK18: 117 | FL18: 0 | FM18: 18 | FN18: 0 | FO18: 0 | FP18: - | FQ18: - | FR18: - | FS18: 0 | FT18: 0 | FU18: 0 | FV18: 0 | FW18: 182
A19: 愛知県 | B19: 23211 | C19: 豊田市 | D19: =SUM(Z19,AV19,BR19,CN19,DJ19,EF19,FB19) -> 10719 | E19: =SUM(AA19,AW19,BS19,CO19,DK19,EG19,FC19) -> 0 | F19: =SUM(AB19,AX19,BT19,CP19,DL19,EH19,FD19) -> 0 | G19: =SUM(AC19,AY19,BU19,CQ19,DM19,EI19,FE19) -> 0 | H19: =SUM(AD19,AZ19,BV19,CR19,DN19,EJ19,FF19) -> 2416 | I19: =SUM(AE19,BA19,BW19,CS19,DO19,EK19,FG19) -> 2137 | J19: =SUM(AF19,BB19,BX19,CT19,DP19,EL19,FH19) -> 1040 | K19: =SUM(AG19,BC19,BY19,CU19,DQ19,EM19,FI19) -> 0 | ... Y19: =SUM(AU19,BQ19,CM19,DI19,EE19,FA19,FW19) -> 31 | Z19: =SUM(AA19:AU19) -> 2892 | AA19: 0 | AB19: 0 | AC19: 0 | AD19: 274 | AE19: 0 | AF19: 0 | AG19: 0 | AH19: 0 | AI19: 0 | AJ19: 0 | AK19: 0 | AL19: - | AM19: - | AN19: 2618 | AO19: - | AP19: - | AQ19: 0 | AR19: - | AS19: 0 | AT19: 0 | AU19: 0 | AV19: =SUM(AW19:BQ19) -> 0 | AW19: 0 | AX19: 0 | AY19: 0 | AZ19: 0 | BA19: 0 | BB19: 0 | BC19: 0 | BD19: 0 | BE19: 0 | BF19: 0 | BG19: 0 | BH19: - | BI19: - | BJ19: - | BK19: - | BL19: - | BM19: - | BN19: - | BO19: - | BP19: 0 | BQ19: 0 | BR19: =SUM(BS19:CM19) -> 591 | BS19: - | BT19: - | BU19: - | BV19: - | BW19: - | BX19: - | BY19: - | BZ19: - | CA19: - | CB19: - | CC19: - | CD19: 575 | CE19: - | CF19: - | CG19: - | CH19: - | CI19: - | CJ19: - | CK19: - | CL19: 0 | CM19: 16 | CN19: =SUM(CO19:DI19) -> 0 | CO19: - | CP19: - | CQ19: - | CR19: - | CS19: - | CT19: - | CU19: - | CV19: - | CW19: - | CX19: - | CY19: - | CZ19: - | DA19: 0 | DB19: - | DC19: - | DD19: - | DE19: - | DF19: - | DG19: - | DH19: 0 | DI19: 0 | DJ19: =SUM(DK19:EE19) -> 0 | DK19: - | DL19: - | DM19: - | DN19: - | DO19: - | DP19: - | DQ19: - | DR19: - | DS19: - | DT19: - | DU19: - | DV19: 0 | DW19: - | DX19: - | DY19: - | DZ19: 0 | EA19: - | EB19: - | EC19: - | ED19: 0 | EE19: 0 | EF19: =SUM(EG19:FA19) -> 21 | EG19: 0 | EH19: - | EI19: - | EJ19: 0 | EK19: - | EL19: - | EM19: - | EN19: 0 | EO19: 0 | EP19: 0 | EQ19: - | ER19: - | ES19: - | ET19: - | EU19: 0 | EV19: 0 | EW19: - | EX19: - | EY19: - | EZ19: 21 | FA19: 0 | FB19: =SUM(FC19:FW19) -> 7215 | FC19: 0 | FD19: 0 | FE19: 0 | FF19: 2142 | FG19: 2137 | FH19: 1040 | FI19: 0 | FJ19: 1765 | FK19: 0 | FL19: 0 | FM19: 0 | FN19: 116 | FO19: 0 | FP19: - | FQ19: - | FR19: - | FS19: 0 | FT19: 0 | FU19: 0 | FV19: 0 | FW19: 15
... A61: 愛知県 | B61: 23563 | C61: 豊根村 | D61: =SUM(Z61,AV61,BR61,CN61,DJ61,EF61,FB61) -> 18 | E61: =SUM(AA61,AW61,BS61,CO61,DK61,EG61,FC61) -> 0 | F61: =SUM(AB61,AX61,BT61,CP61,DL61,EH61,FD61) -> 0 | G61: =SUM(AC61,AY61,BU61,CQ61,DM61,EI61,FE61) -> 0 | H61: =SUM(AD61,AZ61,BV61,CR61,DN61,EJ61,FF61) -> 9 | I61: =SUM(AE61,BA61,BW61,CS61,DO61,EK61,FG61) -> 6 | J61: =SUM(AF61,BB61,BX61,CT61,DP61,EL61,FH61) -> 3 | K61: =SUM(AG61,BC61,BY61,CU61,DQ61,EM61,FI61) -> 0 | ... Y61: =SUM(AU61,BQ61,CM61,DI61,EE61,FA61,FW61) -> 0 | Z61: =SUM(AA61:AU61) -> 0 | AA61: 0 | AB61: 0 | AC61: 0 | AD61: 0 | AE61: 0 | AF61: 0 | AG61: 0 | AH61: 0 | AI61: 0 | AJ61: 0 | AK61: 0 | AL61: - | AM61: - | AN61: 0 | AO61: - | AP61: - | AQ61: 0 | AR61: - | AS61: 0 | AT61: 0 | AU61: 0 | AV61: =SUM(AW61:BQ61) -> 0 | AW61: 0 | AX61: 0 | AY61: 0 | AZ61: 0 | BA61: 0 | BB61: 0 | BC61: 0 | BD61: 0 | BE61: 0 | BF61: 0 | BG61: 0 | BH61: - | BI61: - | BJ61: - | BK61: - | BL61: - | BM61: - | BN61: - | BO61: - | BP61: 0 | BQ61: 0 | BR61: =SUM(BS61:CM61) -> 0 | BS61: - | BT61: - | BU61: - | BV61: - | BW61: - | BX61: - | BY61: - | BZ61: - | CA61: - | CB61: - | CC61: - | CD61: 0 | CE61: - | CF61: - | CG61: - | CH61: - | CI61: - | CJ61: - | CK61: - | CL61: 0 | CM61: 0 | CN61: =SUM(CO61:DI61) -> 0 | CO61: - | CP61: - | CQ61: - | CR61: - | CS61: - | CT61: - | CU61: - | CV61: - | CW61: - | CX61: - | CY61: - | CZ61: - | DA61: 0 | DB61: - | DC61: - | DD61: - | DE61: - | DF61: - | DG61: - | DH61: 0 | DI61: 0 | DJ61: =SUM(DK61:EE61) -> 0 | DK61: - | DL61: - | DM61: - | DN61: - | DO61: - | DP61: - | DQ61: - | DR61: - | DS61: - | DT61: - | DU61: - | DV61: 0 | DW61: - | DX61: - | DY61: - | DZ61: 0 | EA61: - | EB61: - | EC61: - | ED61: 0 | EE61: 0 | EF61: =SUM(EG61:FA61) -> 0 | EG61: 0 | EH61: - | EI61: - | EJ61: 0 | EK61: - | EL61: - | EM61: - | EN61: 0 | EO61: 0 | EP61: 0 | EQ61: - | ER61: - | ES61: - | ET61: - | EU61: 0 | EV61: 0 | EW61: - | EX61: - | EY61: - | EZ61: 0 | FA61: 0 | FB61: =SUM(FC61:FW61) -> 18 | FC61: 0 | FD61: 0 | FE61: 0 | FF61: 9 | FG61: 6 | FH61: 3 | FI61: 0 | FJ61: 0 | FK61: 0 | FL61: 0 | FM61: 0 | FN61: 0 | FO61: 0 | FP61: - | FQ61: - | FR61: - | FS61: 0 | FT61: 0 | FU61: 0 | FV61: 0 | FW61: 0

Sheet ごみ集計結果
A1: 合計 処理量（令和5年度実績）ごみ処理フローシート
C2: 入力→ | E2: :市区町村コード(都道府県計は、01000～47000の何れか） | N2: =LEFT(D2,2) | O2: =IF(N2="","-",IF(N2>0,VLOOKUP(N2,$AD$6:$AE$53,2,FALSE),"-")) -> - | V2: =+IF(VALUE(D2)=0,0,1) -> 0 | W2: =IF(V2=0,"",VLOOKUP(D2,INDIRECT(W6&"!B7:C250"),2,FALSE)) | Y2: =IF(V2=0,1,IF(ISERROR(W2),1,0)) -> 1 | AA2: =COUNTA(INDIRECT("'["&$W$6&"]ごみ処理概要!B7:C250"))+6 -> 7 | AB2: =IF(V2=0,0,VLOOKUP(D2,AA5:AB253,2,FALSE)) -> 0
B4: 合計 処理量（令和5年度実績）
H5: ごみ処理処分量 | L5: 処理量 | M5: 処分量 | P5: 中間処理後 保管量 | AA5: =INDIRECT($W$6&"!"&"B"&ROW(B5)) -> 0 | AB5: 5
C6: 計画収集人口 | E6: =Y6 -> 0 | M6: 残渣焼却量 | N6: 残渣処分量 | O6: 資源化量 | V6: 計画収集人口 | W6: ごみ処理概要 | X6: E | Y6: =IF(Y$2=0,INDIRECT(W6&"!"&X6&$AB$2),0) -> 0 | AA6: =INDIRECT($W$6&"!"&"B"&ROW(B6)) -> 0 | AB6: 6 | AD6: 01 | AE6: 北海道
C7: 自家処理人口 | E7: =Y7 -> 0 | H7: 施設処理 | I7: 焼却処理 | J7: 直接焼却 | L7: =Y42 -> 0 | M7: － | N7: － | O7: － | P7: =Y138 -> 0 | V7: 自家処理人口 | W7: ごみ処理概要 | X7: F | Y7: =IF(Y$2=0,INDIRECT(W7&"!"&X7&$AB$2),0) -> 0 | AA7: =INDIRECT($W$6&"!"&"B"&ROW(B7)) -> 23000 | AB7: 7 | AD7: 02 | AE7: 青森県
B8: 総 人 口 | E8: =SUM(E6:E7) -> 0 | J8: 残渣焼却 | K8: 粗大ごみ処理施設 | L8: =Y43 -> 0 | M8: － | N8: － | O8: － | P8: － | V8: 外国人人口 | W8: ごみ処理概要 | X8: G | Y8: =IF(Y$2=0,INDIRECT(W8&"!"&X8&$AB$2),0) -> 0 | AA8: =INDIRECT($W$6&"!"&"B"&ROW(B8)) -> 23100 | AB8: 8 | AD8: 03 | AE8: 岩手県
B9: 外国人人口 | E9: =Y8 -> 0 | K9: ごみ堆肥化施設 | L9: =Y44 -> 0 | M9: － | N9: － | O9: － | P9: － | V9: 混合ごみ | W9: ごみ搬入量内訳 | X9: F | Y9: =IF(Y$2=0,INDIRECT(W9&"!"&X9&$AB$2),0) -> 0 | AA9: =INDIRECT($W$6&"!"&"B"&ROW(B9)) -> 23201 | AB9: 9 | AD9: 04 | AE9: 宮城県
K10: ごみ飼料化施設 | L10: =Y45 -> 0 | M10: － | N10: － | O10: － | P10: － | V10: 可燃ごみ | W10: ごみ搬入量内訳 | X10: J | Y10: =IF(Y$2=0,INDIRECT(W10&"!"&X10&$AB$2),0) -> 0 | AA10: =INDIRECT($W$6&"!"&"B"&ROW(B10)) -> 23202 | AB10: 10 | AD10: 05 | AE10: 秋田県
E11: 生活系ごみ | F11: 事業系ごみ | K11: メタン化施設 | L11: =Y46 -> 0 | M11: － | N11: － | O11: － | P11: － | V11: 不燃ごみ | W11: ごみ搬入量内訳 | X11: N | Y11: =IF(Y$2=0,INDIRECT(W11&"!"&X11&$AB$2),0) -> 0 | AA11: =INDIRECT($W$6&"!"&"B"&ROW(B11)) -> 23203 | AB11: 11 | AD11: 06 | AE11: 山形県
B12: 計画収集量 | C12: 収集ごみ量 | D12: 混合ごみ | E12: =Y17 -> 0 | F12: =Y29 -> 0 | K12: ごみ燃料化施設 | L12: =Y47 -> 0 | M12: － | N12: － | O12: － | P12: － | V12: 資源ごみ | W12: ごみ搬入量内訳 | X12: R | Y12: =IF(Y$2=0,INDIRECT(W12&"!"&X12&$AB$2),0) -> 0 | AA12: =INDIRECT($W$6&"!"&"B"&ROW(B12)) -> 23204 | AB12: 12 | AD12: 07 | AE12: 福島県
D13: 可燃ごみ | E13: =Y18 -> 0 | F13: =Y30 -> 0 | K13: その他の資源化等を行う施設 | L13: =Y48 -> 0 | M13: － | N13: － | O13: － | P13: － | V13: その他 | W13: ごみ搬入量内訳 | X13: V | Y13: =IF(Y$2=0,INDIRECT(W13&"!"&X13&$AB$2),0) -> 0 | AA13: =INDIRECT($W$6&"!"&"B"&ROW(B13)) -> 23205 | AB13: 13 | AD13: 08 | AE13: 茨城県
D14: 不燃ごみ | E14: =Y19 -> 0 | F14: =Y31 -> 0 | K14: その他施設 | L14: =Y49 -> 0 | M14: － | N14: － | O14: － | P14: － | V14: 粗大ごみ | W14: ごみ搬入量内訳 | X14: Z | Y14: =IF(Y$2=0,INDIRECT(W14&"!"&X14&$AB$2),0) -> 0 | AA14: =INDIRECT($W$6&"!"&"B"&ROW(B14)) -> 23206 | AB14: 14 | AD14: 09 | AE14: 栃木県
D15: 資源ごみ | E15: =Y20 -> 0 | F15: =Y32 -> 0 | J15: 小計 | L15: =SUM(L7:L14) -> 0 | M15: － | N15: =Y59 -> 0 | O15: =Y67 -> 0 | P15: =P7 -> 0 | V15: 直接搬入ごみ | W15: ごみ搬入量内訳 | X15: BC | Y15: =IF(Y$2=0,INDIRECT(W15&"!"&X15&$AB$2),0) -> 0 | AA15: =INDIRECT($W$6&"!"&"B"&ROW(B15)) -> 23207 | AB15: 15 | AD15: 10 | AE15: 群馬県
D16: その他 | E16: =Y21 -> 0 | F16: =Y33 -> 0 | I16: 中間処理 | J16: 粗大ごみ処理施設 | L16: =Y50 -> 0 | M16: =L8 -> 0 | N16: =Y60 -> 0 | O16: =Y68 -> 0 | P16: =Y139 -> 0 | V16: 集団回収量 | W16: ごみ処理概要 | X16: J | Y16: =IF(Y$2=0,INDIRECT(W16&"!"&X16&$AB$2),0) -> 0 | AA16: =INDIRECT($W$6&"!"&"B"&ROW(B16)) -> 23208 | AB16: 16 | AD16: 11 | AE16: 埼玉県
D17: 粗大ごみ | E17: =Y22 -> 0 | F17: =Y34 -> 0 | J17: ごみ堆肥化施設 | L17: =Y51 -> 0 | M17: =L9 -> 0 | N17: =Y61 -> 0 | O17: =Y69 -> 0 | P17: =Y140 -> 0 | V17: 生活系ごみ_収集_収集（混合ごみ） | W17: ごみ搬入量内訳 | X17: BZ | Y17: =IF(Y$2=0,INDIRECT(W17&"!"&X17&$AB$2),0) -> 0 | AA17: =INDIRECT($W$6&"!"&"B"&ROW(B17)) -> 23209 | AB17: 17 | AD17: 12 | AE17: 千葉県
D18: 小計 | E18: =SUM(E12:E17) -> 0 | F18: =SUM(F12:F17) -> 0 | J18: ごみ飼料化施設 | L18: =Y52 -> 0 | M18: =L10 -> 0 | N18: =Y62 -> 0 | O18: =Y70 -> 0 | P18: =Y141 -> 0 | V18: 生活系ごみ_収集（可燃ごみ） | W18: ごみ搬入量内訳 | X18: CA | Y18: =IF(Y$2=0,INDIRECT(W18&"!"&X18&$AB$2),0) -> 0 | AA18: =INDIRECT($W$6&"!"&"B"&ROW(B18)) -> 23210 | AB18: 18 | AD18: 13 | AE18: 東京都
C19: 直接搬入ごみ | D19: 混合ごみ | E19: =Y23 -> 0 | F19: =Y35 -> 0 | J19: メタン化施設 | L19: =Y53 -> 0 | M19: =L11 -> 0 | N19: =Y63 -> 0 | O19: =Y71 -> 0 | P19: =Y142 -> 0 | V19: 生活系ごみ_収集（不燃ごみ） | W19: ごみ搬入量内訳 | X19: CB | Y19: =IF(Y$2=0,INDIRECT(W19&"!"&X19&$AB$2),0) -> 0 | AA19: =INDIRECT($W$6&"!"&"B"&ROW(B19)) -> 23211 | AB19: 19 | AD19: 14 | AE19: 神奈川県
D20: 可燃ごみ | E20: =Y24 -> 0 | F20: =Y36 -> 0 | J20: ごみ燃料化施設 | L20: =Y54 -> 0 | M20: =L12 -> 0 | N20: =Y64 -> 0 | O20: =Y72 -> 0 | P20: =Y143 -> 0 | V20: 生活系ごみ_収集（資源ごみ） | W20: ごみ搬入量内訳 | X20: CC | Y20: =IF(Y$2=0,INDIRECT(W20&"!"&X20&$AB$2),0) -> 0 | AA20: =INDIRECT($W$6&"!"&"B"&ROW(B20)) -> 23212 | AB20: 20 | AD20: 15 | AE20: 新潟県
D21: 不燃ごみ | E21: =Y25 -> 0 | F21: =Y37 -> 0 | J21: その他の資源化等を行う施設 | L21: =Y55 -> 0 | M21: =L13 -> 0 | N21: =Y65 -> 0 | O21: =Y73 -> 0 | P21: =Y144 -> 0 | V21: 生活系ごみ_収集（その他ごみ） | W21: ごみ搬入量内訳 | X21: CD | Y21: =IF(Y$2=0,INDIRECT(W21&"!"&X21&$AB$2),0) -> 0 | AA21: =INDIRECT($W$6&"!"&"B"&ROW(B21)) -> 23213 | AB21: 21 | AD21: 16 | AE21: 富山県
D22: 資源ごみ | E22: =Y26 -> 0 | F22: =Y38 -> 0 | J22: その他施設 | L22: =Y56 -> 0 | M22: =L14 -> 0 | N22: =Y66 -> 0 | O22: － | P22: =Y145 -> 0 | V22: 生活系ごみ_収集（粗大ごみ） | W22: ごみ搬入量内訳 | X22: CE | Y22: =IF(Y$2=0,INDIRECT(W22&"!"&X22&$AB$2),0) -> 0 | AA22: =INDIRECT($W$6&"!"&"B"&ROW(B22)) -> 23214 | AB22: 22 | AD22: 17 | AE22: 石川県
D23: その他 | E23: =Y27 -> 0 | F23: =Y39 -> 0 | J23: 小計 | L23: =SUM(L16:L22) -> 0 | M23: =SUM(M16:M22) -> 0 | N23: =SUM(N16:N22) -> 0 | O23: =SUM(O16:O21) -> 0 | P23: =SUM(P16:P22) -> 0 | V23: 生活系ごみ_直搬_直搬（混合ごみ） | W23: ごみ搬入量内訳 | X23: CG | Y23: =IF(Y$2=0,INDIRECT(W23&"!"&X23&$AB$2),0) -> 0 | AA23: =INDIRECT($W$6&"!"&"B"&ROW(B23)) -> 23215 | AB23: 23 | AD23: 18 | AE23: 福井県
D24: 粗大ごみ | E24: =Y28 -> 0 | F24: =Y40 -> 0 | I24: 小計（直接焼却+中間処理） | L24: =SUM(L7,L23) -> 0 | M24: =M23 -> 0 | N24: =SUM(N15,N23) -> 0 | O24: =SUM(O15,O23) -> 0 | P24: =SUM(P15,P23) -> 0 | V24: 生活系ごみ_直搬（可燃ごみ） | W24: ごみ搬入量内訳 | X24: CH | Y24: =IF(Y$2=0,INDIRECT(W24&"!"&X24&$AB$2),0) -> 0 | AA24: =INDIRECT($W$6&"!"&"B"&ROW(B24)) -> 23216 | AB24: 24 | AD24: 19 | AE24: 山梨県
D25: 小計 | E25: =SUM(E19:E24) -> 0 | F25: =SUM(F19:F24) -> 0 | H25: 直接資源化量 | L25: =Y57 -> 0 | M25: － | N25: － | O25: =L25 -> 0 | P25: － | V25: 生活系ごみ_直搬（不燃ごみ） | W25: ごみ搬入量内訳 | X25: CI | Y25: =IF(Y$2=0,INDIRECT(W25&"!"&X25&$AB$2),0) -> 0 | AA25: =INDIRECT($W$6&"!"&"B"&ROW(B25)) -> 23217 | AB25: 25 | AD25: 20 | AE25: 長野県
C26: 合計 | E26: =E18+E25 -> 0 | F26: =F18+F25 -> 0 | H26: 直接最終処分量 | L26: =Y58 -> 0 | M26: － | N26: =L26 -> 0 | O26: － | P26: － | V26: 生活系ごみ_直搬（資源ごみ） | W26: ごみ搬入量内訳 | X26: CJ | Y26: =IF(Y$2=0,INDIRECT(W26&"!"&X26&$AB$2),0) -> 0 | AA26: =INDIRECT($W$6&"!"&"B"&ROW(B26)) -> 23219 | AB26: 26 | AD26: 21 | AE26: 岐阜県
H27: 合計 | L27: =SUM(L24:L26) -> 0 | M27: =SUM(M24:M26) -> 0 | N27: =SUM(N24:N26) -> 0 | O27: =SUM(O24:O26) -> 0 | P27: =SUM(P24:P26) -> 0 | V27: 生活系ごみ_直搬（その他ごみ） | W27: ごみ搬入量内訳 | X27: CK | Y27: =IF(Y$2=0,INDIRECT(W27&"!"&X27&$AB$2),0) -> 0 | AA27: =INDIRECT($W$6&"!"&"B"&ROW(B27)) -> 23220 | AB27: 27 | AD27: 22 | AE27: 静岡県
H28: 合計：施設処理＋直接資源化量＋直接最終処分量 | V28: 生活系ごみ_直搬（粗大ごみ） | W28: ごみ搬入量内訳 | X28: CL | Y28: =IF(Y$2=0,INDIRECT(W28&"!"&X28&$AB$2),0) -> 0 | AA28: =INDIRECT($W$6&"!"&"B"&ROW(B28)) -> 23221 | AB28: 28 | AD28: 23 | AE28: 愛知県
C29: 生活系ごみ搬入量 | E29: =E26 -> 0 | M29: 直接資源化量 | N29: 施設資源化量 | O29: 集団回収量 | V29: 事業系ごみ_収集（混合ごみ） | W29: ごみ搬入量内訳 | X29: CU | Y29: =IF(Y$2=0,INDIRECT(W29&"!"&X29&$AB$2),0) -> 0 | AA29: =INDIRECT($W$6&"!"&"B"&ROW(B29)) -> 23222 | AB29: 29 | AD29: 24 | AE29: 三重県
C30: 事業系ごみ搬入量 | E30: =F26 -> 0 | L30: 紙類 | M30: =Y74 -> 0 | N30: =Y94 -> 0 | O30: =Y115 -> 0 | V30: 事業系ごみ_収集（可燃ごみ） | W30: ごみ搬入量内訳 | X30: CV | Y30: =IF(Y$2=0,INDIRECT(W30&"!"&X30&$AB$2),0) -> 0 | AA30: =INDIRECT($W$6&"!"&"B"&ROW(B30)) -> 23223 | AB30: 30 | AD30: 25 | AE30: 滋賀県
C31: 集団回収量 | E31: =O51 -> 0 | L31: 紙パック | M31: =Y75 -> 0 | N31: =Y95 -> 0 | O31: =Y116 -> 0 | V31: 事業系ごみ_収集（不燃ごみ） | W31: ごみ搬入量内訳 | X31: CW | Y31: =IF(Y$2=0,INDIRECT(W31&"!"&X31&$AB$2),0) -> 0 | AA31: =INDIRECT($W$6&"!"&"B"&ROW(B31)) -> 23224 | AB31: 31 | AD31: 26 | AE31: 京都府
B32: ごみ総排出量 | E32: =SUM(E29:E31) -> 0 | L32: 紙製容器包装 | M32: =Y76 -> 0 | N32: =Y96 -> 0 | O32: =Y117 -> 0 | V32: 事業系ごみ_収集（資源ごみ） | W32: ごみ搬入量内訳 | X32: CX | Y32: =IF(Y$2=0,INDIRECT(W32&"!"&X32&$AB$2),0) -> 0 | AA32: =INDIRECT($W$6&"!"&"B"&ROW(B32)) -> 23225 | AB32: 32 | AD32: 27 | AE32: 大阪府
L33: 金属類 | M33: =Y77 -> 0 | N33: =Y97 -> 0 | O33: =Y118 -> 0 | V33: 事業系ごみ_収集（その他ごみ） | W33: ごみ搬入量内訳 | X33: CY | Y33: =IF(Y$2=0,INDIRECT(W33&"!"&X33&$AB$2),0) -> 0 | AA33: =INDIRECT($W$6&"!"&"B"&ROW(B33)) -> 23226 | AB33: 33 | AD33: 28 | AE33: 兵庫県
L34: ガラス類 | M34: =Y78 -> 0 | N34: =Y98 -> 0 | O34: =Y119 -> 0 | V34: 事業系ごみ_収集（粗大ごみ） | W34: ごみ搬入量内訳 | X34: CZ | Y34: =IF(Y$2=0,INDIRECT(W34&"!"&X34&$AB$2),0) -> 0 | AA34: =INDIRECT($W$6&"!"&"B"&ROW(B34)) -> 23227 | AB34: 34 | AD34: 29 | AE34: 奈良県
L35: ﾍﾟｯﾄﾎﾞﾄﾙ | M35: =Y79 -> 0 | N35: =Y99 -> 0 | O35: =Y120 -> 0 | V35: 事業系ごみ_直搬_直搬（混合ごみ） | W35: ごみ搬入量内訳 | X35: DB | Y35: =IF(Y$2=0,INDIRECT(W35&"!"&X35&$AB$2),0) -> 0 | AA35: =INDIRECT($W$6&"!"&"B"&ROW(B35)) -> 23228 | AB35: 35 | AD35: 30 | AE35: 和歌山県
B36: ="収集ごみ（混合ごみ＋可燃ごみ＋不燃ごみ＋資源ごみ＋粗大ごみ＋その他）＝"&TEXT(E18+F18,"#,##0")&"t/年" -> 収集ごみ（混合ごみ＋可燃ごみ＋不燃ごみ＋資源ごみ＋粗大ごみ＋その他）＝0t/年 | L36: 白色トレイ | M36: =Y80 -> 0 | N36: =Y100 -> 0 | O36: =Y121 -> 0 | V36: 事業系ごみ_直搬（可燃ごみ） | W36: ごみ搬入量内訳 | X36: DC | Y36: =IF(Y$2=0,INDIRECT(W36&"!"&X36&$AB$2),0) -> 0 | AA36: =INDIRECT($W$6&"!"&"B"&ROW(B36)) -> 23229 | AB36: 36 | AD36: 31 | AE36: 鳥取県
B37: ="計画収集量（収集ごみ＋直接搬入ごみ）＝"&TEXT(E18+E25+F18+F25,"#,##0")&"t/年" -> 計画収集量（収集ごみ＋直接搬入ごみ）＝0t/年 | L37: 容器包装プラ | M37: =Y81 -> 0 | N37: =Y101 -> 0 | O37: =Y122 -> 0 | V37: 事業系ごみ_直搬（不燃ごみ） | W37: ごみ搬入量内訳 | X37: DD | Y37: =IF(Y$2=0,INDIRECT(W37&"!"&X37&$AB$2),0) -> 0 | AA37: =INDIRECT($W$6&"!"&"B"&ROW(B37)) -> 23230 | AB37: 37 | AD37: 32 | AE37: 島根県
B38: ="ごみ総排出量（計画収集量＋集団回収量）＝"&TEXT(E32,"#,###0")&"t/年" -> ごみ総排出量（計画収集量＋集団回収量）＝0t/年 | L38: 製品プラ | M38: =Y82 -> 0 | N38: =Y102 -> 0 | O38: =Y123 -> 0 | V38: 事業系ごみ_直搬（資源ごみ） | W38: ごみ搬入量内訳 | X38: DE | Y38: =IF(Y$2=0,INDIRECT(W38&"!"&X38&$AB$2),0) -> 0 | AA38: =INDIRECT($W$6&"!"&"B"&ROW(B38)) -> 23231 | AB38: 38 | AD38: 33 | AE38: 岡山県
B39: ="ごみ処理量（直接最終処分量＋直接焼却量＋焼却以外の中間処理量＋直接資源化量）＝"&TEXT(L27,"#,##0")&"t/年" -> ごみ処理量（直接最終処分量＋直接焼却量＋焼却以外の中間処理量＋直接資源化量）＝0t/年 | L39: その他プラ | M39: =Y83 -> 0 | N39: =Y103 -> 0 | O39: =Y124 -> 0 | V39: 事業系ごみ_直搬（その他ごみ） | W39: ごみ搬入量内訳 | X39: DF | Y39: =IF(Y$2=0,INDIRECT(W39&"!"&X39&$AB$2),0) -> 0 | AA39: =INDIRECT($W$6&"!"&"B"&ROW(B39)) -> 23232 | AB39: 39 | AD39: 34 | AE39: 広島県
B40: ="１人１日あたりごみ排出量（ごみ総排出量/総人口）＝"&TEXT(E32/E8/366*1000000,"#,##0")&"g/人日" -> #DIV/0! | L40: 布類 | M40: =Y84 -> 0 | N40: =Y104 -> 0 | O40: =Y125 -> 0 | V40: 事業系ごみ_直搬（粗大ごみ） | W40: ごみ搬入量内訳 | X40: DG | Y40: =IF(Y$2=0,INDIRECT(W40&"!"&X40&$AB$2),0) -> 0 | AA40: =INDIRECT($W$6&"!"&"B"&ROW(B40)) -> 23233 | AB40: 40 | AD40: 35 | AE40: 山口県
B41: ="リサイクル率（[資源化量合計＋集団回収量]/[ごみ処理量＋集団回収量]）＝"&TEXT((O27+O51)/(L27+O51)*100,"##.##")&"％" -> #DIV/0! | L41: 肥料 | M41: － | N41: =Y105 -> 0 | O41: － | AA41: =INDIRECT($W$6&"!"&"B"&ROW(B41)) -> 23234 | AB41: 41 | AD41: 36 | AE41: 徳島県
B42: ="中間処理による減量化量（施設処理量-施設処理後資源化量-施設処理後残渣処分量）＝"&TEXT(L24-N24-O24,"#,##0")&"t/年" -> 中間処理による減量化量（施設処理量-施設処理後資源化量-施設処理後残渣処分量）＝0t/年 | L42: 飼料 | M42: － | N42: =Y106 -> 0 | O42: － | V42: 直接焼却 | W42: ごみ処理量内訳 | X42: E | Y42: =IF(Y$2=0,INDIRECT(W42&"!"&X42&$AB$2),0) -> 0 | AA42: =INDIRECT($W$6&"!"&"B"&ROW(B42)) -> 23235 | AB42: 42 | AD42: 37 | AE42: 香川県
L43: 溶融スラグ | M43: － | N43: =Y107 -> 0 | O43: － | U43: 残渣焼却 | V43: 粗大ごみ処理施設 | W43: ごみ処理量内訳 | X43: S | Y43: =IF(Y$2=0,INDIRECT(W43&"!"&X43&$AB$2),0) -> 0 | AA43: =INDIRECT($W$6&"!"&"B"&ROW(B43)) -> 23236 | AB43: 43 | AD43: 38 | AE43: 愛媛県
L44: 固形燃料 | M44: － | N44: =Y108 -> 0 | O44: － | U44: 残渣焼却 | V44: ごみ堆肥化施設 | W44: ごみ処理量内訳 | X44: T | Y44: =IF(Y$2=0,INDIRECT(W44&"!"&X44&$AB$2),0) -> 0 | AA44: =INDIRECT($W$6&"!"&"B"&ROW(B44)) -> 23237 | AB44: 44 | AD44: 39 | AE44: 高知県
L45: 燃料 | M45: － | N45: =Y109 -> 0 | O45: － | U45: 残渣焼却 | V45: ごみ飼料化施設 | W45: ごみ処理量内訳 | X45: U | Y45: =IF(Y$2=0,INDIRECT(W45&"!"&X45&$AB$2),0) -> 0 | AA45: =INDIRECT($W$6&"!"&"B"&ROW(B45)) -> 23238 | AB45: 45 | AD45: 40 | AE45: 福岡県
L46: ｾﾒﾝﾄ原料化 | M46: － | N46: =Y110 -> 0 | O46: － | U46: 残渣焼却 | V46: メタン化施設 | W46: ごみ処理量内訳 | X46: V | Y46: =IF(Y$2=0,INDIRECT(W46&"!"&X46&$AB$2),0) -> 0 | AA46: =INDIRECT($W$6&"!"&"B"&ROW(B46)) -> 23302 | AB46: 46 | AD46: 41 | AE46: 佐賀県
L47: ｾﾒﾝﾄ工場直投 | M47: － | N47: =Y111 -> 0 | O47: － | U47: 残渣焼却 | V47: ごみ燃料化施設 | W47: ごみ処理量内訳 | X47: W | Y47: =IF(Y$2=0,INDIRECT(W47&"!"&X47&$AB$2),0) -> 0 | AA47: =INDIRECT($W$6&"!"&"B"&ROW(B47)) -> 23342 | AB47: 47 | AD47: 42 | AE47: 長崎県
L48: 山元還元 | M48: － | N48: =Y112 -> 0 | O48: － | U48: 残渣焼却 | V48: その他の資源化等を行う施設 | W48: ごみ処理量内訳 | X48: X | Y48: =IF(Y$2=0,INDIRECT(W48&"!"&X48&$AB$2),0) -> 0 | AA48: =INDIRECT($W$6&"!"&"B"&ROW(B48)) -> 23361 | AB48: 48 | AD48: 43 | AE48: 熊本県
L49: 廃食用油 | M49: =Y92 -> 0 | N49: =Y113 -> 0 | O49: =Y133 -> 0 | U49: 残渣焼却 | V49: その他施設 | W49: ごみ処理量内訳 | X49: Y | Y49: =IF(Y$2=0,INDIRECT(W49&"!"&X49&$AB$2),0) -> 0 | AA49: =INDIRECT($W$6&"!"&"B"&ROW(B49)) -> 23362 | AB49: 49 | AD49: 44 | AE49: 大分県
L50: その他 | M50: =Y93 -> 0 | N50: =Y114 -> 0 | O50: =Y134 -> 0 | U50: 処理量 | V50: 粗大ごみ処理施設 | W50: ごみ処理量内訳 | X50: G | Y50: =IF(Y$2=0,INDIRECT(W50&"!"&X50&$AB$2),0) -> 0 | AA50: =INDIRECT($W$6&"!"&"B"&ROW(B50)) -> 23424 | AB50: 50 | AD50: 45 | AE50: 宮崎県
L51: 合計 | M51: =SUM(M30:M50) -> 0 | N51: =SUM(N30:N50) -> 0 | O51: =SUM(O30:O50) -> 0 | U51: 処理量 | V51: ごみ堆肥化施設 | W51: ごみ処理量内訳 | X51: H | Y51: =IF(Y$2=0,INDIRECT(W51&"!"&X51&$AB$2),0) -> 0 | AA51: =INDIRECT($W$6&"!"&"B"&ROW(B51)) -> 23425 | AB51: 51 | AD51: 46 | AE51: 鹿児島県
U52: 処理量 | V52: ごみ飼料化施設 | W52: ごみ処理量内訳 | X52: I | Y52: =IF(Y$2=0,INDIRECT(W52&"!"&X52&$AB$2),0) -> 0 | AA52: =INDIRECT($W$6&"!"&"B"&ROW(B52)) -> 23427 | AB52: 52 | AD52: 47 | AE52: 沖縄県
U53: 処理量 | V53: メタン化施設 | W53: ごみ処理量内訳 | X53: J | Y53: =IF(Y$2=0,INDIRECT(W53&"!"&X53&$AB$2),0) -> 0 | AA53: =INDIRECT($W$6&"!"&"B"&ROW(B53)) -> 23441 | AB53: 53 | AD53: 48 | AE53: 全国
U54: 処理量 | V54: ごみ燃料化施設 | W54: ごみ処理量内訳 | X54: K | Y54: =IF(Y$2=0,INDIRECT(W54&"!"&X54&$AB$2),0) -> 0 | AA54: =INDIRECT($W$6&"!"&"B"&ROW(B54)) -> 23442 | AB54: 54
U55: 処理量 | V55: その他の資源化等を行う施設 | W55: ごみ処理量内訳 | X55: L | Y55: =IF(Y$2=0,INDIRECT(W55&"!"&X55&$AB$2),0) -> 0 | AA55: =INDIRECT($W$6&"!"&"B"&ROW(B55)) -> 23445 | AB55: 55
U56: 処理量 | V56: その他施設 | W56: ごみ処理量内訳 | X56: M | Y56: =IF(Y$2=0,INDIRECT(W56&"!"&X56&$AB$2),0) -> 0 | AA56: =INDIRECT($W$6&"!"&"B"&ROW(B56)) -> 23446 | AB56: 56
U57: 処理量 | V57: 直接資源化量 | W57: ごみ処理量内訳 | X57: O | Y57: =IF(Y$2=0,INDIRECT(W57&"!"&X57&$AB$2),0) -> 0 | AA57: =INDIRECT($W$6&"!"&"B"&ROW(B57)) -> 23447 | AB57: 57
U58: 処理量 | V58: 直接最終処分量 | W58: ごみ処理量内訳 | X58: N | Y58: =IF(Y$2=0,INDIRECT(W58&"!"&X58&$AB$2),0) -> 0 | AA58: =INDIRECT($W$6&"!"&"B"&ROW(B58)) -> 23501 | AB58: 58
U59: 残渣埋立 | V59: 焼却施設 | W59: ごみ処理量内訳 | X59: AB | Y59: =IF(Y$2=0,INDIRECT(W59&"!"&X59&$AB$2),0) -> 0 | AA59: =INDIRECT($W$6&"!"&"B"&ROW(B59)) -> 23561 | AB59: 59
U60: 残渣埋立 | V60: 粗大ごみ処理施設 | W60: ごみ処理量内訳 | X60: AD | Y60: =IF(Y$2=0,INDIRECT(W60&"!"&X60&$AB$2),0) -> 0 | AA60: =INDIRECT($W$6&"!"&"B"&ROW(B60)) -> 23562 | AB60: 60
U61: 残渣埋立 | V61: ごみ堆肥化施設 | W61: ごみ処理量内訳 | X61: AE | Y61: =IF(Y$2=0,INDIRECT(W61&"!"&X61&$AB$2),0) -> 0 | AA61: =INDIRECT($W$6&"!"&"B"&ROW(B61)) -> 23563 | AB61: 61
U62: 残渣埋立 | V62: ごみ飼料化施設 | W62: ごみ処理量内訳 | X62: AF | Y62: =IF(Y$2=0,INDIRECT(W62&"!"&X62&$AB$2),0) -> 0 | AA62: =INDIRECT($W$6&"!"&"B"&ROW(B62)) -> 0 | AB62: 62
U63: 残渣埋立 | V63: メタン化施設 | W63: ごみ処理量内訳 | X63: AG | Y63: =IF(Y$2=0,INDIRECT(W63&"!"&X63&$AB$2),0) -> 0 | AA63: =INDIRECT($W$6&"!"&"B"&ROW(B63)) -> 0 | AB63: 63
U64: 残渣埋立 | V64: ごみ燃料化施設 | W64: ごみ処理量内訳 | X64: AH | Y64: =IF(Y$2=0,INDIRECT(W64&"!"&X64&$AB$2),0) -> 0 | AA64: =INDIRECT($W$6&"!"&"B"&ROW(B64)) -> 0 | AB64: 64
U65: 残渣埋立 | V65: その他の資源化等を行う施設 | W65: ごみ処理量内訳 | X65: AI | Y65: =IF(Y$2=0,INDIRECT(W65&"!"&X65&$AB$2),0) -> 0 | AA65: =INDIRECT($W$6&"!"&"B"&ROW(B65)) -> 0 | AB65: 65
... U134: 集団回収 | V134: その他 | W134: 資源化量内訳 | X134: CM | Y134: =IF(Y$2=0,INDIRECT(W134&"!"&X134&$AB$2),0) -> 0 | AA134: =INDIRECT($W$6&"!"&"B"&ROW(B134)) -> 0 | AB134: 134
AA135: =INDIRECT($W$6&"!"&"B"&ROW(B135)) -> 0 | AB135: 135
V136: 自家処理量 | W136: ごみ搬入量内訳 | X136: DH | Y136: =IF(Y$2=0,INDIRECT(W136&"!"&X136&$AB$2),0) -> 0 | AA136: =INDIRECT($W$6&"!"&"B"&ROW(B136)) -> 0 | AB136: 136
AA137: =INDIRECT($W$6&"!"&"B"&ROW(B137)) -> 0 | AB137: 137
U138: 中間処理後保管量 | V138: 焼却処理残渣の保管量 | W138: ごみ処理量内訳 | X138: AL | Y138: =IF(Y$2=0,INDIRECT(W138&"!"&X138&$AB$2),0) -> 0 | AA138: =INDIRECT($W$6&"!"&"B"&ROW(B138)) -> 0 | AB138: 138
U139: 中間処理後保管量 | V139: 粗大ごみ 処理施設 | W139: ごみ処理量内訳 | X139: AM | Y139: =IF(Y$2=0,INDIRECT(W139&"!"&X139&$AB$2),0) -> 0 | AA139: =INDIRECT($W$6&"!"&"B"&ROW(B139)) -> 0 | AB139: 139
U140: 中間処理後保管量 | V140: ごみ堆肥化施設 | W140: ごみ処理量内訳 | X140: AN | Y140: =IF(Y$2=0,INDIRECT(W140&"!"&X140&$AB$2),0) -> 0 | AA140: =INDIRECT($W$6&"!"&"B"&ROW(B140)) -> 0 | AB140: 140
U141: 中間処理後保管量 | V141: ごみ飼料化施設 | W141: ごみ処理量内訳 | X141: AO | Y141: =IF(Y$2=0,INDIRECT(W141&"!"&X141&$AB$2),0) -> 0 | AA141: =INDIRECT($W$6&"!"&"B"&ROW(B141)) -> 0 | AB141: 141
U142: 中間処理後保管量 | V142: メタン化施設 | W142: ごみ処理量内訳 | X142: AP | Y142: =IF(Y$2=0,INDIRECT(W142&"!"&X142&$AB$2),0) -> 0 | AA142: =INDIRECT($W$6&"!"&"B"&ROW(B142)) -> 0 | AB142: 142
U143: 中間処理後保管量 | V143: ごみ燃料化 施設 | W143: ごみ処理量内訳 | X143: AQ | Y143: =IF(Y$2=0,INDIRECT(W143&"!"&X143&$AB$2),0) -> 0 | AA143: =INDIRECT($W$6&"!"&"B"&ROW(B143)) -> 0 | AB143: 143
U144: 中間処理後保管量 | V144: その他の資源化等を行う施設 | W144: ごみ処理量内訳 | X144: AR | Y144: =IF(Y$2=0,INDIRECT(W144&"!"&X144&$AB$2),0) -> 0 | AA144: =INDIRECT($W$6&"!"&"B"&ROW(B144)) -> 0 | AB144: 144
U145: 中間処理後保管量 | V145: その他の施設 | W145: ごみ処理量内訳 | X145: AS | Y145: =IF(Y$2=0,INDIRECT(W145&"!"&X145&$AB$2),0) -> 0 | AA145: =INDIRECT($W$6&"!"&"B"&ROW(B145)) -> 0 | AB145: 145
U146: 中間処理後保管量 | V146: 合計 | W146: ごみ処理量内訳 | X146: AK | Y146: =IF(Y$2=0,INDIRECT(W146&"!"&X146&$AB$2),0) -> 0 | AA146: =INDIRECT($W$6&"!"&"B"&ROW(B146)) -> 0 | AB146: 146
AA147: =INDIRECT($W$6&"!"&"B"&ROW(B147)) -> 0 | AB147: 147
AA148: =INDIRECT($W$6&"!"&"B"&ROW(B148)) -> 0 | AB148: 148
AA149: =INDIRECT($W$6&"!"&"B"&ROW(B149)) -> 0 | AB149: 149
AA150: =INDIRECT($W$6&"!"&"B"&ROW(B150)) -> 0 | AB150: 150
AA151: =INDIRECT($W$6&"!"&"B"&ROW(B151)) -> 0 | AB151: 151
AA152: =INDIRECT($W$6&"!"&"B"&ROW(B152)) -> 0 | AB152: 152
AA153: =INDIRECT($W$6&"!"&"B"&ROW(B153)) -> 0 | AB153: 153
AA154: =INDIRECT($W$6&"!"&"B"&ROW(B154)) -> 0 | AB154: 154
AA155: =INDIRECT($W$6&"!"&"B"&ROW(B155)) -> 0 | AB155: 155
AA156: =INDIRECT($W$6&"!"&"B"&ROW(B156)) -> 0 | AB156: 156
AA157: =INDIRECT($W$6&"!"&"B"&ROW(B157)) -> 0 | AB157: 157
AA158: =INDIRECT($W$6&"!"&"B"&ROW(B158)) -> 0 | AB158: 158
... AA253: =INDIRECT($W$6&"!"&"B"&ROW(B253)) -> 0 | AB253: 253

Sheet ごみフローシート
A1: 合計 処理量（令和5年度実績） ごみ処理フローシート
E4: 直接最終処分量 | O4: 最終処分場
E5: (21,09,03) | F5: =INDIRECT(B47&"!L26") -> 0 | O5: (21,09,01) | P5: =INDIRECT(B47&"!N27") -> 0
E7: 直接焼却量 | H7: 焼却施設 | K7: 焼却残渣の埋立 | L7: (21,01,05) | M7: =INDIRECT(B47&"!N15") -> 0
B8: 収集ごみ＋直接搬入ごみ | E8: (21,01,02) | F8: =INDIRECT(B47&"!L7") -> 0 | H8: (21,01,01) | I8: =INDIRECT(B47&"!L15") -> 0 | K8: 資源化量 | L8: (21,01,06) | M8: =INDIRECT(B47&"!O15") -> 0
L9: （中間処理後保管量 | M9: =INDIRECT(B47&"!P7") -> 0
B10: 混合ごみ | C10: =INDIRECT(B47&"!E12")+INDIRECT(B47&"!F12") -> 0 | K10: 処理残渣の焼却 | L10: (21,01,04) | M10: =INDIRECT(B47&"!M23") -> 0 | O10: 処理残渣の埋立
P11: =INDIRECT(B47&"!N23") -> 0
B12: 可燃ごみ | C12: =INDIRECT(B47&"!E13")+INDIRECT(B47&"!F13") -> 0 | H12: 粗大ごみ処理施設 | K12: 処理残渣の焼却 | L12: (21,02,04) | M12: =INDIRECT(B47&"!M16") -> 0
H13: (21,02,01) | I13: =INDIRECT(B47&"!L16") -> 0 | K13: 処理残渣の埋立 | L13: (21,02,05) | M13: =INDIRECT(B47&"!N16") -> 0
B14: 不燃ごみ | C14: =INDIRECT(B47&"!E14")+INDIRECT(B47&"!F14") -> 0 | K14: 資源化量 | L14: (21,02,06) | M14: =INDIRECT(B47&"!O16") -> 0
L15: （中間処理後保管量 | M15: =INDIRECT(B47&"!P16") -> 0
B16: 資源ごみ | C16: =INDIRECT(B47&"!E15")+INDIRECT(B47&"!F15") -> 0 | H16: 資源化等を行う施設 | K16: 処理残渣の焼却 | L16: (21,03,04) | M16: =INDIRECT(B47&"!M21") -> 0
H17: (21,03,01) | I17: =INDIRECT(B47&"!L21") -> 0 | K17: 処理残渣の埋立 | L17: (21,03,05) | M17: =INDIRECT(B47&"!N21") -> 0
B18: その他 | C18: =INDIRECT(B47&"!E16")+INDIRECT(B47&"!F16") -> 0 | K18: 資源化量 | L18: (21,03,06) | M18: =INDIRECT(B47&"!O21") -> 0
L19: （中間処理後保管量 | M19: =INDIRECT(B47&"!P21") -> 0
B20: 粗大ごみ | C20: =INDIRECT(B47&"!E17")+INDIRECT(B47&"!F17") -> 0 | E20: 焼却以外の中間処理施設 | H20: ごみ堆肥化施設 | K20: 処理残渣の焼却 | L20: (21,04,04) | M20: =INDIRECT(B47&"!M17") -> 0
F21: =INDIRECT(B47&"!L23") -> 0 | H21: (21,04,01) | I21: =INDIRECT(B47&"!L17") -> 0 | K21: 処理残渣の埋立 | L21: (21,04,05) | M21: =INDIRECT(B47&"!N17") -> 0
B22: 直接搬入ごみ | C22: =INDIRECT(B47&"!E25")+INDIRECT(B47&"!F25") -> 0 | K22: 資源化量 | L22: (21,04,06) | M22: =INDIRECT(B47&"!O17") -> 0
L23: （中間処理後保管量 | M23: =INDIRECT(B47&"!P17") -> 0
B24: 自家処理量 | C24: =INDIRECT(B47&"!Y136") -> 0 | H24: ごみ飼料化施設 | K24: 処理残渣の焼却 | L24: (21,05,04) | M24: =INDIRECT(B47&"!M18") -> 0
H25: (21,05,01) | I25: =INDIRECT(B47&"!L18") -> 0 | K25: 処理残渣の埋立 | L25: (21,05,05) | M25: =INDIRECT(B47&"!N18") -> 0
B26: 集団回収量 | C26: =INDIRECT(B47&"!E31") -> 0 | K26: 資源化量 | L26: (21,05,06) | M26: =INDIRECT(B47&"!O18") -> 0
L27: （中間処理後保管量 | M27: =INDIRECT(B47&"!P18") -> 0
H28: メタン化施設 | K28: 処理残渣の焼却 | L28: (21,06,04) | M28: =INDIRECT(B47&"!M19") -> 0
H29: (21,06,01) | I29: =INDIRECT(B47&"!L19") -> 0 | K29: 処理残渣の埋立 | L29: (21,06,05) | M29: =INDIRECT(B47&"!N19") -> 0
K30: 資源化量 | L30: (21,06,06) | M30: =INDIRECT(B47&"!O19") -> 0
L31: （中間処理後保管量 | M31: =INDIRECT(B47&"!P19") -> 0
H32: ごみ燃料化施設 | K32: 処理残渣の焼却 | L32: (21,07,04) | M32: =INDIRECT(B47&"!M20") -> 0
H33: (21,07,01) | I33: =INDIRECT(B47&"!L20") -> 0 | K33: 処理残渣の埋立 | L33: (21,07,05) | M33: =INDIRECT(B47&"!N20") -> 0
K34: 資源化量 | L34: (21,07,06) | M34: =INDIRECT(B47&"!O20") -> 0
L35: （中間処理後保管量 | M35: =INDIRECT(B47&"!P20") -> 0
H36: その他施設 | K36: 処理残渣の焼却 | L36: (21,08,04) | M36: =INDIRECT(B47&"!M22") -> 0 | O36: 中間処理に伴う資源化量
H37: (21,08,01) | I37: =INDIRECT(B47&"!L22") -> 0 | K37: 処理残渣の埋立 | L37: (21,08,05) | M37: =INDIRECT(B47&"!N22") -> 0 | O37: =INDIRECT(B47&"!O24") -> 0
B38: 計画収集人口 | C38: =INDIRECT(B47&"!E6") -> 0 | L38: （中間処理後保管量 | M38: =INDIRECT(B47&"!P22") -> 0
B39: 自家処理人口 | C39: =INDIRECT(B47&"!E7") -> 0 | E39: 直接資源化量 | O39: 資源化量合計
B40: 総人口 | C40: =INDIRECT(B47&"!E8") -> 0 | E40: (20,22,01) | F40: =INDIRECT(B47&"!L25") -> 0 | P40: =INDIRECT(B47&"!O27") -> 0
B47: ごみ集計結果
