{"text_format":"3","workbook":"xlsx","n_sheets":6,"sheets":["災害廃棄物事業経費（市町村）","災害廃棄物事業経費（組合）","災害廃棄物事業経費（歳入）","災害廃棄物事業経費（歳出）","組合分担金内訳","市町村分担金内訳"],"not_rendered":{"defined_names":12},"read":"whole","date_system":"1900"}

{"sheet":"災害廃棄物事業経費（市町村）","index":0,"n_rows":60,"n_cols":114,"rows_kept":60,"merged":[[1,0,5,0],[1,1,5,1],[1,2,5,2],[3,37,4,37],[3,65,4,65],[3,93,4,93]]}
["【災害】廃棄物処理事業経費（市区町村の合計）（令和4年度実績）"]
["都道府県名","地方公共団体コード","市区町村名","ごみ",{"$nulls":8},"し尿",{"$nulls":8},"合計",{"$nulls":8},"ごみ（建設改良費＋処理維持管理費＋その他）（組合分担金を除く）",{"$nulls":27},"し尿（建設改良費＋処理維持管理費＋その他）（組合分担金を除く）",{"$nulls":27},"合計（建設改良費＋処理維持管理費＋その他）（組合分担金を除く）"]
[{"$nulls":3},"合計 (特定財源(市区町村分担金を除く)+一般財源)",{"$nulls":8},"合計 (特定財源(市区町村分担金を除く)+一般財源)",{"$nulls":8},"合計 (特定財源(市区町村分担金を除く)+一般財源)",{"$nulls":8},"建設改良費 (工事費+調査費)(組合分担金を除く)",{"$nulls":7},"処理及び維持管理費 (人件費+処理費+車両購入費+委託費+調査研究費)(組合分担金を除く)",{"$nulls":17},"その他","合計","建設改良費 (工事費+調査費)(組合分担金を除く)",{"$nulls":7},"処理及び維持管理費 (人件費+処理費+車両購入費+委託費+調査研究費)(組合分担金を除く)",{"$nulls":17},"その他","合計","建設改良費 (工事費+調査費)(組合分担金を除く)",{"$nulls":7},"処理及び維持管理費 (人件費+処理費+車両購入費+委託費+調査研究費)(組合分担金を除く)",{"$nulls":17},"その他","合計"]
[{"$nulls":4},"特定財源 (市区町村分担金を除く)",{"$nulls":6},"一般財源",null,"特定財源 (市区町村分担金を除く)",{"$nulls":6},"一般財源",null,"特定財源 (市区町村分担金を除く)",{"$nulls":6},"一般財源","合計","工事費 (収集運搬施設+中間処理施設+最終処分場+その他)",{"$nulls":4},"調査費","（建設改良費組合分担金）","合計","人件費（一般職＋収集運搬＋中間処理＋最終処分）",{"$nulls":4},"処理費 (収集運搬費+中間処理費+最終処分費)",{"$nulls":3},"車両等購入費","委託費 (収集運搬費+中間処理費+最終処分費+その他)",{"$nulls":4},"(組合分担金)","調査研究費",null,null,"合計","工事費 (収集運搬施設+中間処理施設+最終処分場+その他)",{"$nulls":4},"調査費","（建設改良費組合分担金）","合計","人件費（一般職＋収集運搬＋中間処理＋最終処分）",{"$nulls":4},"処理費 (収集運搬費+中間処理費+最終処分費)",{"$nulls":3},"車両等購入費","委託費 (収集運搬費+中間処理費+最終処分費+その他)",{"$nulls":4},"(組合分担金)","調査研究費",null,null,"合計","工事費 (収集運搬施設+中間処理施設+最終処分場+その他)",{"$nulls":4},"調査費","（建設改良費組合分担金）","合計","人件費（一般職＋収集運搬＋中間処理＋最終処分）",{"$nulls":4},"処理費 (収集運搬費+中間処理費+最終処分費)",{"$nulls":3},"車両等購入費","委託費 (収集運搬費+中間処理費+最終処分費+その他)",{"$nulls":4},"(組合分担金)","調査研究費"]
[{"$nulls":5},"国庫支出金","都道府県\n支出金","地方債","使用料及び\n手数料","（市区町村\n分担金）","その他",{"$nulls":3},"国庫支出金","都道府県\n支出金","地方債","使用料及び\n手数料","（市区町村\n分担金）","その他",{"$nulls":3},"国庫支出金","都道府県\n支出金","地方債","使用料及び\n手数料","（市区町村\n分担金）","その他",null,null,"合計","収集運搬施設","中間処理施設","最終処分場","その他",{"$nulls":4},"一般職","収集運搬","中間処理","最終処分","合計","収集運搬費","中間処理費","最終処分費",null,null,"収集運搬費","中間処理費","最終処分費","その他",{"$nulls":5},"合計","収集運搬施設","中間処理施設","最終処分場","その他",{"$nulls":4},"一般職","収集運搬","中間処理","最終処分","合計","収集運搬費","中間処理費","最終処分費",null,null,"収集運搬費","中間処理費","最終処分費","その他",{"$nulls":5},"合計","収集運搬施設","中間処理施設","最終処分場","その他",{"$nulls":4},"一般職","収集運搬","中間処理","最終処分","合計","収集運搬費","中間処理費","最終処分費",null,null,"収集運搬費","中間処理費","最終処分費","その他"]
[{"$nulls":3},"（千円）","（千円）","（千円）","（千円）","（千円）","（千円）","（千円）","（千円）","（千円）","（千円）","（千円）","（千円）","（千円）","（千円）","（千円）","（千円）","（千円）","（千円）","（千円）","（千円）","（千円）","（千円）","（千円）","（千円）","（千円）","（千円）","（千円）","（千円）","（千円）","（千円）","（千円）","（千円）","（千円）","（千円）","（千円）","（千円）","（千円）","（千円）","（千円）","（千円）","（千円）","（千円）","（千円）","（千円）","（千円）","（千円）","（千円）","（千円）","（千円）","（千円）","（千円）","（千円）","（千円）","（千円）","（千円）","（千円）","（千円）","（千円）","（千円）","（千円）","（千円）","（千円）","（千円）","（千円）","（千円）","（千円）","（千円）","（千円）","（千円）","（千円）","（千円）","（千円）","（千円）","（千円）","（千円）","（千円）","（千円）","（千円）","（千円）","（千円）","（千円）","（千円）","（千円）","（千円）","（千円）","（千円）","（千円）","（千円）","（千円）","（千円）","（千円）","（千円）","（千円）","（千円）","（千円）","（千円）","（千円）","（千円）","（千円）","（千円）","（千円）","（千円）","（千円）","（千円）","（千円）","（千円）","（千円）","（千円）","（千円）","（千円）","（千円）"]
["熊本県","43000","合計",{"$f":"SUM($D$8:$D$48)","v":{"v":148897,"d":"148,897"}},{"$f":"SUM($E$8:$E$48)","v":{"v":146350,"d":"146,350"}},{"$f":"SUM($F$8:$F$48)","v":{"v":65350,"d":"65,350"}},{"$f":"SUM($G$8:$G$48)","v":0},{"$f":"SUM($H$8:$H$48)","v":{"v":81000,"d":"81,000"}},{"$f":"SUM($I$8:$I$48)","v":0},"-",{"$f":"SUM($K$8:$K$48)","v":0},{"$f":"SUM($L$8:$L$48)","v":{"v":2547,"d":"2,547"}},{"$f":"SUM($M$8:$M$48)","v":0},{"$f":"SUM($N$8:$N$48)","v":0},{"$f":"SUM($O$8:$O$48)","v":0},{"$f":"SUM($P$8:$P$48)","v":0},{"$f":"SUM($Q$8:$Q$48)","v":0},{"$f":"SUM($R$8:$R$48)","v":0},"-",{"$f":"SUM($T$8:$T$48)","v":0},{"$f":"SUM($U$8:$U$48)","v":0},{"$f":"SUM($V$8:$V$48)","v":{"v":148897,"d":"148,897"}},{"$f":"SUM($W$8:$W$48)","v":{"v":146350,"d":"146,350"}},{"$f":"SUM($X$8:$X$48)","v":{"v":65350,"d":"65,350"}},{"$f":"SUM($Y$8:$Y$48)","v":0},{"$f":"SUM($Z$8:$Z$48)","v":{"v":81000,"d":"81,000"}},{"$f":"SUM($AA$8:$AA$48)","v":0},"-",{"$f":"SUM($AC$8:$AC$48)","v":0},{"$f":"SUM($AD$8:$AD$48)","v":{"v":2547,"d":"2,547"}},{"$f":"SUM($AE$8:$AE$48)","v":{"v":27031,"d":"27,031"}},{"$f":"SUM($AF$8:$AF$48)","v":{"v":27031,"d":"27,031"}},{"$f":"SUM($AG$8:$AG$48)","v":{"v":1031,"d":"1,031"}},{"$f":"SUM($AH$8:$AH$48)","v":0},{"$f":"SUM($AI$8:$AI$48)","v":0},{"$f":"SUM($AJ$8:$AJ$48)","v":{"v":26000,"d":"26,000"}},{"$f":"SUM($AK$8:$AK$48)","v":0},{"$f":"SUM($AL$8:$AL$48)","v":0},{"$f":"SUM($AM$8:$AM$48)","v":{"v":121866,"d":"121,866"}},{"$f":"SUM($AN$8:$AN$48)","v":0},{"$f":"SUM($AO$8:$AO$48)","v":0},{"$f":"SUM($AP$8:$AP$48)","v":0},{"$f":"SUM($AQ$8:$AQ$48)","v":0},{"$f":"SUM($AR$8:$AR$48)","v":0},{"$f":"SUM($AS$8:$AS$48)","v":29},{"$f":"SUM($AT$8:$AT$48)","v":20},{"$f":"SUM($AU$8:$AU$48)","v":9},{"$f":"SUM($AV$8:$AV$48)","v":0},{"$f":"SUM($AW$8:$AW$48)","v":0},{"$f":"SUM($AX$8:$AX$48)","v":{"v":121837,"d":"121,837"}},{"$f":"SUM($AY$8:$AY$48)","v":618},{"$f":"SUM($AZ$8:$AZ$48)","v":{"v":2774,"d":"2,774"}},{"$f":"SUM($BA$8:$BA$48)","v":0},{"$f":"SUM($BB$8:$BB$48)","v":{"v":118445,"d":"118,445"}},{"$f":"SUM($BC$8:$BC$48)","v":0},{"$f":"SUM($BD$8:$BD$48)","v":0},{"$f":"SUM($BE$8:$BE$48)","v":0},{"$f":"SUM($BF$8:$BF$48)","v":{"v":148897,"d":"148,897"}},{"$f":"SUM($BG$8:$BG$48)","v":0},{"$f":"SUM($BH$8:$BH$48)","v":0},{"$f":"SUM($BI$8:$BI$48)","v":0},{"$f":"SUM($BJ$8:$BJ$48)","v":0},{"$f":"SUM($BK$8:$BK$48)","v":0},{"$f":"SUM($BL$8:$BL$48)","v":0},{"$f":"SUM($BM$8:$BM$48)","v":0},{"$f":"SUM($BN$8:$BN$48)","v":0},{"$f":"SUM($BO$8:$BO$48)","v":0},{"$f":"SUM($BP$8:$BP$48)","v":0},{"$f":"SUM($BQ$8:$BQ$48)","v":0},{"$f":"SUM($BR$8:$BR$48)","v":0},{"$f":"SUM($BS$8:$BS$48)","v":0},{"$f":"SUM($BT$8:$BT$48)","v":0},{"$f":"SUM($BU$8:$BU$48)","v":0},{"$f":"SUM($BV$8:$BV$48)","v":0},{"$f":"SUM($BW$8:$BW$48)","v":0},{"$f":"SUM($BX$8:$BX$48)","v":0},{"$f":"SUM($BY$8:$BY$48)","v":0},{"$f":"SUM($BZ$8:$BZ$48)","v":0},{"$f":"SUM($CA$8:$CA$48)","v":0},{"$f":"SUM($CB$8:$CB$48)","v":0},{"$f":"SUM($CC$8:$CC$48)","v":0},{"$f":"SUM($CD$8:$CD$48)","v":0},{"$f":"SUM($CE$8:$CE$48)","v":0},{"$f":"SUM($CF$8:$CF$48)","v":0},{"$f":"SUM($CG$8:$CG$48)","v":0},{"$f":"SUM($CH$8:$CH$48)","v":0},{"$f":"SUM($CI$8:$CI$48)","v":{"v":27031,"d":"27,031"}},{"$f":"SUM($CJ$8:$CJ$48)","v":{"v":27031,"d":"27,031"}},{"$f":"SUM($CK$8:$CK$48)","v":{"v":1031,"d":"1,031"}},{"$f":"SUM($CL$8:$CL$48)","v":0},{"$f":"SUM($CM$8:$CM$48)","v":0},{"$f":"SUM($CN$8:$CN$48)","v":{"v":26000,"d":"26,000"}},{"$f":"SUM($CO$8:$CO$48)","v":0},{"$f":"SUM($CP$8:$CP$48)","v":0},{"$f":"SUM($CQ$8:$CQ$48)","v":{"v":121866,"d":"121,866"}},{"$f":"SUM($CR$8:$CR$48)","v":0},{"$f":"SUM($CS$8:$CS$48)","v":0},{"$f":"SUM($CT$8:$CT$48)","v":0},{"$f":"SUM($CU$8:$CU$48)","v":0},{"$f":"SUM($CV$8:$CV$48)","v":0},{"$f":"SUM($CW$8:$CW$48)","v":29},{"$f":"SUM($CX$8:$CX$48)","v":20},{"$f":"SUM($CY$8:$CY$48)","v":9},{"$f":"SUM($CZ$8:$CZ$48)","v":0},{"$f":"SUM($DA$8:$DA$48)","v":0},{"$f":"SUM($DB$8:$DB$48)","v":{"v":121837,"d":"121,837"}},{"$f":"SUM($DC$8:$DC$48)","v":618},{"$f":"SUM($DD$8:$DD$48)","v":{"v":2774,"d":"2,774"}},{"$f":"SUM($DE$8:$DE$48)","v":0},{"$f":"SUM($DF$8:$DF$48)","v":{"v":118445,"d":"118,445"}},{"$f":"SUM($DG$8:$DG$48)","v":0},{"$f":"SUM($DH$8:$DH$48)","v":0},{"$f":"SUM($DI$8:$DI$48)","v":0},{"$f":"SUM($DJ$8:$DJ$48)","v":{"v":148897,"d":"148,897"}}]
["熊本県","43100","熊本市",{"$f":"SUM(E8,+L8)","v":0},{"$f":"SUM(F8:I8)+K8","v":0},0,0,0,0,"-",0,0,{"$f":"SUM(N8,+U8)","v":0},{"$f":"SUM(O8:R8)+T8","v":0},0,0,0,0,"-",0,0,0,0,0,0,0,0,"-",0,0,{"$f":"SUM(AF8,+AK8)","v":0},{"$f":"SUM(AG8:AJ8)","v":0},0,0,0,0,0,{"$f":"組合分担金内訳!D8","v":0},{"$f":"SUM(AN8,AS8,AW8,AX8,BD8)","v":0},{"$f":"SUM(AO8:AR8)","v":0},0,0,0,0,{"$f":"SUM(AT8:AV8)","v":0},0,0,0,0,{"$f":"SUM(AY8:BB8)","v":0},0,0,0,0,{"$f":"組合分担金内訳!E8","v":0},0,0,{"$f":"SUM(AE8,+AM8,+BE8)","v":0},{"$f":"SUM(BH8,+BM8)","v":0},{"$f":"SUM(BI8:BL8)","v":0},0,0,0,0,0,{"$f":"組合分担金内訳!G8","v":0},{"$f":"SUM(BP8,BU8,BY8,BZ8,CF8)","v":0},{"$f":"SUM(BQ8:BT8)","v":0},0,0,0,0,{"$f":"SUM(BV8:BX8)","v":0},0,0,0,0,{"$f":"SUM(CA8:CD8)","v":0},0,0,0,0,{"$f":"組合分担金内訳!H8","v":0},0,0,{"$f":"SUM(BG8,+BO8,+CG8)","v":0},{"$f":"SUM(AE8,+BG8)","v":0},{"$f":"SUM(AF8,+BH8)","v":0},{"$f":"SUM(AG8,+BI8)","v":0},{"$f":"SUM(AH8,+BJ8)","v":0},{"$f":"SUM(AI8,+BK8)","v":0},{"$f":"SUM(AJ8,+BL8)","v":0},{"$f":"SUM(AK8,+BM8)","v":0},{"$f":"SUM(AL8,+BN8)","v":0},{"$f":"SUM(AM8,+BO8)","v":0},{"$f":"SUM(AN8,+BP8)","v":0},{"$f":"SUM(AO8,+BQ8)","v":0},{"$f":"SUM(AP8,+BR8)","v":0},{"$f":"SUM(AQ8,+BS8)","v":0},{"$f":"SUM(AR8,+BT8)","v":0},{"$f":"SUM(AS8,+BU8)","v":0},{"$f":"SUM(AT8,+BV8)","v":0},{"$f":"SUM(AU8,+BW8)","v":0},{"$f":"SUM(AV8,+BX8)","v":0},{"$f":"SUM(AW8,+BY8)","v":0},{"$f":"SUM(AX8,+BZ8)","v":0},{"$f":"SUM(AY8,+CA8)","v":0},{"$f":"SUM(AZ8,+CB8)","v":0},{"$f":"SUM(BA8,+CC8)","v":0},{"$f":"SUM(BB8,+CD8)","v":0},{"$f":"SUM(BC8,+CE8)","v":0},{"$f":"SUM(BD8,+CF8)","v":0},{"$f":"SUM(BE8,+CG8)","v":0},{"$f":"SUM(BF8,+CH8)","v":0}]
["熊本県","43202","八代市",{"$f":"SUM(E9,+L9)","v":{"v":117827,"d":"117,827"}},{"$f":"SUM(F9:I9)+K9","v":{"v":117826,"d":"117,826"}},{"v":49826,"d":"49,826"},0,{"v":68000,"d":"68,000"},0,"-",0,1,{"$f":"SUM(N9,+U9)","v":0},{"$f":"SUM(O9:R9)+T9","v":0},0,0,0,0,"-",0,0,{"v":117827,"d":"117,827"},{"v":117826,"d":"117,826"},{"v":49826,"d":"49,826"},0,{"v":68000,"d":"68,000"},0,"-",0,1,{"$f":"SUM(AF9,+AK9)","v":0},{"$f":"SUM(AG9:AJ9)","v":0},0,0,0,0,0,{"$f":"組合分担金内訳!D9","v":0},{"$f":"SUM(AN9,AS9,AW9,AX9,BD9)","v":{"v":117827,"d":"117,827"}},{"$f":"SUM(AO9:AR9)","v":0},0,0,0,0,{"$f":"SUM(AT9:AV9)","v":0},0,0,0,0,{"$f":"SUM(AY9:BB9)","v":{"v":117827,"d":"117,827"}},0,0,0,{"v":117827,"d":"117,827"},{"$f":"組合分担金内訳!E9","v":0},0,0,{"$f":"SUM(AE9,+AM9,+BE9)","v":{"v":117827,"d":"117,827"}},{"$f":"SUM(BH9,+BM9)","v":0},{"$f":"SUM(BI9:BL9)","v":0},0,0,0,0,0,{"$f":"組合分担金内訳!G9","v":0},{"$f":"SUM(BP9,BU9,BY9,BZ9,CF9)","v":0},{"$f":"SUM(BQ9:BT9)","v":0},0,0,0,0,{"$f":"SUM(BV9:BX9)","v":0},0,0,0,0,{"$f":"SUM(CA9:CD9)","v":0},0,0,0,0,{"$f":"組合分担金内訳!H9","v":0},0,0,{"$f":"SUM(BG9,+BO9,+CG9)","v":0},0,0,0,0,0,0,0,0,{"v":117827,"d":"117,827"},0,0,0,0,0,0,0,0,0,0,{"v":117827,"d":"117,827"},0,0,0,{"v":117827,"d":"117,827"},0,0,0,{"v":117827,"d":"117,827"}]
["熊本県","43203","人吉市",{"$f":"SUM(E10,+L10)","v":0},{"$f":"SUM(F10:I10)+K10","v":0},0,0,0,0,"-",0,0,{"$f":"SUM(N10,+U10)","v":0},{"$f":"SUM(O10:R10)+T10","v":0},0,0,0,0,"-",0,0,0,0,0,0,0,0,"-",0,0,{"$f":"SUM(AF10,+AK10)","v":0},{"$f":"SUM(AG10:AJ10)","v":0},0,0,0,0,0,{"$f":"組合分担金内訳!D10","v":0},{"$f":"SUM(AN10,AS10,AW10,AX10,BD10)","v":0},{"$f":"SUM(AO10:AR10)","v":0},0,0,0,0,{"$f":"SUM(AT10:AV10)","v":0},0,0,0,0,{"$f":"SUM(AY10:BB10)","v":0},0,0,0,0,{"$f":"組合分担金内訳!E10","v":0},0,0,{"$f":"SUM(AE10,+AM10,+BE10)","v":0},{"$f":"SUM(BH10,+BM10)","v":0},{"$f":"SUM(BI10:BL10)","v":0},0,0,0,0,0,{"$f":"組合分担金内訳!G10","v":0},{"$f":"SUM(BP10,BU10,BY10,BZ10,CF10)","v":0},{"$f":"SUM(BQ10:BT10)","v":0},0,0,0,0,{"$f":"SUM(BV10:BX10)","v":0},0,0,0,0,{"$f":"SUM(CA10:CD10)","v":0},0,0,0,0,{"$f":"組合分担金内訳!H10","v":0},0,0,{"$f":"SUM(BG10,+BO10,+CG10)","v":0},0,0,0,0,0,0,0,0,0,0,0,0,0,0,0,0,0,0,0,0,0,0,0,0,0,0,0,0]
["熊本県","43204","荒尾市",{"$f":"SUM(E11,+L11)","v":0},{"$f":"SUM(F11:I11)+K11","v":0},0,0,0,0,"-",0,0,{"$f":"SUM(N11,+U11)","v":0},{"$f":"SUM(O11:R11)+T11","v":0},0,0,0,0,"-",0,0,0,0,0,0,0,0,"-",0,0,{"$f":"SUM(AF11,+AK11)","v":0},{"$f":"SUM(AG11:AJ11)","v":0},0,0,0,0,0,{"$f":"組合分担金内訳!D11","v":0},{"$f":"SUM(AN11,AS11,AW11,AX11,BD11)","v":0},{"$f":"SUM(AO11:AR11)","v":0},0,0,0,0,{"$f":"SUM(AT11:AV11)","v":0},0,0,0,0,{"$f":"SUM(AY11:BB11)","v":0},0,0,0,0,{"$f":"組合分担金内訳!E11","v":0},0,0,{"$f":"SUM(AE11,+AM11,+BE11)","v":0},{"$f":"SUM(BH11,+BM11)","v":0},{"$f":"SUM(BI11:BL11)","v":0},0,0,0,0,0,{"$f":"組合分担金内訳!G11","v":0},{"$f":"SUM(BP11,BU11,BY11,BZ11,CF11)","v":0},{"$f":"SUM(BQ11:BT11)","v":0},0,0,0,0,{"$f":"SUM(BV11:BX11)","v":0},0,0,0,0,{"$f":"SUM(CA11:CD11)","v":0},0,0,0,0,{"$f":"組合分担金内訳!H11","v":0},0,0,{"$f":"SUM(BG11,+BO11,+CG11)","v":0},0,0,0,0,0,0,0,0,0,0,0,0,0,0,0,0,0,0,0,0,0,0,0,0,0,0,0,0]
["熊本県","43205","水俣市",{"$f":"SUM(E12,+L12)","v":0},{"$f":"SUM(F12:I12)+K12","v":0},0,0,0,0,"-",0,0,{"$f":"SUM(N12,+U12)","v":0},{"$f":"SUM(O12:R12)+T12","v":0},0,0,0,0,"-",0,0,0,0,0,0,0,0,"-",0,0,{"$f":"SUM(AF12,+AK12)","v":0},{"$f":"SUM(AG12:AJ12)","v":0},0,0,0,0,0,{"$f":"組合分担金内訳!D12","v":0},{"$f":"SUM(AN12,AS12,AW12,AX12,BD12)","v":0},{"$f":"SUM(AO12:AR12)","v":0},0,0,0,0,{"$f":"SUM(AT12:AV12)","v":0},0,0,0,0,{"$f":"SUM(AY12:BB12)","v":0},0,0,0,0,{"$f":"組合分担金内訳!E12","v":0},0,0,{"$f":"SUM(AE12,+AM12,+BE12)","v":0},{"$f":"SUM(BH12,+BM12)","v":0},{"$f":"SUM(BI12:BL12)","v":0},0,0,0,0,0,{"$f":"組合分担金内訳!G12","v":0},{"$f":"SUM(BP12,BU12,BY12,BZ12,CF12)","v":0},{"$f":"SUM(BQ12:BT12)","v":0},0,0,0,0,{"$f":"SUM(BV12:BX12)","v":0},0,0,0,0,{"$f":"SUM(CA12:CD12)","v":0},0,0,0,0,{"$f":"組合分担金内訳!H12","v":0},0,0,{"$f":"SUM(BG12,+BO12,+CG12)","v":0},0,0,0,0,0,0,0,0,0,0,0,0,0,0,0,0,0,0,0,0,0,0,0,0,0,0,0,0]
["熊本県","43206","玉名市",{"$f":"SUM(E13,+L13)","v":0},{"$f":"SUM(F13:I13)+K13","v":0},0,0,0,0,"-",0,0,{"$f":"SUM(N13,+U13)","v":0},{"$f":"SUM(O13:R13)+T13","v":0},0,0,0,0,"-",0,0,0,0,0,0,0,0,"-",0,0,{"$f":"SUM(AF13,+AK13)","v":0},{"$f":"SUM(AG13:AJ13)","v":0},0,0,0,0,0,{"$f":"組合分担金内訳!D13","v":0},{"$f":"SUM(AN13,AS13,AW13,AX13,BD13)","v":0},{"$f":"SUM(AO13:AR13)","v":0},0,0,0,0,{"$f":"SUM(AT13:AV13)","v":0},0,0,0,0,{"$f":"SUM(AY13:BB13)","v":0},0,0,0,0,{"$f":"組合分担金内訳!E13","v":0},0,0,{"$f":"SUM(AE13,+AM13,+BE13)","v":0},{"$f":"SUM(BH13,+BM13)","v":0},{"$f":"SUM(BI13:BL13)","v":0},0,0,0,0,0,{"$f":"組合分担金内訳!G13","v":0},{"$f":"SUM(BP13,BU13,BY13,BZ13,CF13)","v":0},{"$f":"SUM(BQ13:BT13)","v":0},0,0,0,0,{"$f":"SUM(BV13:BX13)","v":0},0,0,0,0,{"$f":"SUM(CA13:CD13)","v":0},0,0,0,0,{"$f":"組合分担金内訳!H13","v":0},0,0,{"$f":"SUM(BG13,+BO13,+CG13)","v":0},0,0,0,0,0,0,0,0,0,0,0,0,0,0,0,0,0,0,0,0,0,0,0,0,0,0,0,0]
["熊本県","43208","山鹿市",{"$f":"SUM(E14,+L14)","v":0},{"$f":"SUM(F14:I14)+K14","v":0},0,0,0,0,"-",0,0,{"$f":"SUM(N14,+U14)","v":0},{"$f":"SUM(O14:R14)+T14","v":0},0,0,0,0,"-",0,0,0,0,0,0,0,0,"-",0,0,{"$f":"SUM(AF14,+AK14)","v":0},{"$f":"SUM(AG14:AJ14)","v":0},0,0,0,0,0,{"$f":"組合分担金内訳!D14","v":0},{"$f":"SUM(AN14,AS14,AW14,AX14,BD14)","v":0},{"$f":"SUM(AO14:AR14)","v":0},0,0,0,0,{"$f":"SUM(AT14:AV14)","v":0},0,0,0,0,{"$f":"SUM(AY14:BB14)","v":0},0,0,0,0,{"$f":"組合分担金内訳!E14","v":0},0,0,{"$f":"SUM(AE14,+AM14,+BE14)","v":0},{"$f":"SUM(BH14,+BM14)","v":0},{"$f":"SUM(BI14:BL14)","v":0},0,0,0,0,0,{"$f":"組合分担金内訳!G14","v":0},{"$f":"SUM(BP14,BU14,BY14,BZ14,CF14)","v":0},{"$f":"SUM(BQ14:BT14)","v":0},0,0,0,0,{"$f":"SUM(BV14:BX14)","v":0},0,0,0,0,{"$f":"SUM(CA14:CD14)","v":0},0,0,0,0,{"$f":"組合分担金内訳!H14","v":0},0,0,{"$f":"SUM(BG14,+BO14,+CG14)","v":0},0,0,0,0,0,0,0,0,0,0,0,0,0,0,0,0,0,0,0,0,0,0,0,0,0,0,0,0]
["熊本県","43210","菊池市",{"$f":"SUM(E15,+L15)","v":0},{"$f":"SUM(F15:I15)+K15","v":0},0,0,0,0,"-",0,0,{"$f":"SUM(N15,+U15)","v":0},{"$f":"SUM(O15:R15)+T15","v":0},0,0,0,0,"-",0,0,0,0,0,0,0,0,"-",0,0,{"$f":"SUM(AF15,+AK15)","v":0},{"$f":"SUM(AG15:AJ15)","v":0},0,0,0,0,0,{"$f":"組合分担金内訳!D15","v":0},{"$f":"SUM(AN15,AS15,AW15,AX15,BD15)","v":0},{"$f":"SUM(AO15:AR15)","v":0},0,0,0,0,{"$f":"SUM(AT15:AV15)","v":0},0,0,0,0,{"$f":"SUM(AY15:BB15)","v":0},0,0,0,0,{"$f":"組合分担金内訳!E15","v":0},0,0,{"$f":"SUM(AE15,+AM15,+BE15)","v":0},{"$f":"SUM(BH15,+BM15)","v":0},{"$f":"SUM(BI15:BL15)","v":0},0,0,0,0,0,{"$f":"組合分担金内訳!G15","v":0},{"$f":"SUM(BP15,BU15,BY15,BZ15,CF15)","v":0},{"$f":"SUM(BQ15:BT15)","v":0},0,0,0,0,{"$f":"SUM(BV15:BX15)","v":0},0,0,0,0,{"$f":"SUM(CA15:CD15)","v":0},0,0,0,0,{"$f":"組合分担金内訳!H15","v":0},0,0,{"$f":"SUM(BG15,+BO15,+CG15)","v":0},0,0,0,0,0,0,0,0,0,0,0,0,0,0,0,0,0,0,0,0,0,0,0,0,0,0,0,0]
["熊本県","43211","宇土市",{"$f":"SUM(E16,+L16)","v":0},{"$f":"SUM(F16:I16)+K16","v":0},0,0,0,0,"-",0,0,{"$f":"SUM(N16,+U16)","v":0},{"$f":"SUM(O16:R16)+T16","v":0},0,0,0,0,"-",0,0,0,0,0,0,0,0,"-",0,0,{"$f":"SUM(AF16,+AK16)","v":0},{"$f":"SUM(AG16:AJ16)","v":0},0,0,0,0,0,{"$f":"組合分担金内訳!D16","v":0},{"$f":"SUM(AN16,AS16,AW16,AX16,BD16)","v":0},{"$f":"SUM(AO16:AR16)","v":0},0,0,0,0,{"$f":"SUM(AT16:AV16)","v":0},0,0,0,0,{"$f":"SUM(AY16:BB16)","v":0},0,0,0,0,{"$f":"組合分担金内訳!E16","v":0},0,0,{"$f":"SUM(AE16,+AM16,+BE16)","v":0},{"$f":"SUM(BH16,+BM16)","v":0},{"$f":"SUM(BI16:BL16)","v":0},0,0,0,0,0,{"$f":"組合分担金内訳!G16","v":0},{"$f":"SUM(BP16,BU16,BY16,BZ16,CF16)","v":0},{"$f":"SUM(BQ16:BT16)","v":0},0,0,0,0,{"$f":"SUM(BV16:BX16)","v":0},0,0,0,0,{"$f":"SUM(CA16:CD16)","v":0},0,0,0,0,{"$f":"組合分担金内訳!H16","v":0},0,0,{"$f":"SUM(BG16,+BO16,+CG16)","v":0},0,0,0,0,0,0,0,0,0,0,0,0,0,0,0,0,0,0,0,0,0,0,0,0,0,0,0,0]
["熊本県","43212","上天草市",{"$f":"SUM(E17,+L17)","v":0},{"$f":"SUM(F17:I17)+K17","v":0},0,0,0,0,"-",0,0,{"$f":"SUM(N17,+U17)","v":0},{"$f":"SUM(O17:R17)+T17","v":0},0,0,0,0,"-",0,0,0,0,0,0,0,0,"-",0,0,{"$f":"SUM(AF17,+AK17)","v":0},{"$f":"SUM(AG17:AJ17)","v":0},0,0,0,0,0,{"$f":"組合分担金内訳!D17","v":0},{"$f":"SUM(AN17,AS17,AW17,AX17,BD17)","v":0},{"$f":"SUM(AO17:AR17)","v":0},0,0,0,0,{"$f":"SUM(AT17:AV17)","v":0},0,0,0,0,{"$f":"SUM(AY17:BB17)","v":0},0,0,0,0,{"$f":"組合分担金内訳!E17","v":0},0,0,{"$f":"SUM(AE17,+AM17,+BE17)","v":0},{"$f":"SUM(BH17,+BM17)","v":0},{"$f":"SUM(BI17:BL17)","v":0},0,0,0,0,0,{"$f":"組合分担金内訳!G17","v":0},{"$f":"SUM(BP17,BU17,BY17,BZ17,CF17)","v":0},{"$f":"SUM(BQ17:BT17)","v":0},0,0,0,0,{"$f":"SUM(BV17:BX17)","v":0},0,0,0,0,{"$f":"SUM(CA17:CD17)","v":0},0,0,0,0,{"$f":"組合分担金内訳!H17","v":0},0,0,{"$f":"SUM(BG17,+BO17,+CG17)","v":0},0,0,0,0,0,0,0,0,0,0,0,0,0,0,0,0,0,0,0,0,0,0,0,0,0,0,0,0]
["熊本県","43213","宇城市",{"$f":"SUM(E18,+L18)","v":0},{"$f":"SUM(F18:I18)+K18","v":0},0,0,0,0,"-",0,0,{"$f":"SUM(N18,+U18)","v":0},{"$f":"SUM(O18:R18)+T18","v":0},0,0,0,0,"-",0,0,0,0,0,0,0,0,"-",0,0,{"$f":"SUM(AF18,+AK18)","v":0},{"$f":"SUM(AG18:AJ18)","v":0},0,0,0,0,0,{"$f":"組合分担金内訳!D18","v":0},{"$f":"SUM(AN18,AS18,AW18,AX18,BD18)","v":0},{"$f":"SUM(AO18:AR18)","v":0},0,0,0,0,{"$f":"SUM(AT18:AV18)","v":0},0,0,0,0,{"$f":"SUM(AY18:BB18)","v":0},0,0,0,0,{"$f":"組合分担金内訳!E18","v":0},0,0,{"$f":"SUM(AE18,+AM18,+BE18)","v":0},{"$f":"SUM(BH18,+BM18)","v":0},{"$f":"SUM(BI18:BL18)","v":0},0,0,0,0,0,{"$f":"組合分担金内訳!G18","v":0},{"$f":"SUM(BP18,BU18,BY18,BZ18,CF18)","v":0},{"$f":"SUM(BQ18:BT18)","v":0},0,0,0,0,{"$f":"SUM(BV18:BX18)","v":0},0,0,0,0,{"$f":"SUM(CA18:CD18)","v":0},0,0,0,0,{"$f":"組合分担金内訳!H18","v":0},0,0,{"$f":"SUM(BG18,+BO18,+CG18)","v":0},0,0,0,0,0,0,0,0,0,0,0,0,0,0,0,0,0,0,0,0,0,0,0,0,0,0,0,0]
["熊本県","43214","阿蘇市",{"$f":"SUM(E19,+L19)","v":0},{"$f":"SUM(F19:I19)+K19","v":0},0,0,0,0,"-",0,0,{"$f":"SUM(N19,+U19)","v":0},{"$f":"SUM(O19:R19)+T19","v":0},0,0,0,0,"-",0,0,0,0,0,0,0,0,"-",0,0,{"$f":"SUM(AF19,+AK19)","v":0},{"$f":"SUM(AG19:AJ19)","v":0},0,0,0,0,0,{"$f":"組合分担金内訳!D19","v":0},{"$f":"SUM(AN19,AS19,AW19,AX19,BD19)","v":0},{"$f":"SUM(AO19:AR19)","v":0},0,0,0,0,{"$f":"SUM(AT19:AV19)","v":0},0,0,0,0,{"$f":"SUM(AY19:BB19)","v":0},0,0,0,0,{"$f":"組合分担金内訳!E19","v":0},0,0,{"$f":"SUM(AE19,+AM19,+BE19)","v":0},{"$f":"SUM(BH19,+BM19)","v":0},{"$f":"SUM(BI19:BL19)","v":0},0,0,0,0,0,{"$f":"組合分担金内訳!G19","v":0},{"$f":"SUM(BP19,BU19,BY19,BZ19,CF19)","v":0},{"$f":"SUM(BQ19:BT19)","v":0},0,0,0,0,{"$f":"SUM(BV19:BX19)","v":0},0,0,0,0,{"$f":"SUM(CA19:CD19)","v":0},0,0,0,0,{"$f":"組合分担金内訳!H19","v":0},0,0,{"$f":"SUM(BG19,+BO19,+CG19)","v":0},0,0,0,0,0,0,0,0,0,0,0,0,0,0,0,0,0,0,0,0,0,0,0,0,0,0,0,0]
["熊本県","43216","合志市",{"$f":"SUM(E20,+L20)","v":0},{"$f":"SUM(F20:I20)+K20","v":0},0,0,0,0,"-",0,0,{"$f":"SUM(N20,+U20)","v":0},{"$f":"SUM(O20:R20)+T20","v":0},0,0,0,0,"-",0,0,0,0,0,0,0,0,"-",0,0,{"$f":"SUM(AF20,+AK20)","v":0},{"$f":"SUM(AG20:AJ20)","v":0},0,0,0,0,0,{"$f":"組合分担金内訳!D20","v":0},{"$f":"SUM(AN20,AS20,AW20,AX20,BD20)","v":0},{"$f":"SUM(AO20:AR20)","v":0},0,0,0,0,{"$f":"SUM(AT20:AV20)","v":0},0,0,0,0,{"$f":"SUM(AY20:BB20)","v":0},0,0,0,0,{"$f":"組合分担金内訳!E20","v":0},0,0,{"$f":"SUM(AE20,+AM20,+BE20)","v":0},{"$f":"SUM(BH20,+BM20)","v":0},{"$f":"SUM(BI20:BL20)","v":0},0,0,0,0,0,{"$f":"組合分担金内訳!G20","v":0},{"$f":"SUM(BP20,BU20,BY20,BZ20,CF20)","v":0},{"$f":"SUM(BQ20:BT20)","v":0},0,0,0,0,{"$f":"SUM(BV20:BX20)","v":0},0,0,0,0,{"$f":"SUM(CA20:CD20)","v":0},0,0,0,0,{"$f":"組合分担金内訳!H20","v":0},0,0,{"$f":"SUM(BG20,+BO20,+CG20)","v":0},0,0,0,0,0,0,0,0,0,0,0,0,0,0,0,0,0,0,0,0,0,0,0,0,0,0,0,0]
["熊本県","43348","美里町",{"$f":"SUM(E21,+L21)","v":0},{"$f":"SUM(F21:I21)+K21","v":0},0,0,0,0,"-",0,0,{"$f":"SUM(N21,+U21)","v":0},{"$f":"SUM(O21:R21)+T21","v":0},0,0,0,0,"-",0,0,0,0,0,0,0,0,"-",0,0,{"$f":"SUM(AF21,+AK21)","v":0},{"$f":"SUM(AG21:AJ21)","v":0},0,0,0,0,0,{"$f":"組合分担金内訳!D21","v":0},{"$f":"SUM(AN21,AS21,AW21,AX21,BD21)","v":0},{"$f":"SUM(AO21:AR21)","v":0},0,0,0,0,{"$f":"SUM(AT21:AV21)","v":0},0,0,0,0,{"$f":"SUM(AY21:BB21)","v":0},0,0,0,0,{"$f":"組合分担金内訳!E21","v":0},0,0,{"$f":"SUM(AE21,+AM21,+BE21)","v":0},{"$f":"SUM(BH21,+BM21)","v":0},{"$f":"SUM(BI21:BL21)","v":0},0,0,0,0,0,{"$f":"組合分担金内訳!G21","v":0},{"$f":"SUM(BP21,BU21,BY21,BZ21,CF21)","v":0},{"$f":"SUM(BQ21:BT21)","v":0},0,0,0,0,{"$f":"SUM(BV21:BX21)","v":0},0,0,0,0,{"$f":"SUM(CA21:CD21)","v":0},0,0,0,0,{"$f":"組合分担金内訳!H21","v":0},0,0,{"$f":"SUM(BG21,+BO21,+CG21)","v":0},0,0,0,0,0,0,0,0,0,0,0,0,0,0,0,0,0,0,0,0,0,0,0,0,0,0,0,0]
["熊本県","43364","玉東町",{"$f":"SUM(E22,+L22)","v":0},{"$f":"SUM(F22:I22)+K22","v":0},0,0,0,0,"-",0,0,{"$f":"SUM(N22,+U22)","v":0},{"$f":"SUM(O22:R22)+T22","v":0},0,0,0,0,"-",0,0,0,0,0,0,0,0,"-",0,0,{"$f":"SUM(AF22,+AK22)","v":0},{"$f":"SUM(AG22:AJ22)","v":0},0,0,0,0,0,{"$f":"組合分担金内訳!D22","v":0},{"$f":"SUM(AN22,AS22,AW22,AX22,BD22)","v":0},{"$f":"SUM(AO22:AR22)","v":0},0,0,0,0,{"$f":"SUM(AT22:AV22)","v":0},0,0,0,0,{"$f":"SUM(AY22:BB22)","v":0},0,0,0,0,{"$f":"組合分担金内訳!E22","v":0},0,0,{"$f":"SUM(AE22,+AM22,+BE22)","v":0},{"$f":"SUM(BH22,+BM22)","v":0},{"$f":"SUM(BI22:BL22)","v":0},0,0,0,0,0,{"$f":"組合分担金内訳!G22","v":0},{"$f":"SUM(BP22,BU22,BY22,BZ22,CF22)","v":0},{"$f":"SUM(BQ22:BT22)","v":0},0,0,0,0,{"$f":"SUM(BV22:BX22)","v":0},0,0,0,0,{"$f":"SUM(CA22:CD22)","v":0},0,0,0,0,{"$f":"組合分担金内訳!H22","v":0},0,0,{"$f":"SUM(BG22,+BO22,+CG22)","v":0},0,0,0,0,0,0,0,0,0,0,0,0,0,0,0,0,0,0,0,0,0,0,0,0,0,0,0,0]
["熊本県","43367","南関町",{"$f":"SUM(E23,+L23)","v":0},{"$f":"SUM(F23:I23)+K23","v":0},0,0,0,0,"-",0,0,{"$f":"SUM(N23,+U23)","v":0},{"$f":"SUM(O23:R23)+T23","v":0},0,0,0,0,"-",0,0,0,0,0,0,0,0,"-",0,0,{"$f":"SUM(AF23,+AK23)","v":0},{"$f":"SUM(AG23:AJ23)","v":0},0,0,0,0,0,{"$f":"組合分担金内訳!D23","v":0},{"$f":"SUM(AN23,AS23,AW23,AX23,BD23)","v":0},{"$f":"SUM(AO23:AR23)","v":0},0,0,0,0,{"$f":"SUM(AT23:AV23)","v":0},0,0,0,0,{"$f":"SUM(AY23:BB23)","v":0},0,0,0,0,{"$f":"組合分担金内訳!E23","v":0},0,0,{"$f":"SUM(AE23,+AM23,+BE23)","v":0},{"$f":"SUM(BH23,+BM23)","v":0},{"$f":"SUM(BI23:BL23)","v":0},0,0,0,0,0,{"$f":"組合分担金内訳!G23","v":0},{"$f":"SUM(BP23,BU23,BY23,BZ23,CF23)","v":0},{"$f":"SUM(BQ23:BT23)","v":0},0,0,0,0,{"$f":"SUM(BV23:BX23)","v":0},0,0,0,0,{"$f":"SUM(CA23:CD23)","v":0},0,0,0,0,{"$f":"組合分担金内訳!H23","v":0},0,0,{"$f":"SUM(BG23,+BO23,+CG23)","v":0},0,0,0,0,0,0,0,0,0,0,0,0,0,0,0,0,0,0,0,0,0,0,0,0,0,0,0,0]
["熊本県","43368","長洲町",{"$f":"SUM(E24,+L24)","v":0},{"$f":"SUM(F24:I24)+K24","v":0},0,0,0,0,"-",0,0,{"$f":"SUM(N24,+U24)","v":0},{"$f":"SUM(O24:R24)+T24","v":0},0,0,0,0,"-",0,0,0,0,0,0,0,0,"-",0,0,{"$f":"SUM(AF24,+AK24)","v":0},{"$f":"SUM(AG24:AJ24)","v":0},0,0,0,0,0,{"$f":"組合分担金内訳!D24","v":0},{"$f":"SUM(AN24,AS24,AW24,AX24,BD24)","v":0},{"$f":"SUM(AO24:AR24)","v":0},0,0,0,0,{"$f":"SUM(AT24:AV24)","v":0},0,0,0,0,{"$f":"SUM(AY24:BB24)","v":0},0,0,0,0,{"$f":"組合分担金内訳!E24","v":0},0,0,{"$f":"SUM(AE24,+AM24,+BE24)","v":0},{"$f":"SUM(BH24,+BM24)","v":0},{"$f":"SUM(BI24:BL24)","v":0},0,0,0,0,0,{"$f":"組合分担金内訳!G24","v":0},{"$f":"SUM(BP24,BU24,BY24,BZ24,CF24)","v":0},{"$f":"SUM(BQ24:BT24)","v":0},0,0,0,0,{"$f":"SUM(BV24:BX24)","v":0},0,0,0,0,{"$f":"SUM(CA24:CD24)","v":0},0,0,0,0,{"$f":"組合分担金内訳!H24","v":0},0,0,{"$f":"SUM(BG24,+BO24,+CG24)","v":0},0,0,0,0,0,0,0,0,0,0,0,0,0,0,0,0,0,0,0,0,0,0,0,0,0,0,0,0]
["熊本県","43369","和水町",{"$f":"SUM(E25,+L25)","v":0},{"$f":"SUM(F25:I25)+K25","v":0},0,0,0,0,"-",0,0,{"$f":"SUM(N25,+U25)","v":0},{"$f":"SUM(O25:R25)+T25","v":0},0,0,0,0,"-",0,0,0,0,0,0,0,0,"-",0,0,{"$f":"SUM(AF25,+AK25)","v":0},{"$f":"SUM(AG25:AJ25)","v":0},0,0,0,0,0,{"$f":"組合分担金内訳!D25","v":0},{"$f":"SUM(AN25,AS25,AW25,AX25,BD25)","v":0},{"$f":"SUM(AO25:AR25)","v":0},0,0,0,0,{"$f":"SUM(AT25:AV25)","v":0},0,0,0,0,{"$f":"SUM(AY25:BB25)","v":0},0,0,0,0,{"$f":"組合分担金内訳!E25","v":0},0,0,{"$f":"SUM(AE25,+AM25,+BE25)","v":0},{"$f":"SUM(BH25,+BM25)","v":0},{"$f":"SUM(BI25:BL25)","v":0},0,0,0,0,0,{"$f":"組合分担金内訳!G25","v":0},{"$f":"SUM(BP25,BU25,BY25,BZ25,CF25)","v":0},{"$f":"SUM(BQ25:BT25)","v":0},0,0,0,0,{"$f":"SUM(BV25:BX25)","v":0},0,0,0,0,{"$f":"SUM(CA25:CD25)","v":0},0,0,0,0,{"$f":"組合分担金内訳!H25","v":0},0,0,{"$f":"SUM(BG25,+BO25,+CG25)","v":0},0,0,0,0,0,0,0,0,0,0,0,0,0,0,0,0,0,0,0,0,0,0,0,0,0,0,0,0]
["熊本県","43403","大津町",{"$f":"SUM(E26,+L26)","v":0},{"$f":"SUM(F26:I26)+K26","v":0},0,0,0,0,"-",0,0,{"$f":"SUM(N26,+U26)","v":0},{"$f":"SUM(O26:R26)+T26","v":0},0,0,0,0,"-",0,0,0,0,0,0,0,0,"-",0,0,{"$f":"SUM(AF26,+AK26)","v":0},{"$f":"SUM(AG26:AJ26)","v":0},0,0,0,0,0,{"$f":"組合分担金内訳!D26","v":0},{"$f":"SUM(AN26,AS26,AW26,AX26,BD26)","v":0},{"$f":"SUM(AO26:AR26)","v":0},0,0,0,0,{"$f":"SUM(AT26:AV26)","v":0},0,0,0,0,{"$f":"SUM(AY26:BB26)","v":0},0,0,0,0,{"$f":"組合分担金内訳!E26","v":0},0,0,{"$f":"SUM(AE26,+AM26,+BE26)","v":0},{"$f":"SUM(BH26,+BM26)","v":0},{"$f":"SUM(BI26:BL26)","v":0},0,0,0,0,0,{"$f":"組合分担金内訳!G26","v":0},{"$f":"SUM(BP26,BU26,BY26,BZ26,CF26)","v":0},{"$f":"SUM(BQ26:BT26)","v":0},0,0,0,0,{"$f":"SUM(BV26:BX26)","v":0},0,0,0,0,{"$f":"SUM(CA26:CD26)","v":0},0,0,0,0,{"$f":"組合分担金内訳!H26","v":0},0,0,{"$f":"SUM(BG26,+BO26,+CG26)","v":0},0,0,0,0,0,0,0,0,0,0,0,0,0,0,0,0,0,0,0,0,0,0,0,0,0,0,0,0]
["熊本県","43404","菊陽町",{"$f":"SUM(E27,+L27)","v":0},{"$f":"SUM(F27:I27)+K27","v":0},0,0,0,0,"-",0,0,{"$f":"SUM(N27,+U27)","v":0},{"$f":"SUM(O27:R27)+T27","v":0},0,0,0,0,"-",0,0,0,0,0,0,0,0,"-",0,0,{"$f":"SUM(AF27,+AK27)","v":0},{"$f":"SUM(AG27:AJ27)","v":0},0,0,0,0,0,{"$f":"組合分担金内訳!D27","v":0},{"$f":"SUM(AN27,AS27,AW27,AX27,BD27)","v":0},{"$f":"SUM(AO27:AR27)","v":0},0,0,0,0,{"$f":"SUM(AT27:AV27)","v":0},0,0,0,0,{"$f":"SUM(AY27:BB27)","v":0},0,0,0,0,{"$f":"組合分担金内訳!E27","v":0},0,0,{"$f":"SUM(AE27,+AM27,+BE27)","v":0},{"$f":"SUM(BH27,+BM27)","v":0},{"$f":"SUM(BI27:BL27)","v":0},0,0,0,0,0,{"$f":"組合分担金内訳!G27","v":0},{"$f":"SUM(BP27,BU27,BY27,BZ27,CF27)","v":0},{"$f":"SUM(BQ27:BT27)","v":0},0,0,0,0,{"$f":"SUM(BV27:BX27)","v":0},0,0,0,0,{"$f":"SUM(CA27:CD27)","v":0},0,0,0,0,{"$f":"組合分担金内訳!H27","v":0},0,0,{"$f":"SUM(BG27,+BO27,+CG27)","v":0},0,0,0,0,0,0,0,0,0,0,0,0,0,0,0,0,0,0,0,0,0,0,0,0,0,0,0,0]
["熊本県","43423","南小国町",{"$f":"SUM(E28,+L28)","v":0},{"$f":"SUM(F28:I28)+K28","v":0},0,0,0,0,"-",0,0,{"$f":"SUM(N28,+U28)","v":0},{"$f":"SUM(O28:R28)+T28","v":0},0,0,0,0,"-",0,0,0,0,0,0,0,0,"-",0,0,{"$f":"SUM(AF28,+AK28)","v":0},{"$f":"SUM(AG28:AJ28)","v":0},0,0,0,0,0,{"$f":"組合分担金内訳!D28","v":0},{"$f":"SUM(AN28,AS28,AW28,AX28,BD28)","v":0},{"$f":"SUM(AO28:AR28)","v":0},0,0,0,0,{"$f":"SUM(AT28:AV28)","v":0},0,0,0,0,{"$f":"SUM(AY28:BB28)","v":0},0,0,0,0,{"$f":"組合分担金内訳!E28","v":0},0,0,{"$f":"SUM(AE28,+AM28,+BE28)","v":0},{"$f":"SUM(BH28,+BM28)","v":0},{"$f":"SUM(BI28:BL28)","v":0},0,0,0,0,0,{"$f":"組合分担金内訳!G28","v":0},{"$f":"SUM(BP28,BU28,BY28,BZ28,CF28)","v":0},{"$f":"SUM(BQ28:BT28)","v":0},0,0,0,0,{"$f":"SUM(BV28:BX28)","v":0},0,0,0,0,{"$f":"SUM(CA28:CD28)","v":0},0,0,0,0,{"$f":"組合分担金内訳!H28","v":0},0,0,{"$f":"SUM(BG28,+BO28,+CG28)","v":0},0,0,0,0,0,0,0,0,0,0,0,0,0,0,0,0,0,0,0,0,0,0,0,0,0,0,0,0]
["熊本県","43424","小国町",{"$f":"SUM(E29,+L29)","v":0},{"$f":"SUM(F29:I29)+K29","v":0},0,0,0,0,"-",0,0,{"$f":"SUM(N29,+U29)","v":0},{"$f":"SUM(O29:R29)+T29","v":0},0,0,0,0,"-",0,0,0,0,0,0,0,0,"-",0,0,{"$f":"SUM(AF29,+AK29)","v":0},{"$f":"SUM(AG29:AJ29)","v":0},0,0,0,0,0,{"$f":"組合分担金内訳!D29","v":0},{"$f":"SUM(AN29,AS29,AW29,AX29,BD29)","v":0},{"$f":"SUM(AO29:AR29)","v":0},0,0,0,0,{"$f":"SUM(AT29:AV29)","v":0},0,0,0,0,{"$f":"SUM(AY29:BB29)","v":0},0,0,0,0,{"$f":"組合分担金内訳!E29","v":0},0,0,{"$f":"SUM(AE29,+AM29,+BE29)","v":0},{"$f":"SUM(BH29,+BM29)","v":0},{"$f":"SUM(BI29:BL29)","v":0},0,0,0,0,0,{"$f":"組合分担金内訳!G29","v":0},{"$f":"SUM(BP29,BU29,BY29,BZ29,CF29)","v":0},{"$f":"SUM(BQ29:BT29)","v":0},0,0,0,0,{"$f":"SUM(BV29:BX29)","v":0},0,0,0,0,{"$f":"SUM(CA29:CD29)","v":0},0,0,0,0,{"$f":"組合分担金内訳!H29","v":0},0,0,{"$f":"SUM(BG29,+BO29,+CG29)","v":0},0,0,0,0,0,0,0,0,0,0,0,0,0,0,0,0,0,0,0,0,0,0,0,0,0,0,0,0]
["熊本県","43425","産山村",{"$f":"SUM(E30,+L30)","v":0},{"$f":"SUM(F30:I30)+K30","v":0},0,0,0,0,"-",0,0,{"$f":"SUM(N30,+U30)","v":0},{"$f":"SUM(O30:R30)+T30","v":0},0,0,0,0,"-",0,0,0,0,0,0,0,0,"-",0,0,{"$f":"SUM(AF30,+AK30)","v":0},{"$f":"SUM(AG30:AJ30)","v":0},0,0,0,0,0,{"$f":"組合分担金内訳!D30","v":0},{"$f":"SUM(AN30,AS30,AW30,AX30,BD30)","v":0},{"$f":"SUM(AO30:AR30)","v":0},0,0,0,0,{"$f":"SUM(AT30:AV30)","v":0},0,0,0,0,{"$f":"SUM(AY30:BB30)","v":0},0,0,0,0,{"$f":"組合分担金内訳!E30","v":0},0,0,{"$f":"SUM(AE30,+AM30,+BE30)","v":0},{"$f":"SUM(BH30,+BM30)","v":0},{"$f":"SUM(BI30:BL30)","v":0},0,0,0,0,0,{"$f":"組合分担金内訳!G30","v":0},{"$f":"SUM(BP30,BU30,BY30,BZ30,CF30)","v":0},{"$f":"SUM(BQ30:BT30)","v":0},0,0,0,0,{"$f":"SUM(BV30:BX30)","v":0},0,0,0,0,{"$f":"SUM(CA30:CD30)","v":0},0,0,0,0,{"$f":"組合分担金内訳!H30","v":0},0,0,{"$f":"SUM(BG30,+BO30,+CG30)","v":0},0,0,0,0,0,0,0,0,0,0,0,0,0,0,0,0,0,0,0,0,0,0,0,0,0,0,0,0]
["熊本県","43428","高森町",{"$f":"SUM(E31,+L31)","v":0},{"$f":"SUM(F31:I31)+K31","v":0},0,0,0,0,"-",0,0,{"$f":"SUM(N31,+U31)","v":0},{"$f":"SUM(O31:R31)+T31","v":0},0,0,0,0,"-",0,0,0,0,0,0,0,0,"-",0,0,{"$f":"SUM(AF31,+AK31)","v":0},{"$f":"SUM(AG31:AJ31)","v":0},0,0,0,0,0,{"$f":"組合分担金内訳!D31","v":0},{"$f":"SUM(AN31,AS31,AW31,AX31,BD31)","v":0},{"$f":"SUM(AO31:AR31)","v":0},0,0,0,0,{"$f":"SUM(AT31:AV31)","v":0},0,0,0,0,{"$f":"SUM(AY31:BB31)","v":0},0,0,0,0,{"$f":"組合分担金内訳!E31","v":0},0,0,{"$f":"SUM(AE31,+AM31,+BE31)","v":0},{"$f":"SUM(BH31,+BM31)","v":0},{"$f":"SUM(BI31:BL31)","v":0},0,0,0,0,0,{"$f":"組合分担金内訳!G31","v":0},{"$f":"SUM(BP31,BU31,BY31,BZ31,CF31)","v":0},{"$f":"SUM(BQ31:BT31)","v":0},0,0,0,0,{"$f":"SUM(BV31:BX31)","v":0},0,0,0,0,{"$f":"SUM(CA31:CD31)","v":0},0,0,0,0,{"$f":"組合分担金内訳!H31","v":0},0,0,{"$f":"SUM(BG31,+BO31,+CG31)","v":0},0,0,0,0,0,0,0,0,0,0,0,0,0,0,0,0,0,0,0,0,0,0,0,0,0,0,0,0]
["熊本県","43432","西原村",{"$f":"SUM(E32,+L32)","v":0},{"$f":"SUM(F32:I32)+K32","v":0},0,0,0,0,"-",0,0,{"$f":"SUM(N32,+U32)","v":0},{"$f":"SUM(O32:R32)+T32","v":0},0,0,0,0,"-",0,0,0,0,0,0,0,0,"-",0,0,{"$f":"SUM(AF32,+AK32)","v":0},{"$f":"SUM(AG32:AJ32)","v":0},0,0,0,0,0,{"$f":"組合分担金内訳!D32","v":0},{"$f":"SUM(AN32,AS32,AW32,AX32,BD32)","v":0},{"$f":"SUM(AO32:AR32)","v":0},0,0,0,0,{"$f":"SUM(AT32:AV32)","v":0},0,0,0,0,{"$f":"SUM(AY32:BB32)","v":0},0,0,0,0,{"$f":"組合分担金内訳!E32","v":0},0,0,{"$f":"SUM(AE32,+AM32,+BE32)","v":0},{"$f":"SUM(BH32,+BM32)","v":0},{"$f":"SUM(BI32:BL32)","v":0},0,0,0,0,0,{"$f":"組合分担金内訳!G32","v":0},{"$f":"SUM(BP32,BU32,BY32,BZ32,CF32)","v":0},{"$f":"SUM(BQ32:BT32)","v":0},0,0,0,0,{"$f":"SUM(BV32:BX32)","v":0},0,0,0,0,{"$f":"SUM(CA32:CD32)","v":0},0,0,0,0,{"$f":"組合分担金内訳!H32","v":0},0,0,{"$f":"SUM(BG32,+BO32,+CG32)","v":0},0,0,0,0,0,0,0,0,0,0,0,0,0,0,0,0,0,0,0,0,0,0,0,0,0,0,0,0]
["熊本県","43433","南阿蘇村",{"$f":"SUM(E33,+L33)","v":0},{"$f":"SUM(F33:I33)+K33","v":0},0,0,0,0,"-",0,0,{"$f":"SUM(N33,+U33)","v":0},{"$f":"SUM(O33:R33)+T33","v":0},0,0,0,0,"-",0,0,0,0,0,0,0,0,"-",0,0,{"$f":"SUM(AF33,+AK33)","v":0},{"$f":"SUM(AG33:AJ33)","v":0},0,0,0,0,0,{"$f":"組合分担金内訳!D33","v":0},{"$f":"SUM(AN33,AS33,AW33,AX33,BD33)","v":0},{"$f":"SUM(AO33:AR33)","v":0},0,0,0,0,{"$f":"SUM(AT33:AV33)","v":0},0,0,0,0,{"$f":"SUM(AY33:BB33)","v":0},0,0,0,0,{"$f":"組合分担金内訳!E33","v":0},0,0,{"$f":"SUM(AE33,+AM33,+BE33)","v":0},{"$f":"SUM(BH33,+BM33)","v":0},{"$f":"SUM(BI33:BL33)","v":0},0,0,0,0,0,{"$f":"組合分担金内訳!G33","v":0},{"$f":"SUM(BP33,BU33,BY33,BZ33,CF33)","v":0},{"$f":"SUM(BQ33:BT33)","v":0},0,0,0,0,{"$f":"SUM(BV33:BX33)","v":0},0,0,0,0,{"$f":"SUM(CA33:CD33)","v":0},0,0,0,0,{"$f":"組合分担金内訳!H33","v":0},0,0,{"$f":"SUM(BG33,+BO33,+CG33)","v":0},0,0,0,0,0,0,0,0,0,0,0,0,0,0,0,0,0,0,0,0,0,0,0,0,0,0,0,0]
["熊本県","43441","御船町",{"$f":"SUM(E34,+L34)","v":0},{"$f":"SUM(F34:I34)+K34","v":0},0,0,0,0,"-",0,0,{"$f":"SUM(N34,+U34)","v":0},{"$f":"SUM(O34:R34)+T34","v":0},0,0,0,0,"-",0,0,0,0,0,0,0,0,"-",0,0,{"$f":"SUM(AF34,+AK34)","v":0},{"$f":"SUM(AG34:AJ34)","v":0},0,0,0,0,0,{"$f":"組合分担金内訳!D34","v":0},{"$f":"SUM(AN34,AS34,AW34,AX34,BD34)","v":0},{"$f":"SUM(AO34:AR34)","v":0},0,0,0,0,{"$f":"SUM(AT34:AV34)","v":0},0,0,0,0,{"$f":"SUM(AY34:BB34)","v":0},0,0,0,0,{"$f":"組合分担金内訳!E34","v":0},0,0,{"$f":"SUM(AE34,+AM34,+BE34)","v":0},{"$f":"SUM(BH34,+BM34)","v":0},{"$f":"SUM(BI34:BL34)","v":0},0,0,0,0,0,{"$f":"組合分担金内訳!G34","v":0},{"$f":"SUM(BP34,BU34,BY34,BZ34,CF34)","v":0},{"$f":"SUM(BQ34:BT34)","v":0},0,0,0,0,{"$f":"SUM(BV34:BX34)","v":0},0,0,0,0,{"$f":"SUM(CA34:CD34)","v":0},0,0,0,0,{"$f":"組合分担金内訳!H34","v":0},0,0,{"$f":"SUM(BG34,+BO34,+CG34)","v":0},0,0,0,0,0,0,0,0,0,0,0,0,0,0,0,0,0,0,0,0,0,0,0,0,0,0,0,0]
["熊本県","43442","嘉島町",{"$f":"SUM(E35,+L35)","v":0},{"$f":"SUM(F35:I35)+K35","v":0},0,0,0,0,"-",0,0,{"$f":"SUM(N35,+U35)","v":0},{"$f":"SUM(O35:R35)+T35","v":0},0,0,0,0,"-",0,0,0,0,0,0,0,0,"-",0,0,{"$f":"SUM(AF35,+AK35)","v":0},{"$f":"SUM(AG35:AJ35)","v":0},0,0,0,0,0,{"$f":"組合分担金内訳!D35","v":0},{"$f":"SUM(AN35,AS35,AW35,AX35,BD35)","v":0},{"$f":"SUM(AO35:AR35)","v":0},0,0,0,0,{"$f":"SUM(AT35:AV35)","v":0},0,0,0,0,{"$f":"SUM(AY35:BB35)","v":0},0,0,0,0,{"$f":"組合分担金内訳!E35","v":0},0,0,{"$f":"SUM(AE35,+AM35,+BE35)","v":0},{"$f":"SUM(BH35,+BM35)","v":0},{"$f":"SUM(BI35:BL35)","v":0},0,0,0,0,0,{"$f":"組合分担金内訳!G35","v":0},{"$f":"SUM(BP35,BU35,BY35,BZ35,CF35)","v":0},{"$f":"SUM(BQ35:BT35)","v":0},0,0,0,0,{"$f":"SUM(BV35:BX35)","v":0},0,0,0,0,{"$f":"SUM(CA35:CD35)","v":0},0,0,0,0,{"$f":"組合分担金内訳!H35","v":0},0,0,{"$f":"SUM(BG35,+BO35,+CG35)","v":0},0,0,0,0,0,0,0,0,0,0,0,0,0,0,0,0,0,0,0,0,0,0,0,0,0,0,0,0]
["熊本県","43443","益城町",{"$f":"SUM(E36,+L36)","v":0},{"$f":"SUM(F36:I36)+K36","v":0},0,0,0,0,"-",0,0,{"$f":"SUM(N36,+U36)","v":0},{"$f":"SUM(O36:R36)+T36","v":0},0,0,0,0,"-",0,0,0,0,0,0,0,0,"-",0,0,{"$f":"SUM(AF36,+AK36)","v":0},{"$f":"SUM(AG36:AJ36)","v":0},0,0,0,0,0,{"$f":"組合分担金内訳!D36","v":0},{"$f":"SUM(AN36,AS36,AW36,AX36,BD36)","v":0},{"$f":"SUM(AO36:AR36)","v":0},0,0,0,0,{"$f":"SUM(AT36:AV36)","v":0},0,0,0,0,{"$f":"SUM(AY36:BB36)","v":0},0,0,0,0,{"$f":"組合分担金内訳!E36","v":0},0,0,{"$f":"SUM(AE36,+AM36,+BE36)","v":0},{"$f":"SUM(BH36,+BM36)","v":0},{"$f":"SUM(BI36:BL36)","v":0},0,0,0,0,0,{"$f":"組合分担金内訳!G36","v":0},{"$f":"SUM(BP36,BU36,BY36,BZ36,CF36)","v":0},{"$f":"SUM(BQ36:BT36)","v":0},0,0,0,0,{"$f":"SUM(BV36:BX36)","v":0},0,0,0,0,{"$f":"SUM(CA36:CD36)","v":0},0,0,0,0,{"$f":"組合分担金内訳!H36","v":0},0,0,{"$f":"SUM(BG36,+BO36,+CG36)","v":0},0,0,0,0,0,0,0,0,0,0,0,0,0,0,0,0,0,0,0,0,0,0,0,0,0,0,0,0]
["熊本県","43447","山都町",{"$f":"SUM(E37,+L37)","v":0},{"$f":"SUM(F37:I37)+K37","v":0},0,0,0,0,"-",0,0,{"$f":"SUM(N37,+U37)","v":0},{"$f":"SUM(O37:R37)+T37","v":0},0,0,0,0,"-",0,0,0,0,0,0,0,0,"-",0,0,{"$f":"SUM(AF37,+AK37)","v":0},{"$f":"SUM(AG37:AJ37)","v":0},0,0,0,0,0,{"$f":"組合分担金内訳!D37","v":0},{"$f":"SUM(AN37,AS37,AW37,AX37,BD37)","v":0},{"$f":"SUM(AO37:AR37)","v":0},0,0,0,0,{"$f":"SUM(AT37:AV37)","v":0},0,0,0,0,{"$f":"SUM(AY37:BB37)","v":0},0,0,0,0,{"$f":"組合分担金内訳!E37","v":0},0,0,{"$f":"SUM(AE37,+AM37,+BE37)","v":0},{"$f":"SUM(BH37,+BM37)","v":0},{"$f":"SUM(BI37:BL37)","v":0},0,0,0,0,0,{"$f":"組合分担金内訳!G37","v":0},{"$f":"SUM(BP37,BU37,BY37,BZ37,CF37)","v":0},{"$f":"SUM(BQ37:BT37)","v":0},0,0,0,0,{"$f":"SUM(BV37:BX37)","v":0},0,0,0,0,{"$f":"SUM(CA37:CD37)","v":0},0,0,0,0,{"$f":"組合分担金内訳!H37","v":0},0,0,{"$f":"SUM(BG37,+BO37,+CG37)","v":0},0,0,0,0,0,0,0,0,0,0,0,0,0,0,0,0,0,0,0,0,0,0,0,0,0,0,0,0]
["熊本県","43468","氷川町",{"$f":"SUM(E38,+L38)","v":0},{"$f":"SUM(F38:I38)+K38","v":0},0,0,0,0,"-",0,0,{"$f":"SUM(N38,+U38)","v":0},{"$f":"SUM(O38:R38)+T38","v":0},0,0,0,0,"-",0,0,0,0,0,0,0,0,"-",0,0,{"$f":"SUM(AF38,+AK38)","v":0},{"$f":"SUM(AG38:AJ38)","v":0},0,0,0,0,0,{"$f":"組合分担金内訳!D38","v":0},{"$f":"SUM(AN38,AS38,AW38,AX38,BD38)","v":0},{"$f":"SUM(AO38:AR38)","v":0},0,0,0,0,{"$f":"SUM(AT38:AV38)","v":0},0,0,0,0,{"$f":"SUM(AY38:BB38)","v":0},0,0,0,0,{"$f":"組合分担金内訳!E38","v":0},0,0,{"$f":"SUM(AE38,+AM38,+BE38)","v":0},{"$f":"SUM(BH38,+BM38)","v":0},{"$f":"SUM(BI38:BL38)","v":0},0,0,0,0,0,{"$f":"組合分担金内訳!G38","v":0},{"$f":"SUM(BP38,BU38,BY38,BZ38,CF38)","v":0},{"$f":"SUM(BQ38:BT38)","v":0},0,0,0,0,{"$f":"SUM(BV38:BX38)","v":0},0,0,0,0,{"$f":"SUM(CA38:CD38)","v":0},0,0,0,0,{"$f":"組合分担金内訳!H38","v":0},0,0,{"$f":"SUM(BG38,+BO38,+CG38)","v":0},0,0,0,0,0,0,0,0,0,0,0,0,0,0,0,0,0,0,0,0,0,0,0,0,0,0,0,0]
["熊本県","43482","芦北町",{"$f":"SUM(E39,+L39)","v":0},{"$f":"SUM(F39:I39)+K39","v":0},0,0,0,0,"-",0,0,{"$f":"SUM(N39,+U39)","v":0},{"$f":"SUM(O39:R39)+T39","v":0},0,0,0,0,"-",0,0,0,0,0,0,0,0,"-",0,0,{"$f":"SUM(AF39,+AK39)","v":0},{"$f":"SUM(AG39:AJ39)","v":0},0,0,0,0,0,{"$f":"組合分担金内訳!D39","v":0},{"$f":"SUM(AN39,AS39,AW39,AX39,BD39)","v":0},{"$f":"SUM(AO39:AR39)","v":0},0,0,0,0,{"$f":"SUM(AT39:AV39)","v":0},0,0,0,0,{"$f":"SUM(AY39:BB39)","v":0},0,0,0,0,{"$f":"組合分担金内訳!E39","v":0},0,0,{"$f":"SUM(AE39,+AM39,+BE39)","v":0},{"$f":"SUM(BH39,+BM39)","v":0},{"$f":"SUM(BI39:BL39)","v":0},0,0,0,0,0,{"$f":"組合分担金内訳!G39","v":0},{"$f":"SUM(BP39,BU39,BY39,BZ39,CF39)","v":0},{"$f":"SUM(BQ39:BT39)","v":0},0,0,0,0,{"$f":"SUM(BV39:BX39)","v":0},0,0,0,0,{"$f":"SUM(CA39:CD39)","v":0},0,0,0,0,{"$f":"組合分担金内訳!H39","v":0},0,0,{"$f":"SUM(BG39,+BO39,+CG39)","v":0},0,0,0,0,0,0,0,0,0,0,0,0,0,0,0,0,0,0,0,0,0,0,0,0,0,0,0,0]
["熊本県","43501","錦町",{"$f":"SUM(E40,+L40)","v":{"v":26000,"d":"26,000"}},{"$f":"SUM(F40:I40)+K40","v":{"v":26000,"d":"26,000"}},{"v":13000,"d":"13,000"},0,{"v":13000,"d":"13,000"},0,"-",0,0,{"$f":"SUM(N40,+U40)","v":0},{"$f":"SUM(O40:R40)+T40","v":0},0,0,0,0,"-",0,0,{"v":26000,"d":"26,000"},{"v":26000,"d":"26,000"},{"v":13000,"d":"13,000"},0,{"v":13000,"d":"13,000"},0,"-",0,0,{"$f":"SUM(AF40,+AK40)","v":{"v":26000,"d":"26,000"}},{"$f":"SUM(AG40:AJ40)","v":{"v":26000,"d":"26,000"}},0,0,0,{"v":26000,"d":"26,000"},0,{"$f":"組合分担金内訳!D40","v":0},{"$f":"SUM(AN40,AS40,AW40,AX40,BD40)","v":0},{"$f":"SUM(AO40:AR40)","v":0},0,0,0,0,{"$f":"SUM(AT40:AV40)","v":0},0,0,0,0,{"$f":"SUM(AY40:BB40)","v":0},0,0,0,0,{"$f":"組合分担金内訳!E40","v":0},0,0,{"$f":"SUM(AE40,+AM40,+BE40)","v":{"v":26000,"d":"26,000"}},{"$f":"SUM(BH40,+BM40)","v":0},{"$f":"SUM(BI40:BL40)","v":0},0,0,0,0,0,{"$f":"組合分担金内訳!G40","v":0},{"$f":"SUM(BP40,BU40,BY40,BZ40,CF40)","v":0},{"$f":"SUM(BQ40:BT40)","v":0},0,0,0,0,{"$f":"SUM(BV40:BX40)","v":0},0,0,0,0,{"$f":"SUM(CA40:CD40)","v":0},0,0,0,0,{"$f":"組合分担金内訳!H40","v":0},0,0,{"$f":"SUM(BG40,+BO40,+CG40)","v":0},{"v":26000,"d":"26,000"},{"v":26000,"d":"26,000"},0,0,0,{"v":26000,"d":"26,000"},0,0,0,0,0,0,0,0,0,0,0,0,0,0,0,0,0,0,0,0,0,{"v":26000,"d":"26,000"}]
["熊本県","43505","多良木町",{"$f":"SUM(E41,+L41)","v":{"v":2783,"d":"2,783"}},{"$f":"SUM(F41:I41)+K41","v":{"v":1391,"d":"1,391"}},{"v":1391,"d":"1,391"},0,0,0,"-",0,{"v":1392,"d":"1,392"},{"$f":"SUM(N41,+U41)","v":0},{"$f":"SUM(O41:R41)+T41","v":0},0,0,0,0,"-",0,0,{"v":2783,"d":"2,783"},{"v":1391,"d":"1,391"},{"v":1391,"d":"1,391"},0,0,0,"-",0,{"v":1392,"d":"1,392"},{"$f":"SUM(AF41,+AK41)","v":0},{"$f":"SUM(AG41:AJ41)","v":0},0,0,0,0,0,{"$f":"組合分担金内訳!D41","v":0},{"$f":"SUM(AN41,AS41,AW41,AX41,BD41)","v":{"v":2783,"d":"2,783"}},{"$f":"SUM(AO41:AR41)","v":0},0,0,0,0,{"$f":"SUM(AT41:AV41)","v":9},0,9,0,0,{"$f":"SUM(AY41:BB41)","v":{"v":2774,"d":"2,774"}},0,{"v":2774,"d":"2,774"},0,0,{"$f":"組合分担金内訳!E41","v":0},0,0,{"$f":"SUM(AE41,+AM41,+BE41)","v":{"v":2783,"d":"2,783"}},{"$f":"SUM(BH41,+BM41)","v":0},{"$f":"SUM(BI41:BL41)","v":0},0,0,0,0,0,{"$f":"組合分担金内訳!G41","v":0},{"$f":"SUM(BP41,BU41,BY41,BZ41,CF41)","v":0},{"$f":"SUM(BQ41:BT41)","v":0},0,0,0,0,{"$f":"SUM(BV41:BX41)","v":0},0,0,0,0,{"$f":"SUM(CA41:CD41)","v":0},0,0,0,0,{"$f":"組合分担金内訳!H41","v":0},0,0,{"$f":"SUM(BG41,+BO41,+CG41)","v":0},0,0,0,0,0,0,0,0,{"v":2783,"d":"2,783"},0,0,0,0,0,9,0,9,0,0,{"v":2774,"d":"2,774"},0,{"v":2774,"d":"2,774"},0,0,0,0,0,{"v":2783,"d":"2,783"}]
["熊本県","43506","湯前町",{"$f":"SUM(E42,+L42)","v":{"v":1669,"d":"1,669"}},{"$f":"SUM(F42:I42)+K42","v":824},824,0,0,0,"-",0,845,{"$f":"SUM(N42,+U42)","v":0},{"$f":"SUM(O42:R42)+T42","v":0},0,0,0,0,"-",0,0,{"v":1669,"d":"1,669"},824,824,0,0,0,"-",0,845,{"$f":"SUM(AF42,+AK42)","v":{"v":1031,"d":"1,031"}},{"$f":"SUM(AG42:AJ42)","v":{"v":1031,"d":"1,031"}},{"v":1031,"d":"1,031"},0,0,0,0,{"$f":"組合分担金内訳!D42","v":0},{"$f":"SUM(AN42,AS42,AW42,AX42,BD42)","v":638},{"$f":"SUM(AO42:AR42)","v":0},0,0,0,0,{"$f":"SUM(AT42:AV42)","v":20},20,0,0,0,{"$f":"SUM(AY42:BB42)","v":618},618,0,0,0,{"$f":"組合分担金内訳!E42","v":0},0,0,{"$f":"SUM(AE42,+AM42,+BE42)","v":{"v":1669,"d":"1,669"}},{"$f":"SUM(BH42,+BM42)","v":0},{"$f":"SUM(BI42:BL42)","v":0},0,0,0,0,0,{"$f":"組合分担金内訳!G42","v":0},{"$f":"SUM(BP42,BU42,BY42,BZ42,CF42)","v":0},{"$f":"SUM(BQ42:BT42)","v":0},0,0,0,0,{"$f":"SUM(BV42:BX42)","v":0},0,0,0,0,{"$f":"SUM(CA42:CD42)","v":0},0,0,0,0,{"$f":"組合分担金内訳!H42","v":0},0,0,{"$f":"SUM(BG42,+BO42,+CG42)","v":0},{"v":1031,"d":"1,031"},{"v":1031,"d":"1,031"},{"v":1031,"d":"1,031"},0,0,0,0,0,638,0,0,0,0,0,20,20,0,0,0,618,618,0,0,0,0,0,0,{"v":1669,"d":"1,669"}]
["熊本県","43507","水上村",{"$f":"SUM(E43,+L43)","v":0},{"$f":"SUM(F43:I43)+K43","v":0},0,0,0,0,"-",0,0,{"$f":"SUM(N43,+U43)","v":0},{"$f":"SUM(O43:R43)+T43","v":0},0,0,0,0,"-",0,0,0,0,0,0,0,0,"-",0,0,{"$f":"SUM(AF43,+AK43)","v":0},{"$f":"SUM(AG43:AJ43)","v":0},0,0,0,0,0,{"$f":"組合分担金内訳!D43","v":0},{"$f":"SUM(AN43,AS43,AW43,AX43,BD43)","v":0},{"$f":"SUM(AO43:AR43)","v":0},0,0,0,0,{"$f":"SUM(AT43:AV43)","v":0},0,0,0,0,{"$f":"SUM(AY43:BB43)","v":0},0,0,0,0,{"$f":"組合分担金内訳!E43","v":0},0,0,{"$f":"SUM(AE43,+AM43,+BE43)","v":0},{"$f":"SUM(BH43,+BM43)","v":0},{"$f":"SUM(BI43:BL43)","v":0},0,0,0,0,0,{"$f":"組合分担金内訳!G43","v":0},{"$f":"SUM(BP43,BU43,BY43,BZ43,CF43)","v":0},{"$f":"SUM(BQ43:BT43)","v":0},0,0,0,0,{"$f":"SUM(BV43:BX43)","v":0},0,0,0,0,{"$f":"SUM(CA43:CD43)","v":0},0,0,0,0,{"$f":"組合分担金内訳!H43","v":0},0,0,{"$f":"SUM(BG43,+BO43,+CG43)","v":0},0,0,0,0,0,0,0,0,0,0,0,0,0,0,0,0,0,0,0,0,0,0,0,0,0,0,0,0]
["熊本県","43510","相良村",{"$f":"SUM(E44,+L44)","v":0},{"$f":"SUM(F44:I44)+K44","v":0},0,0,0,0,"-",0,0,{"$f":"SUM(N44,+U44)","v":0},{"$f":"SUM(O44:R44)+T44","v":0},0,0,0,0,"-",0,0,0,0,0,0,0,0,"-",0,0,{"$f":"SUM(AF44,+AK44)","v":0},{"$f":"SUM(AG44:AJ44)","v":0},0,0,0,0,0,{"$f":"組合分担金内訳!D44","v":0},{"$f":"SUM(AN44,AS44,AW44,AX44,BD44)","v":0},{"$f":"SUM(AO44:AR44)","v":0},0,0,0,0,{"$f":"SUM(AT44:AV44)","v":0},0,0,0,0,{"$f":"SUM(AY44:BB44)","v":0},0,0,0,0,{"$f":"組合分担金内訳!E44","v":0},0,0,{"$f":"SUM(AE44,+AM44,+BE44)","v":0},{"$f":"SUM(BH44,+BM44)","v":0},{"$f":"SUM(BI44:BL44)","v":0},0,0,0,0,0,{"$f":"組合分担金内訳!G44","v":0},{"$f":"SUM(BP44,BU44,BY44,BZ44,CF44)","v":0},{"$f":"SUM(BQ44:BT44)","v":0},0,0,0,0,{"$f":"SUM(BV44:BX44)","v":0},0,0,0,0,{"$f":"SUM(CA44:CD44)","v":0},0,0,0,0,{"$f":"組合分担金内訳!H44","v":0},0,0,{"$f":"SUM(BG44,+BO44,+CG44)","v":0},0,0,0,0,0,0,0,0,0,0,0,0,0,0,0,0,0,0,0,0,0,0,0,0,0,0,0,0]
["熊本県","43511","五木村",{"$f":"SUM(E45,+L45)","v":618},{"$f":"SUM(F45:I45)+K45","v":309},309,0,0,0,"-",0,309,{"$f":"SUM(N45,+U45)","v":0},{"$f":"SUM(O45:R45)+T45","v":0},0,0,0,0,"-",0,0,618,309,309,0,0,0,"-",0,309,{"$f":"SUM(AF45,+AK45)","v":0},{"$f":"SUM(AG45:AJ45)","v":0},0,0,0,0,0,{"$f":"組合分担金内訳!D45","v":0},{"$f":"SUM(AN45,AS45,AW45,AX45,BD45)","v":618},{"$f":"SUM(AO45:AR45)","v":0},0,0,0,0,{"$f":"SUM(AT45:AV45)","v":0},0,0,0,0,{"$f":"SUM(AY45:BB45)","v":618},0,0,0,618,{"$f":"組合分担金内訳!E45","v":0},0,0,{"$f":"SUM(AE45,+AM45,+BE45)","v":618},{"$f":"SUM(BH45,+BM45)","v":0},{"$f":"SUM(BI45:BL45)","v":0},0,0,0,0,0,{"$f":"組合分担金内訳!G45","v":0},{"$f":"SUM(BP45,BU45,BY45,BZ45,CF45)","v":0},{"$f":"SUM(BQ45:BT45)","v":0},0,0,0,0,{"$f":"SUM(BV45:BX45)","v":0},0,0,0,0,{"$f":"SUM(CA45:CD45)","v":0},0,0,0,0,{"$f":"組合分担金内訳!H45","v":0},0,0,{"$f":"SUM(BG45,+BO45,+CG45)","v":0},0,0,0,0,0,0,0,0,618,0,0,0,0,0,0,0,0,0,0,618,0,0,0,618,0,0,0,618]
["熊本県","43512","山江村",{"$f":"SUM(E46,+L46)","v":0},{"$f":"SUM(F46:I46)+K46","v":0},0,0,0,0,"-",0,0,{"$f":"SUM(N46,+U46)","v":0},{"$f":"SUM(O46:R46)+T46","v":0},0,0,0,0,"-",0,0,0,0,0,0,0,0,"-",0,0,{"$f":"SUM(AF46,+AK46)","v":0},{"$f":"SUM(AG46:AJ46)","v":0},0,0,0,0,0,{"$f":"組合分担金内訳!D46","v":0},{"$f":"SUM(AN46,AS46,AW46,AX46,BD46)","v":0},{"$f":"SUM(AO46:AR46)","v":0},0,0,0,0,{"$f":"SUM(AT46:AV46)","v":0},0,0,0,0,{"$f":"SUM(AY46:BB46)","v":0},0,0,0,0,{"$f":"組合分担金内訳!E46","v":0},0,0,{"$f":"SUM(AE46,+AM46,+BE46)","v":0},{"$f":"SUM(BH46,+BM46)","v":0},{"$f":"SUM(BI46:BL46)","v":0},0,0,0,0,0,{"$f":"組合分担金内訳!G46","v":0},{"$f":"SUM(BP46,BU46,BY46,BZ46,CF46)","v":0},{"$f":"SUM(BQ46:BT46)","v":0},0,0,0,0,{"$f":"SUM(BV46:BX46)","v":0},0,0,0,0,{"$f":"SUM(CA46:CD46)","v":0},0,0,0,0,{"$f":"組合分担金内訳!H46","v":0},0,0,{"$f":"SUM(BG46,+BO46,+CG46)","v":0},0,0,0,0,0,0,0,0,0,0,0,0,0,0,0,0,0,0,0,0,0,0,0,0,0,0,0,0]
["熊本県","43513","球磨村",{"$f":"SUM(E47,+L47)","v":0},{"$f":"SUM(F47:I47)+K47","v":0},0,0,0,0,"-",0,0,{"$f":"SUM(N47,+U47)","v":0},{"$f":"SUM(O47:R47)+T47","v":0},0,0,0,0,"-",0,0,0,0,0,0,0,0,"-",0,0,{"$f":"SUM(AF47,+AK47)","v":0},{"$f":"SUM(AG47:AJ47)","v":0},0,0,0,0,0,{"$f":"組合分担金内訳!D47","v":0},{"$f":"SUM(AN47,AS47,AW47,AX47,BD47)","v":0},{"$f":"SUM(AO47:AR47)","v":0},0,0,0,0,{"$f":"SUM(AT47:AV47)","v":0},0,0,0,0,{"$f":"SUM(AY47:BB47)","v":0},0,0,0,0,{"$f":"組合分担金内訳!E47","v":0},0,0,{"$f":"SUM(AE47,+AM47,+BE47)","v":0},{"$f":"SUM(BH47,+BM47)","v":0},{"$f":"SUM(BI47:BL47)","v":0},0,0,0,0,0,{"$f":"組合分担金内訳!G47","v":0},{"$f":"SUM(BP47,BU47,BY47,BZ47,CF47)","v":0},{"$f":"SUM(BQ47:BT47)","v":0},0,0,0,0,{"$f":"SUM(BV47:BX47)","v":0},0,0,0,0,{"$f":"SUM(CA47:CD47)","v":0},0,0,0,0,{"$f":"組合分担金内訳!H47","v":0},0,0,{"$f":"SUM(BG47,+BO47,+CG47)","v":0},0,0,0,0,0,0,0,0,0,0,0,0,0,0,0,0,0,0,0,0,0,0,0,0,0,0,0,0]
["熊本県","43531","苓北町",{"$f":"SUM(E48,+L48)","v":0},{"$f":"SUM(F48:I48)+K48","v":0},0,0,0,0,"-",0,0,{"$f":"SUM(N48,+U48)","v":0},{"$f":"SUM(O48:R48)+T48","v":0},0,0,0,0,"-",0,0,0,0,0,0,0,0,"-",0,0,{"$f":"SUM(AF48,+AK48)","v":0},{"$f":"SUM(AG48:AJ48)","v":0},0,0,0,0,0,{"$f":"組合分担金内訳!D48","v":0},{"$f":"SUM(AN48,AS48,AW48,AX48,BD48)","v":0},{"$f":"SUM(AO48:AR48)","v":0},0,0,0,0,{"$f":"SUM(AT48:AV48)","v":0},0,0,0,0,{"$f":"SUM(AY48:BB48)","v":0},0,0,0,0,{"$f":"組合分担金内訳!E48","v":0},0,0,{"$f":"SUM(AE48,+AM48,+BE48)","v":0},{"$f":"SUM(BH48,+BM48)","v":0},{"$f":"SUM(BI48:BL48)","v":0},0,0,0,0,0,{"$f":"組合分担金内訳!G48","v":0},{"$f":"SUM(BP48,BU48,BY48,BZ48,CF48)","v":0},{"$f":"SUM(BQ48:BT48)","v":0},0,0,0,0,{"$f":"SUM(BV48:BX48)","v":0},0,0,0,0,{"$f":"SUM(CA48:CD48)","v":0},0,0,0,0,{"$f":"組合分担金内訳!H48","v":0},0,0,{"$f":"SUM(BG48,+BO48,+CG48)","v":0},0,0,0,0,0,0,0,0,0,0,0,0,0,0,0,0,0,0,0,0,0,0,0,0,0,0,0,0]
[null,""]
[null,""]
[null,""]
[null,""]
[null,""]
[null,""]
[null,""]
[null,""]
[null,""]
[null,""]
[null,""]
[null,""]

{"sheet":"災害廃棄物事業経費（組合）","index":1,"n_rows":19,"n_cols":114,"rows_kept":19,"merged":[[1,0,5,0],[1,1,5,1],[1,2,5,2],[3,37,4,37],[3,65,4,65],[3,93,4,93]]}
["【災害】廃棄物処理事業経費（一部事務組合・広域連合の合計）（令和4年度実績）"]
["都道府県名","地方公共団体コード","一部事務組合・広域連合名","ごみ",{"$nulls":8},"し尿",{"$nulls":8},"合計",{"$nulls":8},"ごみ（建設改良費＋処理維持管理費＋その他）（組合分担金を除く）",{"$nulls":27},"し尿（建設改良費＋処理維持管理費＋その他）（組合分担金を除く）",{"$nulls":27},"合計（建設改良費＋処理維持管理費＋その他）（組合分担金を除く）"]
[{"$nulls":3},"合計 (特定財源(市区町村分担金を除く)+一般財源)",{"$nulls":8},"合計 (特定財源(市区町村分担金を除く)+一般財源)",{"$nulls":8},"合計 (特定財源(市区町村分担金を除く)+一般財源)",{"$nulls":8},"建設改良費 (工事費+調査費)(組合分担金を除く)",{"$nulls":7},"処理及び維持管理費 (人件費+処理費+車両購入費+委託費+調査研究費)(組合分担金を除く)",{"$nulls":17},"その他","合計","建設改良費 (工事費+調査費)(組合分担金を除く)",{"$nulls":7},"処理及び維持管理費 (人件費+処理費+車両購入費+委託費+調査研究費)(組合分担金を除く)",{"$nulls":17},"その他","合計","建設改良費 (工事費+調査費)(組合分担金を除く)",{"$nulls":7},"処理及び維持管理費 (人件費+処理費+車両購入費+委託費+調査研究費)(組合分担金を除く)",{"$nulls":17},"その他","合計"]
[{"$nulls":4},"特定財源 (市区町村分担金を除く)",{"$nulls":6},"一般財源",null,"特定財源 (市区町村分担金を除く)",{"$nulls":6},"一般財源",null,"特定財源 (市区町村分担金を除く)",{"$nulls":6},"一般財源","合計","工事費 (収集運搬施設+中間処理施設+最終処分場+その他)",{"$nulls":4},"調査費","（建設改良費組合分担金）","合計","人件費（一般職＋収集運搬＋中間処理＋最終処分）",{"$nulls":4},"処理費 (収集運搬費+中間処理費+最終処分費)",{"$nulls":3},"車両等購入費","委託費 (収集運搬費+中間処理費+最終処分費+その他)",{"$nulls":4},"(組合分担金)","調査研究費",null,null,"合計","工事費 (収集運搬施設+中間処理施設+最終処分場+その他)",{"$nulls":4},"調査費","（建設改良費組合分担金）","合計","人件費（一般職＋収集運搬＋中間処理＋最終処分）",{"$nulls":4},"処理費 (収集運搬費+中間処理費+最終処分費)",{"$nulls":3},"車両等購入費","委託費 (収集運搬費+中間処理費+最終処分費+その他)",{"$nulls":4},"(組合分担金)","調査研究費",null,null,"合計","工事費 (収集運搬施設+中間処理施設+最終処分場+その他)",{"$nulls":4},"調査費","（建設改良費組合分担金）","合計","人件費（一般職＋収集運搬＋中間処理＋最終処分）",{"$nulls":4},"処理費 (収集運搬費+中間処理費+最終処分費)",{"$nulls":3},"車両等購入費","委託費 (収集運搬費+中間処理費+最終処分費+その他)",{"$nulls":4},"(組合分担金)","調査研究費"]
[{"$nulls":4},"合計","国庫支出金","都道府県\n支出金","地方債","使用料及び\n手数料","（市区町村\n分担金）","その他",null,null,"合計","国庫支出金","都道府県\n支出金","地方債","使用料及び\n手数料","（市区町村\n分担金）","その他",null,null,"合計","国庫支出金","都道府県\n支出金","地方債","使用料及び\n手数料","（市区町村\n分担金）","その他",null,null,"合計","収集運搬施設","中間処理施設","最終処分場","その他",{"$nulls":3},"合計","一般職","収集運搬","中間処理","最終処分","合計","収集運搬費","中間処理費","最終処分費",null,"合計","収集運搬費","中間処理費","最終処分費","その他",{"$nulls":5},"合計","収集運搬施設","中間処理施設","最終処分場","その他",{"$nulls":3},"合計","一般職","収集運搬","中間処理","最終処分","合計","収集運搬費","中間処理費","最終処分費",null,"合計","収集運搬費","中間処理費","最終処分費","その他",{"$nulls":5},"合計","収集運搬施設","中間処理施設","最終処分場","その他",{"$nulls":3},"合計","一般職","収集運搬","中間処理","最終処分","合計","収集運搬費","中間処理費","最終処分費",null,"合計","収集運搬費","中間処理費","最終処分費","その他"]
[{"$nulls":3},"（千円）","（千円）","（千円）","（千円）","（千円）","（千円）","（千円）","（千円）","（千円）","（千円）","（千円）","（千円）","（千円）","（千円）","（千円）","（千円）","（千円）","（千円）","（千円）","（千円）","（千円）","（千円）","（千円）","（千円）","（千円）","（千円）","（千円）","（千円）","（千円）","（千円）","（千円）","（千円）","（千円）","（千円）","（千円）","（千円）","（千円）","（千円）","（千円）","（千円）","（千円）","（千円）","（千円）","（千円）","（千円）","（千円）","（千円）","（千円）","（千円）","（千円）","（千円）","（千円）","（千円）","（千円）","（千円）","（千円）","（千円）","（千円）","（千円）","（千円）","（千円）","（千円）","（千円）","（千円）","（千円）","（千円）","（千円）","（千円）","（千円）","（千円）","（千円）","（千円）","（千円）","（千円）","（千円）","（千円）","（千円）","（千円）","（千円）","（千円）","（千円）","（千円）","（千円）","（千円）","（千円）","（千円）","（千円）","（千円）","（千円）","（千円）","（千円）","（千円）","（千円）","（千円）","（千円）","（千円）","（千円）","（千円）","（千円）","（千円）","（千円）","（千円）","（千円）","（千円）","（千円）","（千円）","（千円）","（千円）","（千円）","（千円）","（千円）"]
["熊本県","43000","合計",{"$f":"SUM($D$8:$D$19)","v":0},{"$f":"SUM($E$8:$E$19)","v":0},{"$f":"SUM($F$8:$F$19)","v":0},{"$f":"SUM($G$8:$G$19)","v":0},{"$f":"SUM($H$8:$H$19)","v":0},{"$f":"SUM($I$8:$I$19)","v":0},{"$f":"SUM($J$8:$J$19)","v":0},{"$f":"SUM($K$8:$K$19)","v":0},{"$f":"SUM($L$8:$L$19)","v":0},{"$f":"SUM($M$8:$M$19)","v":0},{"$f":"SUM($N$8:$N$19)","v":0},{"$f":"SUM($O$8:$O$19)","v":0},{"$f":"SUM($P$8:$P$19)","v":0},{"$f":"SUM($Q$8:$Q$19)","v":0},{"$f":"SUM($R$8:$R$19)","v":0},{"$f":"SUM($S$8:$S$19)","v":0},{"$f":"SUM($T$8:$T$19)","v":0},{"$f":"SUM($U$8:$U$19)","v":0},{"$f":"SUM($V$8:$V$19)","v":0},{"$f":"SUM($W$8:$W$19)","v":0},{"$f":"SUM($X$8:$X$19)","v":0},{"$f":"SUM($Y$8:$Y$19)","v":0},{"$f":"SUM($Z$8:$Z$19)","v":0},{"$f":"SUM($AA$8:$AA$19)","v":0},{"$f":"SUM($AB$8:$AB$19)","v":0},{"$f":"SUM($AC$8:$AC$19)","v":0},{"$f":"SUM($AD$8:$AD$19)","v":0},{"$f":"SUM($AE$8:$AE$19)","v":0},{"$f":"SUM($AF$8:$AF$19)","v":0},{"$f":"SUM($AG$8:$AG$19)","v":0},{"$f":"SUM($AH$8:$AH$19)","v":0},{"$f":"SUM($AI$8:$AI$19)","v":0},{"$f":"SUM($AJ$8:$AJ$19)","v":0},{"$f":"SUM($AK$8:$AK$19)","v":0},"-",{"$f":"SUM($AM$8:$AM$19)","v":0},{"$f":"SUM($AN$8:$AN$19)","v":0},{"$f":"SUM($AO$8:$AO$19)","v":0},{"$f":"SUM($AP$8:$AP$19)","v":0},{"$f":"SUM($AQ$8:$AQ$19)","v":0},{"$f":"SUM($AR$8:$AR$19)","v":0},{"$f":"SUM($AS$8:$AS$19)","v":0},{"$f":"SUM($AT$8:$AT$19)","v":0},{"$f":"SUM($AU$8:$AU$19)","v":0},{"$f":"SUM($AV$8:$AV$19)","v":0},{"$f":"SUM($AW$8:$AW$19)","v":0},{"$f":"SUM($AX$8:$AX$19)","v":0},{"$f":"SUM($AY$8:$AY$19)","v":0},{"$f":"SUM($AZ$8:$AZ$19)","v":0},{"$f":"SUM($BA$8:$BA$19)","v":0},{"$f":"SUM($BB$8:$BB$19)","v":0},"-",{"$f":"SUM($BD$8:$BD$19)","v":0},{"$f":"SUM($BE$8:$BE$19)","v":0},{"$f":"SUM($BF$8:$BF$19)","v":0},{"$f":"SUM($BG$8:$BG$19)","v":0},{"$f":"SUM($BH$8:$BH$19)","v":0},{"$f":"SUM($BI$8:$BI$19)","v":0},{"$f":"SUM($BJ$8:$BJ$19)","v":0},{"$f":"SUM($BK$8:$BK$19)","v":0},{"$f":"SUM($BL$8:$BL$19)","v":0},{"$f":"SUM($BM$8:$BM$19)","v":0},"-",{"$f":"SUM($BO$8:$BO$19)","v":0},{"$f":"SUM($BP$8:$BP$19)","v":0},{"$f":"SUM($BQ$8:$BQ$19)","v":0},{"$f":"SUM($BR$8:$BR$19)","v":0},{"$f":"SUM($BS$8:$BS$19)","v":0},{"$f":"SUM($BT$8:$BT$19)","v":0},{"$f":"SUM($BU$8:$BU$19)","v":0},{"$f":"SUM($BV$8:$BV$19)","v":0},{"$f":"SUM($BW$8:$BW$19)","v":0},{"$f":"SUM($BX$8:$BX$19)","v":0},{"$f":"SUM($BY$8:$BY$19)","v":0},{"$f":"SUM($BZ$8:$BZ$19)","v":0},{"$f":"SUM($CA$8:$CA$19)","v":0},{"$f":"SUM($CB$8:$CB$19)","v":0},{"$f":"SUM($CC$8:$CC$19)","v":0},{"$f":"SUM($CD$8:$CD$19)","v":0},"-",{"$f":"SUM($CF$8:$CF$19)","v":0},{"$f":"SUM($CG$8:$CG$19)","v":0},{"$f":"SUM($CH$8:$CH$19)","v":0},{"$f":"SUM($CI$8:$CI$19)","v":0},{"$f":"SUM($CJ$8:$CJ$19)","v":0},{"$f":"SUM($CK$8:$CK$19)","v":0},{"$f":"SUM($CL$8:$CL$19)","v":0},{"$f":"SUM($CM$8:$CM$19)","v":0},{"$f":"SUM($CN$8:$CN$19)","v":0},{"$f":"SUM($CO$8:$CO$19)","v":0},"-",{"$f":"SUM($CQ$8:$CQ$19)","v":0},{"$f":"SUM($CR$8:$CR$19)","v":0},{"$f":"SUM($CS$8:$CS$19)","v":0},{"$f":"SUM($CT$8:$CT$19)","v":0},{"$f":"SUM($CU$8:$CU$19)","v":0},{"$f":"SUM($CV$8:$CV$19)","v":0},{"$f":"SUM($CW$8:$CW$19)","v":0},{"$f":"SUM($CX$8:$CX$19)","v":0},{"$f":"SUM($CY$8:$CY$19)","v":0},{"$f":"SUM($CZ$8:$CZ$19)","v":0},{"$f":"SUM($DA$8:$DA$19)","v":0},{"$f":"SUM($DB$8:$DB$19)","v":0},{"$f":"SUM($DC$8:$DC$19)","v":0},{"$f":"SUM($DD$8:$DD$19)","v":0},{"$f":"SUM($DE$8:$DE$19)","v":0},{"$f":"SUM($DF$8:$DF$19)","v":0},"-",{"$f":"SUM($DH$8:$DH$19)","v":0},{"$f":"SUM($DI$8:$DI$19)","v":0},{"$f":"SUM($DJ$8:$DJ$19)","v":0}]
["熊本県","43854","菊池環境保全組合",{"$f":"SUM(E8,+L8)","v":0},{"$f":"SUM(F8:I8)+K8","v":0},0,0,0,0,{"$f":"市町村分担金内訳!D8","v":0},0,0,{"$f":"SUM(N8,+U8)","v":0},{"$f":"SUM(O8:R8)+T8","v":0},0,0,0,0,{"$f":"市町村分担金内訳!E8","v":0},0,0,0,0,0,0,0,0,{"$f":"SUM(J8,S8)","v":0},0,0,{"$f":"SUM(AF8,+AK8)","v":0},{"$f":"SUM(AG8:AJ8)","v":0},0,0,0,0,0,"-",{"$f":"SUM(AN8,AS8,AW8,AX8,BD8)","v":0},{"$f":"SUM(AO8:AR8)","v":0},0,0,0,0,{"$f":"SUM(AT8:AV8)","v":0},0,0,0,0,{"$f":"SUM(AY8:BB8)","v":0},0,0,0,0,"-",0,0,{"$f":"SUM(AE8,+AM8,+BE8)","v":0},{"$f":"SUM(BH8,+BM8)","v":0},{"$f":"SUM(BI8:BL8)","v":0},0,0,0,0,0,"-",{"$f":"SUM(BP8,BU8,BY8,BZ8,CF8)","v":0},{"$f":"SUM(BQ8:BT8)","v":0},0,0,0,0,{"$f":"SUM(BV8:BX8)","v":0},0,0,0,0,{"$f":"SUM(CA8:CD8)","v":0},0,0,0,0,"-",0,0,{"$f":"SUM(BG8,+BO8,+CG8)","v":0},{"$f":"SUM(AE8,+BG8)","v":0},{"$f":"SUM(AF8,+BH8)","v":0},{"$f":"SUM(AG8,+BI8)","v":0},{"$f":"SUM(AH8,+BJ8)","v":0},{"$f":"SUM(AI8,+BK8)","v":0},{"$f":"SUM(AJ8,+BL8)","v":0},{"$f":"SUM(AK8,+BM8)","v":0},"-",{"$f":"SUM(AM8,+BO8)","v":0},{"$f":"SUM(AN8,+BP8)","v":0},{"$f":"SUM(AO8,+BQ8)","v":0},{"$f":"SUM(AP8,+BR8)","v":0},{"$f":"SUM(AQ8,+BS8)","v":0},{"$f":"SUM(AR8,+BT8)","v":0},{"$f":"SUM(AS8,+BU8)","v":0},{"$f":"SUM(AT8,+BV8)","v":0},{"$f":"SUM(AU8,+BW8)","v":0},{"$f":"SUM(AV8,+BX8)","v":0},{"$f":"SUM(AW8,+BY8)","v":0},{"$f":"SUM(AX8,+BZ8)","v":0},{"$f":"SUM(AY8,+CA8)","v":0},{"$f":"SUM(AZ8,+CB8)","v":0},{"$f":"SUM(BA8,+CC8)","v":0},{"$f":"SUM(BB8,+CD8)","v":0},"-",{"$f":"SUM(BD8,+CF8)","v":0},{"$f":"SUM(BE8,+CG8)","v":0},{"$f":"SUM(BF8,+CH8)","v":0}]
["熊本県","43857","御船地区衛生施設組合",{"$f":"SUM(E9,+L9)","v":0},{"$f":"SUM(F9:I9)+K9","v":0},0,0,0,0,{"$f":"市町村分担金内訳!D9","v":0},0,0,{"$f":"SUM(N9,+U9)","v":0},{"$f":"SUM(O9:R9)+T9","v":0},0,0,0,0,{"$f":"市町村分担金内訳!E9","v":0},0,0,0,0,0,0,0,0,{"$f":"SUM(J9,S9)","v":0},0,0,{"$f":"SUM(AF9,+AK9)","v":0},{"$f":"SUM(AG9:AJ9)","v":0},0,0,0,0,0,"-",{"$f":"SUM(AN9,AS9,AW9,AX9,BD9)","v":0},{"$f":"SUM(AO9:AR9)","v":0},0,0,0,0,{"$f":"SUM(AT9:AV9)","v":0},0,0,0,0,{"$f":"SUM(AY9:BB9)","v":0},0,0,0,0,"-",0,0,{"$f":"SUM(AE9,+AM9,+BE9)","v":0},{"$f":"SUM(BH9,+BM9)","v":0},{"$f":"SUM(BI9:BL9)","v":0},0,0,0,0,0,"-",{"$f":"SUM(BP9,BU9,BY9,BZ9,CF9)","v":0},{"$f":"SUM(BQ9:BT9)","v":0},0,0,0,0,{"$f":"SUM(BV9:BX9)","v":0},0,0,0,0,{"$f":"SUM(CA9:CD9)","v":0},0,0,0,0,"-",0,0,{"$f":"SUM(BG9,+BO9,+CG9)","v":0},0,0,0,0,0,0,0,"-",0,0,0,0,0,0,0,0,0,0,0,0,0,0,0,0,"-",0,0,0]
["熊本県","43935","上天草衛生施設組合",{"$f":"SUM(E10,+L10)","v":0},{"$f":"SUM(F10:I10)+K10","v":0},0,0,0,0,{"$f":"市町村分担金内訳!D10","v":0},0,0,{"$f":"SUM(N10,+U10)","v":0},{"$f":"SUM(O10:R10)+T10","v":0},0,0,0,0,{"$f":"市町村分担金内訳!E10","v":0},0,0,0,0,0,0,0,0,{"$f":"SUM(J10,S10)","v":0},0,0,{"$f":"SUM(AF10,+AK10)","v":0},{"$f":"SUM(AG10:AJ10)","v":0},0,0,0,0,0,"-",{"$f":"SUM(AN10,AS10,AW10,AX10,BD10)","v":0},{"$f":"SUM(AO10:AR10)","v":0},0,0,0,0,{"$f":"SUM(AT10:AV10)","v":0},0,0,0,0,{"$f":"SUM(AY10:BB10)","v":0},0,0,0,0,"-",0,0,{"$f":"SUM(AE10,+AM10,+BE10)","v":0},{"$f":"SUM(BH10,+BM10)","v":0},{"$f":"SUM(BI10:BL10)","v":0},0,0,0,0,0,"-",{"$f":"SUM(BP10,BU10,BY10,BZ10,CF10)","v":0},{"$f":"SUM(BQ10:BT10)","v":0},0,0,0,0,{"$f":"SUM(BV10:BX10)","v":0},0,0,0,0,{"$f":"SUM(CA10:CD10)","v":0},0,0,0,0,"-",0,0,{"$f":"SUM(BG10,+BO10,+CG10)","v":0},0,0,0,0,0,0,0,"-",0,0,0,0,0,0,0,0,0,0,0,0,0,0,0,0,"-",0,0,0]
["熊本県","43949","益城、嘉島、西原環境衛生施設組合",{"$f":"SUM(E11,+L11)","v":0},{"$f":"SUM(F11:I11)+K11","v":0},0,0,0,0,{"$f":"市町村分担金内訳!D11","v":0},0,0,{"$f":"SUM(N11,+U11)","v":0},{"$f":"SUM(O11:R11)+T11","v":0},0,0,0,0,{"$f":"市町村分担金内訳!E11","v":0},0,0,0,0,0,0,0,0,{"$f":"SUM(J11,S11)","v":0},0,0,{"$f":"SUM(AF11,+AK11)","v":0},{"$f":"SUM(AG11:AJ11)","v":0},0,0,0,0,0,"-",{"$f":"SUM(AN11,AS11,AW11,AX11,BD11)","v":0},{"$f":"SUM(AO11:AR11)","v":0},0,0,0,0,{"$f":"SUM(AT11:AV11)","v":0},0,0,0,0,{"$f":"SUM(AY11:BB11)","v":0},0,0,0,0,"-",0,0,{"$f":"SUM(AE11,+AM11,+BE11)","v":0},{"$f":"SUM(BH11,+BM11)","v":0},{"$f":"SUM(BI11:BL11)","v":0},0,0,0,0,0,"-",{"$f":"SUM(BP11,BU11,BY11,BZ11,CF11)","v":0},{"$f":"SUM(BQ11:BT11)","v":0},0,0,0,0,{"$f":"SUM(BV11:BX11)","v":0},0,0,0,0,{"$f":"SUM(CA11:CD11)","v":0},0,0,0,0,"-",0,0,{"$f":"SUM(BG11,+BO11,+CG11)","v":0},0,0,0,0,0,0,0,"-",0,0,0,0,0,0,0,0,0,0,0,0,0,0,0,0,"-",0,0,0]
["熊本県","43954","山鹿植木広域行政事務組合",{"$f":"SUM(E12,+L12)","v":0},{"$f":"SUM(F12:I12)+K12","v":0},0,0,0,0,{"$f":"市町村分担金内訳!D12","v":0},0,0,{"$f":"SUM(N12,+U12)","v":0},{"$f":"SUM(O12:R12)+T12","v":0},0,0,0,0,{"$f":"市町村分担金内訳!E12","v":0},0,0,0,0,0,0,0,0,{"$f":"SUM(J12,S12)","v":0},0,0,{"$f":"SUM(AF12,+AK12)","v":0},{"$f":"SUM(AG12:AJ12)","v":0},0,0,0,0,0,"-",{"$f":"SUM(AN12,AS12,AW12,AX12,BD12)","v":0},{"$f":"SUM(AO12:AR12)","v":0},0,0,0,0,{"$f":"SUM(AT12:AV12)","v":0},0,0,0,0,{"$f":"SUM(AY12:BB12)","v":0},0,0,0,0,"-",0,0,{"$f":"SUM(AE12,+AM12,+BE12)","v":0},{"$f":"SUM(BH12,+BM12)","v":0},{"$f":"SUM(BI12:BL12)","v":0},0,0,0,0,0,"-",{"$f":"SUM(BP12,BU12,BY12,BZ12,CF12)","v":0},{"$f":"SUM(BQ12:BT12)","v":0},0,0,0,0,{"$f":"SUM(BV12:BX12)","v":0},0,0,0,0,{"$f":"SUM(CA12:CD12)","v":0},0,0,0,0,"-",0,0,{"$f":"SUM(BG12,+BO12,+CG12)","v":0},0,0,0,0,0,0,0,"-",0,0,0,0,0,0,0,0,0,0,0,0,0,0,0,0,"-",0,0,0]
["熊本県","43974","八代生活環境事務組合",{"$f":"SUM(E13,+L13)","v":0},{"$f":"SUM(F13:I13)+K13","v":0},0,0,0,0,{"$f":"市町村分担金内訳!D13","v":0},0,0,{"$f":"SUM(N13,+U13)","v":0},{"$f":"SUM(O13:R13)+T13","v":0},0,0,0,0,{"$f":"市町村分担金内訳!E13","v":0},0,0,0,0,0,0,0,0,{"$f":"SUM(J13,S13)","v":0},0,0,{"$f":"SUM(AF13,+AK13)","v":0},{"$f":"SUM(AG13:AJ13)","v":0},0,0,0,0,0,"-",{"$f":"SUM(AN13,AS13,AW13,AX13,BD13)","v":0},{"$f":"SUM(AO13:AR13)","v":0},0,0,0,0,{"$f":"SUM(AT13:AV13)","v":0},0,0,0,0,{"$f":"SUM(AY13:BB13)","v":0},0,0,0,0,"-",0,0,{"$f":"SUM(AE13,+AM13,+BE13)","v":0},{"$f":"SUM(BH13,+BM13)","v":0},{"$f":"SUM(BI13:BL13)","v":0},0,0,0,0,0,"-",{"$f":"SUM(BP13,BU13,BY13,BZ13,CF13)","v":0},{"$f":"SUM(BQ13:BT13)","v":0},0,0,0,0,{"$f":"SUM(BV13:BX13)","v":0},0,0,0,0,{"$f":"SUM(CA13:CD13)","v":0},0,0,0,0,"-",0,0,{"$f":"SUM(BG13,+BO13,+CG13)","v":0},0,0,0,0,0,0,0,"-",0,0,0,0,0,0,0,0,0,0,0,0,0,0,0,0,"-",0,0,0]
["熊本県","43985","阿蘇広域行政事務組合",{"$f":"SUM(E14,+L14)","v":0},{"$f":"SUM(F14:I14)+K14","v":0},0,0,0,0,{"$f":"市町村分担金内訳!D14","v":0},0,0,{"$f":"SUM(N14,+U14)","v":0},{"$f":"SUM(O14:R14)+T14","v":0},0,0,0,0,{"$f":"市町村分担金内訳!E14","v":0},0,0,0,0,0,0,0,0,{"$f":"SUM(J14,S14)","v":0},0,0,{"$f":"SUM(AF14,+AK14)","v":0},{"$f":"SUM(AG14:AJ14)","v":0},0,0,0,0,0,"-",{"$f":"SUM(AN14,AS14,AW14,AX14,BD14)","v":0},{"$f":"SUM(AO14:AR14)","v":0},0,0,0,0,{"$f":"SUM(AT14:AV14)","v":0},0,0,0,0,{"$f":"SUM(AY14:BB14)","v":0},0,0,0,0,"-",0,0,{"$f":"SUM(AE14,+AM14,+BE14)","v":0},{"$f":"SUM(BH14,+BM14)","v":0},{"$f":"SUM(BI14:BL14)","v":0},0,0,0,0,0,"-",{"$f":"SUM(BP14,BU14,BY14,BZ14,CF14)","v":0},{"$f":"SUM(BQ14:BT14)","v":0},0,0,0,0,{"$f":"SUM(BV14:BX14)","v":0},0,0,0,0,{"$f":"SUM(CA14:CD14)","v":0},0,0,0,0,"-",0,0,{"$f":"SUM(BG14,+BO14,+CG14)","v":0},0,0,0,0,0,0,0,"-",0,0,0,0,0,0,0,0,0,0,0,0,0,0,0,0,"-",0,0,0]
["熊本県","43986","人吉球磨広域行政組合",{"$f":"SUM(E15,+L15)","v":0},{"$f":"SUM(F15:I15)+K15","v":0},0,0,0,0,{"$f":"市町村分担金内訳!D15","v":0},0,0,{"$f":"SUM(N15,+U15)","v":0},{"$f":"SUM(O15:R15)+T15","v":0},0,0,0,0,{"$f":"市町村分担金内訳!E15","v":0},0,0,0,0,0,0,0,0,{"$f":"SUM(J15,S15)","v":0},0,0,{"$f":"SUM(AF15,+AK15)","v":0},{"$f":"SUM(AG15:AJ15)","v":0},0,0,0,0,0,"-",{"$f":"SUM(AN15,AS15,AW15,AX15,BD15)","v":0},{"$f":"SUM(AO15:AR15)","v":0},0,0,0,0,{"$f":"SUM(AT15:AV15)","v":0},0,0,0,0,{"$f":"SUM(AY15:BB15)","v":0},0,0,0,0,"-",0,0,{"$f":"SUM(AE15,+AM15,+BE15)","v":0},{"$f":"SUM(BH15,+BM15)","v":0},{"$f":"SUM(BI15:BL15)","v":0},0,0,0,0,0,"-",{"$f":"SUM(BP15,BU15,BY15,BZ15,CF15)","v":0},{"$f":"SUM(BQ15:BT15)","v":0},0,0,0,0,{"$f":"SUM(BV15:BX15)","v":0},0,0,0,0,{"$f":"SUM(CA15:CD15)","v":0},0,0,0,0,"-",0,0,{"$f":"SUM(BG15,+BO15,+CG15)","v":0},0,0,0,0,0,0,0,"-",0,0,0,0,0,0,0,0,0,0,0,0,0,0,0,0,"-",0,0,0]
["熊本県","43991","有明広域行政事務組合",{"$f":"SUM(E16,+L16)","v":0},{"$f":"SUM(F16:I16)+K16","v":0},0,0,0,0,{"$f":"市町村分担金内訳!D16","v":0},0,0,{"$f":"SUM(N16,+U16)","v":0},{"$f":"SUM(O16:R16)+T16","v":0},0,0,0,0,{"$f":"市町村分担金内訳!E16","v":0},0,0,0,0,0,0,0,0,{"$f":"SUM(J16,S16)","v":0},0,0,{"$f":"SUM(AF16,+AK16)","v":0},{"$f":"SUM(AG16:AJ16)","v":0},0,0,0,0,0,"-",{"$f":"SUM(AN16,AS16,AW16,AX16,BD16)","v":0},{"$f":"SUM(AO16:AR16)","v":0},0,0,0,0,{"$f":"SUM(AT16:AV16)","v":0},0,0,0,0,{"$f":"SUM(AY16:BB16)","v":0},0,0,0,0,"-",0,0,{"$f":"SUM(AE16,+AM16,+BE16)","v":0},{"$f":"SUM(BH16,+BM16)","v":0},{"$f":"SUM(BI16:BL16)","v":0},0,0,0,0,0,"-",{"$f":"SUM(BP16,BU16,BY16,BZ16,CF16)","v":0},{"$f":"SUM(BQ16:BT16)","v":0},0,0,0,0,{"$f":"SUM(BV16:BX16)","v":0},0,0,0,0,{"$f":"SUM(CA16:CD16)","v":0},0,0,0,0,"-",0,0,{"$f":"SUM(BG16,+BO16,+CG16)","v":0},0,0,0,0,0,0,0,"-",0,0,0,0,0,0,0,0,0,0,0,0,0,0,0,0,"-",0,0,0]
["熊本県","43993","水俣芦北広域行政事務組合",{"$f":"SUM(E17,+L17)","v":0},{"$f":"SUM(F17:I17)+K17","v":0},0,0,0,0,{"$f":"市町村分担金内訳!D17","v":0},0,0,{"$f":"SUM(N17,+U17)","v":0},{"$f":"SUM(O17:R17)+T17","v":0},0,0,0,0,{"$f":"市町村分担金内訳!E17","v":0},0,0,0,0,0,0,0,0,{"$f":"SUM(J17,S17)","v":0},0,0,{"$f":"SUM(AF17,+AK17)","v":0},{"$f":"SUM(AG17:AJ17)","v":0},0,0,0,0,0,"-",{"$f":"SUM(AN17,AS17,AW17,AX17,BD17)","v":0},{"$f":"SUM(AO17:AR17)","v":0},0,0,0,0,{"$f":"SUM(AT17:AV17)","v":0},0,0,0,0,{"$f":"SUM(AY17:BB17)","v":0},0,0,0,0,"-",0,0,{"$f":"SUM(AE17,+AM17,+BE17)","v":0},{"$f":"SUM(BH17,+BM17)","v":0},{"$f":"SUM(BI17:BL17)","v":0},0,0,0,0,0,"-",{"$f":"SUM(BP17,BU17,BY17,BZ17,CF17)","v":0},{"$f":"SUM(BQ17:BT17)","v":0},0,0,0,0,{"$f":"SUM(BV17:BX17)","v":0},0,0,0,0,{"$f":"SUM(CA17:CD17)","v":0},0,0,0,0,"-",0,0,{"$f":"SUM(BG17,+BO17,+CG17)","v":0},0,0,0,0,0,0,0,"-",0,0,0,0,0,0,0,0,0,0,0,0,0,0,0,0,"-",0,0,0]
["熊本県","43995","宇城広域連合",{"$f":"SUM(E18,+L18)","v":0},{"$f":"SUM(F18:I18)+K18","v":0},0,0,0,0,{"$f":"市町村分担金内訳!D18","v":0},0,0,{"$f":"SUM(N18,+U18)","v":0},{"$f":"SUM(O18:R18)+T18","v":0},0,0,0,0,{"$f":"市町村分担金内訳!E18","v":0},0,0,0,0,0,0,0,0,{"$f":"SUM(J18,S18)","v":0},0,0,{"$f":"SUM(AF18,+AK18)","v":0},{"$f":"SUM(AG18:AJ18)","v":0},0,0,0,0,0,"-",{"$f":"SUM(AN18,AS18,AW18,AX18,BD18)","v":0},{"$f":"SUM(AO18:AR18)","v":0},0,0,0,0,{"$f":"SUM(AT18:AV18)","v":0},0,0,0,0,{"$f":"SUM(AY18:BB18)","v":0},0,0,0,0,"-",0,0,{"$f":"SUM(AE18,+AM18,+BE18)","v":0},{"$f":"SUM(BH18,+BM18)","v":0},{"$f":"SUM(BI18:BL18)","v":0},0,0,0,0,0,"-",{"$f":"SUM(BP18,BU18,BY18,BZ18,CF18)","v":0},{"$f":"SUM(BQ18:BT18)","v":0},0,0,0,0,{"$f":"SUM(BV18:BX18)","v":0},0,0,0,0,{"$f":"SUM(CA18:CD18)","v":0},0,0,0,0,"-",0,0,{"$f":"SUM(BG18,+BO18,+CG18)","v":0},0,0,0,0,0,0,0,"-",0,0,0,0,0,0,0,0,0,0,0,0,0,0,0,0,"-",0,0,0]
["熊本県","43996","菊池広域連合",{"$f":"SUM(E19,+L19)","v":0},{"$f":"SUM(F19:I19)+K19","v":0},0,0,0,0,{"$f":"市町村分担金内訳!D19","v":0},0,0,{"$f":"SUM(N19,+U19)","v":0},{"$f":"SUM(O19:R19)+T19","v":0},0,0,0,0,{"$f":"市町村分担金内訳!E19","v":0},0,0,0,0,0,0,0,0,{"$f":"SUM(J19,S19)","v":0},0,0,{"$f":"SUM(AF19,+AK19)","v":0},{"$f":"SUM(AG19:AJ19)","v":0},0,0,0,0,0,"-",{"$f":"SUM(AN19,AS19,AW19,AX19,BD19)","v":0},{"$f":"SUM(AO19:AR19)","v":0},0,0,0,0,{"$f":"SUM(AT19:AV19)","v":0},0,0,0,0,{"$f":"SUM(AY19:BB19)","v":0},0,0,0,0,"-",0,0,{"$f":"SUM(AE19,+AM19,+BE19)","v":0},{"$f":"SUM(BH19,+BM19)","v":0},{"$f":"SUM(BI19:BL19)","v":0},0,0,0,0,0,"-",{"$f":"SUM(BP19,BU19,BY19,BZ19,CF19)","v":0},{"$f":"SUM(BQ19:BT19)","v":0},0,0,0,0,{"$f":"SUM(BV19:BX19)","v":0},0,0,0,0,{"$f":"SUM(CA19:CD19)","v":0},0,0,0,0,"-",0,0,{"$f":"SUM(BG19,+BO19,+CG19)","v":0},0,0,0,0,0,0,0,"-",0,0,0,0,0,0,0,0,0,0,0,0,0,0,0,0,"-",0,0,0]

{"sheet":"災害廃棄物事業経費（歳入）","index":2,"n_rows":60,"n_cols":30,"rows_kept":60,"merged":[[1,0,5,0],[1,1,5,1],[1,2,5,2]]}
["【災害】廃棄物処理事業経費（市区町村及び一部事務組合・広域連合の合計）【歳入】（令和4年度実績）"]
["都道府県名","地方公共団体コード","市区町村・一部事務組合・広域連合名","ごみ",{"$nulls":8},"し尿",{"$nulls":8},"合計"]
[{"$nulls":3},"合計 (特定財源(市区町村分担金を除く)+一般財源)",{"$nulls":8},"合計 (特定財源(市区町村分担金を除く)+一般財源)",{"$nulls":8},"合計 (特定財源(市区町村分担金を除く)+一般財源)"]
[{"$nulls":4},"特定財源 (市区町村分担金を除く)",{"$nulls":6},"一般財源",null,"特定財源 (市区町村分担金を除く)",{"$nulls":6},"一般財源",null,"特定財源 (市区町村分担金を除く)",{"$nulls":6},"一般財源"]
[{"$nulls":4},"合計","国庫支出金","都道府県\n支出金","地方債","使用料及び\n手数料","（市区町村\n分担金）","その他",null,null,"合計","国庫支出金","都道府県\n支出金","地方債","使用料及び\n手数料","（市区町村\n分担金）","その他",null,null,"合計","国庫支出金","都道府県\n支出金","地方債","使用料及び\n手数料","（市区町村\n分担金）","その他"]
[{"$nulls":3},"（千円）","（千円）","（千円）","（千円）","（千円）","（千円）","（千円）","（千円）","（千円）","（千円）","（千円）","（千円）","（千円）","（千円）","（千円）","（千円）","（千円）","（千円）","（千円）","（千円）","（千円）","（千円）","（千円）","（千円）","（千円）","（千円）","（千円）"]
["熊本県","43000","合計",{"$f":"SUM($D$8:$D$60)","v":{"v":148897,"d":"148,897"}},{"$f":"SUM($E$8:$E$60)","v":{"v":146350,"d":"146,350"}},{"$f":"SUM($F$8:$F$60)","v":{"v":65350,"d":"65,350"}},{"$f":"SUM($G$8:$G$60)","v":0},{"$f":"SUM($H$8:$H$60)","v":{"v":81000,"d":"81,000"}},{"$f":"SUM($I$8:$I$60)","v":0},{"$f":"SUM($J$8:$J$60)","v":0},{"$f":"SUM($K$8:$K$60)","v":0},{"$f":"SUM($L$8:$L$60)","v":{"v":2547,"d":"2,547"}},{"$f":"SUM($M$8:$M$60)","v":0},{"$f":"SUM($N$8:$N$60)","v":0},{"$f":"SUM($O$8:$O$60)","v":0},{"$f":"SUM($P$8:$P$60)","v":0},{"$f":"SUM($Q$8:$Q$60)","v":0},{"$f":"SUM($R$8:$R$60)","v":0},{"$f":"SUM($S$8:$S$60)","v":0},{"$f":"SUM($T$8:$T$60)","v":0},{"$f":"SUM($U$8:$U$60)","v":0},{"$f":"SUM($V$8:$V$60)","v":{"v":148897,"d":"148,897"}},{"$f":"SUM($W$8:$W$60)","v":{"v":146350,"d":"146,350"}},{"$f":"SUM($X$8:$X$60)","v":{"v":65350,"d":"65,350"}},{"$f":"SUM($Y$8:$Y$60)","v":0},{"$f":"SUM($Z$8:$Z$60)","v":{"v":81000,"d":"81,000"}},{"$f":"SUM($AA$8:$AA$60)","v":0},{"$f":"SUM($AB$8:$AB$60)","v":0},{"$f":"SUM($AC$8:$AC$60)","v":0},{"$f":"SUM($AD$8:$AD$60)","v":{"v":2547,"d":"2,547"}}]
["熊本県","43100","熊本市",{"$f":"SUM(E8,+L8)","v":0},0,0,0,0,0,0,0,0,{"$f":"SUM(N8,+U8)","v":0},0,0,0,0,0,0,0,0,0,0,0,0,0,0,0,0,0]
["熊本県","43202","八代市",{"$f":"SUM(E9,+L9)","v":{"v":117827,"d":"117,827"}},{"v":117826,"d":"117,826"},{"v":49826,"d":"49,826"},0,{"v":68000,"d":"68,000"},0,0,0,1,{"$f":"SUM(N9,+U9)","v":0},0,0,0,0,0,0,0,0,{"v":117827,"d":"117,827"},{"v":117826,"d":"117,826"},{"v":49826,"d":"49,826"},0,{"v":68000,"d":"68,000"},0,0,0,1]
["熊本県","43203","人吉市",{"$f":"SUM(E10,+L10)","v":0},0,0,0,0,0,0,0,0,{"$f":"SUM(N10,+U10)","v":0},0,0,0,0,0,0,0,0,0,0,0,0,0,0,0,0,0]
["熊本県","43204","荒尾市",{"$f":"SUM(E11,+L11)","v":0},0,0,0,0,0,0,0,0,{"$f":"SUM(N11,+U11)","v":0},0,0,0,0,0,0,0,0,0,0,0,0,0,0,0,0,0]
["熊本県","43205","水俣市",{"$f":"SUM(E12,+L12)","v":0},0,0,0,0,0,0,0,0,{"$f":"SUM(N12,+U12)","v":0},0,0,0,0,0,0,0,0,0,0,0,0,0,0,0,0,0]
["熊本県","43206","玉名市",{"$f":"SUM(E13,+L13)","v":0},0,0,0,0,0,0,0,0,{"$f":"SUM(N13,+U13)","v":0},0,0,0,0,0,0,0,0,0,0,0,0,0,0,0,0,0]
["熊本県","43208","山鹿市",{"$f":"SUM(E14,+L14)","v":0},0,0,0,0,0,0,0,0,{"$f":"SUM(N14,+U14)","v":0},0,0,0,0,0,0,0,0,0,0,0,0,0,0,0,0,0]
["熊本県","43210","菊池市",{"$f":"SUM(E15,+L15)","v":0},0,0,0,0,0,0,0,0,{"$f":"SUM(N15,+U15)","v":0},0,0,0,0,0,0,0,0,0,0,0,0,0,0,0,0,0]
["熊本県","43211","宇土市",{"$f":"SUM(E16,+L16)","v":0},0,0,0,0,0,0,0,0,{"$f":"SUM(N16,+U16)","v":0},0,0,0,0,0,0,0,0,0,0,0,0,0,0,0,0,0]
["熊本県","43212","上天草市",{"$f":"SUM(E17,+L17)","v":0},0,0,0,0,0,0,0,0,{"$f":"SUM(N17,+U17)","v":0},0,0,0,0,0,0,0,0,0,0,0,0,0,0,0,0,0]
["熊本県","43213","宇城市",{"$f":"SUM(E18,+L18)","v":0},0,0,0,0,0,0,0,0,{"$f":"SUM(N18,+U18)","v":0},0,0,0,0,0,0,0,0,0,0,0,0,0,0,0,0,0]
["熊本県","43214","阿蘇市",{"$f":"SUM(E19,+L19)","v":0},0,0,0,0,0,0,0,0,{"$f":"SUM(N19,+U19)","v":0},0,0,0,0,0,0,0,0,0,0,0,0,0,0,0,0,0]
["熊本県","43216","合志市",{"$f":"SUM(E20,+L20)","v":0},0,0,0,0,0,0,0,0,{"$f":"SUM(N20,+U20)","v":0},0,0,0,0,0,0,0,0,0,0,0,0,0,0,0,0,0]
["熊本県","43348","美里町",{"$f":"SUM(E21,+L21)","v":0},0,0,0,0,0,0,0,0,{"$f":"SUM(N21,+U21)","v":0},0,0,0,0,0,0,0,0,0,0,0,0,0,0,0,0,0]
["熊本県","43364","玉東町",{"$f":"SUM(E22,+L22)","v":0},0,0,0,0,0,0,0,0,{"$f":"SUM(N22,+U22)","v":0},0,0,0,0,0,0,0,0,0,0,0,0,0,0,0,0,0]
["熊本県","43367","南関町",{"$f":"SUM(E23,+L23)","v":0},0,0,0,0,0,0,0,0,{"$f":"SUM(N23,+U23)","v":0},0,0,0,0,0,0,0,0,0,0,0,0,0,0,0,0,0]
["熊本県","43368","長洲町",{"$f":"SUM(E24,+L24)","v":0},0,0,0,0,0,0,0,0,{"$f":"SUM(N24,+U24)","v":0},0,0,0,0,0,0,0,0,0,0,0,0,0,0,0,0,0]
["熊本県","43369","和水町",{"$f":"SUM(E25,+L25)","v":0},0,0,0,0,0,0,0,0,{"$f":"SUM(N25,+U25)","v":0},0,0,0,0,0,0,0,0,0,0,0,0,0,0,0,0,0]
["熊本県","43403","大津町",{"$f":"SUM(E26,+L26)","v":0},0,0,0,0,0,0,0,0,{"$f":"SUM(N26,+U26)","v":0},0,0,0,0,0,0,0,0,0,0,0,0,0,0,0,0,0]
["熊本県","43404","菊陽町",{"$f":"SUM(E27,+L27)","v":0},0,0,0,0,0,0,0,0,{"$f":"SUM(N27,+U27)","v":0},0,0,0,0,0,0,0,0,0,0,0,0,0,0,0,0,0]
["熊本県","43423","南小国町",{"$f":"SUM(E28,+L28)","v":0},0,0,0,0,0,0,0,0,{"$f":"SUM(N28,+U28)","v":0},0,0,0,0,0,0,0,0,0,0,0,0,0,0,0,0,0]
["熊本県","43424","小国町",{"$f":"SUM(E29,+L29)","v":0},0,0,0,0,0,0,0,0,{"$f":"SUM(N29,+U29)","v":0},0,0,0,0,0,0,0,0,0,0,0,0,0,0,0,0,0]
["熊本県","43425","産山村",{"$f":"SUM(E30,+L30)","v":0},0,0,0,0,0,0,0,0,{"$f":"SUM(N30,+U30)","v":0},0,0,0,0,0,0,0,0,0,0,0,0,0,0,0,0,0]
["熊本県","43428","高森町",{"$f":"SUM(E31,+L31)","v":0},0,0,0,0,0,0,0,0,{"$f":"SUM(N31,+U31)","v":0},0,0,0,0,0,0,0,0,0,0,0,0,0,0,0,0,0]
["熊本県","43432","西原村",{"$f":"SUM(E32,+L32)","v":0},0,0,0,0,0,0,0,0,{"$f":"SUM(N32,+U32)","v":0},0,0,0,0,0,0,0,0,0,0,0,0,0,0,0,0,0]
["熊本県","43433","南阿蘇村",{"$f":"SUM(E33,+L33)","v":0},0,0,0,0,0,0,0,0,{"$f":"SUM(N33,+U33)","v":0},0,0,0,0,0,0,0,0,0,0,0,0,0,0,0,0,0]
["熊本県","43441","御船町",{"$f":"SUM(E34,+L34)","v":0},0,0,0,0,0,0,0,0,{"$f":"SUM(N34,+U34)","v":0},0,0,0,0,0,0,0,0,0,0,0,0,0,0,0,0,0]
["熊本県","43442","嘉島町",{"$f":"SUM(E35,+L35)","v":0},0,0,0,0,0,0,0,0,{"$f":"SUM(N35,+U35)","v":0},0,0,0,0,0,0,0,0,0,0,0,0,0,0,0,0,0]
["熊本県","43443","益城町",{"$f":"SUM(E36,+L36)","v":0},0,0,0,0,0,0,0,0,{"$f":"SUM(N36,+U36)","v":0},0,0,0,0,0,0,0,0,0,0,0,0,0,0,0,0,0]
["熊本県","43447","山都町",{"$f":"SUM(E37,+L37)","v":0},0,0,0,0,0,0,0,0,{"$f":"SUM(N37,+U37)","v":0},0,0,0,0,0,0,0,0,0,0,0,0,0,0,0,0,0]
["熊本県","43468","氷川町",{"$f":"SUM(E38,+L38)","v":0},0,0,0,0,0,0,0,0,{"$f":"SUM(N38,+U38)","v":0},0,0,0,0,0,0,0,0,0,0,0,0,0,0,0,0,0]
["熊本県","43482","芦北町",{"$f":"SUM(E39,+L39)","v":0},0,0,0,0,0,0,0,0,{"$f":"SUM(N39,+U39)","v":0},0,0,0,0,0,0,0,0,0,0,0,0,0,0,0,0,0]
["熊本県","43501","錦町",{"$f":"SUM(E40,+L40)","v":{"v":26000,"d":"26,000"}},{"v":26000,"d":"26,000"},{"v":13000,"d":"13,000"},0,{"v":13000,"d":"13,000"},0,0,0,0,{"$f":"SUM(N40,+U40)","v":0},0,0,0,0,0,0,0,0,{"v":26000,"d":"26,000"},{"v":26000,"d":"26,000"},{"v":13000,"d":"13,000"},0,{"v":13000,"d":"13,000"},0,0,0,0]
["熊本県","43505","多良木町",{"$f":"SUM(E41,+L41)","v":{"v":2783,"d":"2,783"}},{"v":1391,"d":"1,391"},{"v":1391,"d":"1,391"},0,0,0,0,0,{"v":1392,"d":"1,392"},{"$f":"SUM(N41,+U41)","v":0},0,0,0,0,0,0,0,0,{"v":2783,"d":"2,783"},{"v":1391,"d":"1,391"},{"v":1391,"d":"1,391"},0,0,0,0,0,{"v":1392,"d":"1,392"}]
["熊本県","43506","湯前町",{"$f":"SUM(E42,+L42)","v":{"v":1669,"d":"1,669"}},824,824,0,0,0,0,0,845,{"$f":"SUM(N42,+U42)","v":0},0,0,0,0,0,0,0,0,{"v":1669,"d":"1,669"},824,824,0,0,0,0,0,845]
["熊本県","43507","水上村",{"$f":"SUM(E43,+L43)","v":0},0,0,0,0,0,0,0,0,{"$f":"SUM(N43,+U43)","v":0},0,0,0,0,0,0,0,0,0,0,0,0,0,0,0,0,0]
["熊本県","43510","相良村",{"$f":"SUM(E44,+L44)","v":0},0,0,0,0,0,0,0,0,{"$f":"SUM(N44,+U44)","v":0},0,0,0,0,0,0,0,0,0,0,0,0,0,0,0,0,0]
["熊本県","43511","五木村",{"$f":"SUM(E45,+L45)","v":618},309,309,0,0,0,0,0,309,{"$f":"SUM(N45,+U45)","v":0},0,0,0,0,0,0,0,0,618,309,309,0,0,0,0,0,309]
["熊本県","43512","山江村",{"$f":"SUM(E46,+L46)","v":0},0,0,0,0,0,0,0,0,{"$f":"SUM(N46,+U46)","v":0},0,0,0,0,0,0,0,0,0,0,0,0,0,0,0,0,0]
["熊本県","43513","球磨村",{"$f":"SUM(E47,+L47)","v":0},0,0,0,0,0,0,0,0,{"$f":"SUM(N47,+U47)","v":0},0,0,0,0,0,0,0,0,0,0,0,0,0,0,0,0,0]
["熊本県","43531","苓北町",{"$f":"SUM(E48,+L48)","v":0},0,0,0,0,0,0,0,0,{"$f":"SUM(N48,+U48)","v":0},0,0,0,0,0,0,0,0,0,0,0,0,0,0,0,0,0]
["熊本県","43854","菊池環境保全組合",{"$f":"SUM(E49,+L49)","v":0},0,0,0,0,0,{"$f":"市町村分担金内訳!D8","v":0},0,0,{"$f":"SUM(N49,+U49)","v":0},0,0,0,0,0,{"$f":"市町村分担金内訳!E8","v":0},0,0,0,0,0,0,0,0,{"$f":"SUM(J49,S49)","v":0},0,0]
["熊本県","43857","御船地区衛生施設組合",{"$f":"SUM(E50,+L50)","v":0},0,0,0,0,0,{"$f":"市町村分担金内訳!D9","v":0},0,0,{"$f":"SUM(N50,+U50)","v":0},0,0,0,0,0,{"$f":"市町村分担金内訳!E9","v":0},0,0,0,0,0,0,0,0,{"$f":"SUM(J50,S50)","v":0},0,0]
["熊本県","43935","上天草衛生施設組合",{"$f":"SUM(E51,+L51)","v":0},0,0,0,0,0,{"$f":"市町村分担金内訳!D10","v":0},0,0,{"$f":"SUM(N51,+U51)","v":0},0,0,0,0,0,{"$f":"市町村分担金内訳!E10","v":0},0,0,0,0,0,0,0,0,{"$f":"SUM(J51,S51)","v":0},0,0]
["熊本県","43949","益城、嘉島、西原環境衛生施設組合",{"$f":"SUM(E52,+L52)","v":0},0,0,0,0,0,{"$f":"市町村分担金内訳!D11","v":0},0,0,{"$f":"SUM(N52,+U52)","v":0},0,0,0,0,0,{"$f":"市町村分担金内訳!E11","v":0},0,0,0,0,0,0,0,0,{"$f":"SUM(J52,S52)","v":0},0,0]
["熊本県","43954","山鹿植木広域行政事務組合",{"$f":"SUM(E53,+L53)","v":0},0,0,0,0,0,{"$f":"市町村分担金内訳!D12","v":0},0,0,{"$f":"SUM(N53,+U53)","v":0},0,0,0,0,0,{"$f":"市町村分担金内訳!E12","v":0},0,0,0,0,0,0,0,0,{"$f":"SUM(J53,S53)","v":0},0,0]
["熊本県","43974","八代生活環境事務組合",{"$f":"SUM(E54,+L54)","v":0},0,0,0,0,0,{"$f":"市町村分担金内訳!D13","v":0},0,0,{"$f":"SUM(N54,+U54)","v":0},0,0,0,0,0,{"$f":"市町村分担金内訳!E13","v":0},0,0,0,0,0,0,0,0,{"$f":"SUM(J54,S54)","v":0},0,0]
["熊本県","43985","阿蘇広域行政事務組合",{"$f":"SUM(E55,+L55)","v":0},0,0,0,0,0,{"$f":"市町村分担金内訳!D14","v":0},0,0,{"$f":"SUM(N55,+U55)","v":0},0,0,0,0,0,{"$f":"市町村分担金内訳!E14","v":0},0,0,0,0,0,0,0,0,{"$f":"SUM(J55,S55)","v":0},0,0]
["熊本県","43986","人吉球磨広域行政組合",{"$f":"SUM(E56,+L56)","v":0},0,0,0,0,0,{"$f":"市町村分担金内訳!D15","v":0},0,0,{"$f":"SUM(N56,+U56)","v":0},0,0,0,0,0,{"$f":"市町村分担金内訳!E15","v":0},0,0,0,0,0,0,0,0,{"$f":"SUM(J56,S56)","v":0},0,0]
["熊本県","43991","有明広域行政事務組合",{"$f":"SUM(E57,+L57)","v":0},0,0,0,0,0,{"$f":"市町村分担金内訳!D16","v":0},0,0,{"$f":"SUM(N57,+U57)","v":0},0,0,0,0,0,{"$f":"市町村分担金内訳!E16","v":0},0,0,0,0,0,0,0,0,{"$f":"SUM(J57,S57)","v":0},0,0]
["熊本県","43993","水俣芦北広域行政事務組合",{"$f":"SUM(E58,+L58)","v":0},0,0,0,0,0,{"$f":"市町村分担金内訳!D17","v":0},0,0,{"$f":"SUM(N58,+U58)","v":0},0,0,0,0,0,{"$f":"市町村分担金内訳!E17","v":0},0,0,0,0,0,0,0,0,{"$f":"SUM(J58,S58)","v":0},0,0]
["熊本県","43995","宇城広域連合",{"$f":"SUM(E59,+L59)","v":0},0,0,0,0,0,{"$f":"市町村分担金内訳!D18","v":0},0,0,{"$f":"SUM(N59,+U59)","v":0},0,0,0,0,0,{"$f":"市町村分担金内訳!E18","v":0},0,0,0,0,0,0,0,0,{"$f":"SUM(J59,S59)","v":0},0,0]
["熊本県","43996","菊池広域連合",{"$f":"SUM(E60,+L60)","v":0},0,0,0,0,0,{"$f":"市町村分担金内訳!D19","v":0},0,0,{"$f":"SUM(N60,+U60)","v":0},0,0,0,0,0,{"$f":"市町村分担金内訳!E19","v":0},0,0,0,0,0,0,0,0,{"$f":"SUM(J60,S60)","v":0},0,0]

{"sheet":"災害廃棄物事業経費（歳出）","index":3,"n_rows":60,"n_cols":87,"rows_kept":60,"merged":[[1,0,5,0],[1,1,5,1],[1,2,5,2],[3,10,4,10],[3,38,4,38],[3,66,4,66]]}
["【災害】廃棄物処理事業経費（市区町村及び一部事務組合・広域連合の合計）【歳出】（令和4年度実績）"]
["都道府県名","地方公共団体コード","市区町村・一部事務組合・広域連合名","ごみ（建設改良費＋処理維持管理費＋その他）（組合分担金を除く）",{"$nulls":27},"し尿（建設改良費＋処理維持管理費＋その他）（組合分担金を除く）",{"$nulls":27},"合計（建設改良費＋処理維持管理費＋その他）（組合分担金を除く）"]
[{"$nulls":3},"建設改良費 (工事費+調査費)(組合分担金を除く)",{"$nulls":7},"処理及び維持管理費 (人件費+処理費+車両購入費+委託費+調査研究費)(組合分担金を除く)",{"$nulls":17},"その他","合計","建設改良費 (工事費+調査費)(組合分担金を除く)",{"$nulls":7},"処理及び維持管理費 (人件費+処理費+車両購入費+委託費+調査研究費)(組合分担金を除く)",{"$nulls":17},"その他","合計","建設改良費 (工事費+調査費)(組合分担金を除く)",{"$nulls":7},"処理及び維持管理費 (人件費+処理費+車両購入費+委託費+調査研究費)(組合分担金を除く)",{"$nulls":17},"その他","合計"]
[{"$nulls":3},"合計","工事費 (収集運搬施設+中間処理施設+最終処分場+その他)",{"$nulls":4},"調査費","（建設改良費組合分担金）","合計","人件費（一般職＋収集運搬＋中間処理＋最終処分）",{"$nulls":4},"処理費 (収集運搬費+中間処理費+最終処分費)",{"$nulls":3},"車両等購入費","委託費 (収集運搬費+中間処理費+最終処分費+その他)",{"$nulls":4},"(組合分担金)","調査研究費",null,null,"合計","工事費 (収集運搬施設+中間処理施設+最終処分場+その他)",{"$nulls":4},"調査費","（建設改良費組合分担金）","合計","人件費（一般職＋収集運搬＋中間処理＋最終処分）",{"$nulls":4},"処理費 (収集運搬費+中間処理費+最終処分費)",{"$nulls":3},"車両等購入費","委託費 (収集運搬費+中間処理費+最終処分費+その他)",{"$nulls":4},"(組合分担金)","調査研究費",null,null,"合計","工事費 (収集運搬施設+中間処理施設+最終処分場+その他)",{"$nulls":4},"調査費","（建設改良費組合分担金）","合計","人件費（一般職＋収集運搬＋中間処理＋最終処分）",{"$nulls":4},"処理費 (収集運搬費+中間処理費+最終処分費)",{"$nulls":3},"車両等購入費","委託費 (収集運搬費+中間処理費+最終処分費+その他)",{"$nulls":4},"(組合分担金)","調査研究費"]
[{"$nulls":4},"合計","収集運搬施設","中間処理施設","最終処分場","その他",{"$nulls":3},"合計","一般職","収集運搬","中間処理","最終処分","合計","収集運搬費","中間処理費","最終処分費",null,"合計","収集運搬費","中間処理費","最終処分費","その他",{"$nulls":5},"合計","収集運搬施設","中間処理施設","最終処分場","その他",{"$nulls":3},"合計","一般職","収集運搬","中間処理","最終処分","合計","収集運搬費","中間処理費","最終処分費",null,"合計","収集運搬費","中間処理費","最終処分費","その他",{"$nulls":5},"合計","収集運搬施設","中間処理施設","最終処分場","その他",{"$nulls":3},"合計","一般職","収集運搬","中間処理","最終処分","合計","収集運搬費","中間処理費","最終処分費",null,"合計","収集運搬費","中間処理費","最終処分費","その他"]
[{"$nulls":3},"（千円）","（千円）","（千円）","（千円）","（千円）","（千円）","（千円）","（千円）","（千円）","（千円）","（千円）","（千円）","（千円）","（千円）","（千円）","（千円）","（千円）","（千円）","（千円）","（千円）","（千円）","（千円）","（千円）","（千円）","（千円）","（千円）","（千円）","（千円）","（千円）","（千円）","（千円）","（千円）","（千円）","（千円）","（千円）","（千円）","（千円）","（千円）","（千円）","（千円）","（千円）","（千円）","（千円）","（千円）","（千円）","（千円）","（千円）","（千円）","（千円）","（千円）","（千円）","（千円）","（千円）","（千円）","（千円）","（千円）","（千円）","（千円）","（千円）","（千円）","（千円）","（千円）","（千円）","（千円）","（千円）","（千円）","（千円）","（千円）","（千円）","（千円）","（千円）","（千円）","（千円）","（千円）","（千円）","（千円）","（千円）","（千円）","（千円）","（千円）","（千円）","（千円）","（千円）","（千円）"]
["熊本県","43000","合計",{"$f":"SUM($D$8:$D$60)","v":{"v":27031,"d":"27,031"}},{"$f":"SUM($E$8:$E$60)","v":{"v":27031,"d":"27,031"}},{"$f":"SUM($F$8:$F$60)","v":{"v":1031,"d":"1,031"}},{"$f":"SUM($G$8:$G$60)","v":0},{"$f":"SUM($H$8:$H$60)","v":0},{"$f":"SUM($I$8:$I$60)","v":{"v":26000,"d":"26,000"}},{"$f":"SUM($J$8:$J$60)","v":0},{"$f":"SUM($K$8:$K$60)","v":0},{"$f":"SUM($L$8:$L$60)","v":{"v":121866,"d":"121,866"}},{"$f":"SUM($M$8:$M$60)","v":0},{"$f":"SUM($N$8:$N$60)","v":0},{"$f":"SUM($O$8:$O$60)","v":0},{"$f":"SUM($P$8:$P$60)","v":0},{"$f":"SUM($Q$8:$Q$60)","v":0},{"$f":"SUM($R$8:$R$60)","v":29},{"$f":"SUM($S$8:$S$60)","v":20},{"$f":"SUM($T$8:$T$60)","v":9},{"$f":"SUM($U$8:$U$60)","v":0},{"$f":"SUM($V$8:$V$60)","v":0},{"$f":"SUM($W$8:$W$60)","v":{"v":121837,"d":"121,837"}},{"$f":"SUM($X$8:$X$60)","v":618},{"$f":"SUM($Y$8:$Y$60)","v":{"v":2774,"d":"2,774"}},{"$f":"SUM($Z$8:$Z$60)","v":0},{"$f":"SUM($AA$8:$AA$60)","v":{"v":118445,"d":"118,445"}},{"$f":"SUM($AB$8:$AB$60)","v":0},{"$f":"SUM($AC$8:$AC$60)","v":0},{"$f":"SUM($AD$8:$AD$60)","v":0},{"$f":"SUM($AE$8:$AE$60)","v":{"v":148897,"d":"148,897"}},{"$f":"SUM($AF$8:$AF$60)","v":0},{"$f":"SUM($AG$8:$AG$60)","v":0},{"$f":"SUM($AH$8:$AH$60)","v":0},{"$f":"SUM($AI$8:$AI$60)","v":0},{"$f":"SUM($AJ$8:$AJ$60)","v":0},{"$f":"SUM($AK$8:$AK$60)","v":0},{"$f":"SUM($AL$8:$AL$60)","v":0},{"$f":"SUM($AM$8:$AM$60)","v":0},{"$f":"SUM($AN$8:$AN$60)","v":0},{"$f":"SUM($AO$8:$AO$60)","v":0},{"$f":"SUM($AP$8:$AP$60)","v":0},{"$f":"SUM($AQ$8:$AQ$60)","v":0},{"$f":"SUM($AR$8:$AR$60)","v":0},{"$f":"SUM($AS$8:$AS$60)","v":0},{"$f":"SUM($AT$8:$AT$60)","v":0},{"$f":"SUM($AU$8:$AU$60)","v":0},{"$f":"SUM($AV$8:$AV$60)","v":0},{"$f":"SUM($AW$8:$AW$60)","v":0},{"$f":"SUM($AX$8:$AX$60)","v":0},{"$f":"SUM($AY$8:$AY$60)","v":0},{"$f":"SUM($AZ$8:$AZ$60)","v":0},{"$f":"SUM($BA$8:$BA$60)","v":0},{"$f":"SUM($BB$8:$BB$60)","v":0},{"$f":"SUM($BC$8:$BC$60)","v":0},{"$f":"SUM($BD$8:$BD$60)","v":0},{"$f":"SUM($BE$8:$BE$60)","v":0},{"$f":"SUM($BF$8:$BF$60)","v":0},{"$f":"SUM($BG$8:$BG$60)","v":0},{"$f":"SUM($BH$8:$BH$60)","v":{"v":27031,"d":"27,031"}},{"$f":"SUM($BI$8:$BI$60)","v":{"v":27031,"d":"27,031"}},{"$f":"SUM($BJ$8:$BJ$60)","v":{"v":1031,"d":"1,031"}},{"$f":"SUM($BK$8:$BK$60)","v":0},{"$f":"SUM($BL$8:$BL$60)","v":0},{"$f":"SUM($BM$8:$BM$60)","v":{"v":26000,"d":"26,000"}},{"$f":"SUM($BN$8:$BN$60)","v":0},{"$f":"SUM($BO$8:$BO$60)","v":0},{"$f":"SUM($BP$8:$BP$60)","v":{"v":121866,"d":"121,866"}},{"$f":"SUM($BQ$8:$BQ$60)","v":0},{"$f":"SUM($BR$8:$BR$60)","v":0},{"$f":"SUM($BS$8:$BS$60)","v":0},{"$f":"SUM($BT$8:$BT$60)","v":0},{"$f":"SUM($BU$8:$BU$60)","v":0},{"$f":"SUM($BV$8:$BV$60)","v":29},{"$f":"SUM($BW$8:$BW$60)","v":20},{"$f":"SUM($BX$8:$BX$60)","v":9},{"$f":"SUM($BY$8:$BY$60)","v":0},{"$f":"SUM($BZ$8:$BZ$60)","v":0},{"$f":"SUM($CA$8:$CA$60)","v":{"v":121837,"d":"121,837"}},{"$f":"SUM($CB$8:$CB$60)","v":618},{"$f":"SUM($CC$8:$CC$60)","v":{"v":2774,"d":"2,774"}},{"$f":"SUM($CD$8:$CD$60)","v":0},{"$f":"SUM($CE$8:$CE$60)","v":{"v":118445,"d":"118,445"}},{"$f":"SUM($CF$8:$CF$60)","v":0},{"$f":"SUM($CG$8:$CG$60)","v":0},{"$f":"SUM($CH$8:$CH$60)","v":0},{"$f":"SUM($CI$8:$CI$60)","v":{"v":148897,"d":"148,897"}}]
["熊本県","43100","熊本市",0,0,0,0,0,0,0,{"$f":"組合分担金内訳!D8","v":0},0,0,0,0,0,0,0,0,0,0,0,0,0,0,0,0,{"$f":"組合分担金内訳!E8","v":0},0,0,0,0,0,0,0,0,0,0,{"$f":"組合分担金内訳!G8","v":0},0,0,0,0,0,0,0,0,0,0,0,0,0,0,0,0,{"$f":"組合分担金内訳!H8","v":0},0,0,0,{"$f":"SUM(D8,AF8)","v":0},{"$f":"SUM(E8,AG8)","v":0},{"$f":"SUM(F8,AH8)","v":0},{"$f":"SUM(G8,AI8)","v":0},{"$f":"SUM(H8,AJ8)","v":0},{"$f":"SUM(I8,AK8)","v":0},{"$f":"SUM(J8,AL8)","v":0},{"$f":"SUM(K8,AM8)","v":0},{"$f":"SUM(L8,AN8)","v":0},{"$f":"SUM(M8,AO8)","v":0},{"$f":"SUM(N8,AP8)","v":0},{"$f":"SUM(O8,AQ8)","v":0},{"$f":"SUM(P8,AR8)","v":0},{"$f":"SUM(Q8,AS8)","v":0},{"$f":"SUM(R8,AT8)","v":0},{"$f":"SUM(S8,AU8)","v":0},{"$f":"SUM(T8,AV8)","v":0},{"$f":"SUM(U8,AW8)","v":0},{"$f":"SUM(V8,AX8)","v":0},{"$f":"SUM(W8,AY8)","v":0},{"$f":"SUM(X8,AZ8)","v":0},{"$f":"SUM(Y8,BA8)","v":0},{"$f":"SUM(Z8,BB8)","v":0},{"$f":"SUM(AA8,BC8)","v":0},{"$f":"SUM(AB8,BD8)","v":0},{"$f":"SUM(AC8,BE8)","v":0},{"$f":"SUM(AD8,BF8)","v":0},{"$f":"SUM(AE8,BG8)","v":0}]
["熊本県","43202","八代市",0,0,0,0,0,0,0,{"$f":"組合分担金内訳!D9","v":0},{"v":117827,"d":"117,827"},0,0,0,0,0,0,0,0,0,0,{"v":117827,"d":"117,827"},0,0,0,{"v":117827,"d":"117,827"},{"$f":"組合分担金内訳!E9","v":0},0,0,{"v":117827,"d":"117,827"},0,0,0,0,0,0,0,{"$f":"組合分担金内訳!G9","v":0},0,0,0,0,0,0,0,0,0,0,0,0,0,0,0,0,{"$f":"組合分担金内訳!H9","v":0},0,0,0,0,0,0,0,0,0,0,0,{"v":117827,"d":"117,827"},0,0,0,0,0,0,0,0,0,0,{"v":117827,"d":"117,827"},0,0,0,{"v":117827,"d":"117,827"},0,0,0,{"v":117827,"d":"117,827"}]
["熊本県","43203","人吉市",0,0,0,0,0,0,0,{"$f":"組合分担金内訳!D10","v":0},0,0,0,0,0,0,0,0,0,0,0,0,0,0,0,0,{"$f":"組合分担金内訳!E10","v":0},0,0,0,0,0,0,0,0,0,0,{"$f":"組合分担金内訳!G10","v":0},0,0,0,0,0,0,0,0,0,0,0,0,0,0,0,0,{"$f":"組合分担金内訳!H10","v":0},0,0,0,0,0,0,0,0,0,0,0,0,0,0,0,0,0,0,0,0,0,0,0,0,0,0,0,0,0,0,0]
["熊本県","43204","荒尾市",0,0,0,0,0,0,0,{"$f":"組合分担金内訳!D11","v":0},0,0,0,0,0,0,0,0,0,0,0,0,0,0,0,0,{"$f":"組合分担金内訳!E11","v":0},0,0,0,0,0,0,0,0,0,0,{"$f":"組合分担金内訳!G11","v":0},0,0,0,0,0,0,0,0,0,0,0,0,0,0,0,0,{"$f":"組合分担金内訳!H11","v":0},0,0,0,0,0,0,0,0,0,0,0,0,0,0,0,0,0,0,0,0,0,0,0,0,0,0,0,0,0,0,0]
["熊本県","43205","水俣市",0,0,0,0,0,0,0,{"$f":"組合分担金内訳!D12","v":0},0,0,0,0,0,0,0,0,0,0,0,0,0,0,0,0,{"$f":"組合分担金内訳!E12","v":0},0,0,0,0,0,0,0,0,0,0,{"$f":"組合分担金内訳!G12","v":0},0,0,0,0,0,0,0,0,0,0,0,0,0,0,0,0,{"$f":"組合分担金内訳!H12","v":0},0,0,0,0,0,0,0,0,0,0,0,0,0,0,0,0,0,0,0,0,0,0,0,0,0,0,0,0,0,0,0]
["熊本県","43206","玉名市",0,0,0,0,0,0,0,{"$f":"組合分担金内訳!D13","v":0},0,0,0,0,0,0,0,0,0,0,0,0,0,0,0,0,{"$f":"組合分担金内訳!E13","v":0},0,0,0,0,0,0,0,0,0,0,{"$f":"組合分担金内訳!G13","v":0},0,0,0,0,0,0,0,0,0,0,0,0,0,0,0,0,{"$f":"組合分担金内訳!H13","v":0},0,0,0,0,0,0,0,0,0,0,0,0,0,0,0,0,0,0,0,0,0,0,0,0,0,0,0,0,0,0,0]
["熊本県","43208","山鹿市",0,0,0,0,0,0,0,{"$f":"組合分担金内訳!D14","v":0},0,0,0,0,0,0,0,0,0,0,0,0,0,0,0,0,{"$f":"組合分担金内訳!E14","v":0},0,0,0,0,0,0,0,0,0,0,{"$f":"組合分担金内訳!G14","v":0},0,0,0,0,0,0,0,0,0,0,0,0,0,0,0,0,{"$f":"組合分担金内訳!H14","v":0},0,0,0,0,0,0,0,0,0,0,0,0,0,0,0,0,0,0,0,0,0,0,0,0,0,0,0,0,0,0,0]
["熊本県","43210","菊池市",0,0,0,0,0,0,0,{"$f":"組合分担金内訳!D15","v":0},0,0,0,0,0,0,0,0,0,0,0,0,0,0,0,0,{"$f":"組合分担金内訳!E15","v":0},0,0,0,0,0,0,0,0,0,0,{"$f":"組合分担金内訳!G15","v":0},0,0,0,0,0,0,0,0,0,0,0,0,0,0,0,0,{"$f":"組合分担金内訳!H15","v":0},0,0,0,0,0,0,0,0,0,0,0,0,0,0,0,0,0,0,0,0,0,0,0,0,0,0,0,0,0,0,0]
["熊本県","43211","宇土市",0,0,0,0,0,0,0,{"$f":"組合分担金内訳!D16","v":0},0,0,0,0,0,0,0,0,0,0,0,0,0,0,0,0,{"$f":"組合分担金内訳!E16","v":0},0,0,0,0,0,0,0,0,0,0,{"$f":"組合分担金内訳!G16","v":0},0,0,0,0,0,0,0,0,0,0,0,0,0,0,0,0,{"$f":"組合分担金内訳!H16","v":0},0,0,0,0,0,0,0,0,0,0,0,0,0,0,0,0,0,0,0,0,0,0,0,0,0,0,0,0,0,0,0]
["熊本県","43212","上天草市",0,0,0,0,0,0,0,{"$f":"組合分担金内訳!D17","v":0},0,0,0,0,0,0,0,0,0,0,0,0,0,0,0,0,{"$f":"組合分担金内訳!E17","v":0},0,0,0,0,0,0,0,0,0,0,{"$f":"組合分担金内訳!G17","v":0},0,0,0,0,0,0,0,0,0,0,0,0,0,0,0,0,{"$f":"組合分担金内訳!H17","v":0},0,0,0,0,0,0,0,0,0,0,0,0,0,0,0,0,0,0,0,0,0,0,0,0,0,0,0,0,0,0,0]
["熊本県","43213","宇城市",0,0,0,0,0,0,0,{"$f":"組合分担金内訳!D18","v":0},0,0,0,0,0,0,0,0,0,0,0,0,0,0,0,0,{"$f":"組合分担金内訳!E18","v":0},0,0,0,0,0,0,0,0,0,0,{"$f":"組合分担金内訳!G18","v":0},0,0,0,0,0,0,0,0,0,0,0,0,0,0,0,0,{"$f":"組合分担金内訳!H18","v":0},0,0,0,0,0,0,0,0,0,0,0,0,0,0,0,0,0,0,0,0,0,0,0,0,0,0,0,0,0,0,0]
["熊本県","43214","阿蘇市",0,0,0,0,0,0,0,{"$f":"組合分担金内訳!D19","v":0},0,0,0,0,0,0,0,0,0,0,0,0,0,0,0,0,{"$f":"組合分担金内訳!E19","v":0},0,0,0,0,0,0,0,0,0,0,{"$f":"組合分担金内訳!G19","v":0},0,0,0,0,0,0,0,0,0,0,0,0,0,0,0,0,{"$f":"組合分担金内訳!H19","v":0},0,0,0,0,0,0,0,0,0,0,0,0,0,0,0,0,0,0,0,0,0,0,0,0,0,0,0,0,0,0,0]
["熊本県","43216","合志市",0,0,0,0,0,0,0,{"$f":"組合分担金内訳!D20","v":0},0,0,0,0,0,0,0,0,0,0,0,0,0,0,0,0,{"$f":"組合分担金内訳!E20","v":0},0,0,0,0,0,0,0,0,0,0,{"$f":"組合分担金内訳!G20","v":0},0,0,0,0,0,0,0,0,0,0,0,0,0,0,0,0,{"$f":"組合分担金内訳!H20","v":0},0,0,0,0,0,0,0,0,0,0,0,0,0,0,0,0,0,0,0,0,0,0,0,0,0,0,0,0,0,0,0]
["熊本県","43348","美里町",0,0,0,0,0,0,0,{"$f":"組合分担金内訳!D21","v":0},0,0,0,0,0,0,0,0,0,0,0,0,0,0,0,0,{"$f":"組合分担金内訳!E21","v":0},0,0,0,0,0,0,0,0,0,0,{"$f":"組合分担金内訳!G21","v":0},0,0,0,0,0,0,0,0,0,0,0,0,0,0,0,0,{"$f":"組合分担金内訳!H21","v":0},0,0,0,0,0,0,0,0,0,0,0,0,0,0,0,0,0,0,0,0,0,0,0,0,0,0,0,0,0,0,0]
["熊本県","43364","玉東町",0,0,0,0,0,0,0,{"$f":"組合分担金内訳!D22","v":0},0,0,0,0,0,0,0,0,0,0,0,0,0,0,0,0,{"$f":"組合分担金内訳!E22","v":0},0,0,0,0,0,0,0,0,0,0,{"$f":"組合分担金内訳!G22","v":0},0,0,0,0,0,0,0,0,0,0,0,0,0,0,0,0,{"$f":"組合分担金内訳!H22","v":0},0,0,0,0,0,0,0,0,0,0,0,0,0,0,0,0,0,0,0,0,0,0,0,0,0,0,0,0,0,0,0]
["熊本県","43367","南関町",0,0,0,0,0,0,0,{"$f":"組合分担金内訳!D23","v":0},0,0,0,0,0,0,0,0,0,0,0,0,0,0,0,0,{"$f":"組合分担金内訳!E23","v":0},0,0,0,0,0,0,0,0,0,0,{"$f":"組合分担金内訳!G23","v":0},0,0,0,0,0,0,0,0,0,0,0,0,0,0,0,0,{"$f":"組合分担金内訳!H23","v":0},0,0,0,0,0,0,0,0,0,0,0,0,0,0,0,0,0,0,0,0,0,0,0,0,0,0,0,0,0,0,0]
["熊本県","43368","長洲町",0,0,0,0,0,0,0,{"$f":"組合分担金内訳!D24","v":0},0,0,0,0,0,0,0,0,0,0,0,0,0,0,0,0,{"$f":"組合分担金内訳!E24","v":0},0,0,0,0,0,0,0,0,0,0,{"$f":"組合分担金内訳!G24","v":0},0,0,0,0,0,0,0,0,0,0,0,0,0,0,0,0,{"$f":"組合分担金内訳!H24","v":0},0,0,0,0,0,0,0,0,0,0,0,0,0,0,0,0,0,0,0,0,0,0,0,0,0,0,0,0,0,0,0]
["熊本県","43369","和水町",0,0,0,0,0,0,0,{"$f":"組合分担金内訳!D25","v":0},0,0,0,0,0,0,0,0,0,0,0,0,0,0,0,0,{"$f":"組合分担金内訳!E25","v":0},0,0,0,0,0,0,0,0,0,0,{"$f":"組合分担金内訳!G25","v":0},0,0,0,0,0,0,0,0,0,0,0,0,0,0,0,0,{"$f":"組合分担金内訳!H25","v":0},0,0,0,0,0,0,0,0,0,0,0,0,0,0,0,0,0,0,0,0,0,0,0,0,0,0,0,0,0,0,0]
["熊本県","43403","大津町",0,0,0,0,0,0,0,{"$f":"組合分担金内訳!D26","v":0},0,0,0,0,0,0,0,0,0,0,0,0,0,0,0,0,{"$f":"組合分担金内訳!E26","v":0},0,0,0,0,0,0,0,0,0,0,{"$f":"組合分担金内訳!G26","v":0},0,0,0,0,0,0,0,0,0,0,0,0,0,0,0,0,{"$f":"組合分担金内訳!H26","v":0},0,0,0,0,0,0,0,0,0,0,0,0,0,0,0,0,0,0,0,0,0,0,0,0,0,0,0,0,0,0,0]
["熊本県","43404","菊陽町",0,0,0,0,0,0,0,{"$f":"組合分担金内訳!D27","v":0},0,0,0,0,0,0,0,0,0,0,0,0,0,0,0,0,{"$f":"組合分担金内訳!E27","v":0},0,0,0,0,0,0,0,0,0,0,{"$f":"組合分担金内訳!G27","v":0},0,0,0,0,0,0,0,0,0,0,0,0,0,0,0,0,{"$f":"組合分担金内訳!H27","v":0},0,0,0,0,0,0,0,0,0,0,0,0,0,0,0,0,0,0,0,0,0,0,0,0,0,0,0,0,0,0,0]
["熊本県","43423","南小国町",0,0,0,0,0,0,0,{"$f":"組合分担金内訳!D28","v":0},0,0,0,0,0,0,0,0,0,0,0,0,0,0,0,0,{"$f":"組合分担金内訳!E28","v":0},0,0,0,0,0,0,0,0,0,0,{"$f":"組合分担金内訳!G28","v":0},0,0,0,0,0,0,0,0,0,0,0,0,0,0,0,0,{"$f":"組合分担金内訳!H28","v":0},0,0,0,0,0,0,0,0,0,0,0,0,0,0,0,0,0,0,0,0,0,0,0,0,0,0,0,0,0,0,0]
["熊本県","43424","小国町",0,0,0,0,0,0,0,{"$f":"組合分担金内訳!D29","v":0},0,0,0,0,0,0,0,0,0,0,0,0,0,0,0,0,{"$f":"組合分担金内訳!E29","v":0},0,0,0,0,0,0,0,0,0,0,{"$f":"組合分担金内訳!G29","v":0},0,0,0,0,0,0,0,0,0,0,0,0,0,0,0,0,{"$f":"組合分担金内訳!H29","v":0},0,0,0,0,0,0,0,0,0,0,0,0,0,0,0,0,0,0,0,0,0,0,0,0,0,0,0,0,0,0,0]
["熊本県","43425","産山村",0,0,0,0,0,0,0,{"$f":"組合分担金内訳!D30","v":0},0,0,0,0,0,0,0,0,0,0,0,0,0,0,0,0,{"$f":"組合分担金内訳!E30","v":0},0,0,0,0,0,0,0,0,0,0,{"$f":"組合分担金内訳!G30","v":0},0,0,0,0,0,0,0,0,0,0,0,0,0,0,0,0,{"$f":"組合分担金内訳!H30","v":0},0,0,0,0,0,0,0,0,0,0,0,0,0,0,0,0,0,0,0,0,0,0,0,0,0,0,0,0,0,0,0]
["熊本県","43428","高森町",0,0,0,0,0,0,0,{"$f":"組合分担金内訳!D31","v":0},0,0,0,0,0,0,0,0,0,0,0,0,0,0,0,0,{"$f":"組合分担金内訳!E31","v":0},0,0,0,0,0,0,0,0,0,0,{"$f":"組合分担金内訳!G31","v":0},0,0,0,0,0,0,0,0,0,0,0,0,0,0,0,0,{"$f":"組合分担金内訳!H31","v":0},0,0,0,0,0,0,0,0,0,0,0,0,0,0,0,0,0,0,0,0,0,0,0,0,0,0,0,0,0,0,0]
["熊本県","43432","西原村",0,0,0,0,0,0,0,{"$f":"組合分担金内訳!D32","v":0},0,0,0,0,0,0,0,0,0,0,0,0,0,0,0,0,{"$f":"組合分担金内訳!E32","v":0},0,0,0,0,0,0,0,0,0,0,{"$f":"組合分担金内訳!G32","v":0},0,0,0,0,0,0,0,0,0,0,0,0,0,0,0,0,{"$f":"組合分担金内訳!H32","v":0},0,0,0,0,0,0,0,0,0,0,0,0,0,0,0,0,0,0,0,0,0,0,0,0,0,0,0,0,0,0,0]
["熊本県","43433","南阿蘇村",0,0,0,0,0,0,0,{"$f":"組合分担金内訳!D33","v":0},0,0,0,0,0,0,0,0,0,0,0,0,0,0,0,0,{"$f":"組合分担金内訳!E33","v":0},0,0,0,0,0,0,0,0,0,0,{"$f":"組合分担金内訳!G33","v":0},0,0,0,0,0,0,0,0,0,0,0,0,0,0,0,0,{"$f":"組合分担金内訳!H33","v":0},0,0,0,0,0,0,0,0,0,0,0,0,0,0,0,0,0,0,0,0,0,0,0,0,0,0,0,0,0,0,0]
["熊本県","43441","御船町",0,0,0,0,0,0,0,{"$f":"組合分担金内訳!D34","v":0},0,0,0,0,0,0,0,0,0,0,0,0,0,0,0,0,{"$f":"組合分担金内訳!E34","v":0},0,0,0,0,0,0,0,0,0,0,{"$f":"組合分担金内訳!G34","v":0},0,0,0,0,0,0,0,0,0,0,0,0,0,0,0,0,{"$f":"組合分担金内訳!H34","v":0},0,0,0,0,0,0,0,0,0,0,0,0,0,0,0,0,0,0,0,0,0,0,0,0,0,0,0,0,0,0,0]
["熊本県","43442","嘉島町",0,0,0,0,0,0,0,{"$f":"組合分担金内訳!D35","v":0},0,0,0,0,0,0,0,0,0,0,0,0,0,0,0,0,{"$f":"組合分担金内訳!E35","v":0},0,0,0,0,0,0,0,0,0,0,{"$f":"組合分担金内訳!G35","v":0},0,0,0,0,0,0,0,0,0,0,0,0,0,0,0,0,{"$f":"組合分担金内訳!H35","v":0},0,0,0,0,0,0,0,0,0,0,0,0,0,0,0,0,0,0,0,0,0,0,0,0,0,0,0,0,0,0,0]
["熊本県","43443","益城町",0,0,0,0,0,0,0,{"$f":"組合分担金内訳!D36","v":0},0,0,0,0,0,0,0,0,0,0,0,0,0,0,0,0,{"$f":"組合分担金内訳!E36","v":0},0,0,0,0,0,0,0,0,0,0,{"$f":"組合分担金内訳!G36","v":0},0,0,0,0,0,0,0,0,0,0,0,0,0,0,0,0,{"$f":"組合分担金内訳!H36","v":0},0,0,0,0,0,0,0,0,0,0,0,0,0,0,0,0,0,0,0,0,0,0,0,0,0,0,0,0,0,0,0]
["熊本県","43447","山都町",0,0,0,0,0,0,0,{"$f":"組合分担金内訳!D37","v":0},0,0,0,0,0,0,0,0,0,0,0,0,0,0,0,0,{"$f":"組合分担金内訳!E37","v":0},0,0,0,0,0,0,0,0,0,0,{"$f":"組合分担金内訳!G37","v":0},0,0,0,0,0,0,0,0,0,0,0,0,0,0,0,0,{"$f":"組合分担金内訳!H37","v":0},0,0,0,0,0,0,0,0,0,0,0,0,0,0,0,0,0,0,0,0,0,0,0,0,0,0,0,0,0,0,0]
["熊本県","43468","氷川町",0,0,0,0,0,0,0,{"$f":"組合分担金内訳!D38","v":0},0,0,0,0,0,0,0,0,0,0,0,0,0,0,0,0,{"$f":"組合分担金内訳!E38","v":0},0,0,0,0,0,0,0,0,0,0,{"$f":"組合分担金内訳!G38","v":0},0,0,0,0,0,0,0,0,0,0,0,0,0,0,0,0,{"$f":"組合分担金内訳!H38","v":0},0,0,0,0,0,0,0,0,0,0,0,0,0,0,0,0,0,0,0,0,0,0,0,0,0,0,0,0,0,0,0]
["熊本県","43482","芦北町",0,0,0,0,0,0,0,{"$f":"組合分担金内訳!D39","v":0},0,0,0,0,0,0,0,0,0,0,0,0,0,0,0,0,{"$f":"組合分担金内訳!E39","v":0},0,0,0,0,0,0,0,0,0,0,{"$f":"組合分担金内訳!G39","v":0},0,0,0,0,0,0,0,0,0,0,0,0,0,0,0,0,{"$f":"組合分担金内訳!H39","v":0},0,0,0,0,0,0,0,0,0,0,0,0,0,0,0,0,0,0,0,0,0,0,0,0,0,0,0,0,0,0,0]
["熊本県","43501","錦町",{"v":26000,"d":"26,000"},{"v":26000,"d":"26,000"},0,0,0,{"v":26000,"d":"26,000"},0,{"$f":"組合分担金内訳!D40","v":0},0,0,0,0,0,0,0,0,0,0,0,0,0,0,0,0,{"$f":"組合分担金内訳!E40","v":0},0,0,{"v":26000,"d":"26,000"},0,0,0,0,0,0,0,{"$f":"組合分担金内訳!G40","v":0},0,0,0,0,0,0,0,0,0,0,0,0,0,0,0,0,{"$f":"組合分担金内訳!H40","v":0},0,0,0,{"v":26000,"d":"26,000"},{"v":26000,"d":"26,000"},0,0,0,{"v":26000,"d":"26,000"},0,0,0,0,0,0,0,0,0,0,0,0,0,0,0,0,0,0,0,0,0,{"v":26000,"d":"26,000"}]
["熊本県","43505","多良木町",0,0,0,0,0,0,0,{"$f":"組合分担金内訳!D41","v":0},{"v":2783,"d":"2,783"},0,0,0,0,0,9,0,9,0,0,{"v":2774,"d":"2,774"},0,{"v":2774,"d":"2,774"},0,0,{"$f":"組合分担金内訳!E41","v":0},0,0,{"v":2783,"d":"2,783"},0,0,0,0,0,0,0,{"$f":"組合分担金内訳!G41","v":0},0,0,0,0,0,0,0,0,0,0,0,0,0,0,0,0,{"$f":"組合分担金内訳!H41","v":0},0,0,0,0,0,0,0,0,0,0,0,{"v":2783,"d":"2,783"},0,0,0,0,0,9,0,9,0,0,{"v":2774,"d":"2,774"},0,{"v":2774,"d":"2,774"},0,0,0,0,0,{"v":2783,"d":"2,783"}]
["熊本県","43506","湯前町",{"v":1031,"d":"1,031"},{"v":1031,"d":"1,031"},{"v":1031,"d":"1,031"},0,0,0,0,{"$f":"組合分担金内訳!D42","v":0},638,0,0,0,0,0,20,20,0,0,0,618,618,0,0,0,{"$f":"組合分担金内訳!E42","v":0},0,0,{"v":1669,"d":"1,669"},0,0,0,0,0,0,0,{"$f":"組合分担金内訳!G42","v":0},0,0,0,0,0,0,0,0,0,0,0,0,0,0,0,0,{"$f":"組合分担金内訳!H42","v":0},0,0,0,{"v":1031,"d":"1,031"},{"v":1031,"d":"1,031"},{"v":1031,"d":"1,031"},0,0,0,0,0,638,0,0,0,0,0,20,20,0,0,0,618,618,0,0,0,0,0,0,{"v":1669,"d":"1,669"}]
["熊本県","43507","水上村",0,0,0,0,0,0,0,{"$f":"組合分担金内訳!D43","v":0},0,0,0,0,0,0,0,0,0,0,0,0,0,0,0,0,{"$f":"組合分担金内訳!E43","v":0},0,0,0,0,0,0,0,0,0,0,{"$f":"組合分担金内訳!G43","v":0},0,0,0,0,0,0,0,0,0,0,0,0,0,0,0,0,{"$f":"組合分担金内訳!H43","v":0},0,0,0,0,0,0,0,0,0,0,0,0,0,0,0,0,0,0,0,0,0,0,0,0,0,0,0,0,0,0,0]
["熊本県","43510","相良村",0,0,0,0,0,0,0,{"$f":"組合分担金内訳!D44","v":0},0,0,0,0,0,0,0,0,0,0,0,0,0,0,0,0,{"$f":"組合分担金内訳!E44","v":0},0,0,0,0,0,0,0,0,0,0,{"$f":"組合分担金内訳!G44","v":0},0,0,0,0,0,0,0,0,0,0,0,0,0,0,0,0,{"$f":"組合分担金内訳!H44","v":0},0,0,0,0,0,0,0,0,0,0,0,0,0,0,0,0,0,0,0,0,0,0,0,0,0,0,0,0,0,0,0]
["熊本県","43511","五木村",0,0,0,0,0,0,0,{"$f":"組合分担金内訳!D45","v":0},618,0,0,0,0,0,0,0,0,0,0,618,0,0,0,618,{"$f":"組合分担金内訳!E45","v":0},0,0,618,0,0,0,0,0,0,0,{"$f":"組合分担金内訳!G45","v":0},0,0,0,0,0,0,0,0,0,0,0,0,0,0,0,0,{"$f":"組合分担金内訳!H45","v":0},0,0,0,0,0,0,0,0,0,0,0,618,0,0,0,0,0,0,0,0,0,0,618,0,0,0,618,0,0,0,618]
["熊本県","43512","山江村",0,0,0,0,0,0,0,{"$f":"組合分担金内訳!D46","v":0},0,0,0,0,0,0,0,0,0,0,0,0,0,0,0,0,{"$f":"組合分担金内訳!E46","v":0},0,0,0,0,0,0,0,0,0,0,{"$f":"組合分担金内訳!G46","v":0},0,0,0,0,0,0,0,0,0,0,0,0,0,0,0,0,{"$f":"組合分担金内訳!H46","v":0},0,0,0,0,0,0,0,0,0,0,0,0,0,0,0,0,0,0,0,0,0,0,0,0,0,0,0,0,0,0,0]
["熊本県","43513","球磨村",0,0,0,0,0,0,0,{"$f":"組合分担金内訳!D47","v":0},0,0,0,0,0,0,0,0,0,0,0,0,0,0,0,0,{"$f":"組合分担金内訳!E47","v":0},0,0,0,0,0,0,0,0,0,0,{"$f":"組合分担金内訳!G47","v":0},0,0,0,0,0,0,0,0,0,0,0,0,0,0,0,0,{"$f":"組合分担金内訳!H47","v":0},0,0,0,0,0,0,0,0,0,0,0,0,0,0,0,0,0,0,0,0,0,0,0,0,0,0,0,0,0,0,0]
["熊本県","43531","苓北町",0,0,0,0,0,0,0,{"$f":"組合分担金内訳!D48","v":0},0,0,0,0,0,0,0,0,0,0,0,0,0,0,0,0,{"$f":"組合分担金内訳!E48","v":0},0,0,0,0,0,0,0,0,0,0,{"$f":"組合分担金内訳!G48","v":0},0,0,0,0,0,0,0,0,0,0,0,0,0,0,0,0,{"$f":"組合分担金内訳!H48","v":0},0,0,0,0,0,0,0,0,0,0,0,0,0,0,0,0,0,0,0,0,0,0,0,0,0,0,0,0,0,0,0]
["熊本県","43854","菊池環境保全組合",0,0,0,0,0,0,0,0,0,0,0,0,0,0,0,0,0,0,0,0,0,0,0,0,0,0,0,0,0,0,0,0,0,0,0,0,0,0,0,0,0,0,0,0,0,0,0,0,0,0,0,0,0,0,0,0,0,0,0,0,0,0,0,0,0,0,0,0,0,0,0,0,0,0,0,0,0,0,0,0,0,0,0,0]
["熊本県","43857","御船地区衛生施設組合",0,0,0,0,0,0,0,0,0,0,0,0,0,0,0,0,0,0,0,0,0,0,0,0,0,0,0,0,0,0,0,0,0,0,0,0,0,0,0,0,0,0,0,0,0,0,0,0,0,0,0,0,0,0,0,0,0,0,0,0,0,0,0,0,0,0,0,0,0,0,0,0,0,0,0,0,0,0,0,0,0,0,0,0]
["熊本県","43935","上天草衛生施設組合",0,0,0,0,0,0,0,0,0,0,0,0,0,0,0,0,0,0,0,0,0,0,0,0,0,0,0,0,0,0,0,0,0,0,0,0,0,0,0,0,0,0,0,0,0,0,0,0,0,0,0,0,0,0,0,0,0,0,0,0,0,0,0,0,0,0,0,0,0,0,0,0,0,0,0,0,0,0,0,0,0,0,0,0]
["熊本県","43949","益城、嘉島、西原環境衛生施設組合",0,0,0,0,0,0,0,0,0,0,0,0,0,0,0,0,0,0,0,0,0,0,0,0,0,0,0,0,0,0,0,0,0,0,0,0,0,0,0,0,0,0,0,0,0,0,0,0,0,0,0,0,0,0,0,0,0,0,0,0,0,0,0,0,0,0,0,0,0,0,0,0,0,0,0,0,0,0,0,0,0,0,0,0]
["熊本県","43954","山鹿植木広域行政事務組合",0,0,0,0,0,0,0,0,0,0,0,0,0,0,0,0,0,0,0,0,0,0,0,0,0,0,0,0,0,0,0,0,0,0,0,0,0,0,0,0,0,0,0,0,0,0,0,0,0,0,0,0,0,0,0,0,0,0,0,0,0,0,0,0,0,0,0,0,0,0,0,0,0,0,0,0,0,0,0,0,0,0,0,0]
["熊本県","43974","八代生活環境事務組合",0,0,0,0,0,0,0,0,0,0,0,0,0,0,0,0,0,0,0,0,0,0,0,0,0,0,0,0,0,0,0,0,0,0,0,0,0,0,0,0,0,0,0,0,0,0,0,0,0,0,0,0,0,0,0,0,0,0,0,0,0,0,0,0,0,0,0,0,0,0,0,0,0,0,0,0,0,0,0,0,0,0,0,0]
["熊本県","43985","阿蘇広域行政事務組合",0,0,0,0,0,0,0,0,0,0,0,0,0,0,0,0,0,0,0,0,0,0,0,0,0,0,0,0,0,0,0,0,0,0,0,0,0,0,0,0,0,0,0,0,0,0,0,0,0,0,0,0,0,0,0,0,0,0,0,0,0,0,0,0,0,0,0,0,0,0,0,0,0,0,0,0,0,0,0,0,0,0,0,0]
["熊本県","43986","人吉球磨広域行政組合",0,0,0,0,0,0,0,0,0,0,0,0,0,0,0,0,0,0,0,0,0,0,0,0,0,0,0,0,0,0,0,0,0,0,0,0,0,0,0,0,0,0,0,0,0,0,0,0,0,0,0,0,0,0,0,0,0,0,0,0,0,0,0,0,0,0,0,0,0,0,0,0,0,0,0,0,0,0,0,0,0,0,0,0]
["熊本県","43991","有明広域行政事務組合",0,0,0,0,0,0,0,0,0,0,0,0,0,0,0,0,0,0,0,0,0,0,0,0,0,0,0,0,0,0,0,0,0,0,0,0,0,0,0,0,0,0,0,0,0,0,0,0,0,0,0,0,0,0,0,0,0,0,0,0,0,0,0,0,0,0,0,0,0,0,0,0,0,0,0,0,0,0,0,0,0,0,0,0]
["熊本県","43993","水俣芦北広域行政事務組合",0,0,0,0,0,0,0,0,0,0,0,0,0,0,0,0,0,0,0,0,0,0,0,0,0,0,0,0,0,0,0,0,0,0,0,0,0,0,0,0,0,0,0,0,0,0,0,0,0,0,0,0,0,0,0,0,0,0,0,0,0,0,0,0,0,0,0,0,0,0,0,0,0,0,0,0,0,0,0,0,0,0,0,0]
["熊本県","43995","宇城広域連合",0,0,0,0,0,0,0,0,0,0,0,0,0,0,0,0,0,0,0,0,0,0,0,0,0,0,0,0,0,0,0,0,0,0,0,0,0,0,0,0,0,0,0,0,0,0,0,0,0,0,0,0,0,0,0,0,0,0,0,0,0,0,0,0,0,0,0,0,0,0,0,0,0,0,0,0,0,0,0,0,0,0,0,0]
["熊本県","43996","菊池広域連合",0,0,0,0,0,0,0,0,0,0,0,0,0,0,0,0,0,0,0,0,0,0,0,0,0,0,0,0,0,0,0,0,0,0,0,0,0,0,0,0,0,0,0,0,0,0,0,0,0,0,0,0,0,0,0,0,0,0,0,0,0,0,0,0,0,0,0,0,0,0,0,0,0,0,0,0,0,0,0,0,0,0,0,0]

{"sheet":"組合分担金内訳","index":4,"n_rows":60,"n_cols":57,"rows_kept":60,"merged":[[1,0,5,0],[1,1,5,1],[1,2,5,2],[3,9,5,9],[3,10,5,10],[3,17,5,17],[3,18,5,18],[3,25,5,25],[3,26,5,26],[3,33,5,33],[3,34,5,34],[3,41,5,41],[3,42,5,42],[3,49,5,49],[3,50,5,50]]}
["【災害】廃棄物処理事業経費【分担金の合計】（令和4年度実績）"]
["都道府県名","地方公共団体コード","市区町村名","合計（広域団体１+広域団体２+広域団体３+広域団体４+広域団体５+広域団体６）",{"$nulls":5},"広域団体１",{"$nulls":7},"広域団体２",{"$nulls":7},"広域団体３",{"$nulls":7},"広域団体４",{"$nulls":7},"広域団体５",{"$nulls":7},"広域団体６"]
[]
[{"$nulls":3},"ごみ",null,null,"し尿",null,null,"広域団体ｺｰﾄﾞ","一部事務組合・広域連合名","ごみ",null,null,"し尿",null,null,"広域団体ｺｰﾄﾞ","一部事務組合・広域連合名","ごみ",null,null,"し尿",null,null,"広域団体ｺｰﾄﾞ","一部事務組合・広域連合名","ごみ",null,null,"し尿",null,null,"広域団体ｺｰﾄﾞ","一部事務組合・広域連合名","ごみ",null,null,"し尿",null,null,"広域団体ｺｰﾄﾞ","一部事務組合・広域連合名","ごみ",null,null,"し尿",null,null,"広域団体ｺｰﾄﾞ","一部事務組合・広域連合名","ごみ",null,null,"し尿"]
[{"$nulls":3},"建設・改良費","処理及び\n維持管理費","合計","建設・改良費","処理及び\n維持管理費","合計",null,null,"建設・改良費","処理及び\n維持管理費","小計","建設・改良費","処理及び\n維持管理費","小計",null,null,"建設・改良費","処理及び\n維持管理費","小計","建設・改良費","処理及び\n維持管理費","小計",null,null,"建設・改良費","処理及び\n維持管理費","小計","建設・改良費","処理及び\n維持管理費","小計",null,null,"建設・改良費","処理及び\n維持管理費","小計","建設・改良費","処理及び\n維持管理費","小計",null,null,"建設・改良費","処理及び\n維持管理費","小計","建設・改良費","処理及び\n維持管理費","小計",null,null,"建設・改良費","処理及び\n維持管理費","小計","建設・改良費","処理及び\n維持管理費","小計"]
[{"$nulls":3},"（千円）","（千円）","（千円）","（千円）","（千円）","（千円）",null,null,"（千円）","（千円）","（千円）","（千円）","（千円）","（千円）",null,null,"（千円）","（千円）","（千円）","（千円）","（千円）","（千円）",null,null,"（千円）","（千円）","（千円）","（千円）","（千円）","（千円）",null,null,"（千円）","（千円）","（千円）","（千円）","（千円）","（千円）",null,null,"（千円）","（千円）","（千円）","（千円）","（千円）","（千円）",null,null,"（千円）","（千円）","（千円）","（千円）","（千円）","（千円）"]
["熊本県","43000","合計",{"$f":"SUM($D$8:$D$48)","v":0},{"$f":"SUM($E$8:$E$48)","v":0},{"$f":"SUM($F$8:$F$48)","v":0},{"$f":"SUM($G$8:$G$48)","v":0},{"$f":"SUM($H$8:$H$48)","v":0},{"$f":"SUM($I$8:$I$48)","v":0},{"$f":"COUNTIF($J$8:$J$48,\"<>\") - COUNTIF($J$8:$J$48,\"< >\")","v":0},{"$f":"COUNTIF($K$8:$K$48,\"<>\") - COUNTIF($K$8:$K$48,\"< >\")","v":0},{"$f":"SUM($L$8:$L$48)","v":0},{"$f":"SUM($M$8:$M$48)","v":0},{"$f":"SUM($N$8:$N$48)","v":0},{"$f":"SUM($O$8:$O$48)","v":0},{"$f":"SUM($P$8:$P$48)","v":0},{"$f":"SUM($Q$8:$Q$48)","v":0},{"$f":"COUNTIF($R$8:$R$48,\"<>\") - COUNTIF($R$8:$R$48,\"< >\")","v":0},{"$f":"COUNTIF($S$8:$S$48,\"<>\") - COUNTIF($S$8:$S$48,\"< >\")","v":0},{"$f":"SUM($T$8:$T$48)","v":0},{"$f":"SUM($U$8:$U$48)","v":0},{"$f":"SUM($V$8:$V$48)","v":0},{"$f":"SUM($W$8:$W$48)","v":0},{"$f":"SUM($X$8:$X$48)","v":0},{"$f":"SUM($Y$8:$Y$48)","v":0},{"$f":"COUNTIF($Z$8:$Z$48,\"<>\") - COUNTIF($Z$8:$Z$48,\"< >\")","v":0},{"$f":"COUNTIF($AA$8:$AA$48,\"<>\") - COUNTIF($AA$8:$AA$48,\"< >\")","v":0},{"$f":"SUM($AB$8:$AB$48)","v":0},{"$f":"SUM($AC$8:$AC$48)","v":0},{"$f":"SUM($AD$8:$AD$48)","v":0},{"$f":"SUM($AE$8:$AE$48)","v":0},{"$f":"SUM($AF$8:$AF$48)","v":0},{"$f":"SUM($AG$8:$AG$48)","v":0},{"$f":"COUNTIF($AH$8:$AH$48,\"<>\") - COUNTIF($AH$8:$AH$48,\"< >\")","v":0},{"$f":"COUNTIF($AI$8:$AI$48,\"<>\") - COUNTIF($AI$8:$AI$48,\"< >\")","v":0},{"$f":"SUM($AJ$8:$AJ$48)","v":0},{"$f":"SUM($AK$8:$AK$48)","v":0},{"$f":"SUM($AL$8:$AL$48)","v":0},{"$f":"SUM($AM$8:$AM$48)","v":0},{"$f":"SUM($AN$8:$AN$48)","v":0},{"$f":"SUM($AO$8:$AO$48)","v":0},{"$f":"COUNTIF($AP$8:$AP$48,\"<>\") - COUNTIF($AP$8:$AP$48,\"< >\")","v":0},{"$f":"COUNTIF($AQ$8:$AQ$48,\"<>\") - COUNTIF($AQ$8:$AQ$48,\"< >\")","v":0},{"$f":"SUM($AR$8:$AR$48)","v":0},{"$f":"SUM($AS$8:$AS$48)","v":0},{"$f":"SUM($AT$8:$AT$48)","v":0},{"$f":"SUM($AU$8:$AU$48)","v":0},{"$f":"SUM($AV$8:$AV$48)","v":0},{"$f":"SUM($AW$8:$AW$48)","v":0},{"$f":"COUNTIF($AX$8:$AX$48,\"<>\") - COUNTIF($AX$8:$AX$48,\"< >\")","v":0},{"$f":"COUNTIF($AY$8:$AY$48,\"<>\") - COUNTIF($AY$8:$AY$48,\"< >\")","v":0},{"$f":"SUM($AZ$8:$AZ$48)","v":0},{"$f":"SUM($BA$8:$BA$48)","v":0},{"$f":"SUM($BB$8:$BB$48)","v":0},{"$f":"SUM($BC$8:$BC$48)","v":0},{"$f":"SUM($BD$8:$BD$48)","v":0},{"$f":"SUM($BE$8:$BE$48)","v":0}]
["熊本県","43100","熊本市",{"$f":"SUM(L8,T8,AB8,AJ8,AR8,AZ8)","v":0},{"$f":"SUM(M8,U8,AC8,AK8,AS8,BA8)","v":0},{"$f":"SUM(D8:E8)","v":0},{"$f":"SUM(O8,W8,AE8,AM8,AU8,BC8)","v":0},{"$f":"SUM(P8,X8,AF8,AN8,AV8,BD8)","v":0},{"$f":"SUM(G8:H8)","v":0},"","",0,0,{"$f":"SUM(L8,+M8)","v":0},0,0,{"$f":"SUM(O8,+P8)","v":0},"","",0,0,0,0,0,0,"","",0,0,0,0,0,{"$f":"SUM(AE8,+AF8)","v":0},"","",0,0,{"$f":"SUM(AJ8,+AK8)","v":0},0,0,{"$f":"SUM(AM8,+AN8)","v":0},"","",0,0,{"$f":"SUM(AR8,+AS8)","v":0},0,0,{"$f":"SUM(AU8,+AV8)","v":0},"","",0,0,{"$f":"SUM(AZ8,BA8)","v":0},0,0,{"$f":"SUM(BC8,+BD8)","v":0}]
["熊本県","43202","八代市",{"$f":"SUM(L9,T9,AB9,AJ9,AR9,AZ9)","v":0},{"$f":"SUM(M9,U9,AC9,AK9,AS9,BA9)","v":0},{"$f":"SUM(D9:E9)","v":0},{"$f":"SUM(O9,W9,AE9,AM9,AU9,BC9)","v":0},{"$f":"SUM(P9,X9,AF9,AN9,AV9,BD9)","v":0},{"$f":"SUM(G9:H9)","v":0},"","",0,0,{"$f":"SUM(L9,+M9)","v":0},0,0,{"$f":"SUM(O9,+P9)","v":0},"","",0,0,0,0,0,0,"","",0,0,0,0,0,{"$f":"SUM(AE9,+AF9)","v":0},"","",0,0,{"$f":"SUM(AJ9,+AK9)","v":0},0,0,{"$f":"SUM(AM9,+AN9)","v":0},"","",0,0,{"$f":"SUM(AR9,+AS9)","v":0},0,0,{"$f":"SUM(AU9,+AV9)","v":0},"","",0,0,{"$f":"SUM(AZ9,BA9)","v":0},0,0,{"$f":"SUM(BC9,+BD9)","v":0}]
["熊本県","43203","人吉市",{"$f":"SUM(L10,T10,AB10,AJ10,AR10,AZ10)","v":0},{"$f":"SUM(M10,U10,AC10,AK10,AS10,BA10)","v":0},{"$f":"SUM(D10:E10)","v":0},{"$f":"SUM(O10,W10,AE10,AM10,AU10,BC10)","v":0},{"$f":"SUM(P10,X10,AF10,AN10,AV10,BD10)","v":0},{"$f":"SUM(G10:H10)","v":0},"","",0,0,{"$f":"SUM(L10,+M10)","v":0},0,0,{"$f":"SUM(O10,+P10)","v":0},"","",0,0,0,0,0,0,"","",0,0,0,0,0,{"$f":"SUM(AE10,+AF10)","v":0},"","",0,0,{"$f":"SUM(AJ10,+AK10)","v":0},0,0,{"$f":"SUM(AM10,+AN10)","v":0},"","",0,0,{"$f":"SUM(AR10,+AS10)","v":0},0,0,{"$f":"SUM(AU10,+AV10)","v":0},"","",0,0,{"$f":"SUM(AZ10,BA10)","v":0},0,0,{"$f":"SUM(BC10,+BD10)","v":0}]
["熊本県","43204","荒尾市",{"$f":"SUM(L11,T11,AB11,AJ11,AR11,AZ11)","v":0},{"$f":"SUM(M11,U11,AC11,AK11,AS11,BA11)","v":0},{"$f":"SUM(D11:E11)","v":0},{"$f":"SUM(O11,W11,AE11,AM11,AU11,BC11)","v":0},{"$f":"SUM(P11,X11,AF11,AN11,AV11,BD11)","v":0},{"$f":"SUM(G11:H11)","v":0},"","",0,0,{"$f":"SUM(L11,+M11)","v":0},0,0,{"$f":"SUM(O11,+P11)","v":0},"","",0,0,0,0,0,0,"","",0,0,0,0,0,{"$f":"SUM(AE11,+AF11)","v":0},"","",0,0,{"$f":"SUM(AJ11,+AK11)","v":0},0,0,{"$f":"SUM(AM11,+AN11)","v":0},"","",0,0,{"$f":"SUM(AR11,+AS11)","v":0},0,0,{"$f":"SUM(AU11,+AV11)","v":0},"","",0,0,{"$f":"SUM(AZ11,BA11)","v":0},0,0,{"$f":"SUM(BC11,+BD11)","v":0}]
["熊本県","43205","水俣市",{"$f":"SUM(L12,T12,AB12,AJ12,AR12,AZ12)","v":0},{"$f":"SUM(M12,U12,AC12,AK12,AS12,BA12)","v":0},{"$f":"SUM(D12:E12)","v":0},{"$f":"SUM(O12,W12,AE12,AM12,AU12,BC12)","v":0},{"$f":"SUM(P12,X12,AF12,AN12,AV12,BD12)","v":0},{"$f":"SUM(G12:H12)","v":0},"","",0,0,{"$f":"SUM(L12,+M12)","v":0},0,0,{"$f":"SUM(O12,+P12)","v":0},"","",0,0,0,0,0,0,"","",0,0,0,0,0,{"$f":"SUM(AE12,+AF12)","v":0},"","",0,0,{"$f":"SUM(AJ12,+AK12)","v":0},0,0,{"$f":"SUM(AM12,+AN12)","v":0},"","",0,0,{"$f":"SUM(AR12,+AS12)","v":0},0,0,{"$f":"SUM(AU12,+AV12)","v":0},"","",0,0,{"$f":"SUM(AZ12,BA12)","v":0},0,0,{"$f":"SUM(BC12,+BD12)","v":0}]
["熊本県","43206","玉名市",{"$f":"SUM(L13,T13,AB13,AJ13,AR13,AZ13)","v":0},{"$f":"SUM(M13,U13,AC13,AK13,AS13,BA13)","v":0},{"$f":"SUM(D13:E13)","v":0},{"$f":"SUM(O13,W13,AE13,AM13,AU13,BC13)","v":0},{"$f":"SUM(P13,X13,AF13,AN13,AV13,BD13)","v":0},{"$f":"SUM(G13:H13)","v":0},"","",0,0,{"$f":"SUM(L13,+M13)","v":0},0,0,{"$f":"SUM(O13,+P13)","v":0},"","",0,0,0,0,0,0,"","",0,0,0,0,0,{"$f":"SUM(AE13,+AF13)","v":0},"","",0,0,{"$f":"SUM(AJ13,+AK13)","v":0},0,0,{"$f":"SUM(AM13,+AN13)","v":0},"","",0,0,{"$f":"SUM(AR13,+AS13)","v":0},0,0,{"$f":"SUM(AU13,+AV13)","v":0},"","",0,0,{"$f":"SUM(AZ13,BA13)","v":0},0,0,{"$f":"SUM(BC13,+BD13)","v":0}]
["熊本県","43208","山鹿市",{"$f":"SUM(L14,T14,AB14,AJ14,AR14,AZ14)","v":0},{"$f":"SUM(M14,U14,AC14,AK14,AS14,BA14)","v":0},{"$f":"SUM(D14:E14)","v":0},{"$f":"SUM(O14,W14,AE14,AM14,AU14,BC14)","v":0},{"$f":"SUM(P14,X14,AF14,AN14,AV14,BD14)","v":0},{"$f":"SUM(G14:H14)","v":0},"","",0,0,{"$f":"SUM(L14,+M14)","v":0},0,0,{"$f":"SUM(O14,+P14)","v":0},"","",0,0,0,0,0,0,"","",0,0,0,0,0,{"$f":"SUM(AE14,+AF14)","v":0},"","",0,0,{"$f":"SUM(AJ14,+AK14)","v":0},0,0,{"$f":"SUM(AM14,+AN14)","v":0},"","",0,0,{"$f":"SUM(AR14,+AS14)","v":0},0,0,{"$f":"SUM(AU14,+AV14)","v":0},"","",0,0,{"$f":"SUM(AZ14,BA14)","v":0},0,0,{"$f":"SUM(BC14,+BD14)","v":0}]
["熊本県","43210","菊池市",{"$f":"SUM(L15,T15,AB15,AJ15,AR15,AZ15)","v":0},{"$f":"SUM(M15,U15,AC15,AK15,AS15,BA15)","v":0},{"$f":"SUM(D15:E15)","v":0},{"$f":"SUM(O15,W15,AE15,AM15,AU15,BC15)","v":0},{"$f":"SUM(P15,X15,AF15,AN15,AV15,BD15)","v":0},{"$f":"SUM(G15:H15)","v":0},"","",0,0,{"$f":"SUM(L15,+M15)","v":0},0,0,{"$f":"SUM(O15,+P15)","v":0},"","",0,0,0,0,0,0,"","",0,0,0,0,0,{"$f":"SUM(AE15,+AF15)","v":0},"","",0,0,{"$f":"SUM(AJ15,+AK15)","v":0},0,0,{"$f":"SUM(AM15,+AN15)","v":0},"","",0,0,{"$f":"SUM(AR15,+AS15)","v":0},0,0,{"$f":"SUM(AU15,+AV15)","v":0},"","",0,0,{"$f":"SUM(AZ15,BA15)","v":0},0,0,{"$f":"SUM(BC15,+BD15)","v":0}]
["熊本県","43211","宇土市",{"$f":"SUM(L16,T16,AB16,AJ16,AR16,AZ16)","v":0},{"$f":"SUM(M16,U16,AC16,AK16,AS16,BA16)","v":0},{"$f":"SUM(D16:E16)","v":0},{"$f":"SUM(O16,W16,AE16,AM16,AU16,BC16)","v":0},{"$f":"SUM(P16,X16,AF16,AN16,AV16,BD16)","v":0},{"$f":"SUM(G16:H16)","v":0},"","",0,0,{"$f":"SUM(L16,+M16)","v":0},0,0,{"$f":"SUM(O16,+P16)","v":0},"","",0,0,0,0,0,0,"","",0,0,0,0,0,{"$f":"SUM(AE16,+AF16)","v":0},"","",0,0,{"$f":"SUM(AJ16,+AK16)","v":0},0,0,{"$f":"SUM(AM16,+AN16)","v":0},"","",0,0,{"$f":"SUM(AR16,+AS16)","v":0},0,0,{"$f":"SUM(AU16,+AV16)","v":0},"","",0,0,{"$f":"SUM(AZ16,BA16)","v":0},0,0,{"$f":"SUM(BC16,+BD16)","v":0}]
["熊本県","43212","上天草市",{"$f":"SUM(L17,T17,AB17,AJ17,AR17,AZ17)","v":0},{"$f":"SUM(M17,U17,AC17,AK17,AS17,BA17)","v":0},{"$f":"SUM(D17:E17)","v":0},{"$f":"SUM(O17,W17,AE17,AM17,AU17,BC17)","v":0},{"$f":"SUM(P17,X17,AF17,AN17,AV17,BD17)","v":0},{"$f":"SUM(G17:H17)","v":0},"","",0,0,{"$f":"SUM(L17,+M17)","v":0},0,0,{"$f":"SUM(O17,+P17)","v":0},"","",0,0,0,0,0,0,"","",0,0,0,0,0,{"$f":"SUM(AE17,+AF17)","v":0},"","",0,0,{"$f":"SUM(AJ17,+AK17)","v":0},0,0,{"$f":"SUM(AM17,+AN17)","v":0},"","",0,0,{"$f":"SUM(AR17,+AS17)","v":0},0,0,{"$f":"SUM(AU17,+AV17)","v":0},"","",0,0,{"$f":"SUM(AZ17,BA17)","v":0},0,0,{"$f":"SUM(BC17,+BD17)","v":0}]
["熊本県","43213","宇城市",{"$f":"SUM(L18,T18,AB18,AJ18,AR18,AZ18)","v":0},{"$f":"SUM(M18,U18,AC18,AK18,AS18,BA18)","v":0},{"$f":"SUM(D18:E18)","v":0},{"$f":"SUM(O18,W18,AE18,AM18,AU18,BC18)","v":0},{"$f":"SUM(P18,X18,AF18,AN18,AV18,BD18)","v":0},{"$f":"SUM(G18:H18)","v":0},"","",0,0,{"$f":"SUM(L18,+M18)","v":0},0,0,{"$f":"SUM(O18,+P18)","v":0},"","",0,0,0,0,0,0,"","",0,0,0,0,0,{"$f":"SUM(AE18,+AF18)","v":0},"","",0,0,{"$f":"SUM(AJ18,+AK18)","v":0},0,0,{"$f":"SUM(AM18,+AN18)","v":0},"","",0,0,{"$f":"SUM(AR18,+AS18)","v":0},0,0,{"$f":"SUM(AU18,+AV18)","v":0},"","",0,0,{"$f":"SUM(AZ18,BA18)","v":0},0,0,{"$f":"SUM(BC18,+BD18)","v":0}]
["熊本県","43214","阿蘇市",{"$f":"SUM(L19,T19,AB19,AJ19,AR19,AZ19)","v":0},{"$f":"SUM(M19,U19,AC19,AK19,AS19,BA19)","v":0},{"$f":"SUM(D19:E19)","v":0},{"$f":"SUM(O19,W19,AE19,AM19,AU19,BC19)","v":0},{"$f":"SUM(P19,X19,AF19,AN19,AV19,BD19)","v":0},{"$f":"SUM(G19:H19)","v":0},"","",0,0,{"$f":"SUM(L19,+M19)","v":0},0,0,{"$f":"SUM(O19,+P19)","v":0},"","",0,0,0,0,0,0,"","",0,0,0,0,0,{"$f":"SUM(AE19,+AF19)","v":0},"","",0,0,{"$f":"SUM(AJ19,+AK19)","v":0},0,0,{"$f":"SUM(AM19,+AN19)","v":0},"","",0,0,{"$f":"SUM(AR19,+AS19)","v":0},0,0,{"$f":"SUM(AU19,+AV19)","v":0},"","",0,0,{"$f":"SUM(AZ19,BA19)","v":0},0,0,{"$f":"SUM(BC19,+BD19)","v":0}]
["熊本県","43216","合志市",{"$f":"SUM(L20,T20,AB20,AJ20,AR20,AZ20)","v":0},{"$f":"SUM(M20,U20,AC20,AK20,AS20,BA20)","v":0},{"$f":"SUM(D20:E20)","v":0},{"$f":"SUM(O20,W20,AE20,AM20,AU20,BC20)","v":0},{"$f":"SUM(P20,X20,AF20,AN20,AV20,BD20)","v":0},{"$f":"SUM(G20:H20)","v":0},"","",0,0,{"$f":"SUM(L20,+M20)","v":0},0,0,{"$f":"SUM(O20,+P20)","v":0},"","",0,0,0,0,0,0,"","",0,0,0,0,0,{"$f":"SUM(AE20,+AF20)","v":0},"","",0,0,{"$f":"SUM(AJ20,+AK20)","v":0},0,0,{"$f":"SUM(AM20,+AN20)","v":0},"","",0,0,{"$f":"SUM(AR20,+AS20)","v":0},0,0,{"$f":"SUM(AU20,+AV20)","v":0},"","",0,0,{"$f":"SUM(AZ20,BA20)","v":0},0,0,{"$f":"SUM(BC20,+BD20)","v":0}]
["熊本県","43348","美里町",{"$f":"SUM(L21,T21,AB21,AJ21,AR21,AZ21)","v":0},{"$f":"SUM(M21,U21,AC21,AK21,AS21,BA21)","v":0},{"$f":"SUM(D21:E21)","v":0},{"$f":"SUM(O21,W21,AE21,AM21,AU21,BC21)","v":0},{"$f":"SUM(P21,X21,AF21,AN21,AV21,BD21)","v":0},{"$f":"SUM(G21:H21)","v":0},"","",0,0,{"$f":"SUM(L21,+M21)","v":0},0,0,{"$f":"SUM(O21,+P21)","v":0},"","",0,0,0,0,0,0,"","",0,0,0,0,0,{"$f":"SUM(AE21,+AF21)","v":0},"","",0,0,{"$f":"SUM(AJ21,+AK21)","v":0},0,0,{"$f":"SUM(AM21,+AN21)","v":0},"","",0,0,{"$f":"SUM(AR21,+AS21)","v":0},0,0,{"$f":"SUM(AU21,+AV21)","v":0},"","",0,0,{"$f":"SUM(AZ21,BA21)","v":0},0,0,{"$f":"SUM(BC21,+BD21)","v":0}]
["熊本県","43364","玉東町",{"$f":"SUM(L22,T22,AB22,AJ22,AR22,AZ22)","v":0},{"$f":"SUM(M22,U22,AC22,AK22,AS22,BA22)","v":0},{"$f":"SUM(D22:E22)","v":0},{"$f":"SUM(O22,W22,AE22,AM22,AU22,BC22)","v":0},{"$f":"SUM(P22,X22,AF22,AN22,AV22,BD22)","v":0},{"$f":"SUM(G22:H22)","v":0},"","",0,0,{"$f":"SUM(L22,+M22)","v":0},0,0,{"$f":"SUM(O22,+P22)","v":0},"","",0,0,0,0,0,0,"","",0,0,0,0,0,{"$f":"SUM(AE22,+AF22)","v":0},"","",0,0,{"$f":"SUM(AJ22,+AK22)","v":0},0,0,{"$f":"SUM(AM22,+AN22)","v":0},"","",0,0,{"$f":"SUM(AR22,+AS22)","v":0},0,0,{"$f":"SUM(AU22,+AV22)","v":0},"","",0,0,{"$f":"SUM(AZ22,BA22)","v":0},0,0,{"$f":"SUM(BC22,+BD22)","v":0}]
["熊本県","43367","南関町",{"$f":"SUM(L23,T23,AB23,AJ23,AR23,AZ23)","v":0},{"$f":"SUM(M23,U23,AC23,AK23,AS23,BA23)","v":0},{"$f":"SUM(D23:E23)","v":0},{"$f":"SUM(O23,W23,AE23,AM23,AU23,BC23)","v":0},{"$f":"SUM(P23,X23,AF23,AN23,AV23,BD23)","v":0},{"$f":"SUM(G23:H23)","v":0},"","",0,0,{"$f":"SUM(L23,+M23)","v":0},0,0,{"$f":"SUM(O23,+P23)","v":0},"","",0,0,0,0,0,0,"","",0,0,0,0,0,{"$f":"SUM(AE23,+AF23)","v":0},"","",0,0,{"$f":"SUM(AJ23,+AK23)","v":0},0,0,{"$f":"SUM(AM23,+AN23)","v":0},"","",0,0,{"$f":"SUM(AR23,+AS23)","v":0},0,0,{"$f":"SUM(AU23,+AV23)","v":0},"","",0,0,{"$f":"SUM(AZ23,BA23)","v":0},0,0,{"$f":"SUM(BC23,+BD23)","v":0}]
["熊本県","43368","長洲町",{"$f":"SUM(L24,T24,AB24,AJ24,AR24,AZ24)","v":0},{"$f":"SUM(M24,U24,AC24,AK24,AS24,BA24)","v":0},{"$f":"SUM(D24:E24)","v":0},{"$f":"SUM(O24,W24,AE24,AM24,AU24,BC24)","v":0},{"$f":"SUM(P24,X24,AF24,AN24,AV24,BD24)","v":0},{"$f":"SUM(G24:H24)","v":0},"","",0,0,{"$f":"SUM(L24,+M24)","v":0},0,0,{"$f":"SUM(O24,+P24)","v":0},"","",0,0,0,0,0,0,"","",0,0,0,0,0,{"$f":"SUM(AE24,+AF24)","v":0},"","",0,0,{"$f":"SUM(AJ24,+AK24)","v":0},0,0,{"$f":"SUM(AM24,+AN24)","v":0},"","",0,0,{"$f":"SUM(AR24,+AS24)","v":0},0,0,{"$f":"SUM(AU24,+AV24)","v":0},"","",0,0,{"$f":"SUM(AZ24,BA24)","v":0},0,0,{"$f":"SUM(BC24,+BD24)","v":0}]
["熊本県","43369","和水町",{"$f":"SUM(L25,T25,AB25,AJ25,AR25,AZ25)","v":0},{"$f":"SUM(M25,U25,AC25,AK25,AS25,BA25)","v":0},{"$f":"SUM(D25:E25)","v":0},{"$f":"SUM(O25,W25,AE25,AM25,AU25,BC25)","v":0},{"$f":"SUM(P25,X25,AF25,AN25,AV25,BD25)","v":0},{"$f":"SUM(G25:H25)","v":0},"","",0,0,{"$f":"SUM(L25,+M25)","v":0},0,0,{"$f":"SUM(O25,+P25)","v":0},"","",0,0,0,0,0,0,"","",0,0,0,0,0,{"$f":"SUM(AE25,+AF25)","v":0},"","",0,0,{"$f":"SUM(AJ25,+AK25)","v":0},0,0,{"$f":"SUM(AM25,+AN25)","v":0},"","",0,0,{"$f":"SUM(AR25,+AS25)","v":0},0,0,{"$f":"SUM(AU25,+AV25)","v":0},"","",0,0,{"$f":"SUM(AZ25,BA25)","v":0},0,0,{"$f":"SUM(BC25,+BD25)","v":0}]
["熊本県","43403","大津町",{"$f":"SUM(L26,T26,AB26,AJ26,AR26,AZ26)","v":0},{"$f":"SUM(M26,U26,AC26,AK26,AS26,BA26)","v":0},{"$f":"SUM(D26:E26)","v":0},{"$f":"SUM(O26,W26,AE26,AM26,AU26,BC26)","v":0},{"$f":"SUM(P26,X26,AF26,AN26,AV26,BD26)","v":0},{"$f":"SUM(G26:H26)","v":0},"","",0,0,{"$f":"SUM(L26,+M26)","v":0},0,0,{"$f":"SUM(O26,+P26)","v":0},"","",0,0,0,0,0,0,"","",0,0,0,0,0,{"$f":"SUM(AE26,+AF26)","v":0},"","",0,0,{"$f":"SUM(AJ26,+AK26)","v":0},0,0,{"$f":"SUM(AM26,+AN26)","v":0},"","",0,0,{"$f":"SUM(AR26,+AS26)","v":0},0,0,{"$f":"SUM(AU26,+AV26)","v":0},"","",0,0,{"$f":"SUM(AZ26,BA26)","v":0},0,0,{"$f":"SUM(BC26,+BD26)","v":0}]
["熊本県","43404","菊陽町",{"$f":"SUM(L27,T27,AB27,AJ27,AR27,AZ27)","v":0},{"$f":"SUM(M27,U27,AC27,AK27,AS27,BA27)","v":0},{"$f":"SUM(D27:E27)","v":0},{"$f":"SUM(O27,W27,AE27,AM27,AU27,BC27)","v":0},{"$f":"SUM(P27,X27,AF27,AN27,AV27,BD27)","v":0},{"$f":"SUM(G27:H27)","v":0},"","",0,0,{"$f":"SUM(L27,+M27)","v":0},0,0,{"$f":"SUM(O27,+P27)","v":0},"","",0,0,0,0,0,0,"","",0,0,0,0,0,{"$f":"SUM(AE27,+AF27)","v":0},"","",0,0,{"$f":"SUM(AJ27,+AK27)","v":0},0,0,{"$f":"SUM(AM27,+AN27)","v":0},"","",0,0,{"$f":"SUM(AR27,+AS27)","v":0},0,0,{"$f":"SUM(AU27,+AV27)","v":0},"","",0,0,{"$f":"SUM(AZ27,BA27)","v":0},0,0,{"$f":"SUM(BC27,+BD27)","v":0}]
["熊本県","43423","南小国町",{"$f":"SUM(L28,T28,AB28,AJ28,AR28,AZ28)","v":0},{"$f":"SUM(M28,U28,AC28,AK28,AS28,BA28)","v":0},{"$f":"SUM(D28:E28)","v":0},{"$f":"SUM(O28,W28,AE28,AM28,AU28,BC28)","v":0},{"$f":"SUM(P28,X28,AF28,AN28,AV28,BD28)","v":0},{"$f":"SUM(G28:H28)","v":0},"","",0,0,{"$f":"SUM(L28,+M28)","v":0},0,0,{"$f":"SUM(O28,+P28)","v":0},"","",0,0,0,0,0,0,"","",0,0,0,0,0,{"$f":"SUM(AE28,+AF28)","v":0},"","",0,0,{"$f":"SUM(AJ28,+AK28)","v":0},0,0,{"$f":"SUM(AM28,+AN28)","v":0},"","",0,0,{"$f":"SUM(AR28,+AS28)","v":0},0,0,{"$f":"SUM(AU28,+AV28)","v":0},"","",0,0,{"$f":"SUM(AZ28,BA28)","v":0},0,0,{"$f":"SUM(BC28,+BD28)","v":0}]
["熊本県","43424","小国町",{"$f":"SUM(L29,T29,AB29,AJ29,AR29,AZ29)","v":0},{"$f":"SUM(M29,U29,AC29,AK29,AS29,BA29)","v":0},{"$f":"SUM(D29:E29)","v":0},{"$f":"SUM(O29,W29,AE29,AM29,AU29,BC29)","v":0},{"$f":"SUM(P29,X29,AF29,AN29,AV29,BD29)","v":0},{"$f":"SUM(G29:H29)","v":0},"","",0,0,{"$f":"SUM(L29,+M29)","v":0},0,0,{"$f":"SUM(O29,+P29)","v":0},"","",0,0,0,0,0,0,"","",0,0,0,0,0,{"$f":"SUM(AE29,+AF29)","v":0},"","",0,0,{"$f":"SUM(AJ29,+AK29)","v":0},0,0,{"$f":"SUM(AM29,+AN29)","v":0},"","",0,0,{"$f":"SUM(AR29,+AS29)","v":0},0,0,{"$f":"SUM(AU29,+AV29)","v":0},"","",0,0,{"$f":"SUM(AZ29,BA29)","v":0},0,0,{"$f":"SUM(BC29,+BD29)","v":0}]
["熊本県","43425","産山村",{"$f":"SUM(L30,T30,AB30,AJ30,AR30,AZ30)","v":0},{"$f":"SUM(M30,U30,AC30,AK30,AS30,BA30)","v":0},{"$f":"SUM(D30:E30)","v":0},{"$f":"SUM(O30,W30,AE30,AM30,AU30,BC30)","v":0},{"$f":"SUM(P30,X30,AF30,AN30,AV30,BD30)","v":0},{"$f":"SUM(G30:H30)","v":0},"","",0,0,{"$f":"SUM(L30,+M30)","v":0},0,0,{"$f":"SUM(O30,+P30)","v":0},"","",0,0,0,0,0,0,"","",0,0,0,0,0,{"$f":"SUM(AE30,+AF30)","v":0},"","",0,0,{"$f":"SUM(AJ30,+AK30)","v":0},0,0,{"$f":"SUM(AM30,+AN30)","v":0},"","",0,0,{"$f":"SUM(AR30,+AS30)","v":0},0,0,{"$f":"SUM(AU30,+AV30)","v":0},"","",0,0,{"$f":"SUM(AZ30,BA30)","v":0},0,0,{"$f":"SUM(BC30,+BD30)","v":0}]
["熊本県","43428","高森町",{"$f":"SUM(L31,T31,AB31,AJ31,AR31,AZ31)","v":0},{"$f":"SUM(M31,U31,AC31,AK31,AS31,BA31)","v":0},{"$f":"SUM(D31:E31)","v":0},{"$f":"SUM(O31,W31,AE31,AM31,AU31,BC31)","v":0},{"$f":"SUM(P31,X31,AF31,AN31,AV31,BD31)","v":0},{"$f":"SUM(G31:H31)","v":0},"","",0,0,{"$f":"SUM(L31,+M31)","v":0},0,0,{"$f":"SUM(O31,+P31)","v":0},"","",0,0,0,0,0,0,"","",0,0,0,0,0,{"$f":"SUM(AE31,+AF31)","v":0},"","",0,0,{"$f":"SUM(AJ31,+AK31)","v":0},0,0,{"$f":"SUM(AM31,+AN31)","v":0},"","",0,0,{"$f":"SUM(AR31,+AS31)","v":0},0,0,{"$f":"SUM(AU31,+AV31)","v":0},"","",0,0,{"$f":"SUM(AZ31,BA31)","v":0},0,0,{"$f":"SUM(BC31,+BD31)","v":0}]
["熊本県","43432","西原村",{"$f":"SUM(L32,T32,AB32,AJ32,AR32,AZ32)","v":0},{"$f":"SUM(M32,U32,AC32,AK32,AS32,BA32)","v":0},{"$f":"SUM(D32:E32)","v":0},{"$f":"SUM(O32,W32,AE32,AM32,AU32,BC32)","v":0},{"$f":"SUM(P32,X32,AF32,AN32,AV32,BD32)","v":0},{"$f":"SUM(G32:H32)","v":0},"","",0,0,{"$f":"SUM(L32,+M32)","v":0},0,0,{"$f":"SUM(O32,+P32)","v":0},"","",0,0,0,0,0,0,"","",0,0,0,0,0,{"$f":"SUM(AE32,+AF32)","v":0},"","",0,0,{"$f":"SUM(AJ32,+AK32)","v":0},0,0,{"$f":"SUM(AM32,+AN32)","v":0},"","",0,0,{"$f":"SUM(AR32,+AS32)","v":0},0,0,{"$f":"SUM(AU32,+AV32)","v":0},"","",0,0,{"$f":"SUM(AZ32,BA32)","v":0},0,0,{"$f":"SUM(BC32,+BD32)","v":0}]
["熊本県","43433","南阿蘇村",{"$f":"SUM(L33,T33,AB33,AJ33,AR33,AZ33)","v":0},{"$f":"SUM(M33,U33,AC33,AK33,AS33,BA33)","v":0},{"$f":"SUM(D33:E33)","v":0},{"$f":"SUM(O33,W33,AE33,AM33,AU33,BC33)","v":0},{"$f":"SUM(P33,X33,AF33,AN33,AV33,BD33)","v":0},{"$f":"SUM(G33:H33)","v":0},"","",0,0,{"$f":"SUM(L33,+M33)","v":0},0,0,{"$f":"SUM(O33,+P33)","v":0},"","",0,0,0,0,0,0,"","",0,0,0,0,0,{"$f":"SUM(AE33,+AF33)","v":0},"","",0,0,{"$f":"SUM(AJ33,+AK33)","v":0},0,0,{"$f":"SUM(AM33,+AN33)","v":0},"","",0,0,{"$f":"SUM(AR33,+AS33)","v":0},0,0,{"$f":"SUM(AU33,+AV33)","v":0},"","",0,0,{"$f":"SUM(AZ33,BA33)","v":0},0,0,{"$f":"SUM(BC33,+BD33)","v":0}]
["熊本県","43441","御船町",{"$f":"SUM(L34,T34,AB34,AJ34,AR34,AZ34)","v":0},{"$f":"SUM(M34,U34,AC34,AK34,AS34,BA34)","v":0},{"$f":"SUM(D34:E34)","v":0},{"$f":"SUM(O34,W34,AE34,AM34,AU34,BC34)","v":0},{"$f":"SUM(P34,X34,AF34,AN34,AV34,BD34)","v":0},{"$f":"SUM(G34:H34)","v":0},"","",0,0,{"$f":"SUM(L34,+M34)","v":0},0,0,{"$f":"SUM(O34,+P34)","v":0},"","",0,0,0,0,0,0,"","",0,0,0,0,0,{"$f":"SUM(AE34,+AF34)","v":0},"","",0,0,{"$f":"SUM(AJ34,+AK34)","v":0},0,0,{"$f":"SUM(AM34,+AN34)","v":0},"","",0,0,{"$f":"SUM(AR34,+AS34)","v":0},0,0,{"$f":"SUM(AU34,+AV34)","v":0},"","",0,0,{"$f":"SUM(AZ34,BA34)","v":0},0,0,{"$f":"SUM(BC34,+BD34)","v":0}]
["熊本県","43442","嘉島町",{"$f":"SUM(L35,T35,AB35,AJ35,AR35,AZ35)","v":0},{"$f":"SUM(M35,U35,AC35,AK35,AS35,BA35)","v":0},{"$f":"SUM(D35:E35)","v":0},{"$f":"SUM(O35,W35,AE35,AM35,AU35,BC35)","v":0},{"$f":"SUM(P35,X35,AF35,AN35,AV35,BD35)","v":0},{"$f":"SUM(G35:H35)","v":0},"","",0,0,{"$f":"SUM(L35,+M35)","v":0},0,0,{"$f":"SUM(O35,+P35)","v":0},"","",0,0,0,0,0,0,"","",0,0,0,0,0,{"$f":"SUM(AE35,+AF35)","v":0},"","",0,0,{"$f":"SUM(AJ35,+AK35)","v":0},0,0,{"$f":"SUM(AM35,+AN35)","v":0},"","",0,0,{"$f":"SUM(AR35,+AS35)","v":0},0,0,{"$f":"SUM(AU35,+AV35)","v":0},"","",0,0,{"$f":"SUM(AZ35,BA35)","v":0},0,0,{"$f":"SUM(BC35,+BD35)","v":0}]
["熊本県","43443","益城町",{"$f":"SUM(L36,T36,AB36,AJ36,AR36,AZ36)","v":0},{"$f":"SUM(M36,U36,AC36,AK36,AS36,BA36)","v":0},{"$f":"SUM(D36:E36)","v":0},{"$f":"SUM(O36,W36,AE36,AM36,AU36,BC36)","v":0},{"$f":"SUM(P36,X36,AF36,AN36,AV36,BD36)","v":0},{"$f":"SUM(G36:H36)","v":0},"","",0,0,{"$f":"SUM(L36,+M36)","v":0},0,0,{"$f":"SUM(O36,+P36)","v":0},"","",0,0,0,0,0,0,"","",0,0,0,0,0,{"$f":"SUM(AE36,+AF36)","v":0},"","",0,0,{"$f":"SUM(AJ36,+AK36)","v":0},0,0,{"$f":"SUM(AM36,+AN36)","v":0},"","",0,0,{"$f":"SUM(AR36,+AS36)","v":0},0,0,{"$f":"SUM(AU36,+AV36)","v":0},"","",0,0,{"$f":"SUM(AZ36,BA36)","v":0},0,0,{"$f":"SUM(BC36,+BD36)","v":0}]
["熊本県","43447","山都町",{"$f":"SUM(L37,T37,AB37,AJ37,AR37,AZ37)","v":0},{"$f":"SUM(M37,U37,AC37,AK37,AS37,BA37)","v":0},{"$f":"SUM(D37:E37)","v":0},{"$f":"SUM(O37,W37,AE37,AM37,AU37,BC37)","v":0},{"$f":"SUM(P37,X37,AF37,AN37,AV37,BD37)","v":0},{"$f":"SUM(G37:H37)","v":0},"","",0,0,{"$f":"SUM(L37,+M37)","v":0},0,0,{"$f":"SUM(O37,+P37)","v":0},"","",0,0,0,0,0,0,"","",0,0,0,0,0,{"$f":"SUM(AE37,+AF37)","v":0},"","",0,0,{"$f":"SUM(AJ37,+AK37)","v":0},0,0,{"$f":"SUM(AM37,+AN37)","v":0},"","",0,0,{"$f":"SUM(AR37,+AS37)","v":0},0,0,{"$f":"SUM(AU37,+AV37)","v":0},"","",0,0,{"$f":"SUM(AZ37,BA37)","v":0},0,0,{"$f":"SUM(BC37,+BD37)","v":0}]
["熊本県","43468","氷川町",{"$f":"SUM(L38,T38,AB38,AJ38,AR38,AZ38)","v":0},{"$f":"SUM(M38,U38,AC38,AK38,AS38,BA38)","v":0},{"$f":"SUM(D38:E38)","v":0},{"$f":"SUM(O38,W38,AE38,AM38,AU38,BC38)","v":0},{"$f":"SUM(P38,X38,AF38,AN38,AV38,BD38)","v":0},{"$f":"SUM(G38:H38)","v":0},"","",0,0,{"$f":"SUM(L38,+M38)","v":0},0,0,{"$f":"SUM(O38,+P38)","v":0},"","",0,0,0,0,0,0,"","",0,0,0,0,0,{"$f":"SUM(AE38,+AF38)","v":0},"","",0,0,{"$f":"SUM(AJ38,+AK38)","v":0},0,0,{"$f":"SUM(AM38,+AN38)","v":0},"","",0,0,{"$f":"SUM(AR38,+AS38)","v":0},0,0,{"$f":"SUM(AU38,+AV38)","v":0},"","",0,0,{"$f":"SUM(AZ38,BA38)","v":0},0,0,{"$f":"SUM(BC38,+BD38)","v":0}]
["熊本県","43482","芦北町",{"$f":"SUM(L39,T39,AB39,AJ39,AR39,AZ39)","v":0},{"$f":"SUM(M39,U39,AC39,AK39,AS39,BA39)","v":0},{"$f":"SUM(D39:E39)","v":0},{"$f":"SUM(O39,W39,AE39,AM39,AU39,BC39)","v":0},{"$f":"SUM(P39,X39,AF39,AN39,AV39,BD39)","v":0},{"$f":"SUM(G39:H39)","v":0},"","",0,0,{"$f":"SUM(L39,+M39)","v":0},0,0,{"$f":"SUM(O39,+P39)","v":0},"","",0,0,0,0,0,0,"","",0,0,0,0,0,{"$f":"SUM(AE39,+AF39)","v":0},"","",0,0,{"$f":"SUM(AJ39,+AK39)","v":0},0,0,{"$f":"SUM(AM39,+AN39)","v":0},"","",0,0,{"$f":"SUM(AR39,+AS39)","v":0},0,0,{"$f":"SUM(AU39,+AV39)","v":0},"","",0,0,{"$f":"SUM(AZ39,BA39)","v":0},0,0,{"$f":"SUM(BC39,+BD39)","v":0}]
["熊本県","43501","錦町",{"$f":"SUM(L40,T40,AB40,AJ40,AR40,AZ40)","v":0},{"$f":"SUM(M40,U40,AC40,AK40,AS40,BA40)","v":0},{"$f":"SUM(D40:E40)","v":0},{"$f":"SUM(O40,W40,AE40,AM40,AU40,BC40)","v":0},{"$f":"SUM(P40,X40,AF40,AN40,AV40,BD40)","v":0},{"$f":"SUM(G40:H40)","v":0},"","",0,0,{"$f":"SUM(L40,+M40)","v":0},0,0,{"$f":"SUM(O40,+P40)","v":0},"","",0,0,0,0,0,0,"","",0,0,0,0,0,{"$f":"SUM(AE40,+AF40)","v":0},"","",0,0,{"$f":"SUM(AJ40,+AK40)","v":0},0,0,{"$f":"SUM(AM40,+AN40)","v":0},"","",0,0,{"$f":"SUM(AR40,+AS40)","v":0},0,0,{"$f":"SUM(AU40,+AV40)","v":0},"","",0,0,{"$f":"SUM(AZ40,BA40)","v":0},0,0,{"$f":"SUM(BC40,+BD40)","v":0}]
["熊本県","43505","多良木町",{"$f":"SUM(L41,T41,AB41,AJ41,AR41,AZ41)","v":0},{"$f":"SUM(M41,U41,AC41,AK41,AS41,BA41)","v":0},{"$f":"SUM(D41:E41)","v":0},{"$f":"SUM(O41,W41,AE41,AM41,AU41,BC41)","v":0},{"$f":"SUM(P41,X41,AF41,AN41,AV41,BD41)","v":0},{"$f":"SUM(G41:H41)","v":0},"","",0,0,{"$f":"SUM(L41,+M41)","v":0},0,0,{"$f":"SUM(O41,+P41)","v":0},"","",0,0,0,0,0,0,"","",0,0,0,0,0,{"$f":"SUM(AE41,+AF41)","v":0},"","",0,0,{"$f":"SUM(AJ41,+AK41)","v":0},0,0,{"$f":"SUM(AM41,+AN41)","v":0},"","",0,0,{"$f":"SUM(AR41,+AS41)","v":0},0,0,{"$f":"SUM(AU41,+AV41)","v":0},"","",0,0,{"$f":"SUM(AZ41,BA41)","v":0},0,0,{"$f":"SUM(BC41,+BD41)","v":0}]
["熊本県","43506","湯前町",{"$f":"SUM(L42,T42,AB42,AJ42,AR42,AZ42)","v":0},{"$f":"SUM(M42,U42,AC42,AK42,AS42,BA42)","v":0},{"$f":"SUM(D42:E42)","v":0},{"$f":"SUM(O42,W42,AE42,AM42,AU42,BC42)","v":0},{"$f":"SUM(P42,X42,AF42,AN42,AV42,BD42)","v":0},{"$f":"SUM(G42:H42)","v":0},"","",0,0,{"$f":"SUM(L42,+M42)","v":0},0,0,{"$f":"SUM(O42,+P42)","v":0},"","",0,0,0,0,0,0,"","",0,0,0,0,0,{"$f":"SUM(AE42,+AF42)","v":0},"","",0,0,{"$f":"SUM(AJ42,+AK42)","v":0},0,0,{"$f":"SUM(AM42,+AN42)","v":0},"","",0,0,{"$f":"SUM(AR42,+AS42)","v":0},0,0,{"$f":"SUM(AU42,+AV42)","v":0},"","",0,0,{"$f":"SUM(AZ42,BA42)","v":0},0,0,{"$f":"SUM(BC42,+BD42)","v":0}]
["熊本県","43507","水上村",{"$f":"SUM(L43,T43,AB43,AJ43,AR43,AZ43)","v":0},{"$f":"SUM(M43,U43,AC43,AK43,AS43,BA43)","v":0},{"$f":"SUM(D43:E43)","v":0},{"$f":"SUM(O43,W43,AE43,AM43,AU43,BC43)","v":0},{"$f":"SUM(P43,X43,AF43,AN43,AV43,BD43)","v":0},{"$f":"SUM(G43:H43)","v":0},"","",0,0,{"$f":"SUM(L43,+M43)","v":0},0,0,{"$f":"SUM(O43,+P43)","v":0},"","",0,0,0,0,0,0,"","",0,0,0,0,0,{"$f":"SUM(AE43,+AF43)","v":0},"","",0,0,{"$f":"SUM(AJ43,+AK43)","v":0},0,0,{"$f":"SUM(AM43,+AN43)","v":0},"","",0,0,{"$f":"SUM(AR43,+AS43)","v":0},0,0,{"$f":"SUM(AU43,+AV43)","v":0},"","",0,0,{"$f":"SUM(AZ43,BA43)","v":0},0,0,{"$f":"SUM(BC43,+BD43)","v":0}]
["熊本県","43510","相良村",{"$f":"SUM(L44,T44,AB44,AJ44,AR44,AZ44)","v":0},{"$f":"SUM(M44,U44,AC44,AK44,AS44,BA44)","v":0},{"$f":"SUM(D44:E44)","v":0},{"$f":"SUM(O44,W44,AE44,AM44,AU44,BC44)","v":0},{"$f":"SUM(P44,X44,AF44,AN44,AV44,BD44)","v":0},{"$f":"SUM(G44:H44)","v":0},"","",0,0,{"$f":"SUM(L44,+M44)","v":0},0,0,{"$f":"SUM(O44,+P44)","v":0},"","",0,0,0,0,0,0,"","",0,0,0,0,0,{"$f":"SUM(AE44,+AF44)","v":0},"","",0,0,{"$f":"SUM(AJ44,+AK44)","v":0},0,0,{"$f":"SUM(AM44,+AN44)","v":0},"","",0,0,{"$f":"SUM(AR44,+AS44)","v":0},0,0,{"$f":"SUM(AU44,+AV44)","v":0},"","",0,0,{"$f":"SUM(AZ44,BA44)","v":0},0,0,{"$f":"SUM(BC44,+BD44)","v":0}]
["熊本県","43511","五木村",{"$f":"SUM(L45,T45,AB45,AJ45,AR45,AZ45)","v":0},{"$f":"SUM(M45,U45,AC45,AK45,AS45,BA45)","v":0},{"$f":"SUM(D45:E45)","v":0},{"$f":"SUM(O45,W45,AE45,AM45,AU45,BC45)","v":0},{"$f":"SUM(P45,X45,AF45,AN45,AV45,BD45)","v":0},{"$f":"SUM(G45:H45)","v":0},"","",0,0,{"$f":"SUM(L45,+M45)","v":0},0,0,{"$f":"SUM(O45,+P45)","v":0},"","",0,0,0,0,0,0,"","",0,0,0,0,0,{"$f":"SUM(AE45,+AF45)","v":0},"","",0,0,{"$f":"SUM(AJ45,+AK45)","v":0},0,0,{"$f":"SUM(AM45,+AN45)","v":0},"","",0,0,{"$f":"SUM(AR45,+AS45)","v":0},0,0,{"$f":"SUM(AU45,+AV45)","v":0},"","",0,0,{"$f":"SUM(AZ45,BA45)","v":0},0,0,{"$f":"SUM(BC45,+BD45)","v":0}]
["熊本県","43512","山江村",{"$f":"SUM(L46,T46,AB46,AJ46,AR46,AZ46)","v":0},{"$f":"SUM(M46,U46,AC46,AK46,AS46,BA46)","v":0},{"$f":"SUM(D46:E46)","v":0},{"$f":"SUM(O46,W46,AE46,AM46,AU46,BC46)","v":0},{"$f":"SUM(P46,X46,AF46,AN46,AV46,BD46)","v":0},{"$f":"SUM(G46:H46)","v":0},"","",0,0,{"$f":"SUM(L46,+M46)","v":0},0,0,{"$f":"SUM(O46,+P46)","v":0},"","",0,0,0,0,0,0,"","",0,0,0,0,0,{"$f":"SUM(AE46,+AF46)","v":0},"","",0,0,{"$f":"SUM(AJ46,+AK46)","v":0},0,0,{"$f":"SUM(AM46,+AN46)","v":0},"","",0,0,{"$f":"SUM(AR46,+AS46)","v":0},0,0,{"$f":"SUM(AU46,+AV46)","v":0},"","",0,0,{"$f":"SUM(AZ46,BA46)","v":0},0,0,{"$f":"SUM(BC46,+BD46)","v":0}]
["熊本県","43513","球磨村",{"$f":"SUM(L47,T47,AB47,AJ47,AR47,AZ47)","v":0},{"$f":"SUM(M47,U47,AC47,AK47,AS47,BA47)","v":0},{"$f":"SUM(D47:E47)","v":0},{"$f":"SUM(O47,W47,AE47,AM47,AU47,BC47)","v":0},{"$f":"SUM(P47,X47,AF47,AN47,AV47,BD47)","v":0},{"$f":"SUM(G47:H47)","v":0},"","",0,0,{"$f":"SUM(L47,+M47)","v":0},0,0,{"$f":"SUM(O47,+P47)","v":0},"","",0,0,0,0,0,0,"","",0,0,0,0,0,{"$f":"SUM(AE47,+AF47)","v":0},"","",0,0,{"$f":"SUM(AJ47,+AK47)","v":0},0,0,{"$f":"SUM(AM47,+AN47)","v":0},"","",0,0,{"$f":"SUM(AR47,+AS47)","v":0},0,0,{"$f":"SUM(AU47,+AV47)","v":0},"","",0,0,{"$f":"SUM(AZ47,BA47)","v":0},0,0,{"$f":"SUM(BC47,+BD47)","v":0}]
["熊本県","43531","苓北町",{"$f":"SUM(L48,T48,AB48,AJ48,AR48,AZ48)","v":0},{"$f":"SUM(M48,U48,AC48,AK48,AS48,BA48)","v":0},{"$f":"SUM(D48:E48)","v":0},{"$f":"SUM(O48,W48,AE48,AM48,AU48,BC48)","v":0},{"$f":"SUM(P48,X48,AF48,AN48,AV48,BD48)","v":0},{"$f":"SUM(G48:H48)","v":0},"","",0,0,{"$f":"SUM(L48,+M48)","v":0},0,0,{"$f":"SUM(O48,+P48)","v":0},"","",0,0,0,0,0,0,"","",0,0,0,0,0,{"$f":"SUM(AE48,+AF48)","v":0},"","",0,0,{"$f":"SUM(AJ48,+AK48)","v":0},0,0,{"$f":"SUM(AM48,+AN48)","v":0},"","",0,0,{"$f":"SUM(AR48,+AS48)","v":0},0,0,{"$f":"SUM(AU48,+AV48)","v":0},"","",0,0,{"$f":"SUM(AZ48,BA48)","v":0},0,0,{"$f":"SUM(BC48,+BD48)","v":0}]
[null,""]
[null,""]
[null,""]
[null,""]
[null,""]
[null,""]
[null,""]
[null,""]
[null,""]
[null,""]
[null,""]
[null,""]

{"sheet":"市町村分担金内訳","index":5,"n_rows":19,"n_cols":125,"rows_kept":19,"merged":[[1,0,5,0],[1,1,5,1],[1,2,5,2],[1,3,2,4],[3,3,4,3],[3,4,4,4],[3,5,5,5],[3,6,5,6],[3,7,4,7],[3,8,4,8],[3,9,5,9],[3,10,5,10],[3,11,4,11],[3,12,4,12],[3,13,5,13],[3,14,5,14],[3,15,4,15],[3,16,4,16],[3,17,5,17],[3,18,5,18],[3,19,4,19],[3,20,4,20],[3,21,5,21],[3,22,5,22],[3,23,4,23],[3,24,4,24],[3,25,5,25],[3,26,5,26],[3,27,4,27],[3,28,4,28],[3,29,5,29],[3,30,5,30],[3,31,4,31],[3,32,4,32],[3,33,5,33],[3,34,5,34],[3,35,4,35],[3,36,4,36],[3,37,5,37],[3,38,5,38],[3,39,4,39],[3,40,4,40],[3,41,5,41],[3,42,5,42],[3,43,4,43],[3,44,4,44],[3,45,5,45],[3,46,5,46],[3,47,4,47],[3,48,4,48],[3,49,5,49],[3,50,5,50],[3,51,4,51],[3,52,4,52],[3,53,5,53],[3,54,5,54],[3,55,4,55],[3,56,4,56],[3,57,5,57],[3,58,5,58],[3,59,4,59],[3,60,4,60],[3,61,5,61],[3,62,5,62],[3,63,4,63],[3,64,4,64],[3,65,5,65],[3,66,5,66],[3,67,4,67],[3,68,4,68],[3,69,5,69],[3,70,5,70],[3,71,4,71],[3,72,4,72],[3,73,5,73],[3,74,5,74],[3,75,4,75],[3,76,4,76],[3,77,5,77],[3,78,5,78],[3,79,4,79],[3,80,4,80],[3,81,5,81],[3,82,5,82],[3,83,4,83],[3,84,4,84],[3,85,5,85],[3,86,5,86],[3,87,4,87],[3,88,4,88],[3,89,5,89],[3,90,5,90],[3,91,4,91],[3,92,4,92],[3,93,5,93],[3,94,5,94],[3,95,4,95],[3,96,4,96],[3,97,5,97],[3,98,5,98],[3,99,4,99],[3,100,4,100],[3,101,5,101],[3,102,5,102],[3,103,4,103],[3,104,4,104],[3,105,5,105],[3,106,5,106],[3,107,4,107],[3,108,4,108],[3,109,5,109],[3,110,5,110],[3,111,4,111],[3,112,4,112],[3,113,5,113],[3,114,5,114],[3,115,4,115],[3,116,4,116],[3,117,5,117],[3,118,5,118],[3,119,4,119],[3,120,4,120],[3,121,5,121],[3,122,5,122],[3,123,4,123],[3,124,4,124]]}
["【災害】廃棄物処理事業経費【市区町村分担金の合計】（令和4年度実績）"]
["都道府県名","地方公共団体コード","一部事務組合・広域連合名","合計（構成市区町村1+～+構成市区町村30）",null,"構成市区町村1",{"$nulls":3},"構成市区町村2",{"$nulls":3},"構成市区町村3",{"$nulls":3},"構成市区町村4",{"$nulls":3},"構成市区町村5",{"$nulls":3},"構成市区町村6",{"$nulls":3},"構成市区町村7",{"$nulls":3},"構成市区町村8",{"$nulls":3},"構成市区町村9",{"$nulls":3},"構成市区町村10",{"$nulls":3},"構成市区町村11",{"$nulls":3},"構成市区町村12",{"$nulls":3},"構成市区町村13",{"$nulls":3},"構成市区町村14",{"$nulls":3},"構成市区町村15",{"$nulls":3},"構成市区町村16",{"$nulls":3},"構成市区町村17",{"$nulls":3},"構成市区町村18",{"$nulls":3},"構成市区町村19",{"$nulls":3},"構成市区町村20",{"$nulls":3},"構成市区町村21",{"$nulls":3},"構成市区町村22",{"$nulls":3},"構成市区町村23",{"$nulls":3},"構成市区町村24",{"$nulls":3},"構成市区町村25",{"$nulls":3},"構成市区町村26",{"$nulls":3},"構成市区町村27",{"$nulls":3},"構成市区町村28",{"$nulls":3},"構成市区町村29",{"$nulls":3},"構成市区町村30"]
[]
[{"$nulls":3},"ごみ","し尿","市区町村\nコード","市区町村名","ごみ","し尿","市区町村\nコード","市区町村名","ごみ","し尿","市区町村\nコード","市区町村名","ごみ","し尿","市区町村\nコード","市区町村名","ごみ","し尿","市区町村\nコード","市区町村名","ごみ","し尿","市区町村\nコード","市区町村名","ごみ","し尿","市区町村\nコード","市区町村名","ごみ","し尿","市区町村\nコード","市区町村名","ごみ","し尿","市区町村\nコード","市区町村名","ごみ","し尿","市区町村\nコード","市区町村名","ごみ","し尿","市区町村\nコード","市区町村名","ごみ","し尿","市区町村\nコード","市区町村名","ごみ","し尿","市区町村\nコード","市区町村名","ごみ","し尿","市区町村\nコード","市区町村名","ごみ","し尿","市区町村\nコード","市区町村名","ごみ","し尿","市区町村\nコード","市区町村名","ごみ","し尿","市区町村\nコード","市区町村名","ごみ","し尿","市区町村\nコード","市区町村名","ごみ","し尿","市区町村\nコード","市区町村名","ごみ","し尿","市区町村\nコード","市区町村名","ごみ","し尿","市区町村\nコード","市区町村名","ごみ","し尿","市区町村\nコード","市区町村名","ごみ","し尿","市区町村\nコード","市区町村名","ごみ","し尿","市区町村\nコード","市区町村名","ごみ","し尿","市区町村\nコード","市区町村名","ごみ","し尿","市区町村\nコード","市区町村名","ごみ","し尿","市区町村\nコード","市区町村名","ごみ","し尿","市区町村\nコード","市区町村名","ごみ","し尿","市区町村\nコード","市区町村名","ごみ","し尿","市区町村\nコード","市区町村名","ごみ","し尿"]
[]
[{"$nulls":3},"（千円）","（千円）",null,null,"（千円）","（千円）",null,null,"（千円）","（千円）",null,null,"（千円）","（千円）",null,null,"（千円）","（千円）",null,null,"（千円）","（千円）",null,null,"（千円）","（千円）",null,null,"（千円）","（千円）",null,null,"（千円）","（千円）",null,null,"（千円）","（千円）",null,null,"（千円）","（千円）",null,null,"（千円）","（千円）",null,null,"（千円）","（千円）",null,null,"（千円）","（千円）",null,null,"（千円）","（千円）",null,null,"（千円）","（千円）",null,null,"（千円）","（千円）",null,null,"（千円）","（千円）",null,null,"（千円）","（千円）",null,null,"（千円）","（千円）",null,null,"（千円）","（千円）",null,null,"（千円）","（千円）",null,null,"（千円）","（千円）",null,null,"（千円）","（千円）",null,null,"（千円）","（千円）",null,null,"（千円）","（千円）",null,null,"（千円）","（千円）",null,null,"（千円）","（千円）",null,null,"（千円）","（千円）",null,null,"（千円）","（千円）",null,null,"（千円）","（千円）"]
["熊本県","43000","合計",{"$f":"SUM($D$8:$D$19)","v":0},{"$f":"SUM($E$8:$E$19)","v":0},{"$f":"COUNTIF($F$8:$F$19,\"<>\") - COUNTIF($F$8:$F$19,\"< >\")","v":0},{"$f":"COUNTIF($G$8:$G$19,\"<>\") - COUNTIF($G$8:$G$19,\"< >\")","v":0},{"$f":"SUM($H$8:$H$19)","v":0},{"$f":"SUM($I$8:$I$19)","v":0},{"$f":"COUNTIF($J$8:$J$19,\"<>\") - COUNTIF($J$8:$J$19,\"< >\")","v":0},{"$f":"COUNTIF($K$8:$K$19,\"<>\") - COUNTIF($K$8:$K$19,\"< >\")","v":0},{"$f":"SUM($L$8:$L$19)","v":0},{"$f":"SUM($M$8:$M$19)","v":0},{"$f":"COUNTIF($N$8:$N$19,\"<>\") - COUNTIF($N$8:$N$19,\"< >\")","v":0},{"$f":"COUNTIF($O$8:$O$19,\"<>\") - COUNTIF($O$8:$O$19,\"< >\")","v":0},{"$f":"SUM($P$8:$P$19)","v":0},{"$f":"SUM($Q$8:$Q$19)","v":0},{"$f":"COUNTIF($R$8:$R$19,\"<>\") - COUNTIF($R$8:$R$19,\"< >\")","v":0},{"$f":"COUNTIF($S$8:$S$19,\"<>\") - COUNTIF($S$8:$S$19,\"< >\")","v":0},{"$f":"SUM($T$8:$T$19)","v":0},{"$f":"SUM($U$8:$U$19)","v":0},{"$f":"COUNTIF($V$8:$V$19,\"<>\") - COUNTIF($V$8:$V$19,\"< >\")","v":0},{"$f":"COUNTIF($W$8:$W$19,\"<>\") - COUNTIF($W$8:$W$19,\"< >\")","v":0},{"$f":"SUM($X$8:$X$19)","v":0},{"$f":"SUM($Y$8:$Y$19)","v":0},{"$f":"COUNTIF($Z$8:$Z$19,\"<>\") - COUNTIF($Z$8:$Z$19,\"< >\")","v":0},{"$f":"COUNTIF($AA$8:$AA$19,\"<>\") - COUNTIF($AA$8:$AA$19,\"< >\")","v":0},{"$f":"SUM($AB$8:$AB$19)","v":0},{"$f":"SUM($AC$8:$AC$19)","v":0},{"$f":"COUNTIF($AD$8:$AD$19,\"<>\") - COUNTIF($AD$8:$AD$19,\"< >\")","v":0},{"$f":"COUNTIF($AE$8:$AE$19,\"<>\") - COUNTIF($AE$8:$AE$19,\"< >\")","v":0},{"$f":"SUM($AF$8:$AF$19)","v":0},{"$f":"SUM($AG$8:$AG$19)","v":0},{"$f":"COUNTIF($AH$8:$AH$19,\"<>\") - COUNTIF($AH$8:$AH$19,\"< >\")","v":0},{"$f":"COUNTIF($AI$8:$AI$19,\"<>\") - COUNTIF($AI$8:$AI$19,\"< >\")","v":0},{"$f":"SUM($AJ$8:$AJ$19)","v":0},{"$f":"SUM($AK$8:$AK$19)","v":0},{"$f":"COUNTIF($AL$8:$AL$19,\"<>\") - COUNTIF($AL$8:$AL$19,\"< >\")","v":0},{"$f":"COUNTIF($AM$8:$AM$19,\"<>\") - COUNTIF($AM$8:$AM$19,\"< >\")","v":0},{"$f":"SUM($AN$8:$AN$19)","v":0},{"$f":"SUM($AO$8:$AO$19)","v":0},{"$f":"COUNTIF($AP$8:$AP$19,\"<>\") - COUNTIF($AP$8:$AP$19,\"< >\")","v":0},{"$f":"COUNTIF($AQ$8:$AQ$19,\"<>\") - COUNTIF($AQ$8:$AQ$19,\"< >\")","v":0},{"$f":"SUM($AR$8:$AR$19)","v":0},{"$f":"SUM($AS$8:$AS$19)","v":0},{"$f":"COUNTIF($AT$8:$AT$19,\"<>\") - COUNTIF($AT$8:$AT$19,\"< >\")","v":0},{"$f":"COUNTIF($AU$8:$AU$19,\"<>\") - COUNTIF($AU$8:$AU$19,\"< >\")","v":0},{"$f":"SUM($AV$8:$AV$19)","v":0},{"$f":"SUM($AW$8:$AW$19)","v":0},{"$f":"COUNTIF($AX$8:$AX$19,\"<>\") - COUNTIF($AX$8:$AX$19,\"< >\")","v":0},{"$f":"COUNTIF($AY$8:$AY$19,\"<>\") - COUNTIF($AY$8:$AY$19,\"< >\")","v":0},{"$f":"SUM($AZ$8:$AZ$19)","v":0},{"$f":"SUM($BA$8:$BA$19)","v":0},{"$f":"COUNTIF($BB$8:$BB$19,\"<>\") - COUNTIF($BB$8:$BB$19,\"< >\")","v":0},{"$f":"COUNTIF($BC$8:$BC$19,\"<>\") - COUNTIF($BC$8:$BC$19,\"< >\")","v":0},{"$f":"SUM($BD$8:$BD$19)","v":0},{"$f":"SUM($BE$8:$BE$19)","v":0},{"$f":"COUNTIF($BF$8:$BF$19,\"<>\") - COUNTIF($BF$8:$BF$19,\"< >\")","v":0},{"$f":"COUNTIF($BG$8:$BG$19,\"<>\") - COUNTIF($BG$8:$BG$19,\"< >\")","v":0},{"$f":"SUM($BH$8:$BH$19)","v":0},{"$f":"SUM($BI$8:$BI$19)","v":0},{"$f":"COUNTIF($BJ$8:$BJ$19,\"<>\") - COUNTIF($BJ$8:$BJ$19,\"< >\")","v":0},{"$f":"COUNTIF($BK$8:$BK$19,\"<>\") - COUNTIF($BK$8:$BK$19,\"< >\")","v":0},{"$f":"SUM($BL$8:$BL$19)","v":0},{"$f":"SUM($BM$8:$BM$19)","v":0},{"$f":"COUNTIF($BN$8:$BN$19,\"<>\") - COUNTIF($BN$8:$BN$19,\"< >\")","v":0},{"$f":"COUNTIF($BO$8:$BO$19,\"<>\") - COUNTIF($BO$8:$BO$19,\"< >\")","v":0},{"$f":"SUM($BP$8:$BP$19)","v":0},{"$f":"SUM($BQ$8:$BQ$19)","v":0},{"$f":"COUNTIF($BR$8:$BR$19,\"<>\") - COUNTIF($BR$8:$BR$19,\"< >\")","v":0},{"$f":"COUNTIF($BS$8:$BS$19,\"<>\") - COUNTIF($BS$8:$BS$19,\"< >\")","v":0},{"$f":"SUM($BT$8:$BT$19)","v":0},{"$f":"SUM($BU$8:$BU$19)","v":0},{"$f":"COUNTIF($BV$8:$BV$19,\"<>\") - COUNTIF($BV$8:$BV$19,\"< >\")","v":0},{"$f":"COUNTIF($BW$8:$BW$19,\"<>\") - COUNTIF($BW$8:$BW$19,\"< >\")","v":0},{"$f":"SUM($BX$8:$BX$19)","v":0},{"$f":"SUM($BY$8:$BY$19)","v":0},{"$f":"COUNTIF($BZ$8:$BZ$19,\"<>\") - COUNTIF($BZ$8:$BZ$19,\"< >\")","v":0},{"$f":"COUNTIF($CA$8:$CA$19,\"<>\") - COUNTIF($CA$8:$CA$19,\"< >\")","v":0},{"$f":"SUM($CB$8:$CB$19)","v":0},{"$f":"SUM($CC$8:$CC$19)","v":0},{"$f":"COUNTIF($CD$8:$CD$19,\"<>\") - COUNTIF($CD$8:$CD$19,\"< >\")","v":0},{"$f":"COUNTIF($CE$8:$CE$19,\"<>\") - COUNTIF($CE$8:$CE$19,\"< >\")","v":0},{"$f":"SUM($CF$8:$CF$19)","v":0},{"$f":"SUM($CG$8:$CG$19)","v":0},{"$f":"COUNTIF($CH$8:$CH$19,\"<>\") - COUNTIF($CH$8:$CH$19,\"< >\")","v":0},{"$f":"COUNTIF($CI$8:$CI$19,\"<>\") - COUNTIF($CI$8:$CI$19,\"< >\")","v":0},{"$f":"SUM($CJ$8:$CJ$19)","v":0},{"$f":"SUM($CK$8:$CK$19)","v":0},{"$f":"COUNTIF($CL$8:$CL$19,\"<>\") - COUNTIF($CL$8:$CL$19,\"< >\")","v":0},{"$f":"COUNTIF($CM$8:$CM$19,\"<>\") - COUNTIF($CM$8:$CM$19,\"< >\")","v":0},{"$f":"SUM($CN$8:$CN$19)","v":0},{"$f":"SUM($CO$8:$CO$19)","v":0},{"$f":"COUNTIF($CP$8:$CP$19,\"<>\") - COUNTIF($CP$8:$CP$19,\"< >\")","v":0},{"$f":"COUNTIF($CQ$8:$CQ$19,\"<>\") - COUNTIF($CQ$8:$CQ$19,\"< >\")","v":0},{"$f":"SUM($CR$8:$CR$19)","v":0},{"$f":"SUM($CS$8:$CS$19)","v":0},{"$f":"COUNTIF($CT$8:$CT$19,\"<>\") - COUNTIF($CT$8:$CT$19,\"< >\")","v":0},{"$f":"COUNTIF($CU$8:$CU$19,\"<>\") - COUNTIF($CU$8:$CU$19,\"< >\")","v":0},{"$f":"SUM($CV$8:$CV$19)","v":0},{"$f":"SUM($CW$8:$CW$19)","v":0},{"$f":"COUNTIF($CX$8:$CX$19,\"<>\") - COUNTIF($CX$8:$CX$19,\"< >\")","v":0},{"$f":"COUNTIF($CY$8:$CY$19,\"<>\") - COUNTIF($CY$8:$CY$19,\"< >\")","v":0},{"$f":"SUM($CZ$8:$CZ$19)","v":0},{"$f":"SUM($DA$8:$DA$19)","v":0},{"$f":"COUNTIF($DB$8:$DB$19,\"<>\") - COUNTIF($DB$8:$DB$19,\"< >\")","v":0},{"$f":"COUNTIF($DC$8:$DC$19,\"<>\") - COUNTIF($DC$8:$DC$19,\"< >\")","v":0},{"$f":"SUM($DD$8:$DD$19)","v":0},{"$f":"SUM($DE$8:$DE$19)","v":0},{"$f":"COUNTIF($DF$8:$DF$19,\"<>\") - COUNTIF($DF$8:$DF$19,\"< >\")","v":0},{"$f":"COUNTIF($DG$8:$DG$19,\"<>\") - COUNTIF($DG$8:$DG$19,\"< >\")","v":0},{"$f":"SUM($DH$8:$DH$19)","v":0},{"$f":"SUM($DI$8:$DI$19)","v":0},{"$f":"COUNTIF($DJ$8:$DJ$19,\"<>\") - COUNTIF($DJ$8:$DJ$19,\"< >\")","v":0},{"$f":"COUNTIF($DK$8:$DK$19,\"<>\") - COUNTIF($DK$8:$DK$19,\"< >\")","v":0},{"$f":"SUM($DL$8:$DL$19)","v":0},{"$f":"SUM($DM$8:$DM$19)","v":0},{"$f":"COUNTIF($DN$8:$DN$19,\"<>\") - COUNTIF($DN$8:$DN$19,\"< >\")","v":0},{"$f":"COUNTIF($DO$8:$DO$19,\"<>\") - COUNTIF($DO$8:$DO$19,\"< >\")","v":0},{"$f":"SUM($DP$8:$DP$19)","v":0},{"$f":"SUM($DQ$8:$DQ$19)","v":0},{"$f":"COUNTIF($DR$8:$DR$19,\"<>\") - COUNTIF($DR$8:$DR$19,\"< >\")","v":0},{"$f":"COUNTIF($DS$8:$DS$19,\"<>\") - COUNTIF($DS$8:$DS$19,\"< >\")","v":0},{"$f":"SUM($DT$8:$DT$19)","v":0},{"$f":"SUM($DU$8:$DU$19)","v":0}]
["熊本県","43854","菊池環境保全組合",{"$f":"SUM(H8,L8,P8,T8,X8,AB8,AF8,AJ8,AN8,AR8,AV8,AZ8,BD8,BH8,BL8,BP8,BT8,BX8,CB8,CF8,CJ8,CN8,CR8,CV8,CZ8,DD8,DH8,DL8,DP8,DT8)","v":0},{"$f":"SUM(I8,M8,Q8,U8,Y8,AC8,AG8,AK8,AO8,AS8,AW8,BA8,BE8,BI8,BM8,BQ8,BU8,BY8,CC8,CG8,CK8,CO8,CS8,CW8,DA8,DE8,DI8,DM8,DQ8,DU8)","v":0},"","",0,0,"","",0,0,"","",0,0,"","",0,0,"","",0,0,"","",0,0,"","",0,0,"","",0,0,"","",0,0,"","",0,0,"","",0,0,"","",0,0,"","",0,0,"","",0,0,"","",0,0,"","",0,0,"","",0,0,"","",0,0,"","",0,0,"","",0,0,"","",0,0,"","",0,0,"","",0,0,"","",0,0,"","",0,0,"","",0,0,"","",0,0,"","",0,0,"","",0,0,"","",0,0]
["熊本県","43857","御船地区衛生施設組合",{"$f":"SUM(H9,L9,P9,T9,X9,AB9,AF9,AJ9,AN9,AR9,AV9,AZ9,BD9,BH9,BL9,BP9,BT9,BX9,CB9,CF9,CJ9,CN9,CR9,CV9,CZ9,DD9,DH9,DL9,DP9,DT9)","v":0},{"$f":"SUM(I9,M9,Q9,U9,Y9,AC9,AG9,AK9,AO9,AS9,AW9,BA9,BE9,BI9,BM9,BQ9,BU9,BY9,CC9,CG9,CK9,CO9,CS9,CW9,DA9,DE9,DI9,DM9,DQ9,DU9)","v":0},"","",0,0,"","",0,0,"","",0,0,"","",0,0,"","",0,0,"","",0,0,"","",0,0,"","",0,0,"","",0,0,"","",0,0,"","",0,0,"","",0,0,"","",0,0,"","",0,0,"","",0,0,"","",0,0,"","",0,0,"","",0,0,"","",0,0,"","",0,0,"","",0,0,"","",0,0,"","",0,0,"","",0,0,"","",0,0,"","",0,0,"","",0,0,"","",0,0,"","",0,0,"","",0,0]
["熊本県","43935","上天草衛生施設組合",{"$f":"SUM(H10,L10,P10,T10,X10,AB10,AF10,AJ10,AN10,AR10,AV10,AZ10,BD10,BH10,BL10,BP10,BT10,BX10,CB10,CF10,CJ10,CN10,CR10,CV10,CZ10,DD10,DH10,DL10,DP10,DT10)","v":0},{"$f":"SUM(I10,M10,Q10,U10,Y10,AC10,AG10,AK10,AO10,AS10,AW10,BA10,BE10,BI10,BM10,BQ10,BU10,BY10,CC10,CG10,CK10,CO10,CS10,CW10,DA10,DE10,DI10,DM10,DQ10,DU10)","v":0},"","",0,0,"","",0,0,"","",0,0,"","",0,0,"","",0,0,"","",0,0,"","",0,0,"","",0,0,"","",0,0,"","",0,0,"","",0,0,"","",0,0,"","",0,0,"","",0,0,"","",0,0,"","",0,0,"","",0,0,"","",0,0,"","",0,0,"","",0,0,"","",0,0,"","",0,0,"","",0,0,"","",0,0,"","",0,0,"","",0,0,"","",0,0,"","",0,0,"","",0,0,"","",0,0]
["熊本県","43949","益城、嘉島、西原環境衛生施設組合",{"$f":"SUM(H11,L11,P11,T11,X11,AB11,AF11,AJ11,AN11,AR11,AV11,AZ11,BD11,BH11,BL11,BP11,BT11,BX11,CB11,CF11,CJ11,CN11,CR11,CV11,CZ11,DD11,DH11,DL11,DP11,DT11)","v":0},{"$f":"SUM(I11,M11,Q11,U11,Y11,AC11,AG11,AK11,AO11,AS11,AW11,BA11,BE11,BI11,BM11,BQ11,BU11,BY11,CC11,CG11,CK11,CO11,CS11,CW11,DA11,DE11,DI11,DM11,DQ11,DU11)","v":0},"","",0,0,"","",0,0,"","",0,0,"","",0,0,"","",0,0,"","",0,0,"","",0,0,"","",0,0,"","",0,0,"","",0,0,"","",0,0,"","",0,0,"","",0,0,"","",0,0,"","",0,0,"","",0,0,"","",0,0,"","",0,0,"","",0,0,"","",0,0,"","",0,0,"","",0,0,"","",0,0,"","",0,0,"","",0,0,"","",0,0,"","",0,0,"","",0,0,"","",0,0,"","",0,0]
["熊本県","43954","山鹿植木広域行政事務組合",{"$f":"SUM(H12,L12,P12,T12,X12,AB12,AF12,AJ12,AN12,AR12,AV12,AZ12,BD12,BH12,BL12,BP12,BT12,BX12,CB12,CF12,CJ12,CN12,CR12,CV12,CZ12,DD12,DH12,DL12,DP12,DT12)","v":0},{"$f":"SUM(I12,M12,Q12,U12,Y12,AC12,AG12,AK12,AO12,AS12,AW12,BA12,BE12,BI12,BM12,BQ12,BU12,BY12,CC12,CG12,CK12,CO12,CS12,CW12,DA12,DE12,DI12,DM12,DQ12,DU12)","v":0},"","",0,0,"","",0,0,"","",0,0,"","",0,0,"","",0,0,"","",0,0,"","",0,0,"","",0,0,"","",0,0,"","",0,0,"","",0,0,"","",0,0,"","",0,0,"","",0,0,"","",0,0,"","",0,0,"","",0,0,"","",0,0,"","",0,0,"","",0,0,"","",0,0,"","",0,0,"","",0,0,"","",0,0,"","",0,0,"","",0,0,"","",0,0,"","",0,0,"","",0,0,"","",0,0]
["熊本県","43974","八代生活環境事務組合",{"$f":"SUM(H13,L13,P13,T13,X13,AB13,AF13,AJ13,AN13,AR13,AV13,AZ13,BD13,BH13,BL13,BP13,BT13,BX13,CB13,CF13,CJ13,CN13,CR13,CV13,CZ13,DD13,DH13,DL13,DP13,DT13)","v":0},{"$f":"SUM(I13,M13,Q13,U13,Y13,AC13,AG13,AK13,AO13,AS13,AW13,BA13,BE13,BI13,BM13,BQ13,BU13,BY13,CC13,CG13,CK13,CO13,CS13,CW13,DA13,DE13,DI13,DM13,DQ13,DU13)","v":0},"","",0,0,"","",0,0,"","",0,0,"","",0,0,"","",0,0,"","",0,0,"","",0,0,"","",0,0,"","",0,0,"","",0,0,"","",0,0,"","",0,0,"","",0,0,"","",0,0,"","",0,0,"","",0,0,"","",0,0,"","",0,0,"","",0,0,"","",0,0,"","",0,0,"","",0,0,"","",0,0,"","",0,0,"","",0,0,"","",0,0,"","",0,0,"","",0,0,"","",0,0,"","",0,0]
["熊本県","43985","阿蘇広域行政事務組合",{"$f":"SUM(H14,L14,P14,T14,X14,AB14,AF14,AJ14,AN14,AR14,AV14,AZ14,BD14,BH14,BL14,BP14,BT14,BX14,CB14,CF14,CJ14,CN14,CR14,CV14,CZ14,DD14,DH14,DL14,DP14,DT14)","v":0},{"$f":"SUM(I14,M14,Q14,U14,Y14,AC14,AG14,AK14,AO14,AS14,AW14,BA14,BE14,BI14,BM14,BQ14,BU14,BY14,CC14,CG14,CK14,CO14,CS14,CW14,DA14,DE14,DI14,DM14,DQ14,DU14)","v":0},"","",0,0,"","",0,0,"","",0,0,"","",0,0,"","",0,0,"","",0,0,"","",0,0,"","",0,0,"","",0,0,"","",0,0,"","",0,0,"","",0,0,"","",0,0,"","",0,0,"","",0,0,"","",0,0,"","",0,0,"","",0,0,"","",0,0,"","",0,0,"","",0,0,"","",0,0,"","",0,0,"","",0,0,"","",0,0,"","",0,0,"","",0,0,"","",0,0,"","",0,0,"","",0,0]
["熊本県","43986","人吉球磨広域行政組合",{"$f":"SUM(H15,L15,P15,T15,X15,AB15,AF15,AJ15,AN15,AR15,AV15,AZ15,BD15,BH15,BL15,BP15,BT15,BX15,CB15,CF15,CJ15,CN15,CR15,CV15,CZ15,DD15,DH15,DL15,DP15,DT15)","v":0},{"$f":"SUM(I15,M15,Q15,U15,Y15,AC15,AG15,AK15,AO15,AS15,AW15,BA15,BE15,BI15,BM15,BQ15,BU15,BY15,CC15,CG15,CK15,CO15,CS15,CW15,DA15,DE15,DI15,DM15,DQ15,DU15)","v":0},"","",0,0,"","",0,0,"","",0,0,"","",0,0,"","",0,0,"","",0,0,"","",0,0,"","",0,0,"","",0,0,"","",0,0,"","",0,0,"","",0,0,"","",0,0,"","",0,0,"","",0,0,"","",0,0,"","",0,0,"","",0,0,"","",0,0,"","",0,0,"","",0,0,"","",0,0,"","",0,0,"","",0,0,"","",0,0,"","",0,0,"","",0,0,"","",0,0,"","",0,0,"","",0,0]
["熊本県","43991","有明広域行政事務組合",{"$f":"SUM(H16,L16,P16,T16,X16,AB16,AF16,AJ16,AN16,AR16,AV16,AZ16,BD16,BH16,BL16,BP16,BT16,BX16,CB16,CF16,CJ16,CN16,CR16,CV16,CZ16,DD16,DH16,DL16,DP16,DT16)","v":0},{"$f":"SUM(I16,M16,Q16,U16,Y16,AC16,AG16,AK16,AO16,AS16,AW16,BA16,BE16,BI16,BM16,BQ16,BU16,BY16,CC16,CG16,CK16,CO16,CS16,CW16,DA16,DE16,DI16,DM16,DQ16,DU16)","v":0},"","",0,0,"","",0,0,"","",0,0,"","",0,0,"","",0,0,"","",0,0,"","",0,0,"","",0,0,"","",0,0,"","",0,0,"","",0,0,"","",0,0,"","",0,0,"","",0,0,"","",0,0,"","",0,0,"","",0,0,"","",0,0,"","",0,0,"","",0,0,"","",0,0,"","",0,0,"","",0,0,"","",0,0,"","",0,0,"","",0,0,"","",0,0,"","",0,0,"","",0,0,"","",0,0]
["熊本県","43993","水俣芦北広域行政事務組合",{"$f":"SUM(H17,L17,P17,T17,X17,AB17,AF17,AJ17,AN17,AR17,AV17,AZ17,BD17,BH17,BL17,BP17,BT17,BX17,CB17,CF17,CJ17,CN17,CR17,CV17,CZ17,DD17,DH17,DL17,DP17,DT17)","v":0},{"$f":"SUM(I17,M17,Q17,U17,Y17,AC17,AG17,AK17,AO17,AS17,AW17,BA17,BE17,BI17,BM17,BQ17,BU17,BY17,CC17,CG17,CK17,CO17,CS17,CW17,DA17,DE17,DI17,DM17,DQ17,DU17)","v":0},"","",0,0,"","",0,0,"","",0,0,"","",0,0,"","",0,0,"","",0,0,"","",0,0,"","",0,0,"","",0,0,"","",0,0,"","",0,0,"","",0,0,"","",0,0,"","",0,0,"","",0,0,"","",0,0,"","",0,0,"","",0,0,"","",0,0,"","",0,0,"","",0,0,"","",0,0,"","",0,0,"","",0,0,"","",0,0,"","",0,0,"","",0,0,"","",0,0,"","",0,0,"","",0,0]
["熊本県","43995","宇城広域連合",{"$f":"SUM(H18,L18,P18,T18,X18,AB18,AF18,AJ18,AN18,AR18,AV18,AZ18,BD18,BH18,BL18,BP18,BT18,BX18,CB18,CF18,CJ18,CN18,CR18,CV18,CZ18,DD18,DH18,DL18,DP18,DT18)","v":0},{"$f":"SUM(I18,M18,Q18,U18,Y18,AC18,AG18,AK18,AO18,AS18,AW18,BA18,BE18,BI18,BM18,BQ18,BU18,BY18,CC18,CG18,CK18,CO18,CS18,CW18,DA18,DE18,DI18,DM18,DQ18,DU18)","v":0},"","",0,0,"","",0,0,"","",0,0,"","",0,0,"","",0,0,"","",0,0,"","",0,0,"","",0,0,"","",0,0,"","",0,0,"","",0,0,"","",0,0,"","",0,0,"","",0,0,"","",0,0,"","",0,0,"","",0,0,"","",0,0,"","",0,0,"","",0,0,"","",0,0,"","",0,0,"","",0,0,"","",0,0,"","",0,0,"","",0,0,"","",0,0,"","",0,0,"","",0,0,"","",0,0]
["熊本県","43996","菊池広域連合",{"$f":"SUM(H19,L19,P19,T19,X19,AB19,AF19,AJ19,AN19,AR19,AV19,AZ19,BD19,BH19,BL19,BP19,BT19,BX19,CB19,CF19,CJ19,CN19,CR19,CV19,CZ19,DD19,DH19,DL19,DP19,DT19)","v":0},{"$f":"SUM(I19,M19,Q19,U19,Y19,AC19,AG19,AK19,AO19,AS19,AW19,BA19,BE19,BI19,BM19,BQ19,BU19,BY19,CC19,CG19,CK19,CO19,CS19,CW19,DA19,DE19,DI19,DM19,DQ19,DU19)","v":0},"","",0,0,"","",0,0,"","",0,0,"","",0,0,"","",0,0,"","",0,0,"","",0,0,"","",0,0,"","",0,0,"","",0,0,"","",0,0,"","",0,0,"","",0,0,"","",0,0,"","",0,0,"","",0,0,"","",0,0,"","",0,0,"","",0,0,"","",0,0,"","",0,0,"","",0,0,"","",0,0,"","",0,0,"","",0,0,"","",0,0,"","",0,0,"","",0,0,"","",0,0,"","",0,0]