Workbook

Sheet 水洗化人口等
A1: 水洗化人口等（令和4年度実績）
A2: 都道府県名 | B2: 地方公共団体コード | C2: 市区町村名 | D2: 総人口 (非水洗化人口+水洗化人口) | U2: 外国人人口 | V2: くみ取りし尿の手数料 | Z2: 浄化槽汚泥の手数料
D3: 合計 | E3: 非水洗化人口 (計画収集人口+自家処理人口) | I3: 水洗化人口 (公共下水道人口+コミュニティプラント人口+集落排水施設等人口+浄化槽人口)
E4: 合計 | F4: 非水洗化率 | G4: 計画収集人口 | H4: 自家処理人口 | I4: 合計 | J4: 水洗化率(水洗化人口) | K4: 公共下水道人口 | L4: 水洗化率(公共下水道) | M4: コミュニティプラント人口 | N4: 水洗化率(コミュニティプラント) | O4: 集落排水施設等人口 | P4: 浄化槽人口 | T4: 水洗化率(浄化槽人口) | V4: 従量制 ・ 回数制 | W4: 定額制 （人頭制、世帯制） | X4: 無料 | Y4: 実施していない | Z4: 従量制 ・ 回数制 | AA4: 定額制 （人頭制、世帯制） | AB4: 無料 | AC4: 実施していない
Q5: みなし（単独処理）浄化槽人口 | R5: 合併処理浄化槽人口 | S5: その他浄化槽人口
D6: （人） | E6: （人） | F6: （％） | G6: （人） | H6: （人） | I6: （人） | J6: （％） | K6: （人） | L6: （％） | M6: （人） | N6: （％） | O6: （人） | P6: （人） | Q6: （人） | R6: （人） | S6: （人） | T6: （％） | U6: （人）
A7: 三重県 | B7: 24000 | C7: 合計 | D7: =+SUM(E7,+I7) -> 1772560 | E7: =+SUM(G7+H7) -> 83131 | F7: =IF(D7>0,E7/D7*100,"-") -> 4.6898836 | G7: =SUM(G$8:G$207) -> 83131 | H7: =SUM(H$8:H$207) -> 0 | I7: =+SUM(K7,+M7,O7+P7) -> 1689429 | J7: =IF(D7>0,I7/D7*100,"-") -> 95.310116 | K7: =SUM(K$8:K$207) -> 978967 | L7: =IF(D7>0,K7/D7*100,"-") -> 55.228991 | M7: =SUM(M$8:M$207) -> 3672 | N7: =IF(D7>0,M7/D7*100,"-") -> 0.20715801 | O7: =SUM(O$8:O$207) -> 77402 | P7: =SUM(Q7:S7) -> 629388 | Q7: =SUM(Q$8:Q$207) -> 147467 | R7: =SUM(R$8:R$207) -> 479753 | S7: =SUM(S$8:S$207) -> 2168 | T7: =IF(D7>0,P7/D7*100,"-") -> 35.507289 | U7: =SUM(U$8:U$207) -> 57018 | V7: =COUNTIF(V$8:V$207,"○") -> 23 | W7: =COUNTIF(W$8:W$207,"○") -> 0 | X7: =COUNTIF(X$8:X$207,"○") -> 1 | Y7: =COUNTIF(Y$8:Y$207,"○") -> 5 | Z7: =COUNTIF(Z$8:Z$207,"○") -> 17 | AA7: =COUNTIF(AA$8:AA$207,"○") -> 0 | AB7: =COUNTIF(AB$8:AB$207,"○") -> 1 | AC7: =COUNTIF(AC$8:AC$207,"○") -> 11
A8: 三重県 | B8: 24201 | C8: 津市 | D8: =+SUM(E8,+I8) -> 272881 | E8: =+SUM(G8+H8) -> 8748 | F8: =IF(D8>0,E8/D8*100,"-") -> 3.205793 | G8: 8748 | H8: 0 | I8: =+SUM(K8,+M8,O8+P8) -> 264133 | J8: =IF(D8>0,I8/D8*100,"-") -> 96.794207 | K8: 147784 | L8: =IF(D8>0,K8/D8*100,"-") -> 54.15694 | M8: 0 | N8: =IF(D8>0,M8/D8*100,"-") -> 0 | O8: 10659 | P8: =SUM(Q8:S8) -> 105690 | Q8: 11194 | R8: 94496 | S8: 0 | T8: =IF(D8>0,P8/D8*100,"-") -> 38.731169 | U8: 9219 | V8: ○ | Z8: ○
A9: 三重県 | B9: 24202 | C9: 四日市市 | D9: =+SUM(E9,+I9) -> 310113 | E9: =+SUM(G9+H9) -> 7443 | F9: =IF(D9>0,E9/D9*100,"-") -> 2.4000929 | G9: 7443 | H9: 0 | I9: =+SUM(K9,+M9,O9+P9) -> 302670 | J9: =IF(D9>0,I9/D9*100,"-") -> 97.599907 | K9: 237236 | L9: =IF(D9>0,K9/D9*100,"-") -> 76.499857 | M9: 3411 | N9: =IF(D9>0,M9/D9*100,"-") -> 1.0999216 | O9: 5272 | P9: =SUM(Q9:S9) -> 56751 | Q9: 22018 | R9: 34733 | S9: 0 | T9: =IF(D9>0,P9/D9*100,"-") -> 18.300104 | U9: 11164 | V9: ○ | AC9: ○
A10: 三重県 | B10: 24203 | C10: 伊勢市 | D10: =+SUM(E10,+I10) -> 122137 | E10: =+SUM(G10+H10) -> 6587 | F10: =IF(D10>0,E10/D10*100,"-") -> 5.3931241 | G10: 6587 | H10: 0 | I10: =+SUM(K10,+M10,O10+P10) -> 115550 | J10: =IF(D10>0,I10/D10*100,"-") -> 94.606876 | K10: 61134 | L10: =IF(D10>0,K10/D10*100,"-") -> 50.053628 | M10: 0 | N10: =IF(D10>0,M10/D10*100,"-") -> 0 | O10: 0 | P10: =SUM(Q10:S10) -> 54416 | Q10: 17724 | R10: 36692 | S10: 0 | T10: =IF(D10>0,P10/D10*100,"-") -> 44.553248 | U10: 1156 | V10: ○ | Z10: ○
A11: 三重県 | B11: 24204 | C11: 松阪市 | D11: =+SUM(E11,+I11) -> 159423 | E11: =+SUM(G11+H11) -> 3222 | F11: =IF(D11>0,E11/D11*100,"-") -> 2.0210384 | G11: 3222 | H11: 0 | I11: =+SUM(K11,+M11,O11+P11) -> 156201 | J11: =IF(D11>0,I11/D11*100,"-") -> 97.978962 | K11: 97392 | L11: =IF(D11>0,K11/D11*100,"-") -> 61.090307 | M11: 0 | N11: =IF(D11>0,M11/D11*100,"-") -> 0 | O11: 964 | P11: =SUM(Q11:S11) -> 57845 | Q11: 9842 | R11: 48003 | S11: 0 | T11: =IF(D11>0,P11/D11*100,"-") -> 36.283974 | U11: 4681 | V11: ○ | Z11: ○
A12: 三重県 | B12: 24205 | C12: 桑名市 | D12: =+SUM(E12,+I12) -> 139666 | E12: =+SUM(G12+H12) -> 2732 | F12: =IF(D12>0,E12/D12*100,"-") -> 1.9560953 | G12: 2732 | H12: 0 | I12: =+SUM(K12,+M12,O12+P12) -> 136934 | J12: =IF(D12>0,I12/D12*100,"-") -> 98.043905 | K12: 103564 | L12: =IF(D12>0,K12/D12*100,"-") -> 74.151189 | M12: 0 | N12: =IF(D12>0,M12/D12*100,"-") -> 0 | O12: 1954 | P12: =SUM(Q12:S12) -> 31416 | Q12: 9454 | R12: 21962 | S12: 0 | T12: =IF(D12>0,P12/D12*100,"-") -> 22.493663 | U12: 5004 | V12: ○ | Z12: ○
A13: 三重県 | B13: 24207 | C13: 鈴鹿市 | D13: =+SUM(E13,+I13) -> 196663 | E13: =+SUM(G13+H13) -> 6983 | F13: =IF(D13>0,E13/D13*100,"-") -> 3.5507442 | G13: 6983 | H13: 0 | I13: =+SUM(K13,+M13,O13+P13) -> 189680 | J13: =IF(D13>0,I13/D13*100,"-") -> 96.449256 | K13: 106552 | L13: =IF(D13>0,K13/D13*100,"-") -> 54.179993 | M13: 0 | N13: =IF(D13>0,M13/D13*100,"-") -> 0 | O13: 15816 | P13: =SUM(Q13:S13) -> 67312 | Q13: 8647 | R13: 58665 | S13: 0 | T13: =IF(D13>0,P13/D13*100,"-") -> 34.227079 | U13: 9000 | V13: ○ | AC13: ○
A14: 三重県 | B14: 24208 | C14: 名張市 | D14: =+SUM(E14,+I14) -> 76352 | E14: =+SUM(G14+H14) -> 2160 | F14: =IF(D14>0,E14/D14*100,"-") -> 2.8290025 | G14: 2160 | H14: 0 | I14: =+SUM(K14,+M14,O14+P14) -> 74192 | J14: =IF(D14>0,I14/D14*100,"-") -> 97.170997 | K14: 27564 | L14: =IF(D14>0,K14/D14*100,"-") -> 36.101215 | M14: 24 | N14: =IF(D14>0,M14/D14*100,"-") -> 0.031433361 | O14: 0 | P14: =SUM(Q14:S14) -> 46604 | Q14: 1049 | R14: 45555 | S14: 0 | T14: =IF(D14>0,P14/D14*100,"-") -> 61.038349 | U14: 1116 | V14: ○ | Z14: ○
A15: 三重県 | B15: 24209 | C15: 尾鷲市 | D15: =+SUM(E15,+I15) -> 16429 | E15: =+SUM(G15+H15) -> 3772 | F15: =IF(D15>0,E15/D15*100,"-") -> 22.959401 | G15: 3772 | H15: 0 | I15: =+SUM(K15,+M15,O15+P15) -> 12657 | J15: =IF(D15>0,I15/D15*100,"-") -> 77.040599 | K15: 0 | L15: =IF(D15>0,K15/D15*100,"-") -> 0 | M15: 0 | N15: =IF(D15>0,M15/D15*100,"-") -> 0 | O15: 0 | P15: =SUM(Q15:S15) -> 12657 | Q15: 5064 | R15: 7593 | S15: 0 | T15: =IF(D15>0,P15/D15*100,"-") -> 77.040599 | U15: 231 | V15: ○ | AC15: ○
A16: 三重県 | B16: 24210 | C16: 亀山市 | D16: =+SUM(E16,+I16) -> 49292 | E16: =+SUM(G16+H16) -> 5368 | F16: =IF(D16>0,E16/D16*100,"-") -> 10.890205 | G16: 5368 | H16: 0 | I16: =+SUM(K16,+M16,O16+P16) -> 43924 | J16: =IF(D16>0,I16/D16*100,"-") -> 89.109795 | K16: 30583 | L16: =IF(D16>0,K16/D16*100,"-") -> 62.044551 | M16: 0 | N16: =IF(D16>0,M16/D16*100,"-") -> 0 | O16: 7882 | P16: =SUM(Q16:S16) -> 5459 | Q16: 0 | R16: 5459 | S16: 0 | T16: =IF(D16>0,P16/D16*100,"-") -> 11.074819 | U16: 2257 | V16: ○ | Z16: ○
A17: 三重県 | B17: 24211 | C17: 鳥羽市 | D17: =+SUM(E17,+I17) -> 17033 | E17: =+SUM(G17+H17) -> 3128 | F17: =IF(D17>0,E17/D17*100,"-") -> 18.364352 | G17: 3128 | H17: 0 | I17: =+SUM(K17,+M17,O17+P17) -> 13905 | J17: =IF(D17>0,I17/D17*100,"-") -> 81.635648 | K17: 1177 | L17: =IF(D17>0,K17/D17*100,"-") -> 6.9101157 | M17: 0 | N17: =IF(D17>0,M17/D17*100,"-") -> 0 | O17: 0 | P17: =SUM(Q17:S17) -> 12728 | Q17: 6585 | R17: 6143 | S17: 0 | T17: =IF(D17>0,P17/D17*100,"-") -> 74.725533 | U17: 334 | V17: ○ | Z17: ○
A18: 三重県 | B18: 24212 | C18: 熊野市 | D18: =+SUM(E18,+I18) -> 15800 | E18: =+SUM(G18+H18) -> 1853 | F18: =IF(D18>0,E18/D18*100,"-") -> 11.727848 | G18: 1853 | H18: 0 | I18: =+SUM(K18,+M18,O18+P18) -> 13947 | J18: =IF(D18>0,I18/D18*100,"-") -> 88.272152 | K18: 0 | L18: =IF(D18>0,K18/D18*100,"-") -> 0 | M18: 0 | N18: =IF(D18>0,M18/D18*100,"-") -> 0 | O18: 0 | P18: =SUM(Q18:S18) -> 13947 | Q18: 6348 | R18: 6775 | S18: 824 | T18: =IF(D18>0,P18/D18*100,"-") -> 88.272152 | U18: 116 | Y18: ○ | AC18: ○
A19: 三重県 | B19: 24214 | C19: いなべ市 | D19: =+SUM(E19,+I19) -> 44875 | E19: =+SUM(G19+H19) -> 792 | F19: =IF(D19>0,E19/D19*100,"-") -> 1.7649025 | G19: 792 | H19: 0 | I19: =+SUM(K19,+M19,O19+P19) -> 44083 | J19: =IF(D19>0,I19/D19*100,"-") -> 98.235097 | K19: 39111 | L19: =IF(D19>0,K19/D19*100,"-") -> 87.155432 | M19: 0 | N19: =IF(D19>0,M19/D19*100,"-") -> 0 | O19: 3597 | P19: =SUM(Q19:S19) -> 1375 | Q19: 219 | R19: 1156 | S19: 0 | T19: =IF(D19>0,P19/D19*100,"-") -> 3.0640669 | U19: 2183 | Y19: ○ | AC19: ○
A20: 三重県 | B20: 24215 | C20: 志摩市 | D20: =+SUM(E20,+I20) -> 43933 | E20: =+SUM(G20+H20) -> 4308 | F20: =IF(D20>0,E20/D20*100,"-") -> 9.8058407 | G20: 4308 | H20: 0 | I20: =+SUM(K20,+M20,O20+P20) -> 39625 | J20: =IF(D20>0,I20/D20*100,"-") -> 90.194159 | K20: 2849 | L20: =IF(D20>0,K20/D20*100,"-") -> 6.4848747 | M20: 0 | N20: =IF(D20>0,M20/D20*100,"-") -> 0 | O20: 1566 | P20: =SUM(Q20:S20) -> 35210 | Q20: 15894 | R20: 19316 | S20: 0 | T20: =IF(D20>0,P20/D20*100,"-") -> 80.144766 | U20: 467 | V20: ○ | Z20: ○
A21: 三重県 | B21: 24216 | C21: 伊賀市 | D21: =+SUM(E21,+I21) -> 87544 | E21: =+SUM(G21+H21) -> 11239 | F21: =IF(D21>0,E21/D21*100,"-") -> 12.838116 | G21: 11239 | H21: 0 | I21: =+SUM(K21,+M21,O21+P21) -> 76305 | J21: =IF(D21>0,I21/D21*100,"-") -> 87.161884 | K21: 14336 | L21: =IF(D21>0,K21/D21*100,"-") -> 16.375765 | M21: 237 | N21: =IF(D21>0,M21/D21*100,"-") -> 0.27072101 | O21: 13552 | P21: =SUM(Q21:S21) -> 48180 | Q21: 8232 | R21: 39948 | S21: 0 | T21: =IF(D21>0,P21/D21*100,"-") -> 55.035182 | U21: 5639 | V21: ○ | AC21: ○
A22: 三重県 | B22: 24303 | C22: 木曽岬町 | D22: =+SUM(E22,+I22) -> 6024 | E22: =+SUM(G22+H22) -> 4 | F22: =IF(D22>0,E22/D22*100,"-") -> 0.066401062 | G22: 4 | H22: 0 | I22: =+SUM(K22,+M22,O22+P22) -> 6020 | J22: =IF(D22>0,I22/D22*100,"-") -> 99.933599 | K22: 3804 | L22: =IF(D22>0,K22/D22*100,"-") -> 63.14741 | M22: 0 | N22: =IF(D22>0,M22/D22*100,"-") -> 0 | O22: 2102 | P22: =SUM(Q22:S22) -> 114 | Q22: 39 | R22: 2 | S22: 73 | T22: =IF(D22>0,P22/D22*100,"-") -> 1.8924303 | U22: 537 | Y22: ○ | AC22: ○
A23: 三重県 | B23: 24324 | C23: 東員町 | D23: =+SUM(E23,+I23) -> 25898 | E23: =+SUM(G23+H23) -> 201 | F23: =IF(D23>0,E23/D23*100,"-") -> 0.77612171 | G23: 201 | H23: 0 | I23: =+SUM(K23,+M23,O23+P23) -> 25697 | J23: =IF(D23>0,I23/D23*100,"-") -> 99.223878 | K23: 25467 | L23: =IF(D23>0,K23/D23*100,"-") -> 98.335779 | M23: 0 | N23: =IF(D23>0,M23/D23*100,"-") -> 0 | O23: 0 | P23: =SUM(Q23:S23) -> 230 | Q23: 121 | R23: 109 | S23: 0 | T23: =IF(D23>0,P23/D23*100,"-") -> 0.88809947 | U23: 703 | Y23: ○ | AC23: ○
A24: 三重県 | B24: 24341 | C24: 菰野町 | D24: =+SUM(E24,+I24) -> 41324 | E24: =+SUM(G24+H24) -> 2181 | F24: =IF(D24>0,E24/D24*100,"-") -> 5.2778047 | G24: 2181 | H24: 0 | I24: =+SUM(K24,+M24,O24+P24) -> 39143 | J24: =IF(D24>0,I24/D24*100,"-") -> 94.722195 | K24: 28026 | L24: =IF(D24>0,K24/D24*100,"-") -> 67.820153 | M24: 0 | N24: =IF(D24>0,M24/D24*100,"-") -> 0 | O24: 3018 | P24: =SUM(Q24:S24) -> 8099 | Q24: 1863 | R24: 6236 | S24: 0 | T24: =IF(D24>0,P24/D24*100,"-") -> 19.59878 | U24: 1109 | V24: ○ | Z24: ○
A25: 三重県 | B25: 24343 | C25: 朝日町 | D25: =+SUM(E25,+I25) -> 11108 | E25: =+SUM(G25+H25) -> 51 | F25: =IF(D25>0,E25/D25*100,"-") -> 0.45912856 | G25: 51 | H25: 0 | I25: =+SUM(K25,+M25,O25+P25) -> 11057 | J25: =IF(D25>0,I25/D25*100,"-") -> 99.540871 | K25: 10785 | L25: =IF(D25>0,K25/D25*100,"-") -> 97.092186 | M25: 0 | N25: =IF(D25>0,M25/D25*100,"-") -> 0 | O25: 0 | P25: =SUM(Q25:S25) -> 272 | Q25: 204 | R25: 68 | S25: 0 | T25: =IF(D25>0,P25/D25*100,"-") -> 2.4486856 | U25: 195 | V25: ○ | AC25: ○
A26: 三重県 | B26: 24344 | C26: 川越町 | D26: =+SUM(E26,+I26) -> 15545 | E26: =+SUM(G26+H26) -> 113 | F26: =IF(D26>0,E26/D26*100,"-") -> 0.72692184 | G26: 113 | H26: 0 | I26: =+SUM(K26,+M26,O26+P26) -> 15432 | J26: =IF(D26>0,I26/D26*100,"-") -> 99.273078 | K26: 14969 | L26: =IF(D26>0,K26/D26*100,"-") -> 96.294628 | M26: 0 | N26: =IF(D26>0,M26/D26*100,"-") -> 0 | O26: 0 | P26: =SUM(Q26:S26) -> 463 | Q26: 372 | R26: 51 | S26: 40 | T26: =IF(D26>0,P26/D26*100,"-") -> 2.9784497 | U26: 585 | V26: ○ | AC26: ○
A27: 三重県 | B27: 24441 | C27: 多気町 | D27: =+SUM(E27,+I27) -> 14048 | E27: =+SUM(G27+H27) -> 414 | F27: =IF(D27>0,E27/D27*100,"-") -> 2.9470387 | G27: 414 | H27: 0 | I27: =+SUM(K27,+M27,O27+P27) -> 13634 | J27: =IF(D27>0,I27/D27*100,"-") -> 97.052961 | K27: 5672 | L27: =IF(D27>0,K27/D27*100,"-") -> 40.375854 | M27: 0 | N27: =IF(D27>0,M27/D27*100,"-") -> 0 | O27: 2397 | P27: =SUM(Q27:S27) -> 5565 | Q27: 813 | R27: 4752 | S27: 0 | T27: =IF(D27>0,P27/D27*100,"-") -> 39.61418 | U27: 167 | V27: ○ | Z27: ○
A28: 三重県 | B28: 24442 | C28: 明和町 | D28: =+SUM(E28,+I28) -> 22924 | E28: =+SUM(G28+H28) -> 716 | F28: =IF(D28>0,E28/D28*100,"-") -> 3.1233642 | G28: 716 | H28: 0 | I28: =+SUM(K28,+M28,O28+P28) -> 22208 | J28: =IF(D28>0,I28/D28*100,"-") -> 96.876636 | K28: 4335 | L28: =IF(D28>0,K28/D28*100,"-") -> 18.910312 | M28: 0 | N28: =IF(D28>0,M28/D28*100,"-") -> 0 | O28: 3437 | P28: =SUM(Q28:S28) -> 14436 | Q28: 5190 | R28: 9246 | S28: 0 | T28: =IF(D28>0,P28/D28*100,"-") -> 62.973303 | U28: 240 | V28: ○ | Z28: ○
A29: 三重県 | B29: 24443 | C29: 大台町 | D29: =+SUM(E29,+I29) -> 8621 | E29: =+SUM(G29+H29) -> 1205 | F29: =IF(D29>0,E29/D29*100,"-") -> 13.977497 | G29: 1205 | H29: 0 | I29: =+SUM(K29,+M29,O29+P29) -> 7416 | J29: =IF(D29>0,I29/D29*100,"-") -> 86.022503 | K29: 1282 | L29: =IF(D29>0,K29/D29*100,"-") -> 14.870665 | M29: 0 | N29: =IF(D29>0,M29/D29*100,"-") -> 0 | O29: 0 | P29: =SUM(Q29:S29) -> 6134 | Q29: 1652 | R29: 4482 | S29: 0 | T29: =IF(D29>0,P29/D29*100,"-") -> 71.151839 | U29: 101 | X29: ○ | AB29: ○
A30: 三重県 | B30: 24461 | C30: 玉城町 | D30: =+SUM(E30,+I30) -> 15225 | E30: =+SUM(G30+H30) -> 294 | F30: =IF(D30>0,E30/D30*100,"-") -> 1.9310345 | G30: 294 | H30: 0 | I30: =+SUM(K30,+M30,O30+P30) -> 14931 | J30: =IF(D30>0,I30/D30*100,"-") -> 98.068966 | K30: 10852 | L30: =IF(D30>0,K30/D30*100,"-") -> 71.277504 | M30: 0 | N30: =IF(D30>0,M30/D30*100,"-") -> 0 | O30: 1239 | P30: =SUM(Q30:S30) -> 2840 | Q30: 593 | R30: 2247 | S30: 0 | T30: =IF(D30>0,P30/D30*100,"-") -> 18.65353 | U30: 126 | Y30: ○ | AC30: ○
A31: 三重県 | B31: 24470 | C31: 度会町 | D31: =+SUM(E31,+I31) -> 7824 | E31: =+SUM(G31+H31) -> 2086 | F31: =IF(D31>0,E31/D31*100,"-") -> 26.661554 | G31: 2086 | H31: 0 | I31: =+SUM(K31,+M31,O31+P31) -> 5738 | J31: =IF(D31>0,I31/D31*100,"-") -> 73.338446 | K31: 0 | L31: =IF(D31>0,K31/D31*100,"-") -> 0 | M31: 0 | N31: =IF(D31>0,M31/D31*100,"-") -> 0 | O31: 0 | P31: =SUM(Q31:S31) -> 5738 | Q31: 0 | R31: 4507 | S31: 1231 | T31: =IF(D31>0,P31/D31*100,"-") -> 73.338446 | U31: 51 | V31: ○ | Z31: ○
A32: 三重県 | B32: 24471 | C32: 大紀町 | D32: =+SUM(E32,+I32) -> 7533 | E32: =+SUM(G32+H32) -> 1725 | F32: =IF(D32>0,E32/D32*100,"-") -> 22.899243 | G32: 1725 | H32: 0 | I32: =+SUM(K32,+M32,O32+P32) -> 5808 | J32: =IF(D32>0,I32/D32*100,"-") -> 77.100757 | K32: 0 | L32: =IF(D32>0,K32/D32*100,"-") -> 0 | M32: 0 | N32: =IF(D32>0,M32/D32*100,"-") -> 0 | O32: 0 | P32: =SUM(Q32:S32) -> 5808 | Q32: 1815 | R32: 3993 | S32: 0 | T32: =IF(D32>0,P32/D32*100,"-") -> 77.100757 | U32: 90 | V32: ○ | Z32: ○
A33: 三重県 | B33: 24472 | C33: 南伊勢町 | D33: =+SUM(E33,+I33) -> 11330 | E33: =+SUM(G33+H33) -> 2153 | F33: =IF(D33>0,E33/D33*100,"-") -> 19.002648 | G33: 2153 | H33: 0 | I33: =+SUM(K33,+M33,O33+P33) -> 9177 | J33: =IF(D33>0,I33/D33*100,"-") -> 80.997352 | K33: 2478 | L33: =IF(D33>0,K33/D33*100,"-") -> 21.871139 | M33: 0 | N33: =IF(D33>0,M33/D33*100,"-") -> 0 | O33: 3947 | P33: =SUM(Q33:S33) -> 2752 | Q33: 1117 | R33: 1635 | S33: 0 | T33: =IF(D33>0,P33/D33*100,"-") -> 24.289497 | U33: 79 | V33: ○ | Z33: ○
A34: 三重県 | B34: 24543 | C34: 紀北町 | D34: =+SUM(E34,+I34) -> 14534 | E34: =+SUM(G34+H34) -> 2300 | F34: =IF(D34>0,E34/D34*100,"-") -> 15.824962 | G34: 2300 | H34: 0 | I34: =+SUM(K34,+M34,O34+P34) -> 12234 | J34: =IF(D34>0,I34/D34*100,"-") -> 84.175038 | K34: 0 | L34: =IF(D34>0,K34/D34*100,"-") -> 0 | M34: 0 | N34: =IF(D34>0,M34/D34*100,"-") -> 0 | O34: 0 | P34: =SUM(Q34:S34) -> 12234 | Q34: 5757 | R34: 6477 | S34: 0 | T34: =IF(D34>0,P34/D34*100,"-") -> 84.175038 | U34: 324 | V34: ○ | Z34: ○
A35: 三重県 | B35: 24561 | C35: 御浜町 | D35: =+SUM(E35,+I35) -> 8022 | E35: =+SUM(G35+H35) -> 1175 | F35: =IF(D35>0,E35/D35*100,"-") -> 14.64722 | G35: 1175 | H35: 0 | I35: =+SUM(K35,+M35,O35+P35) -> 6847 | J35: =IF(D35>0,I35/D35*100,"-") -> 85.35278 | K35: 2015 | L35: =IF(D35>0,K35/D35*100,"-") -> 25.118424 | M35: 0 | N35: =IF(D35>0,M35/D35*100,"-") -> 0 | O35: 0 | P35: =SUM(Q35:S35) -> 4832 | Q35: 1944 | R35: 2888 | S35: 0 | T35: =IF(D35>0,P35/D35*100,"-") -> 60.234356 | U35: 49 | V35: ○ | Z35: ○
A36: 三重県 | B36: 24562 | C36: 紀宝町 | D36: =+SUM(E36,+I36) -> 10459 | E36: =+SUM(G36+H36) -> 178 | F36: =IF(D36>0,E36/D36*100,"-") -> 1.7018835 | G36: 178 | H36: 0 | I36: =+SUM(K36,+M36,O36+P36) -> 10281 | J36: =IF(D36>0,I36/D36*100,"-") -> 98.298116 | K36: 0 | L36: =IF(D36>0,K36/D36*100,"-") -> 0 | M36: 0 | N36: =IF(D36>0,M36/D36*100,"-") -> 0 | O36: 0 | P36: =SUM(Q36:S36) -> 10281 | Q36: 3717 | R36: 6564 | S36: 0 | T36: =IF(D36>0,P36/D36*100,"-") -> 98.298116 | U36: 95 | V36: ○ | Z36: ○

Sheet し尿処理状況
A1: し尿処理の状況（令和4年度実績）
A2: 都道府県名 | B2: 地方公共団体コード | C2: 市区町村名 | D2: し尿収集量 (直営+委託+許可) | N2: し尿処理量 (し尿+浄化槽汚泥+自家処理量) | AF2: 処理残渣搬出量(し尿処理施設+ごみ堆肥化施設+メタン化施設) | AJ2: し尿処理施設からの処理量(し尿処理施設内の焼却+し尿処理施設内の堆肥化･メタン化発酵等+ごみ焼却施設+ごみ堆肥化施設+メタン化施設+下水道処理施設+農地還元等の再生利用+直接埋立+その他の搬出処理) | AT2: し尿処理施設･処理後の残渣(し尿処理施設内の焼却+し尿処理施設内の堆肥化･メタン化発酵等+ごみ焼却施設+ごみ堆肥化施設+メタン化施設) | AZ2: 資源化量(し尿処理施設+ごみ堆肥化施設+メタン化施設)
D3: 合計 | E3: 直営 (し尿+浄化槽汚泥) | H3: 委託 (し尿+浄化槽汚泥) | K3: 許可 (し尿+浄化槽汚泥) | N3: 合計 | O3: し尿 (し尿処理施設+ごみ堆肥化施設+メタン化施設+下水道投入+農地還元+その他) | V3: 浄化槽汚泥 (し尿処理施設+ごみ堆肥化施設+メタン化施設+下水道投入+農地還元+その他) | AC3: 自家処理量 (し尿+浄化槽汚泥) | AF3: 合計 | AG3: し尿処理施設 | AH3: ごみ堆肥化施設 | AI3: メタン化施設 | AJ3: 合計 | AK3: し尿処理施設内の焼却 | AL3: し尿処理施設内の堆肥化･メタン化発酵等 | AM3: ごみ焼却施設 | AN3: ごみ堆肥化施設 | AO3: メタン化施設 | AP3: 下水道処理施設 | AQ3: 農地還元等の再生利用 | AR3: 直接埋立 | AS3: その他の搬出処理 | AT3: 合計 | AU3: し尿処理施設内の焼却 | AV3: し尿処理施設内の堆肥化･メタン化発酵等 | AW3: ごみ焼却施設 | AX3: ごみ堆肥化施設 | AY3: メタン化施設 | AZ3: 合計 | BA3: し尿処理施設 | BB3: ごみ堆肥化施設 | BC3: メタン化施設
E4: 合計 | F4: し尿 | G4: 浄化槽汚泥 | H4: 合計 | I4: し尿 | J4: 浄化槽汚泥 | K4: 合計 | L4: し尿 | M4: 浄化槽汚泥 | O4: 合計 | P4: し尿処理施設 | Q4: ごみ堆肥化施設 | R4: メタン化施設 | S4: 下水道投入 | T4: 農地還元 | U4: その他 | V4: 合計 | W4: し尿処理施設 | X4: ごみ堆肥化施設 | Y4: メタン化施設 | Z4: 下水道投入 | AA4: 農地還元 | AB4: その他 | AC4: 合計 | AD4: し尿 | AE4: 浄化槽汚泥
D6: （ｋｌ） | E6: （ｋｌ） | F6: （ｋｌ） | G6: （ｋｌ） | H6: （ｋｌ） | I6: （ｋｌ） | J6: （ｋｌ） | K6: （ｋｌ） | L6: （ｋｌ） | M6: （ｋｌ） | N6: （ｋｌ） | O6: （ｋｌ） | P6: （ｋｌ） | Q6: （ｋｌ） | R6: （ｋｌ） | S6: （ｋｌ） | T6: （ｋｌ） | U6: （ｋｌ） | V6: （ｋｌ） | W6: （ｋｌ） | X6: （ｋｌ） | Y6: （ｋｌ） | Z6: （ｋｌ） | AA6: （ｋｌ） | AB6: （ｋｌ） | AC6: （ｋｌ） | AD6: （ｋｌ） | AE6: （ｋｌ） | AF6: (t) | AG6: (t) | AH6: (t) | AI6: (t) | AJ6: (t) | AK6: (t) | AL6: (t) | AM6: (t) | AN6: (t) | AO6: (t) | AP6: (t) | AQ6: (t) | AR6: (t) | AS6: (t) | AT6: (t) | AU6: (t) | AV6: (t) | AW6: (t) | AX6: (t) | AY6: (t) | AZ6: (t) | BA6: (t) | BB6: (t) | BC6: (t)
A7: =水洗化人口等!A7 -> 三重県 | B7: =水洗化人口等!B7 -> 24000 | C7: 合計 | D7: =SUM(E7,+H7,+K7) -> 575824 | E7: =SUM(F7:G7) -> 5450 | F7: =SUM(F$8:F$207) -> 5450 | G7: =SUM(G$8:G$207) -> 0 | H7: =SUM(I7:J7) -> 11524 | I7: =SUM(I$8:I$207) -> 10773 | J7: =SUM(J$8:J$207) -> 751 | K7: =SUM(L7:M7) -> 558850 | L7: =SUM(L$8:L$207) -> 69863 | M7: =SUM(M$8:M$207) -> 488987 | N7: =SUM(O7,+V7,+AC7) -> 575824 | O7: =SUM(P7:U7) -> 86086 | P7: =SUM(P$8:P$207) -> 86086 | Q7: =SUM(Q$8:Q$207) -> 0 | R7: =SUM(R$8:R$207) -> 0 | S7: =SUM(S$8:S$207) -> 0 | T7: =SUM(T$8:T$207) -> 0 | U7: =SUM(U$8:U$207) -> 0 | V7: =SUM(W7:AB7) -> 489738 | W7: =SUM(W$8:W$207) -> 489738 | X7: =SUM(X$8:X$207) -> 0 | Y7: =SUM(Y$8:Y$207) -> 0 | Z7: =SUM(Z$8:Z$207) -> 0 | AA7: =SUM(AA$8:AA$207) -> 0 | AB7: =SUM(AB$8:AB$207) -> 0 | AC7: =SUM(AD7:AE7) -> 0 | AD7: =SUM(AD$8:AD$207) -> 0 | AE7: =SUM(AE$8:AE$207) -> 0 | AF7: =SUM(AG7:AI7) -> 10173 | AG7: =SUM(AG$8:AG$207) -> 10173 | AH7: =SUM(AH$8:AH$207) -> 0 | AI7: =SUM(AI$8:AI$207) -> 0 | AJ7: =SUM(AK7:AS7) -> 43815 | AK7: =SUM(AK$8:AK$207) -> 33750 | AL7: =SUM(AL$8:AL$207) -> 27 | AM7: =SUM(AM$8:AM$207) -> 5061 | AN7: =SUM(AN$8:AN$207) -> 1923 | AO7: =SUM(AO$8:AO$207) -> 0 | AP7: =SUM(AP$8:AP$207) -> 0 | AQ7: =SUM(AQ$8:AQ$207) -> 10 | AR7: =SUM(AR$8:AR$207) -> 113 | AS7: =SUM(AS$8:AS$207) -> 2931 | AT7: =SUM(AU7:AY7) -> 135 | AU7: =SUM(AU$8:AU$207) -> 135 | AV7: =SUM(AV$8:AV$207) -> 0 | AW7: =SUM(AW$8:AW$207) -> 0 | AX7: =SUM(AX$8:AX$207) -> 0 | AY7: =SUM(AY$8:AY$207) -> 0 | AZ7: =SUM(BA7:BC7) -> 708 | BA7: =SUM(BA$8:BA$207) -> 708 | BB7: =SUM(BB$8:BB$207) -> 0 | BC7: =SUM(BC$8:BC$207) -> 0
A8: 三重県 | B8: 24201 | C8: 津市 | D8: =SUM(E8,+H8,+K8) -> 97101 | E8: =SUM(F8:G8) -> 0 | F8: 0 | G8: 0 | H8: =SUM(I8:J8) -> 0 | I8: 0 | J8: 0 | K8: =SUM(L8:M8) -> 97101 | L8: 11402 | M8: 85699 | N8: =SUM(O8,+V8,+AC8) -> 97101 | O8: =SUM(P8:U8) -> 11402 | P8: 11402 | Q8: 0 | R8: 0 | S8: 0 | T8: 0 | U8: 0 | V8: =SUM(W8:AB8) -> 85699 | W8: 85699 | X8: 0 | Y8: 0 | Z8: 0 | AA8: 0 | AB8: 0 | AC8: =SUM(AD8:AE8) -> 0 | AD8: 0 | AE8: 0 | AF8: =SUM(AG8:AI8) -> 0 | AG8: 0 | AH8: 0 | AI8: 0 | AJ8: =SUM(AK8:AS8) -> 0 | AK8: 0 | AL8: 0 | AM8: 0 | AN8: 0 | AO8: 0 | AP8: 0 | AQ8: 0 | AR8: 0 | AS8: 0 | AT8: =SUM(AU8:AY8) -> 0 | AU8: 0 | AV8: 0 | AW8: 0 | AX8: 0 | AY8: 0 | AZ8: =SUM(BA8:BC8) -> 204 | BA8: 204 | BB8: 0 | BC8: 0
A9: 三重県 | B9: 24202 | C9: 四日市市 | D9: =SUM(E9,+H9,+K9) -> 60952 | E9: =SUM(F9:G9) -> 0 | F9: 0 | G9: 0 | H9: =SUM(I9:J9) -> 7850 | I9: 7850 | J9: 0 | K9: =SUM(L9:M9) -> 53102 | L9: 2774 | M9: 50328 | N9: =SUM(O9,+V9,+AC9) -> 60952 | O9: =SUM(P9:U9) -> 10624 | P9: 10624 | Q9: 0 | R9: 0 | S9: 0 | T9: 0 | U9: 0 | V9: =SUM(W9:AB9) -> 50328 | W9: 50328 | X9: 0 | Y9: 0 | Z9: 0 | AA9: 0 | AB9: 0 | AC9: =SUM(AD9:AE9) -> 0 | AD9: 0 | AE9: 0 | AF9: =SUM(AG9:AI9) -> 1861 | AG9: 1861 | AH9: 0 | AI9: 0 | AJ9: =SUM(AK9:AS9) -> 1861 | AK9: 0 | AL9: 0 | AM9: 0 | AN9: 1861 | AO9: 0 | AP9: 0 | AQ9: 0 | AR9: 0 | AS9: 0 | AT9: =SUM(AU9:AY9) -> 0 | AU9: 0 | AV9: 0 | AW9: 0 | AX9: 0 | AY9: 0 | AZ9: =SUM(BA9:BC9) -> 0 | BA9: 0 | BB9: 0 | BC9: 0
A10: 三重県 | B10: 24203 | C10: 伊勢市 | D10: =SUM(E10,+H10,+K10) -> 34223 | E10: =SUM(F10:G10) -> 0 | F10: 0 | G10: 0 | H10: =SUM(I10:J10) -> 0 | I10: 0 | J10: 0 | K10: =SUM(L10:M10) -> 34223 | L10: 4860 | M10: 29363 | N10: =SUM(O10,+V10,+AC10) -> 34223 | O10: =SUM(P10:U10) -> 4860 | P10: 4860 | Q10: 0 | R10: 0 | S10: 0 | T10: 0 | U10: 0 | V10: =SUM(W10:AB10) -> 29363 | W10: 29363 | X10: 0 | Y10: 0 | Z10: 0 | AA10: 0 | AB10: 0 | AC10: =SUM(AD10:AE10) -> 0 | AD10: 0 | AE10: 0 | AF10: =SUM(AG10:AI10) -> 803 | AG10: 803 | AH10: 0 | AI10: 0 | AJ10: =SUM(AK10:AS10) -> 803 | AK10: 0 | AL10: 0 | AM10: 0 | AN10: 0 | AO10: 0 | AP10: 0 | AQ10: 0 | AR10: 7 | AS10: 796 | AT10: =SUM(AU10:AY10) -> 0 | AU10: 0 | AV10: 0 | AW10: 0 | AX10: 0 | AY10: 0 | AZ10: =SUM(BA10:BC10) -> 0 | BA10: 0 | BB10: 0 | BC10: 0
A11: 三重県 | B11: 24204 | C11: 松阪市 | D11: =SUM(E11,+H11,+K11) -> 44925 | E11: =SUM(F11:G11) -> 0 | F11: 0 | G11: 0 | H11: =SUM(I11:J11) -> 0 | I11: 0 | J11: 0 | K11: =SUM(L11:M11) -> 44925 | L11: 5708 | M11: 39217 | N11: =SUM(O11,+V11,+AC11) -> 44925 | O11: =SUM(P11:U11) -> 5708 | P11: 5708 | Q11: 0 | R11: 0 | S11: 0 | T11: 0 | U11: 0 | V11: =SUM(W11:AB11) -> 39217 | W11: 39217 | X11: 0 | Y11: 0 | Z11: 0 | AA11: 0 | AB11: 0 | AC11: =SUM(AD11:AE11) -> 0 | AD11: 0 | AE11: 0 | AF11: =SUM(AG11:AI11) -> 1528 | AG11: 1528 | AH11: 0 | AI11: 0 | AJ11: =SUM(AK11:AS11) -> 1528 | AK11: 0 | AL11: 0 | AM11: 0 | AN11: 0 | AO11: 0 | AP11: 0 | AQ11: 0 | AR11: 0 | AS11: 1528 | AT11: =SUM(AU11:AY11) -> 0 | AU11: 0 | AV11: 0 | AW11: 0 | AX11: 0 | AY11: 0 | AZ11: =SUM(BA11:BC11) -> 0 | BA11: 0 | BB11: 0 | BC11: 0
A12: 三重県 | B12: 24205 | C12: 桑名市 | D12: =SUM(E12,+H12,+K12) -> 31480 | E12: =SUM(F12:G12) -> 0 | F12: 0 | G12: 0 | H12: =SUM(I12:J12) -> 0 | I12: 0 | J12: 0 | K12: =SUM(L12:M12) -> 31480 | L12: 2609 | M12: 28871 | N12: =SUM(O12,+V12,+AC12) -> 31480 | O12: =SUM(P12:U12) -> 2609 | P12: 2609 | Q12: 0 | R12: 0 | S12: 0 | T12: 0 | U12: 0 | V12: =SUM(W12:AB12) -> 28871 | W12: 28871 | X12: 0 | Y12: 0 | Z12: 0 | AA12: 0 | AB12: 0 | AC12: =SUM(AD12:AE12) -> 0 | AD12: 0 | AE12: 0 | AF12: =SUM(AG12:AI12) -> 3 | AG12: 3 | AH12: 0 | AI12: 0 | AJ12: =SUM(AK12:AS12) -> 3 | AK12: 0 | AL12: 0 | AM12: 3 | AN12: 0 | AO12: 0 | AP12: 0 | AQ12: 0 | AR12: 0 | AS12: 0 | AT12: =SUM(AU12:AY12) -> 0 | AU12: 0 | AV12: 0 | AW12: 0 | AX12: 0 | AY12: 0 | AZ12: =SUM(BA12:BC12) -> 180 | BA12: 180 | BB12: 0 | BC12: 0
A13: 三重県 | B13: 24207 | C13: 鈴鹿市 | D13: =SUM(E13,+H13,+K13) -> 47213 | E13: =SUM(F13:G13) -> 0 | F13: 0 | G13: 0 | H13: =SUM(I13:J13) -> 108 | I13: 108 | J13: 0 | K13: =SUM(L13:M13) -> 47105 | L13: 5610 | M13: 41495 | N13: =SUM(O13,+V13,+AC13) -> 47213 | O13: =SUM(P13:U13) -> 5718 | P13: 5718 | Q13: 0 | R13: 0 | S13: 0 | T13: 0 | U13: 0 | V13: =SUM(W13:AB13) -> 41495 | W13: 41495 | X13: 0 | Y13: 0 | Z13: 0 | AA13: 0 | AB13: 0 | AC13: =SUM(AD13:AE13) -> 0 | AD13: 0 | AE13: 0 | AF13: =SUM(AG13:AI13) -> 2446 | AG13: 2446 | AH13: 0 | AI13: 0 | AJ13: =SUM(AK13:AS13) -> 2446 | AK13: 0 | AL13: 0 | AM13: 2446 | AN13: 0 | AO13: 0 | AP13: 0 | AQ13: 0 | AR13: 0 | AS13: 0 | AT13: =SUM(AU13:AY13) -> 0 | AU13: 0 | AV13: 0 | AW13: 0 | AX13: 0 | AY13: 0 | AZ13: =SUM(BA13:BC13) -> 0 | BA13: 0 | BB13: 0 | BC13: 0
A14: 三重県 | B14: 24208 | C14: 名張市 | D14: =SUM(E14,+H14,+K14) -> 30540 | E14: =SUM(F14:G14) -> 0 | F14: 0 | G14: 0 | H14: =SUM(I14:J14) -> 0 | I14: 0 | J14: 0 | K14: =SUM(L14:M14) -> 30540 | L14: 2110 | M14: 28430 | N14: =SUM(O14,+V14,+AC14) -> 30540 | O14: =SUM(P14:U14) -> 2110 | P14: 2110 | Q14: 0 | R14: 0 | S14: 0 | T14: 0 | U14: 0 | V14: =SUM(W14:AB14) -> 28430 | W14: 28430 | X14: 0 | Y14: 0 | Z14: 0 | AA14: 0 | AB14: 0 | AC14: =SUM(AD14:AE14) -> 0 | AD14: 0 | AE14: 0 | AF14: =SUM(AG14:AI14) -> 99 | AG14: 99 | AH14: 0 | AI14: 0 | AJ14: =SUM(AK14:AS14) -> 30540 | AK14: 30540 | AL14: 0 | AM14: 0 | AN14: 0 | AO14: 0 | AP14: 0 | AQ14: 0 | AR14: 0 | AS14: 0 | AT14: =SUM(AU14:AY14) -> 99 | AU14: 99 | AV14: 0 | AW14: 0 | AX14: 0 | AY14: 0 | AZ14: =SUM(BA14:BC14) -> 0 | BA14: 0 | BB14: 0 | BC14: 0
A15: 三重県 | B15: 24209 | C15: 尾鷲市 | D15: =SUM(E15,+H15,+K15) -> 14234 | E15: =SUM(F15:G15) -> 3357 | F15: 3357 | G15: 0 | H15: =SUM(I15:J15) -> 0 | I15: 0 | J15: 0 | K15: =SUM(L15:M15) -> 10877 | L15: 0 | M15: 10877 | N15: =SUM(O15,+V15,+AC15) -> 14234 | O15: =SUM(P15:U15) -> 3357 | P15: 3357 | Q15: 0 | R15: 0 | S15: 0 | T15: 0 | U15: 0 | V15: =SUM(W15:AB15) -> 10877 | W15: 10877 | X15: 0 | Y15: 0 | Z15: 0 | AA15: 0 | AB15: 0 | AC15: =SUM(AD15:AE15) -> 0 | AD15: 0 | AE15: 0 | AF15: =SUM(AG15:AI15) -> 46 | AG15: 46 | AH15: 0 | AI15: 0 | AJ15: =SUM(AK15:AS15) -> 46 | AK15: 0 | AL15: 0 | AM15: 12 | AN15: 0 | AO15: 0 | AP15: 0 | AQ15: 10 | AR15: 0 | AS15: 24 | AT15: =SUM(AU15:AY15) -> 0 | AU15: 0 | AV15: 0 | AW15: 0 | AX15: 0 | AY15: 0 | AZ15: =SUM(BA15:BC15) -> 0 | BA15: 0 | BB15: 0 | BC15: 0
A16: 三重県 | B16: 24210 | C16: 亀山市 | D16: =SUM(E16,+H16,+K16) -> 9157 | E16: =SUM(F16:G16) -> 0 | F16: 0 | G16: 0 | H16: =SUM(I16:J16) -> 0 | I16: 0 | J16: 0 | K16: =SUM(L16:M16) -> 9157 | L16: 1358 | M16: 7799 | N16: =SUM(O16,+V16,+AC16) -> 9157 | O16: =SUM(P16:U16) -> 1358 | P16: 1358 | Q16: 0 | R16: 0 | S16: 0 | T16: 0 | U16: 0 | V16: =SUM(W16:AB16) -> 7799 | W16: 7799 | X16: 0 | Y16: 0 | Z16: 0 | AA16: 0 | AB16: 0 | AC16: =SUM(AD16:AE16) -> 0 | AD16: 0 | AE16: 0 | AF16: =SUM(AG16:AI16) -> 513 | AG16: 513 | AH16: 0 | AI16: 0 | AJ16: =SUM(AK16:AS16) -> 513 | AK16: 0 | AL16: 0 | AM16: 513 | AN16: 0 | AO16: 0 | AP16: 0 | AQ16: 0 | AR16: 0 | AS16: 0 | AT16: =SUM(AU16:AY16) -> 0 | AU16: 0 | AV16: 0 | AW16: 0 | AX16: 0 | AY16: 0 | AZ16: =SUM(BA16:BC16) -> 0 | BA16: 0 | BB16: 0 | BC16: 0
A17: 三重県 | B17: 24211 | C17: 鳥羽市 | D17: =SUM(E17,+H17,+K17) -> 9564 | E17: =SUM(F17:G17) -> 0 | F17: 0 | G17: 0 | H17: =SUM(I17:J17) -> 0 | I17: 0 | J17: 0 | K17: =SUM(L17:M17) -> 9564 | L17: 2129 | M17: 7435 | N17: =SUM(O17,+V17,+AC17) -> 9564 | O17: =SUM(P17:U17) -> 2129 | P17: 2129 | Q17: 0 | R17: 0 | S17: 0 | T17: 0 | U17: 0 | V17: =SUM(W17:AB17) -> 7435 | W17: 7435 | X17: 0 | Y17: 0 | Z17: 0 | AA17: 0 | AB17: 0 | AC17: =SUM(AD17:AE17) -> 0 | AD17: 0 | AE17: 0 | AF17: =SUM(AG17:AI17) -> 28 | AG17: 28 | AH17: 0 | AI17: 0 | AJ17: =SUM(AK17:AS17) -> 2157 | AK17: 2129 | AL17: 0 | AM17: 0 | AN17: 0 | AO17: 0 | AP17: 0 | AQ17: 0 | AR17: 0 | AS17: 28 | AT17: =SUM(AU17:AY17) -> 0 | AU17: 0 | AV17: 0 | AW17: 0 | AX17: 0 | AY17: 0 | AZ17: =SUM(BA17:BC17) -> 50 | BA17: 50 | BB17: 0 | BC17: 0
A18: 三重県 | B18: 24212 | C18: 熊野市 | D18: =SUM(E18,+H18,+K18) -> 12406 | E18: =SUM(F18:G18) -> 0 | F18: 0 | G18: 0 | H18: =SUM(I18:J18) -> 0 | I18: 0 | J18: 0 | K18: =SUM(L18:M18) -> 12406 | L18: 3571 | M18: 8835 | N18: =SUM(O18,+V18,+AC18) -> 12406 | O18: =SUM(P18:U18) -> 3571 | P18: 3571 | Q18: 0 | R18: 0 | S18: 0 | T18: 0 | U18: 0 | V18: =SUM(W18:AB18) -> 8835 | W18: 8835 | X18: 0 | Y18: 0 | Z18: 0 | AA18: 0 | AB18: 0 | AC18: =SUM(AD18:AE18) -> 0 | AD18: 0 | AE18: 0 | AF18: =SUM(AG18:AI18) -> 256 | AG18: 256 | AH18: 0 | AI18: 0 | AJ18: =SUM(AK18:AS18) -> 256 | AK18: 0 | AL18: 0 | AM18: 256 | AN18: 0 | AO18: 0 | AP18: 0 | AQ18: 0 | AR18: 0 | AS18: 0 | AT18: =SUM(AU18:AY18) -> 0 | AU18: 0 | AV18: 0 | AW18: 0 | AX18: 0 | AY18: 0 | AZ18: =SUM(BA18:BC18) -> 0 | BA18: 0 | BB18: 0 | BC18: 0
A19: 三重県 | B19: 24214 | C19: いなべ市 | D19: =SUM(E19,+H19,+K19) -> 6697 | E19: =SUM(F19:G19) -> 0 | F19: 0 | G19: 0 | H19: =SUM(I19:J19) -> 0 | I19: 0 | J19: 0 | K19: =SUM(L19:M19) -> 6697 | L19: 617 | M19: 6080 | N19: =SUM(O19,+V19,+AC19) -> 6697 | O19: =SUM(P19:U19) -> 617 | P19: 617 | Q19: 0 | R19: 0 | S19: 0 | T19: 0 | U19: 0 | V19: =SUM(W19:AB19) -> 6080 | W19: 6080 | X19: 0 | Y19: 0 | Z19: 0 | AA19: 0 | AB19: 0 | AC19: =SUM(AD19:AE19) -> 0 | AD19: 0 | AE19: 0 | AF19: =SUM(AG19:AI19) -> 1 | AG19: 1 | AH19: 0 | AI19: 0 | AJ19: =SUM(AK19:AS19) -> 1 | AK19: 0 | AL19: 0 | AM19: 1 | AN19: 0 | AO19: 0 | AP19: 0 | AQ19: 0 | AR19: 0 | AS19: 0 | AT19: =SUM(AU19:AY19) -> 0 | AU19: 0 | AV19: 0 | AW19: 0 | AX19: 0 | AY19: 0 | AZ19: =SUM(BA19:BC19) -> 39 | BA19: 39 | BB19: 0 | BC19: 0
... A36: 三重県 | B36: 24562 | C36: 紀宝町 | D36: =SUM(E36,+H36,+K36) -> 7552 | E36: =SUM(F36:G36) -> 0 | F36: 0 | G36: 0 | H36: =SUM(I36:J36) -> 0 | I36: 0 | J36: 0 | K36: =SUM(L36:M36) -> 7552 | L36: 599 | M36: 6953 | N36: =SUM(O36,+V36,+AC36) -> 7552 | O36: =SUM(P36:U36) -> 599 | P36: 599 | Q36: 0 | R36: 0 | S36: 0 | T36: 0 | U36: 0 | V36: =SUM(W36:AB36) -> 6953 | W36: 6953 | X36: 0 | Y36: 0 | Z36: 0 | AA36: 0 | AB36: 0 | AC36: =SUM(AD36:AE36) -> 0 | AD36: 0 | AE36: 0 | AF36: =SUM(AG36:AI36) -> 24 | AG36: 24 | AH36: 0 | AI36: 0 | AJ36: =SUM(AK36:AS36) -> 348 | AK36: 335 | AL36: 0 | AM36: 0 | AN36: 0 | AO36: 0 | AP36: 0 | AQ36: 0 | AR36: 0 | AS36: 13 | AT36: =SUM(AU36:AY36) -> 11 | AU36: 11 | AV36: 0 | AW36: 0 | AX36: 0 | AY36: 0 | AZ36: =SUM(BA36:BC36) -> 0 | BA36: 0 | BB36: 0 | BC36: 0

Sheet し尿集計結果
B2: 入力→ | D2: :市区町村コード(都道府県計は、01000～47000の何れか） | L2: =LEFT(C2,2) | M2: =IF(L2<>"",VLOOKUP(L2,$AI$6:$AJ$251,2,FALSE),"-") -> - | AA2: =IF(VALUE(C2)=0,0,1) -> 0 | AB2: =IF(AA2=0,"",VLOOKUP(C2,水洗化人口等!B7:C207,2,FALSE)) | AD2: =IF(AA2=0,1,IF(ISERROR(AB2),1,0)) -> 1 | AF2: =COUNTA(水洗化人口等!B7:B250)+6 | AG2: =IF(AA2=0,0,VLOOKUP(C2,AF5:AG251,2,FALSE)) -> 0
AF5: =+水洗化人口等!B5 -> 0 | AG5: 5
F6: 処理量 | H6: 汲み取りし尿 （kl） | I6: 浄化槽汚泥 （kl） | J6: 合計 （kl） | K6: 構成比 | L6: 処理残渣搬出量 （t) | M6: 資源化量 （t) | AF6: =+水洗化人口等!B6 -> 0 | AG6: 6 | AI6: 01 | AJ6: 北海道
B7: 非水洗化 | C7: 計画収集人口 | D7: =AD7 -> 0 | F7: 計画処理量 | G7: し尿処理施設 | H7: =AD15 -> 0 | I7: =AD25 -> 0 | J7: =SUM(H7:I7) -> 0 | K7: =IF(J$13>0,J7/J$13,0) -> 0 | L7: =AD35 -> 0 | M7: =AD38 -> 0 | AA7: 計画収集人口 | AB7: 水洗化人口等 | AC7: G | AD7: =IF(AD$2=0,INDIRECT(AB7&"!"&AC7&$AG$2),0) -> 0 | AF7: =+水洗化人口等!B7 -> 24000 | AG7: 7 | AI7: 02 | AJ7: 青森県
C8: 自家処理人口 | D8: =AD8 -> 0 | G8: ごみ堆肥化施設 | H8: =AD16 -> 0 | I8: =AD26 -> 0 | J8: =SUM(H8:I8) -> 0 | K8: =IF(J$13>0,J8/J$13,0) -> 0 | L8: =AD36 -> 0 | M8: =AD39 -> 0 | AA8: 自家処理人口 | AB8: 水洗化人口等 | AC8: H | AD8: =IF(AD$2=0,INDIRECT(AB8&"!"&AC8&$AG$2),0) -> 0 | AF8: =+水洗化人口等!B8 -> 24201 | AG8: 8 | AI8: 03 | AJ8: 岩手県
C9: 小計 | D9: =SUM(D7:D8) -> 0 | G9: メタン化施設 | H9: =AD17 -> 0 | I9: =AD27 -> 0 | J9: =SUM(H9:I9) -> 0 | K9: =IF(J$13>0,J9/J$13,0) -> 0 | L9: =AD37 -> 0 | M9: =AD40 -> 0 | AA9: 下水道人口 | AB9: 水洗化人口等 | AC9: K | AD9: =IF(AD$2=0,INDIRECT(AB9&"!"&AC9&$AG$2),0) -> 0 | AF9: =+水洗化人口等!B9 -> 24202 | AG9: 9 | AI9: 04 | AJ9: 宮城県
B10: 水洗化 | C10: 下水道人口 | D10: =AD9 -> 0 | G10: 下水道投入 | H10: =AD18 -> 0 | I10: =AD28 -> 0 | J10: =SUM(H10:I10) -> 0 | K10: =IF(J$13>0,J10/J$13,0) -> 0 | L10: ─ | M10: ─ | AA10: ｺﾐﾌﾟﾗ人口 | AB10: 水洗化人口等 | AC10: M | AD10: =IF(AD$2=0,INDIRECT(AB10&"!"&AC10&$AG$2),0) -> 0 | AF10: =+水洗化人口等!B10 -> 24203 | AG10: 10 | AI10: 05 | AJ10: 秋田県
C11: ｺﾐﾌﾟﾗ人口 | D11: =AD10 -> 0 | G11: 農地還元 | H11: =AD19 -> 0 | I11: =AD29 -> 0 | J11: =SUM(H11:I11) -> 0 | K11: =IF(J$13>0,J11/J$13,0) -> 0 | L11: ─ | M11: ─ | AA11: 集落排水施設等人口 | AB11: 水洗化人口等 | AC11: O | AD11: =IF(AD$2=0,INDIRECT(AB11&"!"&AC11&$AG$2),0) -> 0 | AF11: =+水洗化人口等!B11 -> 24204 | AG11: 11 | AI11: 06 | AJ11: 山形県
C12: 集落排水施設等人口 | D12: =AD11 -> 0 | G12: その他 | H12: =AD20 -> 0 | I12: =AD30 -> 0 | J12: =SUM(H12:I12) -> 0 | K12: =IF(J$13>0,J12/J$13,0) -> 0 | L12: ─ | M12: ─ | AA12: 浄化槽人口 | AB12: 水洗化人口等 | AC12: P | AD12: =IF(AD$2=0,INDIRECT(AB12&"!"&AC12&$AG$2),0) -> 0 | AF12: =+水洗化人口等!B12 -> 24205 | AG12: 12 | AI12: 07 | AJ12: 福島県
C13: 浄化槽人口 | D13: =AD12 -> 0 | G13: 小計 | H13: =SUM(H7:H12) -> 0 | I13: =SUM(I7:I12) -> 0 | J13: =SUM(J7:J12) -> 0 | K13: 1 | L13: ─ | M13: ─ | AA13: 合併浄化槽 | AB13: 水洗化人口等 | AC13: R | AD13: =IF(AD$2=0,INDIRECT(AB13&"!"&AC13&$AG$2),0) -> 0 | AF13: =+水洗化人口等!B13 -> 24207 | AG13: 13 | AI13: 08 | AJ13: 茨城県
C14: 小計 | D14: =SUM(D10:D13) -> 0 | F14: 自家処理量 | H14: =AD21 -> 0 | I14: =AD31 -> 0 | J14: =SUM(H14:I14) -> 0 | K14: ─ | L14: ─ | M14: ─ | AA14: 外国人人口 | AB14: 水洗化人口等 | AC14: U | AD14: =IF(AD$2=0,INDIRECT(AB14&"!"&AC14&$AG$2),0) -> 0 | AF14: =+水洗化人口等!B14 -> 24208 | AG14: 14 | AI14: 09 | AJ14: 栃木県
B15: 総計 | D15: =SUM(D9,D14) -> 0 | F15: 合計 | H15: =SUM(H13:H14) -> 0 | I15: =SUM(I13:I14) -> 0 | J15: =SUM(J13:J14) -> 0 | K15: ─ | L15: =SUM(L7:L9) -> 0 | M15: =SUM(M7:M9) -> 0 | AA15: し尿処理施設 | AB15: し尿処理状況 | AC15: P | AD15: =IF(AD$2=0,INDIRECT(AB15&"!"&AC15&$AG$2),0) -> 0 | AF15: =+水洗化人口等!B15 -> 24209 | AG15: 15 | AI15: 10 | AJ15: 群馬県
B16: 外国人人口 | D16: =AD14 -> 0 | AA16: ごみ堆肥化施設 | AB16: し尿処理状況 | AC16: Q | AD16: =IF(AD$2=0,INDIRECT(AB16&"!"&AC16&$AG$2),0) -> 0 | AF16: =+水洗化人口等!B16 -> 24210 | AG16: 16 | AI16: 11 | AJ16: 埼玉県
B17: 浄化槽人口のうち合併処理浄化槽人口 | AA17: メタン化施設 | AB17: し尿処理状況 | AC17: R | AD17: =IF(AD$2=0,INDIRECT(AB17&"!"&AC17&$AG$2),0) -> 0 | AF17: =+水洗化人口等!B17 -> 24211 | AG17: 17 | AI17: 12 | AJ17: 千葉県
C18: =AD13 -> 0 | D18: 人 | AA18: 下水道投入 | AB18: し尿処理状況 | AC18: S | AD18: =IF(AD$2=0,INDIRECT(AB18&"!"&AC18&$AG$2),0) -> 0 | AF18: =+水洗化人口等!B18 -> 24212 | AG18: 18 | AI18: 13 | AJ18: 東京都
F19: 収集量 | H19: 汲み取りし尿 （kl） | I19: 浄化槽汚泥 （kl） | J19: 合計 （kl） | AA19: 農地還元 | AB19: し尿処理状況 | AC19: T | AD19: =IF(AD$2=0,INDIRECT(AB19&"!"&AC19&$AG$2),0) -> 0 | AF19: =+水洗化人口等!B19 -> 24214 | AG19: 19 | AI19: 14 | AJ19: 神奈川県
C20: 水洗化率： | D20: =IF(D$15>0,D14/D$15,0) -> 0 | F20: 直営 | H20: =AD22 -> 0 | I20: =AD32 -> 0 | J20: =SUM(H20:I20) -> 0 | AA20: その他 | AB20: し尿処理状況 | AC20: U | AD20: =IF(AD$2=0,INDIRECT(AB20&"!"&AC20&$AG$2),0) -> 0 | AF20: =+水洗化人口等!B20 -> 24215 | AG20: 20 | AI20: 15 | AJ20: 新潟県
C21: 非水洗化率： | D21: =IF(D$15>0,D9/D$15,0) -> 0 | F21: 委託 | H21: =AD23 -> 0 | I21: =AD33 -> 0 | J21: =SUM(H21:I21) -> 0 | AA21: 自家処理量 | AB21: し尿処理状況 | AC21: AD | AD21: =IF(AD$2=0,INDIRECT(AB21&"!"&AC21&$AG$2),0) -> 0 | AF21: =+水洗化人口等!B21 -> 24216 | AG21: 21 | AI21: 16 | AJ21: 富山県
C22: 下水道水洗化率： | D22: =IF(D$15>0,D10/D$15,0) -> 0 | F22: 許可 | H22: =AD24 -> 0 | I22: =AD34 -> 0 | J22: =SUM(H22:I22) -> 0 | AA22: 直営 | AB22: し尿処理状況 | AC22: F | AD22: =IF(AD$2=0,INDIRECT(AB22&"!"&AC22&$AG$2),0) -> 0 | AF22: =+水洗化人口等!B22 -> 24303 | AG22: 22 | AI22: 17 | AJ22: 石川県
C23: 浄化槽水洗化率： | D23: =IF(D$15>0,D13/D$15,0) -> 0 | F23: 合計 | H23: =SUM(H20:H22) -> 0 | I23: =SUM(I20:I22) -> 0 | J23: =SUM(J20:J22) -> 0 | AA23: 委託 | AB23: し尿処理状況 | AC23: I | AD23: =IF(AD$2=0,INDIRECT(AB23&"!"&AC23&$AG$2),0) -> 0 | AF23: =+水洗化人口等!B23 -> 24324 | AG23: 23 | AI23: 18 | AJ23: 福井県
C24: うち合併処理： | D24: =IF(D$15>0,C18/D$15,0) -> 0 | AA24: 許可 | AB24: し尿処理状況 | AC24: L | AD24: =IF(AD$2=0,INDIRECT(AB24&"!"&AC24&$AG$2),0) -> 0 | AF24: =+水洗化人口等!B24 -> 24341 | AG24: 24 | AI24: 19 | AJ24: 山梨県
C25: 計画収集率： | D25: =IF(D$9>0,D7/D$9,0) -> 0 | J25: t/年 | AA25: し尿処理施設 | AB25: し尿処理状況 | AC25: W | AD25: =IF(AD$2=0,INDIRECT(AB25&"!"&AC25&$AG$2),0) -> 0 | AF25: =+水洗化人口等!B25 -> 24343 | AG25: 25 | AI25: 20 | AJ25: 長野県
C26: 自家処理率： | D26: =IF(D$9>0,D8/D$9,0) -> 0 | F26: し尿処理施設の処理工程からの処理残渣の処理内訳 | I26: 処理量・処理向け搬出量 | J26: 残渣処分量(埋立) | AA26: ごみ堆肥化施設 | AB26: し尿処理状況 | AC26: X | AD26: =IF(AD$2=0,INDIRECT(AB26&"!"&AC26&$AG$2),0) -> 0 | AF26: =+水洗化人口等!B26 -> 24344 | AG26: 26 | AI26: 21 | AJ26: 岐阜県
AA27: メタン化施設 | AB27: し尿処理状況 | AC27: Y | AD27: =IF(AD$2=0,INDIRECT(AB27&"!"&AC27&$AG$2),0) -> 0 | AF27: =+水洗化人口等!B27 -> 24441 | AG27: 27 | AI27: 22 | AJ27: 静岡県
F28: し尿処理施設内の焼却 | I28: =AD41 -> 0 | J28: =AD50 -> 0 | AA28: 下水道投入 | AB28: し尿処理状況 | AC28: Z | AD28: =IF(AD$2=0,INDIRECT(AB28&"!"&AC28&$AG$2),0) -> 0 | AF28: =+水洗化人口等!B28 -> 24442 | AG28: 28 | AI28: 23 | AJ28: 愛知県
F29: し尿処理施設内の堆肥化･メタン発酵等 | I29: =AD42 -> 0 | J29: =AD51 -> 0 | AA29: 農地還元 | AB29: し尿処理状況 | AC29: AA | AD29: =IF(AD$2=0,INDIRECT(AB29&"!"&AC29&$AG$2),0) -> 0 | AF29: =+水洗化人口等!B29 -> 24443 | AG29: 29 | AI29: 24 | AJ29: 三重県
F30: ごみ焼却施設 | I30: =AD43 -> 0 | J30: =AD52 -> 0 | AA30: その他 | AB30: し尿処理状況 | AC30: AB | AD30: =IF(AD$2=0,INDIRECT(AB30&"!"&AC30&$AG$2),0) -> 0 | AF30: =+水洗化人口等!B30 -> 24461 | AG30: 30 | AI30: 25 | AJ30: 滋賀県
F31: ごみ堆肥化施設 | I31: =AD44 -> 0 | J31: =AD53 -> 0 | AA31: 自家処理量 | AB31: し尿処理状況 | AC31: AE | AD31: =IF(AD$2=0,INDIRECT(AB31&"!"&AC31&$AG$2),0) -> 0 | AF31: =+水洗化人口等!B31 -> 24470 | AG31: 31 | AI31: 26 | AJ31: 京都府
F32: メタン化施設 | I32: =AD45 -> 0 | J32: =AD54 -> 0 | AA32: 直営 | AB32: し尿処理状況 | AC32: G | AD32: =IF(AD$2=0,INDIRECT(AB32&"!"&AC32&$AG$2),0) -> 0 | AF32: =+水洗化人口等!B32 -> 24471 | AG32: 32 | AI32: 27 | AJ32: 大阪府
F33: 下水道処理施設 | I33: =AD46 -> 0 | J33: ─ | AA33: 委託 | AB33: し尿処理状況 | AC33: J | AD33: =IF(AD$2=0,INDIRECT(AB33&"!"&AC33&$AG$2),0) -> 0 | AF33: =+水洗化人口等!B33 -> 24472 | AG33: 33 | AI33: 28 | AJ33: 兵庫県
F34: 農地還元等の再生利用 | I34: =AD47 -> 0 | J34: ─ | AA34: 許可 | AB34: し尿処理状況 | AC34: M | AD34: =IF(AD$2=0,INDIRECT(AB34&"!"&AC34&$AG$2),0) -> 0 | AF34: =+水洗化人口等!B34 -> 24543 | AG34: 34 | AI34: 29 | AJ34: 奈良県
F35: 直接埋立 | I35: =AD48 -> 0 | J35: ─ | AA35: し尿処理施設 | AB35: し尿処理状況 | AC35: AG | AD35: =IF(AD$2=0,INDIRECT(AB35&"!"&AC35&$AG$2),0) -> 0 | AF35: =+水洗化人口等!B35 -> 24561 | AG35: 35 | AI35: 30 | AJ35: 和歌山県
F36: その他の搬出処理 | I36: =AD49 -> 0 | J36: ─ | AA36: ごみ堆肥化施設 | AB36: し尿処理状況 | AC36: AH | AD36: =IF(AD$2=0,INDIRECT(AB36&"!"&AC36&$AG$2),0) -> 0 | AF36: =+水洗化人口等!B36 -> 24562 | AG36: 36 | AI36: 31 | AJ36: 鳥取県
F37: 合計 | I37: =SUM(I28:I36) -> 0 | J37: =SUM(J28:J32) -> 0 | AA37: メタン化施設 | AB37: し尿処理状況 | AC37: AI | AD37: =IF(AD$2=0,INDIRECT(AB37&"!"&AC37&$AG$2),0) -> 0 | AF37: =+水洗化人口等!B37 -> 0 | AG37: 37 | AI37: 32 | AJ37: 島根県
AA38: し尿処理施設 | AB38: し尿処理状況 | AC38: BA | AD38: =IF(AD$2=0,INDIRECT(AB38&"!"&AC38&$AG$2),0) -> 0 | AF38: =+水洗化人口等!B38 -> 0 | AG38: 38 | AI38: 33 | AJ38: 岡山県
AA39: ごみ堆肥化施設 | AB39: し尿処理状況 | AC39: BB | AD39: =IF(AD$2=0,INDIRECT(AB39&"!"&AC39&$AG$2),0) -> 0 | AF39: =+水洗化人口等!B39 -> 0 | AG39: 39 | AI39: 34 | AJ39: 広島県
AA40: メタン化施設 | AB40: し尿処理状況 | AC40: BC | AD40: =IF(AD$2=0,INDIRECT(AB40&"!"&AC40&$AG$2),0) -> 0 | AF40: =+水洗化人口等!B40 -> 0 | AG40: 40 | AI40: 35 | AJ40: 山口県
AA41: し尿処理施設内の焼却 | AB41: し尿処理状況 | AC41: AK | AD41: =IF(AD$2=0,INDIRECT(AB41&"!"&AC41&$AG$2),0) -> 0 | AF41: =+水洗化人口等!B41 -> 0 | AG41: 41 | AI41: 36 | AJ41: 徳島県
AA42: し尿処理施設内の堆肥化･メタン発酵等 | AB42: し尿処理状況 | AC42: AL | AD42: =IF(AD$2=0,INDIRECT(AB42&"!"&AC42&$AG$2),0) -> 0 | AF42: =+水洗化人口等!B42 -> 0 | AG42: 42 | AI42: 37 | AJ42: 香川県
AA43: ごみ焼却施設 | AB43: し尿処理状況 | AC43: AM | AD43: =IF(AD$2=0,INDIRECT(AB43&"!"&AC43&$AG$2),0) -> 0 | AF43: =+水洗化人口等!B43 -> 0 | AG43: 43 | AI43: 38 | AJ43: 愛媛県
...
