Workbook

Sheet 廃棄物事業経費（市町村）
A1: 廃棄物処理事業経費（市区町村の合計）（令和4年度実績）
A2: 都道府県名 | B2: 地方公共団体コード | C2: 市区町村名 | D2: ごみ | M2: し尿 | V2: 合計 | AE2: ごみ（建設改良費＋処理維持管理費＋その他）（組合分担金を除く） | BG2: し尿（建設改良費＋処理維持管理費＋その他）（組合分担金を除く） | CI2: 合計（建設改良費＋処理維持管理費＋その他）（組合分担金を除く）
D3: 合計 (特定財源(市区町村分担金を除く)+一般財源) | M3: 合計 (特定財源(市区町村分担金を除く)+一般財源) | V3: 合計 (特定財源(市区町村分担金を除く)+一般財源) | AE3: 建設改良費 (工事費+調査費)(組合分担金を除く) | AM3: 処理及び維持管理費 (人件費+処理費+車両購入費+委託費+調査研究費)(組合分担金を除く) | BE3: その他 | BF3: 合計 | BG3: 建設改良費 (収集運搬施設+工事費+調査費)(組合分担金を除く) | BO3: 処理及び維持管理費 (人件費+処理費+車両購入費+委託費+調査研究費)(組合分担金を除く) | CG3: その他 | CH3: 合計 | CI3: 建設改良費 (工事費+調査費)(組合分担金を除く) | CQ3: 処理及び維持管理費 (人件費+処理費+車両購入費+委託費+調査研究費)(組合分担金を除く) | DI3: その他 | DJ3: 合計
E4: 特定財源 (市区町村分担金を除く) | L4: 一般財源 | N4: 特定財源 (市区町村分担金を除く) | U4: 一般財源 | W4: 特定財源 (市区町村分担金を除く) | AD4: 一般財源 | AE4: 合計 | AF4: 工事費 (収集運搬施設+中間処理施設+最終処分場+その他) | AK4: 調査費 | AL4: （建設改良費組合分担金） | AM4: 合計 | AN4: 人件費（一般職＋収集運搬＋中間処理＋最終処分） | AS4: 処理費 (収集運搬費+中間処理費+最終処分費) | AW4: 車両等購入費 | AX4: 委託費 (収集運搬費+中間処理費+最終処分費+その他) | BC4: (組合分担金) | BD4: 調査研究費 | BG4: 合計 | BH4: 工事費 (収集運搬施設+中間処理施設+最終処分場+その他) | BM4: 調査費 | BN4: （建設改良費組合分担金） | BO4: 合計 | BP4: 人件費（一般職＋収集運搬＋中間処理＋最終処分） | BU4: 処理費 (収集運搬費+中間処理費+最終処分費) | BY4: 車両等購入費 | BZ4: 委託費 (収集運搬費+中間処理費+最終処分費+その他) | CE4: (組合分担金) | CF4: 調査研究費 | CI4: 合計 | CJ4: 工事費 (収集運搬施設+中間処理施設+最終処分場+その他) | CO4: 調査費 | CP4: （建設改良費組合分担金） | CQ4: 合計 | CR4: 人件費（一般職＋収集運搬＋中間処理＋最終処分） | CW4: 処理費 (収集運搬費+中間処理費+最終処分費) | DA4: 車両等購入費 | DB4: 委託費 (収集運搬費+中間処理費+最終処分費+その他) | DG4: (組合分担金) | DH4: 調査研究費
F5: 国庫支出金 | G5: 都道府県 支出金 | H5: 地方債 | I5: 使用料及び 手数料 | J5: （市区町村 分担金） | K5: その他 | O5: 国庫支出金 | P5: 都道府県 支出金 | Q5: 地方債 | R5: 使用料及び 手数料 | S5: （市区町村 分担金） | T5: その他 | X5: 国庫支出金 | Y5: 都道府県 支出金 | Z5: 地方債 | AA5: 使用料及び 手数料 | AB5: （市区町村 分担金） | AC5: その他 | AF5: 合計 | AG5: 収集運搬施設 | AH5: 中間処理施設 | AI5: 最終処分場 | AJ5: その他 | AO5: 一般職 | AP5: 収集運搬 | AQ5: 中間処理 | AR5: 最終処分 | AS5: 合計 | AT5: 収集運搬費 | AU5: 中間処理費 | AV5: 最終処分費 | AY5: 収集運搬費 | AZ5: 中間処理費 | BA5: 最終処分費 | BB5: その他 | BH5: 合計 | BI5: 収集運搬施設 | BJ5: 中間処理施設 | BK5: 最終処分場 | BL5: その他 | BQ5: 一般職 | BR5: 収集運搬 | BS5: 中間処理 | BT5: 最終処分 | BU5: 合計 | BV5: 収集運搬費 | BW5: 中間処理費 | BX5: 最終処分費 | CA5: 収集運搬費 | CB5: 中間処理費 | CC5: 最終処分費 | CD5: その他 | CJ5: 合計 | CK5: 収集運搬施設 | CL5: 中間処理施設 | CM5: 最終処分場 | CN5: その他 | CS5: 一般職 | CT5: 収集運搬 | CU5: 中間処理 | CV5: 最終処分 | CW5: 合計 | CX5: 収集運搬費 | CY5: 中間処理費 | CZ5: 最終処分費 | DC5: 収集運搬費 | DD5: 中間処理費 | DE5: 最終処分費 | DF5: その他
D6: （千円） | E6: （千円） | F6: （千円） | G6: （千円） | H6: （千円） | I6: （千円） | J6: （千円） | K6: （千円） | L6: （千円） | M6: （千円） | N6: （千円） | O6: （千円） | P6: （千円） | Q6: （千円） | R6: （千円） | S6: （千円） | T6: （千円） | U6: （千円） | V6: （千円） | W6: （千円） | X6: （千円） | Y6: （千円） | Z6: （千円） | AA6: （千円） | AB6: （千円） | AC6: （千円） | AD6: （千円） | AE6: （千円） | AF6: （千円） | AG6: （千円） | AH6: （千円） | AI6: （千円） | AJ6: （千円） | AK6: （千円） | AL6: （千円） | AM6: （千円） | AN6: （千円） | AO6: （千円） | AP6: （千円） | AQ6: （千円） | AR6: （千円） | AS6: （千円） | AT6: （千円） | AU6: （千円） | AV6: （千円） | AW6: （千円） | AX6: （千円） | AY6: （千円） | AZ6: （千円） | BA6: （千円） | BB6: （千円） | BC6: （千円） | BD6: （千円） | BE6: （千円） | BF6: （千円） | BG6: （千円） | BH6: （千円） | BI6: （千円） | BJ6: （千円） | BK6: （千円） | BL6: （千円） | BM6: （千円） | BN6: （千円） | BO6: （千円） | BP6: （千円） | BQ6: （千円） | BR6: （千円） | BS6: （千円） | BT6: （千円） | BU6: （千円） | BV6: （千円） | BW6: （千円） | BX6: （千円） | BY6: （千円） | BZ6: （千円） | CA6: （千円） | CB6: （千円） | CC6: （千円） | CD6: （千円） | CE6: （千円） | CF6: （千円） | CG6: （千円） | CH6: （千円） | CI6: （千円） | CJ6: （千円） | CK6: （千円） | CL6: （千円） | CM6: （千円） | CN6: （千円） | CO6: （千円） | CP6: （千円） | CQ6: （千円） | CR6: （千円） | CS6: （千円） | CT6: （千円） | CU6: （千円） | CV6: （千円） | CW6: （千円） | CX6: （千円） | CY6: （千円） | CZ6: （千円） | DA6: （千円） | DB6: （千円） | DC6: （千円） | DD6: （千円） | DE6: （千円） | DF6: （千円） | DG6: （千円） | DH6: （千円） | DI6: （千円） | DJ6: （千円）
A7: 愛知県 | B7: 23000 | C7: 合計 | D7: =SUM(E7,+L7) -> 105575315 | E7: =SUM(F7:I7,K7) -> 23639740 | F7: =SUM(F$8:F$207) -> 1484406 | G7: =SUM(G$8:G$207) -> 18415 | H7: =SUM(H$8:H$207) -> 4086123 | I7: =SUM(I$8:I$207) -> 9705365 | J7: - | K7: =SUM(K$8:K$207) -> 8345431 | L7: =SUM(L$8:L$207) -> 81935575 | M7: =SUM(N7,+U7) -> 8436215 | N7: =SUM(O7:R7,T7) -> 1111161 | O7: =SUM(O$8:O$207) -> 133192 | P7: =SUM(P$8:P$207) -> 19470 | Q7: =SUM(Q$8:Q$207) -> 76677 | R7: =SUM(R$8:R$207) -> 481358 | S7: - | T7: =SUM(T$8:T$207) -> 400464 | U7: =SUM(U$8:U$207) -> 7325054 | V7: =+SUM(D7,M7) -> 114011530 | W7: =+SUM(E7,N7) -> 24750901 | X7: =+SUM(F7,O7) -> 1617598 | Y7: =+SUM(G7,P7) -> 37885 | Z7: =+SUM(H7,Q7) -> 4162800 | AA7: =+SUM(I7,R7) -> 10186723 | AB7: =IF(+SUM(J7,S7)=0,"-",+SUM(J7,S7)) -> - | AC7: =+SUM(K7,T7) -> 8745895 | AD7: =+SUM(L7,U7) -> 89260629 | AE7: =SUM(AF7,+AK7) -> 10133628 | AF7: =SUM(AG7:AJ7) -> 10083453 | AG7: =SUM(AG$8:AG$207) -> 12027 | AH7: =SUM(AH$8:AH$207) -> 8503812 | AI7: =SUM(AI$8:AI$207) -> 1543755 | AJ7: =SUM(AJ$8:AJ$207) -> 23859 | AK7: =SUM(AK$8:AK$207) -> 50175 | AL7: =SUM(AL$8:AL$207) -> 1190496 | AM7: =SUM(AN7,AS7,AW7,AX7,BD7) -> 81680612 | AN7: =SUM(AO7:AR7) -> 20362937 | AO7: =SUM(AO$8:AO$207) -> 6985104 | AP7: =SUM(AP$8:AP$207) -> 11246497 | AQ7: =SUM(AQ$8:AQ$207) -> 1837583 | AR7: =SUM(AR$8:AR$207) -> 293753 | AS7: =SUM(AT7:AV7) -> 16628286 | AT7: =SUM(AT$8:AT$207) -> 5027925 | AU7: =SUM(AU$8:AU$207) -> 10372500 | AV7: =SUM(AV$8:AV$207) -> 1227861 | AW7: =SUM(AW$8:AW$207) -> 270636 | AX7: =SUM(AY7:BB7) -> 44397238 | AY7: =SUM(AY$8:AY$207) -> 19886659 | AZ7: =SUM(AZ$8:AZ$207) -> 20953779 | BA7: =SUM(BA$8:BA$207) -> 1532004 | BB7: =SUM(BB$8:BB$207) -> 2024796 | BC7: =SUM(BC$8:BC$207) -> 8979015 | BD7: =SUM(BD$8:BD$207) -> 21515 | BE7: =SUM(BE$8:BE$207) -> 3591564 | BF7: =SUM(AE7,+AM7,+BE7) -> 95405804 | BG7: =SUM(BH7,+BM7) -> 548727 | BH7: =SUM(BI7:BL7) -> 548609 | BI7: =SUM(BI$8:BI$207) -> 0 | BJ7: =SUM(BJ$8:BJ$207) -> 471016 | BK7: =SUM(BK$8:BK$207) -> 59951 | BL7: =SUM(BL$8:BL$207) -> 17642 | BM7: =SUM(BM$8:BM$207) -> 118 | BN7: =SUM(BN$8:BN$207) -> 9512 | BO7: =SUM(BP7,BU7,BY7,BZ7,CF7) -> 5543191 | BP7: =SUM(BQ7:BT7) -> 1478694 | BQ7: =SUM(BQ$8:BQ$207) -> 725471 | BR7: =SUM(BR$8:BR$207) -> 549033 | BS7: =SUM(BS$8:BS$207) -> 53751 | BT7: =SUM(BT$8:BT$207) -> 150439 | BU7: =SUM(BV7:BX7) -> 1516646 | BV7: =SUM(BV$8:BV$207) -> 69135 | BW7: =SUM(BW$8:BW$207) -> 1185119 | BX7: =SUM(BX$8:BX$207) -> 262392 | BY7: =SUM(BY$8:BY$207) -> 18241 | BZ7: =SUM(CA7:CD7) -> 2528527 | CA7: =SUM(CA$8:CA$207) -> 1110073 | CB7: =SUM(CB$8:CB$207) -> 1046839 | CC7: =SUM(CC$8:CC$207) -> 88049 | CD7: =SUM(CD$8:CD$207) -> 283566 | CE7: =SUM(CE$8:CE$207) -> 2011359 | CF7: =SUM(CF$8:CF$207) -> 1083 | CG7: =SUM(CG$8:CG$207) -> 323426 | CH7: =SUM(BG7,+BO7,+CG7) -> 6415344 | CI7: =SUM(AE7,+BG7) -> 10682355 | CJ7: =SUM(AF7,+BH7) -> 10632062 | CK7: =SUM(AG7,+BI7) -> 12027 | CL7: =SUM(AH7,+BJ7) -> 8974828 | CM7: =SUM(AI7,+BK7) -> 1603706 | CN7: =SUM(AJ7,+BL7) -> 41501 | CO7: =SUM(AK7,+BM7) -> 50293 | CP7: =SUM(AL7,+BN7) -> 1200008 | ... DJ7: =SUM(BF7,+CH7) -> 101821148
A8: 愛知県 | B8: 23100 | C8: 名古屋市 | D8: =SUM(E8,+L8) -> 34647641 | E8: =SUM(F8:I8,K8) -> 10842518 | F8: 1230494 | G8: 8643 | H8: 2482000 | I8: 3803460 | J8: - | K8: 3317921 | L8: 23805123 | M8: =SUM(N8,+U8) -> 1117503 | N8: =SUM(O8:R8,T8) -> 67151 | O8: 0 | P8: 0 | Q8: 9000 | R8: 49286 | S8: - | T8: 8865 | U8: 1050352 | V8: =+SUM(D8,M8) -> 35765144 | W8: =+SUM(E8,N8) -> 10909669 | X8: =+SUM(F8,O8) -> 1230494 | Y8: =+SUM(G8,P8) -> 8643 | Z8: =+SUM(H8,Q8) -> 2491000 | AA8: =+SUM(I8,R8) -> 3852746 | AB8: =IF(+SUM(J8,S8)=0,"-",+SUM(J8,S8)) -> - | AC8: =+SUM(K8,T8) -> 3326786 | AD8: =+SUM(L8,U8) -> 24855475 | AE8: =SUM(AF8,+AK8) -> 4565626 | AF8: =SUM(AG8:AJ8) -> 4554995 | AG8: 0 | AH8: 3272956 | AI8: 1282039 | AJ8: 0 | AK8: 10631 | AL8: 0 | AM8: =SUM(AN8,AS8,AW8,AX8,BD8) -> 29157504 | AN8: =SUM(AO8:AR8) -> 10300222 | AO8: 3332007 | AP8: 6451727 | AQ8: 463964 | AR8: 52524 | AS8: =SUM(AT8:AV8) -> 8439431 | AT8: 3499396 | AU8: 4613083 | AV8: 326952 | AW8: 78321 | AX8: =SUM(AY8:BB8) -> 10326904 | AY8: 4772325 | AZ8: 5320827 | BA8: 233752 | BB8: 0 | BC8: 0 | BD8: 12626 | BE8: 924511 | BF8: =SUM(AE8,+AM8,+BE8) -> 34647641 | BG8: =SUM(BH8,+BM8) -> 59877 | BH8: =SUM(BI8:BL8) -> 59877 | BI8: 0 | BJ8: 0 | BK8: 59877 | BL8: 0 | BM8: 0 | BN8: 0 | BO8: =SUM(BP8,BU8,BY8,BZ8,CF8) -> 1020170 | BP8: =SUM(BQ8:BT8) -> 858793 | BQ8: 213863 | BR8: 494741 | BS8: 0 | BT8: 150189 | BU8: =SUM(BV8:BX8) -> 81291 | BV8: 27996 | BW8: 0 | BX8: 53295 | BY8: 13293 | BZ8: =SUM(CA8:CD8) -> 66793 | CA8: 0 | CB8: 0 | CC8: 66793 | CD8: 0 | CE8: 0 | CF8: 0 | CG8: 37456 | CH8: =SUM(BG8,+BO8,+CG8) -> 1117503 | CI8: =SUM(AE8,+BG8) -> 4625503 | CJ8: =SUM(AF8,+BH8) -> 4614872 | CK8: =SUM(AG8,+BI8) -> 0 | CL8: =SUM(AH8,+BJ8) -> 3272956 | CM8: =SUM(AI8,+BK8) -> 1341916 | CN8: =SUM(AJ8,+BL8) -> 0 | CO8: =SUM(AK8,+BM8) -> 10631 | CP8: =SUM(AL8,+BN8) -> 0 | ... DJ8: =SUM(BF8,+CH8) -> 35765144
A9: 愛知県 | B9: 23201 | C9: 豊橋市 | D9: =SUM(E9,+L9) -> 5895162 | E9: =SUM(F9:I9,K9) -> 1046753 | F9: 10202 | G9: 0 | H9: 18923 | I9: 595775 | J9: - | K9: 421853 | L9: 4848409 | M9: =SUM(N9,+U9) -> 213143 | N9: =SUM(O9:R9,T9) -> 59311 | O9: 39873 | P9: 14947 | Q9: 77 | R9: 2599 | S9: - | T9: 1815 | U9: 153832 | V9: =+SUM(D9,M9) -> 6108305 | W9: =+SUM(E9,N9) -> 1106064 | X9: =+SUM(F9,O9) -> 50075 | Y9: =+SUM(G9,P9) -> 14947 | Z9: =+SUM(H9,Q9) -> 19000 | AA9: =+SUM(I9,R9) -> 598374 | AB9: =IF(+SUM(J9,S9)=0,"-",+SUM(J9,S9)) -> - | AC9: =+SUM(K9,T9) -> 423668 | AD9: =+SUM(L9,U9) -> 5002241 | AE9: =SUM(AF9,+AK9) -> 1533234 | AF9: =SUM(AG9:AJ9) -> 1513246 | AG9: 8129 | AH9: 1494967 | AI9: 10150 | AJ9: 0 | AK9: 19988 | AL9: 0 | AM9: =SUM(AN9,AS9,AW9,AX9,BD9) -> 4273392 | AN9: =SUM(AO9:AR9) -> 1619962 | AO9: 470829 | AP9: 722551 | AQ9: 389439 | AR9: 37143 | AS9: =SUM(AT9:AV9) -> 823196 | AT9: 120108 | AU9: 610365 | AV9: 92723 | AW9: 8116 | AX9: =SUM(AY9:BB9) -> 1820677 | AY9: 388459 | AZ9: 269794 | BA9: 0 | BB9: 1162424 | BC9: 0 | BD9: 1441 | BE9: 88536 | BF9: =SUM(AE9,+AM9,+BE9) -> 5895162 | BG9: =SUM(BH9,+BM9) -> 53827 | BH9: =SUM(BI9:BL9) -> 53709 | BI9: 0 | BJ9: 53635 | BK9: 74 | BL9: 0 | BM9: 118 | BN9: 0 | BO9: =SUM(BP9,BU9,BY9,BZ9,CF9) -> 78361 | BP9: =SUM(BQ9:BT9) -> 20745 | BQ9: 17645 | BR9: 0 | BS9: 2850 | BT9: 250 | BU9: =SUM(BV9:BX9) -> 4810 | BV9: 0 | BW9: 4166 | BX9: 644 | BY9: 0 | BZ9: =SUM(CA9:CD9) -> 52806 | CA9: 0 | CB9: 42969 | CC9: 0 | CD9: 9837 | CE9: 0 | CF9: 0 | CG9: 80955 | CH9: =SUM(BG9,+BO9,+CG9) -> 213143 | CI9: =SUM(AE9,+BG9) -> 1587061 | CJ9: =SUM(AF9,+BH9) -> 1566955 | CK9: =SUM(AG9,+BI9) -> 8129 | CL9: =SUM(AH9,+BJ9) -> 1548602 | CM9: =SUM(AI9,+BK9) -> 10224 | CN9: =SUM(AJ9,+BL9) -> 0 | CO9: =SUM(AK9,+BM9) -> 20106 | CP9: =SUM(AL9,+BN9) -> 0 | ... DJ9: =SUM(BF9,+CH9) -> 6108305
A10: 愛知県 | B10: 23202 | C10: 岡崎市 | D10: =SUM(E10,+L10) -> 4536378 | E10: =SUM(F10:I10,K10) -> 1523421 | F10: 0 | G10: 0 | H10: 0 | I10: 407557 | J10: - | K10: 1115864 | L10: 3012957 | M10: =SUM(N10,+U10) -> 183083 | N10: =SUM(O10:R10,T10) -> 13000 | O10: 0 | P10: 0 | Q10: 0 | R10: 0 | S10: - | T10: 13000 | U10: 170083 | V10: =+SUM(D10,M10) -> 4719461 | W10: =+SUM(E10,N10) -> 1536421 | X10: =+SUM(F10,O10) -> 0 | Y10: =+SUM(G10,P10) -> 0 | Z10: =+SUM(H10,Q10) -> 0 | AA10: =+SUM(I10,R10) -> 407557 | AB10: =IF(+SUM(J10,S10)=0,"-",+SUM(J10,S10)) -> - | AC10: =+SUM(K10,T10) -> 1128864 | AD10: =+SUM(L10,U10) -> 3183040 | AE10: =SUM(AF10,+AK10) -> 0 | AF10: =SUM(AG10:AJ10) -> 0 | AG10: 0 | AH10: 0 | AI10: 0 | AJ10: 0 | AK10: 0 | AL10: 0 | AM10: =SUM(AN10,AS10,AW10,AX10,BD10) -> 4379356 | AN10: =SUM(AO10:AR10) -> 934802 | AO10: 200317 | AP10: 573577 | AQ10: 129792 | AR10: 31116 | AS10: =SUM(AT10:AV10) -> 1074071 | AT10: 72463 | AU10: 936967 | AV10: 64641 | AW10: 21120 | AX10: =SUM(AY10:BB10) -> 2349363 | AY10: 538802 | AZ10: 1777877 | BA10: 32684 | BB10: 0 | BC10: 0 | BD10: 0 | BE10: 157022 | BF10: =SUM(AE10,+AM10,+BE10) -> 4536378 | BG10: =SUM(BH10,+BM10) -> 17642 | BH10: =SUM(BI10:BL10) -> 17642 | BI10: 0 | BJ10: 0 | BK10: 0 | BL10: 17642 | BM10: 0 | BN10: 0 | BO10: =SUM(BP10,BU10,BY10,BZ10,CF10) -> 155962 | BP10: =SUM(BQ10:BT10) -> 0 | BQ10: 0 | BR10: 0 | BS10: 0 | BT10: 0 | BU10: =SUM(BV10:BX10) -> 155962 | BV10: 5923 | BW10: 150039 | BX10: 0 | BY10: 0 | BZ10: =SUM(CA10:CD10) -> 0 | CA10: 0 | CB10: 0 | CC10: 0 | CD10: 0 | CE10: 0 | CF10: 0 | CG10: 9479 | CH10: =SUM(BG10,+BO10,+CG10) -> 183083 | CI10: =SUM(AE10,+BG10) -> 17642 | CJ10: =SUM(AF10,+BH10) -> 17642 | CK10: =SUM(AG10,+BI10) -> 0 | CL10: =SUM(AH10,+BJ10) -> 0 | CM10: =SUM(AI10,+BK10) -> 0 | CN10: =SUM(AJ10,+BL10) -> 17642 | CO10: =SUM(AK10,+BM10) -> 0 | CP10: =SUM(AL10,+BN10) -> 0 | ... DJ10: =SUM(BF10,+CH10) -> 4719461
A11: 愛知県 | B11: 23203 | C11: 一宮市 | D11: =SUM(E11,+L11) -> 3589536 | E11: =SUM(F11:I11,K11) -> 848908 | F11: 0 | G11: 0 | H11: 0 | I11: 503517 | J11: - | K11: 345391 | L11: 2740628 | M11: =SUM(N11,+U11) -> 257880 | N11: =SUM(O11:R11,T11) -> 656 | O11: 0 | P11: 0 | Q11: 0 | R11: 0 | S11: - | T11: 656 | U11: 257224 | V11: =+SUM(D11,M11) -> 3847416 | W11: =+SUM(E11,N11) -> 849564 | X11: =+SUM(F11,O11) -> 0 | Y11: =+SUM(G11,P11) -> 0 | Z11: =+SUM(H11,Q11) -> 0 | AA11: =+SUM(I11,R11) -> 503517 | AB11: =IF(+SUM(J11,S11)=0,"-",+SUM(J11,S11)) -> - | AC11: =+SUM(K11,T11) -> 346047 | AD11: =+SUM(L11,U11) -> 2997852 | AE11: =SUM(AF11,+AK11) -> 0 | AF11: =SUM(AG11:AJ11) -> 0 | AG11: 0 | AH11: 0 | AI11: 0 | AJ11: 0 | AK11: 0 | AL11: 0 | AM11: =SUM(AN11,AS11,AW11,AX11,BD11) -> 3559897 | AN11: =SUM(AO11:AR11) -> 654840 | AO11: 256373 | AP11: 299113 | AQ11: 99354 | AR11: 0 | AS11: =SUM(AT11:AV11) -> 1224990 | AT11: 239074 | AU11: 682552 | AV11: 303364 | AW11: 0 | AX11: =SUM(AY11:BB11) -> 1680067 | AY11: 931306 | AZ11: 604989 | BA11: 104293 | BB11: 39479 | BC11: 0 | BD11: 0 | BE11: 29639 | BF11: =SUM(AE11,+AM11,+BE11) -> 3589536 | BG11: =SUM(BH11,+BM11) -> 0 | BH11: =SUM(BI11:BL11) -> 0 | BI11: 0 | BJ11: 0 | BK11: 0 | BL11: 0 | BM11: 0 | BN11: 0 | BO11: =SUM(BP11,BU11,BY11,BZ11,CF11) -> 257108 | BP11: =SUM(BQ11:BT11) -> 27339 | BQ11: 27339 | BR11: 0 | BS11: 0 | BT11: 0 | BU11: =SUM(BV11:BX11) -> 118754 | BV11: 0 | BW11: 118754 | BX11: 0 | BY11: 0 | BZ11: =SUM(CA11:CD11) -> 111015 | CA11: 0 | CB11: 81774 | CC11: 0 | CD11: 29241 | CE11: 0 | CF11: 0 | CG11: 772 | CH11: =SUM(BG11,+BO11,+CG11) -> 257880 | CI11: =SUM(AE11,+BG11) -> 0 | CJ11: =SUM(AF11,+BH11) -> 0 | CK11: =SUM(AG11,+BI11) -> 0 | CL11: =SUM(AH11,+BJ11) -> 0 | CM11: =SUM(AI11,+BK11) -> 0 | CN11: =SUM(AJ11,+BL11) -> 0 | CO11: =SUM(AK11,+BM11) -> 0 | CP11: =SUM(AL11,+BN11) -> 0 | ... DJ11: =SUM(BF11,+CH11) -> 3847416
A12: 愛知県 | B12: 23204 | C12: 瀬戸市 | D12: =SUM(E12,+L12) -> 918774 | E12: =SUM(F12:I12,K12) -> 65995 | F12: 0 | G12: 0 | H12: 0 | I12: 16928 | J12: - | K12: 49067 | L12: 852779 | M12: =SUM(N12,+U12) -> 231046 | N12: =SUM(O12:R12,T12) -> 27438 | O12: 0 | P12: 0 | Q12: 0 | R12: 27438 | S12: - | T12: 0 | U12: 203608 | V12: =+SUM(D12,M12) -> 1149820 | W12: =+SUM(E12,N12) -> 93433 | X12: =+SUM(F12,O12) -> 0 | Y12: =+SUM(G12,P12) -> 0 | Z12: =+SUM(H12,Q12) -> 0 | AA12: =+SUM(I12,R12) -> 44366 | AB12: =IF(+SUM(J12,S12)=0,"-",+SUM(J12,S12)) -> - | AC12: =+SUM(K12,T12) -> 49067 | AD12: =+SUM(L12,U12) -> 1056387 | AE12: =SUM(AF12,+AK12) -> 0 | AF12: =SUM(AG12:AJ12) -> 0 | AG12: 0 | AH12: 0 | AI12: 0 | AJ12: 0 | AK12: 0 | AL12: 2932 | AM12: =SUM(AN12,AS12,AW12,AX12,BD12) -> 582379 | AN12: =SUM(AO12:AR12) -> 165086 | AO12: 52575 | AP12: 112511 | AQ12: 0 | AR12: 0 | AS12: =SUM(AT12:AV12) -> 0 | AT12: 0 | AU12: 0 | AV12: 0 | AW12: 0 | AX12: =SUM(AY12:BB12) -> 417293 | AY12: 386356 | AZ12: 30937 | BA12: 0 | BB12: 0 | BC12: 292691 | BD12: 0 | BE12: 40772 | BF12: =SUM(AE12,+AM12,+BE12) -> 623151 | BG12: =SUM(BH12,+BM12) -> 0 | BH12: =SUM(BI12:BL12) -> 0 | BI12: 0 | BJ12: 0 | BK12: 0 | BL12: 0 | BM12: 0 | BN12: 0 | BO12: =SUM(BP12,BU12,BY12,BZ12,CF12) -> 229843 | BP12: =SUM(BQ12:BT12) -> 62349 | BQ12: 20449 | BR12: 0 | BS12: 41900 | BT12: 0 | BU12: =SUM(BV12:BX12) -> 116124 | BV12: 0 | BW12: 116124 | BX12: 0 | BY12: 0 | BZ12: =SUM(CA12:CD12) -> 51370 | CA12: 37187 | CB12: 14183 | CC12: 0 | CD12: 0 | CE12: 0 | CF12: 0 | CG12: 1203 | CH12: =SUM(BG12,+BO12,+CG12) -> 231046 | CI12: =SUM(AE12,+BG12) -> 0 | CJ12: =SUM(AF12,+BH12) -> 0 | CK12: =SUM(AG12,+BI12) -> 0 | CL12: =SUM(AH12,+BJ12) -> 0 | CM12: =SUM(AI12,+BK12) -> 0 | CN12: =SUM(AJ12,+BL12) -> 0 | CO12: =SUM(AK12,+BM12) -> 0 | CP12: =SUM(AL12,+BN12) -> 2932 | ... DJ12: =SUM(BF12,+CH12) -> 854197
A13: 愛知県 | B13: 23205 | C13: 半田市 | D13: =SUM(E13,+L13) -> 1231981 | E13: =SUM(F13:I13,K13) -> 417257 | F13: 12173 | G13: 0 | H13: 0 | I13: 222585 | J13: - | K13: 182499 | L13: 814724 | M13: =SUM(N13,+U13) -> 121211 | N13: =SUM(O13:R13,T13) -> 7908 | O13: 0 | P13: 0 | Q13: 0 | R13: 7908 | S13: - | T13: 0 | U13: 113303 | V13: =+SUM(D13,M13) -> 1353192 | W13: =+SUM(E13,N13) -> 425165 | X13: =+SUM(F13,O13) -> 12173 | Y13: =+SUM(G13,P13) -> 0 | Z13: =+SUM(H13,Q13) -> 0 | AA13: =+SUM(I13,R13) -> 230493 | AB13: =IF(+SUM(J13,S13)=0,"-",+SUM(J13,S13)) -> - | AC13: =+SUM(K13,T13) -> 182499 | AD13: =+SUM(L13,U13) -> 928027 | AE13: =SUM(AF13,+AK13) -> 64295 | AF13: =SUM(AG13:AJ13) -> 64295 | AG13: 187 | AH13: 0 | AI13: 43978 | AJ13: 20130 | AK13: 0 | AL13: 0 | AM13: =SUM(AN13,AS13,AW13,AX13,BD13) -> 906451 | AN13: =SUM(AO13:AR13) -> 104243 | AO13: 31828 | AP13: 72415 | AQ13: 0 | AR13: 0 | AS13: =SUM(AT13:AV13) -> 163812 | AT13: 123890 | AU13: 39922 | AV13: 0 | AW13: 9146 | AX13: =SUM(AY13:BB13) -> 629250 | AY13: 377561 | AZ13: 248886 | BA13: 0 | BB13: 2803 | BC13: 182381 | BD13: 0 | BE13: 78854 | BF13: =SUM(AE13,+AM13,+BE13) -> 1049600 | BG13: =SUM(BH13,+BM13) -> 0 | BH13: =SUM(BI13:BL13) -> 0 | BI13: 0 | BJ13: 0 | BK13: 0 | BL13: 0 | BM13: 0 | BN13: 0 | BO13: =SUM(BP13,BU13,BY13,BZ13,CF13) -> 34453 | BP13: =SUM(BQ13:BT13) -> 4366 | BQ13: 4366 | BR13: 0 | BS13: 0 | BT13: 0 | BU13: =SUM(BV13:BX13) -> 23966 | BV13: 23966 | BW13: 0 | BX13: 0 | BY13: 0 | BZ13: =SUM(CA13:CD13) -> 6121 | CA13: 0 | CB13: 0 | CC13: 0 | CD13: 6121 | CE13: 85684 | CF13: 0 | CG13: 1074 | CH13: =SUM(BG13,+BO13,+CG13) -> 35527 | CI13: =SUM(AE13,+BG13) -> 64295 | CJ13: =SUM(AF13,+BH13) -> 64295 | CK13: =SUM(AG13,+BI13) -> 187 | CL13: =SUM(AH13,+BJ13) -> 0 | CM13: =SUM(AI13,+BK13) -> 43978 | CN13: =SUM(AJ13,+BL13) -> 20130 | CO13: =SUM(AK13,+BM13) -> 0 | CP13: =SUM(AL13,+BN13) -> 0 | ... DJ13: =SUM(BF13,+CH13) -> 1085127
A14: 愛知県 | B14: 23206 | C14: 春日井市 | D14: =SUM(E14,+L14) -> 4793920 | E14: =SUM(F14:I14,K14) -> 908471 | F14: 19500 | G14: 0 | H14: 479400 | I14: 404016 | J14: - | K14: 5555 | L14: 3885449 | M14: =SUM(N14,+U14) -> 368821 | N14: =SUM(O14:R14,T14) -> 16723 | O14: 0 | P14: 0 | Q14: 0 | R14: 16723 | S14: - | T14: 0 | U14: 352098 | V14: =+SUM(D14,M14) -> 5162741 | W14: =+SUM(E14,N14) -> 925194 | X14: =+SUM(F14,O14) -> 19500 | Y14: =+SUM(G14,P14) -> 0 | Z14: =+SUM(H14,Q14) -> 479400 | AA14: =+SUM(I14,R14) -> 420739 | AB14: =IF(+SUM(J14,S14)=0,"-",+SUM(J14,S14)) -> - | AC14: =+SUM(K14,T14) -> 5555 | AD14: =+SUM(L14,U14) -> 4237547 | AE14: =SUM(AF14,+AK14) -> 374586 | AF14: =SUM(AG14:AJ14) -> 374586 | AG14: 0 | AH14: 373733 | AI14: 0 | AJ14: 853 | AK14: 0 | AL14: 0 | AM14: =SUM(AN14,AS14,AW14,AX14,BD14) -> 4346303 | AN14: =SUM(AO14:AR14) -> 1218532 | AO14: 294358 | AP14: 611201 | AQ14: 288265 | AR14: 24708 | AS14: =SUM(AT14:AV14) -> 1186124 | AT14: 48452 | AU14: 1054785 | AV14: 82887 | AW14: 38335 | AX14: =SUM(AY14:BB14) -> 1903312 | AY14: 792237 | AZ14: 1100420 | BA14: 10655 | BB14: 0 | BC14: 0 | BD14: 0 | BE14: 73031 | BF14: =SUM(AE14,+AM14,+BE14) -> 4793920 | BG14: =SUM(BH14,+BM14) -> 0 | BH14: =SUM(BI14:BL14) -> 0 | BI14: 0 | BJ14: 0 | BK14: 0 | BL14: 0 | BM14: 0 | BN14: 0 | BO14: =SUM(BP14,BU14,BY14,BZ14,CF14) -> 362699 | BP14: =SUM(BQ14:BT14) -> 85206 | BQ14: 50134 | BR14: 29465 | BS14: 5607 | BT14: 0 | BU14: =SUM(BV14:BX14) -> 154137 | BV14: 1563 | BW14: 152574 | BX14: 0 | BY14: 0 | BZ14: =SUM(CA14:CD14) -> 123356 | CA14: 46288 | CB14: 77068 | CC14: 0 | CD14: 0 | CE14: 0 | CF14: 0 | CG14: 6122 | CH14: =SUM(BG14,+BO14,+CG14) -> 368821 | CI14: =SUM(AE14,+BG14) -> 374586 | CJ14: =SUM(AF14,+BH14) -> 374586 | CK14: =SUM(AG14,+BI14) -> 0 | CL14: =SUM(AH14,+BJ14) -> 373733 | CM14: =SUM(AI14,+BK14) -> 0 | CN14: =SUM(AJ14,+BL14) -> 853 | CO14: =SUM(AK14,+BM14) -> 0 | CP14: =SUM(AL14,+BN14) -> 0 | ... DJ14: =SUM(BF14,+CH14) -> 5162741
A15: 愛知県 | B15: 23207 | C15: 豊川市 | D15: =SUM(E15,+L15) -> 3468204 | E15: =SUM(F15:I15,K15) -> 1016576 | F15: 0 | G15: 0 | H15: 532900 | I15: 207426 | J15: - | K15: 276250 | L15: 2451628 | M15: =SUM(N15,+U15) -> 189369 | N15: =SUM(O15:R15,T15) -> 0 | O15: 0 | P15: 0 | Q15: 0 | R15: 0 | S15: - | T15: 0 | U15: 189369 | V15: =+SUM(D15,M15) -> 3657573 | W15: =+SUM(E15,N15) -> 1016576 | X15: =+SUM(F15,O15) -> 0 | Y15: =+SUM(G15,P15) -> 0 | Z15: =+SUM(H15,Q15) -> 532900 | AA15: =+SUM(I15,R15) -> 207426 | AB15: =IF(+SUM(J15,S15)=0,"-",+SUM(J15,S15)) -> - | AC15: =+SUM(K15,T15) -> 276250 | AD15: =+SUM(L15,U15) -> 2640997 | AE15: =SUM(AF15,+AK15) -> 990287 | AF15: =SUM(AG15:AJ15) -> 990287 | AG15: 0 | AH15: 955637 | AI15: 34650 | AJ15: 0 | AK15: 0 | AL15: 0 | AM15: =SUM(AN15,AS15,AW15,AX15,BD15) -> 2455629 | AN15: =SUM(AO15:AR15) -> 263046 | AO15: 120977 | AP15: 104131 | AQ15: 28201 | AR15: 9737 | AS15: =SUM(AT15:AV15) -> 217870 | AT15: 9482 | AU15: 159832 | AV15: 48556 | AW15: 1968 | AX15: =SUM(AY15:BB15) -> 1971590 | AY15: 590846 | AZ15: 1303502 | BA15: 75452 | BB15: 1790 | BC15: 0 | BD15: 1155 | BE15: 22288 | BF15: =SUM(AE15,+AM15,+BE15) -> 3468204 | BG15: =SUM(BH15,+BM15) -> 1284 | BH15: =SUM(BI15:BL15) -> 1284 | BI15: 0 | BJ15: 1284 | BK15: 0 | BL15: 0 | BM15: 0 | BN15: 0 | BO15: =SUM(BP15,BU15,BY15,BZ15,CF15) -> 188085 | BP15: =SUM(BQ15:BT15) -> 6116 | BQ15: 6116 | BR15: 0 | BS15: 0 | BT15: 0 | BU15: =SUM(BV15:BX15) -> 55263 | BV15: 0 | BW15: 55263 | BX15: 0 | BY15: 0 | BZ15: =SUM(CA15:CD15) -> 126706 | CA15: 0 | CB15: 126706 | CC15: 0 | CD15: 0 | CE15: 0 | CF15: 0 | CG15: 0 | CH15: =SUM(BG15,+BO15,+CG15) -> 189369 | CI15: =SUM(AE15,+BG15) -> 991571 | CJ15: =SUM(AF15,+BH15) -> 991571 | CK15: =SUM(AG15,+BI15) -> 0 | CL15: =SUM(AH15,+BJ15) -> 956921 | CM15: =SUM(AI15,+BK15) -> 34650 | CN15: =SUM(AJ15,+BL15) -> 0 | CO15: =SUM(AK15,+BM15) -> 0 | CP15: =SUM(AL15,+BN15) -> 0 | ... DJ15: =SUM(BF15,+CH15) -> 3657573
A16: 愛知県 | B16: 23208 | C16: 津島市 | D16: =SUM(E16,+L16) -> 607954 | E16: =SUM(F16:I16,K16) -> 68733 | F16: 0 | G16: 0 | H16: 0 | I16: 7960 | J16: - | K16: 60773 | L16: 539221 | M16: =SUM(N16,+U16) -> 90500 | N16: =SUM(O16:R16,T16) -> 7595 | O16: 170 | P16: 102 | Q16: 0 | R16: 4392 | S16: - | T16: 2931 | U16: 82905 | V16: =+SUM(D16,M16) -> 698454 | W16: =+SUM(E16,N16) -> 76328 | X16: =+SUM(F16,O16) -> 170 | Y16: =+SUM(G16,P16) -> 102 | Z16: =+SUM(H16,Q16) -> 0 | AA16: =+SUM(I16,R16) -> 12352 | AB16: =IF(+SUM(J16,S16)=0,"-",+SUM(J16,S16)) -> - | AC16: =+SUM(K16,T16) -> 63704 | AD16: =+SUM(L16,U16) -> 622126 | AE16: =SUM(AF16,+AK16) -> 119 | AF16: =SUM(AG16:AJ16) -> 119 | AG16: 0 | AH16: 0 | AI16: 0 | AJ16: 119 | AK16: 0 | AL16: 0 | AM16: =SUM(AN16,AS16,AW16,AX16,BD16) -> 302031 | AN16: =SUM(AO16:AR16) -> 53630 | AO16: 32178 | AP16: 16089 | AQ16: 0 | AR16: 5363 | AS16: =SUM(AT16:AV16) -> 18594 | AT16: 990 | AU16: 71 | AV16: 17533 | AW16: 0 | AX16: =SUM(AY16:BB16) -> 229807 | AY16: 198064 | AZ16: 29174 | BA16: 206 | BB16: 2363 | BC16: 263982 | BD16: 0 | BE16: 41822 | BF16: =SUM(AE16,+AM16,+BE16) -> 343972 | BG16: =SUM(BH16,+BM16) -> 0 | BH16: =SUM(BI16:BL16) -> 0 | BI16: 0 | BJ16: 0 | BK16: 0 | BL16: 0 | BM16: 0 | BN16: 0 | BO16: =SUM(BP16,BU16,BY16,BZ16,CF16) -> 23329 | BP16: =SUM(BQ16:BT16) -> 18937 | BQ16: 18937 | BR16: 0 | BS16: 0 | BT16: 0 | BU16: =SUM(BV16:BX16) -> 4392 | BV16: 0 | BW16: 4392 | BX16: 0 | BY16: 0 | BZ16: =SUM(CA16:CD16) -> 0 | CA16: 0 | CB16: 0 | CC16: 0 | CD16: 0 | CE16: 66661 | CF16: 0 | CG16: 510 | CH16: =SUM(BG16,+BO16,+CG16) -> 23839 | CI16: =SUM(AE16,+BG16) -> 119 | CJ16: =SUM(AF16,+BH16) -> 119 | CK16: =SUM(AG16,+BI16) -> 0 | CL16: =SUM(AH16,+BJ16) -> 0 | CM16: =SUM(AI16,+BK16) -> 0 | CN16: =SUM(AJ16,+BL16) -> 119 | CO16: =SUM(AK16,+BM16) -> 0 | CP16: =SUM(AL16,+BN16) -> 0 | ... DJ16: =SUM(BF16,+CH16) -> 367811
A17: 愛知県 | B17: 23209 | C17: 碧南市 | D17: =SUM(E17,+L17) -> 1214073 | E17: =SUM(F17:I17,K17) -> 27884 | F17: 0 | G17: 0 | H17: 0 | I17: 13086 | J17: - | K17: 14798 | L17: 1186189 | M17: =SUM(N17,+U17) -> 2432 | N17: =SUM(O17:R17,T17) -> 0 | O17: 0 | P17: 0 | Q17: 0 | R17: 0 | S17: - | T17: 0 | U17: 2432 | V17: =+SUM(D17,M17) -> 1216505 | W17: =+SUM(E17,N17) -> 27884 | X17: =+SUM(F17,O17) -> 0 | Y17: =+SUM(G17,P17) -> 0 | Z17: =+SUM(H17,Q17) -> 0 | AA17: =+SUM(I17,R17) -> 13086 | AB17: =IF(+SUM(J17,S17)=0,"-",+SUM(J17,S17)) -> - | AC17: =+SUM(K17,T17) -> 14798 | AD17: =+SUM(L17,U17) -> 1188621 | AE17: =SUM(AF17,+AK17) -> 0 | AF17: =SUM(AG17:AJ17) -> 0 | AG17: 0 | AH17: 0 | AI17: 0 | AJ17: 0 | AK17: 0 | AL17: 111299 | AM17: =SUM(AN17,AS17,AW17,AX17,BD17) -> 452073 | AN17: =SUM(AO17:AR17) -> 25999 | AO17: 25999 | AP17: 0 | AQ17: 0 | AR17: 0 | AS17: =SUM(AT17:AV17) -> 93747 | AT17: 90280 | AU17: 0 | AV17: 3467 | AW17: 0 | AX17: =SUM(AY17:BB17) -> 332327 | AY17: 255783 | AZ17: 54629 | BA17: 21915 | BB17: 0 | BC17: 650701 | BD17: 0 | BE17: 0 | BF17: =SUM(AE17,+AM17,+BE17) -> 452073 | BG17: =SUM(BH17,+BM17) -> 0 | BH17: =SUM(BI17:BL17) -> 0 | BI17: 0 | BJ17: 0 | BK17: 0 | BL17: 0 | BM17: 0 | BN17: 0 | BO17: =SUM(BP17,BU17,BY17,BZ17,CF17) -> 2432 | BP17: =SUM(BQ17:BT17) -> 2432 | BQ17: 2432 | BR17: 0 | BS17: 0 | BT17: 0 | BU17: =SUM(BV17:BX17) -> 0 | BV17: 0 | BW17: 0 | BX17: 0 | BY17: 0 | BZ17: =SUM(CA17:CD17) -> 0 | CA17: 0 | CB17: 0 | CC17: 0 | CD17: 0 | CE17: 0 | CF17: 0 | CG17: 0 | CH17: =SUM(BG17,+BO17,+CG17) -> 2432 | CI17: =SUM(AE17,+BG17) -> 0 | CJ17: =SUM(AF17,+BH17) -> 0 | CK17: =SUM(AG17,+BI17) -> 0 | CL17: =SUM(AH17,+BJ17) -> 0 | CM17: =SUM(AI17,+BK17) -> 0 | CN17: =SUM(AJ17,+BL17) -> 0 | CO17: =SUM(AK17,+BM17) -> 0 | CP17: =SUM(AL17,+BN17) -> 111299 | ... DJ17: =SUM(BF17,+CH17) -> 454505
A18: 愛知県 | B18: 23210 | C18: 刈谷市 | D18: =SUM(E18,+L18) -> 1657248 | E18: =SUM(F18:I18,K18) -> 135960 | F18: 0 | G18: 0 | H18: 0 | I18: 7700 | J18: - | K18: 128260 | L18: 1521288 | M18: =SUM(N18,+U18) -> 357433 | N18: =SUM(O18:R18,T18) -> 8199 | O18: 0 | P18: 0 | Q18: 0 | R18: 8199 | S18: - | T18: 0 | U18: 349234 | V18: =+SUM(D18,M18) -> 2014681 | W18: =+SUM(E18,N18) -> 144159 | X18: =+SUM(F18,O18) -> 0 | Y18: =+SUM(G18,P18) -> 0 | Z18: =+SUM(H18,Q18) -> 0 | AA18: =+SUM(I18,R18) -> 15899 | AB18: =IF(+SUM(J18,S18)=0,"-",+SUM(J18,S18)) -> - | AC18: =+SUM(K18,T18) -> 128260 | AD18: =+SUM(L18,U18) -> 1870522 | AE18: =SUM(AF18,+AK18) -> 1751 | AF18: =SUM(AG18:AJ18) -> 1751 | AG18: 0 | AH18: 0 | AI18: 1751 | AJ18: 0 | AK18: 0 | AL18: 436190 | AM18: =SUM(AN18,AS18,AW18,AX18,BD18) -> 842841 | AN18: =SUM(AO18:AR18) -> 183899 | AO18: 33290 | AP18: 117608 | AQ18: 0 | AR18: 33001 | AS18: =SUM(AT18:AV18) -> 59431 | AT18: 12794 | AU18: 77 | AV18: 46560 | AW18: 9469 | AX18: =SUM(AY18:BB18) -> 590042 | AY18: 457416 | AZ18: 100253 | BA18: 17361 | BB18: 15012 | BC18: 278748 | BD18: 0 | BE18: 97718 | BF18: =SUM(AE18,+AM18,+BE18) -> 942310 | BG18: =SUM(BH18,+BM18) -> 0 | BH18: =SUM(BI18:BL18) -> 0 | BI18: 0 | BJ18: 0 | BK18: 0 | BL18: 0 | BM18: 0 | BN18: 0 | BO18: =SUM(BP18,BU18,BY18,BZ18,CF18) -> 356825 | BP18: =SUM(BQ18:BT18) -> 37656 | BQ18: 37656 | BR18: 0 | BS18: 0 | BT18: 0 | BU18: =SUM(BV18:BX18) -> 39692 | BV18: 0 | BW18: 36395 | BX18: 3297 | BY18: 4948 | BZ18: =SUM(CA18:CD18) -> 274529 | CA18: 47979 | CB18: 224845 | CC18: 1705 | CD18: 0 | CE18: 0 | CF18: 0 | CG18: 608 | CH18: =SUM(BG18,+BO18,+CG18) -> 357433 | CI18: =SUM(AE18,+BG18) -> 1751 | CJ18: =SUM(AF18,+BH18) -> 1751 | CK18: =SUM(AG18,+BI18) -> 0 | CL18: =SUM(AH18,+BJ18) -> 0 | CM18: =SUM(AI18,+BK18) -> 1751 | CN18: =SUM(AJ18,+BL18) -> 0 | CO18: =SUM(AK18,+BM18) -> 0 | CP18: =SUM(AL18,+BN18) -> 436190 | ... DJ18: =SUM(BF18,+CH18) -> 1299743
A19: 愛知県 | B19: 23211 | C19: 豊田市 | D19: =SUM(E19,+L19) -> 6527241 | E19: =SUM(F19:I19,K19) -> 1244267 | F19: 0 | G19: 0 | H19: 0 | I19: 630898 | J19: - | K19: 613369 | L19: 5282974 | M19: =SUM(N19,+U19) -> 945950 | N19: =SUM(O19:R19,T19) -> 231145 | O19: 0 | P19: 0 | Q19: 0 | R19: 115755 | S19: - | T19: 115390 | U19: 714805 | V19: =+SUM(D19,M19) -> 7473191 | W19: =+SUM(E19,N19) -> 1475412 | X19: =+SUM(F19,O19) -> 0 | Y19: =+SUM(G19,P19) -> 0 | Z19: =+SUM(H19,Q19) -> 0 | AA19: =+SUM(I19,R19) -> 746653 | AB19: =IF(+SUM(J19,S19)=0,"-",+SUM(J19,S19)) -> - | AC19: =+SUM(K19,T19) -> 728759 | AD19: =+SUM(L19,U19) -> 5997779 | AE19: =SUM(AF19,+AK19) -> 536820 | AF19: =SUM(AG19:AJ19) -> 536820 | AG19: 0 | AH19: 536820 | AI19: 0 | AJ19: 0 | AK19: 0 | AL19: 0 | AM19: =SUM(AN19,AS19,AW19,AX19,BD19) -> 5922078 | AN19: =SUM(AO19:AR19) -> 1471903 | AO19: 195473 | AP19: 1155220 | AQ19: 85043 | AR19: 36167 | AS19: =SUM(AT19:AV19) -> 747491 | AT19: 170584 | AU19: 514854 | AV19: 62053 | AW19: 46086 | AX19: =SUM(AY19:BB19) -> 3656598 | AY19: 660108 | AZ19: 2547922 | BA19: 290687 | BB19: 157881 | BC19: 0 | BD19: 0 | BE19: 68343 | BF19: =SUM(AE19,+AM19,+BE19) -> 6527241 | BG19: =SUM(BH19,+BM19) -> 0 | BH19: =SUM(BI19:BL19) -> 0 | BI19: 0 | BJ19: 0 | BK19: 0 | BL19: 0 | BM19: 0 | BN19: 0 | BO19: =SUM(BP19,BU19,BY19,BZ19,CF19) -> 920445 | BP19: =SUM(BQ19:BT19) -> 79467 | BQ19: 63103 | BR19: 16364 | BS19: 0 | BT19: 0 | BU19: =SUM(BV19:BX19) -> 374230 | BV19: 1892 | BW19: 167182 | BX19: 205156 | BY19: 0 | BZ19: =SUM(CA19:CD19) -> 466748 | CA19: 463103 | CB19: 0 | CC19: 0 | CD19: 3645 | CE19: 0 | CF19: 0 | CG19: 25505 | CH19: =SUM(BG19,+BO19,+CG19) -> 945950 | CI19: =SUM(AE19,+BG19) -> 536820 | CJ19: =SUM(AF19,+BH19) -> 536820 | CK19: =SUM(AG19,+BI19) -> 0 | CL19: =SUM(AH19,+BJ19) -> 536820 | CM19: =SUM(AI19,+BK19) -> 0 | CN19: =SUM(AJ19,+BL19) -> 0 | CO19: =SUM(AK19,+BM19) -> 0 | CP19: =SUM(AL19,+BN19) -> 0 | ... DJ19: =SUM(BF19,+CH19) -> 7473191
... A61: 愛知県 | B61: 23563 | C61: 豊根村 | D61: =SUM(E61,+L61) -> 25351 | E61: =SUM(F61:I61,K61) -> 0 | F61: 0 | G61: 0 | H61: 0 | I61: 0 | J61: - | K61: 0 | L61: 25351 | M61: =SUM(N61,+U61) -> 11777 | N61: =SUM(O61:R61,T61) -> 0 | O61: 0 | P61: 0 | Q61: 0 | R61: 0 | S61: - | T61: 0 | U61: 11777 | V61: =+SUM(D61,M61) -> 37128 | W61: =+SUM(E61,N61) -> 0 | X61: =+SUM(F61,O61) -> 0 | Y61: =+SUM(G61,P61) -> 0 | Z61: =+SUM(H61,Q61) -> 0 | AA61: =+SUM(I61,R61) -> 0 | AB61: =IF(+SUM(J61,S61)=0,"-",+SUM(J61,S61)) -> - | AC61: =+SUM(K61,T61) -> 0 | AD61: =+SUM(L61,U61) -> 37128 | AE61: =SUM(AF61,+AK61) -> 0 | AF61: =SUM(AG61:AJ61) -> 0 | AG61: 0 | AH61: 0 | AI61: 0 | AJ61: 0 | AK61: 0 | AL61: 2009 | AM61: =SUM(AN61,AS61,AW61,AX61,BD61) -> 0 | AN61: =SUM(AO61:AR61) -> 0 | AO61: 0 | AP61: 0 | AQ61: 0 | AR61: 0 | AS61: =SUM(AT61:AV61) -> 0 | AT61: 0 | AU61: 0 | AV61: 0 | AW61: 0 | AX61: =SUM(AY61:BB61) -> 0 | AY61: 0 | AZ61: 0 | BA61: 0 | BB61: 0 | BC61: 23342 | BD61: 0 | BE61: 0 | BF61: =SUM(AE61,+AM61,+BE61) -> 0 | BG61: =SUM(BH61,+BM61) -> 0 | BH61: =SUM(BI61:BL61) -> 0 | BI61: 0 | BJ61: 0 | BK61: 0 | BL61: 0 | BM61: 0 | BN61: 1844 | BO61: =SUM(BP61,BU61,BY61,BZ61,CF61) -> 0 | BP61: =SUM(BQ61:BT61) -> 0 | BQ61: 0 | BR61: 0 | BS61: 0 | BT61: 0 | BU61: =SUM(BV61:BX61) -> 0 | BV61: 0 | BW61: 0 | BX61: 0 | BY61: 0 | BZ61: =SUM(CA61:CD61) -> 0 | CA61: 0 | CB61: 0 | CC61: 0 | CD61: 0 | CE61: 9933 | CF61: 0 | CG61: 0 | CH61: =SUM(BG61,+BO61,+CG61) -> 0 | CI61: =SUM(AE61,+BG61) -> 0 | CJ61: =SUM(AF61,+BH61) -> 0 | CK61: =SUM(AG61,+BI61) -> 0 | CL61: =SUM(AH61,+BJ61) -> 0 | CM61: =SUM(AI61,+BK61) -> 0 | CN61: =SUM(AJ61,+BL61) -> 0 | CO61: =SUM(AK61,+BM61) -> 0 | CP61: =SUM(AL61,+BN61) -> 3853 | ... DJ61: =SUM(BF61,+CH61) -> 0

Sheet 廃棄物事業経費（組合）
A1: 廃棄物処理事業経費（一部事務組合・広域連合の合計）（令和4年度実績）
A2: 都道府県名 | B2: 地方公共団体コード | C2: 一部事務組合・広域連合名 | D2: ごみ | M2: し尿 | V2: 合計 | AE2: ごみ（建設改良費＋処理維持管理費＋その他）（組合分担金を除く） | BG2: し尿（建設改良費＋処理維持管理費＋その他）（組合分担金を除く） | CI2: 合計（建設改良費＋処理維持管理費＋その他）（組合分担金を除く）
D3: 合計 (特定財源(市区町村分担金を除く)+一般財源) | M3: 合計 (特定財源(市区町村分担金を除く)+一般財源) | V3: 合計 (特定財源(市区町村分担金を除く)+一般財源) | AE3: 建設改良費 (工事費+調査費)(組合分担金を除く) | AM3: 処理及び維持管理費 (人件費+処理費+車両購入費+委託費+調査研究費)(組合分担金を除く) | BE3: その他 | BF3: 合計 | BG3: 建設改良費 (工事費+調査費)(組合分担金を除く) | BO3: 処理及び維持管理費 (人件費+処理費+車両購入費+委託費+調査研究費)(組合分担金を除く) | CG3: その他 | CH3: 合計 | CI3: 建設改良費 (工事費+調査費)(組合分担金を除く) | CQ3: 処理及び維持管理費 (人件費+処理費+車両購入費+委託費+調査研究費)(組合分担金を除く) | DI3: その他 | DJ3: 合計
E4: 特定財源 (市区町村分担金を除く) | L4: 一般財源 | N4: 特定財源 (市区町村分担金を除く) | U4: 一般財源 | W4: 特定財源 (市区町村分担金を除く) | AD4: 一般財源 | AE4: 合計 | AF4: 工事費 (収集運搬施設+中間処理施設+最終処分場+その他) | AK4: 調査費 | AL4: （建設改良費組合分担金） | AM4: 合計 | AN4: 人件費（一般職＋収集運搬＋中間処理＋最終処分） | AS4: 処理費 (収集運搬費+中間処理費+最終処分費) | AW4: 車両等購入費 | AX4: 委託費 (収集運搬費+中間処理費+最終処分費+その他) | BC4: (組合分担金) | BD4: 調査研究費 | BG4: 合計 | BH4: 工事費 (収集運搬施設+中間処理施設+最終処分場+その他) | BM4: 調査費 | BN4: （建設改良費組合分担金） | BO4: 合計 | BP4: 人件費（一般職＋収集運搬＋中間処理＋最終処分） | BU4: 処理費 (収集運搬費+中間処理費+最終処分費) | BY4: 車両等購入費 | BZ4: 委託費 (収集運搬費+中間処理費+最終処分費+その他) | CE4: (組合分担金) | CF4: 調査研究費 | CI4: 合計 | CJ4: 工事費 (収集運搬施設+中間処理施設+最終処分場+その他) | CO4: 調査費 | CP4: （建設改良費組合分担金） | CQ4: 合計 | CR4: 人件費（一般職＋収集運搬＋中間処理＋最終処分） | CW4: 処理費 (収集運搬費+中間処理費+最終処分費) | DA4: 車両等購入費 | DB4: 委託費 (収集運搬費+中間処理費+最終処分費+その他) | DG4: (組合分担金) | DH4: 調査研究費
E5: 合計 | F5: 国庫支出金 | G5: 都道府県 支出金 | H5: 地方債 | I5: 使用料及び 手数料 | J5: （市区町村 分担金） | K5: その他 | N5: 合計 | O5: 国庫支出金 | P5: 都道府県 支出金 | Q5: 地方債 | R5: 使用料及び 手数料 | S5: （市区町村 分担金） | T5: その他 | W5: 合計 | X5: 国庫支出金 | Y5: 都道府県 支出金 | Z5: 地方債 | AA5: 使用料及び 手数料 | AB5: （市区町村 分担金） | AC5: その他 | AF5: 合計 | AG5: 収集運搬施設 | AH5: 中間処理施設 | AI5: 最終処分場 | AJ5: その他 | AN5: 合計 | AO5: 一般職 | AP5: 収集運搬 | AQ5: 中間処理 | AR5: 最終処分 | AS5: 合計 | AT5: 収集運搬費 | AU5: 中間処理費 | AV5: 最終処分費 | AX5: 合計 | AY5: 収集運搬費 | AZ5: 中間処理費 | BA5: 最終処分費 | BB5: その他 | BH5: 合計 | BI5: 収集運搬施設 | BJ5: 中間処理施設 | BK5: 最終処分場 | BL5: その他 | BP5: 合計 | BQ5: 一般職 | BR5: 収集運搬 | BS5: 中間処理 | BT5: 最終処分 | BU5: 合計 | BV5: 収集運搬費 | BW5: 中間処理費 | BX5: 最終処分費 | BZ5: 合計 | CA5: 収集運搬費 | CB5: 中間処理費 | CC5: 最終処分費 | CD5: その他 | CJ5: 合計 | CK5: 収集運搬施設 | CL5: 中間処理施設 | CM5: 最終処分場 | CN5: その他 | CR5: 合計 | CS5: 一般職 | CT5: 収集運搬 | CU5: 中間処理 | CV5: 最終処分 | CW5: 合計 | CX5: 収集運搬費 | CY5: 中間処理費 | CZ5: 最終処分費 | DB5: 合計 | DC5: 収集運搬費 | DD5: 中間処理費 | DE5: 最終処分費 | DF5: その他
D6: （千円） | E6: （千円） | F6: （千円） | G6: （千円） | H6: （千円） | I6: （千円） | J6: （千円） | K6: （千円） | L6: （千円） | M6: （千円） | N6: （千円） | O6: （千円） | P6: （千円） | Q6: （千円） | R6: （千円） | S6: （千円） | T6: （千円） | U6: （千円） | V6: （千円） | W6: （千円） | X6: （千円） | Y6: （千円） | Z6: （千円） | AA6: （千円） | AB6: （千円） | AC6: （千円） | AD6: （千円） | AE6: （千円） | AF6: （千円） | AG6: （千円） | AH6: （千円） | AI6: （千円） | AJ6: （千円） | AK6: （千円） | AL6: （千円） | AM6: （千円） | AN6: （千円） | AO6: （千円） | AP6: （千円） | AQ6: （千円） | AR6: （千円） | AS6: （千円） | AT6: （千円） | AU6: （千円） | AV6: （千円） | AW6: （千円） | AX6: （千円） | AY6: （千円） | AZ6: （千円） | BA6: （千円） | BB6: （千円） | BC6: （千円） | BD6: （千円） | BE6: （千円） | BF6: （千円） | BG6: （千円） | BH6: （千円） | BI6: （千円） | BJ6: （千円） | BK6: （千円） | BL6: （千円） | BM6: （千円） | BN6: （千円） | BO6: （千円） | BP6: （千円） | BQ6: （千円） | BR6: （千円） | BS6: （千円） | BT6: （千円） | BU6: （千円） | BV6: （千円） | BW6: （千円） | BX6: （千円） | BY6: （千円） | BZ6: （千円） | CA6: （千円） | CB6: （千円） | CC6: （千円） | CD6: （千円） | CE6: （千円） | CF6: （千円） | CG6: （千円） | CH6: （千円） | CI6: （千円） | CJ6: （千円） | CK6: （千円） | CL6: （千円） | CM6: （千円） | CN6: （千円） | CO6: （千円） | CP6: （千円） | CQ6: （千円） | CR6: （千円） | CS6: （千円） | CT6: （千円） | CU6: （千円） | CV6: （千円） | CW6: （千円） | CX6: （千円） | CY6: （千円） | CZ6: （千円） | DA6: （千円） | DB6: （千円） | DC6: （千円） | DD6: （千円） | DE6: （千円） | DF6: （千円） | DG6: （千円） | DH6: （千円） | DI6: （千円） | DJ6: （千円）
A7: ='廃棄物事業経費（市町村）'!A7 -> 愛知県 | B7: ='廃棄物事業経費（市町村）'!B7 -> 23000 | C7: 合計 | D7: =SUM(E7,+L7) -> 9595958 | E7: =SUM(F7:I7)+K7 -> 7253737 | F7: =SUM(F$8:F$57) -> 1290047 | G7: =SUM(G$8:G$57) -> 0 | H7: =SUM(H$8:H$57) -> 2536500 | I7: =SUM(I$8:I$57) -> 2353166 | J7: =SUM(J$8:J$57) -> 10188820 | K7: =SUM(K$8:K$57) -> 1074024 | L7: =SUM(L$8:L$57) -> 2342221 | M7: =SUM(N7,+U7) -> 1087295 | N7: =SUM(O7:R7,T7) -> 971092 | O7: =SUM(O$8:O$57) -> 139251 | P7: =SUM(P$8:P$57) -> 0 | Q7: =SUM(Q$8:Q$57) -> 620000 | R7: =SUM(R$8:R$57) -> 127458 | S7: =SUM(S$8:S$57) -> 2028271 | T7: =SUM(T$8:T$57) -> 84383 | U7: =SUM(U$8:U$57) -> 116203 | V7: =+SUM(D7,M7) -> 10683253 | W7: =+SUM(E7,N7) -> 8224829 | X7: =+SUM(F7,O7) -> 1429298 | Y7: =+SUM(G7,P7) -> 0 | Z7: =+SUM(H7,Q7) -> 3156500 | AA7: =+SUM(I7,R7) -> 2480624 | AB7: =+SUM(J7,S7) -> 12217091 | AC7: =+SUM(K7,T7) -> 1158407 | AD7: =+SUM(L7,U7) -> 2458424 | AE7: =SUM(AF7,+AK7) -> 5225339 | AF7: =SUM(AG7:AJ7) -> 5183258 | AG7: =SUM(AG$8:AG$57) -> 0 | AH7: =SUM(AH$8:AH$57) -> 5165149 | AI7: =SUM(AI$8:AI$57) -> 18109 | AJ7: =SUM(AJ$8:AJ$57) -> 0 | AK7: =SUM(AK$8:AK$57) -> 42081 | AL7: - | AM7: =SUM(AN7,AS7,AW7,AX7,BD7) -> 11883437 | AN7: =SUM(AO7:AR7) -> 1555170 | AO7: =SUM(AO$8:AO$57) -> 1130160 | AP7: =SUM(AP$8:AP$57) -> 0 | AQ7: =SUM(AQ$8:AQ$57) -> 407394 | AR7: =SUM(AR$8:AR$57) -> 17616 | AS7: =SUM(AT7:AV7) -> 3593348 | AT7: =SUM(AT$8:AT$57) -> 0 | AU7: =SUM(AU$8:AU$57) -> 3365164 | AV7: =SUM(AV$8:AV$57) -> 228184 | AW7: =SUM(AW$8:AW$57) -> 10238 | AX7: =SUM(AY7:BB7) -> 6724681 | AY7: =SUM(AY$8:AY$57) -> 403668 | AZ7: =SUM(AZ$8:AZ$57) -> 5081949 | BA7: =SUM(BA$8:BA$57) -> 1136596 | BB7: =SUM(BB$8:BB$57) -> 102468 | BC7: - | BD7: =SUM(BD$8:BD$57) -> 0 | BE7: =SUM(BE$8:BE$57) -> 2676002 | BF7: =SUM(AE7,+AM7,+BE7) -> 19784778 | BG7: =SUM(BH7,+BM7) -> 598539 | BH7: =SUM(BI7:BL7) -> 598539 | BI7: =SUM(BI$8:BI$57) -> 0 | BJ7: =SUM(BJ$8:BJ$57) -> 598539 | BK7: =SUM(BK$8:BK$57) -> 0 | BL7: =SUM(BL$8:BL$57) -> 0 | BM7: =SUM(BM$8:BM$57) -> 0 | BN7: - | BO7: =SUM(BP7,BU7,BY7,BZ7,CF7) -> 2392701 | BP7: =SUM(BQ7:BT7) -> 325487 | BQ7: =SUM(BQ$8:BQ$57) -> 228406 | BR7: =SUM(BR$8:BR$57) -> 0 | BS7: =SUM(BS$8:BS$57) -> 97081 | BT7: =SUM(BT$8:BT$57) -> 0 | BU7: =SUM(BV7:BX7) -> 1350953 | BV7: =SUM(BV$8:BV$57) -> 0 | BW7: =SUM(BW$8:BW$57) -> 1327890 | BX7: =SUM(BX$8:BX$57) -> 23063 | BY7: =SUM(BY$8:BY$57) -> 0 | BZ7: =SUM(CA7:CD7) -> 716261 | CA7: =SUM(CA$8:CA$57) -> 3207 | CB7: =SUM(CB$8:CB$57) -> 443176 | CC7: =SUM(CC$8:CC$57) -> 75628 | CD7: =SUM(CD$8:CD$57) -> 194250 | CE7: - | CF7: =SUM(CF$8:CF$57) -> 0 | CG7: =SUM(CG$8:CG$57) -> 124326 | CH7: =SUM(BG7,+BO7,+CG7) -> 3115566 | CI7: =SUM(AE7,+BG7) -> 5823878 | CJ7: =SUM(AF7,+BH7) -> 5781797 | CK7: =SUM(AG7,+BI7) -> 0 | CL7: =SUM(AH7,+BJ7) -> 5763688 | CM7: =SUM(AI7,+BK7) -> 18109 | CN7: =SUM(AJ7,+BL7) -> 0 | CO7: =SUM(AK7,+BM7) -> 42081 | CP7: - | CQ7: =SUM(AM7,+BO7) -> 14276138 | CR7: =SUM(AN7,+BP7) -> 1880657 | CS7: =SUM(AO7,+BQ7) -> 1358566 | CT7: =SUM(AP7,+BR7) -> 0 | CU7: =SUM(AQ7,+BS7) -> 504475 | CV7: =SUM(AR7,+BT7) -> 17616 | CW7: =SUM(AS7,+BU7) -> 4944301 | CX7: =SUM(AT7,+BV7) -> 0 | ... DF7: =SUM(BB7,+CD7) -> 296718 | DG7: - | DH7: =SUM(BD7,+CF7) -> 0 | DI7: =SUM(BE7,+CG7) -> 2800328 | DJ7: =SUM(BF7,+CH7) -> 22900344
A8: 愛知県 | B8: 23833 | C8: 愛北広域事務組合 | D8: =SUM(E8,+L8) -> 0 | E8: =SUM(F8:I8)+K8 -> 0 | F8: 0 | G8: 0 | H8: 0 | I8: 0 | J8: 0 | K8: 0 | L8: 0 | M8: =SUM(N8,+U8) -> 20954 | N8: =SUM(O8:R8,T8) -> 0 | O8: 0 | P8: 0 | Q8: 0 | R8: 0 | S8: 333931 | T8: 0 | U8: 20954 | V8: =+SUM(D8,M8) -> 20954 | W8: =+SUM(E8,N8) -> 0 | X8: =+SUM(F8,O8) -> 0 | Y8: =+SUM(G8,P8) -> 0 | Z8: =+SUM(H8,Q8) -> 0 | AA8: =+SUM(I8,R8) -> 0 | AB8: =+SUM(J8,S8) -> 333931 | AC8: =+SUM(K8,T8) -> 0 | AD8: =+SUM(L8,U8) -> 20954 | AE8: =SUM(AF8,+AK8) -> 0 | AF8: =SUM(AG8:AJ8) -> 0 | AG8: 0 | AH8: 0 | AI8: 0 | AJ8: 0 | AK8: 0 | AL8: - | AM8: =SUM(AN8,AS8,AW8,AX8,BD8) -> 0 | AN8: =SUM(AO8:AR8) -> 0 | AO8: 0 | AP8: 0 | AQ8: 0 | AR8: 0 | AS8: =SUM(AT8:AV8) -> 0 | AT8: 0 | AU8: 0 | AV8: 0 | AW8: 0 | AX8: =SUM(AY8:BB8) -> 0 | AY8: 0 | AZ8: 0 | BA8: 0 | BB8: 0 | BC8: - | BD8: 0 | BE8: 0 | BF8: =SUM(AE8,+AM8,+BE8) -> 0 | BG8: =SUM(BH8,+BM8) -> 0 | BH8: =SUM(BI8:BL8) -> 0 | BI8: 0 | BJ8: 0 | BK8: 0 | BL8: 0 | BM8: 0 | BN8: - | BO8: =SUM(BP8,BU8,BY8,BZ8,CF8) -> 337182 | BP8: =SUM(BQ8:BT8) -> 104958 | BQ8: 51969 | BR8: 0 | BS8: 52989 | BT8: 0 | BU8: =SUM(BV8:BX8) -> 0 | BV8: 0 | BW8: 0 | BX8: 0 | BY8: 0 | BZ8: =SUM(CA8:CD8) -> 232224 | CA8: 0 | CB8: 67960 | CC8: 1464 | CD8: 162800 | CE8: - | CF8: 0 | CG8: 17703 | CH8: =SUM(BG8,+BO8,+CG8) -> 354885 | CI8: =SUM(AE8,+BG8) -> 0 | CJ8: =SUM(AF8,+BH8) -> 0 | CK8: =SUM(AG8,+BI8) -> 0 | CL8: =SUM(AH8,+BJ8) -> 0 | CM8: =SUM(AI8,+BK8) -> 0 | CN8: =SUM(AJ8,+BL8) -> 0 | CO8: =SUM(AK8,+BM8) -> 0 | CP8: - | CQ8: =SUM(AM8,+BO8) -> 337182 | CR8: =SUM(AN8,+BP8) -> 104958 | CS8: =SUM(AO8,+BQ8) -> 51969 | CT8: =SUM(AP8,+BR8) -> 0 | CU8: =SUM(AQ8,+BS8) -> 52989 | CV8: =SUM(AR8,+BT8) -> 0 | CW8: =SUM(AS8,+BU8) -> 0 | CX8: =SUM(AT8,+BV8) -> 0 | ... DF8: =SUM(BB8,+CD8) -> 162800 | DG8: - | DH8: =SUM(BD8,+CF8) -> 0 | DI8: =SUM(BE8,+CG8) -> 17703 | DJ8: =SUM(BF8,+CH8) -> 354885
A9: 愛知県 | B9: 23835 | C9: 中部知多衛生組合 | D9: =SUM(E9,+L9) -> 0 | E9: =SUM(F9:I9)+K9 -> 0 | F9: 0 | G9: 0 | H9: 0 | I9: 0 | J9: 0 | K9: 0 | L9: 0 | M9: =SUM(N9,+U9) -> 570162 | N9: =SUM(O9:R9,T9) -> 570162 | O9: 139251 | P9: 0 | Q9: 359100 | R9: 0 | S9: 246463 | T9: 71811 | U9: 0 | V9: =+SUM(D9,M9) -> 570162 | W9: =+SUM(E9,N9) -> 570162 | X9: =+SUM(F9,O9) -> 139251 | Y9: =+SUM(G9,P9) -> 0 | Z9: =+SUM(H9,Q9) -> 359100 | AA9: =+SUM(I9,R9) -> 0 | AB9: =+SUM(J9,S9) -> 246463 | AC9: =+SUM(K9,T9) -> 71811 | AD9: =+SUM(L9,U9) -> 0 | AE9: =SUM(AF9,+AK9) -> 0 | AF9: =SUM(AG9:AJ9) -> 0 | AG9: 0 | AH9: 0 | AI9: 0 | AJ9: 0 | AK9: 0 | AL9: - | AM9: =SUM(AN9,AS9,AW9,AX9,BD9) -> 0 | AN9: =SUM(AO9:AR9) -> 0 | AO9: 0 | AP9: 0 | AQ9: 0 | AR9: 0 | AS9: =SUM(AT9:AV9) -> 0 | AT9: 0 | AU9: 0 | AV9: 0 | AW9: 0 | AX9: =SUM(AY9:BB9) -> 0 | AY9: 0 | AZ9: 0 | BA9: 0 | BB9: 0 | BC9: - | BD9: 0 | BE9: 0 | BF9: =SUM(AE9,+AM9,+BE9) -> 0 | BG9: =SUM(BH9,+BM9) -> 562518 | BH9: =SUM(BI9:BL9) -> 562518 | BI9: 0 | BJ9: 562518 | BK9: 0 | BL9: 0 | BM9: 0 | BN9: - | BO9: =SUM(BP9,BU9,BY9,BZ9,CF9) -> 225468 | BP9: =SUM(BQ9:BT9) -> 27306 | BQ9: 27306 | BR9: 0 | BS9: 0 | BT9: 0 | BU9: =SUM(BV9:BX9) -> 153183 | BV9: 0 | BW9: 130856 | BX9: 22327 | BY9: 0 | BZ9: =SUM(CA9:CD9) -> 44979 | CA9: 0 | CB9: 43549 | CC9: 1430 | CD9: 0 | CE9: - | CF9: 0 | CG9: 28639 | CH9: =SUM(BG9,+BO9,+CG9) -> 816625 | CI9: =SUM(AE9,+BG9) -> 562518 | CJ9: =SUM(AF9,+BH9) -> 562518 | CK9: =SUM(AG9,+BI9) -> 0 | CL9: =SUM(AH9,+BJ9) -> 562518 | CM9: =SUM(AI9,+BK9) -> 0 | CN9: =SUM(AJ9,+BL9) -> 0 | CO9: =SUM(AK9,+BM9) -> 0 | CP9: - | CQ9: =SUM(AM9,+BO9) -> 225468 | CR9: =SUM(AN9,+BP9) -> 27306 | CS9: =SUM(AO9,+BQ9) -> 27306 | CT9: =SUM(AP9,+BR9) -> 0 | CU9: =SUM(AQ9,+BS9) -> 0 | CV9: =SUM(AR9,+BT9) -> 0 | CW9: =SUM(AS9,+BU9) -> 153183 | CX9: =SUM(AT9,+BV9) -> 0 | ... DF9: =SUM(BB9,+CD9) -> 0 | DG9: - | DH9: =SUM(BD9,+CF9) -> 0 | DI9: =SUM(BE9,+CG9) -> 28639 | DJ9: =SUM(BF9,+CH9) -> 816625
A10: 愛知県 | B10: 23837 | C10: 東部知多衛生組合 | D10: =SUM(E10,+L10) -> 445884 | E10: =SUM(F10:I10)+K10 -> 233986 | F10: 0 | G10: 0 | H10: 0 | I10: 233986 | J10: 1066812 | K10: 0 | L10: 211898 | M10: =SUM(N10,+U10) -> 4325 | N10: =SUM(O10:R10,T10) -> 0 | O10: 0 | P10: 0 | Q10: 0 | R10: 0 | S10: 92825 | T10: 0 | U10: 4325 | V10: =+SUM(D10,M10) -> 450209 | W10: =+SUM(E10,N10) -> 233986 | X10: =+SUM(F10,O10) -> 0 | Y10: =+SUM(G10,P10) -> 0 | Z10: =+SUM(H10,Q10) -> 0 | AA10: =+SUM(I10,R10) -> 233986 | AB10: =+SUM(J10,S10) -> 1159637 | AC10: =+SUM(K10,T10) -> 0 | AD10: =+SUM(L10,U10) -> 216223 | AE10: =SUM(AF10,+AK10) -> 0 | AF10: =SUM(AG10:AJ10) -> 0 | AG10: 0 | AH10: 0 | AI10: 0 | AJ10: 0 | AK10: 0 | AL10: - | AM10: =SUM(AN10,AS10,AW10,AX10,BD10) -> 1512696 | AN10: =SUM(AO10:AR10) -> 60946 | AO10: 54851 | AP10: 0 | AQ10: 6095 | AR10: 0 | AS10: =SUM(AT10:AV10) -> 216887 | AT10: 0 | AU10: 209696 | AV10: 7191 | AW10: 0 | AX10: =SUM(AY10:BB10) -> 1234863 | AY10: 0 | AZ10: 1207161 | BA10: 27702 | BB10: 0 | BC10: - | BD10: 0 | BE10: 0 | BF10: =SUM(AE10,+AM10,+BE10) -> 1512696 | BG10: =SUM(BH10,+BM10) -> 0 | BH10: =SUM(BI10:BL10) -> 0 | BI10: 0 | BJ10: 0 | BK10: 0 | BL10: 0 | BM10: 0 | BN10: - | BO10: =SUM(BP10,BU10,BY10,BZ10,CF10) -> 97150 | BP10: =SUM(BQ10:BT10) -> 18283 | BQ10: 12189 | BR10: 0 | BS10: 6094 | BT10: 0 | BU10: =SUM(BV10:BX10) -> 34336 | BV10: 0 | BW10: 34115 | BX10: 221 | BY10: 0 | BZ10: =SUM(CA10:CD10) -> 44531 | CA10: 0 | CB10: 44531 | CC10: 0 | CD10: 0 | CE10: - | CF10: 0 | CG10: 0 | CH10: =SUM(BG10,+BO10,+CG10) -> 97150 | CI10: =SUM(AE10,+BG10) -> 0 | CJ10: =SUM(AF10,+BH10) -> 0 | CK10: =SUM(AG10,+BI10) -> 0 | CL10: =SUM(AH10,+BJ10) -> 0 | CM10: =SUM(AI10,+BK10) -> 0 | CN10: =SUM(AJ10,+BL10) -> 0 | CO10: =SUM(AK10,+BM10) -> 0 | CP10: - | CQ10: =SUM(AM10,+BO10) -> 1609846 | CR10: =SUM(AN10,+BP10) -> 79229 | CS10: =SUM(AO10,+BQ10) -> 67040 | CT10: =SUM(AP10,+BR10) -> 0 | CU10: =SUM(AQ10,+BS10) -> 12189 | CV10: =SUM(AR10,+BT10) -> 0 | CW10: =SUM(AS10,+BU10) -> 251223 | CX10: =SUM(AT10,+BV10) -> 0 | ... DF10: =SUM(BB10,+CD10) -> 0 | DG10: - | DH10: =SUM(BD10,+CF10) -> 0 | DI10: =SUM(BE10,+CG10) -> 0 | DJ10: =SUM(BF10,+CH10) -> 1609846
A11: 愛知県 | B11: 23838 | C11: 衣浦衛生組合 | D11: =SUM(E11,+L11) -> 531311 | E11: =SUM(F11:I11)+K11 -> 476608 | F11: 0 | G11: 0 | H11: 170400 | I11: 182663 | J11: 1280756 | K11: 123545 | L11: 54703 | M11: =SUM(N11,+U11) -> 0 | N11: =SUM(O11:R11,T11) -> 0 | O11: 0 | P11: 0 | Q11: 0 | R11: 0 | S11: 0 | T11: 0 | U11: 0 | V11: =+SUM(D11,M11) -> 531311 | W11: =+SUM(E11,N11) -> 476608 | X11: =+SUM(F11,O11) -> 0 | Y11: =+SUM(G11,P11) -> 0 | Z11: =+SUM(H11,Q11) -> 170400 | AA11: =+SUM(I11,R11) -> 182663 | AB11: =+SUM(J11,S11) -> 1280756 | AC11: =+SUM(K11,T11) -> 123545 | AD11: =+SUM(L11,U11) -> 54703 | AE11: =SUM(AF11,+AK11) -> 341230 | AF11: =SUM(AG11:AJ11) -> 341230 | AG11: 0 | AH11: 341230 | AI11: 0 | AJ11: 0 | AK11: 0 | AL11: - | AM11: =SUM(AN11,AS11,AW11,AX11,BD11) -> 1228376 | AN11: =SUM(AO11:AR11) -> 91703 | AO11: 91703 | AP11: 0 | AQ11: 0 | AR11: 0 | AS11: =SUM(AT11:AV11) -> 594031 | AT11: 0 | AU11: 594031 | AV11: 0 | AW11: 0 | AX11: =SUM(AY11:BB11) -> 542642 | AY11: 0 | AZ11: 450468 | BA11: 92174 | BB11: 0 | BC11: - | BD11: 0 | BE11: 242461 | BF11: =SUM(AE11,+AM11,+BE11) -> 1812067 | BG11: =SUM(BH11,+BM11) -> 0 | BH11: =SUM(BI11:BL11) -> 0 | BI11: 0 | BJ11: 0 | BK11: 0 | BL11: 0 | BM11: 0 | BN11: - | BO11: =SUM(BP11,BU11,BY11,BZ11,CF11) -> 0 | BP11: =SUM(BQ11:BT11) -> 0 | BQ11: 0 | BR11: 0 | BS11: 0 | BT11: 0 | BU11: =SUM(BV11:BX11) -> 0 | BV11: 0 | BW11: 0 | BX11: 0 | BY11: 0 | BZ11: =SUM(CA11:CD11) -> 0 | CA11: 0 | CB11: 0 | CC11: 0 | CD11: 0 | CE11: - | CF11: 0 | CG11: 0 | CH11: =SUM(BG11,+BO11,+CG11) -> 0 | CI11: =SUM(AE11,+BG11) -> 341230 | CJ11: =SUM(AF11,+BH11) -> 341230 | CK11: =SUM(AG11,+BI11) -> 0 | CL11: =SUM(AH11,+BJ11) -> 341230 | CM11: =SUM(AI11,+BK11) -> 0 | CN11: =SUM(AJ11,+BL11) -> 0 | CO11: =SUM(AK11,+BM11) -> 0 | CP11: - | CQ11: =SUM(AM11,+BO11) -> 1228376 | CR11: =SUM(AN11,+BP11) -> 91703 | CS11: =SUM(AO11,+BQ11) -> 91703 | CT11: =SUM(AP11,+BR11) -> 0 | CU11: =SUM(AQ11,+BS11) -> 0 | CV11: =SUM(AR11,+BT11) -> 0 | CW11: =SUM(AS11,+BU11) -> 594031 | CX11: =SUM(AT11,+BV11) -> 0 | ... DF11: =SUM(BB11,+CD11) -> 0 | DG11: - | DH11: =SUM(BD11,+CF11) -> 0 | DI11: =SUM(BE11,+CG11) -> 242461 | DJ11: =SUM(BF11,+CH11) -> 1812067
A12: 愛知県 | B12: 23841 | C12: 常滑武豊衛生組合 | D12: =SUM(E12,+L12) -> 68330 | E12: =SUM(F12:I12)+K12 -> 68330 | F12: 42006 | G12: 0 | H12: 0 | I12: 0 | J12: 87490 | K12: 26324 | L12: 0 | M12: =SUM(N12,+U12) -> 0 | N12: =SUM(O12:R12,T12) -> 0 | O12: 0 | P12: 0 | Q12: 0 | R12: 0 | S12: 0 | T12: 0 | U12: 0 | V12: =+SUM(D12,M12) -> 68330 | W12: =+SUM(E12,N12) -> 68330 | X12: =+SUM(F12,O12) -> 42006 | Y12: =+SUM(G12,P12) -> 0 | Z12: =+SUM(H12,Q12) -> 0 | AA12: =+SUM(I12,R12) -> 0 | AB12: =+SUM(J12,S12) -> 87490 | AC12: =+SUM(K12,T12) -> 26324 | AD12: =+SUM(L12,U12) -> 0 | AE12: =SUM(AF12,+AK12) -> 110661 | AF12: =SUM(AG12:AJ12) -> 100706 | AG12: 0 | AH12: 100706 | AI12: 0 | AJ12: 0 | AK12: 9955 | AL12: - | AM12: =SUM(AN12,AS12,AW12,AX12,BD12) -> 0 | AN12: =SUM(AO12:AR12) -> 0 | AO12: 0 | AP12: 0 | AQ12: 0 | AR12: 0 | AS12: =SUM(AT12:AV12) -> 0 | AT12: 0 | AU12: 0 | AV12: 0 | AW12: 0 | AX12: =SUM(AY12:BB12) -> 0 | AY12: 0 | AZ12: 0 | BA12: 0 | BB12: 0 | BC12: - | BD12: 0 | BE12: 45159 | BF12: =SUM(AE12,+AM12,+BE12) -> 155820 | BG12: =SUM(BH12,+BM12) -> 0 | BH12: =SUM(BI12:BL12) -> 0 | BI12: 0 | BJ12: 0 | BK12: 0 | BL12: 0 | BM12: 0 | BN12: - | BO12: =SUM(BP12,BU12,BY12,BZ12,CF12) -> 0 | BP12: =SUM(BQ12:BT12) -> 0 | BQ12: 0 | BR12: 0 | BS12: 0 | BT12: 0 | BU12: =SUM(BV12:BX12) -> 0 | BV12: 0 | BW12: 0 | BX12: 0 | BY12: 0 | BZ12: =SUM(CA12:CD12) -> 0 | CA12: 0 | CB12: 0 | CC12: 0 | CD12: 0 | CE12: - | CF12: 0 | CG12: 0 | CH12: =SUM(BG12,+BO12,+CG12) -> 0 | CI12: =SUM(AE12,+BG12) -> 110661 | CJ12: =SUM(AF12,+BH12) -> 100706 | CK12: =SUM(AG12,+BI12) -> 0 | CL12: =SUM(AH12,+BJ12) -> 100706 | CM12: =SUM(AI12,+BK12) -> 0 | CN12: =SUM(AJ12,+BL12) -> 0 | CO12: =SUM(AK12,+BM12) -> 9955 | CP12: - | CQ12: =SUM(AM12,+BO12) -> 0 | CR12: =SUM(AN12,+BP12) -> 0 | CS12: =SUM(AO12,+BQ12) -> 0 | CT12: =SUM(AP12,+BR12) -> 0 | CU12: =SUM(AQ12,+BS12) -> 0 | CV12: =SUM(AR12,+BT12) -> 0 | CW12: =SUM(AS12,+BU12) -> 0 | CX12: =SUM(AT12,+BV12) -> 0 | ... DF12: =SUM(BB12,+CD12) -> 0 | DG12: - | DH12: =SUM(BD12,+CF12) -> 0 | DI12: =SUM(BE12,+CG12) -> 45159 | DJ12: =SUM(BF12,+CH12) -> 155820
A13: 愛知県 | B13: 23842 | C13: 蒲郡市幸田町衛生組合 | D13: =SUM(E13,+L13) -> 0 | E13: =SUM(F13:I13)+K13 -> 0 | F13: 0 | G13: 0 | H13: 0 | I13: 0 | J13: 0 | K13: 0 | L13: 0 | M13: =SUM(N13,+U13) -> 4565 | N13: =SUM(O13:R13,T13) -> 4474 | O13: 0 | P13: 0 | Q13: 0 | R13: 4474 | S13: 123807 | T13: 0 | U13: 91 | V13: =+SUM(D13,M13) -> 4565 | W13: =+SUM(E13,N13) -> 4474 | X13: =+SUM(F13,O13) -> 0 | Y13: =+SUM(G13,P13) -> 0 | Z13: =+SUM(H13,Q13) -> 0 | AA13: =+SUM(I13,R13) -> 4474 | AB13: =+SUM(J13,S13) -> 123807 | AC13: =+SUM(K13,T13) -> 0 | AD13: =+SUM(L13,U13) -> 91 | AE13: =SUM(AF13,+AK13) -> 0 | AF13: =SUM(AG13:AJ13) -> 0 | AG13: 0 | AH13: 0 | AI13: 0 | AJ13: 0 | AK13: 0 | AL13: - | AM13: =SUM(AN13,AS13,AW13,AX13,BD13) -> 0 | AN13: =SUM(AO13:AR13) -> 0 | AO13: 0 | AP13: 0 | AQ13: 0 | AR13: 0 | AS13: =SUM(AT13:AV13) -> 0 | AT13: 0 | AU13: 0 | AV13: 0 | AW13: 0 | AX13: =SUM(AY13:BB13) -> 0 | AY13: 0 | AZ13: 0 | BA13: 0 | BB13: 0 | BC13: - | BD13: 0 | BE13: 0 | BF13: =SUM(AE13,+AM13,+BE13) -> 0 | BG13: =SUM(BH13,+BM13) -> 0 | BH13: =SUM(BI13:BL13) -> 0 | BI13: 0 | BJ13: 0 | BK13: 0 | BL13: 0 | BM13: 0 | BN13: - | BO13: =SUM(BP13,BU13,BY13,BZ13,CF13) -> 128372 | BP13: =SUM(BQ13:BT13) -> 3640 | BQ13: 0 | BR13: 0 | BS13: 3640 | BT13: 0 | BU13: =SUM(BV13:BX13) -> 83476 | BV13: 0 | BW13: 83476 | BX13: 0 | BY13: 0 | BZ13: =SUM(CA13:CD13) -> 41256 | CA13: 0 | CB13: 41256 | CC13: 0 | CD13: 0 | CE13: - | CF13: 0 | CG13: 0 | CH13: =SUM(BG13,+BO13,+CG13) -> 128372 | CI13: =SUM(AE13,+BG13) -> 0 | CJ13: =SUM(AF13,+BH13) -> 0 | CK13: =SUM(AG13,+BI13) -> 0 | CL13: =SUM(AH13,+BJ13) -> 0 | CM13: =SUM(AI13,+BK13) -> 0 | CN13: =SUM(AJ13,+BL13) -> 0 | CO13: =SUM(AK13,+BM13) -> 0 | CP13: - | CQ13: =SUM(AM13,+BO13) -> 128372 | CR13: =SUM(AN13,+BP13) -> 3640 | CS13: =SUM(AO13,+BQ13) -> 0 | CT13: =SUM(AP13,+BR13) -> 0 | CU13: =SUM(AQ13,+BS13) -> 3640 | CV13: =SUM(AR13,+BT13) -> 0 | CW13: =SUM(AS13,+BU13) -> 83476 | CX13: =SUM(AT13,+BV13) -> 0 | ... DF13: =SUM(BB13,+CD13) -> 0 | DG13: - | DH13: =SUM(BD13,+CF13) -> 0 | DI13: =SUM(BE13,+CG13) -> 0 | DJ13: =SUM(BF13,+CH13) -> 128372
A14: 愛知県 | B14: 23846 | C14: 西知多医療厚生組合 | D14: =SUM(E14,+L14) -> 3798214 | E14: =SUM(F14:I14)+K14 -> 3043964 | F14: 1125960 | G14: 0 | H14: 1918000 | I14: 0 | J14: 17658 | K14: 4 | L14: 754250 | M14: =SUM(N14,+U14) -> 33412 | N14: =SUM(O14:R14,T14) -> 12571 | O14: 0 | P14: 0 | Q14: 0 | R14: 0 | S14: 223267 | T14: 12571 | U14: 20841 | V14: =+SUM(D14,M14) -> 3831626 | W14: =+SUM(E14,N14) -> 3056535 | X14: =+SUM(F14,O14) -> 1125960 | Y14: =+SUM(G14,P14) -> 0 | Z14: =+SUM(H14,Q14) -> 1918000 | AA14: =+SUM(I14,R14) -> 0 | AB14: =+SUM(J14,S14) -> 240925 | AC14: =+SUM(K14,T14) -> 12575 | AD14: =+SUM(L14,U14) -> 775091 | AE14: =SUM(AF14,+AK14) -> 3587184 | AF14: =SUM(AG14:AJ14) -> 3568735 | AG14: 0 | AH14: 3568735 | AI14: 0 | AJ14: 0 | AK14: 18449 | AL14: - | AM14: =SUM(AN14,AS14,AW14,AX14,BD14) -> 0 | AN14: =SUM(AO14:AR14) -> 0 | AO14: 0 | AP14: 0 | AQ14: 0 | AR14: 0 | AS14: =SUM(AT14:AV14) -> 0 | AT14: 0 | AU14: 0 | AV14: 0 | AW14: 0 | AX14: =SUM(AY14:BB14) -> 0 | AY14: 0 | AZ14: 0 | BA14: 0 | BB14: 0 | BC14: - | BD14: 0 | BE14: 228688 | BF14: =SUM(AE14,+AM14,+BE14) -> 3815872 | BG14: =SUM(BH14,+BM14) -> 0 | BH14: =SUM(BI14:BL14) -> 0 | BI14: 0 | BJ14: 0 | BK14: 0 | BL14: 0 | BM14: 0 | BN14: - | BO14: =SUM(BP14,BU14,BY14,BZ14,CF14) -> 234447 | BP14: =SUM(BQ14:BT14) -> 30370 | BQ14: 22360 | BR14: 0 | BS14: 8010 | BT14: 0 | BU14: =SUM(BV14:BX14) -> 194396 | BV14: 0 | BW14: 193881 | BX14: 515 | BY14: 0 | BZ14: =SUM(CA14:CD14) -> 9681 | CA14: 0 | CB14: 8932 | CC14: 749 | CD14: 0 | CE14: - | CF14: 0 | CG14: 22232 | CH14: =SUM(BG14,+BO14,+CG14) -> 256679 | CI14: =SUM(AE14,+BG14) -> 3587184 | CJ14: =SUM(AF14,+BH14) -> 3568735 | CK14: =SUM(AG14,+BI14) -> 0 | CL14: =SUM(AH14,+BJ14) -> 3568735 | CM14: =SUM(AI14,+BK14) -> 0 | CN14: =SUM(AJ14,+BL14) -> 0 | CO14: =SUM(AK14,+BM14) -> 18449 | CP14: - | CQ14: =SUM(AM14,+BO14) -> 234447 | CR14: =SUM(AN14,+BP14) -> 30370 | CS14: =SUM(AO14,+BQ14) -> 22360 | CT14: =SUM(AP14,+BR14) -> 0 | CU14: =SUM(AQ14,+BS14) -> 8010 | CV14: =SUM(AR14,+BT14) -> 0 | CW14: =SUM(AS14,+BU14) -> 194396 | CX14: =SUM(AT14,+BV14) -> 0 | ... DF14: =SUM(BB14,+CD14) -> 0 | DG14: - | DH14: =SUM(BD14,+CF14) -> 0 | DI14: =SUM(BE14,+CG14) -> 250920 | DJ14: =SUM(BF14,+CH14) -> 4072551
A15: 愛知県 | B15: 23848 | C15: 尾張東部衛生組合 | D15: =SUM(E15,+L15) -> 1022657 | E15: =SUM(F15:I15)+K15 -> 405957 | F15: 0 | G15: 0 | H15: 0 | I15: 405957 | J15: 610296 | K15: 0 | L15: 616700 | M15: =SUM(N15,+U15) -> 0 | N15: =SUM(O15:R15,T15) -> 0 | O15: 0 | P15: 0 | Q15: 0 | R15: 0 | S15: 0 | T15: 0 | U15: 0 | V15: =+SUM(D15,M15) -> 1022657 | W15: =+SUM(E15,N15) -> 405957 | X15: =+SUM(F15,O15) -> 0 | Y15: =+SUM(G15,P15) -> 0 | Z15: =+SUM(H15,Q15) -> 0 | AA15: =+SUM(I15,R15) -> 405957 | AB15: =+SUM(J15,S15) -> 610296 | AC15: =+SUM(K15,T15) -> 0 | AD15: =+SUM(L15,U15) -> 616700 | AE15: =SUM(AF15,+AK15) -> 6711 | AF15: =SUM(AG15:AJ15) -> 6711 | AG15: 0 | AH15: 6711 | AI15: 0 | AJ15: 0 | AK15: 0 | AL15: - | AM15: =SUM(AN15,AS15,AW15,AX15,BD15) -> 1127078 | AN15: =SUM(AO15:AR15) -> 280543 | AO15: 104095 | AP15: 0 | AQ15: 176448 | AR15: 0 | AS15: =SUM(AT15:AV15) -> 645093 | AT15: 0 | AU15: 583415 | AV15: 61678 | AW15: 0 | AX15: =SUM(AY15:BB15) -> 201442 | AY15: 0 | AZ15: 44484 | BA15: 148944 | BB15: 8014 | BC15: - | BD15: 0 | BE15: 499164 | BF15: =SUM(AE15,+AM15,+BE15) -> 1632953 | BG15: =SUM(BH15,+BM15) -> 0 | BH15: =SUM(BI15:BL15) -> 0 | BI15: 0 | BJ15: 0 | BK15: 0 | BL15: 0 | BM15: 0 | BN15: - | BO15: =SUM(BP15,BU15,BY15,BZ15,CF15) -> 0 | BP15: =SUM(BQ15:BT15) -> 0 | BQ15: 0 | BR15: 0 | BS15: 0 | BT15: 0 | BU15: =SUM(BV15:BX15) -> 0 | BV15: 0 | BW15: 0 | BX15: 0 | BY15: 0 | BZ15: =SUM(CA15:CD15) -> 0 | CA15: 0 | CB15: 0 | CC15: 0 | CD15: 0 | CE15: - | CF15: 0 | CG15: 0 | CH15: =SUM(BG15,+BO15,+CG15) -> 0 | CI15: =SUM(AE15,+BG15) -> 6711 | CJ15: =SUM(AF15,+BH15) -> 6711 | CK15: =SUM(AG15,+BI15) -> 0 | CL15: =SUM(AH15,+BJ15) -> 6711 | CM15: =SUM(AI15,+BK15) -> 0 | CN15: =SUM(AJ15,+BL15) -> 0 | CO15: =SUM(AK15,+BM15) -> 0 | CP15: - | CQ15: =SUM(AM15,+BO15) -> 1127078 | CR15: =SUM(AN15,+BP15) -> 280543 | CS15: =SUM(AO15,+BQ15) -> 104095 | CT15: =SUM(AP15,+BR15) -> 0 | CU15: =SUM(AQ15,+BS15) -> 176448 | CV15: =SUM(AR15,+BT15) -> 0 | CW15: =SUM(AS15,+BU15) -> 645093 | CX15: =SUM(AT15,+BV15) -> 0 | ... DF15: =SUM(BB15,+CD15) -> 8014 | DG15: - | DH15: =SUM(BD15,+CF15) -> 0 | DI15: =SUM(BE15,+CG15) -> 499164 | DJ15: =SUM(BF15,+CH15) -> 1632953
A16: 愛知県 | B16: 23849 | C16: 海部地区環境事務組合 | D16: =SUM(E16,+L16) -> 659526 | E16: =SUM(F16:I16)+K16 -> 579566 | F16: 0 | G16: 0 | H16: 0 | I16: 316803 | J16: 1326732 | K16: 262763 | L16: 79960 | M16: =SUM(N16,+U16) -> 0 | N16: =SUM(O16:R16,T16) -> 0 | O16: 0 | P16: 0 | Q16: 0 | R16: 0 | S16: 347914 | T16: 0 | U16: 0 | V16: =+SUM(D16,M16) -> 659526 | W16: =+SUM(E16,N16) -> 579566 | X16: =+SUM(F16,O16) -> 0 | Y16: =+SUM(G16,P16) -> 0 | Z16: =+SUM(H16,Q16) -> 0 | AA16: =+SUM(I16,R16) -> 316803 | AB16: =+SUM(J16,S16) -> 1674646 | AC16: =+SUM(K16,T16) -> 262763 | AD16: =+SUM(L16,U16) -> 79960 | AE16: =SUM(AF16,+AK16) -> 262658 | AF16: =SUM(AG16:AJ16) -> 262658 | AG16: 0 | AH16: 262658 | AI16: 0 | AJ16: 0 | AK16: 0 | AL16: - | AM16: =SUM(AN16,AS16,AW16,AX16,BD16) -> 1605755 | AN16: =SUM(AO16:AR16) -> 126927 | AO16: 126927 | AP16: 0 | AQ16: 0 | AR16: 0 | AS16: =SUM(AT16:AV16) -> 381272 | AT16: 0 | AU16: 282723 | AV16: 98549 | AW16: 0 | AX16: =SUM(AY16:BB16) -> 1097556 | AY16: 0 | AZ16: 830340 | BA16: 267216 | BB16: 0 | BC16: - | BD16: 0 | BE16: 117845 | BF16: =SUM(AE16,+AM16,+BE16) -> 1986258 | BG16: =SUM(BH16,+BM16) -> 25351 | BH16: =SUM(BI16:BL16) -> 25351 | BI16: 0 | BJ16: 25351 | BK16: 0 | BL16: 0 | BM16: 0 | BN16: - | BO16: =SUM(BP16,BU16,BY16,BZ16,CF16) -> 296236 | BP16: =SUM(BQ16:BT16) -> 66403 | BQ16: 66403 | BR16: 0 | BS16: 0 | BT16: 0 | BU16: =SUM(BV16:BX16) -> 123675 | BV16: 0 | BW16: 123675 | BX16: 0 | BY16: 0 | BZ16: =SUM(CA16:CD16) -> 106158 | CA16: 0 | CB16: 34638 | CC16: 71520 | CD16: 0 | CE16: - | CF16: 0 | CG16: 26327 | CH16: =SUM(BG16,+BO16,+CG16) -> 347914 | CI16: =SUM(AE16,+BG16) -> 288009 | CJ16: =SUM(AF16,+BH16) -> 288009 | CK16: =SUM(AG16,+BI16) -> 0 | CL16: =SUM(AH16,+BJ16) -> 288009 | CM16: =SUM(AI16,+BK16) -> 0 | CN16: =SUM(AJ16,+BL16) -> 0 | CO16: =SUM(AK16,+BM16) -> 0 | CP16: - | CQ16: =SUM(AM16,+BO16) -> 1901991 | CR16: =SUM(AN16,+BP16) -> 193330 | CS16: =SUM(AO16,+BQ16) -> 193330 | CT16: =SUM(AP16,+BR16) -> 0 | CU16: =SUM(AQ16,+BS16) -> 0 | CV16: =SUM(AR16,+BT16) -> 0 | CW16: =SUM(AS16,+BU16) -> 504947 | CX16: =SUM(AT16,+BV16) -> 0 | ... DF16: =SUM(BB16,+CD16) -> 0 | DG16: - | DH16: =SUM(BD16,+CF16) -> 0 | DI16: =SUM(BE16,+CG16) -> 144172 | DJ16: =SUM(BF16,+CH16) -> 2334172
A17: 愛知県 | B17: 23851 | C17: 小牧岩倉衛生組合 | D17: =SUM(E17,+L17) -> 360522 | E17: =SUM(F17:I17)+K17 -> 266830 | F17: 0 | G17: 0 | H17: 0 | I17: 266819 | J17: 1364044 | K17: 11 | L17: 93692 | M17: =SUM(N17,+U17) -> 0 | N17: =SUM(O17:R17,T17) -> 0 | O17: 0 | P17: 0 | Q17: 0 | R17: 0 | S17: 0 | T17: 0 | U17: 0 | V17: =+SUM(D17,M17) -> 360522 | W17: =+SUM(E17,N17) -> 266830 | X17: =+SUM(F17,O17) -> 0 | Y17: =+SUM(G17,P17) -> 0 | Z17: =+SUM(H17,Q17) -> 0 | AA17: =+SUM(I17,R17) -> 266819 | AB17: =+SUM(J17,S17) -> 1364044 | AC17: =+SUM(K17,T17) -> 11 | AD17: =+SUM(L17,U17) -> 93692 | AE17: =SUM(AF17,+AK17) -> 18109 | AF17: =SUM(AG17:AJ17) -> 18109 | AG17: 0 | AH17: 0 | AI17: 18109 | AJ17: 0 | AK17: 0 | AL17: - | AM17: =SUM(AN17,AS17,AW17,AX17,BD17) -> 1686521 | AN17: =SUM(AO17:AR17) -> 318371 | AO17: 311299 | AP17: 0 | AQ17: 7072 | AR17: 0 | AS17: =SUM(AT17:AV17) -> 497859 | AT17: 0 | AU17: 479681 | AV17: 18178 | AW17: 0 | AX17: =SUM(AY17:BB17) -> 870291 | AY17: 16598 | AZ17: 763951 | BA17: 50005 | BB17: 39737 | BC17: - | BD17: 0 | BE17: 19936 | BF17: =SUM(AE17,+AM17,+BE17) -> 1724566 | BG17: =SUM(BH17,+BM17) -> 0 | BH17: =SUM(BI17:BL17) -> 0 | BI17: 0 | BJ17: 0 | BK17: 0 | BL17: 0 | BM17: 0 | BN17: - | BO17: =SUM(BP17,BU17,BY17,BZ17,CF17) -> 0 | BP17: =SUM(BQ17:BT17) -> 0 | BQ17: 0 | BR17: 0 | BS17: 0 | BT17: 0 | BU17: =SUM(BV17:BX17) -> 0 | BV17: 0 | BW17: 0 | BX17: 0 | BY17: 0 | BZ17: =SUM(CA17:CD17) -> 0 | CA17: 0 | CB17: 0 | CC17: 0 | CD17: 0 | CE17: - | CF17: 0 | CG17: 0 | CH17: =SUM(BG17,+BO17,+CG17) -> 0 | CI17: =SUM(AE17,+BG17) -> 18109 | CJ17: =SUM(AF17,+BH17) -> 18109 | CK17: =SUM(AG17,+BI17) -> 0 | CL17: =SUM(AH17,+BJ17) -> 0 | CM17: =SUM(AI17,+BK17) -> 18109 | CN17: =SUM(AJ17,+BL17) -> 0 | CO17: =SUM(AK17,+BM17) -> 0 | CP17: - | CQ17: =SUM(AM17,+BO17) -> 1686521 | CR17: =SUM(AN17,+BP17) -> 318371 | CS17: =SUM(AO17,+BQ17) -> 311299 | CT17: =SUM(AP17,+BR17) -> 0 | CU17: =SUM(AQ17,+BS17) -> 7072 | CV17: =SUM(AR17,+BT17) -> 0 | CW17: =SUM(AS17,+BU17) -> 497859 | CX17: =SUM(AT17,+BV17) -> 0 | ... DF17: =SUM(BB17,+CD17) -> 39737 | DG17: - | DH17: =SUM(BD17,+CF17) -> 0 | DI17: =SUM(BE17,+CG17) -> 19936 | DJ17: =SUM(BF17,+CH17) -> 1724566
