Workbook

Sheet 廃棄物事業経費（市町村）
A1: 廃棄物処理事業経費（市区町村の合計）（令和4年度実績）
A2: 都道府県名 | B2: 地方公共団体コード | C2: 市区町村名 | D2: ごみ | M2: し尿 | V2: 合計 | AE2: ごみ（建設改良費＋処理維持管理費＋その他）（組合分担金を除く） | BG2: し尿（建設改良費＋処理維持管理費＋その他）（組合分担金を除く） | CI2: 合計（建設改良費＋処理維持管理費＋その他）（組合分担金を除く）
D3: 合計 (特定財源(市区町村分担金を除く)+一般財源) | M3: 合計 (特定財源(市区町村分担金を除く)+一般財源) | V3: 合計 (特定財源(市区町村分担金を除く)+一般財源) | AE3: 建設改良費 (工事費+調査費)(組合分担金を除く) | AM3: 処理及び維持管理費 (人件費+処理費+車両購入費+委託費+調査研究費)(組合分担金を除く) | BE3: その他 | BF3: 合計 | BG3: 建設改良費 (収集運搬施設+工事費+調査費)(組合分担金を除く) | BO3: 処理及び維持管理費 (人件費+処理費+車両購入費+委託費+調査研究費)(組合分担金を除く) | CG3: その他 | CH3: 合計 | CI3: 建設改良費 (工事費+調査費)(組合分担金を除く) | CQ3: 処理及び維持管理費 (人件費+処理費+車両購入費+委託費+調査研究費)(組合分担金を除く) | DI3: その他 | DJ3: 合計
E4: 特定財源 (市区町村分担金を除く) | L4: 一般財源 | N4: 特定財源 (市区町村分担金を除く) | U4: 一般財源 | W4: 特定財源 (市区町村分担金を除く) | AD4: 一般財源 | AE4: 合計 | AF4: 工事費 (収集運搬施設+中間処理施設+最終処分場+その他) | AK4: 調査費 | AL4: （建設改良費組合分担金） | AM4: 合計 | AN4: 人件費（一般職＋収集運搬＋中間処理＋最終処分） | AS4: 処理費 (収集運搬費+中間処理費+最終処分費) | AW4: 車両等購入費 | AX4: 委託費 (収集運搬費+中間処理費+最終処分費+その他) | BC4: (組合分担金) | BD4: 調査研究費 | BG4: 合計 | BH4: 工事費 (収集運搬施設+中間処理施設+最終処分場+その他) | BM4: 調査費 | BN4: （建設改良費組合分担金） | BO4: 合計 | BP4: 人件費（一般職＋収集運搬＋中間処理＋最終処分） | BU4: 処理費 (収集運搬費+中間処理費+最終処分費) | BY4: 車両等購入費 | BZ4: 委託費 (収集運搬費+中間処理費+最終処分費+その他) | CE4: (組合分担金) | CF4: 調査研究費 | CI4: 合計 | CJ4: 工事費 (収集運搬施設+中間処理施設+最終処分場+その他) | CO4: 調査費 | CP4: （建設改良費組合分担金） | CQ4: 合計 | CR4: 人件費（一般職＋収集運搬＋中間処理＋最終処分） | CW4: 処理費 (収集運搬費+中間処理費+最終処分費) | DA4: 車両等購入費 | DB4: 委託費 (収集運搬費+中間処理費+最終処分費+その他) | DG4: (組合分担金) | DH4: 調査研究費
F5: 国庫支出金 | G5: 都道府県 支出金 | H5: 地方債 | I5: 使用料及び 手数料 | J5: （市区町村 分担金） | K5: その他 | O5: 国庫支出金 | P5: 都道府県 支出金 | Q5: 地方債 | R5: 使用料及び 手数料 | S5: （市区町村 分担金） | T5: その他 | X5: 国庫支出金 | Y5: 都道府県 支出金 | Z5: 地方債 | AA5: 使用料及び 手数料 | AB5: （市区町村 分担金） | AC5: その他 | AF5: 合計 | AG5: 収集運搬施設 | AH5: 中間処理施設 | AI5: 最終処分場 | AJ5: その他 | AO5: 一般職 | AP5: 収集運搬 | AQ5: 中間処理 | AR5: 最終処分 | AS5: 合計 | AT5: 収集運搬費 | AU5: 中間処理費 | AV5: 最終処分費 | AY5: 収集運搬費 | AZ5: 中間処理費 | BA5: 最終処分費 | BB5: その他 | BH5: 合計 | BI5: 収集運搬施設 | BJ5: 中間処理施設 | BK5: 最終処分場 | BL5: その他 | BQ5: 一般職 | BR5: 収集運搬 | BS5: 中間処理 | BT5: 最終処分 | BU5: 合計 | BV5: 収集運搬費 | BW5: 中間処理費 | BX5: 最終処分費 | CA5: 収集運搬費 | CB5: 中間処理費 | CC5: 最終処分費 | CD5: その他 | CJ5: 合計 | CK5: 収集運搬施設 | CL5: 中間処理施設 | CM5: 最終処分場 | CN5: その他 | CS5: 一般職 | CT5: 収集運搬 | CU5: 中間処理 | CV5: 最終処分 | CW5: 合計 | CX5: 収集運搬費 | CY5: 中間処理費 | CZ5: 最終処分費 | DC5: 収集運搬費 | DD5: 中間処理費 | DE5: 最終処分費 | DF5: その他
D6: （千円） | E6: （千円） | F6: （千円） | G6: （千円） | H6: （千円） | I6: （千円） | J6: （千円） | K6: （千円） | L6: （千円） | M6: （千円） | N6: （千円） | O6: （千円） | P6: （千円） | Q6: （千円） | R6: （千円） | S6: （千円） | T6: （千円） | U6: （千円） | V6: （千円） | W6: （千円） | X6: （千円） | Y6: （千円） | Z6: （千円） | AA6: （千円） | AB6: （千円） | AC6: （千円） | AD6: （千円） | AE6: （千円） | AF6: （千円） | AG6: （千円） | AH6: （千円） | AI6: （千円） | AJ6: （千円） | AK6: （千円） | AL6: （千円） | AM6: （千円） | AN6: （千円） | AO6: （千円） | AP6: （千円） | AQ6: （千円） | AR6: （千円） | AS6: （千円） | AT6: （千円） | AU6: （千円） | AV6: （千円） | AW6: （千円） | AX6: （千円） | AY6: （千円） | AZ6: （千円） | BA6: （千円） | BB6: （千円） | BC6: （千円） | BD6: （千円） | BE6: （千円） | BF6: （千円） | BG6: （千円） | BH6: （千円） | BI6: （千円） | BJ6: （千円） | BK6: （千円） | BL6: （千円） | BM6: （千円） | BN6: （千円） | BO6: （千円） | BP6: （千円） | BQ6: （千円） | BR6: （千円） | BS6: （千円） | BT6: （千円） | BU6: （千円） | BV6: （千円） | BW6: （千円） | BX6: （千円） | BY6: （千円） | BZ6: （千円） | CA6: （千円） | CB6: （千円） | CC6: （千円） | CD6: （千円） | CE6: （千円） | CF6: （千円） | CG6: （千円） | CH6: （千円） | CI6: （千円） | CJ6: （千円） | CK6: （千円） | CL6: （千円） | CM6: （千円） | CN6: （千円） | CO6: （千円） | CP6: （千円） | CQ6: （千円） | CR6: （千円） | CS6: （千円） | CT6: （千円） | CU6: （千円） | CV6: （千円） | CW6: （千円） | CX6: （千円） | CY6: （千円） | CZ6: （千円） | DA6: （千円） | DB6: （千円） | DC6: （千円） | DD6: （千円） | DE6: （千円） | DF6: （千円） | DG6: （千円） | DH6: （千円） | DI6: （千円） | DJ6: （千円）
A7: 愛知県 | B7: 23000 | C7: 合計 | D7: =SUM(E7,+L7) -> 105575315 | E7: =SUM(F7:I7,K7) -> 23639740 | F7: =SUM(F$8:F$207) -> 1484406 | G7: =SUM(G$8:G$207) -> 18415 | H7: =SUM(H$8:H$207) -> 4086123 | I7: =SUM(I$8:I$207) -> 9705365 | J7: - | K7: =SUM(K$8:K$207) -> 8345431 | L7: =SUM(L$8:L$207) -> 81935575 | M7: =SUM(N7,+U7) -> 8436215 | N7: =SUM(O7:R7,T7) -> 1111161 | O7: =SUM(O$8:O$207) -> 133192 | P7: =SUM(P$8:P$207) -> 19470 | Q7: =SUM(Q$8:Q$207) -> 76677 | R7: =SUM(R$8:R$207) -> 481358 | S7: - | T7: =SUM(T$8:T$207) -> 400464 | U7: =SUM(U$8:U$207) -> 7325054 | V7: =+SUM(D7,M7) -> 114011530 | W7: =+SUM(E7,N7) -> 24750901 | X7: =+SUM(F7,O7) -> 1617598 | Y7: =+SUM(G7,P7) -> 37885 | Z7: =+SUM(H7,Q7) -> 4162800 | AA7: =+SUM(I7,R7) -> 10186723 | AB7: =IF(+SUM(J7,S7)=0,"-",+SUM(J7,S7)) -> - | AC7: =+SUM(K7,T7) -> 8745895 | AD7: =+SUM(L7,U7) -> 89260629 | AE7: =SUM(AF7,+AK7) -> 10133628 | AF7: =SUM(AG7:AJ7) -> 10083453 | AG7: =SUM(AG$8:AG$207) -> 12027 | AH7: =SUM(AH$8:AH$207) -> 8503812 | AI7: =SUM(AI$8:AI$207) -> 1543755 | AJ7: =SUM(AJ$8:AJ$207) -> 23859 | AK7: =SUM(AK$8:AK$207) -> 50175 | AL7: =SUM(AL$8:AL$207) -> 1190496 | AM7: =SUM(AN7,AS7,AW7,AX7,BD7) -> 81680612 | AN7: =SUM(AO7:AR7) -> 20362937 | AO7: =SUM(AO$8:AO$207) -> 6985104 | AP7: =SUM(AP$8:AP$207) -> 11246497 | AQ7: =SUM(AQ$8:AQ$207) -> 1837583 | AR7: =SUM(AR$8:AR$207) -> 293753 | AS7: =SUM(AT7:AV7) -> 16628286 | AT7: =SUM(AT$8:AT$207) -> 5027925 | AU7: =SUM(AU$8:AU$207) -> 10372500 | AV7: =SUM(AV$8:AV$207) -> 1227861 | AW7: =SUM(AW$8:AW$207) -> 270636 | AX7: =SUM(AY7:BB7) -> 44397238 | AY7: =SUM(AY$8:AY$207) -> 19886659 | AZ7: =SUM(AZ$8:AZ$207) -> 20953779 | BA7: =SUM(BA$8:BA$207) -> 1532004 | BB7: =SUM(BB$8:BB$207) -> 2024796 | BC7: =SUM(BC$8:BC$207) -> 8979015 | BD7: =SUM(BD$8:BD$207) -> 21515 | BE7: =SUM(BE$8:BE$207) -> 3591564 | BF7: =SUM(AE7,+AM7,+BE7) -> 95405804 | BG7: =SUM(BH7,+BM7) -> 548727 | BH7: =SUM(BI7:BL7) -> 548609 | BI7: =SUM(BI$8:BI$207) -> 0 | BJ7: =SUM(BJ$8:BJ$207) -> 471016 | BK7: =SUM(BK$8:BK$207) -> 59951 | BL7: =SUM(BL$8:BL$207) -> 17642 | BM7: =SUM(BM$8:BM$207) -> 118 | BN7: =SUM(BN$8:BN$207) -> 9512 | BO7: =SUM(BP7,BU7,BY7,BZ7,CF7) -> 5543191 | BP7: =SUM(BQ7:BT7) -> 1478694 | BQ7: =SUM(BQ$8:BQ$207) -> 725471 | BR7: =SUM(BR$8:BR$207) -> 549033 | BS7: =SUM(BS$8:BS$207) -> 53751 | BT7: =SUM(BT$8:BT$207) -> 150439 | BU7: =SUM(BV7:BX7) -> 1516646 | BV7: =SUM(BV$8:BV$207) -> 69135 | BW7: =SUM(BW$8:BW$207) -> 1185119 | BX7: =SUM(BX$8:BX$207) -> 262392 | BY7: =SUM(BY$8:BY$207) -> 18241 | BZ7: =SUM(CA7:CD7) -> 2528527 | CA7: =SUM(CA$8:CA$207) -> 1110073 | CB7: =SUM(CB$8:CB$207) -> 1046839 | CC7: =SUM(CC$8:CC$207) -> 88049 | CD7: =SUM(CD$8:CD$207) -> 283566 | CE7: =SUM(CE$8:CE$207) -> 2011359 | CF7: =SUM(CF$8:CF$207) -> 1083 | CG7: =SUM(CG$8:CG$207) -> 323426 | CH7: =SUM(BG7,+BO7,+CG7) -> 6415344 | CI7: =SUM(AE7,+BG7) -> 10682355 | CJ7: =SUM(AF7,+BH7) -> 10632062 | CK7: =SUM(AG7,+BI7) -> 12027 | CL7: =SUM(AH7,+BJ7) -> 8974828 | CM7: =SUM(AI7,+BK7) -> 1603706 | CN7: =SUM(AJ7,+BL7) -> 41501 | CO7: =SUM(AK7,+BM7) -> 50293 | CP7: =SUM(AL7,+BN7) -> 1200008 | ... DJ7: =SUM(BF7,+CH7) -> 101821148
A8: 愛知県 | B8: 23100 | C8: 名古屋市 | D8: =SUM(E8,+L8) -> 34647641 | E8: =SUM(F8:I8,K8) -> 10842518 | F8: 1230494 | G8: 8643 | H8: 2482000 | I8: 3803460 | J8: - | K8: 3317921 | L8: 23805123 | M8: =SUM(N8,+U8) -> 1117503 | N8: =SUM(O8:R8,T8) -> 67151 | O8: 0 | P8: 0 | Q8: 9000 | R8: 49286 | S8: - | T8: 8865 | U8: 1050352 | V8: =+SUM(D8,M8) -> 35765144 | W8: =+SUM(E8,N8) -> 10909669 | X8: =+SUM(F8,O8) -> 1230494 | Y8: =+SUM(G8,P8) -> 8643 | Z8: =+SUM(H8,Q8) -> 2491000 | AA8: =+SUM(I8,R8) -> 3852746 | AB8: =IF(+SUM(J8,S8)=0,"-",+SUM(J8,S8)) -> - | AC8: =+SUM(K8,T8) -> 3326786 | AD8: =+SUM(L8,U8) -> 24855475 | AE8: =SUM(AF8,+AK8) -> 4565626 | AF8: =SUM(AG8:AJ8) -> 4554995 | AG8: 0 | AH8: 3272956 | AI8: 1282039 | AJ8: 0 | AK8: 10631 | AL8: 0 | AM8: =SUM(AN8,AS8,AW8,AX8,BD8) -> 29157504 | AN8: =SUM(AO8:AR8) -> 10300222 | AO8: 3332007 | AP8: 6451727 | AQ8: 463964 | AR8: 52524 | AS8: =SUM(AT8:AV8) -> 8439431 | AT8: 3499396 | AU8: 4613083 | AV8: 326952 | AW8: 78321 | AX8: =SUM(AY8:BB8) -> 10326904 | AY8: 4772325 | AZ8: 5320827 | BA8: 233752 | BB8: 0 | BC8: 0 | BD8: 12626 | BE8: 924511 | BF8: =SUM(AE8,+AM8,+BE8) -> 34647641 | BG8: =SUM(BH8,+BM8) -> 59877 | BH8: =SUM(BI8:BL8) -> 59877 | BI8: 0 | BJ8: 0 | BK8: 59877 | BL8: 0 | BM8: 0 | BN8: 0 | BO8: =SUM(BP8,BU8,BY8,BZ8,CF8) -> 1020170 | BP8: =SUM(BQ8:BT8) -> 858793 | BQ8: 213863 | BR8: 494741 | BS8: 0 | BT8: 150189 | BU8: =SUM(BV8:BX8) -> 81291 | BV8: 27996 | BW8: 0 | BX8: 53295 | BY8: 13293 | BZ8: =SUM(CA8:CD8) -> 66793 | CA8: 0 | CB8: 0 | CC8: 66793 | CD8: 0 | CE8: 0 | CF8: 0 | CG8: 37456 | CH8: =SUM(BG8,+BO8,+CG8) -> 1117503 | CI8: =SUM(AE8,+BG8) -> 4625503 | CJ8: =SUM(AF8,+BH8) -> 4614872 | CK8: =SUM(AG8,+BI8) -> 0 | CL8: =SUM(AH8,+BJ8) -> 3272956 | CM8: =SUM(AI8,+BK8) -> 1341916 | CN8: =SUM(AJ8,+BL8) -> 0 | CO8: =SUM(AK8,+BM8) -> 10631 | CP8: =SUM(AL8,+BN8) -> 0 | ... DJ8: =SUM(BF8,+CH8) -> 35765144
A9: 愛知県 | B9: 23201 | C9: 豊橋市 | D9: =SUM(E9,+L9) -> 5895162 | E9: =SUM(F9:I9,K9) -> 1046753 | F9: 10202 | G9: 0 | H9: 18923 | I9: 595775 | J9: - | K9: 421853 | L9: 4848409 | M9: =SUM(N9,+U9) -> 213143 | N9: =SUM(O9:R9,T9) -> 59311 | O9: 39873 | P9: 14947 | Q9: 77 | R9: 2599 | S9: - | T9: 1815 | U9: 153832 | V9: =+SUM(D9,M9) -> 6108305 | W9: =+SUM(E9,N9) -> 1106064 | X9: =+SUM(F9,O9) -> 50075 | Y9: =+SUM(G9,P9) -> 14947 | Z9: =+SUM(H9,Q9) -> 19000 | AA9: =+SUM(I9,R9) -> 598374 | AB9: =IF(+SUM(J9,S9)=0,"-",+SUM(J9,S9)) -> - | AC9: =+SUM(K9,T9) -> 423668 | AD9: =+SUM(L9,U9) -> 5002241 | AE9: =SUM(AF9,+AK9) -> 1533234 | AF9: =SUM(AG9:AJ9) -> 1513246 | AG9: 8129 | AH9: 1494967 | AI9: 10150 | AJ9: 0 | AK9: 19988 | AL9: 0 | AM9: =SUM(AN9,AS9,AW9,AX9,BD9) -> 4273392 | AN9: =SUM(AO9:AR9) -> 1619962 | AO9: 470829 | AP9: 722551 | AQ9: 389439 | AR9: 37143 | AS9: =SUM(AT9:AV9) -> 823196 | AT9: 120108 | AU9: 610365 | AV9: 92723 | AW9: 8116 | AX9: =SUM(AY9:BB9) -> 1820677 | AY9: 388459 | AZ9: 269794 | BA9: 0 | BB9: 1162424 | BC9: 0 | BD9: 1441 | BE9: 88536 | BF9: =SUM(AE9,+AM9,+BE9) -> 5895162 | BG9: =SUM(BH9,+BM9) -> 53827 | BH9: =SUM(BI9:BL9) -> 53709 | BI9: 0 | BJ9: 53635 | BK9: 74 | BL9: 0 | BM9: 118 | BN9: 0 | BO9: =SUM(BP9,BU9,BY9,BZ9,CF9) -> 78361 | BP9: =SUM(BQ9:BT9) -> 20745 | BQ9: 17645 | BR9: 0 | BS9: 2850 | BT9: 250 | BU9: =SUM(BV9:BX9) -> 4810 | BV9: 0 | BW9: 4166 | BX9: 644 | BY9: 0 | BZ9: =SUM(CA9:CD9) -> 52806 | CA9: 0 | CB9: 42969 | CC9: 0 | CD9: 9837 | CE9: 0 | CF9: 0 | CG9: 80955 | CH9: =SUM(BG9,+BO9,+CG9) -> 213143 | CI9: =SUM(AE9,+BG9) -> 1587061 | CJ9: =SUM(AF9,+BH9) -> 1566955 | CK9: =SUM(AG9,+BI9) -> 8129 | CL9: =SUM(AH9,+BJ9) -> 1548602 | CM9: =SUM(AI9,+BK9) -> 10224 | CN9: =SUM(AJ9,+BL9) -> 0 | CO9: =SUM(AK9,+BM9) -> 20106 | CP9: =SUM(AL9,+BN9) -> 0 | ... DJ9: =SUM(BF9,+CH9) -> 6108305
A10: 愛知県 | B10: 23202 | C10: 岡崎市 | D10: =SUM(E10,+L10) -> 4536378 | E10: =SUM(F10:I10,K10) -> 1523421 | F10: 0 | G10: 0 | H10: 0 | I10: 407557 | J10: - | K10: 1115864 | L10: 3012957 | M10: =SUM(N10,+U10) -> 183083 | N10: =SUM(O10:R10,T10) -> 13000 | O10: 0 | P10: 0 | Q10: 0 | R10: 0 | S10: - | T10: 13000 | U10: 170083 | V10: =+SUM(D10,M10) -> 4719461 | W10: =+SUM(E10,N10) -> 1536421 | X10: =+SUM(F10,O10) -> 0 | Y10: =+SUM(G10,P10) -> 0 | Z10: =+SUM(H10,Q10) -> 0 | AA10: =+SUM(I10,R10) -> 407557 | AB10: =IF(+SUM(J10,S10)=0,"-",+SUM(J10,S10)) -> - | AC10: =+SUM(K10,T10) -> 1128864 | AD10: =+SUM(L10,U10) -> 3183040 | AE10: =SUM(AF10,+AK10) -> 0 | AF10: =SUM(AG10:AJ10) -> 0 | AG10: 0 | AH10: 0 | AI10: 0 | AJ10: 0 | AK10: 0 | AL10: 0 | AM10: =SUM(AN10,AS10,AW10,AX10,BD10) -> 4379356 | AN10: =SUM(AO10:AR10) -> 934802 | AO10: 200317 | AP10: 573577 | AQ10: 129792 | AR10: 31116 | AS10: =SUM(AT10:AV10) -> 1074071 | AT10: 72463 | AU10: 936967 | AV10: 64641 | AW10: 21120 | AX10: =SUM(AY10:BB10) -> 2349363 | AY10: 538802 | AZ10: 1777877 | BA10: 32684 | BB10: 0 | BC10: 0 | BD10: 0 | BE10: 157022 | BF10: =SUM(AE10,+AM10,+BE10) -> 4536378 | BG10: =SUM(BH10,+BM10) -> 17642 | BH10: =SUM(BI10:BL10) -> 17642 | BI10: 0 | BJ10: 0 | BK10: 0 | BL10: 17642 | BM10: 0 | BN10: 0 | BO10: =SUM(BP10,BU10,BY10,BZ10,CF10) -> 155962 | BP10: =SUM(BQ10:BT10) -> 0 | BQ10: 0 | BR10: 0 | BS10: 0 | BT10: 0 | BU10: =SUM(BV10:BX10) -> 155962 | BV10: 5923 | BW10: 150039 | BX10: 0 | BY10: 0 | BZ10: =SUM(CA10:CD10) -> 0 | CA10: 0 | CB10: 0 | CC10: 0 | CD10: 0 | CE10: 0 | CF10: 0 | CG10: 9479 | CH10: =SUM(BG10,+BO10,+CG10) -> 183083 | CI10: =SUM(AE10,+BG10) -> 17642 | CJ10: =SUM(AF10,+BH10) -> 17642 | CK10: =SUM(AG10,+BI10) -> 0 | CL10: =SUM(AH10,+BJ10) -> 0 | CM10: =SUM(AI10,+BK10) -> 0 | CN10: =SUM(AJ10,+BL10) -> 17642 | CO10: =SUM(AK10,+BM10) -> 0 | CP10: =SUM(AL10,+BN10) -> 0 | ... DJ10: =SUM(BF10,+CH10) -> 4719461
A11: 愛知県 | B11: 23203 | C11: 一宮市 | D11: =SUM(E11,+L11) -> 3589536 | E11: =SUM(F11:I11,K11) -> 848908 | F11: 0 | G11: 0 | H11: 0 | I11: 503517 | J11: - | K11: 345391 | L11: 2740628 | M11: =SUM(N11,+U11) -> 257880 | N11: =SUM(O11:R11,T11) -> 656 | O11: 0 | P11: 0 | Q11: 0 | R11: 0 | S11: - | T11: 656 | U11: 257224 | V11: =+SUM(D11,M11) -> 3847416 | W11: =+SUM(E11,N11) -> 849564 | X11: =+SUM(F11,O11) -> 0 | Y11: =+SUM(G11,P11) -> 0 | Z11: =+SUM(H11,Q11) -> 0 | AA11: =+SUM(I11,R11) -> 503517 | AB11: =IF(+SUM(J11,S11)=0,"-",+SUM(J11,S11)) -> - | AC11: =+SUM(K11,T11) -> 346047 | AD11: =+SUM(L11,U11) -> 2997852 | AE11: =SUM(AF11,+AK11) -> 0 | AF11: =SUM(AG11:AJ11) -> 0 | AG11: 0 | AH11: 0 | AI11: 0 | AJ11: 0 | AK11: 0 | AL11: 0 | AM11: =SUM(AN11,AS11,AW11,AX11,BD11) -> 3559897 | AN11: =SUM(AO11:AR11) -> 654840 | AO11: 256373 | AP11: 299113 | AQ11: 99354 | AR11: 0 | AS11: =SUM(AT11:AV11) -> 1224990 | AT11: 239074 | AU11: 682552 | AV11: 303364 | AW11: 0 | AX11: =SUM(AY11:BB11) -> 1680067 | AY11: 931306 | AZ11: 604989 | BA11: 104293 | BB11: 39479 | BC11: 0 | BD11: 0 | BE11: 29639 | BF11: =SUM(AE11,+AM11,+BE11) -> 3589536 | BG11: =SUM(BH11,+BM11) -> 0 | BH11: =SUM(BI11:BL11) -> 0 | BI11: 0 | BJ11: 0 | BK11: 0 | BL11: 0 | BM11: 0 | BN11: 0 | BO11: =SUM(BP11,BU11,BY11,BZ11,CF11) -> 257108 | BP11: =SUM(BQ11:BT11) -> 27339 | BQ11: 27339 | BR11: 0 | BS11: 0 | BT11: 0 | BU11: =SUM(BV11:BX11) -> 118754 | BV11: 0 | BW11: 118754 | BX11: 0 | BY11: 0 | BZ11: =SUM(CA11:CD11) -> 111015 | CA11: 0 | CB11: 81774 | CC11: 0 | CD11: 29241 | CE11: 0 | CF11: 0 | CG11: 772 | CH11: =SUM(BG11,+BO11,+CG11) -> 257880 | CI11: =SUM(AE11,+BG11) -> 0 | CJ11: =SUM(AF11,+BH11) -> 0 | CK11: =SUM(AG11,+BI11) -> 0 | CL11: =SUM(AH11,+BJ11) -> 0 | CM11: =SUM(AI11,+BK11) -> 0 | CN11: =SUM(AJ11,+BL11) -> 0 | CO11: =SUM(AK11,+BM11) -> 0 | CP11: =SUM(AL11,+BN11) -> 0 | ... DJ11: =SUM(BF11,+CH11) -> 3847416
A12: 愛知県 | B12: 23204 | C12: 瀬戸市 | D12: =SUM(E12,+L12) -> 918774 | E12: =SUM(F12:I12,K12) -> 65995 | F12: 0 | G12: 0 | H12: 0 | I12: 16928 | J12: - | K12: 49067 | L12: 852779 | M12: =SUM(N12,+U12) -> 231046 | N12: =SUM(O12:R12,T12) -> 27438 | O12: 0 | P12: 0 | Q12: 0 | R12: 27438 | S12: - | T12: 0 | U12: 203608 | V12: =+SUM(D12,M12) -> 1149820 | W12: =+SUM(E12,N12) -> 93433 | X12: =+SUM(F12,O12) -> 0 | Y12: =+SUM(G12,P12) -> 0 | Z12: =+SUM(H12,Q12) -> 0 | AA12: =+SUM(I12,R12) -> 44366 | AB12: =IF(+SUM(J12,S12)=0,"-",+SUM(J12,S12)) -> - | AC12: =+SUM(K12,T12) -> 49067 | AD12: =+SUM(L12,U12) -> 1056387 | AE12: =SUM(AF12,+AK12) -> 0 | AF12: =SUM(AG12:AJ12) -> 0 | AG12: 0 | AH12: 0 | AI12: 0 | AJ12: 0 | AK12: 0 | AL12: 2932 | AM12: =SUM(AN12,AS12,AW12,AX12,BD12) -> 582379 | AN12: =SUM(AO12:AR12) -> 165086 | AO12: 52575 | AP12: 112511 | AQ12: 0 | AR12: 0 | AS12: =SUM(AT12:AV12) -> 0 | AT12: 0 | AU12: 0 | AV12: 0 | AW12: 0 | AX12: =SUM(AY12:BB12) -> 417293 | AY12: 386356 | AZ12: 30937 | BA12: 0 | BB12: 0 | BC12: 292691 | BD12: 0 | BE12: 40772 | BF12: =SUM(AE12,+AM12,+BE12) -> 623151 | BG12: =SUM(BH12,+BM12) -> 0 | BH12: =SUM(BI12:BL12) -> 0 | BI12: 0 | BJ12: 0 | BK12: 0 | BL12: 0 | BM12: 0 | BN12: 0 | BO12: =SUM(BP12,BU12,BY12,BZ12,CF12) -> 229843 | BP12: =SUM(BQ12:BT12) -> 62349 | BQ12: 20449 | BR12: 0 | BS12: 41900 | BT12: 0 | BU12: =SUM(BV12:BX12) -> 116124 | BV12: 0 | BW12: 116124 | BX12: 0 | BY12: 0 | BZ12: =SUM(CA12:CD12) -> 51370 | CA12: 37187 | CB12: 14183 | CC12: 0 | CD12: 0 | CE12: 0 | CF12: 0 | CG12: 1203 | CH12: =SUM(BG12,+BO12,+CG12) -> 231046 | CI12: =SUM(AE12,+BG12) -> 0 | CJ12: =SUM(AF12,+BH12) -> 0 | CK12: =SUM(AG12,+BI12) -> 0 | CL12: =SUM(AH12,+BJ12) -> 0 | CM12: =SUM(AI12,+BK12) -> 0 | CN12: =SUM(AJ12,+BL12) -> 0 | CO12: =SUM(AK12,+BM12) -> 0 | CP12: =SUM(AL12,+BN12) -> 2932 | ... DJ12: =SUM(BF12,+CH12) -> 854197
A13: 愛知県 | B13: 23205 | C13: 半田市 | D13: =SUM(E13,+L13) -> 1231981 | E13: =SUM(F13:I13,K13) -> 417257 | F13: 12173 | G13: 0 | H13: 0 | I13: 222585 | J13: - | K13: 182499 | L13: 814724 | M13: =SUM(N13,+U13) -> 121211 | N13: =SUM(O13:R13,T13) -> 7908 | O13: 0 | P13: 0 | Q13: 0 | R13: 7908 | S13: - | T13: 0 | U13: 113303 | V13: =+SUM(D13,M13) -> 1353192 | W13: =+SUM(E13,N13) -> 425165 | X13: =+SUM(F13,O13) -> 12173 | Y13: =+SUM(G13,P13) -> 0 | Z13: =+SUM(H13,Q13) -> 0 | AA13: =+SUM(I13,R13) -> 230493 | AB13: =IF(+SUM(J13,S13)=0,"-",+SUM(J13,S13)) -> - | AC13: =+SUM(K13,T13) -> 182499 | AD13: =+SUM(L13,U13) -> 928027 | AE13: =SUM(AF13,+AK13) -> 64295 | AF13: =SUM(AG13:AJ13) -> 64295 | AG13: 187 | AH13: 0 | AI13: 43978 | AJ13: 20130 | AK13: 0 | AL13: 0 | AM13: =SUM(AN13,AS13,AW13,AX13,BD13) -> 906451 | AN13: =SUM(AO13:AR13) -> 104243 | AO13: 31828 | AP13: 72415 | AQ13: 0 | AR13: 0 | AS13: =SUM(AT13:AV13) -> 163812 | AT13: 123890 | AU13: 39922 | AV13: 0 | AW13: 9146 | AX13: =SUM(AY13:BB13) -> 629250 | AY13: 377561 | AZ13: 248886 | BA13: 0 | BB13: 2803 | BC13: 182381 | BD13: 0 | BE13: 78854 | BF13: =SUM(AE13,+AM13,+BE13) -> 1049600 | BG13: =SUM(BH13,+BM13) -> 0 | BH13: =SUM(BI13:BL13) -> 0 | BI13: 0 | BJ13: 0 | BK13: 0 | BL13: 0 | BM13: 0 | BN13: 0 | BO13: =SUM(BP13,BU13,BY13,BZ13,CF13) -> 34453 | BP13: =SUM(BQ13:BT13) -> 4366 | BQ13: 4366 | BR13: 0 | BS13: 0 | BT13: 0 | BU13: =SUM(BV13:BX13) -> 23966 | BV13: 23966 | BW13: 0 | BX13: 0 | BY13: 0 | BZ13: =SUM(CA13:CD13) -> 6121 | CA13: 0 | CB13: 0 | CC13: 0 | CD13: 6121 | CE13: 85684 | CF13: 0 | CG13: 1074 | CH13: =SUM(BG13,+BO13,+CG13) -> 35527 | CI13: =SUM(AE13,+BG13) -> 64295 | CJ13: =SUM(AF13,+BH13) -> 64295 | CK13: =SUM(AG13,+BI13) -> 187 | CL13: =SUM(AH13,+BJ13) -> 0 | CM13: =SUM(AI13,+BK13) -> 43978 | CN13: =SUM(AJ13,+BL13) -> 20130 | CO13: =SUM(AK13,+BM13) -> 0 | CP13: =SUM(AL13,+BN13) -> 0 | ... DJ13: =SUM(BF13,+CH13) -> 1085127
A14: 愛知県 | B14: 23206 | C14: 春日井市 | D14: =SUM(E14,+L14) -> 4793920 | E14: =SUM(F14:I14,K14) -> 908471 | F14: 19500 | G14: 0 | H14: 479400 | I14: 404016 | J14: - | K14: 5555 | L14: 3885449 | M14: =SUM(N14,+U14) -> 368821 | N14: =SUM(O14:R14,T14) -> 16723 | O14: 0 | P14: 0 | Q14: 0 | R14: 16723 | S14: - | T14: 0 | U14: 352098 | V14: =+SUM(D14,M14) -> 5162741 | W14: =+SUM(E14,N14) -> 925194 | X14: =+SUM(F14,O14) -> 19500 | Y14: =+SUM(G14,P14) -> 0 | Z14: =+SUM(H14,Q14) -> 479400 | AA14: =+SUM(I14,R14) -> 420739 | AB14: =IF(+SUM(J14,S14)=0,"-",+SUM(J14,S14)) -> - | AC14: =+SUM(K14,T14) -> 5555 | AD14: =+SUM(L14,U14) -> 4237547 | AE14: =SUM(AF14,+AK14) -> 374586 | AF14: =SUM(AG14:AJ14) -> 374586 | AG14: 0 | AH14: 373733 | AI14: 0 | AJ14: 853 | AK14: 0 | AL14: 0 | AM14: =SUM(AN14,AS14,AW14,AX14,BD14) -> 4346303 | AN14: =SUM(AO14:AR14) -> 1218532 | AO14: 294358 | AP14: 611201 | AQ14: 288265 | AR14: 24708 | AS14: =SUM(AT14:AV14) -> 1186124 | AT14: 48452 | AU14: 1054785 | AV14: 82887 | AW14: 38335 | AX14: =SUM(AY14:BB14) -> 1903312 | AY14: 792237 | AZ14: 1100420 | BA14: 10655 | BB14: 0 | BC14: 0 | BD14: 0 | BE14: 73031 | BF14: =SUM(AE14,+AM14,+BE14) -> 4793920 | BG14: =SUM(BH14,+BM14) -> 0 | BH14: =SUM(BI14:BL14) -> 0 | BI14: 0 | BJ14: 0 | BK14: 0 | BL14: 0 | BM14: 0 | BN14: 0 | BO14: =SUM(BP14,BU14,BY14,BZ14,CF14) -> 362699 | BP14: =SUM(BQ14:BT14) -> 85206 | BQ14: 50134 | BR14: 29465 | BS14: 5607 | BT14: 0 | BU14: =SUM(BV14:BX14) -> 154137 | BV14: 1563 | BW14: 152574 | BX14: 0 | BY14: 0 | BZ14: =SUM(CA14:CD14) -> 123356 | CA14: 46288 | CB14: 77068 | CC14: 0 | CD14: 0 | CE14: 0 | CF14: 0 | CG14: 6122 | CH14: =SUM(BG14,+BO14,+CG14) -> 368821 | CI14: =SUM(AE14,+BG14) -> 374586 | CJ14: =SUM(AF14,+BH14) -> 374586 | CK14: =SUM(AG14,+BI14) -> 0 | CL14: =SUM(AH14,+BJ14) -> 373733 | CM14: =SUM(AI14,+BK14) -> 0 | CN14: =SUM(AJ14,+BL14) -> 853 | CO14: =SUM(AK14,+BM14) -> 0 | CP14: =SUM(AL14,+BN14) -> 0 | ... DJ14: =SUM(BF14,+CH14) -> 5162741
A15: 愛知県 | B15: 23207 | C15: 豊川市 | D15: =SUM(E15,+L15) -> 3468204 | E15: =SUM(F15:I15,K15) -> 1016576 | F15: 0 | G15: 0 | H15: 532900 | I15: 207426 | J15: - | K15: 276250 | L15: 2451628 | M15: =SUM(N15,+U15) -> 189369 | N15: =SUM(O15:R15,T15) -> 0 | O15: 0 | P15: 0 | Q15: 0 | R15: 0 | S15: - | T15: 0 | U15: 189369 | V15: =+SUM(D15,M15) -> 3657573 | W15: =+SUM(E15,N15) -> 1016576 | X15: =+SUM(F15,O15) -> 0 | Y15: =+SUM(G15,P15) -> 0 | Z15: =+SUM(H15,Q15) -> 532900 | AA15: =+SUM(I15,R15) -> 207426 | AB15: =IF(+SUM(J15,S15)=0,"-",+SUM(J15,S15)) -> - | AC15: =+SUM(K15,T15) -> 276250 | AD15: =+SUM(L15,U15) -> 2640997 | AE15: =SUM(AF15,+AK15) -> 990287 | AF15: =SUM(AG15:AJ15) -> 990287 | AG15: 0 | AH15: 955637 | AI15: 34650 | AJ15: 0 | AK15: 0 | AL15: 0 | AM15: =SUM(AN15,AS15,AW15,AX15,BD15) -> 2455629 | AN15: =SUM(AO15:AR15) -> 263046 | AO15: 120977 | AP15: 104131 | AQ15: 28201 | AR15: 9737 | AS15: =SUM(AT15:AV15) -> 217870 | AT15: 9482 | AU15: 159832 | AV15: 48556 | AW15: 1968 | AX15: =SUM(AY15:BB15) -> 1971590 | AY15: 590846 | AZ15: 1303502 | BA15: 75452 | BB15: 1790 | BC15: 0 | BD15: 1155 | BE15: 22288 | BF15: =SUM(AE15,+AM15,+BE15) -> 3468204 | BG15: =SUM(BH15,+BM15) -> 1284 | BH15: =SUM(BI15:BL15) -> 1284 | BI15: 0 | BJ15: 1284 | BK15: 0 | BL15: 0 | BM15: 0 | BN15: 0 | BO15: =SUM(BP15,BU15,BY15,BZ15,CF15) -> 188085 | BP15: =SUM(BQ15:BT15) -> 6116 | BQ15: 6116 | BR15: 0 | BS15: 0 | BT15: 0 | BU15: =SUM(BV15:BX15) -> 55263 | BV15: 0 | BW15: 55263 | BX15: 0 | BY15: 0 | BZ15: =SUM(CA15:CD15) -> 126706 | CA15: 0 | CB15: 126706 | CC15: 0 | CD15: 0 | CE15: 0 | CF15: 0 | CG15: 0 | CH15: =SUM(BG15,+BO15,+CG15) -> 189369 | CI15: =SUM(AE15,+BG15) -> 991571 | CJ15: =SUM(AF15,+BH15) -> 991571 | CK15: =SUM(AG15,+BI15) -> 0 | CL15: =SUM(AH15,+BJ15) -> 956921 | CM15: =SUM(AI15,+BK15) -> 34650 | CN15: =SUM(AJ15,+BL15) -> 0 | CO15: =SUM(AK15,+BM15) -> 0 | CP15: =SUM(AL15,+BN15) -> 0 | ... DJ15: =SUM(BF15,+CH15) -> 3657573
A16: 愛知県 | B16: 23208 | C16: 津島市 | D16: =SUM(E16,+L16) -> 607954 | E16: =SUM(F16:I16,K16) -> 68733 | F16: 0 | G16: 0 | H16: 0 | I16: 7960 | J16: - | K16: 60773 | L16: 539221 | M16: =SUM(N16,+U16) -> 90500 | N16: =SUM(O16:R16,T16) -> 7595 | O16: 170 | P16: 102 | Q16: 0 | R16: 4392 | S16: - | T16: 2931 | U16: 82905 | V16: =+SUM(D16,M16) -> 698454 | W16: =+SUM(E16,N16) -> 76328 | X16: =+SUM(F16,O16) -> 170 | Y16: =+SUM(G16,P16) -> 102 | Z16: =+SUM(H16,Q16) -> 0 | AA16: =+SUM(I16,R16) -> 12352 | AB16: =IF(+SUM(J16,S16)=0,"-",+SUM(J16,S16)) -> - | AC16: =+SUM(K16,T16) -> 63704 | AD16: =+SUM(L16,U16) -> 622126 | AE16: =SUM(AF16,+AK16) -> 119 | AF16: =SUM(AG16:AJ16) -> 119 | AG16: 0 | AH16: 0 | AI16: 0 | AJ16: 119 | AK16: 0 | AL16: 0 | AM16: =SUM(AN16,AS16,AW16,AX16,BD16) -> 302031 | AN16: =SUM(AO16:AR16) -> 53630 | AO16: 32178 | AP16: 16089 | AQ16: 0 | AR16: 5363 | AS16: =SUM(AT16:AV16) -> 18594 | AT16: 990 | AU16: 71 | AV16: 17533 | AW16: 0 | AX16: =SUM(AY16:BB16) -> 229807 | AY16: 198064 | AZ16: 29174 | BA16: 206 | BB16: 2363 | BC16: 263982 | BD16: 0 | BE16: 41822 | BF16: =SUM(AE16,+AM16,+BE16) -> 343972 | BG16: =SUM(BH16,+BM16) -> 0 | BH16: =SUM(BI16:BL16) -> 0 | BI16: 0 | BJ16: 0 | BK16: 0 | BL16: 0 | BM16: 0 | BN16: 0 | BO16: =SUM(BP16,BU16,BY16,BZ16,CF16) -> 23329 | BP16: =SUM(BQ16:BT16) -> 18937 | BQ16: 18937 | BR16: 0 | BS16: 0 | BT16: 0 | BU16: =SUM(BV16:BX16) -> 4392 | BV16: 0 | BW16: 4392 | BX16: 0 | BY16: 0 | BZ16: =SUM(CA16:CD16) -> 0 | CA16: 0 | CB16: 0 | CC16: 0 | CD16: 0 | CE16: 66661 | CF16: 0 | CG16: 510 | CH16: =SUM(BG16,+BO16,+CG16) -> 23839 | CI16: =SUM(AE16,+BG16) -> 119 | CJ16: =SUM(AF16,+BH16) -> 119 | CK16: =SUM(AG16,+BI16) -> 0 | CL16: =SUM(AH16,+BJ16) -> 0 | CM16: =SUM(AI16,+BK16) -> 0 | CN16: =SUM(AJ16,+BL16) -> 119 | CO16: =SUM(AK16,+BM16) -> 0 | CP16: =SUM(AL16,+BN16) -> 0 | ... DJ16: =SUM(BF16,+CH16) -> 367811
A17: 愛知県 | B17: 23209 | C17: 碧南市 | D17: =SUM(E17,+L17) -> 1214073 | E17: =SUM(F17:I17,K17) -> 27884 | F17: 0 | G17: 0 | H17: 0 | I17: 13086 | J17: - | K17: 14798 | L17: 1186189 | M17: =SUM(N17,+U17) -> 2432 | N17: =SUM(O17:R17,T17) -> 0 | O17: 0 | P17: 0 | Q17: 0 | R17: 0 | S17: - | T17: 0 | U17: 2432 | V17: =+SUM(D17,M17) -> 1216505 | W17: =+SUM(E17,N17) -> 27884 | X17: =+SUM(F17,O17) -> 0 | Y17: =+SUM(G17,P17) -> 0 | Z17: =+SUM(H17,Q17) -> 0 | AA17: =+SUM(I17,R17) -> 13086 | AB17: =IF(+SUM(J17,S17)=0,"-",+SUM(J17,S17)) -> - | AC17: =+SUM(K17,T17) -> 14798 | AD17: =+SUM(L17,U17) -> 1188621 | AE17: =SUM(AF17,+AK17) -> 0 | AF17: =SUM(AG17:AJ17) -> 0 | AG17: 0 | AH17: 0 | AI17: 0 | AJ17: 0 | AK17: 0 | AL17: 111299 | AM17: =SUM(AN17,AS17,AW17,AX17,BD17) -> 452073 | AN17: =SUM(AO17:AR17) -> 25999 | AO17: 25999 | AP17: 0 | AQ17: 0 | AR17: 0 | AS17: =SUM(AT17:AV17) -> 93747 | AT17: 90280 | AU17: 0 | AV17: 3467 | AW17: 0 | AX17: =SUM(AY17:BB17) -> 332327 | AY17: 255783 | AZ17: 54629 | BA17: 21915 | BB17: 0 | BC17: 650701 | BD17: 0 | BE17: 0 | BF17: =SUM(AE17,+AM17,+BE17) -> 452073 | BG17: =SUM(BH17,+BM17) -> 0 | BH17: =SUM(BI17:BL17) -> 0 | BI17: 0 | BJ17: 0 | BK17: 0 | BL17: 0 | BM17: 0 | BN17: 0 | BO17: =SUM(BP17,BU17,BY17,BZ17,CF17) -> 2432 | BP17: =SUM(BQ17:BT17) -> 2432 | BQ17: 2432 | BR17: 0 | BS17: 0 | BT17: 0 | BU17: =SUM(BV17:BX17) -> 0 | BV17: 0 | BW17: 0 | BX17: 0 | BY17: 0 | BZ17: =SUM(CA17:CD17) -> 0 | CA17: 0 | CB17: 0 | CC17: 0 | CD17: 0 | CE17: 0 | CF17: 0 | CG17: 0 | CH17: =SUM(BG17,+BO17,+CG17) -> 2432 | CI17: =SUM(AE17,+BG17) -> 0 | CJ17: =SUM(AF17,+BH17) -> 0 | CK17: =SUM(AG17,+BI17) -> 0 | CL17: =SUM(AH17,+BJ17) -> 0 | CM17: =SUM(AI17,+BK17) -> 0 | CN17: =SUM(AJ17,+BL17) -> 0 | CO17: =SUM(AK17,+BM17) -> 0 | CP17: =SUM(AL17,+BN17) -> 111299 | ... DJ17: =SUM(BF17,+CH17) -> 454505
A18: 愛知県 | B18: 23210 | C18: 刈谷市 | D18: =SUM(E18,+L18) -> 1657248 | E18: =SUM(F18:I18,K18) -> 135960 | F18: 0 | G18: 0 | H18: 0 | I18: 7700 | J18: - | K18: 128260 | L18: 1521288 | M18: =SUM(N18,+U18) -> 357433 | N18: =SUM(O18:R18,T18) -> 8199 | O18: 0 | P18: 0 | Q18: 0 | R18: 8199 | S18: - | T18: 0 | U18: 349234 | V18: =+SUM(D18,M18) -> 2014681 | W18: =+SUM(E18,N18) -> 144159 | X18: =+SUM(F18,O18) -> 0 | Y18: =+SUM(G18,P18) -> 0 | Z18: =+SUM(H18,Q18) -> 0 | AA18: =+SUM(I18,R18) -> 15899 | AB18: =IF(+SUM(J18,S18)=0,"-",+SUM(J18,S18)) -> - | AC18: =+SUM(K18,T18) -> 128260 | AD18: =+SUM(L18,U18) -> 1870522 | AE18: =SUM(AF18,+AK18) -> 1751 | AF18: =SUM(AG18:AJ18) -> 1751 | AG18: 0 | AH18: 0 | AI18: 1751 | AJ18: 0 | AK18: 0 | AL18: 436190 | AM18: =SUM(AN18,AS18,AW18,AX18,BD18) -> 842841 | AN18: =SUM(AO18:AR18) -> 183899 | AO18: 33290 | AP18: 117608 | AQ18: 0 | AR18: 33001 | AS18: =SUM(AT18:AV18) -> 59431 | AT18: 12794 | AU18: 77 | AV18: 46560 | AW18: 9469 | AX18: =SUM(AY18:BB18) -> 590042 | AY18: 457416 | AZ18: 100253 | BA18: 17361 | BB18: 15012 | BC18: 278748 | BD18: 0 | BE18: 97718 | BF18: =SUM(AE18,+AM18,+BE18) -> 942310 | BG18: =SUM(BH18,+BM18) -> 0 | BH18: =SUM(BI18:BL18) -> 0 | BI18: 0 | BJ18: 0 | BK18: 0 | BL18: 0 | BM18: 0 | BN18: 0 | BO18: =SUM(BP18,BU18,BY18,BZ18,CF18) -> 356825 | BP18: =SUM(BQ18:BT18) -> 37656 | BQ18: 37656 | BR18: 0 | BS18: 0 | BT18: 0 | BU18: =SUM(BV18:BX18) -> 39692 | BV18: 0 | BW18: 36395 | BX18: 3297 | BY18: 4948 | BZ18: =SUM(CA18:CD18) -> 274529 | CA18: 47979 | CB18: 224845 | CC18: 1705 | CD18: 0 | CE18: 0 | CF18: 0 | CG18: 608 | CH18: =SUM(BG18,+BO18,+CG18) -> 357433 | CI18: =SUM(AE18,+BG18) -> 1751 | CJ18: =SUM(AF18,+BH18) -> 1751 | CK18: =SUM(AG18,+BI18) -> 0 | CL18: =SUM(AH18,+BJ18) -> 0 | CM18: =SUM(AI18,+BK18) -> 1751 | CN18: =SUM(AJ18,+BL18) -> 0 | CO18: =SUM(AK18,+BM18) -> 0 | CP18: =SUM(AL18,+BN18) -> 436190 | ... DJ18: =SUM(BF18,+CH18) -> 1299743
A19: 愛知県 | B19: 23211 | C19: 豊田市 | D19: =SUM(E19,+L19) -> 6527241 | E19: =SUM(F19:I19,K19) -> 1244267 | F19: 0 | G19: 0 | H19: 0 | I19: 630898 | J19: - | K19: 613369 | L19: 5282974 | M19: =SUM(N19,+U19) -> 945950 | N19: =SUM(O19:R19,T19) -> 231145 | O19: 0 | P19: 0 | Q19: 0 | R19: 115755 | S19: - | T19: 115390 | U19: 714805 | V19: =+SUM(D19,M19) -> 7473191 | W19: =+SUM(E19,N19) -> 1475412 | X19: =+SUM(F19,O19) -> 0 | Y19: =+SUM(G19,P19) -> 0 | Z19: =+SUM(H19,Q19) -> 0 | AA19: =+SUM(I19,R19) -> 746653 | AB19: =IF(+SUM(J19,S19)=0,"-",+SUM(J19,S19)) -> - | AC19: =+SUM(K19,T19) -> 728759 | AD19: =+SUM(L19,U19) -> 5997779 | AE19: =SUM(AF19,+AK19) -> 536820 | AF19: =SUM(AG19:AJ19) -> 536820 | AG19: 0 | AH19: 536820 | AI19: 0 | AJ19: 0 | AK19: 0 | AL19: 0 | AM19: =SUM(AN19,AS19,AW19,AX19,BD19) -> 5922078 | AN19: =SUM(AO19:AR19) -> 1471903 | AO19: 195473 | AP19: 1155220 | AQ19: 85043 | AR19: 36167 | AS19: =SUM(AT19:AV19) -> 747491 | AT19: 170584 | AU19: 514854 | AV19: 62053 | AW19: 46086 | AX19: =SUM(AY19:BB19) -> 3656598 | AY19: 660108 | AZ19: 2547922 | BA19: 290687 | BB19: 157881 | BC19: 0 | BD19: 0 | BE19: 68343 | BF19: =SUM(AE19,+AM19,+BE19) -> 6527241 | BG19: =SUM(BH19,+BM19) -> 0 | BH19: =SUM(BI19:BL19) -> 0 | BI19: 0 | BJ19: 0 | BK19: 0 | BL19: 0 | BM19: 0 | BN19: 0 | BO19: =SUM(BP19,BU19,BY19,BZ19,CF19) -> 920445 | BP19: =SUM(BQ19:BT19) -> 79467 | BQ19: 63103 | BR19: 16364 | BS19: 0 | BT19: 0 | BU19: =SUM(BV19:BX19) -> 374230 | BV19: 1892 | BW19: 167182 | BX19: 205156 | BY19: 0 | BZ19: =SUM(CA19:CD19) -> 466748 | CA19: 463103 | CB19: 0 | CC19: 0 | CD19: 3645 | CE19: 0 | CF19: 0 | CG19: 25505 | CH19: =SUM(BG19,+BO19,+CG19) -> 945950 | CI19: =SUM(AE19,+BG19) -> 536820 | CJ19: =SUM(AF19,+BH19) -> 536820 | CK19: =SUM(AG19,+BI19) -> 0 | CL19: =SUM(AH19,+BJ19) -> 536820 | CM19: =SUM(AI19,+BK19) -> 0 | CN19: =SUM(AJ19,+BL19) -> 0 | CO19: =SUM(AK19,+BM19) -> 0 | CP19: =SUM(AL19,+BN19) -> 0 | ... DJ19: =SUM(BF19,+CH19) -> 7473191
... A61: 愛知県 | B61: 23563 | C61: 豊根村 | D61: =SUM(E61,+L61) -> 25351 | E61: =SUM(F61:I61,K61) -> 0 | F61: 0 | G61: 0 | H61: 0 | I61: 0 | J61: - | K61: 0 | L61: 25351 | M61: =SUM(N61,+U61) -> 11777 | N61: =SUM(O61:R61,T61) -> 0 | O61: 0 | P61: 0 | Q61: 0 | R61: 0 | S61: - | T61: 0 | U61: 11777 | V61: =+SUM(D61,M61) -> 37128 | W61: =+SUM(E61,N61) -> 0 | X61: =+SUM(F61,O61) -> 0 | Y61: =+SUM(G61,P61) -> 0 | Z61: =+SUM(H61,Q61) -> 0 | AA61: =+SUM(I61,R61) -> 0 | AB61: =IF(+SUM(J61,S61)=0,"-",+SUM(J61,S61)) -> - | AC61: =+SUM(K61,T61) -> 0 | AD61: =+SUM(L61,U61) -> 37128 | AE61: =SUM(AF61,+AK61) -> 0 | AF61: =SUM(AG61:AJ61) -> 0 | AG61: 0 | AH61: 0 | AI61: 0 | AJ61: 0 | AK61: 0 | AL61: 2009 | AM61: =SUM(AN61,AS61,AW61,AX61,BD61) -> 0 | AN61: =SUM(AO61:AR61) -> 0 | AO61: 0 | AP61: 0 | AQ61: 0 | AR61: 0 | AS61: =SUM(AT61:AV61) -> 0 | AT61: 0 | AU61: 0 | AV61: 0 | AW61: 0 | AX61: =SUM(AY61:BB61) -> 0 | AY61: 0 | AZ61: 0 | BA61: 0 | BB61: 0 | BC61: 23342 | BD61: 0 | BE61: 0 | BF61: =SUM(AE61,+AM61,+BE61) -> 0 | BG61: =SUM(BH61,+BM61) -> 0 | BH61: =SUM(BI61:BL61) -> 0 | BI61: 0 | BJ61: 0 | BK61: 0 | BL61: 0 | BM61: 0 | BN61: 1844 | BO61: =SUM(BP61,BU61,BY61,BZ61,CF61) -> 0 | BP61: =SUM(BQ61:BT61) -> 0 | BQ61: 0 | BR61: 0 | BS61: 0 | BT61: 0 | BU61: =SUM(BV61:BX61) -> 0 | BV61: 0 | BW61: 0 | BX61: 0 | BY61: 0 | BZ61: =SUM(CA61:CD61) -> 0 | CA61: 0 | CB61: 0 | CC61: 0 | CD61: 0 | CE61: 9933 | CF61: 0 | CG61: 0 | CH61: =SUM(BG61,+BO61,+CG61) -> 0 | CI61: =SUM(AE61,+BG61) -> 0 | CJ61: =SUM(AF61,+BH61) -> 0 | CK61: =SUM(AG61,+BI61) -> 0 | CL61: =SUM(AH61,+BJ61) -> 0 | CM61: =SUM(AI61,+BK61) -> 0 | CN61: =SUM(AJ61,+BL61) -> 0 | CO61: =SUM(AK61,+BM61) -> 0 | CP61: =SUM(AL61,+BN61) -> 3853 | ... DJ61: =SUM(BF61,+CH61) -> 0

Sheet 廃棄物事業経費（組合）
A1: 廃棄物処理事業経費（一部事務組合・広域連合の合計）（令和4年度実績）
A2: 都道府県名 | B2: 地方公共団体コード | C2: 一部事務組合・広域連合名 | D2: ごみ | M2: し尿 | V2: 合計 | AE2: ごみ（建設改良費＋処理維持管理費＋その他）（組合分担金を除く） | BG2: し尿（建設改良費＋処理維持管理費＋その他）（組合分担金を除く） | CI2: 合計（建設改良費＋処理維持管理費＋その他）（組合分担金を除く）
D3: 合計 (特定財源(市区町村分担金を除く)+一般財源) | M3: 合計 (特定財源(市区町村分担金を除く)+一般財源) | V3: 合計 (特定財源(市区町村分担金を除く)+一般財源) | AE3: 建設改良費 (工事費+調査費)(組合分担金を除く) | AM3: 処理及び維持管理費 (人件費+処理費+車両購入費+委託費+調査研究費)(組合分担金を除く) | BE3: その他 | BF3: 合計 | BG3: 建設改良費 (工事費+調査費)(組合分担金を除く) | BO3: 処理及び維持管理費 (人件費+処理費+車両購入費+委託費+調査研究費)(組合分担金を除く) | CG3: その他 | CH3: 合計 | CI3: 建設改良費 (工事費+調査費)(組合分担金を除く) | CQ3: 処理及び維持管理費 (人件費+処理費+車両購入費+委託費+調査研究費)(組合分担金を除く) | DI3: その他 | DJ3: 合計
E4: 特定財源 (市区町村分担金を除く) | L4: 一般財源 | N4: 特定財源 (市区町村分担金を除く) | U4: 一般財源 | W4: 特定財源 (市区町村分担金を除く) | AD4: 一般財源 | AE4: 合計 | AF4: 工事費 (収集運搬施設+中間処理施設+最終処分場+その他) | AK4: 調査費 | AL4: （建設改良費組合分担金） | AM4: 合計 | AN4: 人件費（一般職＋収集運搬＋中間処理＋最終処分） | AS4: 処理費 (収集運搬費+中間処理費+最終処分費) | AW4: 車両等購入費 | AX4: 委託費 (収集運搬費+中間処理費+最終処分費+その他) | BC4: (組合分担金) | BD4: 調査研究費 | BG4: 合計 | BH4: 工事費 (収集運搬施設+中間処理施設+最終処分場+その他) | BM4: 調査費 | BN4: （建設改良費組合分担金） | BO4: 合計 | BP4: 人件費（一般職＋収集運搬＋中間処理＋最終処分） | BU4: 処理費 (収集運搬費+中間処理費+最終処分費) | BY4: 車両等購入費 | BZ4: 委託費 (収集運搬費+中間処理費+最終処分費+その他) | CE4: (組合分担金) | CF4: 調査研究費 | CI4: 合計 | CJ4: 工事費 (収集運搬施設+中間処理施設+最終処分場+その他) | CO4: 調査費 | CP4: （建設改良費組合分担金） | CQ4: 合計 | CR4: 人件費（一般職＋収集運搬＋中間処理＋最終処分） | CW4: 処理費 (収集運搬費+中間処理費+最終処分費) | DA4: 車両等購入費 | DB4: 委託費 (収集運搬費+中間処理費+最終処分費+その他) | DG4: (組合分担金) | DH4: 調査研究費
E5: 合計 | F5: 国庫支出金 | G5: 都道府県 支出金 | H5: 地方債 | I5: 使用料及び 手数料 | J5: （市区町村 分担金） | K5: その他 | N5: 合計 | O5: 国庫支出金 | P5: 都道府県 支出金 | Q5: 地方債 | R5: 使用料及び 手数料 | S5: （市区町村 分担金） | T5: その他 | W5: 合計 | X5: 国庫支出金 | Y5: 都道府県 支出金 | Z5: 地方債 | AA5: 使用料及び 手数料 | AB5: （市区町村 分担金） | AC5: その他 | AF5: 合計 | AG5: 収集運搬施設 | AH5: 中間処理施設 | AI5: 最終処分場 | AJ5: その他 | AN5: 合計 | AO5: 一般職 | AP5: 収集運搬 | AQ5: 中間処理 | AR5: 最終処分 | AS5: 合計 | AT5: 収集運搬費 | AU5: 中間処理費 | AV5: 最終処分費 | AX5: 合計 | AY5: 収集運搬費 | AZ5: 中間処理費 | BA5: 最終処分費 | BB5: その他 | BH5: 合計 | BI5: 収集運搬施設 | BJ5: 中間処理施設 | BK5: 最終処分場 | BL5: その他 | BP5: 合計 | BQ5: 一般職 | BR5: 収集運搬 | BS5: 中間処理 | BT5: 最終処分 | BU5: 合計 | BV5: 収集運搬費 | BW5: 中間処理費 | BX5: 最終処分費 | BZ5: 合計 | CA5: 収集運搬費 | CB5: 中間処理費 | CC5: 最終処分費 | CD5: その他 | CJ5: 合計 | CK5: 収集運搬施設 | CL5: 中間処理施設 | CM5: 最終処分場 | CN5: その他 | CR5: 合計 | CS5: 一般職 | CT5: 収集運搬 | CU5: 中間処理 | CV5: 最終処分 | CW5: 合計 | CX5: 収集運搬費 | CY5: 中間処理費 | CZ5: 最終処分費 | DB5: 合計 | DC5: 収集運搬費 | DD5: 中間処理費 | DE5: 最終処分費 | DF5: その他
D6: （千円） | E6: （千円） | F6: （千円） | G6: （千円） | H6: （千円） | I6: （千円） | J6: （千円） | K6: （千円） | L6: （千円） | M6: （千円） | N6: （千円） | O6: （千円） | P6: （千円） | Q6: （千円） | R6: （千円） | S6: （千円） | T6: （千円） | U6: （千円） | V6: （千円） | W6: （千円） | X6: （千円） | Y6: （千円） | Z6: （千円） | AA6: （千円） | AB6: （千円） | AC6: （千円） | AD6: （千円） | AE6: （千円） | AF6: （千円） | AG6: （千円） | AH6: （千円） | AI6: （千円） | AJ6: （千円） | AK6: （千円） | AL6: （千円） | AM6: （千円） | AN6: （千円） | AO6: （千円） | AP6: （千円） | AQ6: （千円） | AR6: （千円） | AS6: （千円） | AT6: （千円） | AU6: （千円） | AV6: （千円） | AW6: （千円） | AX6: （千円） | AY6: （千円） | AZ6: （千円） | BA6: （千円） | BB6: （千円） | BC6: （千円） | BD6: （千円） | BE6: （千円） | BF6: （千円） | BG6: （千円） | BH6: （千円） | BI6: （千円） | BJ6: （千円） | BK6: （千円） | BL6: （千円） | BM6: （千円） | BN6: （千円） | BO6: （千円） | BP6: （千円） | BQ6: （千円） | BR6: （千円） | BS6: （千円） | BT6: （千円） | BU6: （千円） | BV6: （千円） | BW6: （千円） | BX6: （千円） | BY6: （千円） | BZ6: （千円） | CA6: （千円） | CB6: （千円） | CC6: （千円） | CD6: （千円） | CE6: （千円） | CF6: （千円） | CG6: （千円） | CH6: （千円） | CI6: （千円） | CJ6: （千円） | CK6: （千円） | CL6: （千円） | CM6: （千円） | CN6: （千円） | CO6: （千円） | CP6: （千円） | CQ6: （千円） | CR6: （千円） | CS6: （千円） | CT6: （千円） | CU6: （千円） | CV6: （千円） | CW6: （千円） | CX6: （千円） | CY6: （千円） | CZ6: （千円） | DA6: （千円） | DB6: （千円） | DC6: （千円） | DD6: （千円） | DE6: （千円） | DF6: （千円） | DG6: （千円） | DH6: （千円） | DI6: （千円） | DJ6: （千円）
A7: ='廃棄物事業経費（市町村）'!A7 -> 愛知県 | B7: ='廃棄物事業経費（市町村）'!B7 -> 23000 | C7: 合計 | D7: =SUM(E7,+L7) -> 9595958 | E7: =SUM(F7:I7)+K7 -> 7253737 | F7: =SUM(F$8:F$57) -> 1290047 | G7: =SUM(G$8:G$57) -> 0 | H7: =SUM(H$8:H$57) -> 2536500 | I7: =SUM(I$8:I$57) -> 2353166 | J7: =SUM(J$8:J$57) -> 10188820 | K7: =SUM(K$8:K$57) -> 1074024 | L7: =SUM(L$8:L$57) -> 2342221 | M7: =SUM(N7,+U7) -> 1087295 | N7: =SUM(O7:R7,T7) -> 971092 | O7: =SUM(O$8:O$57) -> 139251 | P7: =SUM(P$8:P$57) -> 0 | Q7: =SUM(Q$8:Q$57) -> 620000 | R7: =SUM(R$8:R$57) -> 127458 | S7: =SUM(S$8:S$57) -> 2028271 | T7: =SUM(T$8:T$57) -> 84383 | U7: =SUM(U$8:U$57) -> 116203 | V7: =+SUM(D7,M7) -> 10683253 | W7: =+SUM(E7,N7) -> 8224829 | X7: =+SUM(F7,O7) -> 1429298 | Y7: =+SUM(G7,P7) -> 0 | Z7: =+SUM(H7,Q7) -> 3156500 | AA7: =+SUM(I7,R7) -> 2480624 | AB7: =+SUM(J7,S7) -> 12217091 | AC7: =+SUM(K7,T7) -> 1158407 | AD7: =+SUM(L7,U7) -> 2458424 | AE7: =SUM(AF7,+AK7) -> 5225339 | AF7: =SUM(AG7:AJ7) -> 5183258 | AG7: =SUM(AG$8:AG$57) -> 0 | AH7: =SUM(AH$8:AH$57) -> 5165149 | AI7: =SUM(AI$8:AI$57) -> 18109 | AJ7: =SUM(AJ$8:AJ$57) -> 0 | AK7: =SUM(AK$8:AK$57) -> 42081 | AL7: - | AM7: =SUM(AN7,AS7,AW7,AX7,BD7) -> 11883437 | AN7: =SUM(AO7:AR7) -> 1555170 | AO7: =SUM(AO$8:AO$57) -> 1130160 | AP7: =SUM(AP$8:AP$57) -> 0 | AQ7: =SUM(AQ$8:AQ$57) -> 407394 | AR7: =SUM(AR$8:AR$57) -> 17616 | AS7: =SUM(AT7:AV7) -> 3593348 | AT7: =SUM(AT$8:AT$57) -> 0 | AU7: =SUM(AU$8:AU$57) -> 3365164 | AV7: =SUM(AV$8:AV$57) -> 228184 | AW7: =SUM(AW$8:AW$57) -> 10238 | AX7: =SUM(AY7:BB7) -> 6724681 | AY7: =SUM(AY$8:AY$57) -> 403668 | AZ7: =SUM(AZ$8:AZ$57) -> 5081949 | BA7: =SUM(BA$8:BA$57) -> 1136596 | BB7: =SUM(BB$8:BB$57) -> 102468 | BC7: - | BD7: =SUM(BD$8:BD$57) -> 0 | BE7: =SUM(BE$8:BE$57) -> 2676002 | BF7: =SUM(AE7,+AM7,+BE7) -> 19784778 | BG7: =SUM(BH7,+BM7) -> 598539 | BH7: =SUM(BI7:BL7) -> 598539 | BI7: =SUM(BI$8:BI$57) -> 0 | BJ7: =SUM(BJ$8:BJ$57) -> 598539 | BK7: =SUM(BK$8:BK$57) -> 0 | BL7: =SUM(BL$8:BL$57) -> 0 | BM7: =SUM(BM$8:BM$57) -> 0 | BN7: - | BO7: =SUM(BP7,BU7,BY7,BZ7,CF7) -> 2392701 | BP7: =SUM(BQ7:BT7) -> 325487 | BQ7: =SUM(BQ$8:BQ$57) -> 228406 | BR7: =SUM(BR$8:BR$57) -> 0 | BS7: =SUM(BS$8:BS$57) -> 97081 | BT7: =SUM(BT$8:BT$57) -> 0 | BU7: =SUM(BV7:BX7) -> 1350953 | BV7: =SUM(BV$8:BV$57) -> 0 | BW7: =SUM(BW$8:BW$57) -> 1327890 | BX7: =SUM(BX$8:BX$57) -> 23063 | BY7: =SUM(BY$8:BY$57) -> 0 | BZ7: =SUM(CA7:CD7) -> 716261 | CA7: =SUM(CA$8:CA$57) -> 3207 | CB7: =SUM(CB$8:CB$57) -> 443176 | CC7: =SUM(CC$8:CC$57) -> 75628 | CD7: =SUM(CD$8:CD$57) -> 194250 | CE7: - | CF7: =SUM(CF$8:CF$57) -> 0 | CG7: =SUM(CG$8:CG$57) -> 124326 | CH7: =SUM(BG7,+BO7,+CG7) -> 3115566 | CI7: =SUM(AE7,+BG7) -> 5823878 | CJ7: =SUM(AF7,+BH7) -> 5781797 | CK7: =SUM(AG7,+BI7) -> 0 | CL7: =SUM(AH7,+BJ7) -> 5763688 | CM7: =SUM(AI7,+BK7) -> 18109 | CN7: =SUM(AJ7,+BL7) -> 0 | CO7: =SUM(AK7,+BM7) -> 42081 | CP7: - | CQ7: =SUM(AM7,+BO7) -> 14276138 | CR7: =SUM(AN7,+BP7) -> 1880657 | CS7: =SUM(AO7,+BQ7) -> 1358566 | CT7: =SUM(AP7,+BR7) -> 0 | CU7: =SUM(AQ7,+BS7) -> 504475 | CV7: =SUM(AR7,+BT7) -> 17616 | CW7: =SUM(AS7,+BU7) -> 4944301 | CX7: =SUM(AT7,+BV7) -> 0 | ... DF7: =SUM(BB7,+CD7) -> 296718 | DG7: - | DH7: =SUM(BD7,+CF7) -> 0 | DI7: =SUM(BE7,+CG7) -> 2800328 | DJ7: =SUM(BF7,+CH7) -> 22900344
A8: 愛知県 | B8: 23833 | C8: 愛北広域事務組合 | D8: =SUM(E8,+L8) -> 0 | E8: =SUM(F8:I8)+K8 -> 0 | F8: 0 | G8: 0 | H8: 0 | I8: 0 | J8: 0 | K8: 0 | L8: 0 | M8: =SUM(N8,+U8) -> 20954 | N8: =SUM(O8:R8,T8) -> 0 | O8: 0 | P8: 0 | Q8: 0 | R8: 0 | S8: 333931 | T8: 0 | U8: 20954 | V8: =+SUM(D8,M8) -> 20954 | W8: =+SUM(E8,N8) -> 0 | X8: =+SUM(F8,O8) -> 0 | Y8: =+SUM(G8,P8) -> 0 | Z8: =+SUM(H8,Q8) -> 0 | AA8: =+SUM(I8,R8) -> 0 | AB8: =+SUM(J8,S8) -> 333931 | AC8: =+SUM(K8,T8) -> 0 | AD8: =+SUM(L8,U8) -> 20954 | AE8: =SUM(AF8,+AK8) -> 0 | AF8: =SUM(AG8:AJ8) -> 0 | AG8: 0 | AH8: 0 | AI8: 0 | AJ8: 0 | AK8: 0 | AL8: - | AM8: =SUM(AN8,AS8,AW8,AX8,BD8) -> 0 | AN8: =SUM(AO8:AR8) -> 0 | AO8: 0 | AP8: 0 | AQ8: 0 | AR8: 0 | AS8: =SUM(AT8:AV8) -> 0 | AT8: 0 | AU8: 0 | AV8: 0 | AW8: 0 | AX8: =SUM(AY8:BB8) -> 0 | AY8: 0 | AZ8: 0 | BA8: 0 | BB8: 0 | BC8: - | BD8: 0 | BE8: 0 | BF8: =SUM(AE8,+AM8,+BE8) -> 0 | BG8: =SUM(BH8,+BM8) -> 0 | BH8: =SUM(BI8:BL8) -> 0 | BI8: 0 | BJ8: 0 | BK8: 0 | BL8: 0 | BM8: 0 | BN8: - | BO8: =SUM(BP8,BU8,BY8,BZ8,CF8) -> 337182 | BP8: =SUM(BQ8:BT8) -> 104958 | BQ8: 51969 | BR8: 0 | BS8: 52989 | BT8: 0 | BU8: =SUM(BV8:BX8) -> 0 | BV8: 0 | BW8: 0 | BX8: 0 | BY8: 0 | BZ8: =SUM(CA8:CD8) -> 232224 | CA8: 0 | CB8: 67960 | CC8: 1464 | CD8: 162800 | CE8: - | CF8: 0 | CG8: 17703 | CH8: =SUM(BG8,+BO8,+CG8) -> 354885 | CI8: =SUM(AE8,+BG8) -> 0 | CJ8: =SUM(AF8,+BH8) -> 0 | CK8: =SUM(AG8,+BI8) -> 0 | CL8: =SUM(AH8,+BJ8) -> 0 | CM8: =SUM(AI8,+BK8) -> 0 | CN8: =SUM(AJ8,+BL8) -> 0 | CO8: =SUM(AK8,+BM8) -> 0 | CP8: - | CQ8: =SUM(AM8,+BO8) -> 337182 | CR8: =SUM(AN8,+BP8) -> 104958 | CS8: =SUM(AO8,+BQ8) -> 51969 | CT8: =SUM(AP8,+BR8) -> 0 | CU8: =SUM(AQ8,+BS8) -> 52989 | CV8: =SUM(AR8,+BT8) -> 0 | CW8: =SUM(AS8,+BU8) -> 0 | CX8: =SUM(AT8,+BV8) -> 0 | ... DF8: =SUM(BB8,+CD8) -> 162800 | DG8: - | DH8: =SUM(BD8,+CF8) -> 0 | DI8: =SUM(BE8,+CG8) -> 17703 | DJ8: =SUM(BF8,+CH8) -> 354885
A9: 愛知県 | B9: 23835 | C9: 中部知多衛生組合 | D9: =SUM(E9,+L9) -> 0 | E9: =SUM(F9:I9)+K9 -> 0 | F9: 0 | G9: 0 | H9: 0 | I9: 0 | J9: 0 | K9: 0 | L9: 0 | M9: =SUM(N9,+U9) -> 570162 | N9: =SUM(O9:R9,T9) -> 570162 | O9: 139251 | P9: 0 | Q9: 359100 | R9: 0 | S9: 246463 | T9: 71811 | U9: 0 | V9: =+SUM(D9,M9) -> 570162 | W9: =+SUM(E9,N9) -> 570162 | X9: =+SUM(F9,O9) -> 139251 | Y9: =+SUM(G9,P9) -> 0 | Z9: =+SUM(H9,Q9) -> 359100 | AA9: =+SUM(I9,R9) -> 0 | AB9: =+SUM(J9,S9) -> 246463 | AC9: =+SUM(K9,T9) -> 71811 | AD9: =+SUM(L9,U9) -> 0 | AE9: =SUM(AF9,+AK9) -> 0 | AF9: =SUM(AG9:AJ9) -> 0 | AG9: 0 | AH9: 0 | AI9: 0 | AJ9: 0 | AK9: 0 | AL9: - | AM9: =SUM(AN9,AS9,AW9,AX9,BD9) -> 0 | AN9: =SUM(AO9:AR9) -> 0 | AO9: 0 | AP9: 0 | AQ9: 0 | AR9: 0 | AS9: =SUM(AT9:AV9) -> 0 | AT9: 0 | AU9: 0 | AV9: 0 | AW9: 0 | AX9: =SUM(AY9:BB9) -> 0 | AY9: 0 | AZ9: 0 | BA9: 0 | BB9: 0 | BC9: - | BD9: 0 | BE9: 0 | BF9: =SUM(AE9,+AM9,+BE9) -> 0 | BG9: =SUM(BH9,+BM9) -> 562518 | BH9: =SUM(BI9:BL9) -> 562518 | BI9: 0 | BJ9: 562518 | BK9: 0 | BL9: 0 | BM9: 0 | BN9: - | BO9: =SUM(BP9,BU9,BY9,BZ9,CF9) -> 225468 | BP9: =SUM(BQ9:BT9) -> 27306 | BQ9: 27306 | BR9: 0 | BS9: 0 | BT9: 0 | BU9: =SUM(BV9:BX9) -> 153183 | BV9: 0 | BW9: 130856 | BX9: 22327 | BY9: 0 | BZ9: =SUM(CA9:CD9) -> 44979 | CA9: 0 | CB9: 43549 | CC9: 1430 | CD9: 0 | CE9: - | CF9: 0 | CG9: 28639 | CH9: =SUM(BG9,+BO9,+CG9) -> 816625 | CI9: =SUM(AE9,+BG9) -> 562518 | CJ9: =SUM(AF9,+BH9) -> 562518 | CK9: =SUM(AG9,+BI9) -> 0 | CL9: =SUM(AH9,+BJ9) -> 562518 | CM9: =SUM(AI9,+BK9) -> 0 | CN9: =SUM(AJ9,+BL9) -> 0 | CO9: =SUM(AK9,+BM9) -> 0 | CP9: - | CQ9: =SUM(AM9,+BO9) -> 225468 | CR9: =SUM(AN9,+BP9) -> 27306 | CS9: =SUM(AO9,+BQ9) -> 27306 | CT9: =SUM(AP9,+BR9) -> 0 | CU9: =SUM(AQ9,+BS9) -> 0 | CV9: =SUM(AR9,+BT9) -> 0 | CW9: =SUM(AS9,+BU9) -> 153183 | CX9: =SUM(AT9,+BV9) -> 0 | ... DF9: =SUM(BB9,+CD9) -> 0 | DG9: - | DH9: =SUM(BD9,+CF9) -> 0 | DI9: =SUM(BE9,+CG9) -> 28639 | DJ9: =SUM(BF9,+CH9) -> 816625
A10: 愛知県 | B10: 23837 | C10: 東部知多衛生組合 | D10: =SUM(E10,+L10) -> 445884 | E10: =SUM(F10:I10)+K10 -> 233986 | F10: 0 | G10: 0 | H10: 0 | I10: 233986 | J10: 1066812 | K10: 0 | L10: 211898 | M10: =SUM(N10,+U10) -> 4325 | N10: =SUM(O10:R10,T10) -> 0 | O10: 0 | P10: 0 | Q10: 0 | R10: 0 | S10: 92825 | T10: 0 | U10: 4325 | V10: =+SUM(D10,M10) -> 450209 | W10: =+SUM(E10,N10) -> 233986 | X10: =+SUM(F10,O10) -> 0 | Y10: =+SUM(G10,P10) -> 0 | Z10: =+SUM(H10,Q10) -> 0 | AA10: =+SUM(I10,R10) -> 233986 | AB10: =+SUM(J10,S10) -> 1159637 | AC10: =+SUM(K10,T10) -> 0 | AD10: =+SUM(L10,U10) -> 216223 | AE10: =SUM(AF10,+AK10) -> 0 | AF10: =SUM(AG10:AJ10) -> 0 | AG10: 0 | AH10: 0 | AI10: 0 | AJ10: 0 | AK10: 0 | AL10: - | AM10: =SUM(AN10,AS10,AW10,AX10,BD10) -> 1512696 | AN10: =SUM(AO10:AR10) -> 60946 | AO10: 54851 | AP10: 0 | AQ10: 6095 | AR10: 0 | AS10: =SUM(AT10:AV10) -> 216887 | AT10: 0 | AU10: 209696 | AV10: 7191 | AW10: 0 | AX10: =SUM(AY10:BB10) -> 1234863 | AY10: 0 | AZ10: 1207161 | BA10: 27702 | BB10: 0 | BC10: - | BD10: 0 | BE10: 0 | BF10: =SUM(AE10,+AM10,+BE10) -> 1512696 | BG10: =SUM(BH10,+BM10) -> 0 | BH10: =SUM(BI10:BL10) -> 0 | BI10: 0 | BJ10: 0 | BK10: 0 | BL10: 0 | BM10: 0 | BN10: - | BO10: =SUM(BP10,BU10,BY10,BZ10,CF10) -> 97150 | BP10: =SUM(BQ10:BT10) -> 18283 | BQ10: 12189 | BR10: 0 | BS10: 6094 | BT10: 0 | BU10: =SUM(BV10:BX10) -> 34336 | BV10: 0 | BW10: 34115 | BX10: 221 | BY10: 0 | BZ10: =SUM(CA10:CD10) -> 44531 | CA10: 0 | CB10: 44531 | CC10: 0 | CD10: 0 | CE10: - | CF10: 0 | CG10: 0 | CH10: =SUM(BG10,+BO10,+CG10) -> 97150 | CI10: =SUM(AE10,+BG10) -> 0 | CJ10: =SUM(AF10,+BH10) -> 0 | CK10: =SUM(AG10,+BI10) -> 0 | CL10: =SUM(AH10,+BJ10) -> 0 | CM10: =SUM(AI10,+BK10) -> 0 | CN10: =SUM(AJ10,+BL10) -> 0 | CO10: =SUM(AK10,+BM10) -> 0 | CP10: - | CQ10: =SUM(AM10,+BO10) -> 1609846 | CR10: =SUM(AN10,+BP10) -> 79229 | CS10: =SUM(AO10,+BQ10) -> 67040 | CT10: =SUM(AP10,+BR10) -> 0 | CU10: =SUM(AQ10,+BS10) -> 12189 | CV10: =SUM(AR10,+BT10) -> 0 | CW10: =SUM(AS10,+BU10) -> 251223 | CX10: =SUM(AT10,+BV10) -> 0 | ... DF10: =SUM(BB10,+CD10) -> 0 | DG10: - | DH10: =SUM(BD10,+CF10) -> 0 | DI10: =SUM(BE10,+CG10) -> 0 | DJ10: =SUM(BF10,+CH10) -> 1609846
A11: 愛知県 | B11: 23838 | C11: 衣浦衛生組合 | D11: =SUM(E11,+L11) -> 531311 | E11: =SUM(F11:I11)+K11 -> 476608 | F11: 0 | G11: 0 | H11: 170400 | I11: 182663 | J11: 1280756 | K11: 123545 | L11: 54703 | M11: =SUM(N11,+U11) -> 0 | N11: =SUM(O11:R11,T11) -> 0 | O11: 0 | P11: 0 | Q11: 0 | R11: 0 | S11: 0 | T11: 0 | U11: 0 | V11: =+SUM(D11,M11) -> 531311 | W11: =+SUM(E11,N11) -> 476608 | X11: =+SUM(F11,O11) -> 0 | Y11: =+SUM(G11,P11) -> 0 | Z11: =+SUM(H11,Q11) -> 170400 | AA11: =+SUM(I11,R11) -> 182663 | AB11: =+SUM(J11,S11) -> 1280756 | AC11: =+SUM(K11,T11) -> 123545 | AD11: =+SUM(L11,U11) -> 54703 | AE11: =SUM(AF11,+AK11) -> 341230 | AF11: =SUM(AG11:AJ11) -> 341230 | AG11: 0 | AH11: 341230 | AI11: 0 | AJ11: 0 | AK11: 0 | AL11: - | AM11: =SUM(AN11,AS11,AW11,AX11,BD11) -> 1228376 | AN11: =SUM(AO11:AR11) -> 91703 | AO11: 91703 | AP11: 0 | AQ11: 0 | AR11: 0 | AS11: =SUM(AT11:AV11) -> 594031 | AT11: 0 | AU11: 594031 | AV11: 0 | AW11: 0 | AX11: =SUM(AY11:BB11) -> 542642 | AY11: 0 | AZ11: 450468 | BA11: 92174 | BB11: 0 | BC11: - | BD11: 0 | BE11: 242461 | BF11: =SUM(AE11,+AM11,+BE11) -> 1812067 | BG11: =SUM(BH11,+BM11) -> 0 | BH11: =SUM(BI11:BL11) -> 0 | BI11: 0 | BJ11: 0 | BK11: 0 | BL11: 0 | BM11: 0 | BN11: - | BO11: =SUM(BP11,BU11,BY11,BZ11,CF11) -> 0 | BP11: =SUM(BQ11:BT11) -> 0 | BQ11: 0 | BR11: 0 | BS11: 0 | BT11: 0 | BU11: =SUM(BV11:BX11) -> 0 | BV11: 0 | BW11: 0 | BX11: 0 | BY11: 0 | BZ11: =SUM(CA11:CD11) -> 0 | CA11: 0 | CB11: 0 | CC11: 0 | CD11: 0 | CE11: - | CF11: 0 | CG11: 0 | CH11: =SUM(BG11,+BO11,+CG11) -> 0 | CI11: =SUM(AE11,+BG11) -> 341230 | CJ11: =SUM(AF11,+BH11) -> 341230 | CK11: =SUM(AG11,+BI11) -> 0 | CL11: =SUM(AH11,+BJ11) -> 341230 | CM11: =SUM(AI11,+BK11) -> 0 | CN11: =SUM(AJ11,+BL11) -> 0 | CO11: =SUM(AK11,+BM11) -> 0 | CP11: - | CQ11: =SUM(AM11,+BO11) -> 1228376 | CR11: =SUM(AN11,+BP11) -> 91703 | CS11: =SUM(AO11,+BQ11) -> 91703 | CT11: =SUM(AP11,+BR11) -> 0 | CU11: =SUM(AQ11,+BS11) -> 0 | CV11: =SUM(AR11,+BT11) -> 0 | CW11: =SUM(AS11,+BU11) -> 594031 | CX11: =SUM(AT11,+BV11) -> 0 | ... DF11: =SUM(BB11,+CD11) -> 0 | DG11: - | DH11: =SUM(BD11,+CF11) -> 0 | DI11: =SUM(BE11,+CG11) -> 242461 | DJ11: =SUM(BF11,+CH11) -> 1812067
A12: 愛知県 | B12: 23841 | C12: 常滑武豊衛生組合 | D12: =SUM(E12,+L12) -> 68330 | E12: =SUM(F12:I12)+K12 -> 68330 | F12: 42006 | G12: 0 | H12: 0 | I12: 0 | J12: 87490 | K12: 26324 | L12: 0 | M12: =SUM(N12,+U12) -> 0 | N12: =SUM(O12:R12,T12) -> 0 | O12: 0 | P12: 0 | Q12: 0 | R12: 0 | S12: 0 | T12: 0 | U12: 0 | V12: =+SUM(D12,M12) -> 68330 | W12: =+SUM(E12,N12) -> 68330 | X12: =+SUM(F12,O12) -> 42006 | Y12: =+SUM(G12,P12) -> 0 | Z12: =+SUM(H12,Q12) -> 0 | AA12: =+SUM(I12,R12) -> 0 | AB12: =+SUM(J12,S12) -> 87490 | AC12: =+SUM(K12,T12) -> 26324 | AD12: =+SUM(L12,U12) -> 0 | AE12: =SUM(AF12,+AK12) -> 110661 | AF12: =SUM(AG12:AJ12) -> 100706 | AG12: 0 | AH12: 100706 | AI12: 0 | AJ12: 0 | AK12: 9955 | AL12: - | AM12: =SUM(AN12,AS12,AW12,AX12,BD12) -> 0 | AN12: =SUM(AO12:AR12) -> 0 | AO12: 0 | AP12: 0 | AQ12: 0 | AR12: 0 | AS12: =SUM(AT12:AV12) -> 0 | AT12: 0 | AU12: 0 | AV12: 0 | AW12: 0 | AX12: =SUM(AY12:BB12) -> 0 | AY12: 0 | AZ12: 0 | BA12: 0 | BB12: 0 | BC12: - | BD12: 0 | BE12: 45159 | BF12: =SUM(AE12,+AM12,+BE12) -> 155820 | BG12: =SUM(BH12,+BM12) -> 0 | BH12: =SUM(BI12:BL12) -> 0 | BI12: 0 | BJ12: 0 | BK12: 0 | BL12: 0 | BM12: 0 | BN12: - | BO12: =SUM(BP12,BU12,BY12,BZ12,CF12) -> 0 | BP12: =SUM(BQ12:BT12) -> 0 | BQ12: 0 | BR12: 0 | BS12: 0 | BT12: 0 | BU12: =SUM(BV12:BX12) -> 0 | BV12: 0 | BW12: 0 | BX12: 0 | BY12: 0 | BZ12: =SUM(CA12:CD12) -> 0 | CA12: 0 | CB12: 0 | CC12: 0 | CD12: 0 | CE12: - | CF12: 0 | CG12: 0 | CH12: =SUM(BG12,+BO12,+CG12) -> 0 | CI12: =SUM(AE12,+BG12) -> 110661 | CJ12: =SUM(AF12,+BH12) -> 100706 | CK12: =SUM(AG12,+BI12) -> 0 | CL12: =SUM(AH12,+BJ12) -> 100706 | CM12: =SUM(AI12,+BK12) -> 0 | CN12: =SUM(AJ12,+BL12) -> 0 | CO12: =SUM(AK12,+BM12) -> 9955 | CP12: - | CQ12: =SUM(AM12,+BO12) -> 0 | CR12: =SUM(AN12,+BP12) -> 0 | CS12: =SUM(AO12,+BQ12) -> 0 | CT12: =SUM(AP12,+BR12) -> 0 | CU12: =SUM(AQ12,+BS12) -> 0 | CV12: =SUM(AR12,+BT12) -> 0 | CW12: =SUM(AS12,+BU12) -> 0 | CX12: =SUM(AT12,+BV12) -> 0 | ... DF12: =SUM(BB12,+CD12) -> 0 | DG12: - | DH12: =SUM(BD12,+CF12) -> 0 | DI12: =SUM(BE12,+CG12) -> 45159 | DJ12: =SUM(BF12,+CH12) -> 155820
A13: 愛知県 | B13: 23842 | C13: 蒲郡市幸田町衛生組合 | D13: =SUM(E13,+L13) -> 0 | E13: =SUM(F13:I13)+K13 -> 0 | F13: 0 | G13: 0 | H13: 0 | I13: 0 | J13: 0 | K13: 0 | L13: 0 | M13: =SUM(N13,+U13) -> 4565 | N13: =SUM(O13:R13,T13) -> 4474 | O13: 0 | P13: 0 | Q13: 0 | R13: 4474 | S13: 123807 | T13: 0 | U13: 91 | V13: =+SUM(D13,M13) -> 4565 | W13: =+SUM(E13,N13) -> 4474 | X13: =+SUM(F13,O13) -> 0 | Y13: =+SUM(G13,P13) -> 0 | Z13: =+SUM(H13,Q13) -> 0 | AA13: =+SUM(I13,R13) -> 4474 | AB13: =+SUM(J13,S13) -> 123807 | AC13: =+SUM(K13,T13) -> 0 | AD13: =+SUM(L13,U13) -> 91 | AE13: =SUM(AF13,+AK13) -> 0 | AF13: =SUM(AG13:AJ13) -> 0 | AG13: 0 | AH13: 0 | AI13: 0 | AJ13: 0 | AK13: 0 | AL13: - | AM13: =SUM(AN13,AS13,AW13,AX13,BD13) -> 0 | AN13: =SUM(AO13:AR13) -> 0 | AO13: 0 | AP13: 0 | AQ13: 0 | AR13: 0 | AS13: =SUM(AT13:AV13) -> 0 | AT13: 0 | AU13: 0 | AV13: 0 | AW13: 0 | AX13: =SUM(AY13:BB13) -> 0 | AY13: 0 | AZ13: 0 | BA13: 0 | BB13: 0 | BC13: - | BD13: 0 | BE13: 0 | BF13: =SUM(AE13,+AM13,+BE13) -> 0 | BG13: =SUM(BH13,+BM13) -> 0 | BH13: =SUM(BI13:BL13) -> 0 | BI13: 0 | BJ13: 0 | BK13: 0 | BL13: 0 | BM13: 0 | BN13: - | BO13: =SUM(BP13,BU13,BY13,BZ13,CF13) -> 128372 | BP13: =SUM(BQ13:BT13) -> 3640 | BQ13: 0 | BR13: 0 | BS13: 3640 | BT13: 0 | BU13: =SUM(BV13:BX13) -> 83476 | BV13: 0 | BW13: 83476 | BX13: 0 | BY13: 0 | BZ13: =SUM(CA13:CD13) -> 41256 | CA13: 0 | CB13: 41256 | CC13: 0 | CD13: 0 | CE13: - | CF13: 0 | CG13: 0 | CH13: =SUM(BG13,+BO13,+CG13) -> 128372 | CI13: =SUM(AE13,+BG13) -> 0 | CJ13: =SUM(AF13,+BH13) -> 0 | CK13: =SUM(AG13,+BI13) -> 0 | CL13: =SUM(AH13,+BJ13) -> 0 | CM13: =SUM(AI13,+BK13) -> 0 | CN13: =SUM(AJ13,+BL13) -> 0 | CO13: =SUM(AK13,+BM13) -> 0 | CP13: - | CQ13: =SUM(AM13,+BO13) -> 128372 | CR13: =SUM(AN13,+BP13) -> 3640 | CS13: =SUM(AO13,+BQ13) -> 0 | CT13: =SUM(AP13,+BR13) -> 0 | CU13: =SUM(AQ13,+BS13) -> 3640 | CV13: =SUM(AR13,+BT13) -> 0 | CW13: =SUM(AS13,+BU13) -> 83476 | CX13: =SUM(AT13,+BV13) -> 0 | ... DF13: =SUM(BB13,+CD13) -> 0 | DG13: - | DH13: =SUM(BD13,+CF13) -> 0 | DI13: =SUM(BE13,+CG13) -> 0 | DJ13: =SUM(BF13,+CH13) -> 128372
A14: 愛知県 | B14: 23846 | C14: 西知多医療厚生組合 | D14: =SUM(E14,+L14) -> 3798214 | E14: =SUM(F14:I14)+K14 -> 3043964 | F14: 1125960 | G14: 0 | H14: 1918000 | I14: 0 | J14: 17658 | K14: 4 | L14: 754250 | M14: =SUM(N14,+U14) -> 33412 | N14: =SUM(O14:R14,T14) -> 12571 | O14: 0 | P14: 0 | Q14: 0 | R14: 0 | S14: 223267 | T14: 12571 | U14: 20841 | V14: =+SUM(D14,M14) -> 3831626 | W14: =+SUM(E14,N14) -> 3056535 | X14: =+SUM(F14,O14) -> 1125960 | Y14: =+SUM(G14,P14) -> 0 | Z14: =+SUM(H14,Q14) -> 1918000 | AA14: =+SUM(I14,R14) -> 0 | AB14: =+SUM(J14,S14) -> 240925 | AC14: =+SUM(K14,T14) -> 12575 | AD14: =+SUM(L14,U14) -> 775091 | AE14: =SUM(AF14,+AK14) -> 3587184 | AF14: =SUM(AG14:AJ14) -> 3568735 | AG14: 0 | AH14: 3568735 | AI14: 0 | AJ14: 0 | AK14: 18449 | AL14: - | AM14: =SUM(AN14,AS14,AW14,AX14,BD14) -> 0 | AN14: =SUM(AO14:AR14) -> 0 | AO14: 0 | AP14: 0 | AQ14: 0 | AR14: 0 | AS14: =SUM(AT14:AV14) -> 0 | AT14: 0 | AU14: 0 | AV14: 0 | AW14: 0 | AX14: =SUM(AY14:BB14) -> 0 | AY14: 0 | AZ14: 0 | BA14: 0 | BB14: 0 | BC14: - | BD14: 0 | BE14: 228688 | BF14: =SUM(AE14,+AM14,+BE14) -> 3815872 | BG14: =SUM(BH14,+BM14) -> 0 | BH14: =SUM(BI14:BL14) -> 0 | BI14: 0 | BJ14: 0 | BK14: 0 | BL14: 0 | BM14: 0 | BN14: - | BO14: =SUM(BP14,BU14,BY14,BZ14,CF14) -> 234447 | BP14: =SUM(BQ14:BT14) -> 30370 | BQ14: 22360 | BR14: 0 | BS14: 8010 | BT14: 0 | BU14: =SUM(BV14:BX14) -> 194396 | BV14: 0 | BW14: 193881 | BX14: 515 | BY14: 0 | BZ14: =SUM(CA14:CD14) -> 9681 | CA14: 0 | CB14: 8932 | CC14: 749 | CD14: 0 | CE14: - | CF14: 0 | CG14: 22232 | CH14: =SUM(BG14,+BO14,+CG14) -> 256679 | CI14: =SUM(AE14,+BG14) -> 3587184 | CJ14: =SUM(AF14,+BH14) -> 3568735 | CK14: =SUM(AG14,+BI14) -> 0 | CL14: =SUM(AH14,+BJ14) -> 3568735 | CM14: =SUM(AI14,+BK14) -> 0 | CN14: =SUM(AJ14,+BL14) -> 0 | CO14: =SUM(AK14,+BM14) -> 18449 | CP14: - | CQ14: =SUM(AM14,+BO14) -> 234447 | CR14: =SUM(AN14,+BP14) -> 30370 | CS14: =SUM(AO14,+BQ14) -> 22360 | CT14: =SUM(AP14,+BR14) -> 0 | CU14: =SUM(AQ14,+BS14) -> 8010 | CV14: =SUM(AR14,+BT14) -> 0 | CW14: =SUM(AS14,+BU14) -> 194396 | CX14: =SUM(AT14,+BV14) -> 0 | ... DF14: =SUM(BB14,+CD14) -> 0 | DG14: - | DH14: =SUM(BD14,+CF14) -> 0 | DI14: =SUM(BE14,+CG14) -> 250920 | DJ14: =SUM(BF14,+CH14) -> 4072551
A15: 愛知県 | B15: 23848 | C15: 尾張東部衛生組合 | D15: =SUM(E15,+L15) -> 1022657 | E15: =SUM(F15:I15)+K15 -> 405957 | F15: 0 | G15: 0 | H15: 0 | I15: 405957 | J15: 610296 | K15: 0 | L15: 616700 | M15: =SUM(N15,+U15) -> 0 | N15: =SUM(O15:R15,T15) -> 0 | O15: 0 | P15: 0 | Q15: 0 | R15: 0 | S15: 0 | T15: 0 | U15: 0 | V15: =+SUM(D15,M15) -> 1022657 | W15: =+SUM(E15,N15) -> 405957 | X15: =+SUM(F15,O15) -> 0 | Y15: =+SUM(G15,P15) -> 0 | Z15: =+SUM(H15,Q15) -> 0 | AA15: =+SUM(I15,R15) -> 405957 | AB15: =+SUM(J15,S15) -> 610296 | AC15: =+SUM(K15,T15) -> 0 | AD15: =+SUM(L15,U15) -> 616700 | AE15: =SUM(AF15,+AK15) -> 6711 | AF15: =SUM(AG15:AJ15) -> 6711 | AG15: 0 | AH15: 6711 | AI15: 0 | AJ15: 0 | AK15: 0 | AL15: - | AM15: =SUM(AN15,AS15,AW15,AX15,BD15) -> 1127078 | AN15: =SUM(AO15:AR15) -> 280543 | AO15: 104095 | AP15: 0 | AQ15: 176448 | AR15: 0 | AS15: =SUM(AT15:AV15) -> 645093 | AT15: 0 | AU15: 583415 | AV15: 61678 | AW15: 0 | AX15: =SUM(AY15:BB15) -> 201442 | AY15: 0 | AZ15: 44484 | BA15: 148944 | BB15: 8014 | BC15: - | BD15: 0 | BE15: 499164 | BF15: =SUM(AE15,+AM15,+BE15) -> 1632953 | BG15: =SUM(BH15,+BM15) -> 0 | BH15: =SUM(BI15:BL15) -> 0 | BI15: 0 | BJ15: 0 | BK15: 0 | BL15: 0 | BM15: 0 | BN15: - | BO15: =SUM(BP15,BU15,BY15,BZ15,CF15) -> 0 | BP15: =SUM(BQ15:BT15) -> 0 | BQ15: 0 | BR15: 0 | BS15: 0 | BT15: 0 | BU15: =SUM(BV15:BX15) -> 0 | BV15: 0 | BW15: 0 | BX15: 0 | BY15: 0 | BZ15: =SUM(CA15:CD15) -> 0 | CA15: 0 | CB15: 0 | CC15: 0 | CD15: 0 | CE15: - | CF15: 0 | CG15: 0 | CH15: =SUM(BG15,+BO15,+CG15) -> 0 | CI15: =SUM(AE15,+BG15) -> 6711 | CJ15: =SUM(AF15,+BH15) -> 6711 | CK15: =SUM(AG15,+BI15) -> 0 | CL15: =SUM(AH15,+BJ15) -> 6711 | CM15: =SUM(AI15,+BK15) -> 0 | CN15: =SUM(AJ15,+BL15) -> 0 | CO15: =SUM(AK15,+BM15) -> 0 | CP15: - | CQ15: =SUM(AM15,+BO15) -> 1127078 | CR15: =SUM(AN15,+BP15) -> 280543 | CS15: =SUM(AO15,+BQ15) -> 104095 | CT15: =SUM(AP15,+BR15) -> 0 | CU15: =SUM(AQ15,+BS15) -> 176448 | CV15: =SUM(AR15,+BT15) -> 0 | CW15: =SUM(AS15,+BU15) -> 645093 | CX15: =SUM(AT15,+BV15) -> 0 | ... DF15: =SUM(BB15,+CD15) -> 8014 | DG15: - | DH15: =SUM(BD15,+CF15) -> 0 | DI15: =SUM(BE15,+CG15) -> 499164 | DJ15: =SUM(BF15,+CH15) -> 1632953
A16: 愛知県 | B16: 23849 | C16: 海部地区環境事務組合 | D16: =SUM(E16,+L16) -> 659526 | E16: =SUM(F16:I16)+K16 -> 579566 | F16: 0 | G16: 0 | H16: 0 | I16: 316803 | J16: 1326732 | K16: 262763 | L16: 79960 | M16: =SUM(N16,+U16) -> 0 | N16: =SUM(O16:R16,T16) -> 0 | O16: 0 | P16: 0 | Q16: 0 | R16: 0 | S16: 347914 | T16: 0 | U16: 0 | V16: =+SUM(D16,M16) -> 659526 | W16: =+SUM(E16,N16) -> 579566 | X16: =+SUM(F16,O16) -> 0 | Y16: =+SUM(G16,P16) -> 0 | Z16: =+SUM(H16,Q16) -> 0 | AA16: =+SUM(I16,R16) -> 316803 | AB16: =+SUM(J16,S16) -> 1674646 | AC16: =+SUM(K16,T16) -> 262763 | AD16: =+SUM(L16,U16) -> 79960 | AE16: =SUM(AF16,+AK16) -> 262658 | AF16: =SUM(AG16:AJ16) -> 262658 | AG16: 0 | AH16: 262658 | AI16: 0 | AJ16: 0 | AK16: 0 | AL16: - | AM16: =SUM(AN16,AS16,AW16,AX16,BD16) -> 1605755 | AN16: =SUM(AO16:AR16) -> 126927 | AO16: 126927 | AP16: 0 | AQ16: 0 | AR16: 0 | AS16: =SUM(AT16:AV16) -> 381272 | AT16: 0 | AU16: 282723 | AV16: 98549 | AW16: 0 | AX16: =SUM(AY16:BB16) -> 1097556 | AY16: 0 | AZ16: 830340 | BA16: 267216 | BB16: 0 | BC16: - | BD16: 0 | BE16: 117845 | BF16: =SUM(AE16,+AM16,+BE16) -> 1986258 | BG16: =SUM(BH16,+BM16) -> 25351 | BH16: =SUM(BI16:BL16) -> 25351 | BI16: 0 | BJ16: 25351 | BK16: 0 | BL16: 0 | BM16: 0 | BN16: - | BO16: =SUM(BP16,BU16,BY16,BZ16,CF16) -> 296236 | BP16: =SUM(BQ16:BT16) -> 66403 | BQ16: 66403 | BR16: 0 | BS16: 0 | BT16: 0 | BU16: =SUM(BV16:BX16) -> 123675 | BV16: 0 | BW16: 123675 | BX16: 0 | BY16: 0 | BZ16: =SUM(CA16:CD16) -> 106158 | CA16: 0 | CB16: 34638 | CC16: 71520 | CD16: 0 | CE16: - | CF16: 0 | CG16: 26327 | CH16: =SUM(BG16,+BO16,+CG16) -> 347914 | CI16: =SUM(AE16,+BG16) -> 288009 | CJ16: =SUM(AF16,+BH16) -> 288009 | CK16: =SUM(AG16,+BI16) -> 0 | CL16: =SUM(AH16,+BJ16) -> 288009 | CM16: =SUM(AI16,+BK16) -> 0 | CN16: =SUM(AJ16,+BL16) -> 0 | CO16: =SUM(AK16,+BM16) -> 0 | CP16: - | CQ16: =SUM(AM16,+BO16) -> 1901991 | CR16: =SUM(AN16,+BP16) -> 193330 | CS16: =SUM(AO16,+BQ16) -> 193330 | CT16: =SUM(AP16,+BR16) -> 0 | CU16: =SUM(AQ16,+BS16) -> 0 | CV16: =SUM(AR16,+BT16) -> 0 | CW16: =SUM(AS16,+BU16) -> 504947 | CX16: =SUM(AT16,+BV16) -> 0 | ... DF16: =SUM(BB16,+CD16) -> 0 | DG16: - | DH16: =SUM(BD16,+CF16) -> 0 | DI16: =SUM(BE16,+CG16) -> 144172 | DJ16: =SUM(BF16,+CH16) -> 2334172
A17: 愛知県 | B17: 23851 | C17: 小牧岩倉衛生組合 | D17: =SUM(E17,+L17) -> 360522 | E17: =SUM(F17:I17)+K17 -> 266830 | F17: 0 | G17: 0 | H17: 0 | I17: 266819 | J17: 1364044 | K17: 11 | L17: 93692 | M17: =SUM(N17,+U17) -> 0 | N17: =SUM(O17:R17,T17) -> 0 | O17: 0 | P17: 0 | Q17: 0 | R17: 0 | S17: 0 | T17: 0 | U17: 0 | V17: =+SUM(D17,M17) -> 360522 | W17: =+SUM(E17,N17) -> 266830 | X17: =+SUM(F17,O17) -> 0 | Y17: =+SUM(G17,P17) -> 0 | Z17: =+SUM(H17,Q17) -> 0 | AA17: =+SUM(I17,R17) -> 266819 | AB17: =+SUM(J17,S17) -> 1364044 | AC17: =+SUM(K17,T17) -> 11 | AD17: =+SUM(L17,U17) -> 93692 | AE17: =SUM(AF17,+AK17) -> 18109 | AF17: =SUM(AG17:AJ17) -> 18109 | AG17: 0 | AH17: 0 | AI17: 18109 | AJ17: 0 | AK17: 0 | AL17: - | AM17: =SUM(AN17,AS17,AW17,AX17,BD17) -> 1686521 | AN17: =SUM(AO17:AR17) -> 318371 | AO17: 311299 | AP17: 0 | AQ17: 7072 | AR17: 0 | AS17: =SUM(AT17:AV17) -> 497859 | AT17: 0 | AU17: 479681 | AV17: 18178 | AW17: 0 | AX17: =SUM(AY17:BB17) -> 870291 | AY17: 16598 | AZ17: 763951 | BA17: 50005 | BB17: 39737 | BC17: - | BD17: 0 | BE17: 19936 | BF17: =SUM(AE17,+AM17,+BE17) -> 1724566 | BG17: =SUM(BH17,+BM17) -> 0 | BH17: =SUM(BI17:BL17) -> 0 | BI17: 0 | BJ17: 0 | BK17: 0 | BL17: 0 | BM17: 0 | BN17: - | BO17: =SUM(BP17,BU17,BY17,BZ17,CF17) -> 0 | BP17: =SUM(BQ17:BT17) -> 0 | BQ17: 0 | BR17: 0 | BS17: 0 | BT17: 0 | BU17: =SUM(BV17:BX17) -> 0 | BV17: 0 | BW17: 0 | BX17: 0 | BY17: 0 | BZ17: =SUM(CA17:CD17) -> 0 | CA17: 0 | CB17: 0 | CC17: 0 | CD17: 0 | CE17: - | CF17: 0 | CG17: 0 | CH17: =SUM(BG17,+BO17,+CG17) -> 0 | CI17: =SUM(AE17,+BG17) -> 18109 | CJ17: =SUM(AF17,+BH17) -> 18109 | CK17: =SUM(AG17,+BI17) -> 0 | CL17: =SUM(AH17,+BJ17) -> 0 | CM17: =SUM(AI17,+BK17) -> 18109 | CN17: =SUM(AJ17,+BL17) -> 0 | CO17: =SUM(AK17,+BM17) -> 0 | CP17: - | CQ17: =SUM(AM17,+BO17) -> 1686521 | CR17: =SUM(AN17,+BP17) -> 318371 | CS17: =SUM(AO17,+BQ17) -> 311299 | CT17: =SUM(AP17,+BR17) -> 0 | CU17: =SUM(AQ17,+BS17) -> 7072 | CV17: =SUM(AR17,+BT17) -> 0 | CW17: =SUM(AS17,+BU17) -> 497859 | CX17: =SUM(AT17,+BV17) -> 0 | ... DF17: =SUM(BB17,+CD17) -> 39737 | DG17: - | DH17: =SUM(BD17,+CF17) -> 0 | DI17: =SUM(BE17,+CG17) -> 19936 | DJ17: =SUM(BF17,+CH17) -> 1724566
A18: 愛知県 | B18: 23853 | C18: 知多南部衛生組合 | D18: =SUM(E18,+L18) -> 217682 | E18: =SUM(F18:I18)+K18 -> 217682 | F18: 117757 | G18: 0 | H18: 48600 | I18: 9910 | J18: 445247 | K18: 41415 | L18: 0 | M18: =SUM(N18,+U18) -> 1 | N18: =SUM(O18:R18,T18) -> 1 | O18: 0 | P18: 0 | Q18: 0 | R18: 0 | S18: 150049 | T18: 1 | U18: 0 | V18: =+SUM(D18,M18) -> 217683 | W18: =+SUM(E18,N18) -> 217683 | X18: =+SUM(F18,O18) -> 117757 | Y18: =+SUM(G18,P18) -> 0 | Z18: =+SUM(H18,Q18) -> 48600 | AA18: =+SUM(I18,R18) -> 9910 | AB18: =+SUM(J18,S18) -> 595296 | AC18: =+SUM(K18,T18) -> 41416 | AD18: =+SUM(L18,U18) -> 0 | AE18: =SUM(AF18,+AK18) -> 183174 | AF18: =SUM(AG18:AJ18) -> 183174 | AG18: 0 | AH18: 183174 | AI18: 0 | AJ18: 0 | AK18: 0 | AL18: - | AM18: =SUM(AN18,AS18,AW18,AX18,BD18) -> 479755 | AN18: =SUM(AO18:AR18) -> 63134 | AO18: 12801 | AP18: 0 | AQ18: 41717 | AR18: 8616 | AS18: =SUM(AT18:AV18) -> 45813 | AT18: 0 | AU18: 35993 | AV18: 9820 | AW18: 0 | AX18: =SUM(AY18:BB18) -> 370808 | AY18: 271448 | AZ18: 93409 | BA18: 5951 | BB18: 0 | BC18: - | BD18: 0 | BE18: 0 | BF18: =SUM(AE18,+AM18,+BE18) -> 662929 | BG18: =SUM(BH18,+BM18) -> 0 | BH18: =SUM(BI18:BL18) -> 0 | BI18: 0 | BJ18: 0 | BK18: 0 | BL18: 0 | BM18: 0 | BN18: - | BO18: =SUM(BP18,BU18,BY18,BZ18,CF18) -> 150050 | BP18: =SUM(BQ18:BT18) -> 14866 | BQ18: 8595 | BR18: 0 | BS18: 6271 | BT18: 0 | BU18: =SUM(BV18:BX18) -> 100840 | BV18: 0 | BW18: 100840 | BX18: 0 | BY18: 0 | BZ18: =SUM(CA18:CD18) -> 34344 | CA18: 0 | CB18: 34344 | CC18: 0 | CD18: 0 | CE18: - | CF18: 0 | CG18: 0 | CH18: =SUM(BG18,+BO18,+CG18) -> 150050 | CI18: =SUM(AE18,+BG18) -> 183174 | CJ18: =SUM(AF18,+BH18) -> 183174 | CK18: =SUM(AG18,+BI18) -> 0 | CL18: =SUM(AH18,+BJ18) -> 183174 | CM18: =SUM(AI18,+BK18) -> 0 | CN18: =SUM(AJ18,+BL18) -> 0 | CO18: =SUM(AK18,+BM18) -> 0 | CP18: - | CQ18: =SUM(AM18,+BO18) -> 629805 | CR18: =SUM(AN18,+BP18) -> 78000 | CS18: =SUM(AO18,+BQ18) -> 21396 | CT18: =SUM(AP18,+BR18) -> 0 | CU18: =SUM(AQ18,+BS18) -> 47988 | CV18: =SUM(AR18,+BT18) -> 8616 | CW18: =SUM(AS18,+BU18) -> 146653 | CX18: =SUM(AT18,+BV18) -> 0 | ... DF18: =SUM(BB18,+CD18) -> 0 | DG18: - | DH18: =SUM(BD18,+CF18) -> 0 | DI18: =SUM(BE18,+CG18) -> 0 | DJ18: =SUM(BF18,+CH18) -> 812979
A19: 愛知県 | B19: 23858 | C19: 刈谷知立環境組合 | D19: =SUM(E19,+L19) -> 542988 | E19: =SUM(F19:I19)+K19 -> 542988 | F19: 0 | G19: 0 | H19: 0 | I19: 215615 | J19: 1111017 | K19: 327373 | L19: 0 | M19: =SUM(N19,+U19) -> 0 | N19: =SUM(O19:R19,T19) -> 0 | O19: 0 | P19: 0 | Q19: 0 | R19: 0 | S19: 0 | T19: 0 | U19: 0 | V19: =+SUM(D19,M19) -> 542988 | W19: =+SUM(E19,N19) -> 542988 | X19: =+SUM(F19,O19) -> 0 | Y19: =+SUM(G19,P19) -> 0 | Z19: =+SUM(H19,Q19) -> 0 | AA19: =+SUM(I19,R19) -> 215615 | AB19: =+SUM(J19,S19) -> 1111017 | AC19: =+SUM(K19,T19) -> 327373 | AD19: =+SUM(L19,U19) -> 0 | AE19: =SUM(AF19,+AK19) -> 676839 | AF19: =SUM(AG19:AJ19) -> 676839 | AG19: 0 | AH19: 676839 | AI19: 0 | AJ19: 0 | AK19: 0 | AL19: - | AM19: =SUM(AN19,AS19,AW19,AX19,BD19) -> 971720 | AN19: =SUM(AO19:AR19) -> 94374 | AO19: 94374 | AP19: 0 | AQ19: 0 | AR19: 0 | AS19: =SUM(AT19:AV19) -> 9266 | AT19: 0 | AU19: 9266 | AV19: 0 | AW19: 0 | AX19: =SUM(AY19:BB19) -> 868080 | AY19: 25797 | AZ19: 726469 | BA19: 115814 | BB19: 0 | BC19: - | BD19: 0 | BE19: 5446 | BF19: =SUM(AE19,+AM19,+BE19) -> 1654005 | BG19: =SUM(BH19,+BM19) -> 0 | BH19: =SUM(BI19:BL19) -> 0 | BI19: 0 | BJ19: 0 | BK19: 0 | BL19: 0 | BM19: 0 | BN19: - | BO19: =SUM(BP19,BU19,BY19,BZ19,CF19) -> 0 | BP19: =SUM(BQ19:BT19) -> 0 | BQ19: 0 | BR19: 0 | BS19: 0 | BT19: 0 | BU19: =SUM(BV19:BX19) -> 0 | BV19: 0 | BW19: 0 | BX19: 0 | BY19: 0 | BZ19: =SUM(CA19:CD19) -> 0 | CA19: 0 | CB19: 0 | CC19: 0 | CD19: 0 | CE19: - | CF19: 0 | CG19: 0 | CH19: =SUM(BG19,+BO19,+CG19) -> 0 | CI19: =SUM(AE19,+BG19) -> 676839 | CJ19: =SUM(AF19,+BH19) -> 676839 | CK19: =SUM(AG19,+BI19) -> 0 | CL19: =SUM(AH19,+BJ19) -> 676839 | CM19: =SUM(AI19,+BK19) -> 0 | CN19: =SUM(AJ19,+BL19) -> 0 | CO19: =SUM(AK19,+BM19) -> 0 | CP19: - | CQ19: =SUM(AM19,+BO19) -> 971720 | CR19: =SUM(AN19,+BP19) -> 94374 | CS19: =SUM(AO19,+BQ19) -> 94374 | CT19: =SUM(AP19,+BR19) -> 0 | CU19: =SUM(AQ19,+BS19) -> 0 | CV19: =SUM(AR19,+BT19) -> 0 | CW19: =SUM(AS19,+BU19) -> 9266 | CX19: =SUM(AT19,+BV19) -> 0 | ... DF19: =SUM(BB19,+CD19) -> 0 | DG19: - | DH19: =SUM(BD19,+CF19) -> 0 | DI19: =SUM(BE19,+CG19) -> 5446 | DJ19: =SUM(BF19,+CH19) -> 1654005
... A26: 愛知県 | B26: 23934 | C26: 尾張北部環境組合 | D26: =SUM(E26,+L26) -> 11402 | E26: =SUM(F26:I26)+K26 -> 2600 | F26: 2600 | G26: 0 | H26: 0 | I26: 0 | J26: 79254 | K26: 0 | L26: 8802 | M26: =SUM(N26,+U26) -> 0 | N26: =SUM(O26:R26,T26) -> 0 | O26: 0 | P26: 0 | Q26: 0 | R26: 0 | S26: 0 | T26: 0 | U26: 0 | V26: =+SUM(D26,M26) -> 11402 | W26: =+SUM(E26,N26) -> 2600 | X26: =+SUM(F26,O26) -> 2600 | Y26: =+SUM(G26,P26) -> 0 | Z26: =+SUM(H26,Q26) -> 0 | AA26: =+SUM(I26,R26) -> 0 | AB26: =+SUM(J26,S26) -> 79254 | AC26: =+SUM(K26,T26) -> 0 | AD26: =+SUM(L26,U26) -> 8802 | AE26: =SUM(AF26,+AK26) -> 18357 | AF26: =SUM(AG26:AJ26) -> 7496 | AG26: 0 | AH26: 7496 | AI26: 0 | AJ26: 0 | AK26: 10861 | AL26: - | AM26: =SUM(AN26,AS26,AW26,AX26,BD26) -> 62167 | AN26: =SUM(AO26:AR26) -> 62167 | AO26: 62167 | AP26: 0 | AQ26: 0 | AR26: 0 | AS26: =SUM(AT26:AV26) -> 0 | AT26: 0 | AU26: 0 | AV26: 0 | AW26: 0 | AX26: =SUM(AY26:BB26) -> 0 | AY26: 0 | AZ26: 0 | BA26: 0 | BB26: 0 | BC26: - | BD26: 0 | BE26: 10132 | BF26: =SUM(AE26,+AM26,+BE26) -> 90656 | BG26: =SUM(BH26,+BM26) -> 0 | BH26: =SUM(BI26:BL26) -> 0 | BI26: 0 | BJ26: 0 | BK26: 0 | BL26: 0 | BM26: 0 | BN26: - | BO26: =SUM(BP26,BU26,BY26,BZ26,CF26) -> 0 | BP26: =SUM(BQ26:BT26) -> 0 | BQ26: 0 | BR26: 0 | BS26: 0 | BT26: 0 | BU26: =SUM(BV26:BX26) -> 0 | BV26: 0 | BW26: 0 | BX26: 0 | BY26: 0 | BZ26: =SUM(CA26:CD26) -> 0 | CA26: 0 | CB26: 0 | CC26: 0 | CD26: 0 | CE26: - | CF26: 0 | CG26: 0 | CH26: =SUM(BG26,+BO26,+CG26) -> 0 | CI26: =SUM(AE26,+BG26) -> 18357 | CJ26: =SUM(AF26,+BH26) -> 7496 | CK26: =SUM(AG26,+BI26) -> 0 | CL26: =SUM(AH26,+BJ26) -> 7496 | CM26: =SUM(AI26,+BK26) -> 0 | CN26: =SUM(AJ26,+BL26) -> 0 | CO26: =SUM(AK26,+BM26) -> 10861 | CP26: - | CQ26: =SUM(AM26,+BO26) -> 62167 | CR26: =SUM(AN26,+BP26) -> 62167 | CS26: =SUM(AO26,+BQ26) -> 62167 | CT26: =SUM(AP26,+BR26) -> 0 | CU26: =SUM(AQ26,+BS26) -> 0 | CV26: =SUM(AR26,+BT26) -> 0 | CW26: =SUM(AS26,+BU26) -> 0 | CX26: =SUM(AT26,+BV26) -> 0 | ... DF26: =SUM(BB26,+CD26) -> 0 | DG26: - | DH26: =SUM(BD26,+CF26) -> 0 | DI26: =SUM(BE26,+CG26) -> 10132 | DJ26: =SUM(BF26,+CH26) -> 90656

Sheet 廃棄物事業経費（歳入）
A1: 廃棄物処理事業経費（市区町村及び一部事務組合・広域連合の合計）【歳入】（令和4年度実績）
A2: 都道府県名 | B2: 地方公共団体コード | C2: 市区町村・一部事務組合・広域連合名 | D2: ごみ | M2: し尿 | V2: 合計
D3: 合計 (特定財源(市区町村分担金を除く)+一般財源) | M3: 合計 (特定財源(市区町村分担金を除く)+一般財源) | V3: 合計 (特定財源(市区町村分担金を除く)+一般財源)
E4: 特定財源 (市区町村分担金を除く) | L4: 一般財源 | N4: 特定財源 (市区町村分担金を除く) | U4: 一般財源 | W4: 特定財源 (市区町村分担金を除く) | AD4: 一般財源
E5: 合計 | F5: 国庫支出金 | G5: 都道府県 支出金 | H5: 地方債 | I5: 使用料及び 手数料 | J5: （市区町村 分担金） | K5: その他 | N5: 合計 | O5: 国庫支出金 | P5: 都道府県 支出金 | Q5: 地方債 | R5: 使用料及び 手数料 | S5: （市区町村 分担金） | T5: その他 | W5: 合計 | X5: 国庫支出金 | Y5: 都道府県 支出金 | Z5: 地方債 | AA5: 使用料及び 手数料 | AB5: （市区町村 分担金） | AC5: その他
D6: （千円） | E6: （千円） | F6: （千円） | G6: （千円） | H6: （千円） | I6: （千円） | J6: （千円） | K6: （千円） | L6: （千円） | M6: （千円） | N6: （千円） | O6: （千円） | P6: （千円） | Q6: （千円） | R6: （千円） | S6: （千円） | T6: （千円） | U6: （千円） | V6: （千円） | W6: （千円） | X6: （千円） | Y6: （千円） | Z6: （千円） | AA6: （千円） | AB6: （千円） | AC6: （千円） | AD6: （千円）
A7: ='廃棄物事業経費（市町村）'!A7 -> 愛知県 | B7: ='廃棄物事業経費（市町村）'!B7 -> 23000 | C7: 合計 | D7: =SUM(E7,+L7) -> 115171273 | E7: =+SUM(F7:I7,K7) -> 30893477 | F7: =SUM(F$8:F$257) -> 2774453 | G7: =SUM(G$8:G$257) -> 18415 | H7: =SUM(H$8:H$257) -> 6622623 | I7: =SUM(I$8:I$257) -> 12058531 | J7: =SUM(J$8:J$257) -> 10188820 | K7: =SUM(K$8:K$257) -> 9419455 | L7: =SUM(L$8:L$257) -> 84277796 | M7: =SUM(N7,+U7) -> 9523510 | N7: =+SUM(O7:R7,T7) -> 2082253 | O7: =SUM(O$8:O$257) -> 272443 | P7: =SUM(P$8:P$257) -> 19470 | Q7: =SUM(Q$8:Q$257) -> 696677 | R7: =SUM(R$8:R$257) -> 608816 | S7: =SUM(S$8:S$257) -> 2028271 | T7: =SUM(T$8:T$257) -> 484847 | U7: =SUM(U$8:U$257) -> 7441257 | V7: =+SUM(D7,M7) -> 124694783 | W7: =+SUM(E7,N7) -> 32975730 | X7: =+SUM(F7,O7) -> 3046896 | Y7: =+SUM(G7,P7) -> 37885 | Z7: =+SUM(H7,Q7) -> 7319300 | AA7: =+SUM(I7,R7) -> 12667347 | AB7: =+SUM(J7,S7) -> 12217091 | AC7: =+SUM(K7,T7) -> 9904302 | AD7: =+SUM(L7,U7) -> 91719053
A8: 愛知県 | B8: 23100 | C8: 名古屋市 | D8: =SUM(E8,+L8) -> 34647641 | E8: =+SUM(F8:I8,K8) -> 10842518 | F8: 1230494 | G8: 8643 | H8: 2482000 | I8: 3803460 | K8: 3317921 | L8: 23805123 | M8: =SUM(N8,+U8) -> 1117503 | N8: =+SUM(O8:R8,T8) -> 67151 | O8: 0 | P8: 0 | Q8: 9000 | R8: 49286 | T8: 8865 | U8: 1050352 | V8: =+SUM(D8,M8) -> 35765144 | W8: =+SUM(E8,N8) -> 10909669 | X8: =+SUM(F8,O8) -> 1230494 | Y8: =+SUM(G8,P8) -> 8643 | Z8: =+SUM(H8,Q8) -> 2491000 | AA8: =+SUM(I8,R8) -> 3852746 | AB8: =+SUM(J8,S8) -> 0 | AC8: =+SUM(K8,T8) -> 3326786 | AD8: =+SUM(L8,U8) -> 24855475
A9: 愛知県 | B9: 23201 | C9: 豊橋市 | D9: =SUM(E9,+L9) -> 5895162 | E9: =+SUM(F9:I9,K9) -> 1046753 | F9: 10202 | G9: 0 | H9: 18923 | I9: 595775 | K9: 421853 | L9: 4848409 | M9: =SUM(N9,+U9) -> 213143 | N9: =+SUM(O9:R9,T9) -> 59311 | O9: 39873 | P9: 14947 | Q9: 77 | R9: 2599 | T9: 1815 | U9: 153832 | V9: =+SUM(D9,M9) -> 6108305 | W9: =+SUM(E9,N9) -> 1106064 | X9: =+SUM(F9,O9) -> 50075 | Y9: =+SUM(G9,P9) -> 14947 | Z9: =+SUM(H9,Q9) -> 19000 | AA9: =+SUM(I9,R9) -> 598374 | AB9: =+SUM(J9,S9) -> 0 | AC9: =+SUM(K9,T9) -> 423668 | AD9: =+SUM(L9,U9) -> 5002241
A10: 愛知県 | B10: 23202 | C10: 岡崎市 | D10: =SUM(E10,+L10) -> 4536378 | E10: =+SUM(F10:I10,K10) -> 1523421 | F10: 0 | G10: 0 | H10: 0 | I10: 407557 | K10: 1115864 | L10: 3012957 | M10: =SUM(N10,+U10) -> 183083 | N10: =+SUM(O10:R10,T10) -> 13000 | O10: 0 | P10: 0 | Q10: 0 | R10: 0 | T10: 13000 | U10: 170083 | V10: =+SUM(D10,M10) -> 4719461 | W10: =+SUM(E10,N10) -> 1536421 | X10: =+SUM(F10,O10) -> 0 | Y10: =+SUM(G10,P10) -> 0 | Z10: =+SUM(H10,Q10) -> 0 | AA10: =+SUM(I10,R10) -> 407557 | AB10: =+SUM(J10,S10) -> 0 | AC10: =+SUM(K10,T10) -> 1128864 | AD10: =+SUM(L10,U10) -> 3183040
A11: 愛知県 | B11: 23203 | C11: 一宮市 | D11: =SUM(E11,+L11) -> 3589536 | E11: =+SUM(F11:I11,K11) -> 848908 | F11: 0 | G11: 0 | H11: 0 | I11: 503517 | K11: 345391 | L11: 2740628 | M11: =SUM(N11,+U11) -> 257880 | N11: =+SUM(O11:R11,T11) -> 656 | O11: 0 | P11: 0 | Q11: 0 | R11: 0 | T11: 656 | U11: 257224 | V11: =+SUM(D11,M11) -> 3847416 | W11: =+SUM(E11,N11) -> 849564 | X11: =+SUM(F11,O11) -> 0 | Y11: =+SUM(G11,P11) -> 0 | Z11: =+SUM(H11,Q11) -> 0 | AA11: =+SUM(I11,R11) -> 503517 | AB11: =+SUM(J11,S11) -> 0 | AC11: =+SUM(K11,T11) -> 346047 | AD11: =+SUM(L11,U11) -> 2997852
A12: 愛知県 | B12: 23204 | C12: 瀬戸市 | D12: =SUM(E12,+L12) -> 918774 | E12: =+SUM(F12:I12,K12) -> 65995 | F12: 0 | G12: 0 | H12: 0 | I12: 16928 | K12: 49067 | L12: 852779 | M12: =SUM(N12,+U12) -> 231046 | N12: =+SUM(O12:R12,T12) -> 27438 | O12: 0 | P12: 0 | Q12: 0 | R12: 27438 | T12: 0 | U12: 203608 | V12: =+SUM(D12,M12) -> 1149820 | W12: =+SUM(E12,N12) -> 93433 | X12: =+SUM(F12,O12) -> 0 | Y12: =+SUM(G12,P12) -> 0 | Z12: =+SUM(H12,Q12) -> 0 | AA12: =+SUM(I12,R12) -> 44366 | AB12: =+SUM(J12,S12) -> 0 | AC12: =+SUM(K12,T12) -> 49067 | AD12: =+SUM(L12,U12) -> 1056387
A13: 愛知県 | B13: 23205 | C13: 半田市 | D13: =SUM(E13,+L13) -> 1231981 | E13: =+SUM(F13:I13,K13) -> 417257 | F13: 12173 | G13: 0 | H13: 0 | I13: 222585 | K13: 182499 | L13: 814724 | M13: =SUM(N13,+U13) -> 121211 | N13: =+SUM(O13:R13,T13) -> 7908 | O13: 0 | P13: 0 | Q13: 0 | R13: 7908 | T13: 0 | U13: 113303 | V13: =+SUM(D13,M13) -> 1353192 | W13: =+SUM(E13,N13) -> 425165 | X13: =+SUM(F13,O13) -> 12173 | Y13: =+SUM(G13,P13) -> 0 | Z13: =+SUM(H13,Q13) -> 0 | AA13: =+SUM(I13,R13) -> 230493 | AB13: =+SUM(J13,S13) -> 0 | AC13: =+SUM(K13,T13) -> 182499 | AD13: =+SUM(L13,U13) -> 928027
A14: 愛知県 | B14: 23206 | C14: 春日井市 | D14: =SUM(E14,+L14) -> 4793920 | E14: =+SUM(F14:I14,K14) -> 908471 | F14: 19500 | G14: 0 | H14: 479400 | I14: 404016 | K14: 5555 | L14: 3885449 | M14: =SUM(N14,+U14) -> 368821 | N14: =+SUM(O14:R14,T14) -> 16723 | O14: 0 | P14: 0 | Q14: 0 | R14: 16723 | T14: 0 | U14: 352098 | V14: =+SUM(D14,M14) -> 5162741 | W14: =+SUM(E14,N14) -> 925194 | X14: =+SUM(F14,O14) -> 19500 | Y14: =+SUM(G14,P14) -> 0 | Z14: =+SUM(H14,Q14) -> 479400 | AA14: =+SUM(I14,R14) -> 420739 | AB14: =+SUM(J14,S14) -> 0 | AC14: =+SUM(K14,T14) -> 5555 | AD14: =+SUM(L14,U14) -> 4237547
A15: 愛知県 | B15: 23207 | C15: 豊川市 | D15: =SUM(E15,+L15) -> 3468204 | E15: =+SUM(F15:I15,K15) -> 1016576 | F15: 0 | G15: 0 | H15: 532900 | I15: 207426 | K15: 276250 | L15: 2451628 | M15: =SUM(N15,+U15) -> 189369 | N15: =+SUM(O15:R15,T15) -> 0 | O15: 0 | P15: 0 | Q15: 0 | R15: 0 | T15: 0 | U15: 189369 | V15: =+SUM(D15,M15) -> 3657573 | W15: =+SUM(E15,N15) -> 1016576 | X15: =+SUM(F15,O15) -> 0 | Y15: =+SUM(G15,P15) -> 0 | Z15: =+SUM(H15,Q15) -> 532900 | AA15: =+SUM(I15,R15) -> 207426 | AB15: =+SUM(J15,S15) -> 0 | AC15: =+SUM(K15,T15) -> 276250 | AD15: =+SUM(L15,U15) -> 2640997
A16: 愛知県 | B16: 23208 | C16: 津島市 | D16: =SUM(E16,+L16) -> 607954 | E16: =+SUM(F16:I16,K16) -> 68733 | F16: 0 | G16: 0 | H16: 0 | I16: 7960 | K16: 60773 | L16: 539221 | M16: =SUM(N16,+U16) -> 90500 | N16: =+SUM(O16:R16,T16) -> 7595 | O16: 170 | P16: 102 | Q16: 0 | R16: 4392 | T16: 2931 | U16: 82905 | V16: =+SUM(D16,M16) -> 698454 | W16: =+SUM(E16,N16) -> 76328 | X16: =+SUM(F16,O16) -> 170 | Y16: =+SUM(G16,P16) -> 102 | Z16: =+SUM(H16,Q16) -> 0 | AA16: =+SUM(I16,R16) -> 12352 | AB16: =+SUM(J16,S16) -> 0 | AC16: =+SUM(K16,T16) -> 63704 | AD16: =+SUM(L16,U16) -> 622126
A17: 愛知県 | B17: 23209 | C17: 碧南市 | D17: =SUM(E17,+L17) -> 1214073 | E17: =+SUM(F17:I17,K17) -> 27884 | F17: 0 | G17: 0 | H17: 0 | I17: 13086 | K17: 14798 | L17: 1186189 | M17: =SUM(N17,+U17) -> 2432 | N17: =+SUM(O17:R17,T17) -> 0 | O17: 0 | P17: 0 | Q17: 0 | R17: 0 | T17: 0 | U17: 2432 | V17: =+SUM(D17,M17) -> 1216505 | W17: =+SUM(E17,N17) -> 27884 | X17: =+SUM(F17,O17) -> 0 | Y17: =+SUM(G17,P17) -> 0 | Z17: =+SUM(H17,Q17) -> 0 | AA17: =+SUM(I17,R17) -> 13086 | AB17: =+SUM(J17,S17) -> 0 | AC17: =+SUM(K17,T17) -> 14798 | AD17: =+SUM(L17,U17) -> 1188621
A18: 愛知県 | B18: 23210 | C18: 刈谷市 | D18: =SUM(E18,+L18) -> 1657248 | E18: =+SUM(F18:I18,K18) -> 135960 | F18: 0 | G18: 0 | H18: 0 | I18: 7700 | K18: 128260 | L18: 1521288 | M18: =SUM(N18,+U18) -> 357433 | N18: =+SUM(O18:R18,T18) -> 8199 | O18: 0 | P18: 0 | Q18: 0 | R18: 8199 | T18: 0 | U18: 349234 | V18: =+SUM(D18,M18) -> 2014681 | W18: =+SUM(E18,N18) -> 144159 | X18: =+SUM(F18,O18) -> 0 | Y18: =+SUM(G18,P18) -> 0 | Z18: =+SUM(H18,Q18) -> 0 | AA18: =+SUM(I18,R18) -> 15899 | AB18: =+SUM(J18,S18) -> 0 | AC18: =+SUM(K18,T18) -> 128260 | AD18: =+SUM(L18,U18) -> 1870522
A19: 愛知県 | B19: 23211 | C19: 豊田市 | D19: =SUM(E19,+L19) -> 6527241 | E19: =+SUM(F19:I19,K19) -> 1244267 | F19: 0 | G19: 0 | H19: 0 | I19: 630898 | K19: 613369 | L19: 5282974 | M19: =SUM(N19,+U19) -> 945950 | N19: =+SUM(O19:R19,T19) -> 231145 | O19: 0 | P19: 0 | Q19: 0 | R19: 115755 | T19: 115390 | U19: 714805 | V19: =+SUM(D19,M19) -> 7473191 | W19: =+SUM(E19,N19) -> 1475412 | X19: =+SUM(F19,O19) -> 0 | Y19: =+SUM(G19,P19) -> 0 | Z19: =+SUM(H19,Q19) -> 0 | AA19: =+SUM(I19,R19) -> 746653 | AB19: =+SUM(J19,S19) -> 0 | AC19: =+SUM(K19,T19) -> 728759 | AD19: =+SUM(L19,U19) -> 5997779
... A61: 愛知県 | B61: 23563 | C61: 豊根村 | D61: =SUM(E61,+L61) -> 25351 | E61: =+SUM(F61:I61,K61) -> 0 | F61: 0 | G61: 0 | H61: 0 | I61: 0 | K61: 0 | L61: 25351 | M61: =SUM(N61,+U61) -> 11777 | N61: =+SUM(O61:R61,T61) -> 0 | O61: 0 | P61: 0 | Q61: 0 | R61: 0 | T61: 0 | U61: 11777 | V61: =+SUM(D61,M61) -> 37128 | W61: =+SUM(E61,N61) -> 0 | X61: =+SUM(F61,O61) -> 0 | Y61: =+SUM(G61,P61) -> 0 | Z61: =+SUM(H61,Q61) -> 0 | AA61: =+SUM(I61,R61) -> 0 | AB61: =+SUM(J61,S61) -> 0 | AC61: =+SUM(K61,T61) -> 0 | AD61: =+SUM(L61,U61) -> 37128
A62: 愛知県 | B62: 23833 | C62: 愛北広域事務組合 | D62: =SUM(E62,+L62) -> 0 | E62: =+SUM(F62:I62,K62) -> 0 | F62: 0 | G62: 0 | H62: 0 | I62: 0 | J62: 0 | K62: 0 | L62: 0 | M62: =SUM(N62,+U62) -> 20954 | N62: =+SUM(O62:R62,T62) -> 0 | O62: 0 | P62: 0 | Q62: 0 | R62: 0 | S62: 333931 | T62: 0 | U62: 20954 | V62: =+SUM(D62,M62) -> 20954 | W62: =+SUM(E62,N62) -> 0 | X62: =+SUM(F62,O62) -> 0 | Y62: =+SUM(G62,P62) -> 0 | Z62: =+SUM(H62,Q62) -> 0 | AA62: =+SUM(I62,R62) -> 0 | AB62: =+SUM(J62,S62) -> 333931 | AC62: =+SUM(K62,T62) -> 0 | AD62: =+SUM(L62,U62) -> 20954
A63: 愛知県 | B63: 23835 | C63: 中部知多衛生組合 | D63: =SUM(E63,+L63) -> 0 | E63: =+SUM(F63:I63,K63) -> 0 | F63: 0 | G63: 0 | H63: 0 | I63: 0 | J63: 0 | K63: 0 | L63: 0 | M63: =SUM(N63,+U63) -> 570162 | N63: =+SUM(O63:R63,T63) -> 570162 | O63: 139251 | P63: 0 | Q63: 359100 | R63: 0 | S63: 246463 | T63: 71811 | U63: 0 | V63: =+SUM(D63,M63) -> 570162 | W63: =+SUM(E63,N63) -> 570162 | X63: =+SUM(F63,O63) -> 139251 | Y63: =+SUM(G63,P63) -> 0 | Z63: =+SUM(H63,Q63) -> 359100 | AA63: =+SUM(I63,R63) -> 0 | AB63: =+SUM(J63,S63) -> 246463 | AC63: =+SUM(K63,T63) -> 71811 | AD63: =+SUM(L63,U63) -> 0
A64: 愛知県 | B64: 23837 | C64: 東部知多衛生組合 | D64: =SUM(E64,+L64) -> 445884 | E64: =+SUM(F64:I64,K64) -> 233986 | F64: 0 | G64: 0 | H64: 0 | I64: 233986 | J64: 1066812 | K64: 0 | L64: 211898 | M64: =SUM(N64,+U64) -> 4325 | N64: =+SUM(O64:R64,T64) -> 0 | O64: 0 | P64: 0 | Q64: 0 | R64: 0 | S64: 92825 | T64: 0 | U64: 4325 | V64: =+SUM(D64,M64) -> 450209 | W64: =+SUM(E64,N64) -> 233986 | X64: =+SUM(F64,O64) -> 0 | Y64: =+SUM(G64,P64) -> 0 | Z64: =+SUM(H64,Q64) -> 0 | AA64: =+SUM(I64,R64) -> 233986 | AB64: =+SUM(J64,S64) -> 1159637 | AC64: =+SUM(K64,T64) -> 0 | AD64: =+SUM(L64,U64) -> 216223
A65: 愛知県 | B65: 23838 | C65: 衣浦衛生組合 | D65: =SUM(E65,+L65) -> 531311 | E65: =+SUM(F65:I65,K65) -> 476608 | F65: 0 | G65: 0 | H65: 170400 | I65: 182663 | J65: 1280756 | K65: 123545 | L65: 54703 | M65: =SUM(N65,+U65) -> 0 | N65: =+SUM(O65:R65,T65) -> 0 | O65: 0 | P65: 0 | Q65: 0 | R65: 0 | S65: 0 | T65: 0 | U65: 0 | V65: =+SUM(D65,M65) -> 531311 | W65: =+SUM(E65,N65) -> 476608 | X65: =+SUM(F65,O65) -> 0 | Y65: =+SUM(G65,P65) -> 0 | Z65: =+SUM(H65,Q65) -> 170400 | AA65: =+SUM(I65,R65) -> 182663 | AB65: =+SUM(J65,S65) -> 1280756 | AC65: =+SUM(K65,T65) -> 123545 | AD65: =+SUM(L65,U65) -> 54703
A66: 愛知県 | B66: 23841 | C66: 常滑武豊衛生組合 | D66: =SUM(E66,+L66) -> 68330 | E66: =+SUM(F66:I66,K66) -> 68330 | F66: 42006 | G66: 0 | H66: 0 | I66: 0 | J66: 87490 | K66: 26324 | L66: 0 | M66: =SUM(N66,+U66) -> 0 | N66: =+SUM(O66:R66,T66) -> 0 | O66: 0 | P66: 0 | Q66: 0 | R66: 0 | S66: 0 | T66: 0 | U66: 0 | V66: =+SUM(D66,M66) -> 68330 | W66: =+SUM(E66,N66) -> 68330 | X66: =+SUM(F66,O66) -> 42006 | Y66: =+SUM(G66,P66) -> 0 | Z66: =+SUM(H66,Q66) -> 0 | AA66: =+SUM(I66,R66) -> 0 | AB66: =+SUM(J66,S66) -> 87490 | AC66: =+SUM(K66,T66) -> 26324 | AD66: =+SUM(L66,U66) -> 0
A67: 愛知県 | B67: 23842 | C67: 蒲郡市幸田町衛生組合 | D67: =SUM(E67,+L67) -> 0 | E67: =+SUM(F67:I67,K67) -> 0 | F67: 0 | G67: 0 | H67: 0 | I67: 0 | J67: 0 | K67: 0 | L67: 0 | M67: =SUM(N67,+U67) -> 4565 | N67: =+SUM(O67:R67,T67) -> 4474 | O67: 0 | P67: 0 | Q67: 0 | R67: 4474 | S67: 123807 | T67: 0 | U67: 91 | V67: =+SUM(D67,M67) -> 4565 | W67: =+SUM(E67,N67) -> 4474 | X67: =+SUM(F67,O67) -> 0 | Y67: =+SUM(G67,P67) -> 0 | Z67: =+SUM(H67,Q67) -> 0 | AA67: =+SUM(I67,R67) -> 4474 | AB67: =+SUM(J67,S67) -> 123807 | AC67: =+SUM(K67,T67) -> 0 | AD67: =+SUM(L67,U67) -> 91
A68: 愛知県 | B68: 23846 | C68: 西知多医療厚生組合 | D68: =SUM(E68,+L68) -> 3798214 | E68: =+SUM(F68:I68,K68) -> 3043964 | F68: 1125960 | G68: 0 | H68: 1918000 | I68: 0 | J68: 17658 | K68: 4 | L68: 754250 | M68: =SUM(N68,+U68) -> 33412 | N68: =+SUM(O68:R68,T68) -> 12571 | O68: 0 | P68: 0 | Q68: 0 | R68: 0 | S68: 223267 | T68: 12571 | U68: 20841 | V68: =+SUM(D68,M68) -> 3831626 | W68: =+SUM(E68,N68) -> 3056535 | X68: =+SUM(F68,O68) -> 1125960 | Y68: =+SUM(G68,P68) -> 0 | Z68: =+SUM(H68,Q68) -> 1918000 | AA68: =+SUM(I68,R68) -> 0 | AB68: =+SUM(J68,S68) -> 240925 | AC68: =+SUM(K68,T68) -> 12575 | AD68: =+SUM(L68,U68) -> 775091
A69: 愛知県 | B69: 23848 | C69: 尾張東部衛生組合 | D69: =SUM(E69,+L69) -> 1022657 | E69: =+SUM(F69:I69,K69) -> 405957 | F69: 0 | G69: 0 | H69: 0 | I69: 405957 | J69: 610296 | K69: 0 | L69: 616700 | M69: =SUM(N69,+U69) -> 0 | N69: =+SUM(O69:R69,T69) -> 0 | O69: 0 | P69: 0 | Q69: 0 | R69: 0 | S69: 0 | T69: 0 | U69: 0 | V69: =+SUM(D69,M69) -> 1022657 | W69: =+SUM(E69,N69) -> 405957 | X69: =+SUM(F69,O69) -> 0 | Y69: =+SUM(G69,P69) -> 0 | Z69: =+SUM(H69,Q69) -> 0 | AA69: =+SUM(I69,R69) -> 405957 | AB69: =+SUM(J69,S69) -> 610296 | AC69: =+SUM(K69,T69) -> 0 | AD69: =+SUM(L69,U69) -> 616700
A70: 愛知県 | B70: 23849 | C70: 海部地区環境事務組合 | D70: =SUM(E70,+L70) -> 659526 | E70: =+SUM(F70:I70,K70) -> 579566 | F70: 0 | G70: 0 | H70: 0 | I70: 316803 | J70: 1326732 | K70: 262763 | L70: 79960 | M70: =SUM(N70,+U70) -> 0 | N70: =+SUM(O70:R70,T70) -> 0 | O70: 0 | P70: 0 | Q70: 0 | R70: 0 | S70: 347914 | T70: 0 | U70: 0 | V70: =+SUM(D70,M70) -> 659526 | W70: =+SUM(E70,N70) -> 579566 | X70: =+SUM(F70,O70) -> 0 | Y70: =+SUM(G70,P70) -> 0 | Z70: =+SUM(H70,Q70) -> 0 | AA70: =+SUM(I70,R70) -> 316803 | AB70: =+SUM(J70,S70) -> 1674646 | AC70: =+SUM(K70,T70) -> 262763 | AD70: =+SUM(L70,U70) -> 79960
A71: 愛知県 | B71: 23851 | C71: 小牧岩倉衛生組合 | D71: =SUM(E71,+L71) -> 360522 | E71: =+SUM(F71:I71,K71) -> 266830 | F71: 0 | G71: 0 | H71: 0 | I71: 266819 | J71: 1364044 | K71: 11 | L71: 93692 | M71: =SUM(N71,+U71) -> 0 | N71: =+SUM(O71:R71,T71) -> 0 | O71: 0 | P71: 0 | Q71: 0 | R71: 0 | S71: 0 | T71: 0 | U71: 0 | V71: =+SUM(D71,M71) -> 360522 | W71: =+SUM(E71,N71) -> 266830 | X71: =+SUM(F71,O71) -> 0 | Y71: =+SUM(G71,P71) -> 0 | Z71: =+SUM(H71,Q71) -> 0 | AA71: =+SUM(I71,R71) -> 266819 | AB71: =+SUM(J71,S71) -> 1364044 | AC71: =+SUM(K71,T71) -> 11 | AD71: =+SUM(L71,U71) -> 93692
A72: 愛知県 | B72: 23853 | C72: 知多南部衛生組合 | D72: =SUM(E72,+L72) -> 217682 | E72: =+SUM(F72:I72,K72) -> 217682 | F72: 117757 | G72: 0 | H72: 48600 | I72: 9910 | J72: 445247 | K72: 41415 | L72: 0 | M72: =SUM(N72,+U72) -> 1 | N72: =+SUM(O72:R72,T72) -> 1 | O72: 0 | P72: 0 | Q72: 0 | R72: 0 | S72: 150049 | T72: 1 | U72: 0 | V72: =+SUM(D72,M72) -> 217683 | W72: =+SUM(E72,N72) -> 217683 | X72: =+SUM(F72,O72) -> 117757 | Y72: =+SUM(G72,P72) -> 0 | Z72: =+SUM(H72,Q72) -> 48600 | AA72: =+SUM(I72,R72) -> 9910 | AB72: =+SUM(J72,S72) -> 595296 | AC72: =+SUM(K72,T72) -> 41416 | AD72: =+SUM(L72,U72) -> 0
A73: 愛知県 | B73: 23858 | C73: 刈谷知立環境組合 | D73: =SUM(E73,+L73) -> 542988 | E73: =+SUM(F73:I73,K73) -> 542988 | F73: 0 | G73: 0 | H73: 0 | I73: 215615 | J73: 1111017 | K73: 327373 | L73: 0 | M73: =SUM(N73,+U73) -> 0 | N73: =+SUM(O73:R73,T73) -> 0 | O73: 0 | P73: 0 | Q73: 0 | R73: 0 | S73: 0 | T73: 0 | U73: 0 | V73: =+SUM(D73,M73) -> 542988 | W73: =+SUM(E73,N73) -> 542988 | X73: =+SUM(F73,O73) -> 0 | Y73: =+SUM(G73,P73) -> 0 | Z73: =+SUM(H73,Q73) -> 0 | AA73: =+SUM(I73,R73) -> 215615 | AB73: =+SUM(J73,S73) -> 1111017 | AC73: =+SUM(K73,T73) -> 327373 | AD73: =+SUM(L73,U73) -> 0
... A80: 愛知県 | B80: 23934 | C80: 尾張北部環境組合 | D80: =SUM(E80,+L80) -> 11402 | E80: =+SUM(F80:I80,K80) -> 2600 | F80: 2600 | G80: 0 | H80: 0 | I80: 0 | J80: 79254 | K80: 0 | L80: 8802 | M80: =SUM(N80,+U80) -> 0 | N80: =+SUM(O80:R80,T80) -> 0 | O80: 0 | P80: 0 | Q80: 0 | R80: 0 | S80: 0 | T80: 0 | U80: 0 | V80: =+SUM(D80,M80) -> 11402 | W80: =+SUM(E80,N80) -> 2600 | X80: =+SUM(F80,O80) -> 2600 | Y80: =+SUM(G80,P80) -> 0 | Z80: =+SUM(H80,Q80) -> 0 | AA80: =+SUM(I80,R80) -> 0 | AB80: =+SUM(J80,S80) -> 79254 | AC80: =+SUM(K80,T80) -> 0 | AD80: =+SUM(L80,U80) -> 8802

Sheet 廃棄物事業経費（歳出）
A1: 廃棄物処理事業経費（市区町村及び一部事務組合・広域連合の合計）【歳出】（令和4年度実績）
A2: 都道府県名 | B2: 地方公共団体コード | C2: 市区町村・一部事務組合・広域連合名 | D2: ごみ（建設改良費＋処理維持管理費＋その他）（組合分担金を除く） | AF2: し尿（建設改良費＋処理維持管理費＋その他）（組合分担金を除く） | BH2: 合計（建設改良費＋処理維持管理費＋その他）（組合分担金を除く）
D3: 建設改良費 (工事費+調査費)(組合分担金を除く) | L3: 処理及び維持管理費 (人件費+処理費+車両購入費+委託費+調査研究費)(組合分担金を除く) | AD3: その他 | AE3: 合計 | AF3: 建設改良費 (工事費+調査費)(組合分担金を除く) | AN3: 処理及び維持管理費 (人件費+処理費+車両購入費+委託費+調査研究費)(組合分担金を除く) | BF3: その他 | BG3: 合計 | BH3: 建設改良費 (工事費+調査費)(組合分担金を除く) | BP3: 処理及び維持管理費 (人件費+処理費+車両購入費+委託費+調査研究費)(組合分担金を除く) | CH3: その他 | CI3: 合計
D4: 合計 | E4: 工事費 (収集運搬施設+中間処理施設+最終処分場+その他) | J4: 調査費 | K4: （建設改良費組合分担金） | L4: 合計 | M4: 人件費（一般職＋収集運搬＋中間処理＋最終処分） | R4: 処理費 (収集運搬費+中間処理費+最終処分費) | V4: 車両等購入費 | W4: 委託費 (収集運搬費+中間処理費+最終処分費+その他) | AB4: (組合分担金) | AC4: 調査研究費 | AF4: 合計 | AG4: 工事費 (収集運搬施設+中間処理施設+最終処分場+その他) | AL4: 調査費 | AM4: （建設改良費組合分担金） | AN4: 合計 | AO4: 人件費（一般職＋収集運搬＋中間処理＋最終処分） | AT4: 処理費 (収集運搬費+中間処理費+最終処分費) | AX4: 車両等購入費 | AY4: 委託費 (収集運搬費+中間処理費+最終処分費+その他) | BD4: (組合分担金) | BE4: 調査研究費 | BH4: 合計 | BI4: 工事費 (収集運搬施設+中間処理施設+最終処分場+その他) | BN4: 調査費 | BO4: （建設改良費組合分担金） | BP4: 合計 | BQ4: 人件費（一般職＋収集運搬＋中間処理＋最終処分） | BV4: 処理費 (収集運搬費+中間処理費+最終処分費) | BZ4: 車両等購入費 | CA4: 委託費 (収集運搬費+中間処理費+最終処分費+その他) | CF4: (組合分担金) | CG4: 調査研究費
E5: 合計 | F5: 収集運搬施設 | G5: 中間処理施設 | H5: 最終処分場 | I5: その他 | M5: 合計 | N5: 一般職 | O5: 収集運搬 | P5: 中間処理 | Q5: 最終処分 | R5: 合計 | S5: 収集運搬費 | T5: 中間処理費 | U5: 最終処分費 | W5: 合計 | X5: 収集運搬費 | Y5: 中間処理費 | Z5: 最終処分費 | AA5: その他 | AG5: 合計 | AH5: 収集運搬施設 | AI5: 中間処理施設 | AJ5: 最終処分場 | AK5: その他 | AO5: 合計 | AP5: 一般職 | AQ5: 収集運搬 | AR5: 中間処理 | AS5: 最終処分 | AT5: 合計 | AU5: 収集運搬費 | AV5: 中間処理費 | AW5: 最終処分費 | AY5: 合計 | AZ5: 収集運搬費 | BA5: 中間処理費 | BB5: 最終処分費 | BC5: その他 | BI5: 合計 | BJ5: 収集運搬施設 | BK5: 中間処理施設 | BL5: 最終処分場 | BM5: その他 | BQ5: 合計 | BR5: 一般職 | BS5: 収集運搬 | BT5: 中間処理 | BU5: 最終処分 | BV5: 合計 | BW5: 収集運搬費 | BX5: 中間処理費 | BY5: 最終処分費 | CA5: 合計 | CB5: 収集運搬費 | CC5: 中間処理費 | CD5: 最終処分費 | CE5: その他
D6: （千円） | E6: （千円） | F6: （千円） | G6: （千円） | H6: （千円） | I6: （千円） | J6: （千円） | K6: （千円） | L6: （千円） | M6: （千円） | N6: （千円） | O6: （千円） | P6: （千円） | Q6: （千円） | R6: （千円） | S6: （千円） | T6: （千円） | U6: （千円） | V6: （千円） | W6: （千円） | X6: （千円） | Y6: （千円） | Z6: （千円） | AA6: （千円） | AB6: （千円） | AC6: （千円） | AD6: （千円） | AE6: （千円） | AF6: （千円） | AG6: （千円） | AH6: （千円） | AI6: （千円） | AJ6: （千円） | AK6: （千円） | AL6: （千円） | AM6: （千円） | AN6: （千円） | AO6: （千円） | AP6: （千円） | AQ6: （千円） | AR6: （千円） | AS6: （千円） | AT6: （千円） | AU6: （千円） | AV6: （千円） | AW6: （千円） | AX6: （千円） | AY6: （千円） | AZ6: （千円） | BA6: （千円） | BB6: （千円） | BC6: （千円） | BD6: （千円） | BE6: （千円） | BF6: （千円） | BG6: （千円） | BH6: （千円） | BI6: （千円） | BJ6: （千円） | BK6: （千円） | BL6: （千円） | BM6: （千円） | BN6: （千円） | BO6: （千円） | BP6: （千円） | BQ6: （千円） | BR6: （千円） | BS6: （千円） | BT6: （千円） | BU6: （千円） | BV6: （千円） | BW6: （千円） | BX6: （千円） | BY6: （千円） | BZ6: （千円） | CA6: （千円） | CB6: （千円） | CC6: （千円） | CD6: （千円） | CE6: （千円） | CF6: （千円） | CG6: （千円） | CH6: （千円） | CI6: （千円）
A7: ='廃棄物事業経費（市町村）'!A7 -> 愛知県 | B7: ='廃棄物事業経費（市町村）'!B7 -> 23000 | C7: 合計 | D7: =+SUM(E7,J7) -> 15358967 | E7: =+SUM(F7:I7) -> 15266711 | F7: =SUM(F$8:F$257) -> 12027 | G7: =SUM(G$8:G$257) -> 13668961 | H7: =SUM(H$8:H$257) -> 1561864 | I7: =SUM(I$8:I$257) -> 23859 | J7: =SUM(J$8:J$257) -> 92256 | K7: =SUM(K$8:K$257) -> 1190496 | L7: =+SUM(M7,R7,V7,W7,AC7) -> 93564049 | M7: =+SUM(N7:Q7) -> 21918107 | N7: =SUM(N$8:N$257) -> 8115264 | O7: =SUM(O$8:O$257) -> 11246497 | P7: =SUM(P$8:P$257) -> 2244977 | Q7: =SUM(Q$8:Q$257) -> 311369 | R7: =+SUM(S7:U7) -> 20221634 | S7: =SUM(S$8:S$257) -> 5027925 | T7: =SUM(T$8:T$257) -> 13737664 | U7: =SUM(U$8:U$257) -> 1456045 | V7: =SUM(V$8:V$257) -> 280874 | W7: =+SUM(X7:AA7) -> 51121919 | X7: =SUM(X$8:X$257) -> 20290327 | Y7: =SUM(Y$8:Y$257) -> 26035728 | Z7: =SUM(Z$8:Z$257) -> 2668600 | AA7: =SUM(AA$8:AA$257) -> 2127264 | AB7: =SUM(AB$8:AB$257) -> 8979015 | AC7: =SUM(AC$8:AC$257) -> 21515 | AD7: =SUM(AD$8:AD$257) -> 6267566 | AE7: =+SUM(D7,L7,AD7) -> 115190582 | AF7: =+SUM(AG7,AL7) -> 1147266 | AG7: =+SUM(AH7:AK7) -> 1147148 | AH7: =SUM(AH$8:AH$257) -> 0 | AI7: =SUM(AI$8:AI$257) -> 1069555 | AJ7: =SUM(AJ$8:AJ$257) -> 59951 | AK7: =SUM(AK$8:AK$257) -> 17642 | AL7: =SUM(AL$8:AL$257) -> 118 | AM7: =SUM(AM$8:AM$257) -> 9512 | AN7: =+SUM(AO7,AT7,AX7,AY7,BE7) -> 7935892 | AO7: =+SUM(AP7:AS7) -> 1804181 | AP7: =SUM(AP$8:AP$257) -> 953877 | AQ7: =SUM(AQ$8:AQ$257) -> 549033 | AR7: =SUM(AR$8:AR$257) -> 150832 | AS7: =SUM(AS$8:AS$257) -> 150439 | AT7: =+SUM(AU7:AW7) -> 2867599 | AU7: =SUM(AU$8:AU$257) -> 69135 | AV7: =SUM(AV$8:AV$257) -> 2513009 | AW7: =SUM(AW$8:AW$257) -> 285455 | AX7: =SUM(AX$8:AX$257) -> 18241 | AY7: =+SUM(AZ7:BC7) -> 3244788 | AZ7: =SUM(AZ$8:AZ$257) -> 1113280 | BA7: =SUM(BA$8:BA$257) -> 1490015 | BB7: =SUM(BB$8:BB$257) -> 163677 | BC7: =SUM(BC$8:BC$257) -> 477816 | BD7: =SUM(BD$8:BD$257) -> 2011359 | BE7: =SUM(BE$8:BE$257) -> 1083 | BF7: =SUM(BF$8:BF$257) -> 447752 | BG7: =+SUM(BF7,AN7,AF7) -> 9530910 | BH7: =SUM(D7,AF7) -> 16506233 | BI7: =SUM(E7,AG7) -> 16413859 | BJ7: =SUM(F7,AH7) -> 12027 | BK7: =SUM(G7,AI7) -> 14738516 | BL7: =SUM(H7,AJ7) -> 1621815 | BM7: =SUM(I7,AK7) -> 41501 | BN7: =SUM(J7,AL7) -> 92374 | BO7: =SUM(K7,AM7) -> 1200008 | ... CI7: =SUM(AE7,BG7) -> 124721492
A8: 愛知県 | B8: 23100 | C8: 名古屋市 | D8: =+SUM(E8,J8) -> 4565626 | E8: =+SUM(F8:I8) -> 4554995 | F8: 0 | G8: 3272956 | H8: 1282039 | I8: 0 | J8: 10631 | K8: 0 | L8: =+SUM(M8,R8,V8,W8,AC8) -> 29157504 | M8: =+SUM(N8:Q8) -> 10300222 | N8: 3332007 | O8: 6451727 | P8: 463964 | Q8: 52524 | R8: =+SUM(S8:U8) -> 8439431 | S8: 3499396 | T8: 4613083 | U8: 326952 | V8: 78321 | W8: =+SUM(X8:AA8) -> 10326904 | X8: 4772325 | Y8: 5320827 | Z8: 233752 | AA8: 0 | AB8: 0 | AC8: 12626 | AD8: 924511 | AE8: =+SUM(D8,L8,AD8) -> 34647641 | AF8: =+SUM(AG8,AL8) -> 59877 | AG8: =+SUM(AH8:AK8) -> 59877 | AH8: 0 | AI8: 0 | AJ8: 59877 | AK8: 0 | AL8: 0 | AM8: 0 | AN8: =+SUM(AO8,AT8,AX8,AY8,BE8) -> 1020170 | AO8: =+SUM(AP8:AS8) -> 858793 | AP8: 213863 | AQ8: 494741 | AR8: 0 | AS8: 150189 | AT8: =+SUM(AU8:AW8) -> 81291 | AU8: 27996 | AV8: 0 | AW8: 53295 | AX8: 13293 | AY8: =+SUM(AZ8:BC8) -> 66793 | AZ8: 0 | BA8: 0 | BB8: 66793 | BC8: 0 | BD8: 0 | BE8: 0 | BF8: 37456 | BG8: =+SUM(BF8,AN8,AF8) -> 1117503 | BH8: =SUM(D8,AF8) -> 4625503 | BI8: =SUM(E8,AG8) -> 4614872 | BJ8: =SUM(F8,AH8) -> 0 | BK8: =SUM(G8,AI8) -> 3272956 | BL8: =SUM(H8,AJ8) -> 1341916 | BM8: =SUM(I8,AK8) -> 0 | BN8: =SUM(J8,AL8) -> 10631 | BO8: =SUM(K8,AM8) -> 0 | ... CI8: =SUM(AE8,BG8) -> 35765144
A9: 愛知県 | B9: 23201 | C9: 豊橋市 | D9: =+SUM(E9,J9) -> 1533234 | E9: =+SUM(F9:I9) -> 1513246 | F9: 8129 | G9: 1494967 | H9: 10150 | I9: 0 | J9: 19988 | K9: 0 | L9: =+SUM(M9,R9,V9,W9,AC9) -> 4273392 | M9: =+SUM(N9:Q9) -> 1619962 | N9: 470829 | O9: 722551 | P9: 389439 | Q9: 37143 | R9: =+SUM(S9:U9) -> 823196 | S9: 120108 | T9: 610365 | U9: 92723 | V9: 8116 | W9: =+SUM(X9:AA9) -> 1820677 | X9: 388459 | Y9: 269794 | Z9: 0 | AA9: 1162424 | AB9: 0 | AC9: 1441 | AD9: 88536 | AE9: =+SUM(D9,L9,AD9) -> 5895162 | AF9: =+SUM(AG9,AL9) -> 53827 | AG9: =+SUM(AH9:AK9) -> 53709 | AH9: 0 | AI9: 53635 | AJ9: 74 | AK9: 0 | AL9: 118 | AM9: 0 | AN9: =+SUM(AO9,AT9,AX9,AY9,BE9) -> 78361 | AO9: =+SUM(AP9:AS9) -> 20745 | AP9: 17645 | AQ9: 0 | AR9: 2850 | AS9: 250 | AT9: =+SUM(AU9:AW9) -> 4810 | AU9: 0 | AV9: 4166 | AW9: 644 | AX9: 0 | AY9: =+SUM(AZ9:BC9) -> 52806 | AZ9: 0 | BA9: 42969 | BB9: 0 | BC9: 9837 | BD9: 0 | BE9: 0 | BF9: 80955 | BG9: =+SUM(BF9,AN9,AF9) -> 213143 | BH9: =SUM(D9,AF9) -> 1587061 | BI9: =SUM(E9,AG9) -> 1566955 | BJ9: =SUM(F9,AH9) -> 8129 | BK9: =SUM(G9,AI9) -> 1548602 | BL9: =SUM(H9,AJ9) -> 10224 | BM9: =SUM(I9,AK9) -> 0 | BN9: =SUM(J9,AL9) -> 20106 | BO9: =SUM(K9,AM9) -> 0 | ... CI9: =SUM(AE9,BG9) -> 6108305
A10: 愛知県 | B10: 23202 | C10: 岡崎市 | D10: =+SUM(E10,J10) -> 0 | E10: =+SUM(F10:I10) -> 0 | F10: 0 | G10: 0 | H10: 0 | I10: 0 | J10: 0 | K10: 0 | L10: =+SUM(M10,R10,V10,W10,AC10) -> 4379356 | M10: =+SUM(N10:Q10) -> 934802 | N10: 200317 | O10: 573577 | P10: 129792 | Q10: 31116 | R10: =+SUM(S10:U10) -> 1074071 | S10: 72463 | T10: 936967 | U10: 64641 | V10: 21120 | W10: =+SUM(X10:AA10) -> 2349363 | X10: 538802 | Y10: 1777877 | Z10: 32684 | AA10: 0 | AB10: 0 | AC10: 0 | AD10: 157022 | AE10: =+SUM(D10,L10,AD10) -> 4536378 | AF10: =+SUM(AG10,AL10) -> 17642 | AG10: =+SUM(AH10:AK10) -> 17642 | AH10: 0 | AI10: 0 | AJ10: 0 | AK10: 17642 | AL10: 0 | AM10: 0 | AN10: =+SUM(AO10,AT10,AX10,AY10,BE10) -> 155962 | AO10: =+SUM(AP10:AS10) -> 0 | AP10: 0 | AQ10: 0 | AR10: 0 | AS10: 0 | AT10: =+SUM(AU10:AW10) -> 155962 | AU10: 5923 | AV10: 150039 | AW10: 0 | AX10: 0 | AY10: =+SUM(AZ10:BC10) -> 0 | AZ10: 0 | BA10: 0 | BB10: 0 | BC10: 0 | BD10: 0 | BE10: 0 | BF10: 9479 | BG10: =+SUM(BF10,AN10,AF10) -> 183083 | BH10: =SUM(D10,AF10) -> 17642 | BI10: =SUM(E10,AG10) -> 17642 | BJ10: =SUM(F10,AH10) -> 0 | BK10: =SUM(G10,AI10) -> 0 | BL10: =SUM(H10,AJ10) -> 0 | BM10: =SUM(I10,AK10) -> 17642 | BN10: =SUM(J10,AL10) -> 0 | BO10: =SUM(K10,AM10) -> 0 | ... CI10: =SUM(AE10,BG10) -> 4719461
A11: 愛知県 | B11: 23203 | C11: 一宮市 | D11: =+SUM(E11,J11) -> 0 | E11: =+SUM(F11:I11) -> 0 | F11: 0 | G11: 0 | H11: 0 | I11: 0 | J11: 0 | K11: 0 | L11: =+SUM(M11,R11,V11,W11,AC11) -> 3559897 | M11: =+SUM(N11:Q11) -> 654840 | N11: 256373 | O11: 299113 | P11: 99354 | Q11: 0 | R11: =+SUM(S11:U11) -> 1224990 | S11: 239074 | T11: 682552 | U11: 303364 | V11: 0 | W11: =+SUM(X11:AA11) -> 1680067 | X11: 931306 | Y11: 604989 | Z11: 104293 | AA11: 39479 | AB11: 0 | AC11: 0 | AD11: 29639 | AE11: =+SUM(D11,L11,AD11) -> 3589536 | AF11: =+SUM(AG11,AL11) -> 0 | AG11: =+SUM(AH11:AK11) -> 0 | AH11: 0 | AI11: 0 | AJ11: 0 | AK11: 0 | AL11: 0 | AM11: 0 | AN11: =+SUM(AO11,AT11,AX11,AY11,BE11) -> 257108 | AO11: =+SUM(AP11:AS11) -> 27339 | AP11: 27339 | AQ11: 0 | AR11: 0 | AS11: 0 | AT11: =+SUM(AU11:AW11) -> 118754 | AU11: 0 | AV11: 118754 | AW11: 0 | AX11: 0 | AY11: =+SUM(AZ11:BC11) -> 111015 | AZ11: 0 | BA11: 81774 | BB11: 0 | BC11: 29241 | BD11: 0 | BE11: 0 | BF11: 772 | BG11: =+SUM(BF11,AN11,AF11) -> 257880 | BH11: =SUM(D11,AF11) -> 0 | BI11: =SUM(E11,AG11) -> 0 | BJ11: =SUM(F11,AH11) -> 0 | BK11: =SUM(G11,AI11) -> 0 | BL11: =SUM(H11,AJ11) -> 0 | BM11: =SUM(I11,AK11) -> 0 | BN11: =SUM(J11,AL11) -> 0 | BO11: =SUM(K11,AM11) -> 0 | ... CI11: =SUM(AE11,BG11) -> 3847416
A12: 愛知県 | B12: 23204 | C12: 瀬戸市 | D12: =+SUM(E12,J12) -> 0 | E12: =+SUM(F12:I12) -> 0 | F12: 0 | G12: 0 | H12: 0 | I12: 0 | J12: 0 | K12: 2932 | L12: =+SUM(M12,R12,V12,W12,AC12) -> 582379 | M12: =+SUM(N12:Q12) -> 165086 | N12: 52575 | O12: 112511 | P12: 0 | Q12: 0 | R12: =+SUM(S12:U12) -> 0 | S12: 0 | T12: 0 | U12: 0 | V12: 0 | W12: =+SUM(X12:AA12) -> 417293 | X12: 386356 | Y12: 30937 | Z12: 0 | AA12: 0 | AB12: 292691 | AC12: 0 | AD12: 40772 | AE12: =+SUM(D12,L12,AD12) -> 623151 | AF12: =+SUM(AG12,AL12) -> 0 | AG12: =+SUM(AH12:AK12) -> 0 | AH12: 0 | AI12: 0 | AJ12: 0 | AK12: 0 | AL12: 0 | AM12: 0 | AN12: =+SUM(AO12,AT12,AX12,AY12,BE12) -> 229843 | AO12: =+SUM(AP12:AS12) -> 62349 | AP12: 20449 | AQ12: 0 | AR12: 41900 | AS12: 0 | AT12: =+SUM(AU12:AW12) -> 116124 | AU12: 0 | AV12: 116124 | AW12: 0 | AX12: 0 | AY12: =+SUM(AZ12:BC12) -> 51370 | AZ12: 37187 | BA12: 14183 | BB12: 0 | BC12: 0 | BD12: 0 | BE12: 0 | BF12: 1203 | BG12: =+SUM(BF12,AN12,AF12) -> 231046 | BH12: =SUM(D12,AF12) -> 0 | BI12: =SUM(E12,AG12) -> 0 | BJ12: =SUM(F12,AH12) -> 0 | BK12: =SUM(G12,AI12) -> 0 | BL12: =SUM(H12,AJ12) -> 0 | BM12: =SUM(I12,AK12) -> 0 | BN12: =SUM(J12,AL12) -> 0 | BO12: =SUM(K12,AM12) -> 2932 | ... CI12: =SUM(AE12,BG12) -> 854197
A13: 愛知県 | B13: 23205 | C13: 半田市 | D13: =+SUM(E13,J13) -> 64295 | E13: =+SUM(F13:I13) -> 64295 | F13: 187 | G13: 0 | H13: 43978 | I13: 20130 | J13: 0 | K13: 0 | L13: =+SUM(M13,R13,V13,W13,AC13) -> 906451 | M13: =+SUM(N13:Q13) -> 104243 | N13: 31828 | O13: 72415 | P13: 0 | Q13: 0 | R13: =+SUM(S13:U13) -> 163812 | S13: 123890 | T13: 39922 | U13: 0 | V13: 9146 | W13: =+SUM(X13:AA13) -> 629250 | X13: 377561 | Y13: 248886 | Z13: 0 | AA13: 2803 | AB13: 182381 | AC13: 0 | AD13: 78854 | AE13: =+SUM(D13,L13,AD13) -> 1049600 | AF13: =+SUM(AG13,AL13) -> 0 | AG13: =+SUM(AH13:AK13) -> 0 | AH13: 0 | AI13: 0 | AJ13: 0 | AK13: 0 | AL13: 0 | AM13: 0 | AN13: =+SUM(AO13,AT13,AX13,AY13,BE13) -> 34453 | AO13: =+SUM(AP13:AS13) -> 4366 | AP13: 4366 | AQ13: 0 | AR13: 0 | AS13: 0 | AT13: =+SUM(AU13:AW13) -> 23966 | AU13: 23966 | AV13: 0 | AW13: 0 | AX13: 0 | AY13: =+SUM(AZ13:BC13) -> 6121 | AZ13: 0 | BA13: 0 | BB13: 0 | BC13: 6121 | BD13: 85684 | BE13: 0 | BF13: 1074 | BG13: =+SUM(BF13,AN13,AF13) -> 35527 | BH13: =SUM(D13,AF13) -> 64295 | BI13: =SUM(E13,AG13) -> 64295 | BJ13: =SUM(F13,AH13) -> 187 | BK13: =SUM(G13,AI13) -> 0 | BL13: =SUM(H13,AJ13) -> 43978 | BM13: =SUM(I13,AK13) -> 20130 | BN13: =SUM(J13,AL13) -> 0 | BO13: =SUM(K13,AM13) -> 0 | ... CI13: =SUM(AE13,BG13) -> 1085127
A14: 愛知県 | B14: 23206 | C14: 春日井市 | D14: =+SUM(E14,J14) -> 374586 | E14: =+SUM(F14:I14) -> 374586 | F14: 0 | G14: 373733 | H14: 0 | I14: 853 | J14: 0 | K14: 0 | L14: =+SUM(M14,R14,V14,W14,AC14) -> 4346303 | M14: =+SUM(N14:Q14) -> 1218532 | N14: 294358 | O14: 611201 | P14: 288265 | Q14: 24708 | R14: =+SUM(S14:U14) -> 1186124 | S14: 48452 | T14: 1054785 | U14: 82887 | V14: 38335 | W14: =+SUM(X14:AA14) -> 1903312 | X14: 792237 | Y14: 1100420 | Z14: 10655 | AA14: 0 | AB14: 0 | AC14: 0 | AD14: 73031 | AE14: =+SUM(D14,L14,AD14) -> 4793920 | AF14: =+SUM(AG14,AL14) -> 0 | AG14: =+SUM(AH14:AK14) -> 0 | AH14: 0 | AI14: 0 | AJ14: 0 | AK14: 0 | AL14: 0 | AM14: 0 | AN14: =+SUM(AO14,AT14,AX14,AY14,BE14) -> 362699 | AO14: =+SUM(AP14:AS14) -> 85206 | AP14: 50134 | AQ14: 29465 | AR14: 5607 | AS14: 0 | AT14: =+SUM(AU14:AW14) -> 154137 | AU14: 1563 | AV14: 152574 | AW14: 0 | AX14: 0 | AY14: =+SUM(AZ14:BC14) -> 123356 | AZ14: 46288 | BA14: 77068 | BB14: 0 | BC14: 0 | BD14: 0 | BE14: 0 | BF14: 6122 | BG14: =+SUM(BF14,AN14,AF14) -> 368821 | BH14: =SUM(D14,AF14) -> 374586 | BI14: =SUM(E14,AG14) -> 374586 | BJ14: =SUM(F14,AH14) -> 0 | BK14: =SUM(G14,AI14) -> 373733 | BL14: =SUM(H14,AJ14) -> 0 | BM14: =SUM(I14,AK14) -> 853 | BN14: =SUM(J14,AL14) -> 0 | BO14: =SUM(K14,AM14) -> 0 | ... CI14: =SUM(AE14,BG14) -> 5162741
A15: 愛知県 | B15: 23207 | C15: 豊川市 | D15: =+SUM(E15,J15) -> 990287 | E15: =+SUM(F15:I15) -> 990287 | F15: 0 | G15: 955637 | H15: 34650 | I15: 0 | J15: 0 | K15: 0 | L15: =+SUM(M15,R15,V15,W15,AC15) -> 2455629 | M15: =+SUM(N15:Q15) -> 263046 | N15: 120977 | O15: 104131 | P15: 28201 | Q15: 9737 | R15: =+SUM(S15:U15) -> 217870 | S15: 9482 | T15: 159832 | U15: 48556 | V15: 1968 | W15: =+SUM(X15:AA15) -> 1971590 | X15: 590846 | Y15: 1303502 | Z15: 75452 | AA15: 1790 | AB15: 0 | AC15: 1155 | AD15: 22288 | AE15: =+SUM(D15,L15,AD15) -> 3468204 | AF15: =+SUM(AG15,AL15) -> 1284 | AG15: =+SUM(AH15:AK15) -> 1284 | AH15: 0 | AI15: 1284 | AJ15: 0 | AK15: 0 | AL15: 0 | AM15: 0 | AN15: =+SUM(AO15,AT15,AX15,AY15,BE15) -> 188085 | AO15: =+SUM(AP15:AS15) -> 6116 | AP15: 6116 | AQ15: 0 | AR15: 0 | AS15: 0 | AT15: =+SUM(AU15:AW15) -> 55263 | AU15: 0 | AV15: 55263 | AW15: 0 | AX15: 0 | AY15: =+SUM(AZ15:BC15) -> 126706 | AZ15: 0 | BA15: 126706 | BB15: 0 | BC15: 0 | BD15: 0 | BE15: 0 | BF15: 0 | BG15: =+SUM(BF15,AN15,AF15) -> 189369 | BH15: =SUM(D15,AF15) -> 991571 | BI15: =SUM(E15,AG15) -> 991571 | BJ15: =SUM(F15,AH15) -> 0 | BK15: =SUM(G15,AI15) -> 956921 | BL15: =SUM(H15,AJ15) -> 34650 | BM15: =SUM(I15,AK15) -> 0 | BN15: =SUM(J15,AL15) -> 0 | BO15: =SUM(K15,AM15) -> 0 | ... CI15: =SUM(AE15,BG15) -> 3657573
A16: 愛知県 | B16: 23208 | C16: 津島市 | D16: =+SUM(E16,J16) -> 119 | E16: =+SUM(F16:I16) -> 119 | F16: 0 | G16: 0 | H16: 0 | I16: 119 | J16: 0 | K16: 0 | L16: =+SUM(M16,R16,V16,W16,AC16) -> 302031 | M16: =+SUM(N16:Q16) -> 53630 | N16: 32178 | O16: 16089 | P16: 0 | Q16: 5363 | R16: =+SUM(S16:U16) -> 18594 | S16: 990 | T16: 71 | U16: 17533 | V16: 0 | W16: =+SUM(X16:AA16) -> 229807 | X16: 198064 | Y16: 29174 | Z16: 206 | AA16: 2363 | AB16: 263982 | AC16: 0 | AD16: 41822 | AE16: =+SUM(D16,L16,AD16) -> 343972 | AF16: =+SUM(AG16,AL16) -> 0 | AG16: =+SUM(AH16:AK16) -> 0 | AH16: 0 | AI16: 0 | AJ16: 0 | AK16: 0 | AL16: 0 | AM16: 0 | AN16: =+SUM(AO16,AT16,AX16,AY16,BE16) -> 23329 | AO16: =+SUM(AP16:AS16) -> 18937 | AP16: 18937 | AQ16: 0 | AR16: 0 | AS16: 0 | AT16: =+SUM(AU16:AW16) -> 4392 | AU16: 0 | AV16: 4392 | AW16: 0 | AX16: 0 | AY16: =+SUM(AZ16:BC16) -> 0 | AZ16: 0 | BA16: 0 | BB16: 0 | BC16: 0 | BD16: 66661 | BE16: 0 | BF16: 510 | BG16: =+SUM(BF16,AN16,AF16) -> 23839 | BH16: =SUM(D16,AF16) -> 119 | BI16: =SUM(E16,AG16) -> 119 | BJ16: =SUM(F16,AH16) -> 0 | BK16: =SUM(G16,AI16) -> 0 | BL16: =SUM(H16,AJ16) -> 0 | BM16: =SUM(I16,AK16) -> 119 | BN16: =SUM(J16,AL16) -> 0 | BO16: =SUM(K16,AM16) -> 0 | ... CI16: =SUM(AE16,BG16) -> 367811
A17: 愛知県 | B17: 23209 | C17: 碧南市 | D17: =+SUM(E17,J17) -> 0 | E17: =+SUM(F17:I17) -> 0 | F17: 0 | G17: 0 | H17: 0 | I17: 0 | J17: 0 | K17: 111299 | L17: =+SUM(M17,R17,V17,W17,AC17) -> 452073 | M17: =+SUM(N17:Q17) -> 25999 | N17: 25999 | O17: 0 | P17: 0 | Q17: 0 | R17: =+SUM(S17:U17) -> 93747 | S17: 90280 | T17: 0 | U17: 3467 | V17: 0 | W17: =+SUM(X17:AA17) -> 332327 | X17: 255783 | Y17: 54629 | Z17: 21915 | AA17: 0 | AB17: 650701 | AC17: 0 | AD17: 0 | AE17: =+SUM(D17,L17,AD17) -> 452073 | AF17: =+SUM(AG17,AL17) -> 0 | AG17: =+SUM(AH17:AK17) -> 0 | AH17: 0 | AI17: 0 | AJ17: 0 | AK17: 0 | AL17: 0 | AM17: 0 | AN17: =+SUM(AO17,AT17,AX17,AY17,BE17) -> 2432 | AO17: =+SUM(AP17:AS17) -> 2432 | AP17: 2432 | AQ17: 0 | AR17: 0 | AS17: 0 | AT17: =+SUM(AU17:AW17) -> 0 | AU17: 0 | AV17: 0 | AW17: 0 | AX17: 0 | AY17: =+SUM(AZ17:BC17) -> 0 | AZ17: 0 | BA17: 0 | BB17: 0 | BC17: 0 | BD17: 0 | BE17: 0 | BF17: 0 | BG17: =+SUM(BF17,AN17,AF17) -> 2432 | BH17: =SUM(D17,AF17) -> 0 | BI17: =SUM(E17,AG17) -> 0 | BJ17: =SUM(F17,AH17) -> 0 | BK17: =SUM(G17,AI17) -> 0 | BL17: =SUM(H17,AJ17) -> 0 | BM17: =SUM(I17,AK17) -> 0 | BN17: =SUM(J17,AL17) -> 0 | BO17: =SUM(K17,AM17) -> 111299 | ... CI17: =SUM(AE17,BG17) -> 454505
A18: 愛知県 | B18: 23210 | C18: 刈谷市 | D18: =+SUM(E18,J18) -> 1751 | E18: =+SUM(F18:I18) -> 1751 | F18: 0 | G18: 0 | H18: 1751 | I18: 0 | J18: 0 | K18: 436190 | L18: =+SUM(M18,R18,V18,W18,AC18) -> 842841 | M18: =+SUM(N18:Q18) -> 183899 | N18: 33290 | O18: 117608 | P18: 0 | Q18: 33001 | R18: =+SUM(S18:U18) -> 59431 | S18: 12794 | T18: 77 | U18: 46560 | V18: 9469 | W18: =+SUM(X18:AA18) -> 590042 | X18: 457416 | Y18: 100253 | Z18: 17361 | AA18: 15012 | AB18: 278748 | AC18: 0 | AD18: 97718 | AE18: =+SUM(D18,L18,AD18) -> 942310 | AF18: =+SUM(AG18,AL18) -> 0 | AG18: =+SUM(AH18:AK18) -> 0 | AH18: 0 | AI18: 0 | AJ18: 0 | AK18: 0 | AL18: 0 | AM18: 0 | AN18: =+SUM(AO18,AT18,AX18,AY18,BE18) -> 356825 | AO18: =+SUM(AP18:AS18) -> 37656 | AP18: 37656 | AQ18: 0 | AR18: 0 | AS18: 0 | AT18: =+SUM(AU18:AW18) -> 39692 | AU18: 0 | AV18: 36395 | AW18: 3297 | AX18: 4948 | AY18: =+SUM(AZ18:BC18) -> 274529 | AZ18: 47979 | BA18: 224845 | BB18: 1705 | BC18: 0 | BD18: 0 | BE18: 0 | BF18: 608 | BG18: =+SUM(BF18,AN18,AF18) -> 357433 | BH18: =SUM(D18,AF18) -> 1751 | BI18: =SUM(E18,AG18) -> 1751 | BJ18: =SUM(F18,AH18) -> 0 | BK18: =SUM(G18,AI18) -> 0 | BL18: =SUM(H18,AJ18) -> 1751 | BM18: =SUM(I18,AK18) -> 0 | BN18: =SUM(J18,AL18) -> 0 | BO18: =SUM(K18,AM18) -> 436190 | ... CI18: =SUM(AE18,BG18) -> 1299743
A19: 愛知県 | B19: 23211 | C19: 豊田市 | D19: =+SUM(E19,J19) -> 536820 | E19: =+SUM(F19:I19) -> 536820 | F19: 0 | G19: 536820 | H19: 0 | I19: 0 | J19: 0 | K19: 0 | L19: =+SUM(M19,R19,V19,W19,AC19) -> 5922078 | M19: =+SUM(N19:Q19) -> 1471903 | N19: 195473 | O19: 1155220 | P19: 85043 | Q19: 36167 | R19: =+SUM(S19:U19) -> 747491 | S19: 170584 | T19: 514854 | U19: 62053 | V19: 46086 | W19: =+SUM(X19:AA19) -> 3656598 | X19: 660108 | Y19: 2547922 | Z19: 290687 | AA19: 157881 | AB19: 0 | AC19: 0 | AD19: 68343 | AE19: =+SUM(D19,L19,AD19) -> 6527241 | AF19: =+SUM(AG19,AL19) -> 0 | AG19: =+SUM(AH19:AK19) -> 0 | AH19: 0 | AI19: 0 | AJ19: 0 | AK19: 0 | AL19: 0 | AM19: 0 | AN19: =+SUM(AO19,AT19,AX19,AY19,BE19) -> 920445 | AO19: =+SUM(AP19:AS19) -> 79467 | AP19: 63103 | AQ19: 16364 | AR19: 0 | AS19: 0 | AT19: =+SUM(AU19:AW19) -> 374230 | AU19: 1892 | AV19: 167182 | AW19: 205156 | AX19: 0 | AY19: =+SUM(AZ19:BC19) -> 466748 | AZ19: 463103 | BA19: 0 | BB19: 0 | BC19: 3645 | BD19: 0 | BE19: 0 | BF19: 25505 | BG19: =+SUM(BF19,AN19,AF19) -> 945950 | BH19: =SUM(D19,AF19) -> 536820 | BI19: =SUM(E19,AG19) -> 536820 | BJ19: =SUM(F19,AH19) -> 0 | BK19: =SUM(G19,AI19) -> 536820 | BL19: =SUM(H19,AJ19) -> 0 | BM19: =SUM(I19,AK19) -> 0 | BN19: =SUM(J19,AL19) -> 0 | BO19: =SUM(K19,AM19) -> 0 | ... CI19: =SUM(AE19,BG19) -> 7473191
... A61: 愛知県 | B61: 23563 | C61: 豊根村 | D61: =+SUM(E61,J61) -> 0 | E61: =+SUM(F61:I61) -> 0 | F61: 0 | G61: 0 | H61: 0 | I61: 0 | J61: 0 | K61: 2009 | L61: =+SUM(M61,R61,V61,W61,AC61) -> 0 | M61: =+SUM(N61:Q61) -> 0 | N61: 0 | O61: 0 | P61: 0 | Q61: 0 | R61: =+SUM(S61:U61) -> 0 | S61: 0 | T61: 0 | U61: 0 | V61: 0 | W61: =+SUM(X61:AA61) -> 0 | X61: 0 | Y61: 0 | Z61: 0 | AA61: 0 | AB61: 23342 | AC61: 0 | AD61: 0 | AE61: =+SUM(D61,L61,AD61) -> 0 | AF61: =+SUM(AG61,AL61) -> 0 | AG61: =+SUM(AH61:AK61) -> 0 | AH61: 0 | AI61: 0 | AJ61: 0 | AK61: 0 | AL61: 0 | AM61: 1844 | AN61: =+SUM(AO61,AT61,AX61,AY61,BE61) -> 0 | AO61: =+SUM(AP61:AS61) -> 0 | AP61: 0 | AQ61: 0 | AR61: 0 | AS61: 0 | AT61: =+SUM(AU61:AW61) -> 0 | AU61: 0 | AV61: 0 | AW61: 0 | AX61: 0 | AY61: =+SUM(AZ61:BC61) -> 0 | AZ61: 0 | BA61: 0 | BB61: 0 | BC61: 0 | BD61: 9933 | BE61: 0 | BF61: 0 | BG61: =+SUM(BF61,AN61,AF61) -> 0 | BH61: =SUM(D61,AF61) -> 0 | BI61: =SUM(E61,AG61) -> 0 | BJ61: =SUM(F61,AH61) -> 0 | BK61: =SUM(G61,AI61) -> 0 | BL61: =SUM(H61,AJ61) -> 0 | BM61: =SUM(I61,AK61) -> 0 | BN61: =SUM(J61,AL61) -> 0 | BO61: =SUM(K61,AM61) -> 3853 | ... CI61: =SUM(AE61,BG61) -> 0
A62: 愛知県 | B62: 23833 | C62: 愛北広域事務組合 | D62: =+SUM(E62,J62) -> 0 | E62: =+SUM(F62:I62) -> 0 | F62: 0 | G62: 0 | H62: 0 | I62: 0 | J62: 0 | L62: =+SUM(M62,R62,V62,W62,AC62) -> 0 | M62: =+SUM(N62:Q62) -> 0 | N62: 0 | O62: 0 | P62: 0 | Q62: 0 | R62: =+SUM(S62:U62) -> 0 | S62: 0 | T62: 0 | U62: 0 | V62: 0 | W62: =+SUM(X62:AA62) -> 0 | X62: 0 | Y62: 0 | Z62: 0 | AA62: 0 | AC62: 0 | AD62: 0 | AE62: =+SUM(D62,L62,AD62) -> 0 | AF62: =+SUM(AG62,AL62) -> 0 | AG62: =+SUM(AH62:AK62) -> 0 | AH62: 0 | AI62: 0 | AJ62: 0 | AK62: 0 | AL62: 0 | AN62: =+SUM(AO62,AT62,AX62,AY62,BE62) -> 337182 | AO62: =+SUM(AP62:AS62) -> 104958 | AP62: 51969 | AQ62: 0 | AR62: 52989 | AS62: 0 | AT62: =+SUM(AU62:AW62) -> 0 | AU62: 0 | AV62: 0 | AW62: 0 | AX62: 0 | AY62: =+SUM(AZ62:BC62) -> 232224 | AZ62: 0 | BA62: 67960 | BB62: 1464 | BC62: 162800 | BE62: 0 | BF62: 17703 | BG62: =+SUM(BF62,AN62,AF62) -> 354885 | BH62: =SUM(D62,AF62) -> 0 | BI62: =SUM(E62,AG62) -> 0 | BJ62: =SUM(F62,AH62) -> 0 | BK62: =SUM(G62,AI62) -> 0 | BL62: =SUM(H62,AJ62) -> 0 | BM62: =SUM(I62,AK62) -> 0 | BN62: =SUM(J62,AL62) -> 0 | BO62: =SUM(K62,AM62) -> 0 | ... CI62: =SUM(AE62,BG62) -> 354885
A63: 愛知県 | B63: 23835 | C63: 中部知多衛生組合 | D63: =+SUM(E63,J63) -> 0 | E63: =+SUM(F63:I63) -> 0 | F63: 0 | G63: 0 | H63: 0 | I63: 0 | J63: 0 | L63: =+SUM(M63,R63,V63,W63,AC63) -> 0 | M63: =+SUM(N63:Q63) -> 0 | N63: 0 | O63: 0 | P63: 0 | Q63: 0 | R63: =+SUM(S63:U63) -> 0 | S63: 0 | T63: 0 | U63: 0 | V63: 0 | W63: =+SUM(X63:AA63) -> 0 | X63: 0 | Y63: 0 | Z63: 0 | AA63: 0 | AC63: 0 | AD63: 0 | AE63: =+SUM(D63,L63,AD63) -> 0 | AF63: =+SUM(AG63,AL63) -> 562518 | AG63: =+SUM(AH63:AK63) -> 562518 | AH63: 0 | AI63: 562518 | AJ63: 0 | AK63: 0 | AL63: 0 | AN63: =+SUM(AO63,AT63,AX63,AY63,BE63) -> 225468 | AO63: =+SUM(AP63:AS63) -> 27306 | AP63: 27306 | AQ63: 0 | AR63: 0 | AS63: 0 | AT63: =+SUM(AU63:AW63) -> 153183 | AU63: 0 | AV63: 130856 | AW63: 22327 | AX63: 0 | AY63: =+SUM(AZ63:BC63) -> 44979 | AZ63: 0 | BA63: 43549 | BB63: 1430 | BC63: 0 | BE63: 0 | BF63: 28639 | BG63: =+SUM(BF63,AN63,AF63) -> 816625 | BH63: =SUM(D63,AF63) -> 562518 | BI63: =SUM(E63,AG63) -> 562518 | BJ63: =SUM(F63,AH63) -> 0 | BK63: =SUM(G63,AI63) -> 562518 | BL63: =SUM(H63,AJ63) -> 0 | BM63: =SUM(I63,AK63) -> 0 | BN63: =SUM(J63,AL63) -> 0 | BO63: =SUM(K63,AM63) -> 0 | ... CI63: =SUM(AE63,BG63) -> 816625
A64: 愛知県 | B64: 23837 | C64: 東部知多衛生組合 | D64: =+SUM(E64,J64) -> 0 | E64: =+SUM(F64:I64) -> 0 | F64: 0 | G64: 0 | H64: 0 | I64: 0 | J64: 0 | L64: =+SUM(M64,R64,V64,W64,AC64) -> 1512696 | M64: =+SUM(N64:Q64) -> 60946 | N64: 54851 | O64: 0 | P64: 6095 | Q64: 0 | R64: =+SUM(S64:U64) -> 216887 | S64: 0 | T64: 209696 | U64: 7191 | V64: 0 | W64: =+SUM(X64:AA64) -> 1234863 | X64: 0 | Y64: 1207161 | Z64: 27702 | AA64: 0 | AC64: 0 | AD64: 0 | AE64: =+SUM(D64,L64,AD64) -> 1512696 | AF64: =+SUM(AG64,AL64) -> 0 | AG64: =+SUM(AH64:AK64) -> 0 | AH64: 0 | AI64: 0 | AJ64: 0 | AK64: 0 | AL64: 0 | AN64: =+SUM(AO64,AT64,AX64,AY64,BE64) -> 97150 | AO64: =+SUM(AP64:AS64) -> 18283 | AP64: 12189 | AQ64: 0 | AR64: 6094 | AS64: 0 | AT64: =+SUM(AU64:AW64) -> 34336 | AU64: 0 | AV64: 34115 | AW64: 221 | AX64: 0 | AY64: =+SUM(AZ64:BC64) -> 44531 | AZ64: 0 | BA64: 44531 | BB64: 0 | BC64: 0 | BE64: 0 | BF64: 0 | BG64: =+SUM(BF64,AN64,AF64) -> 97150 | BH64: =SUM(D64,AF64) -> 0 | BI64: =SUM(E64,AG64) -> 0 | BJ64: =SUM(F64,AH64) -> 0 | BK64: =SUM(G64,AI64) -> 0 | BL64: =SUM(H64,AJ64) -> 0 | BM64: =SUM(I64,AK64) -> 0 | BN64: =SUM(J64,AL64) -> 0 | BO64: =SUM(K64,AM64) -> 0 | ... CI64: =SUM(AE64,BG64) -> 1609846
A65: 愛知県 | B65: 23838 | C65: 衣浦衛生組合 | D65: =+SUM(E65,J65) -> 341230 | E65: =+SUM(F65:I65) -> 341230 | F65: 0 | G65: 341230 | H65: 0 | I65: 0 | J65: 0 | L65: =+SUM(M65,R65,V65,W65,AC65) -> 1228376 | M65: =+SUM(N65:Q65) -> 91703 | N65: 91703 | O65: 0 | P65: 0 | Q65: 0 | R65: =+SUM(S65:U65) -> 594031 | S65: 0 | T65: 594031 | U65: 0 | V65: 0 | W65: =+SUM(X65:AA65) -> 542642 | X65: 0 | Y65: 450468 | Z65: 92174 | AA65: 0 | AC65: 0 | AD65: 242461 | AE65: =+SUM(D65,L65,AD65) -> 1812067 | AF65: =+SUM(AG65,AL65) -> 0 | AG65: =+SUM(AH65:AK65) -> 0 | AH65: 0 | AI65: 0 | AJ65: 0 | AK65: 0 | AL65: 0 | AN65: =+SUM(AO65,AT65,AX65,AY65,BE65) -> 0 | AO65: =+SUM(AP65:AS65) -> 0 | AP65: 0 | AQ65: 0 | AR65: 0 | AS65: 0 | AT65: =+SUM(AU65:AW65) -> 0 | AU65: 0 | AV65: 0 | AW65: 0 | AX65: 0 | AY65: =+SUM(AZ65:BC65) -> 0 | AZ65: 0 | BA65: 0 | BB65: 0 | BC65: 0 | BE65: 0 | BF65: 0 | BG65: =+SUM(BF65,AN65,AF65) -> 0 | BH65: =SUM(D65,AF65) -> 341230 | BI65: =SUM(E65,AG65) -> 341230 | BJ65: =SUM(F65,AH65) -> 0 | BK65: =SUM(G65,AI65) -> 341230 | BL65: =SUM(H65,AJ65) -> 0 | BM65: =SUM(I65,AK65) -> 0 | BN65: =SUM(J65,AL65) -> 0 | BO65: =SUM(K65,AM65) -> 0 | ... CI65: =SUM(AE65,BG65) -> 1812067
A66: 愛知県 | B66: 23841 | C66: 常滑武豊衛生組合 | D66: =+SUM(E66,J66) -> 110661 | E66: =+SUM(F66:I66) -> 100706 | F66: 0 | G66: 100706 | H66: 0 | I66: 0 | J66: 9955 | L66: =+SUM(M66,R66,V66,W66,AC66) -> 0 | M66: =+SUM(N66:Q66) -> 0 | N66: 0 | O66: 0 | P66: 0 | Q66: 0 | R66: =+SUM(S66:U66) -> 0 | S66: 0 | T66: 0 | U66: 0 | V66: 0 | W66: =+SUM(X66:AA66) -> 0 | X66: 0 | Y66: 0 | Z66: 0 | AA66: 0 | AC66: 0 | AD66: 45159 | AE66: =+SUM(D66,L66,AD66) -> 155820 | AF66: =+SUM(AG66,AL66) -> 0 | AG66: =+SUM(AH66:AK66) -> 0 | AH66: 0 | AI66: 0 | AJ66: 0 | AK66: 0 | AL66: 0 | AN66: =+SUM(AO66,AT66,AX66,AY66,BE66) -> 0 | AO66: =+SUM(AP66:AS66) -> 0 | AP66: 0 | AQ66: 0 | AR66: 0 | AS66: 0 | AT66: =+SUM(AU66:AW66) -> 0 | AU66: 0 | AV66: 0 | AW66: 0 | AX66: 0 | AY66: =+SUM(AZ66:BC66) -> 0 | AZ66: 0 | BA66: 0 | BB66: 0 | BC66: 0 | BE66: 0 | BF66: 0 | BG66: =+SUM(BF66,AN66,AF66) -> 0 | BH66: =SUM(D66,AF66) -> 110661 | BI66: =SUM(E66,AG66) -> 100706 | BJ66: =SUM(F66,AH66) -> 0 | BK66: =SUM(G66,AI66) -> 100706 | BL66: =SUM(H66,AJ66) -> 0 | BM66: =SUM(I66,AK66) -> 0 | BN66: =SUM(J66,AL66) -> 9955 | BO66: =SUM(K66,AM66) -> 0 | ... CI66: =SUM(AE66,BG66) -> 155820
A67: 愛知県 | B67: 23842 | C67: 蒲郡市幸田町衛生組合 | D67: =+SUM(E67,J67) -> 0 | E67: =+SUM(F67:I67) -> 0 | F67: 0 | G67: 0 | H67: 0 | I67: 0 | J67: 0 | L67: =+SUM(M67,R67,V67,W67,AC67) -> 0 | M67: =+SUM(N67:Q67) -> 0 | N67: 0 | O67: 0 | P67: 0 | Q67: 0 | R67: =+SUM(S67:U67) -> 0 | S67: 0 | T67: 0 | U67: 0 | V67: 0 | W67: =+SUM(X67:AA67) -> 0 | X67: 0 | Y67: 0 | Z67: 0 | AA67: 0 | AC67: 0 | AD67: 0 | AE67: =+SUM(D67,L67,AD67) -> 0 | AF67: =+SUM(AG67,AL67) -> 0 | AG67: =+SUM(AH67:AK67) -> 0 | AH67: 0 | AI67: 0 | AJ67: 0 | AK67: 0 | AL67: 0 | AN67: =+SUM(AO67,AT67,AX67,AY67,BE67) -> 128372 | AO67: =+SUM(AP67:AS67) -> 3640 | AP67: 0 | AQ67: 0 | AR67: 3640 | AS67: 0 | AT67: =+SUM(AU67:AW67) -> 83476 | AU67: 0 | AV67: 83476 | AW67: 0 | AX67: 0 | AY67: =+SUM(AZ67:BC67) -> 41256 | AZ67: 0 | BA67: 41256 | BB67: 0 | BC67: 0 | BE67: 0 | BF67: 0 | BG67: =+SUM(BF67,AN67,AF67) -> 128372 | BH67: =SUM(D67,AF67) -> 0 | BI67: =SUM(E67,AG67) -> 0 | BJ67: =SUM(F67,AH67) -> 0 | BK67: =SUM(G67,AI67) -> 0 | BL67: =SUM(H67,AJ67) -> 0 | BM67: =SUM(I67,AK67) -> 0 | BN67: =SUM(J67,AL67) -> 0 | BO67: =SUM(K67,AM67) -> 0 | ... CI67: =SUM(AE67,BG67) -> 128372
A68: 愛知県 | B68: 23846 | C68: 西知多医療厚生組合 | D68: =+SUM(E68,J68) -> 3587184 | E68: =+SUM(F68:I68) -> 3568735 | F68: 0 | G68: 3568735 | H68: 0 | I68: 0 | J68: 18449 | L68: =+SUM(M68,R68,V68,W68,AC68) -> 0 | M68: =+SUM(N68:Q68) -> 0 | N68: 0 | O68: 0 | P68: 0 | Q68: 0 | R68: =+SUM(S68:U68) -> 0 | S68: 0 | T68: 0 | U68: 0 | V68: 0 | W68: =+SUM(X68:AA68) -> 0 | X68: 0 | Y68: 0 | Z68: 0 | AA68: 0 | AC68: 0 | AD68: 228688 | AE68: =+SUM(D68,L68,AD68) -> 3815872 | AF68: =+SUM(AG68,AL68) -> 0 | AG68: =+SUM(AH68:AK68) -> 0 | AH68: 0 | AI68: 0 | AJ68: 0 | AK68: 0 | AL68: 0 | AN68: =+SUM(AO68,AT68,AX68,AY68,BE68) -> 234447 | AO68: =+SUM(AP68:AS68) -> 30370 | AP68: 22360 | AQ68: 0 | AR68: 8010 | AS68: 0 | AT68: =+SUM(AU68:AW68) -> 194396 | AU68: 0 | AV68: 193881 | AW68: 515 | AX68: 0 | AY68: =+SUM(AZ68:BC68) -> 9681 | AZ68: 0 | BA68: 8932 | BB68: 749 | BC68: 0 | BE68: 0 | BF68: 22232 | BG68: =+SUM(BF68,AN68,AF68) -> 256679 | BH68: =SUM(D68,AF68) -> 3587184 | BI68: =SUM(E68,AG68) -> 3568735 | BJ68: =SUM(F68,AH68) -> 0 | BK68: =SUM(G68,AI68) -> 3568735 | BL68: =SUM(H68,AJ68) -> 0 | BM68: =SUM(I68,AK68) -> 0 | BN68: =SUM(J68,AL68) -> 18449 | BO68: =SUM(K68,AM68) -> 0 | ... CI68: =SUM(AE68,BG68) -> 4072551
A69: 愛知県 | B69: 23848 | C69: 尾張東部衛生組合 | D69: =+SUM(E69,J69) -> 6711 | E69: =+SUM(F69:I69) -> 6711 | F69: 0 | G69: 6711 | H69: 0 | I69: 0 | J69: 0 | L69: =+SUM(M69,R69,V69,W69,AC69) -> 1127078 | M69: =+SUM(N69:Q69) -> 280543 | N69: 104095 | O69: 0 | P69: 176448 | Q69: 0 | R69: =+SUM(S69:U69) -> 645093 | S69: 0 | T69: 583415 | U69: 61678 | V69: 0 | W69: =+SUM(X69:AA69) -> 201442 | X69: 0 | Y69: 44484 | Z69: 148944 | AA69: 8014 | AC69: 0 | AD69: 499164 | AE69: =+SUM(D69,L69,AD69) -> 1632953 | AF69: =+SUM(AG69,AL69) -> 0 | AG69: =+SUM(AH69:AK69) -> 0 | AH69: 0 | AI69: 0 | AJ69: 0 | AK69: 0 | AL69: 0 | AN69: =+SUM(AO69,AT69,AX69,AY69,BE69) -> 0 | AO69: =+SUM(AP69:AS69) -> 0 | AP69: 0 | AQ69: 0 | AR69: 0 | AS69: 0 | AT69: =+SUM(AU69:AW69) -> 0 | AU69: 0 | AV69: 0 | AW69: 0 | AX69: 0 | AY69: =+SUM(AZ69:BC69) -> 0 | AZ69: 0 | BA69: 0 | BB69: 0 | BC69: 0 | BE69: 0 | BF69: 0 | BG69: =+SUM(BF69,AN69,AF69) -> 0 | BH69: =SUM(D69,AF69) -> 6711 | BI69: =SUM(E69,AG69) -> 6711 | BJ69: =SUM(F69,AH69) -> 0 | BK69: =SUM(G69,AI69) -> 6711 | BL69: =SUM(H69,AJ69) -> 0 | BM69: =SUM(I69,AK69) -> 0 | BN69: =SUM(J69,AL69) -> 0 | BO69: =SUM(K69,AM69) -> 0 | ... CI69: =SUM(AE69,BG69) -> 1632953
A70: 愛知県 | B70: 23849 | C70: 海部地区環境事務組合 | D70: =+SUM(E70,J70) -> 262658 | E70: =+SUM(F70:I70) -> 262658 | F70: 0 | G70: 262658 | H70: 0 | I70: 0 | J70: 0 | L70: =+SUM(M70,R70,V70,W70,AC70) -> 1605755 | M70: =+SUM(N70:Q70) -> 126927 | N70: 126927 | O70: 0 | P70: 0 | Q70: 0 | R70: =+SUM(S70:U70) -> 381272 | S70: 0 | T70: 282723 | U70: 98549 | V70: 0 | W70: =+SUM(X70:AA70) -> 1097556 | X70: 0 | Y70: 830340 | Z70: 267216 | AA70: 0 | AC70: 0 | AD70: 117845 | AE70: =+SUM(D70,L70,AD70) -> 1986258 | AF70: =+SUM(AG70,AL70) -> 25351 | AG70: =+SUM(AH70:AK70) -> 25351 | AH70: 0 | AI70: 25351 | AJ70: 0 | AK70: 0 | AL70: 0 | AN70: =+SUM(AO70,AT70,AX70,AY70,BE70) -> 296236 | AO70: =+SUM(AP70:AS70) -> 66403 | AP70: 66403 | AQ70: 0 | AR70: 0 | AS70: 0 | AT70: =+SUM(AU70:AW70) -> 123675 | AU70: 0 | AV70: 123675 | AW70: 0 | AX70: 0 | AY70: =+SUM(AZ70:BC70) -> 106158 | AZ70: 0 | BA70: 34638 | BB70: 71520 | BC70: 0 | BE70: 0 | BF70: 26327 | BG70: =+SUM(BF70,AN70,AF70) -> 347914 | BH70: =SUM(D70,AF70) -> 288009 | BI70: =SUM(E70,AG70) -> 288009 | BJ70: =SUM(F70,AH70) -> 0 | BK70: =SUM(G70,AI70) -> 288009 | BL70: =SUM(H70,AJ70) -> 0 | BM70: =SUM(I70,AK70) -> 0 | BN70: =SUM(J70,AL70) -> 0 | BO70: =SUM(K70,AM70) -> 0 | ... CI70: =SUM(AE70,BG70) -> 2334172
A71: 愛知県 | B71: 23851 | C71: 小牧岩倉衛生組合 | D71: =+SUM(E71,J71) -> 18109 | E71: =+SUM(F71:I71) -> 18109 | F71: 0 | G71: 0 | H71: 18109 | I71: 0 | J71: 0 | L71: =+SUM(M71,R71,V71,W71,AC71) -> 1686521 | M71: =+SUM(N71:Q71) -> 318371 | N71: 311299 | O71: 0 | P71: 7072 | Q71: 0 | R71: =+SUM(S71:U71) -> 497859 | S71: 0 | T71: 479681 | U71: 18178 | V71: 0 | W71: =+SUM(X71:AA71) -> 870291 | X71: 16598 | Y71: 763951 | Z71: 50005 | AA71: 39737 | AC71: 0 | AD71: 19936 | AE71: =+SUM(D71,L71,AD71) -> 1724566 | AF71: =+SUM(AG71,AL71) -> 0 | AG71: =+SUM(AH71:AK71) -> 0 | AH71: 0 | AI71: 0 | AJ71: 0 | AK71: 0 | AL71: 0 | AN71: =+SUM(AO71,AT71,AX71,AY71,BE71) -> 0 | AO71: =+SUM(AP71:AS71) -> 0 | AP71: 0 | AQ71: 0 | AR71: 0 | AS71: 0 | AT71: =+SUM(AU71:AW71) -> 0 | AU71: 0 | AV71: 0 | AW71: 0 | AX71: 0 | AY71: =+SUM(AZ71:BC71) -> 0 | AZ71: 0 | BA71: 0 | BB71: 0 | BC71: 0 | BE71: 0 | BF71: 0 | BG71: =+SUM(BF71,AN71,AF71) -> 0 | BH71: =SUM(D71,AF71) -> 18109 | BI71: =SUM(E71,AG71) -> 18109 | BJ71: =SUM(F71,AH71) -> 0 | BK71: =SUM(G71,AI71) -> 0 | BL71: =SUM(H71,AJ71) -> 18109 | BM71: =SUM(I71,AK71) -> 0 | BN71: =SUM(J71,AL71) -> 0 | BO71: =SUM(K71,AM71) -> 0 | ... CI71: =SUM(AE71,BG71) -> 1724566
A72: 愛知県 | B72: 23853 | C72: 知多南部衛生組合 | D72: =+SUM(E72,J72) -> 183174 | E72: =+SUM(F72:I72) -> 183174 | F72: 0 | G72: 183174 | H72: 0 | I72: 0 | J72: 0 | L72: =+SUM(M72,R72,V72,W72,AC72) -> 479755 | M72: =+SUM(N72:Q72) -> 63134 | N72: 12801 | O72: 0 | P72: 41717 | Q72: 8616 | R72: =+SUM(S72:U72) -> 45813 | S72: 0 | T72: 35993 | U72: 9820 | V72: 0 | W72: =+SUM(X72:AA72) -> 370808 | X72: 271448 | Y72: 93409 | Z72: 5951 | AA72: 0 | AC72: 0 | AD72: 0 | AE72: =+SUM(D72,L72,AD72) -> 662929 | AF72: =+SUM(AG72,AL72) -> 0 | AG72: =+SUM(AH72:AK72) -> 0 | AH72: 0 | AI72: 0 | AJ72: 0 | AK72: 0 | AL72: 0 | AN72: =+SUM(AO72,AT72,AX72,AY72,BE72) -> 150050 | AO72: =+SUM(AP72:AS72) -> 14866 | AP72: 8595 | AQ72: 0 | AR72: 6271 | AS72: 0 | AT72: =+SUM(AU72:AW72) -> 100840 | AU72: 0 | AV72: 100840 | AW72: 0 | AX72: 0 | AY72: =+SUM(AZ72:BC72) -> 34344 | AZ72: 0 | BA72: 34344 | BB72: 0 | BC72: 0 | BE72: 0 | BF72: 0 | BG72: =+SUM(BF72,AN72,AF72) -> 150050 | BH72: =SUM(D72,AF72) -> 183174 | BI72: =SUM(E72,AG72) -> 183174 | BJ72: =SUM(F72,AH72) -> 0 | BK72: =SUM(G72,AI72) -> 183174 | BL72: =SUM(H72,AJ72) -> 0 | BM72: =SUM(I72,AK72) -> 0 | BN72: =SUM(J72,AL72) -> 0 | BO72: =SUM(K72,AM72) -> 0 | ... CI72: =SUM(AE72,BG72) -> 812979
A73: 愛知県 | B73: 23858 | C73: 刈谷知立環境組合 | D73: =+SUM(E73,J73) -> 676839 | E73: =+SUM(F73:I73) -> 676839 | F73: 0 | G73: 676839 | H73: 0 | I73: 0 | J73: 0 | L73: =+SUM(M73,R73,V73,W73,AC73) -> 971720 | M73: =+SUM(N73:Q73) -> 94374 | N73: 94374 | O73: 0 | P73: 0 | Q73: 0 | R73: =+SUM(S73:U73) -> 9266 | S73: 0 | T73: 9266 | U73: 0 | V73: 0 | W73: =+SUM(X73:AA73) -> 868080 | X73: 25797 | Y73: 726469 | Z73: 115814 | AA73: 0 | AC73: 0 | AD73: 5446 | AE73: =+SUM(D73,L73,AD73) -> 1654005 | AF73: =+SUM(AG73,AL73) -> 0 | AG73: =+SUM(AH73:AK73) -> 0 | AH73: 0 | AI73: 0 | AJ73: 0 | AK73: 0 | AL73: 0 | AN73: =+SUM(AO73,AT73,AX73,AY73,BE73) -> 0 | AO73: =+SUM(AP73:AS73) -> 0 | AP73: 0 | AQ73: 0 | AR73: 0 | AS73: 0 | AT73: =+SUM(AU73:AW73) -> 0 | AU73: 0 | AV73: 0 | AW73: 0 | AX73: 0 | AY73: =+SUM(AZ73:BC73) -> 0 | AZ73: 0 | BA73: 0 | BB73: 0 | BC73: 0 | BE73: 0 | BF73: 0 | BG73: =+SUM(BF73,AN73,AF73) -> 0 | BH73: =SUM(D73,AF73) -> 676839 | BI73: =SUM(E73,AG73) -> 676839 | BJ73: =SUM(F73,AH73) -> 0 | BK73: =SUM(G73,AI73) -> 676839 | BL73: =SUM(H73,AJ73) -> 0 | BM73: =SUM(I73,AK73) -> 0 | BN73: =SUM(J73,AL73) -> 0 | BO73: =SUM(K73,AM73) -> 0 | ... CI73: =SUM(AE73,BG73) -> 1654005
... A80: 愛知県 | B80: 23934 | C80: 尾張北部環境組合 | D80: =+SUM(E80,J80) -> 18357 | E80: =+SUM(F80:I80) -> 7496 | F80: 0 | G80: 7496 | H80: 0 | I80: 0 | J80: 10861 | L80: =+SUM(M80,R80,V80,W80,AC80) -> 62167 | M80: =+SUM(N80:Q80) -> 62167 | N80: 62167 | O80: 0 | P80: 0 | Q80: 0 | R80: =+SUM(S80:U80) -> 0 | S80: 0 | T80: 0 | U80: 0 | V80: 0 | W80: =+SUM(X80:AA80) -> 0 | X80: 0 | Y80: 0 | Z80: 0 | AA80: 0 | AC80: 0 | AD80: 10132 | AE80: =+SUM(D80,L80,AD80) -> 90656 | AF80: =+SUM(AG80,AL80) -> 0 | AG80: =+SUM(AH80:AK80) -> 0 | AH80: 0 | AI80: 0 | AJ80: 0 | AK80: 0 | AL80: 0 | AN80: =+SUM(AO80,AT80,AX80,AY80,BE80) -> 0 | AO80: =+SUM(AP80:AS80) -> 0 | AP80: 0 | AQ80: 0 | AR80: 0 | AS80: 0 | AT80: =+SUM(AU80:AW80) -> 0 | AU80: 0 | AV80: 0 | AW80: 0 | AX80: 0 | AY80: =+SUM(AZ80:BC80) -> 0 | AZ80: 0 | BA80: 0 | BB80: 0 | BC80: 0 | BE80: 0 | BF80: 0 | BG80: =+SUM(BF80,AN80,AF80) -> 0 | BH80: =SUM(D80,AF80) -> 18357 | BI80: =SUM(E80,AG80) -> 7496 | BJ80: =SUM(F80,AH80) -> 0 | BK80: =SUM(G80,AI80) -> 7496 | BL80: =SUM(H80,AJ80) -> 0 | BM80: =SUM(I80,AK80) -> 0 | BN80: =SUM(J80,AL80) -> 10861 | BO80: =SUM(K80,AM80) -> 0 | ... CI80: =SUM(AE80,BG80) -> 90656

Sheet 組合分担金内訳
A1: 廃棄物処理事業経費【分担金の合計】（令和4年度実績）
A2: 都道府県名 | B2: 地方公共団体コード | C2: 市区町村名 | D2: 合計（広域団体１+広域団体２+広域団体３+広域団体４+広域団体５+広域団体６） | J2: 広域団体１ | R2: 広域団体２ | Z2: 広域団体３ | AH2: 広域団体４ | AP2: 広域団体５ | AX2: 広域団体６
D4: ごみ | G4: し尿 | J4: 広域団体コード | K4: 一部事務組合・広域連合名 | L4: ごみ | O4: し尿 | R4: 広域団体コード | S4: 一部事務組合・広域連合名 | T4: ごみ | W4: し尿 | Z4: 広域団体コード | AA4: 一部事務組合・広域連合名 | AB4: ごみ | AE4: し尿 | AH4: 広域団体コード | AI4: 一部事務組合・広域連合名 | AJ4: ごみ | AM4: し尿 | AP4: 広域団体コード | AQ4: 一部事務組合・広域連合名 | AR4: ごみ | AU4: し尿 | AX4: 広域団体コード | AY4: 一部事務組合・広域連合名 | AZ4: ごみ | BC4: し尿
D5: 建設・改良費 | E5: 処理及び 維持管理費 | F5: 合計 | G5: 建設・改良費 | H5: 処理及び 維持管理費 | I5: 合計 | L5: 建設・改良費 | M5: 処理及び 維持管理費 | N5: 小計 | O5: 建設・改良費 | P5: 処理及び 維持管理費 | Q5: 小計 | T5: 建設・改良費 | U5: 処理及び 維持管理費 | V5: 小計 | W5: 建設・改良費 | X5: 処理及び 維持管理費 | Y5: 小計 | AB5: 建設・改良費 | AC5: 処理及び 維持管理費 | AD5: 小計 | AE5: 建設・改良費 | AF5: 処理及び 維持管理費 | AG5: 小計 | AJ5: 建設・改良費 | AK5: 処理及び 維持管理費 | AL5: 小計 | AM5: 建設・改良費 | AN5: 処理及び 維持管理費 | AO5: 小計 | AR5: 建設・改良費 | AS5: 処理及び 維持管理費 | AT5: 小計 | AU5: 建設・改良費 | AV5: 処理及び 維持管理費 | AW5: 小計 | AZ5: 建設・改良費 | BA5: 処理及び 維持管理費 | BB5: 小計 | BC5: 建設・改良費 | BD5: 処理及び 維持管理費 | BE5: 小計
D6: （千円） | E6: （千円） | F6: （千円） | G6: （千円） | H6: （千円） | I6: （千円） | L6: （千円） | M6: （千円） | N6: （千円） | O6: （千円） | P6: （千円） | Q6: （千円） | T6: （千円） | U6: （千円） | V6: （千円） | W6: （千円） | X6: （千円） | Y6: （千円） | AB6: （千円） | AC6: （千円） | AD6: （千円） | AE6: （千円） | AF6: （千円） | AG6: （千円） | AJ6: （千円） | AK6: （千円） | AL6: （千円） | AM6: （千円） | AN6: （千円） | AO6: （千円） | AR6: （千円） | AS6: （千円） | AT6: （千円） | AU6: （千円） | AV6: （千円） | AW6: （千円） | AZ6: （千円） | BA6: （千円） | BB6: （千円） | BC6: （千円） | BD6: （千円） | BE6: （千円）
A7: ='廃棄物事業経費（市町村）'!A7 -> 愛知県 | B7: ='廃棄物事業経費（市町村）'!B7 -> 23000 | C7: 合計 | D7: =SUM(L7,T7,AB7,AJ7,AR7,AZ7) -> 1190496 | E7: =SUM(M7,U7,AC7,AK7,AS7,BA7) -> 8979015 | F7: =SUM(D7:E7) -> 10169511 | G7: =SUM(O7,W7,AE7,AM7,AU7,BC7) -> 9512 | H7: =SUM(P7,X7,AF7,AN7,AV7,BD7) -> 2011359 | I7: =SUM(G7:H7) -> 2020871 | J7: =COUNTIF(J$8:J$207,"<>") -> 42 | K7: =COUNTIF(K$8:K$207,"<>") -> 42 | L7: =SUM(L$8:L$207) -> 1134821 | M7: =SUM(M$8:M$207) -> 8122512 | N7: =IF(AND(L7<>"",M7<>""),SUM(L7:M7),"") -> 9257333 | O7: =SUM(O$8:O$207) -> 9512 | P7: =SUM(P$8:P$207) -> 1586057 | Q7: =IF(AND(O7<>"",P7<>""),SUM(O7:P7),"") -> 1595569 | R7: =COUNTIF(R$8:R$207,"<>") -> 11 | S7: =COUNTIF(S$8:S$207,"<>") -> 11 | T7: =SUM(T$8:T$207) -> 189 | U7: =SUM(U$8:U$207) -> 708153 | V7: =IF(AND(T7<>"",U7<>""),SUM(T7:U7),"") -> 708342 | W7: =SUM(W$8:W$207) -> 0 | X7: =SUM(X$8:X$207) -> 425302 | Y7: =IF(AND(W7<>"",X7<>""),SUM(W7:X7),"") -> 425302 | Z7: =COUNTIF(Z$8:Z$207,"<>") -> 5 | AA7: =COUNTIF(AA$8:AA$207,"<>") -> 5 | AB7: =SUM(AB$8:AB$207) -> 55486 | AC7: =SUM(AC$8:AC$207) -> 148350 | AD7: =IF(AND(AB7<>"",AC7<>""),SUM(AB7:AC7),"") -> 203836 | AE7: =SUM(AE$8:AE$207) -> 0 | AF7: =SUM(AF$8:AF$207) -> 0 | AG7: =IF(AND(AE7<>"",AF7<>""),SUM(AE7:AF7),"") -> 0 | AH7: =COUNTIF(AH$8:AH$207,"<>") -> 0 | AI7: =COUNTIF(AI$8:AI$207,"<>") -> 0 | AJ7: =SUM(AJ$8:AJ$207) -> 0 | AK7: =SUM(AK$8:AK$207) -> 0 | AL7: =IF(AND(AJ7<>"",AK7<>""),SUM(AJ7:AK7),"") -> 0 | AM7: =SUM(AM$8:AM$207) -> 0 | AN7: =SUM(AN$8:AN$207) -> 0 | AO7: =IF(AND(AM7<>"",AN7<>""),SUM(AM7:AN7),"") -> 0 | AP7: =COUNTIF(AP$8:AP$207,"<>") -> 0 | AQ7: =COUNTIF(AQ$8:AQ$207,"<>") -> 0 | AR7: =SUM(AR$8:AR$207) -> 0 | AS7: =SUM(AS$8:AS$207) -> 0 | AT7: =IF(AND(AR7<>"",AS7<>""),SUM(AR7:AS7),"") -> 0 | AU7: =SUM(AU$8:AU$207) -> 0 | AV7: =SUM(AV$8:AV$207) -> 0 | AW7: =IF(AND(AU7<>"",AV7<>""),SUM(AU7:AV7),"") -> 0 | AX7: =COUNTIF(AX$8:AX$207,"<>") -> 0 | AY7: =COUNTIF(AY$8:AY$207,"<>") -> 0 | AZ7: =SUM(AZ$8:AZ$207) -> 0 | BA7: =SUM(BA$8:BA$207) -> 0 | BB7: =IF(AND(AZ7<>"",BA7<>""),SUM(AZ7:BA7),"") -> 0 | BC7: =SUM(BC$8:BC$207) -> 0 | BD7: =SUM(BD$8:BD$207) -> 0 | BE7: =IF(AND(BC7<>"",BD7<>""),SUM(BC7:BD7),"") -> 0
A8: 愛知県 | B8: 23100 | C8: 名古屋市 | D8: =SUM(L8,T8,AB8,AJ8,AR8,AZ8) -> 0 | E8: =SUM(M8,U8,AC8,AK8,AS8,BA8) -> 0 | F8: =SUM(D8:E8) -> 0 | G8: =SUM(O8,W8,AE8,AM8,AU8,BC8) -> 0 | H8: =SUM(P8,X8,AF8,AN8,AV8,BD8) -> 0 | I8: =SUM(G8:H8) -> 0 | N8: =IF(AND(L8<>"",M8<>""),SUM(L8:M8),"") | Q8: =IF(AND(O8<>"",P8<>""),SUM(O8:P8),"") | V8: =IF(AND(T8<>"",U8<>""),SUM(T8:U8),"") | Y8: =IF(AND(W8<>"",X8<>""),SUM(W8:X8),"") | AD8: =IF(AND(AB8<>"",AC8<>""),SUM(AB8:AC8),"") | AG8: =IF(AND(AE8<>"",AF8<>""),SUM(AE8:AF8),"") | AL8: =IF(AND(AJ8<>"",AK8<>""),SUM(AJ8:AK8),"") | AO8: =IF(AND(AM8<>"",AN8<>""),SUM(AM8:AN8),"") | AT8: =IF(AND(AR8<>"",AS8<>""),SUM(AR8:AS8),"") | AW8: =IF(AND(AU8<>"",AV8<>""),SUM(AU8:AV8),"") | BB8: =IF(AND(AZ8<>"",BA8<>""),SUM(AZ8:BA8),"") | BE8: =IF(AND(BC8<>"",BD8<>""),SUM(BC8:BD8),"")
A9: 愛知県 | B9: 23201 | C9: 豊橋市 | D9: =SUM(L9,T9,AB9,AJ9,AR9,AZ9) -> 0 | E9: =SUM(M9,U9,AC9,AK9,AS9,BA9) -> 0 | F9: =SUM(D9:E9) -> 0 | G9: =SUM(O9,W9,AE9,AM9,AU9,BC9) -> 0 | H9: =SUM(P9,X9,AF9,AN9,AV9,BD9) -> 0 | I9: =SUM(G9:H9) -> 0 | N9: =IF(AND(L9<>"",M9<>""),SUM(L9:M9),"") | Q9: =IF(AND(O9<>"",P9<>""),SUM(O9:P9),"") | V9: =IF(AND(T9<>"",U9<>""),SUM(T9:U9),"") | Y9: =IF(AND(W9<>"",X9<>""),SUM(W9:X9),"") | AD9: =IF(AND(AB9<>"",AC9<>""),SUM(AB9:AC9),"") | AG9: =IF(AND(AE9<>"",AF9<>""),SUM(AE9:AF9),"") | AL9: =IF(AND(AJ9<>"",AK9<>""),SUM(AJ9:AK9),"") | AO9: =IF(AND(AM9<>"",AN9<>""),SUM(AM9:AN9),"") | AT9: =IF(AND(AR9<>"",AS9<>""),SUM(AR9:AS9),"") | AW9: =IF(AND(AU9<>"",AV9<>""),SUM(AU9:AV9),"") | BB9: =IF(AND(AZ9<>"",BA9<>""),SUM(AZ9:BA9),"") | BE9: =IF(AND(BC9<>"",BD9<>""),SUM(BC9:BD9),"")
A10: 愛知県 | B10: 23202 | C10: 岡崎市 | D10: =SUM(L10,T10,AB10,AJ10,AR10,AZ10) -> 0 | E10: =SUM(M10,U10,AC10,AK10,AS10,BA10) -> 0 | F10: =SUM(D10:E10) -> 0 | G10: =SUM(O10,W10,AE10,AM10,AU10,BC10) -> 0 | H10: =SUM(P10,X10,AF10,AN10,AV10,BD10) -> 0 | I10: =SUM(G10:H10) -> 0 | N10: =IF(AND(L10<>"",M10<>""),SUM(L10:M10),"") | Q10: =IF(AND(O10<>"",P10<>""),SUM(O10:P10),"") | V10: =IF(AND(T10<>"",U10<>""),SUM(T10:U10),"") | Y10: =IF(AND(W10<>"",X10<>""),SUM(W10:X10),"") | AD10: =IF(AND(AB10<>"",AC10<>""),SUM(AB10:AC10),"") | AG10: =IF(AND(AE10<>"",AF10<>""),SUM(AE10:AF10),"") | AL10: =IF(AND(AJ10<>"",AK10<>""),SUM(AJ10:AK10),"") | AO10: =IF(AND(AM10<>"",AN10<>""),SUM(AM10:AN10),"") | AT10: =IF(AND(AR10<>"",AS10<>""),SUM(AR10:AS10),"") | AW10: =IF(AND(AU10<>"",AV10<>""),SUM(AU10:AV10),"") | BB10: =IF(AND(AZ10<>"",BA10<>""),SUM(AZ10:BA10),"") | BE10: =IF(AND(BC10<>"",BD10<>""),SUM(BC10:BD10),"")
A11: 愛知県 | B11: 23203 | C11: 一宮市 | D11: =SUM(L11,T11,AB11,AJ11,AR11,AZ11) -> 0 | E11: =SUM(M11,U11,AC11,AK11,AS11,BA11) -> 0 | F11: =SUM(D11:E11) -> 0 | G11: =SUM(O11,W11,AE11,AM11,AU11,BC11) -> 0 | H11: =SUM(P11,X11,AF11,AN11,AV11,BD11) -> 0 | I11: =SUM(G11:H11) -> 0 | N11: =IF(AND(L11<>"",M11<>""),SUM(L11:M11),"") | Q11: =IF(AND(O11<>"",P11<>""),SUM(O11:P11),"") | V11: =IF(AND(T11<>"",U11<>""),SUM(T11:U11),"") | Y11: =IF(AND(W11<>"",X11<>""),SUM(W11:X11),"") | AD11: =IF(AND(AB11<>"",AC11<>""),SUM(AB11:AC11),"") | AG11: =IF(AND(AE11<>"",AF11<>""),SUM(AE11:AF11),"") | AL11: =IF(AND(AJ11<>"",AK11<>""),SUM(AJ11:AK11),"") | AO11: =IF(AND(AM11<>"",AN11<>""),SUM(AM11:AN11),"") | AT11: =IF(AND(AR11<>"",AS11<>""),SUM(AR11:AS11),"") | AW11: =IF(AND(AU11<>"",AV11<>""),SUM(AU11:AV11),"") | BB11: =IF(AND(AZ11<>"",BA11<>""),SUM(AZ11:BA11),"") | BE11: =IF(AND(BC11<>"",BD11<>""),SUM(BC11:BD11),"")
A12: 愛知県 | B12: 23204 | C12: 瀬戸市 | D12: =SUM(L12,T12,AB12,AJ12,AR12,AZ12) -> 2932 | E12: =SUM(M12,U12,AC12,AK12,AS12,BA12) -> 292691 | F12: =SUM(D12:E12) -> 295623 | G12: =SUM(O12,W12,AE12,AM12,AU12,BC12) -> 0 | H12: =SUM(P12,X12,AF12,AN12,AV12,BD12) -> 0 | I12: =SUM(G12:H12) -> 0 | J12: 23848 | K12: 尾張東部衛生組合 | L12: 2932 | M12: 292691 | N12: =IF(AND(L12<>"",M12<>""),SUM(L12:M12),"") -> 295623 | O12: 0 | P12: 0 | Q12: =IF(AND(O12<>"",P12<>""),SUM(O12:P12),"") -> 0 | V12: =IF(AND(T12<>"",U12<>""),SUM(T12:U12),"") | Y12: =IF(AND(W12<>"",X12<>""),SUM(W12:X12),"") | AD12: =IF(AND(AB12<>"",AC12<>""),SUM(AB12:AC12),"") | AG12: =IF(AND(AE12<>"",AF12<>""),SUM(AE12:AF12),"") | AL12: =IF(AND(AJ12<>"",AK12<>""),SUM(AJ12:AK12),"") | AO12: =IF(AND(AM12<>"",AN12<>""),SUM(AM12:AN12),"") | AT12: =IF(AND(AR12<>"",AS12<>""),SUM(AR12:AS12),"") | AW12: =IF(AND(AU12<>"",AV12<>""),SUM(AU12:AV12),"") | BB12: =IF(AND(AZ12<>"",BA12<>""),SUM(AZ12:BA12),"") | BE12: =IF(AND(BC12<>"",BD12<>""),SUM(BC12:BD12),"")
A13: 愛知県 | B13: 23205 | C13: 半田市 | D13: =SUM(L13,T13,AB13,AJ13,AR13,AZ13) -> 0 | E13: =SUM(M13,U13,AC13,AK13,AS13,BA13) -> 182381 | F13: =SUM(D13:E13) -> 182381 | G13: =SUM(O13,W13,AE13,AM13,AU13,BC13) -> 0 | H13: =SUM(P13,X13,AF13,AN13,AV13,BD13) -> 85684 | I13: =SUM(G13:H13) -> 85684 | J13: 23835 | K13: 中部知多衛生組合 | L13: 0 | M13: 0 | N13: =IF(AND(L13<>"",M13<>""),SUM(L13:M13),"") -> 0 | O13: 0 | P13: 85684 | Q13: =IF(AND(O13<>"",P13<>""),SUM(O13:P13),"") -> 85684 | R13: 23932 | S13: 知多南部広域環境組合 | T13: 0 | U13: 182381 | V13: =IF(AND(T13<>"",U13<>""),SUM(T13:U13),"") -> 182381 | W13: 0 | X13: 0 | Y13: =IF(AND(W13<>"",X13<>""),SUM(W13:X13),"") -> 0 | AD13: =IF(AND(AB13<>"",AC13<>""),SUM(AB13:AC13),"") | AG13: =IF(AND(AE13<>"",AF13<>""),SUM(AE13:AF13),"") | AL13: =IF(AND(AJ13<>"",AK13<>""),SUM(AJ13:AK13),"") | AO13: =IF(AND(AM13<>"",AN13<>""),SUM(AM13:AN13),"") | AT13: =IF(AND(AR13<>"",AS13<>""),SUM(AR13:AS13),"") | AW13: =IF(AND(AU13<>"",AV13<>""),SUM(AU13:AV13),"") | BB13: =IF(AND(AZ13<>"",BA13<>""),SUM(AZ13:BA13),"") | BE13: =IF(AND(BC13<>"",BD13<>""),SUM(BC13:BD13),"")
A14: 愛知県 | B14: 23206 | C14: 春日井市 | D14: =SUM(L14,T14,AB14,AJ14,AR14,AZ14) -> 0 | E14: =SUM(M14,U14,AC14,AK14,AS14,BA14) -> 0 | F14: =SUM(D14:E14) -> 0 | G14: =SUM(O14,W14,AE14,AM14,AU14,BC14) -> 0 | H14: =SUM(P14,X14,AF14,AN14,AV14,BD14) -> 0 | I14: =SUM(G14:H14) -> 0 | N14: =IF(AND(L14<>"",M14<>""),SUM(L14:M14),"") | Q14: =IF(AND(O14<>"",P14<>""),SUM(O14:P14),"") | V14: =IF(AND(T14<>"",U14<>""),SUM(T14:U14),"") | Y14: =IF(AND(W14<>"",X14<>""),SUM(W14:X14),"") | AD14: =IF(AND(AB14<>"",AC14<>""),SUM(AB14:AC14),"") | AG14: =IF(AND(AE14<>"",AF14<>""),SUM(AE14:AF14),"") | AL14: =IF(AND(AJ14<>"",AK14<>""),SUM(AJ14:AK14),"") | AO14: =IF(AND(AM14<>"",AN14<>""),SUM(AM14:AN14),"") | AT14: =IF(AND(AR14<>"",AS14<>""),SUM(AR14:AS14),"") | AW14: =IF(AND(AU14<>"",AV14<>""),SUM(AU14:AV14),"") | BB14: =IF(AND(AZ14<>"",BA14<>""),SUM(AZ14:BA14),"") | BE14: =IF(AND(BC14<>"",BD14<>""),SUM(BC14:BD14),"")
A15: 愛知県 | B15: 23207 | C15: 豊川市 | D15: =SUM(L15,T15,AB15,AJ15,AR15,AZ15) -> 0 | E15: =SUM(M15,U15,AC15,AK15,AS15,BA15) -> 0 | F15: =SUM(D15:E15) -> 0 | G15: =SUM(O15,W15,AE15,AM15,AU15,BC15) -> 0 | H15: =SUM(P15,X15,AF15,AN15,AV15,BD15) -> 0 | I15: =SUM(G15:H15) -> 0 | N15: =IF(AND(L15<>"",M15<>""),SUM(L15:M15),"") | Q15: =IF(AND(O15<>"",P15<>""),SUM(O15:P15),"") | V15: =IF(AND(T15<>"",U15<>""),SUM(T15:U15),"") | Y15: =IF(AND(W15<>"",X15<>""),SUM(W15:X15),"") | AD15: =IF(AND(AB15<>"",AC15<>""),SUM(AB15:AC15),"") | AG15: =IF(AND(AE15<>"",AF15<>""),SUM(AE15:AF15),"") | AL15: =IF(AND(AJ15<>"",AK15<>""),SUM(AJ15:AK15),"") | AO15: =IF(AND(AM15<>"",AN15<>""),SUM(AM15:AN15),"") | AT15: =IF(AND(AR15<>"",AS15<>""),SUM(AR15:AS15),"") | AW15: =IF(AND(AU15<>"",AV15<>""),SUM(AU15:AV15),"") | BB15: =IF(AND(AZ15<>"",BA15<>""),SUM(AZ15:BA15),"") | BE15: =IF(AND(BC15<>"",BD15<>""),SUM(BC15:BD15),"")
A16: 愛知県 | B16: 23208 | C16: 津島市 | D16: =SUM(L16,T16,AB16,AJ16,AR16,AZ16) -> 0 | E16: =SUM(M16,U16,AC16,AK16,AS16,BA16) -> 263982 | F16: =SUM(D16:E16) -> 263982 | G16: =SUM(O16,W16,AE16,AM16,AU16,BC16) -> 0 | H16: =SUM(P16,X16,AF16,AN16,AV16,BD16) -> 66661 | I16: =SUM(G16:H16) -> 66661 | J16: 23849 | K16: 海部地区環境事務組合 | L16: 0 | M16: 263982 | N16: =IF(AND(L16<>"",M16<>""),SUM(L16:M16),"") -> 263982 | O16: 0 | P16: 66661 | Q16: =IF(AND(O16<>"",P16<>""),SUM(O16:P16),"") -> 66661 | V16: =IF(AND(T16<>"",U16<>""),SUM(T16:U16),"") | Y16: =IF(AND(W16<>"",X16<>""),SUM(W16:X16),"") | AD16: =IF(AND(AB16<>"",AC16<>""),SUM(AB16:AC16),"") | AG16: =IF(AND(AE16<>"",AF16<>""),SUM(AE16:AF16),"") | AL16: =IF(AND(AJ16<>"",AK16<>""),SUM(AJ16:AK16),"") | AO16: =IF(AND(AM16<>"",AN16<>""),SUM(AM16:AN16),"") | AT16: =IF(AND(AR16<>"",AS16<>""),SUM(AR16:AS16),"") | AW16: =IF(AND(AU16<>"",AV16<>""),SUM(AU16:AV16),"") | BB16: =IF(AND(AZ16<>"",BA16<>""),SUM(AZ16:BA16),"") | BE16: =IF(AND(BC16<>"",BD16<>""),SUM(BC16:BD16),"")
A17: 愛知県 | B17: 23209 | C17: 碧南市 | D17: =SUM(L17,T17,AB17,AJ17,AR17,AZ17) -> 111299 | E17: =SUM(M17,U17,AC17,AK17,AS17,BA17) -> 650701 | F17: =SUM(D17:E17) -> 762000 | G17: =SUM(O17,W17,AE17,AM17,AU17,BC17) -> 0 | H17: =SUM(P17,X17,AF17,AN17,AV17,BD17) -> 0 | I17: =SUM(G17:H17) -> 0 | J17: 23838 | K17: 衣浦衛生組合 | L17: 111299 | M17: 650701 | N17: =IF(AND(L17<>"",M17<>""),SUM(L17:M17),"") -> 762000 | O17: 0 | P17: 0 | Q17: =IF(AND(O17<>"",P17<>""),SUM(O17:P17),"") -> 0 | V17: =IF(AND(T17<>"",U17<>""),SUM(T17:U17),"") | Y17: =IF(AND(W17<>"",X17<>""),SUM(W17:X17),"") | AD17: =IF(AND(AB17<>"",AC17<>""),SUM(AB17:AC17),"") | AG17: =IF(AND(AE17<>"",AF17<>""),SUM(AE17:AF17),"") | AL17: =IF(AND(AJ17<>"",AK17<>""),SUM(AJ17:AK17),"") | AO17: =IF(AND(AM17<>"",AN17<>""),SUM(AM17:AN17),"") | AT17: =IF(AND(AR17<>"",AS17<>""),SUM(AR17:AS17),"") | AW17: =IF(AND(AU17<>"",AV17<>""),SUM(AU17:AV17),"") | BB17: =IF(AND(AZ17<>"",BA17<>""),SUM(AZ17:BA17),"") | BE17: =IF(AND(BC17<>"",BD17<>""),SUM(BC17:BD17),"")
A18: 愛知県 | B18: 23210 | C18: 刈谷市 | D18: =SUM(L18,T18,AB18,AJ18,AR18,AZ18) -> 436190 | E18: =SUM(M18,U18,AC18,AK18,AS18,BA18) -> 278748 | F18: =SUM(D18:E18) -> 714938 | G18: =SUM(O18,W18,AE18,AM18,AU18,BC18) -> 0 | H18: =SUM(P18,X18,AF18,AN18,AV18,BD18) -> 0 | I18: =SUM(G18:H18) -> 0 | J18: 23858 | K18: 刈谷知立環境組合 | L18: 436190 | M18: 278748 | N18: =IF(AND(L18<>"",M18<>""),SUM(L18:M18),"") -> 714938 | O18: 0 | P18: 0 | Q18: =IF(AND(O18<>"",P18<>""),SUM(O18:P18),"") -> 0 | V18: =IF(AND(T18<>"",U18<>""),SUM(T18:U18),"") | Y18: =IF(AND(W18<>"",X18<>""),SUM(W18:X18),"") | AD18: =IF(AND(AB18<>"",AC18<>""),SUM(AB18:AC18),"") | AG18: =IF(AND(AE18<>"",AF18<>""),SUM(AE18:AF18),"") | AL18: =IF(AND(AJ18<>"",AK18<>""),SUM(AJ18:AK18),"") | AO18: =IF(AND(AM18<>"",AN18<>""),SUM(AM18:AN18),"") | AT18: =IF(AND(AR18<>"",AS18<>""),SUM(AR18:AS18),"") | AW18: =IF(AND(AU18<>"",AV18<>""),SUM(AU18:AV18),"") | BB18: =IF(AND(AZ18<>"",BA18<>""),SUM(AZ18:BA18),"") | BE18: =IF(AND(BC18<>"",BD18<>""),SUM(BC18:BD18),"")
A19: 愛知県 | B19: 23211 | C19: 豊田市 | D19: =SUM(L19,T19,AB19,AJ19,AR19,AZ19) -> 0 | E19: =SUM(M19,U19,AC19,AK19,AS19,BA19) -> 0 | F19: =SUM(D19:E19) -> 0 | G19: =SUM(O19,W19,AE19,AM19,AU19,BC19) -> 0 | H19: =SUM(P19,X19,AF19,AN19,AV19,BD19) -> 0 | I19: =SUM(G19:H19) -> 0 | N19: =IF(AND(L19<>"",M19<>""),SUM(L19:M19),"") | Q19: =IF(AND(O19<>"",P19<>""),SUM(O19:P19),"") | V19: =IF(AND(T19<>"",U19<>""),SUM(T19:U19),"") | Y19: =IF(AND(W19<>"",X19<>""),SUM(W19:X19),"") | AD19: =IF(AND(AB19<>"",AC19<>""),SUM(AB19:AC19),"") | AG19: =IF(AND(AE19<>"",AF19<>""),SUM(AE19:AF19),"") | AL19: =IF(AND(AJ19<>"",AK19<>""),SUM(AJ19:AK19),"") | AO19: =IF(AND(AM19<>"",AN19<>""),SUM(AM19:AN19),"") | AT19: =IF(AND(AR19<>"",AS19<>""),SUM(AR19:AS19),"") | AW19: =IF(AND(AU19<>"",AV19<>""),SUM(AU19:AV19),"") | BB19: =IF(AND(AZ19<>"",BA19<>""),SUM(AZ19:BA19),"") | BE19: =IF(AND(BC19<>"",BD19<>""),SUM(BC19:BD19),"")
A20: 愛知県 | B20: 23212 | C20: 安城市 | D20: =SUM(L20,T20,AB20,AJ20,AR20,AZ20) -> 0 | E20: =SUM(M20,U20,AC20,AK20,AS20,BA20) -> 0 | F20: =SUM(D20:E20) -> 0 | G20: =SUM(O20,W20,AE20,AM20,AU20,BC20) -> 0 | H20: =SUM(P20,X20,AF20,AN20,AV20,BD20) -> 0 | I20: =SUM(G20:H20) -> 0 | N20: =IF(AND(L20<>"",M20<>""),SUM(L20:M20),"") | Q20: =IF(AND(O20<>"",P20<>""),SUM(O20:P20),"") | V20: =IF(AND(T20<>"",U20<>""),SUM(T20:U20),"") | Y20: =IF(AND(W20<>"",X20<>""),SUM(W20:X20),"") | AD20: =IF(AND(AB20<>"",AC20<>""),SUM(AB20:AC20),"") | AG20: =IF(AND(AE20<>"",AF20<>""),SUM(AE20:AF20),"") | AL20: =IF(AND(AJ20<>"",AK20<>""),SUM(AJ20:AK20),"") | AO20: =IF(AND(AM20<>"",AN20<>""),SUM(AM20:AN20),"") | AT20: =IF(AND(AR20<>"",AS20<>""),SUM(AR20:AS20),"") | AW20: =IF(AND(AU20<>"",AV20<>""),SUM(AU20:AV20),"") | BB20: =IF(AND(AZ20<>"",BA20<>""),SUM(AZ20:BA20),"") | BE20: =IF(AND(BC20<>"",BD20<>""),SUM(BC20:BD20),"")
A21: 愛知県 | B21: 23213 | C21: 西尾市 | D21: =SUM(L21,T21,AB21,AJ21,AR21,AZ21) -> 0 | E21: =SUM(M21,U21,AC21,AK21,AS21,BA21) -> 0 | F21: =SUM(D21:E21) -> 0 | G21: =SUM(O21,W21,AE21,AM21,AU21,BC21) -> 0 | H21: =SUM(P21,X21,AF21,AN21,AV21,BD21) -> 0 | I21: =SUM(G21:H21) -> 0 | N21: =IF(AND(L21<>"",M21<>""),SUM(L21:M21),"") | Q21: =IF(AND(O21<>"",P21<>""),SUM(O21:P21),"") | V21: =IF(AND(T21<>"",U21<>""),SUM(T21:U21),"") | Y21: =IF(AND(W21<>"",X21<>""),SUM(W21:X21),"") | AD21: =IF(AND(AB21<>"",AC21<>""),SUM(AB21:AC21),"") | AG21: =IF(AND(AE21<>"",AF21<>""),SUM(AE21:AF21),"") | AL21: =IF(AND(AJ21<>"",AK21<>""),SUM(AJ21:AK21),"") | AO21: =IF(AND(AM21<>"",AN21<>""),SUM(AM21:AN21),"") | AT21: =IF(AND(AR21<>"",AS21<>""),SUM(AR21:AS21),"") | AW21: =IF(AND(AU21<>"",AV21<>""),SUM(AU21:AV21),"") | BB21: =IF(AND(AZ21<>"",BA21<>""),SUM(AZ21:BA21),"") | BE21: =IF(AND(BC21<>"",BD21<>""),SUM(BC21:BD21),"")
A22: 愛知県 | B22: 23214 | C22: 蒲郡市 | D22: =SUM(L22,T22,AB22,AJ22,AR22,AZ22) -> 0 | E22: =SUM(M22,U22,AC22,AK22,AS22,BA22) -> 0 | F22: =SUM(D22:E22) -> 0 | G22: =SUM(O22,W22,AE22,AM22,AU22,BC22) -> 0 | H22: =SUM(P22,X22,AF22,AN22,AV22,BD22) -> 82084 | I22: =SUM(G22:H22) -> 82084 | J22: 23842 | K22: 蒲郡市幸田町衛生組合 | L22: 0 | M22: 0 | N22: =IF(AND(L22<>"",M22<>""),SUM(L22:M22),"") -> 0 | O22: 0 | P22: 82084 | Q22: =IF(AND(O22<>"",P22<>""),SUM(O22:P22),"") -> 82084 | V22: =IF(AND(T22<>"",U22<>""),SUM(T22:U22),"") | Y22: =IF(AND(W22<>"",X22<>""),SUM(W22:X22),"") | AD22: =IF(AND(AB22<>"",AC22<>""),SUM(AB22:AC22),"") | AG22: =IF(AND(AE22<>"",AF22<>""),SUM(AE22:AF22),"") | AL22: =IF(AND(AJ22<>"",AK22<>""),SUM(AJ22:AK22),"") | AO22: =IF(AND(AM22<>"",AN22<>""),SUM(AM22:AN22),"") | AT22: =IF(AND(AR22<>"",AS22<>""),SUM(AR22:AS22),"") | AW22: =IF(AND(AU22<>"",AV22<>""),SUM(AU22:AV22),"") | BB22: =IF(AND(AZ22<>"",BA22<>""),SUM(AZ22:BA22),"") | BE22: =IF(AND(BC22<>"",BD22<>""),SUM(BC22:BD22),"")
A23: 愛知県 | B23: 23215 | C23: 犬山市 | D23: =SUM(L23,T23,AB23,AJ23,AR23,AZ23) -> 0 | E23: =SUM(M23,U23,AC23,AK23,AS23,BA23) -> 24198 | F23: =SUM(D23:E23) -> 24198 | G23: =SUM(O23,W23,AE23,AM23,AU23,BC23) -> 0 | H23: =SUM(P23,X23,AF23,AN23,AV23,BD23) -> 65442 | I23: =SUM(G23:H23) -> 65442 | J23: 23833 | K23: 愛北広域事務組合 | L23: 0 | M23: 0 | N23: =IF(AND(L23<>"",M23<>""),SUM(L23:M23),"") -> 0 | O23: 0 | P23: 65442 | Q23: =IF(AND(O23<>"",P23<>""),SUM(O23:P23),"") -> 65442 | R23: 23934 | S23: 尾張北部環境組合 | T23: 0 | U23: 24198 | V23: =IF(AND(T23<>"",U23<>""),SUM(T23:U23),"") -> 24198 | W23: 0 | X23: 0 | Y23: =IF(AND(W23<>"",X23<>""),SUM(W23:X23),"") -> 0 | AD23: =IF(AND(AB23<>"",AC23<>""),SUM(AB23:AC23),"") | AG23: =IF(AND(AE23<>"",AF23<>""),SUM(AE23:AF23),"") | AL23: =IF(AND(AJ23<>"",AK23<>""),SUM(AJ23:AK23),"") | AO23: =IF(AND(AM23<>"",AN23<>""),SUM(AM23:AN23),"") | AT23: =IF(AND(AR23<>"",AS23<>""),SUM(AR23:AS23),"") | AW23: =IF(AND(AU23<>"",AV23<>""),SUM(AU23:AV23),"") | BB23: =IF(AND(AZ23<>"",BA23<>""),SUM(AZ23:BA23),"") | BE23: =IF(AND(BC23<>"",BD23<>""),SUM(BC23:BD23),"")
A24: 愛知県 | B24: 23216 | C24: 常滑市 | D24: =SUM(L24,T24,AB24,AJ24,AR24,AZ24) -> 49865 | E24: =SUM(M24,U24,AC24,AK24,AS24,BA24) -> 84286 | F24: =SUM(D24:E24) -> 134151 | G24: =SUM(O24,W24,AE24,AM24,AU24,BC24) -> 0 | H24: =SUM(P24,X24,AF24,AN24,AV24,BD24) -> 111095 | I24: =SUM(G24:H24) -> 111095 | J24: 23841 | K24: 常滑武豊衛生組合 | L24: 49621 | M24: 0 | N24: =IF(AND(L24<>"",M24<>""),SUM(L24:M24),"") -> 49621 | O24: 0 | P24: 0 | Q24: =IF(AND(O24<>"",P24<>""),SUM(O24:P24),"") -> 0 | R24: 23835 | S24: 中部知多衛生組合 | T24: 0 | U24: 0 | V24: =IF(AND(T24<>"",U24<>""),SUM(T24:U24),"") -> 0 | W24: 0 | X24: 111095 | Y24: =IF(AND(W24<>"",X24<>""),SUM(W24:X24),"") -> 111095 | Z24: 23932 | AA24: 知多南部広域環境組合 | AB24: 244 | AC24: 84286 | AD24: =IF(AND(AB24<>"",AC24<>""),SUM(AB24:AC24),"") -> 84530 | AE24: 0 | AF24: 0 | AG24: =IF(AND(AE24<>"",AF24<>""),SUM(AE24:AF24),"") -> 0 | AL24: =IF(AND(AJ24<>"",AK24<>""),SUM(AJ24:AK24),"") | AO24: =IF(AND(AM24<>"",AN24<>""),SUM(AM24:AN24),"") | AT24: =IF(AND(AR24<>"",AS24<>""),SUM(AR24:AS24),"") | AW24: =IF(AND(AU24<>"",AV24<>""),SUM(AU24:AV24),"") | BB24: =IF(AND(AZ24<>"",BA24<>""),SUM(AZ24:BA24),"") | BE24: =IF(AND(BC24<>"",BD24<>""),SUM(BC24:BD24),"")
A25: 愛知県 | B25: 23217 | C25: 江南市 | D25: =SUM(L25,T25,AB25,AJ25,AR25,AZ25) -> 31869 | E25: =SUM(M25,U25,AC25,AK25,AS25,BA25) -> 537396 | F25: =SUM(D25:E25) -> 569265 | G25: =SUM(O25,W25,AE25,AM25,AU25,BC25) -> 0 | H25: =SUM(P25,X25,AF25,AN25,AV25,BD25) -> 149670 | I25: =SUM(G25:H25) -> 149670 | J25: 23859 | K25: 江南丹羽環境管理組合 | L25: 0 | M25: 537396 | N25: =IF(AND(L25<>"",M25<>""),SUM(L25:M25),"") -> 537396 | O25: 0 | P25: 0 | Q25: =IF(AND(O25<>"",P25<>""),SUM(O25:P25),"") -> 0 | R25: 23833 | S25: 愛北広域事務組合 | T25: 0 | U25: 0 | V25: =IF(AND(T25<>"",U25<>""),SUM(T25:U25),"") -> 0 | W25: 0 | X25: 149670 | Y25: =IF(AND(W25<>"",X25<>""),SUM(W25:X25),"") -> 149670 | Z25: 23934 | AA25: 尾張北部環境組合 | AB25: 31869 | AC25: 0 | AD25: =IF(AND(AB25<>"",AC25<>""),SUM(AB25:AC25),"") -> 31869 | AE25: 0 | AF25: 0 | AG25: =IF(AND(AE25<>"",AF25<>""),SUM(AE25:AF25),"") -> 0 | AL25: =IF(AND(AJ25<>"",AK25<>""),SUM(AJ25:AK25),"") | AO25: =IF(AND(AM25<>"",AN25<>""),SUM(AM25:AN25),"") | AT25: =IF(AND(AR25<>"",AS25<>""),SUM(AR25:AS25),"") | AW25: =IF(AND(AU25<>"",AV25<>""),SUM(AU25:AV25),"") | BB25: =IF(AND(AZ25<>"",BA25<>""),SUM(AZ25:BA25),"") | BE25: =IF(AND(BC25<>"",BD25<>""),SUM(BC25:BD25),"")
A26: 愛知県 | B26: 23219 | C26: 小牧市 | D26: =SUM(L26,T26,AB26,AJ26,AR26,AZ26) -> 13231 | E26: =SUM(M26,U26,AC26,AK26,AS26,BA26) -> 983294 | F26: =SUM(D26:E26) -> 996525 | G26: =SUM(O26,W26,AE26,AM26,AU26,BC26) -> 0 | H26: =SUM(P26,X26,AF26,AN26,AV26,BD26) -> 0 | I26: =SUM(G26:H26) -> 0 | J26: 23851 | K26: 小牧岩倉衛生組合 | L26: 13231 | M26: 983294 | N26: =IF(AND(L26<>"",M26<>""),SUM(L26:M26),"") -> 996525 | O26: 0 | P26: 0 | Q26: =IF(AND(O26<>"",P26<>""),SUM(O26:P26),"") -> 0 | V26: =IF(AND(T26<>"",U26<>""),SUM(T26:U26),"") | Y26: =IF(AND(W26<>"",X26<>""),SUM(W26:X26),"") | AD26: =IF(AND(AB26<>"",AC26<>""),SUM(AB26:AC26),"") | AG26: =IF(AND(AE26<>"",AF26<>""),SUM(AE26:AF26),"") | AL26: =IF(AND(AJ26<>"",AK26<>""),SUM(AJ26:AK26),"") | AO26: =IF(AND(AM26<>"",AN26<>""),SUM(AM26:AN26),"") | AT26: =IF(AND(AR26<>"",AS26<>""),SUM(AR26:AS26),"") | AW26: =IF(AND(AU26<>"",AV26<>""),SUM(AU26:AV26),"") | BB26: =IF(AND(AZ26<>"",BA26<>""),SUM(AZ26:BA26),"") | BE26: =IF(AND(BC26<>"",BD26<>""),SUM(BC26:BD26),"")
A27: 愛知県 | B27: 23220 | C27: 稲沢市 | D27: =SUM(L27,T27,AB27,AJ27,AR27,AZ27) -> 0 | E27: =SUM(M27,U27,AC27,AK27,AS27,BA27) -> 0 | F27: =SUM(D27:E27) -> 0 | G27: =SUM(O27,W27,AE27,AM27,AU27,BC27) -> 0 | H27: =SUM(P27,X27,AF27,AN27,AV27,BD27) -> 0 | I27: =SUM(G27:H27) -> 0 | N27: =IF(AND(L27<>"",M27<>""),SUM(L27:M27),"") | Q27: =IF(AND(O27<>"",P27<>""),SUM(O27:P27),"") | V27: =IF(AND(T27<>"",U27<>""),SUM(T27:U27),"") | Y27: =IF(AND(W27<>"",X27<>""),SUM(W27:X27),"") | AD27: =IF(AND(AB27<>"",AC27<>""),SUM(AB27:AC27),"") | AG27: =IF(AND(AE27<>"",AF27<>""),SUM(AE27:AF27),"") | AL27: =IF(AND(AJ27<>"",AK27<>""),SUM(AJ27:AK27),"") | AO27: =IF(AND(AM27<>"",AN27<>""),SUM(AM27:AN27),"") | AT27: =IF(AND(AR27<>"",AS27<>""),SUM(AR27:AS27),"") | AW27: =IF(AND(AU27<>"",AV27<>""),SUM(AU27:AV27),"") | BB27: =IF(AND(AZ27<>"",BA27<>""),SUM(AZ27:BA27),"") | BE27: =IF(AND(BC27<>"",BD27<>""),SUM(BC27:BD27),"")
A28: 愛知県 | B28: 23221 | C28: 新城市 | D28: =SUM(L28,T28,AB28,AJ28,AR28,AZ28) -> 0 | E28: =SUM(M28,U28,AC28,AK28,AS28,BA28) -> 0 | F28: =SUM(D28:E28) -> 0 | G28: =SUM(O28,W28,AE28,AM28,AU28,BC28) -> 0 | H28: =SUM(P28,X28,AF28,AN28,AV28,BD28) -> 0 | I28: =SUM(G28:H28) -> 0 | N28: =IF(AND(L28<>"",M28<>""),SUM(L28:M28),"") | Q28: =IF(AND(O28<>"",P28<>""),SUM(O28:P28),"") | V28: =IF(AND(T28<>"",U28<>""),SUM(T28:U28),"") | Y28: =IF(AND(W28<>"",X28<>""),SUM(W28:X28),"") | AD28: =IF(AND(AB28<>"",AC28<>""),SUM(AB28:AC28),"") | AG28: =IF(AND(AE28<>"",AF28<>""),SUM(AE28:AF28),"") | AL28: =IF(AND(AJ28<>"",AK28<>""),SUM(AJ28:AK28),"") | AO28: =IF(AND(AM28<>"",AN28<>""),SUM(AM28:AN28),"") | AT28: =IF(AND(AR28<>"",AS28<>""),SUM(AR28:AS28),"") | AW28: =IF(AND(AU28<>"",AV28<>""),SUM(AU28:AV28),"") | BB28: =IF(AND(AZ28<>"",BA28<>""),SUM(AZ28:BA28),"") | BE28: =IF(AND(BC28<>"",BD28<>""),SUM(BC28:BD28),"")
A29: 愛知県 | B29: 23222 | C29: 東海市 | D29: =SUM(L29,T29,AB29,AJ29,AR29,AZ29) -> 8829 | E29: =SUM(M29,U29,AC29,AK29,AS29,BA29) -> 0 | F29: =SUM(D29:E29) -> 8829 | G29: =SUM(O29,W29,AE29,AM29,AU29,BC29) -> 0 | H29: =SUM(P29,X29,AF29,AN29,AV29,BD29) -> 180243 | I29: =SUM(G29:H29) -> 180243 | J29: 23846 | K29: 西知多医療厚生組合 | L29: 8829 | M29: 0 | N29: =IF(AND(L29<>"",M29<>""),SUM(L29:M29),"") -> 8829 | O29: 0 | P29: 180243 | Q29: =IF(AND(O29<>"",P29<>""),SUM(O29:P29),"") -> 180243 | V29: =IF(AND(T29<>"",U29<>""),SUM(T29:U29),"") | Y29: =IF(AND(W29<>"",X29<>""),SUM(W29:X29),"") | AD29: =IF(AND(AB29<>"",AC29<>""),SUM(AB29:AC29),"") | AG29: =IF(AND(AE29<>"",AF29<>""),SUM(AE29:AF29),"") | AL29: =IF(AND(AJ29<>"",AK29<>""),SUM(AJ29:AK29),"") | AO29: =IF(AND(AM29<>"",AN29<>""),SUM(AM29:AN29),"") | AT29: =IF(AND(AR29<>"",AS29<>""),SUM(AR29:AS29),"") | AW29: =IF(AND(AU29<>"",AV29<>""),SUM(AU29:AV29),"") | BB29: =IF(AND(AZ29<>"",BA29<>""),SUM(AZ29:BA29),"") | BE29: =IF(AND(BC29<>"",BD29<>""),SUM(BC29:BD29),"")
A30: 愛知県 | B30: 23223 | C30: 大府市 | D30: =SUM(L30,T30,AB30,AJ30,AR30,AZ30) -> 0 | E30: =SUM(M30,U30,AC30,AK30,AS30,BA30) -> 425224 | F30: =SUM(D30:E30) -> 425224 | G30: =SUM(O30,W30,AE30,AM30,AU30,BC30) -> 0 | H30: =SUM(P30,X30,AF30,AN30,AV30,BD30) -> 34677 | I30: =SUM(G30:H30) -> 34677 | J30: 23837 | K30: 東部知多衛生組合 | L30: 0 | M30: 425224 | N30: =IF(AND(L30<>"",M30<>""),SUM(L30:M30),"") -> 425224 | O30: 0 | P30: 34677 | Q30: =IF(AND(O30<>"",P30<>""),SUM(O30:P30),"") -> 34677 | V30: =IF(AND(T30<>"",U30<>""),SUM(T30:U30),"") | Y30: =IF(AND(W30<>"",X30<>""),SUM(W30:X30),"") | AD30: =IF(AND(AB30<>"",AC30<>""),SUM(AB30:AC30),"") | AG30: =IF(AND(AE30<>"",AF30<>""),SUM(AE30:AF30),"") | AL30: =IF(AND(AJ30<>"",AK30<>""),SUM(AJ30:AK30),"") | AO30: =IF(AND(AM30<>"",AN30<>""),SUM(AM30:AN30),"") | AT30: =IF(AND(AR30<>"",AS30<>""),SUM(AR30:AS30),"") | AW30: =IF(AND(AU30<>"",AV30<>""),SUM(AU30:AV30),"") | BB30: =IF(AND(AZ30<>"",BA30<>""),SUM(AZ30:BA30),"") | BE30: =IF(AND(BC30<>"",BD30<>""),SUM(BC30:BD30),"")
A31: 愛知県 | B31: 23224 | C31: 知多市 | D31: =SUM(L31,T31,AB31,AJ31,AR31,AZ31) -> 8829 | E31: =SUM(M31,U31,AC31,AK31,AS31,BA31) -> 0 | F31: =SUM(D31:E31) -> 8829 | G31: =SUM(O31,W31,AE31,AM31,AU31,BC31) -> 0 | H31: =SUM(P31,X31,AF31,AN31,AV31,BD31) -> 43024 | I31: =SUM(G31:H31) -> 43024 | J31: 23846 | K31: 西知多医療厚生組合 | L31: 8829 | M31: 0 | N31: =IF(AND(L31<>"",M31<>""),SUM(L31:M31),"") -> 8829 | O31: 0 | P31: 43024 | Q31: =IF(AND(O31<>"",P31<>""),SUM(O31:P31),"") -> 43024 | V31: =IF(AND(T31<>"",U31<>""),SUM(T31:U31),"") | Y31: =IF(AND(W31<>"",X31<>""),SUM(W31:X31),"") | AD31: =IF(AND(AB31<>"",AC31<>""),SUM(AB31:AC31),"") | AG31: =IF(AND(AE31<>"",AF31<>""),SUM(AE31:AF31),"") | AL31: =IF(AND(AJ31<>"",AK31<>""),SUM(AJ31:AK31),"") | AO31: =IF(AND(AM31<>"",AN31<>""),SUM(AM31:AN31),"") | AT31: =IF(AND(AR31<>"",AS31<>""),SUM(AR31:AS31),"") | AW31: =IF(AND(AU31<>"",AV31<>""),SUM(AU31:AV31),"") | BB31: =IF(AND(AZ31<>"",BA31<>""),SUM(AZ31:BA31),"") | BE31: =IF(AND(BC31<>"",BD31<>""),SUM(BC31:BD31),"")
A32: 愛知県 | B32: 23225 | C32: 知立市 | D32: =SUM(L32,T32,AB32,AJ32,AR32,AZ32) -> 240649 | E32: =SUM(M32,U32,AC32,AK32,AS32,BA32) -> 155430 | F32: =SUM(D32:E32) -> 396079 | G32: =SUM(O32,W32,AE32,AM32,AU32,BC32) -> 0 | H32: =SUM(P32,X32,AF32,AN32,AV32,BD32) -> 0 | I32: =SUM(G32:H32) -> 0 | J32: 23858 | K32: 刈谷知立環境組合 | L32: 240649 | M32: 155430 | N32: =IF(AND(L32<>"",M32<>""),SUM(L32:M32),"") -> 396079 | O32: 0 | P32: 0 | Q32: =IF(AND(O32<>"",P32<>""),SUM(O32:P32),"") -> 0 | V32: =IF(AND(T32<>"",U32<>""),SUM(T32:U32),"") | Y32: =IF(AND(W32<>"",X32<>""),SUM(W32:X32),"") | AD32: =IF(AND(AB32<>"",AC32<>""),SUM(AB32:AC32),"") | AG32: =IF(AND(AE32<>"",AF32<>""),SUM(AE32:AF32),"") | AL32: =IF(AND(AJ32<>"",AK32<>""),SUM(AJ32:AK32),"") | AO32: =IF(AND(AM32<>"",AN32<>""),SUM(AM32:AN32),"") | AT32: =IF(AND(AR32<>"",AS32<>""),SUM(AR32:AS32),"") | AW32: =IF(AND(AU32<>"",AV32<>""),SUM(AU32:AV32),"") | BB32: =IF(AND(AZ32<>"",BA32<>""),SUM(AZ32:BA32),"") | BE32: =IF(AND(BC32<>"",BD32<>""),SUM(BC32:BD32),"")
A33: 愛知県 | B33: 23226 | C33: 尾張旭市 | D33: =SUM(L33,T33,AB33,AJ33,AR33,AZ33) -> 2103 | E33: =SUM(M33,U33,AC33,AK33,AS33,BA33) -> 177021 | F33: =SUM(D33:E33) -> 179124 | G33: =SUM(O33,W33,AE33,AM33,AU33,BC33) -> 0 | H33: =SUM(P33,X33,AF33,AN33,AV33,BD33) -> 0 | I33: =SUM(G33:H33) -> 0 | J33: 23848 | K33: 尾張東部衛生組合 | L33: 2103 | M33: 177021 | N33: =IF(AND(L33<>"",M33<>""),SUM(L33:M33),"") -> 179124 | O33: 0 | P33: 0 | Q33: =IF(AND(O33<>"",P33<>""),SUM(O33:P33),"") -> 0 | V33: =IF(AND(T33<>"",U33<>""),SUM(T33:U33),"") | Y33: =IF(AND(W33<>"",X33<>""),SUM(W33:X33),"") | AD33: =IF(AND(AB33<>"",AC33<>""),SUM(AB33:AC33),"") | AG33: =IF(AND(AE33<>"",AF33<>""),SUM(AE33:AF33),"") | AL33: =IF(AND(AJ33<>"",AK33<>""),SUM(AJ33:AK33),"") | AO33: =IF(AND(AM33<>"",AN33<>""),SUM(AM33:AN33),"") | AT33: =IF(AND(AR33<>"",AS33<>""),SUM(AR33:AS33),"") | AW33: =IF(AND(AU33<>"",AV33<>""),SUM(AU33:AV33),"") | BB33: =IF(AND(AZ33<>"",BA33<>""),SUM(AZ33:BA33),"") | BE33: =IF(AND(BC33<>"",BD33<>""),SUM(BC33:BD33),"")
A34: 愛知県 | B34: 23227 | C34: 高浜市 | D34: =SUM(L34,T34,AB34,AJ34,AR34,AZ34) -> 77695 | E34: =SUM(M34,U34,AC34,AK34,AS34,BA34) -> 441061 | F34: =SUM(D34:E34) -> 518756 | G34: =SUM(O34,W34,AE34,AM34,AU34,BC34) -> 0 | H34: =SUM(P34,X34,AF34,AN34,AV34,BD34) -> 0 | I34: =SUM(G34:H34) -> 0 | J34: 23838 | K34: 衣浦衛生組合 | L34: 77695 | M34: 441061 | N34: =IF(AND(L34<>"",M34<>""),SUM(L34:M34),"") -> 518756 | O34: 0 | P34: 0 | Q34: =IF(AND(O34<>"",P34<>""),SUM(O34:P34),"") -> 0 | V34: =IF(AND(T34<>"",U34<>""),SUM(T34:U34),"") | Y34: =IF(AND(W34<>"",X34<>""),SUM(W34:X34),"") | AD34: =IF(AND(AB34<>"",AC34<>""),SUM(AB34:AC34),"") | AG34: =IF(AND(AE34<>"",AF34<>""),SUM(AE34:AF34),"") | AL34: =IF(AND(AJ34<>"",AK34<>""),SUM(AJ34:AK34),"") | AO34: =IF(AND(AM34<>"",AN34<>""),SUM(AM34:AN34),"") | AT34: =IF(AND(AR34<>"",AS34<>""),SUM(AR34:AS34),"") | AW34: =IF(AND(AU34<>"",AV34<>""),SUM(AU34:AV34),"") | BB34: =IF(AND(AZ34<>"",BA34<>""),SUM(AZ34:BA34),"") | BE34: =IF(AND(BC34<>"",BD34<>""),SUM(BC34:BD34),"")
A35: 愛知県 | B35: 23228 | C35: 岩倉市 | D35: =SUM(L35,T35,AB35,AJ35,AR35,AZ35) -> 4878 | E35: =SUM(M35,U35,AC35,AK35,AS35,BA35) -> 362641 | F35: =SUM(D35:E35) -> 367519 | G35: =SUM(O35,W35,AE35,AM35,AU35,BC35) -> 0 | H35: =SUM(P35,X35,AF35,AN35,AV35,BD35) -> 42323 | I35: =SUM(G35:H35) -> 42323 | J35: 23851 | K35: 小牧岩倉衛生組合 | L35: 4878 | M35: 362641 | N35: =IF(AND(L35<>"",M35<>""),SUM(L35:M35),"") -> 367519 | O35: 0 | P35: 0 | Q35: =IF(AND(O35<>"",P35<>""),SUM(O35:P35),"") -> 0 | R35: 23833 | S35: 愛北広域事務組合 | T35: 0 | U35: 0 | V35: =IF(AND(T35<>"",U35<>""),SUM(T35:U35),"") -> 0 | W35: 0 | X35: 42323 | Y35: =IF(AND(W35<>"",X35<>""),SUM(W35:X35),"") -> 42323 | AD35: =IF(AND(AB35<>"",AC35<>""),SUM(AB35:AC35),"") | AG35: =IF(AND(AE35<>"",AF35<>""),SUM(AE35:AF35),"") | AL35: =IF(AND(AJ35<>"",AK35<>""),SUM(AJ35:AK35),"") | AO35: =IF(AND(AM35<>"",AN35<>""),SUM(AM35:AN35),"") | AT35: =IF(AND(AR35<>"",AS35<>""),SUM(AR35:AS35),"") | AW35: =IF(AND(AU35<>"",AV35<>""),SUM(AU35:AV35),"") | BB35: =IF(AND(AZ35<>"",BA35<>""),SUM(AZ35:BA35),"") | BE35: =IF(AND(BC35<>"",BD35<>""),SUM(BC35:BD35),"")
A36: 愛知県 | B36: 23229 | C36: 豊明市 | D36: =SUM(L36,T36,AB36,AJ36,AR36,AZ36) -> 0 | E36: =SUM(M36,U36,AC36,AK36,AS36,BA36) -> 290670 | F36: =SUM(D36:E36) -> 290670 | G36: =SUM(O36,W36,AE36,AM36,AU36,BC36) -> 0 | H36: =SUM(P36,X36,AF36,AN36,AV36,BD36) -> 18751 | I36: =SUM(G36:H36) -> 18751 | J36: 23837 | K36: 東部知多衛生組合 | L36: 0 | M36: 290670 | N36: =IF(AND(L36<>"",M36<>""),SUM(L36:M36),"") -> 290670 | O36: 0 | P36: 18751 | Q36: =IF(AND(O36<>"",P36<>""),SUM(O36:P36),"") -> 18751 | V36: =IF(AND(T36<>"",U36<>""),SUM(T36:U36),"") | Y36: =IF(AND(W36<>"",X36<>""),SUM(W36:X36),"") | AD36: =IF(AND(AB36<>"",AC36<>""),SUM(AB36:AC36),"") | AG36: =IF(AND(AE36<>"",AF36<>""),SUM(AE36:AF36),"") | AL36: =IF(AND(AJ36<>"",AK36<>""),SUM(AJ36:AK36),"") | AO36: =IF(AND(AM36<>"",AN36<>""),SUM(AM36:AN36),"") | AT36: =IF(AND(AR36<>"",AS36<>""),SUM(AR36:AS36),"") | AW36: =IF(AND(AU36<>"",AV36<>""),SUM(AU36:AV36),"") | BB36: =IF(AND(AZ36<>"",BA36<>""),SUM(AZ36:BA36),"") | BE36: =IF(AND(BC36<>"",BD36<>""),SUM(BC36:BD36),"")
A37: 愛知県 | B37: 23230 | C37: 日進市 | D37: =SUM(L37,T37,AB37,AJ37,AR37,AZ37) -> 0 | E37: =SUM(M37,U37,AC37,AK37,AS37,BA37) -> 410308 | F37: =SUM(D37:E37) -> 410308 | G37: =SUM(O37,W37,AE37,AM37,AU37,BC37) -> 0 | H37: =SUM(P37,X37,AF37,AN37,AV37,BD37) -> 0 | I37: =SUM(G37:H37) -> 0 | J37: 23887 | K37: 尾三衛生組合 | L37: 0 | M37: 410308 | N37: =IF(AND(L37<>"",M37<>""),SUM(L37:M37),"") -> 410308 | O37: 0 | P37: 0 | Q37: =IF(AND(O37<>"",P37<>""),SUM(O37:P37),"") -> 0 | V37: =IF(AND(T37<>"",U37<>""),SUM(T37:U37),"") | Y37: =IF(AND(W37<>"",X37<>""),SUM(W37:X37),"") | AD37: =IF(AND(AB37<>"",AC37<>""),SUM(AB37:AC37),"") | AG37: =IF(AND(AE37<>"",AF37<>""),SUM(AE37:AF37),"") | AL37: =IF(AND(AJ37<>"",AK37<>""),SUM(AJ37:AK37),"") | AO37: =IF(AND(AM37<>"",AN37<>""),SUM(AM37:AN37),"") | AT37: =IF(AND(AR37<>"",AS37<>""),SUM(AR37:AS37),"") | AW37: =IF(AND(AU37<>"",AV37<>""),SUM(AU37:AV37),"") | BB37: =IF(AND(AZ37<>"",BA37<>""),SUM(AZ37:BA37),"") | BE37: =IF(AND(BC37<>"",BD37<>""),SUM(BC37:BD37),"")
A38: 愛知県 | B38: 23231 | C38: 田原市 | D38: =SUM(L38,T38,AB38,AJ38,AR38,AZ38) -> 0 | E38: =SUM(M38,U38,AC38,AK38,AS38,BA38) -> 0 | F38: =SUM(D38:E38) -> 0 | G38: =SUM(O38,W38,AE38,AM38,AU38,BC38) -> 0 | H38: =SUM(P38,X38,AF38,AN38,AV38,BD38) -> 0 | I38: =SUM(G38:H38) -> 0 | N38: =IF(AND(L38<>"",M38<>""),SUM(L38:M38),"") | Q38: =IF(AND(O38<>"",P38<>""),SUM(O38:P38),"") | V38: =IF(AND(T38<>"",U38<>""),SUM(T38:U38),"") | Y38: =IF(AND(W38<>"",X38<>""),SUM(W38:X38),"") | AD38: =IF(AND(AB38<>"",AC38<>""),SUM(AB38:AC38),"") | AG38: =IF(AND(AE38<>"",AF38<>""),SUM(AE38:AF38),"") | AL38: =IF(AND(AJ38<>"",AK38<>""),SUM(AJ38:AK38),"") | AO38: =IF(AND(AM38<>"",AN38<>""),SUM(AM38:AN38),"") | AT38: =IF(AND(AR38<>"",AS38<>""),SUM(AR38:AS38),"") | AW38: =IF(AND(AU38<>"",AV38<>""),SUM(AU38:AV38),"") | BB38: =IF(AND(AZ38<>"",BA38<>""),SUM(AZ38:BA38),"") | BE38: =IF(AND(BC38<>"",BD38<>""),SUM(BC38:BD38),"")
A39: 愛知県 | B39: 23232 | C39: 愛西市 | D39: =SUM(L39,T39,AB39,AJ39,AR39,AZ39) -> 0 | E39: =SUM(M39,U39,AC39,AK39,AS39,BA39) -> 286377 | F39: =SUM(D39:E39) -> 286377 | G39: =SUM(O39,W39,AE39,AM39,AU39,BC39) -> 0 | H39: =SUM(P39,X39,AF39,AN39,AV39,BD39) -> 67049 | I39: =SUM(G39:H39) -> 67049 | J39: 23849 | K39: 海部地区環境事務組合 | L39: 0 | M39: 286377 | N39: =IF(AND(L39<>"",M39<>""),SUM(L39:M39),"") -> 286377 | O39: 0 | P39: 67049 | Q39: =IF(AND(O39<>"",P39<>""),SUM(O39:P39),"") -> 67049 | V39: =IF(AND(T39<>"",U39<>""),SUM(T39:U39),"") | Y39: =IF(AND(W39<>"",X39<>""),SUM(W39:X39),"") | AD39: =IF(AND(AB39<>"",AC39<>""),SUM(AB39:AC39),"") | AG39: =IF(AND(AE39<>"",AF39<>""),SUM(AE39:AF39),"") | AL39: =IF(AND(AJ39<>"",AK39<>""),SUM(AJ39:AK39),"") | AO39: =IF(AND(AM39<>"",AN39<>""),SUM(AM39:AN39),"") | AT39: =IF(AND(AR39<>"",AS39<>""),SUM(AR39:AS39),"") | AW39: =IF(AND(AU39<>"",AV39<>""),SUM(AU39:AV39),"") | BB39: =IF(AND(AZ39<>"",BA39<>""),SUM(AZ39:BA39),"") | BE39: =IF(AND(BC39<>"",BD39<>""),SUM(BC39:BD39),"")
A40: 愛知県 | B40: 23233 | C40: 清須市 | D40: =SUM(L40,T40,AB40,AJ40,AR40,AZ40) -> 0 | E40: =SUM(M40,U40,AC40,AK40,AS40,BA40) -> 0 | F40: =SUM(D40:E40) -> 0 | G40: =SUM(O40,W40,AE40,AM40,AU40,BC40) -> 0 | H40: =SUM(P40,X40,AF40,AN40,AV40,BD40) -> 169114 | I40: =SUM(G40:H40) -> 169114 | J40: 23899 | K40: 五条広域事務組合 | L40: 0 | M40: 0 | N40: =IF(AND(L40<>"",M40<>""),SUM(L40:M40),"") -> 0 | O40: 0 | P40: 169114 | Q40: =IF(AND(O40<>"",P40<>""),SUM(O40:P40),"") -> 169114 | V40: =IF(AND(T40<>"",U40<>""),SUM(T40:U40),"") | Y40: =IF(AND(W40<>"",X40<>""),SUM(W40:X40),"") | AD40: =IF(AND(AB40<>"",AC40<>""),SUM(AB40:AC40),"") | AG40: =IF(AND(AE40<>"",AF40<>""),SUM(AE40:AF40),"") | AL40: =IF(AND(AJ40<>"",AK40<>""),SUM(AJ40:AK40),"") | AO40: =IF(AND(AM40<>"",AN40<>""),SUM(AM40:AN40),"") | AT40: =IF(AND(AR40<>"",AS40<>""),SUM(AR40:AS40),"") | AW40: =IF(AND(AU40<>"",AV40<>""),SUM(AU40:AV40),"") | BB40: =IF(AND(AZ40<>"",BA40<>""),SUM(AZ40:BA40),"") | BE40: =IF(AND(BC40<>"",BD40<>""),SUM(BC40:BD40),"")
A41: 愛知県 | B41: 23234 | C41: 北名古屋市 | D41: =SUM(L41,T41,AB41,AJ41,AR41,AZ41) -> 0 | E41: =SUM(M41,U41,AC41,AK41,AS41,BA41) -> 291409 | F41: =SUM(D41:E41) -> 291409 | G41: =SUM(O41,W41,AE41,AM41,AU41,BC41) -> 0 | H41: =SUM(P41,X41,AF41,AN41,AV41,BD41) -> 139731 | I41: =SUM(G41:H41) -> 139731 | J41: 23874 | K41: 北名古屋衛生組合 | L41: 0 | M41: 291409 | N41: =IF(AND(L41<>"",M41<>""),SUM(L41:M41),"") -> 291409 | O41: 0 | P41: 139731 | Q41: =IF(AND(O41<>"",P41<>""),SUM(O41:P41),"") -> 139731 | V41: =IF(AND(T41<>"",U41<>""),SUM(T41:U41),"") | Y41: =IF(AND(W41<>"",X41<>""),SUM(W41:X41),"") | AD41: =IF(AND(AB41<>"",AC41<>""),SUM(AB41:AC41),"") | AG41: =IF(AND(AE41<>"",AF41<>""),SUM(AE41:AF41),"") | AL41: =IF(AND(AJ41<>"",AK41<>""),SUM(AJ41:AK41),"") | AO41: =IF(AND(AM41<>"",AN41<>""),SUM(AM41:AN41),"") | AT41: =IF(AND(AR41<>"",AS41<>""),SUM(AR41:AS41),"") | AW41: =IF(AND(AU41<>"",AV41<>""),SUM(AU41:AV41),"") | BB41: =IF(AND(AZ41<>"",BA41<>""),SUM(AZ41:BA41),"") | BE41: =IF(AND(BC41<>"",BD41<>""),SUM(BC41:BD41),"")
A42: 愛知県 | B42: 23235 | C42: 弥富市 | D42: =SUM(L42,T42,AB42,AJ42,AR42,AZ42) -> 0 | E42: =SUM(M42,U42,AC42,AK42,AS42,BA42) -> 206111 | F42: =SUM(D42:E42) -> 206111 | G42: =SUM(O42,W42,AE42,AM42,AU42,BC42) -> 0 | H42: =SUM(P42,X42,AF42,AN42,AV42,BD42) -> 60924 | I42: =SUM(G42:H42) -> 60924 | J42: 23849 | K42: 海部地区環境事務組合 | L42: 0 | M42: 206111 | N42: =IF(AND(L42<>"",M42<>""),SUM(L42:M42),"") -> 206111 | O42: 0 | P42: 60924 | Q42: =IF(AND(O42<>"",P42<>""),SUM(O42:P42),"") -> 60924 | V42: =IF(AND(T42<>"",U42<>""),SUM(T42:U42),"") | Y42: =IF(AND(W42<>"",X42<>""),SUM(W42:X42),"") | AD42: =IF(AND(AB42<>"",AC42<>""),SUM(AB42:AC42),"") | AG42: =IF(AND(AE42<>"",AF42<>""),SUM(AE42:AF42),"") | AL42: =IF(AND(AJ42<>"",AK42<>""),SUM(AJ42:AK42),"") | AO42: =IF(AND(AM42<>"",AN42<>""),SUM(AM42:AN42),"") | AT42: =IF(AND(AR42<>"",AS42<>""),SUM(AR42:AS42),"") | AW42: =IF(AND(AU42<>"",AV42<>""),SUM(AU42:AV42),"") | BB42: =IF(AND(AZ42<>"",BA42<>""),SUM(AZ42:BA42),"") | BE42: =IF(AND(BC42<>"",BD42<>""),SUM(BC42:BD42),"")
A43: 愛知県 | B43: 23236 | C43: みよし市 | D43: =SUM(L43,T43,AB43,AJ43,AR43,AZ43) -> 0 | E43: =SUM(M43,U43,AC43,AK43,AS43,BA43) -> 288541 | F43: =SUM(D43:E43) -> 288541 | G43: =SUM(O43,W43,AE43,AM43,AU43,BC43) -> 0 | H43: =SUM(P43,X43,AF43,AN43,AV43,BD43) -> 0 | I43: =SUM(G43:H43) -> 0 | J43: 23887 | K43: 尾三衛生組合 | L43: 0 | M43: 288541 | N43: =IF(AND(L43<>"",M43<>""),SUM(L43:M43),"") -> 288541 | O43: 0 | P43: 0 | Q43: =IF(AND(O43<>"",P43<>""),SUM(O43:P43),"") -> 0 | V43: =IF(AND(T43<>"",U43<>""),SUM(T43:U43),"") | Y43: =IF(AND(W43<>"",X43<>""),SUM(W43:X43),"") | AD43: =IF(AND(AB43<>"",AC43<>""),SUM(AB43:AC43),"") | AG43: =IF(AND(AE43<>"",AF43<>""),SUM(AE43:AF43),"") | AL43: =IF(AND(AJ43<>"",AK43<>""),SUM(AJ43:AK43),"") | AO43: =IF(AND(AM43<>"",AN43<>""),SUM(AM43:AN43),"") | AT43: =IF(AND(AR43<>"",AS43<>""),SUM(AR43:AS43),"") | AW43: =IF(AND(AU43<>"",AV43<>""),SUM(AU43:AV43),"") | BB43: =IF(AND(AZ43<>"",BA43<>""),SUM(AZ43:BA43),"") | BE43: =IF(AND(BC43<>"",BD43<>""),SUM(BC43:BD43),"")
A44: 愛知県 | B44: 23237 | C44: あま市 | D44: =SUM(L44,T44,AB44,AJ44,AR44,AZ44) -> 0 | E44: =SUM(M44,U44,AC44,AK44,AS44,BA44) -> 216177 | F44: =SUM(D44:E44) -> 216177 | G44: =SUM(O44,W44,AE44,AM44,AU44,BC44) -> 0 | H44: =SUM(P44,X44,AF44,AN44,AV44,BD44) -> 144510 | I44: =SUM(G44:H44) -> 144510 | J44: 23899 | K44: 五条広域事務組合 | L44: 0 | M44: 0 | N44: =IF(AND(L44<>"",M44<>""),SUM(L44:M44),"") -> 0 | O44: 0 | P44: 90822 | Q44: =IF(AND(O44<>"",P44<>""),SUM(O44:P44),"") -> 90822 | R44: 23849 | S44: 海部地区環境事務組合 | T44: 0 | U44: 216177 | V44: =IF(AND(T44<>"",U44<>""),SUM(T44:U44),"") -> 216177 | W44: 0 | X44: 53688 | Y44: =IF(AND(W44<>"",X44<>""),SUM(W44:X44),"") -> 53688 | AD44: =IF(AND(AB44<>"",AC44<>""),SUM(AB44:AC44),"") | AG44: =IF(AND(AE44<>"",AF44<>""),SUM(AE44:AF44),"") | AL44: =IF(AND(AJ44<>"",AK44<>""),SUM(AJ44:AK44),"") | AO44: =IF(AND(AM44<>"",AN44<>""),SUM(AM44:AN44),"") | AT44: =IF(AND(AR44<>"",AS44<>""),SUM(AR44:AS44),"") | AW44: =IF(AND(AU44<>"",AV44<>""),SUM(AU44:AV44),"") | BB44: =IF(AND(AZ44<>"",BA44<>""),SUM(AZ44:BA44),"") | BE44: =IF(AND(BC44<>"",BD44<>""),SUM(BC44:BD44),"")
A45: 愛知県 | B45: 23238 | C45: 長久手市 | D45: =SUM(L45,T45,AB45,AJ45,AR45,AZ45) -> 1676 | E45: =SUM(M45,U45,AC45,AK45,AS45,BA45) -> 133873 | F45: =SUM(D45:E45) -> 135549 | G45: =SUM(O45,W45,AE45,AM45,AU45,BC45) -> 0 | H45: =SUM(P45,X45,AF45,AN45,AV45,BD45) -> 0 | I45: =SUM(G45:H45) -> 0 | J45: 23848 | K45: 尾張東部衛生組合 | L45: 1676 | M45: 133873 | N45: =IF(AND(L45<>"",M45<>""),SUM(L45:M45),"") -> 135549 | O45: 0 | P45: 0 | Q45: =IF(AND(O45<>"",P45<>""),SUM(O45:P45),"") -> 0 | V45: =IF(AND(T45<>"",U45<>""),SUM(T45:U45),"") | Y45: =IF(AND(W45<>"",X45<>""),SUM(W45:X45),"") | AD45: =IF(AND(AB45<>"",AC45<>""),SUM(AB45:AC45),"") | AG45: =IF(AND(AE45<>"",AF45<>""),SUM(AE45:AF45),"") | AL45: =IF(AND(AJ45<>"",AK45<>""),SUM(AJ45:AK45),"") | AO45: =IF(AND(AM45<>"",AN45<>""),SUM(AM45:AN45),"") | AT45: =IF(AND(AR45<>"",AS45<>""),SUM(AR45:AS45),"") | AW45: =IF(AND(AU45<>"",AV45<>""),SUM(AU45:AV45),"") | BB45: =IF(AND(AZ45<>"",BA45<>""),SUM(AZ45:BA45),"") | BE45: =IF(AND(BC45<>"",BD45<>""),SUM(BC45:BD45),"")
A46: 愛知県 | B46: 23302 | C46: 東郷町 | D46: =SUM(L46,T46,AB46,AJ46,AR46,AZ46) -> 0 | E46: =SUM(M46,U46,AC46,AK46,AS46,BA46) -> 210890 | F46: =SUM(D46:E46) -> 210890 | G46: =SUM(O46,W46,AE46,AM46,AU46,BC46) -> 0 | H46: =SUM(P46,X46,AF46,AN46,AV46,BD46) -> 0 | I46: =SUM(G46:H46) -> 0 | J46: 23887 | K46: 尾三衛生組合 | L46: 0 | M46: 210890 | N46: =IF(AND(L46<>"",M46<>""),SUM(L46:M46),"") -> 210890 | O46: 0 | P46: 0 | Q46: =IF(AND(O46<>"",P46<>""),SUM(O46:P46),"") -> 0 | V46: =IF(AND(T46<>"",U46<>""),SUM(T46:U46),"") | Y46: =IF(AND(W46<>"",X46<>""),SUM(W46:X46),"") | AD46: =IF(AND(AB46<>"",AC46<>""),SUM(AB46:AC46),"") | AG46: =IF(AND(AE46<>"",AF46<>""),SUM(AE46:AF46),"") | AL46: =IF(AND(AJ46<>"",AK46<>""),SUM(AJ46:AK46),"") | AO46: =IF(AND(AM46<>"",AN46<>""),SUM(AM46:AN46),"") | AT46: =IF(AND(AR46<>"",AS46<>""),SUM(AR46:AS46),"") | AW46: =IF(AND(AU46<>"",AV46<>""),SUM(AU46:AV46),"") | BB46: =IF(AND(AZ46<>"",BA46<>""),SUM(AZ46:BA46),"") | BE46: =IF(AND(BC46<>"",BD46<>""),SUM(BC46:BD46),"")
A47: 愛知県 | B47: 23342 | C47: 豊山町 | D47: =SUM(L47,T47,AB47,AJ47,AR47,AZ47) -> 0 | E47: =SUM(M47,U47,AC47,AK47,AS47,BA47) -> 79081 | F47: =SUM(D47:E47) -> 79081 | G47: =SUM(O47,W47,AE47,AM47,AU47,BC47) -> 0 | H47: =SUM(P47,X47,AF47,AN47,AV47,BD47) -> 42189 | I47: =SUM(G47:H47) -> 42189 | J47: 23874 | K47: 北名古屋衛生組合 | L47: 0 | M47: 79081 | N47: =IF(AND(L47<>"",M47<>""),SUM(L47:M47),"") -> 79081 | O47: 0 | P47: 42189 | Q47: =IF(AND(O47<>"",P47<>""),SUM(O47:P47),"") -> 42189 | V47: =IF(AND(T47<>"",U47<>""),SUM(T47:U47),"") | Y47: =IF(AND(W47<>"",X47<>""),SUM(W47:X47),"") | AD47: =IF(AND(AB47<>"",AC47<>""),SUM(AB47:AC47),"") | AG47: =IF(AND(AE47<>"",AF47<>""),SUM(AE47:AF47),"") | AL47: =IF(AND(AJ47<>"",AK47<>""),SUM(AJ47:AK47),"") | AO47: =IF(AND(AM47<>"",AN47<>""),SUM(AM47:AN47),"") | AT47: =IF(AND(AR47<>"",AS47<>""),SUM(AR47:AS47),"") | AW47: =IF(AND(AU47<>"",AV47<>""),SUM(AU47:AV47),"") | BB47: =IF(AND(AZ47<>"",BA47<>""),SUM(AZ47:BA47),"") | BE47: =IF(AND(BC47<>"",BD47<>""),SUM(BC47:BD47),"")
A48: 愛知県 | B48: 23361 | C48: 大口町 | D48: =SUM(L48,T48,AB48,AJ48,AR48,AZ48) -> 10053 | E48: =SUM(M48,U48,AC48,AK48,AS48,BA48) -> 143037 | F48: =SUM(D48:E48) -> 153090 | G48: =SUM(O48,W48,AE48,AM48,AU48,BC48) -> 0 | H48: =SUM(P48,X48,AF48,AN48,AV48,BD48) -> 18842 | I48: =SUM(G48:H48) -> 18842 | J48: 23859 | K48: 江南丹羽環境管理組合 | L48: 0 | M48: 143037 | N48: =IF(AND(L48<>"",M48<>""),SUM(L48:M48),"") -> 143037 | O48: 0 | P48: 0 | Q48: =IF(AND(O48<>"",P48<>""),SUM(O48:P48),"") -> 0 | R48: 23833 | S48: 愛北広域事務組合 | T48: 0 | U48: 0 | V48: =IF(AND(T48<>"",U48<>""),SUM(T48:U48),"") -> 0 | W48: 0 | X48: 18842 | Y48: =IF(AND(W48<>"",X48<>""),SUM(W48:X48),"") -> 18842 | Z48: 23934 | AA48: 尾張北部環境組合 | AB48: 10053 | AC48: 0 | AD48: =IF(AND(AB48<>"",AC48<>""),SUM(AB48:AC48),"") -> 10053 | AE48: 0 | AF48: 0 | AG48: =IF(AND(AE48<>"",AF48<>""),SUM(AE48:AF48),"") -> 0 | AL48: =IF(AND(AJ48<>"",AK48<>""),SUM(AJ48:AK48),"") | AO48: =IF(AND(AM48<>"",AN48<>""),SUM(AM48:AN48),"") | AT48: =IF(AND(AR48<>"",AS48<>""),SUM(AR48:AS48),"") | AW48: =IF(AND(AU48<>"",AV48<>""),SUM(AU48:AV48),"") | BB48: =IF(AND(AZ48<>"",BA48<>""),SUM(AZ48:BA48),"") | BE48: =IF(AND(BC48<>"",BD48<>""),SUM(BC48:BD48),"")
A49: 愛知県 | B49: 23362 | C49: 扶桑町 | D49: =SUM(L49,T49,AB49,AJ49,AR49,AZ49) -> 13134 | E49: =SUM(M49,U49,AC49,AK49,AS49,BA49) -> 198728 | F49: =SUM(D49:E49) -> 211862 | G49: =SUM(O49,W49,AE49,AM49,AU49,BC49) -> 0 | H49: =SUM(P49,X49,AF49,AN49,AV49,BD49) -> 57654 | I49: =SUM(G49:H49) -> 57654 | J49: 23833 | K49: 愛北広域事務組合 | L49: 0 | M49: 0 | N49: =IF(AND(L49<>"",M49<>""),SUM(L49:M49),"") -> 0 | O49: 0 | P49: 57654 | Q49: =IF(AND(O49<>"",P49<>""),SUM(O49:P49),"") -> 57654 | R49: 23859 | S49: 江南丹羽環境管理組合 | T49: 0 | U49: 198728 | V49: =IF(AND(T49<>"",U49<>""),SUM(T49:U49),"") -> 198728 | W49: 0 | X49: 0 | Y49: =IF(AND(W49<>"",X49<>""),SUM(W49:X49),"") -> 0 | Z49: 23934 | AA49: 尾張北部環境組合 | AB49: 13134 | AC49: 0 | AD49: =IF(AND(AB49<>"",AC49<>""),SUM(AB49:AC49),"") -> 13134 | AE49: 0 | AF49: 0 | AG49: =IF(AND(AE49<>"",AF49<>""),SUM(AE49:AF49),"") -> 0 | AL49: =IF(AND(AJ49<>"",AK49<>""),SUM(AJ49:AK49),"") | AO49: =IF(AND(AM49<>"",AN49<>""),SUM(AM49:AN49),"") | AT49: =IF(AND(AR49<>"",AS49<>""),SUM(AR49:AS49),"") | AW49: =IF(AND(AU49<>"",AV49<>""),SUM(AU49:AV49),"") | BB49: =IF(AND(AZ49<>"",BA49<>""),SUM(AZ49:BA49),"") | BE49: =IF(AND(BC49<>"",BD49<>""),SUM(BC49:BD49),"")
A50: 愛知県 | B50: 23424 | C50: 大治町 | D50: =SUM(L50,T50,AB50,AJ50,AR50,AZ50) -> 0 | E50: =SUM(M50,U50,AC50,AK50,AS50,BA50) -> 151010 | F50: =SUM(D50:E50) -> 151010 | G50: =SUM(O50,W50,AE50,AM50,AU50,BC50) -> 0 | H50: =SUM(P50,X50,AF50,AN50,AV50,BD50) -> 42445 | I50: =SUM(G50:H50) -> 42445 | J50: 23849 | K50: 海部地区環境事務組合 | L50: 0 | M50: 151010 | N50: =IF(AND(L50<>"",M50<>""),SUM(L50:M50),"") -> 151010 | O50: 0 | P50: 42445 | Q50: =IF(AND(O50<>"",P50<>""),SUM(O50:P50),"") -> 42445 | V50: =IF(AND(T50<>"",U50<>""),SUM(T50:U50),"") | Y50: =IF(AND(W50<>"",X50<>""),SUM(W50:X50),"") | AD50: =IF(AND(AB50<>"",AC50<>""),SUM(AB50:AC50),"") | AG50: =IF(AND(AE50<>"",AF50<>""),SUM(AE50:AF50),"") | AL50: =IF(AND(AJ50<>"",AK50<>""),SUM(AJ50:AK50),"") | AO50: =IF(AND(AM50<>"",AN50<>""),SUM(AM50:AN50),"") | AT50: =IF(AND(AR50<>"",AS50<>""),SUM(AR50:AS50),"") | AW50: =IF(AND(AU50<>"",AV50<>""),SUM(AU50:AV50),"") | BB50: =IF(AND(AZ50<>"",BA50<>""),SUM(AZ50:BA50),"") | BE50: =IF(AND(BC50<>"",BD50<>""),SUM(BC50:BD50),"")
A51: 愛知県 | B51: 23425 | C51: 蟹江町 | D51: =SUM(L51,T51,AB51,AJ51,AR51,AZ51) -> 0 | E51: =SUM(M51,U51,AC51,AK51,AS51,BA51) -> 167939 | F51: =SUM(D51:E51) -> 167939 | G51: =SUM(O51,W51,AE51,AM51,AU51,BC51) -> 0 | H51: =SUM(P51,X51,AF51,AN51,AV51,BD51) -> 37412 | I51: =SUM(G51:H51) -> 37412 | J51: 23849 | K51: 海部地区環境事務組合 | L51: 0 | M51: 167939 | N51: =IF(AND(L51<>"",M51<>""),SUM(L51:M51),"") -> 167939 | O51: 0 | P51: 37412 | Q51: =IF(AND(O51<>"",P51<>""),SUM(O51:P51),"") -> 37412 | V51: =IF(AND(T51<>"",U51<>""),SUM(T51:U51),"") | Y51: =IF(AND(W51<>"",X51<>""),SUM(W51:X51),"") | AD51: =IF(AND(AB51<>"",AC51<>""),SUM(AB51:AC51),"") | AG51: =IF(AND(AE51<>"",AF51<>""),SUM(AE51:AF51),"") | AL51: =IF(AND(AJ51<>"",AK51<>""),SUM(AJ51:AK51),"") | AO51: =IF(AND(AM51<>"",AN51<>""),SUM(AM51:AN51),"") | AT51: =IF(AND(AR51<>"",AS51<>""),SUM(AR51:AS51),"") | AW51: =IF(AND(AU51<>"",AV51<>""),SUM(AU51:AV51),"") | BB51: =IF(AND(AZ51<>"",BA51<>""),SUM(AZ51:BA51),"") | BE51: =IF(AND(BC51<>"",BD51<>""),SUM(BC51:BD51),"")
A52: 愛知県 | B52: 23427 | C52: 飛島村 | D52: =SUM(L52,T52,AB52,AJ52,AR52,AZ52) -> 0 | E52: =SUM(M52,U52,AC52,AK52,AS52,BA52) -> 35136 | F52: =SUM(D52:E52) -> 35136 | G52: =SUM(O52,W52,AE52,AM52,AU52,BC52) -> 0 | H52: =SUM(P52,X52,AF52,AN52,AV52,BD52) -> 19735 | I52: =SUM(G52:H52) -> 19735 | J52: 23849 | K52: 海部地区環境事務組合 | L52: 0 | M52: 35136 | N52: =IF(AND(L52<>"",M52<>""),SUM(L52:M52),"") -> 35136 | O52: 0 | P52: 19735 | Q52: =IF(AND(O52<>"",P52<>""),SUM(O52:P52),"") -> 19735 | V52: =IF(AND(T52<>"",U52<>""),SUM(T52:U52),"") | Y52: =IF(AND(W52<>"",X52<>""),SUM(W52:X52),"") | AD52: =IF(AND(AB52<>"",AC52<>""),SUM(AB52:AC52),"") | AG52: =IF(AND(AE52<>"",AF52<>""),SUM(AE52:AF52),"") | AL52: =IF(AND(AJ52<>"",AK52<>""),SUM(AJ52:AK52),"") | AO52: =IF(AND(AM52<>"",AN52<>""),SUM(AM52:AN52),"") | AT52: =IF(AND(AR52<>"",AS52<>""),SUM(AR52:AS52),"") | AW52: =IF(AND(AU52<>"",AV52<>""),SUM(AU52:AV52),"") | BB52: =IF(AND(AZ52<>"",BA52<>""),SUM(AZ52:BA52),"") | BE52: =IF(AND(BC52<>"",BD52<>""),SUM(BC52:BD52),"")
A53: 愛知県 | B53: 23441 | C53: 阿久比町 | D53: =SUM(L53,T53,AB53,AJ53,AR53,AZ53) -> 0 | E53: =SUM(M53,U53,AC53,AK53,AS53,BA53) -> 134000 | F53: =SUM(D53:E53) -> 134000 | G53: =SUM(O53,W53,AE53,AM53,AU53,BC53) -> 0 | H53: =SUM(P53,X53,AF53,AN53,AV53,BD53) -> 14668 | I53: =SUM(G53:H53) -> 14668 | J53: 23837 | K53: 東部知多衛生組合 | L53: 0 | M53: 134000 | N53: =IF(AND(L53<>"",M53<>""),SUM(L53:M53),"") -> 134000 | O53: 0 | P53: 14668 | Q53: =IF(AND(O53<>"",P53<>""),SUM(O53:P53),"") -> 14668 | V53: =IF(AND(T53<>"",U53<>""),SUM(T53:U53),"") | Y53: =IF(AND(W53<>"",X53<>""),SUM(W53:X53),"") | AD53: =IF(AND(AB53<>"",AC53<>""),SUM(AB53:AC53),"") | AG53: =IF(AND(AE53<>"",AF53<>""),SUM(AE53:AF53),"") | AL53: =IF(AND(AJ53<>"",AK53<>""),SUM(AJ53:AK53),"") | AO53: =IF(AND(AM53<>"",AN53<>""),SUM(AM53:AN53),"") | AT53: =IF(AND(AR53<>"",AS53<>""),SUM(AR53:AS53),"") | AW53: =IF(AND(AU53<>"",AV53<>""),SUM(AU53:AV53),"") | BB53: =IF(AND(AZ53<>"",BA53<>""),SUM(AZ53:BA53),"") | BE53: =IF(AND(BC53<>"",BD53<>""),SUM(BC53:BD53),"")
A54: 愛知県 | B54: 23442 | C54: 東浦町 | D54: =SUM(L54,T54,AB54,AJ54,AR54,AZ54) -> 0 | E54: =SUM(M54,U54,AC54,AK54,AS54,BA54) -> 216918 | F54: =SUM(D54:E54) -> 216918 | G54: =SUM(O54,W54,AE54,AM54,AU54,BC54) -> 0 | H54: =SUM(P54,X54,AF54,AN54,AV54,BD54) -> 24729 | I54: =SUM(G54:H54) -> 24729 | J54: 23837 | K54: 東部知多衛生組合 | L54: 0 | M54: 216918 | N54: =IF(AND(L54<>"",M54<>""),SUM(L54:M54),"") -> 216918 | O54: 0 | P54: 24729 | Q54: =IF(AND(O54<>"",P54<>""),SUM(O54:P54),"") -> 24729 | V54: =IF(AND(T54<>"",U54<>""),SUM(T54:U54),"") | Y54: =IF(AND(W54<>"",X54<>""),SUM(W54:X54),"") | AD54: =IF(AND(AB54<>"",AC54<>""),SUM(AB54:AC54),"") | AG54: =IF(AND(AE54<>"",AF54<>""),SUM(AE54:AF54),"") | AL54: =IF(AND(AJ54<>"",AK54<>""),SUM(AJ54:AK54),"") | AO54: =IF(AND(AM54<>"",AN54<>""),SUM(AM54:AN54),"") | AT54: =IF(AND(AR54<>"",AS54<>""),SUM(AR54:AS54),"") | AW54: =IF(AND(AU54<>"",AV54<>""),SUM(AU54:AV54),"") | BB54: =IF(AND(AZ54<>"",BA54<>""),SUM(AZ54:BA54),"") | BE54: =IF(AND(BC54<>"",BD54<>""),SUM(BC54:BD54),"")
A55: 愛知県 | B55: 23445 | C55: 南知多町 | D55: =SUM(L55,T55,AB55,AJ55,AR55,AZ55) -> 65730 | E55: =SUM(M55,U55,AC55,AK55,AS55,BA55) -> 212134 | F55: =SUM(D55:E55) -> 277864 | G55: =SUM(O55,W55,AE55,AM55,AU55,BC55) -> 0 | H55: =SUM(P55,X55,AF55,AN55,AV55,BD55) -> 73819 | I55: =SUM(G55:H55) -> 73819 | J55: 23853 | K55: 知多南部衛生組合 | L55: 65644 | M55: 172198 | N55: =IF(AND(L55<>"",M55<>""),SUM(L55:M55),"") -> 237842 | O55: 0 | P55: 73819 | Q55: =IF(AND(O55<>"",P55<>""),SUM(O55:P55),"") -> 73819 | R55: 23932 | S55: 知多南部広域環境組合 | T55: 86 | U55: 39936 | V55: =IF(AND(T55<>"",U55<>""),SUM(T55:U55),"") -> 40022 | W55: 0 | X55: 0 | Y55: =IF(AND(W55<>"",X55<>""),SUM(W55:X55),"") -> 0 | AD55: =IF(AND(AB55<>"",AC55<>""),SUM(AB55:AC55),"") | AG55: =IF(AND(AE55<>"",AF55<>""),SUM(AE55:AF55),"") | AL55: =IF(AND(AJ55<>"",AK55<>""),SUM(AJ55:AK55),"") | AO55: =IF(AND(AM55<>"",AN55<>""),SUM(AM55:AN55),"") | AT55: =IF(AND(AR55<>"",AS55<>""),SUM(AR55:AS55),"") | AW55: =IF(AND(AU55<>"",AV55<>""),SUM(AU55:AV55),"") | BB55: =IF(AND(AZ55<>"",BA55<>""),SUM(AZ55:BA55),"") | BE55: =IF(AND(BC55<>"",BD55<>""),SUM(BC55:BD55),"")
A56: 愛知県 | B56: 23446 | C56: 美浜町 | D56: =SUM(L56,T56,AB56,AJ56,AR56,AZ56) -> 57409 | E56: =SUM(M56,U56,AC56,AK56,AS56,BA56) -> 196832 | F56: =SUM(D56:E56) -> 254241 | G56: =SUM(O56,W56,AE56,AM56,AU56,BC56) -> 0 | H56: =SUM(P56,X56,AF56,AN56,AV56,BD56) -> 76230 | I56: =SUM(G56:H56) -> 76230 | J56: 23853 | K56: 知多南部衛生組合 | L56: 57306 | M56: 150099 | N56: =IF(AND(L56<>"",M56<>""),SUM(L56:M56),"") -> 207405 | O56: 0 | P56: 76230 | Q56: =IF(AND(O56<>"",P56<>""),SUM(O56:P56),"") -> 76230 | R56: 23932 | S56: 知多南部広域環境組合 | T56: 103 | U56: 46733 | V56: =IF(AND(T56<>"",U56<>""),SUM(T56:U56),"") -> 46836 | W56: 0 | X56: 0 | Y56: =IF(AND(W56<>"",X56<>""),SUM(W56:X56),"") -> 0 | AD56: =IF(AND(AB56<>"",AC56<>""),SUM(AB56:AC56),"") | AG56: =IF(AND(AE56<>"",AF56<>""),SUM(AE56:AF56),"") | AL56: =IF(AND(AJ56<>"",AK56<>""),SUM(AJ56:AK56),"") | AO56: =IF(AND(AM56<>"",AN56<>""),SUM(AM56:AN56),"") | AT56: =IF(AND(AR56<>"",AS56<>""),SUM(AR56:AS56),"") | AW56: =IF(AND(AU56<>"",AV56<>""),SUM(AU56:AV56),"") | BB56: =IF(AND(AZ56<>"",BA56<>""),SUM(AZ56:BA56),"") | BE56: =IF(AND(BC56<>"",BD56<>""),SUM(BC56:BD56),"")
A57: 愛知県 | B57: 23447 | C57: 武豊町 | D57: =SUM(L57,T57,AB57,AJ57,AR57,AZ57) -> 38055 | E57: =SUM(M57,U57,AC57,AK57,AS57,BA57) -> 64064 | F57: =SUM(D57:E57) -> 102119 | G57: =SUM(O57,W57,AE57,AM57,AU57,BC57) -> 0 | H57: =SUM(P57,X57,AF57,AN57,AV57,BD57) -> 49684 | I57: =SUM(G57:H57) -> 49684 | J57: 23841 | K57: 常滑武豊衛生組合 | L57: 37869 | M57: 0 | N57: =IF(AND(L57<>"",M57<>""),SUM(L57:M57),"") -> 37869 | O57: 0 | P57: 0 | Q57: =IF(AND(O57<>"",P57<>""),SUM(O57:P57),"") -> 0 | R57: 23835 | S57: 中部知多衛生組合 | T57: 0 | U57: 0 | V57: =IF(AND(T57<>"",U57<>""),SUM(T57:U57),"") -> 0 | W57: 0 | X57: 49684 | Y57: =IF(AND(W57<>"",X57<>""),SUM(W57:X57),"") -> 49684 | Z57: 23932 | AA57: 知多南部広域環境組合 | AB57: 186 | AC57: 64064 | AD57: =IF(AND(AB57<>"",AC57<>""),SUM(AB57:AC57),"") -> 64250 | AE57: 0 | AF57: 0 | AG57: =IF(AND(AE57<>"",AF57<>""),SUM(AE57:AF57),"") -> 0 | AL57: =IF(AND(AJ57<>"",AK57<>""),SUM(AJ57:AK57),"") | AO57: =IF(AND(AM57<>"",AN57<>""),SUM(AM57:AN57),"") | AT57: =IF(AND(AR57<>"",AS57<>""),SUM(AR57:AS57),"") | AW57: =IF(AND(AU57<>"",AV57<>""),SUM(AU57:AV57),"") | BB57: =IF(AND(AZ57<>"",BA57<>""),SUM(AZ57:BA57),"") | BE57: =IF(AND(BC57<>"",BD57<>""),SUM(BC57:BD57),"")
A58: 愛知県 | B58: 23501 | C58: 幸田町 | D58: =SUM(L58,T58,AB58,AJ58,AR58,AZ58) -> 0 | E58: =SUM(M58,U58,AC58,AK58,AS58,BA58) -> 0 | F58: =SUM(D58:E58) -> 0 | G58: =SUM(O58,W58,AE58,AM58,AU58,BC58) -> 0 | H58: =SUM(P58,X58,AF58,AN58,AV58,BD58) -> 41723 | I58: =SUM(G58:H58) -> 41723 | J58: 23842 | K58: 蒲郡市幸田町衛生組合 | L58: 0 | M58: 0 | N58: =IF(AND(L58<>"",M58<>""),SUM(L58:M58),"") -> 0 | O58: 0 | P58: 41723 | Q58: =IF(AND(O58<>"",P58<>""),SUM(O58:P58),"") -> 41723 | V58: =IF(AND(T58<>"",U58<>""),SUM(T58:U58),"") | Y58: =IF(AND(W58<>"",X58<>""),SUM(W58:X58),"") | AD58: =IF(AND(AB58<>"",AC58<>""),SUM(AB58:AC58),"") | AG58: =IF(AND(AE58<>"",AF58<>""),SUM(AE58:AF58),"") | AL58: =IF(AND(AJ58<>"",AK58<>""),SUM(AJ58:AK58),"") | AO58: =IF(AND(AM58<>"",AN58<>""),SUM(AM58:AN58),"") | AT58: =IF(AND(AR58<>"",AS58<>""),SUM(AR58:AS58),"") | AW58: =IF(AND(AU58<>"",AV58<>""),SUM(AU58:AV58),"") | BB58: =IF(AND(AZ58<>"",BA58<>""),SUM(AZ58:BA58),"") | BE58: =IF(AND(BC58<>"",BD58<>""),SUM(BC58:BD58),"")
A59: 愛知県 | B59: 23561 | C59: 設楽町 | D59: =SUM(L59,T59,AB59,AJ59,AR59,AZ59) -> 8918 | E59: =SUM(M59,U59,AC59,AK59,AS59,BA59) -> 103629 | F59: =SUM(D59:E59) -> 112547 | G59: =SUM(O59,W59,AE59,AM59,AU59,BC59) -> 6111 | H59: =SUM(P59,X59,AF59,AN59,AV59,BD59) -> 32925 | I59: =SUM(G59:H59) -> 39036 | J59: 23869 | K59: 北設広域事務組合 | L59: 8918 | M59: 103629 | N59: =IF(AND(L59<>"",M59<>""),SUM(L59:M59),"") -> 112547 | O59: 6111 | P59: 32925 | Q59: =IF(AND(O59<>"",P59<>""),SUM(O59:P59),"") -> 39036 | V59: =IF(AND(T59<>"",U59<>""),SUM(T59:U59),"") | Y59: =IF(AND(W59<>"",X59<>""),SUM(W59:X59),"") | AD59: =IF(AND(AB59<>"",AC59<>""),SUM(AB59:AC59),"") | AG59: =IF(AND(AE59<>"",AF59<>""),SUM(AE59:AF59),"") | AL59: =IF(AND(AJ59<>"",AK59<>""),SUM(AJ59:AK59),"") | AO59: =IF(AND(AM59<>"",AN59<>""),SUM(AM59:AN59),"") | AT59: =IF(AND(AR59<>"",AS59<>""),SUM(AR59:AS59),"") | AW59: =IF(AND(AU59<>"",AV59<>""),SUM(AU59:AV59),"") | BB59: =IF(AND(AZ59<>"",BA59<>""),SUM(AZ59:BA59),"") | BE59: =IF(AND(BC59<>"",BD59<>""),SUM(BC59:BD59),"")
A60: 愛知県 | B60: 23562 | C60: 東栄町 | D60: =SUM(L60,T60,AB60,AJ60,AR60,AZ60) -> 5143 | E60: =SUM(M60,U60,AC60,AK60,AS60,BA60) -> 59755 | F60: =SUM(D60:E60) -> 64898 | G60: =SUM(O60,W60,AE60,AM60,AU60,BC60) -> 1557 | H60: =SUM(P60,X60,AF60,AN60,AV60,BD60) -> 8389 | I60: =SUM(G60:H60) -> 9946 | J60: 23869 | K60: 北設広域事務組合 | L60: 5143 | M60: 59755 | N60: =IF(AND(L60<>"",M60<>""),SUM(L60:M60),"") -> 64898 | O60: 1557 | P60: 8389 | Q60: =IF(AND(O60<>"",P60<>""),SUM(O60:P60),"") -> 9946 | V60: =IF(AND(T60<>"",U60<>""),SUM(T60:U60),"") | Y60: =IF(AND(W60<>"",X60<>""),SUM(W60:X60),"") | AD60: =IF(AND(AB60<>"",AC60<>""),SUM(AB60:AC60),"") | AG60: =IF(AND(AE60<>"",AF60<>""),SUM(AE60:AF60),"") | AL60: =IF(AND(AJ60<>"",AK60<>""),SUM(AJ60:AK60),"") | AO60: =IF(AND(AM60<>"",AN60<>""),SUM(AM60:AN60),"") | AT60: =IF(AND(AR60<>"",AS60<>""),SUM(AR60:AS60),"") | AW60: =IF(AND(AU60<>"",AV60<>""),SUM(AU60:AV60),"") | BB60: =IF(AND(AZ60<>"",BA60<>""),SUM(AZ60:BA60),"") | BE60: =IF(AND(BC60<>"",BD60<>""),SUM(BC60:BD60),"")
A61: 愛知県 | B61: 23563 | C61: 豊根村 | D61: =SUM(L61,T61,AB61,AJ61,AR61,AZ61) -> 2009 | E61: =SUM(M61,U61,AC61,AK61,AS61,BA61) -> 23342 | F61: =SUM(D61:E61) -> 25351 | G61: =SUM(O61,W61,AE61,AM61,AU61,BC61) -> 1844 | H61: =SUM(P61,X61,AF61,AN61,AV61,BD61) -> 9933 | I61: =SUM(G61:H61) -> 11777 | J61: 23869 | K61: 北設広域事務組合 | L61: 2009 | M61: 23342 | N61: =IF(AND(L61<>"",M61<>""),SUM(L61:M61),"") -> 25351 | O61: 1844 | P61: 9933 | Q61: =IF(AND(O61<>"",P61<>""),SUM(O61:P61),"") -> 11777 | V61: =IF(AND(T61<>"",U61<>""),SUM(T61:U61),"") | Y61: =IF(AND(W61<>"",X61<>""),SUM(W61:X61),"") | AD61: =IF(AND(AB61<>"",AC61<>""),SUM(AB61:AC61),"") | AG61: =IF(AND(AE61<>"",AF61<>""),SUM(AE61:AF61),"") | AL61: =IF(AND(AJ61<>"",AK61<>""),SUM(AJ61:AK61),"") | AO61: =IF(AND(AM61<>"",AN61<>""),SUM(AM61:AN61),"") | AT61: =IF(AND(AR61<>"",AS61<>""),SUM(AR61:AS61),"") | AW61: =IF(AND(AU61<>"",AV61<>""),SUM(AU61:AV61),"") | BB61: =IF(AND(AZ61<>"",BA61<>""),SUM(AZ61:BA61),"") | BE61: =IF(AND(BC61<>"",BD61<>""),SUM(BC61:BD61),"")

Sheet 市町村分担金内訳
A1: 廃棄物処理事業経費【市区町村分担金の合計】（令和4年度実績）
A2: 都道府県名 | B2: 地方公共団体コード | C2: 一部事務組合・広域連合名 | D2: 合計（構成市区町村1+～+構成市区町村30） | F2: 構成市区町村1 | J2: 構成市区町村2 | N2: 構成市区町村3 | R2: 構成市区町村4 | V2: 構成市区町村5 | Z2: 構成市区町村6 | AD2: 構成市区町村7 | AH2: 構成市区町村8 | AL2: 構成市区町村9 | AP2: 構成市区町村10 | AT2: 構成市区町村11 | AX2: 構成市区町村12 | BB2: 構成市区町村13 | BF2: 構成市区町村14 | BJ2: 構成市区町村15 | BN2: 構成市区町村16 | BR2: 構成市区町村17 | BV2: 構成市区町村18 | BZ2: 構成市区町村19 | CD2: 構成市区町村20 | CH2: 構成市区町村21 | CL2: 構成市区町村22 | CP2: 構成市区町村23 | CT2: 構成市区町村24 | CX2: 構成市区町村25 | DB2: 構成市区町村26 | DF2: 構成市区町村27 | DJ2: 構成市区町村28 | DN2: 構成市区町村29 | DR2: 構成市区町村30
D4: ごみ | E4: し尿 | F4: 市区町村 コード | G4: 市区町村名 | H4: ごみ | I4: し尿 | J4: 市区町村 コード | K4: 市区町村名 | L4: ごみ | M4: し尿 | N4: 市区町村 コード | O4: 市区町村名 | P4: ごみ | Q4: し尿 | R4: 市区町村 コード | S4: 市区町村名 | T4: ごみ | U4: し尿 | V4: 市区町村 コード | W4: 市区町村名 | X4: ごみ | Y4: し尿 | Z4: 市区町村 コード | AA4: 市区町村名 | AB4: ごみ | AC4: し尿 | AD4: 市区町村 コード | AE4: 市区町村名 | AF4: ごみ | AG4: し尿 | AH4: 市区町村 コード | AI4: 市区町村名 | AJ4: ごみ | AK4: し尿 | AL4: 市区町村 コード | AM4: 市区町村名 | AN4: ごみ | AO4: し尿 | AP4: 市区町村 コード | AQ4: 市区町村名 | AR4: ごみ | AS4: し尿 | AT4: 市区町村 コード | AU4: 市区町村名 | AV4: ごみ | AW4: し尿 | AX4: 市区町村 コード | AY4: 市区町村名 | AZ4: ごみ | BA4: し尿 | BB4: 市区町村 コード | BC4: 市区町村名 | BD4: ごみ | BE4: し尿 | BF4: 市区町村 コード | BG4: 市区町村名 | BH4: ごみ | BI4: し尿 | BJ4: 市区町村 コード | BK4: 市区町村名 | BL4: ごみ | BM4: し尿 | BN4: 市区町村 コード | BO4: 市区町村名 | BP4: ごみ | BQ4: し尿 | BR4: 市区町村 コード | BS4: 市区町村名 | BT4: ごみ | BU4: し尿 | BV4: 市区町村 コード | BW4: 市区町村名 | BX4: ごみ | BY4: し尿 | BZ4: 市区町村 コード | CA4: 市区町村名 | CB4: ごみ | CC4: し尿 | CD4: 市区町村 コード | CE4: 市区町村名 | CF4: ごみ | CG4: し尿 | CH4: 市区町村 コード | CI4: 市区町村名 | CJ4: ごみ | CK4: し尿 | CL4: 市区町村 コード | CM4: 市区町村名 | CN4: ごみ | CO4: し尿 | CP4: 市区町村 コード | CQ4: 市区町村名 | CR4: ごみ | CS4: し尿 | CT4: 市区町村 コード | CU4: 市区町村名 | CV4: ごみ | CW4: し尿 | CX4: 市区町村 コード | CY4: 市区町村名 | CZ4: ごみ | DA4: し尿 | DB4: 市区町村 コード | DC4: 市区町村名 | DD4: ごみ | DE4: し尿 | DF4: 市区町村 コード | DG4: 市区町村名 | DH4: ごみ | DI4: し尿 | DJ4: 市区町村 コード | DK4: 市区町村名 | DL4: ごみ | DM4: し尿 | DN4: 市区町村 コード | DO4: 市区町村名 | DP4: ごみ | DQ4: し尿 | DR4: 市区町村 コード | DS4: 市区町村名 | DT4: ごみ | DU4: し尿
D6: （千円） | E6: （千円） | H6: （千円） | I6: （千円） | L6: （千円） | M6: （千円） | P6: （千円） | Q6: （千円） | T6: （千円） | U6: （千円） | X6: （千円） | Y6: （千円） | AB6: （千円） | AC6: （千円） | AF6: （千円） | AG6: （千円） | AJ6: （千円） | AK6: （千円） | AN6: （千円） | AO6: （千円） | AR6: （千円） | AS6: （千円） | AV6: （千円） | AW6: （千円） | AZ6: （千円） | BA6: （千円） | BD6: （千円） | BE6: （千円） | BH6: （千円） | BI6: （千円） | BL6: （千円） | BM6: （千円） | BP6: （千円） | BQ6: （千円） | BT6: （千円） | BU6: （千円） | BX6: （千円） | BY6: （千円） | CB6: （千円） | CC6: （千円） | CF6: （千円） | CG6: （千円） | CJ6: （千円） | CK6: （千円） | CN6: （千円） | CO6: （千円） | CR6: （千円） | CS6: （千円） | CV6: （千円） | CW6: （千円） | CZ6: （千円） | DA6: （千円） | DD6: （千円） | DE6: （千円） | DH6: （千円） | DI6: （千円） | DL6: （千円） | DM6: （千円） | DP6: （千円） | DQ6: （千円） | DT6: （千円） | DU6: （千円）
A7: ='廃棄物事業経費（市町村）'!A7 -> 愛知県 | B7: ='廃棄物事業経費（市町村）'!B7 -> 23000 | C7: 合計 | D7: =SUM(H7,L7,P7,T7,X7,AB7,AF7,AJ7,AN7,AR7,AV7,AZ7,BD7,BH7,BL7,BP7,BT7,BX7,CB7,CF7,CJ7,CN7,CR7,CV7,CZ7,DD7,DH7,DL7,DP7,DT7) -> 10188820 | E7: =SUM(I7,M7,Q7,U7,Y7,AC7,AG7,AK7,AO7,AS7,AW7,BA7,BE7,BI7,BM7,BQ7,BU7,BY7,CC7,CG7,CK7,CO7,CS7,CW7,DA7,DE7,DI7,DM7,DQ7,DU7) -> 2028271 | F7: =COUNTIF(F$8:F$57,"<>") -> 19 | G7: =COUNTIF(G$8:G$57,"<>") -> 19 | H7: =SUM(H$8:H$57) -> 5312823 | I7: =SUM(I$8:I$57) -> 936491 | J7: =COUNTIF(J$8:J$57,"<>") -> 19 | K7: =COUNTIF(K$8:K$57,"<>") -> 19 | L7: =SUM(L$8:L$57) -> 2984584 | M7: =SUM(M$8:M$57) -> 650499 | N7: =COUNTIF(N$8:N$57,"<>") -> 10 | O7: =COUNTIF(O$8:O$57,"<>") -> 10 | P7: =SUM(P$8:P$57) -> 960704 | Q7: =SUM(Q$8:Q$57) -> 179376 | R7: =COUNTIF(R$8:R$57,"<>") -> 6 | S7: =COUNTIF(S$8:S$57,"<>") -> 6 | T7: =SUM(T$8:T$57) -> 512374 | U7: =SUM(U$8:U$57) -> 104659 | V7: =COUNTIF(V$8:V$57,"<>") -> 3 | W7: =COUNTIF(W$8:W$57,"<>") -> 3 | X7: =SUM(X$8:X$57) -> 215260 | Y7: =SUM(Y$8:Y$57) -> 100099 | Z7: =COUNTIF(Z$8:Z$57,"<>") -> 1 | AA7: =COUNTIF(AA$8:AA$57,"<>") -> 1 | AB7: =SUM(AB$8:AB$57) -> 167939 | AC7: =SUM(AC$8:AC$57) -> 37412 | AD7: =COUNTIF(AD$8:AD$57,"<>") -> 1 | AE7: =COUNTIF(AE$8:AE$57,"<>") -> 1 | AF7: =SUM(AF$8:AF$57) -> 35136 | AG7: =SUM(AG$8:AG$57) -> 19735 | AH7: =COUNTIF(AH$8:AH$57,"<>") -> 0 | AI7: =COUNTIF(AI$8:AI$57,"<>") -> 0 | AJ7: =SUM(AJ$8:AJ$57) -> 0 | AK7: =SUM(AK$8:AK$57) -> 0 | AL7: =COUNTIF(AL$8:AL$57,"<>") -> 0 | AM7: =COUNTIF(AM$8:AM$57,"<>") -> 0 | AN7: =SUM(AN$8:AN$57) -> 0 | AO7: =SUM(AO$8:AO$57) -> 0 | AP7: =COUNTIF(AP$8:AP$57,"<>") -> 0 | AQ7: =COUNTIF(AQ$8:AQ$57,"<>") -> 0 | AR7: =SUM(AR$8:AR$57) -> 0 | AS7: =SUM(AS$8:AS$57) -> 0 | AT7: =COUNTIF(AT$8:AT$57,"<>") -> 0 | AU7: =COUNTIF(AU$8:AU$57,"<>") -> 0 | AV7: =SUM(AV$8:AV$57) -> 0 | AW7: =SUM(AW$8:AW$57) -> 0 | AX7: =COUNTIF(AX$8:AX$57,"<>") -> 0 | AY7: =COUNTIF(AY$8:AY$57,"<>") -> 0 | AZ7: =SUM(AZ$8:AZ$57) -> 0 | BA7: =SUM(BA$8:BA$57) -> 0 | BB7: =COUNTIF(BB$8:BB$57,"<>") -> 0 | BC7: =COUNTIF(BC$8:BC$57,"<>") -> 0 | BD7: =SUM(BD$8:BD$57) -> 0 | BE7: =SUM(BE$8:BE$57) -> 0 | BF7: =COUNTIF(BF$8:BF$57,"<>") -> 0 | BG7: =COUNTIF(BG$8:BG$57,"<>") -> 0 | BH7: =SUM(BH$8:BH$57) -> 0 | BI7: =SUM(BI$8:BI$57) -> 0 | BJ7: =COUNTIF(BJ$8:BJ$57,"<>") -> 0 | BK7: =COUNTIF(BK$8:BK$57,"<>") -> 0 | BL7: =SUM(BL$8:BL$57) -> 0 | BM7: =SUM(BM$8:BM$57) -> 0 | BN7: =COUNTIF(BN$8:BN$57,"<>") -> 0 | BO7: =COUNTIF(BO$8:BO$57,"<>") -> 0 | BP7: =SUM(BP$8:BP$57) -> 0 | BQ7: =SUM(BQ$8:BQ$57) -> 0 | BR7: =COUNTIF(BR$8:BR$57,"<>") -> 0 | BS7: =COUNTIF(BS$8:BS$57,"<>") -> 0 | BT7: =SUM(BT$8:BT$57) -> 0 | BU7: =SUM(BU$8:BU$57) -> 0 | BV7: =COUNTIF(BV$8:BV$57,"<>") -> 0 | BW7: =COUNTIF(BW$8:BW$57,"<>") -> 0 | BX7: =SUM(BX$8:BX$57) -> 0 | BY7: =SUM(BY$8:BY$57) -> 0 | BZ7: =COUNTIF(BZ$8:BZ$57,"<>") -> 0 | CA7: =COUNTIF(CA$8:CA$57,"<>") -> 0 | CB7: =SUM(CB$8:CB$57) -> 0 | CC7: =SUM(CC$8:CC$57) -> 0 | CD7: =COUNTIF(CD$8:CD$57,"<>") -> 0 | CE7: =COUNTIF(CE$8:CE$57,"<>") -> 0 | CF7: =SUM(CF$8:CF$57) -> 0 | CG7: =SUM(CG$8:CG$57) -> 0 | CH7: =COUNTIF(CH$8:CH$57,"<>") -> 0 | CI7: =COUNTIF(CI$8:CI$57,"<>") -> 0 | CJ7: =SUM(CJ$8:CJ$57) -> 0 | CK7: =SUM(CK$8:CK$57) -> 0 | CL7: =COUNTIF(CL$8:CL$57,"<>") -> 0 | CM7: =COUNTIF(CM$8:CM$57,"<>") -> 0 | CN7: =SUM(CN$8:CN$57) -> 0 | CO7: =SUM(CO$8:CO$57) -> 0 | CP7: =COUNTIF(CP$8:CP$57,"<>") -> 0 | CQ7: =COUNTIF(CQ$8:CQ$57,"<>") -> 0 | CR7: =SUM(CR$8:CR$57) -> 0 | CS7: =SUM(CS$8:CS$57) -> 0 | CT7: =COUNTIF(CT$8:CT$57,"<>") -> 0 | CU7: =COUNTIF(CU$8:CU$57,"<>") -> 0 | CV7: =SUM(CV$8:CV$57) -> 0 | CW7: =SUM(CW$8:CW$57) -> 0 | CX7: =COUNTIF(CX$8:CX$57,"<>") -> 0 | CY7: =COUNTIF(CY$8:CY$57,"<>") -> 0 | CZ7: =SUM(CZ$8:CZ$57) -> 0 | DA7: =SUM(DA$8:DA$57) -> 0 | DB7: =COUNTIF(DB$8:DB$57,"<>") -> 0 | DC7: =COUNTIF(DC$8:DC$57,"<>") -> 0 | DD7: =SUM(DD$8:DD$57) -> 0 | DE7: =SUM(DE$8:DE$57) -> 0 | DF7: =COUNTIF(DF$8:DF$57,"<>") -> 0 | DG7: =COUNTIF(DG$8:DG$57,"<>") -> 0 | DH7: =SUM(DH$8:DH$57) -> 0 | DI7: =SUM(DI$8:DI$57) -> 0 | DJ7: =COUNTIF(DJ$8:DJ$57,"<>") -> 0 | DK7: =COUNTIF(DK$8:DK$57,"<>") -> 0 | DL7: =SUM(DL$8:DL$57) -> 0 | DM7: =SUM(DM$8:DM$57) -> 0 | DN7: =COUNTIF(DN$8:DN$57,"<>") -> 0 | DO7: =COUNTIF(DO$8:DO$57,"<>") -> 0 | DP7: =SUM(DP$8:DP$57) -> 0 | DQ7: =SUM(DQ$8:DQ$57) -> 0 | DR7: =COUNTIF(DR$8:DR$57,"<>") -> 0 | DS7: =COUNTIF(DS$8:DS$57,"<>") -> 0 | DT7: =SUM(DT$8:DT$57) -> 0 | DU7: =SUM(DU$8:DU$57) -> 0
A8: 愛知県 | B8: 23833 | C8: 愛北広域事務組合 | D8: =SUM(H8,L8,P8,T8,X8,AB8,AF8,AJ8,AN8,AR8,AV8,AZ8,BD8,BH8,BL8,BP8,BT8,BX8,CB8,CF8,CJ8,CN8,CR8,CV8,CZ8,DD8,DH8,DL8,DP8,DT8) -> 0 | E8: =SUM(I8,M8,Q8,U8,Y8,AC8,AG8,AK8,AO8,AS8,AW8,BA8,BE8,BI8,BM8,BQ8,BU8,BY8,CC8,CG8,CK8,CO8,CS8,CW8,DA8,DE8,DI8,DM8,DQ8,DU8) -> 333931 | F8: 23215 | G8: 犬山市 | H8: 0 | I8: 65442 | J8: 23217 | K8: 江南市 | L8: 0 | M8: 149670 | N8: 23228 | O8: 岩倉市 | P8: 0 | Q8: 42323 | R8: 23361 | S8: 大口町 | T8: 0 | U8: 18842 | V8: 23362 | W8: 扶桑町 | X8: 0 | Y8: 57654
A9: 愛知県 | B9: 23835 | C9: 中部知多衛生組合 | D9: =SUM(H9,L9,P9,T9,X9,AB9,AF9,AJ9,AN9,AR9,AV9,AZ9,BD9,BH9,BL9,BP9,BT9,BX9,CB9,CF9,CJ9,CN9,CR9,CV9,CZ9,DD9,DH9,DL9,DP9,DT9) -> 0 | E9: =SUM(I9,M9,Q9,U9,Y9,AC9,AG9,AK9,AO9,AS9,AW9,BA9,BE9,BI9,BM9,BQ9,BU9,BY9,CC9,CG9,CK9,CO9,CS9,CW9,DA9,DE9,DI9,DM9,DQ9,DU9) -> 246463 | F9: 23205 | G9: 半田市 | H9: 0 | I9: 85684 | J9: 23216 | K9: 常滑市 | L9: 0 | M9: 111095 | N9: 23447 | O9: 武豊町 | P9: 0 | Q9: 49684
A10: 愛知県 | B10: 23837 | C10: 東部知多衛生組合 | D10: =SUM(H10,L10,P10,T10,X10,AB10,AF10,AJ10,AN10,AR10,AV10,AZ10,BD10,BH10,BL10,BP10,BT10,BX10,CB10,CF10,CJ10,CN10,CR10,CV10,CZ10,DD10,DH10,DL10,DP10,DT10) -> 1066812 | E10: =SUM(I10,M10,Q10,U10,Y10,AC10,AG10,AK10,AO10,AS10,AW10,BA10,BE10,BI10,BM10,BQ10,BU10,BY10,CC10,CG10,CK10,CO10,CS10,CW10,DA10,DE10,DI10,DM10,DQ10,DU10) -> 92825 | F10: 23223 | G10: 大府市 | H10: 425224 | I10: 34677 | J10: 23229 | K10: 豊明市 | L10: 290670 | M10: 18751 | N10: 23441 | O10: 阿久比町 | P10: 134000 | Q10: 14668 | R10: 23442 | S10: 東浦町 | T10: 216918 | U10: 24729
A11: 愛知県 | B11: 23838 | C11: 衣浦衛生組合 | D11: =SUM(H11,L11,P11,T11,X11,AB11,AF11,AJ11,AN11,AR11,AV11,AZ11,BD11,BH11,BL11,BP11,BT11,BX11,CB11,CF11,CJ11,CN11,CR11,CV11,CZ11,DD11,DH11,DL11,DP11,DT11) -> 1280756 | E11: =SUM(I11,M11,Q11,U11,Y11,AC11,AG11,AK11,AO11,AS11,AW11,BA11,BE11,BI11,BM11,BQ11,BU11,BY11,CC11,CG11,CK11,CO11,CS11,CW11,DA11,DE11,DI11,DM11,DQ11,DU11) -> 0 | F11: 23209 | G11: 碧南市 | H11: 762000 | I11: 0 | J11: 23227 | K11: 高浜市 | L11: 518756 | M11: 0
A12: 愛知県 | B12: 23841 | C12: 常滑武豊衛生組合 | D12: =SUM(H12,L12,P12,T12,X12,AB12,AF12,AJ12,AN12,AR12,AV12,AZ12,BD12,BH12,BL12,BP12,BT12,BX12,CB12,CF12,CJ12,CN12,CR12,CV12,CZ12,DD12,DH12,DL12,DP12,DT12) -> 87490 | E12: =SUM(I12,M12,Q12,U12,Y12,AC12,AG12,AK12,AO12,AS12,AW12,BA12,BE12,BI12,BM12,BQ12,BU12,BY12,CC12,CG12,CK12,CO12,CS12,CW12,DA12,DE12,DI12,DM12,DQ12,DU12) -> 0 | F12: 23216 | G12: 常滑市 | H12: 49621 | I12: 0 | J12: 23447 | K12: 武豊町 | L12: 37869 | M12: 0
A13: 愛知県 | B13: 23842 | C13: 蒲郡市幸田町衛生組合 | D13: =SUM(H13,L13,P13,T13,X13,AB13,AF13,AJ13,AN13,AR13,AV13,AZ13,BD13,BH13,BL13,BP13,BT13,BX13,CB13,CF13,CJ13,CN13,CR13,CV13,CZ13,DD13,DH13,DL13,DP13,DT13) -> 0 | E13: =SUM(I13,M13,Q13,U13,Y13,AC13,AG13,AK13,AO13,AS13,AW13,BA13,BE13,BI13,BM13,BQ13,BU13,BY13,CC13,CG13,CK13,CO13,CS13,CW13,DA13,DE13,DI13,DM13,DQ13,DU13) -> 123807 | F13: 23214 | G13: 蒲郡市 | H13: 0 | I13: 82084 | J13: 23501 | K13: 幸田町 | L13: 0 | M13: 41723
A14: 愛知県 | B14: 23846 | C14: 西知多医療厚生組合 | D14: =SUM(H14,L14,P14,T14,X14,AB14,AF14,AJ14,AN14,AR14,AV14,AZ14,BD14,BH14,BL14,BP14,BT14,BX14,CB14,CF14,CJ14,CN14,CR14,CV14,CZ14,DD14,DH14,DL14,DP14,DT14) -> 17658 | E14: =SUM(I14,M14,Q14,U14,Y14,AC14,AG14,AK14,AO14,AS14,AW14,BA14,BE14,BI14,BM14,BQ14,BU14,BY14,CC14,CG14,CK14,CO14,CS14,CW14,DA14,DE14,DI14,DM14,DQ14,DU14) -> 223267 | F14: 23222 | G14: 東海市 | H14: 8829 | I14: 180243 | J14: 23224 | K14: 知多市 | L14: 8829 | M14: 43024
A15: 愛知県 | B15: 23848 | C15: 尾張東部衛生組合 | D15: =SUM(H15,L15,P15,T15,X15,AB15,AF15,AJ15,AN15,AR15,AV15,AZ15,BD15,BH15,BL15,BP15,BT15,BX15,CB15,CF15,CJ15,CN15,CR15,CV15,CZ15,DD15,DH15,DL15,DP15,DT15) -> 610296 | E15: =SUM(I15,M15,Q15,U15,Y15,AC15,AG15,AK15,AO15,AS15,AW15,BA15,BE15,BI15,BM15,BQ15,BU15,BY15,CC15,CG15,CK15,CO15,CS15,CW15,DA15,DE15,DI15,DM15,DQ15,DU15) -> 0 | F15: 23204 | G15: 瀬戸市 | H15: 295623 | I15: 0 | J15: 23226 | K15: 尾張旭市 | L15: 179124 | M15: 0 | N15: 23238 | O15: 長久手市 | P15: 135549 | Q15: 0
A16: 愛知県 | B16: 23849 | C16: 海部地区環境事務組合 | D16: =SUM(H16,L16,P16,T16,X16,AB16,AF16,AJ16,AN16,AR16,AV16,AZ16,BD16,BH16,BL16,BP16,BT16,BX16,CB16,CF16,CJ16,CN16,CR16,CV16,CZ16,DD16,DH16,DL16,DP16,DT16) -> 1326732 | E16: =SUM(I16,M16,Q16,U16,Y16,AC16,AG16,AK16,AO16,AS16,AW16,BA16,BE16,BI16,BM16,BQ16,BU16,BY16,CC16,CG16,CK16,CO16,CS16,CW16,DA16,DE16,DI16,DM16,DQ16,DU16) -> 347914 | F16: 23208 | G16: 津島市 | H16: 263982 | I16: 66661 | J16: 23232 | K16: 愛西市 | L16: 286377 | M16: 67049 | N16: 23235 | O16: 弥富市 | P16: 206111 | Q16: 60924 | R16: 23237 | S16: あま市 | T16: 216177 | U16: 53688 | V16: 23424 | W16: 大治町 | X16: 151010 | Y16: 42445 | Z16: 23425 | AA16: 蟹江町 | AB16: 167939 | AC16: 37412 | AD16: 23427 | AE16: 飛島村 | AF16: 35136 | AG16: 19735
A17: 愛知県 | B17: 23851 | C17: 小牧岩倉衛生組合 | D17: =SUM(H17,L17,P17,T17,X17,AB17,AF17,AJ17,AN17,AR17,AV17,AZ17,BD17,BH17,BL17,BP17,BT17,BX17,CB17,CF17,CJ17,CN17,CR17,CV17,CZ17,DD17,DH17,DL17,DP17,DT17) -> 1364044 | E17: =SUM(I17,M17,Q17,U17,Y17,AC17,AG17,AK17,AO17,AS17,AW17,BA17,BE17,BI17,BM17,BQ17,BU17,BY17,CC17,CG17,CK17,CO17,CS17,CW17,DA17,DE17,DI17,DM17,DQ17,DU17) -> 0 | F17: 23219 | G17: 小牧市 | H17: 996525 | I17: 0 | J17: 23228 | K17: 岩倉市 | L17: 367519 | M17: 0
A18: 愛知県 | B18: 23853 | C18: 知多南部衛生組合 | D18: =SUM(H18,L18,P18,T18,X18,AB18,AF18,AJ18,AN18,AR18,AV18,AZ18,BD18,BH18,BL18,BP18,BT18,BX18,CB18,CF18,CJ18,CN18,CR18,CV18,CZ18,DD18,DH18,DL18,DP18,DT18) -> 445247 | E18: =SUM(I18,M18,Q18,U18,Y18,AC18,AG18,AK18,AO18,AS18,AW18,BA18,BE18,BI18,BM18,BQ18,BU18,BY18,CC18,CG18,CK18,CO18,CS18,CW18,DA18,DE18,DI18,DM18,DQ18,DU18) -> 150049 | F18: 23445 | G18: 南知多町 | H18: 237842 | I18: 73819 | J18: 23446 | K18: 美浜町 | L18: 207405 | M18: 76230
A19: 愛知県 | B19: 23858 | C19: 刈谷知立環境組合 | D19: =SUM(H19,L19,P19,T19,X19,AB19,AF19,AJ19,AN19,AR19,AV19,AZ19,BD19,BH19,BL19,BP19,BT19,BX19,CB19,CF19,CJ19,CN19,CR19,CV19,CZ19,DD19,DH19,DL19,DP19,DT19) -> 1111017 | E19: =SUM(I19,M19,Q19,U19,Y19,AC19,AG19,AK19,AO19,AS19,AW19,BA19,BE19,BI19,BM19,BQ19,BU19,BY19,CC19,CG19,CK19,CO19,CS19,CW19,DA19,DE19,DI19,DM19,DQ19,DU19) -> 0 | F19: 23210 | G19: 刈谷市 | H19: 714938 | I19: 0 | J19: 23225 | K19: 知立市 | L19: 396079 | M19: 0
A20: 愛知県 | B20: 23859 | C20: 江南丹羽環境管理組合 | D20: =SUM(H20,L20,P20,T20,X20,AB20,AF20,AJ20,AN20,AR20,AV20,AZ20,BD20,BH20,BL20,BP20,BT20,BX20,CB20,CF20,CJ20,CN20,CR20,CV20,CZ20,DD20,DH20,DL20,DP20,DT20) -> 879161 | E20: =SUM(I20,M20,Q20,U20,Y20,AC20,AG20,AK20,AO20,AS20,AW20,BA20,BE20,BI20,BM20,BQ20,BU20,BY20,CC20,CG20,CK20,CO20,CS20,CW20,DA20,DE20,DI20,DM20,DQ20,DU20) -> 0 | F20: 23217 | G20: 江南市 | H20: 537396 | I20: 0 | J20: 23361 | K20: 大口町 | L20: 143037 | M20: 0 | N20: 23362 | O20: 扶桑町 | P20: 198728 | Q20: 0
A21: 愛知県 | B21: 23869 | C21: 北設広域事務組合 | D21: =SUM(H21,L21,P21,T21,X21,AB21,AF21,AJ21,AN21,AR21,AV21,AZ21,BD21,BH21,BL21,BP21,BT21,BX21,CB21,CF21,CJ21,CN21,CR21,CV21,CZ21,DD21,DH21,DL21,DP21,DT21) -> 222105 | E21: =SUM(I21,M21,Q21,U21,Y21,AC21,AG21,AK21,AO21,AS21,AW21,BA21,BE21,BI21,BM21,BQ21,BU21,BY21,CC21,CG21,CK21,CO21,CS21,CW21,DA21,DE21,DI21,DM21,DQ21,DU21) -> 68159 | F21: 23561 | G21: 設楽町 | H21: 112547 | I21: 39036 | J21: 23562 | K21: 東栄町 | L21: 64898 | M21: 9946 | N21: 23563 | O21: 豊根村 | P21: 25351 | Q21: 11777 | R21: 20410 | S21: 根羽村 | T21: 19309 | U21: 7400
A22: 愛知県 | B22: 23874 | C22: 北名古屋衛生組合 | D22: =SUM(H22,L22,P22,T22,X22,AB22,AF22,AJ22,AN22,AR22,AV22,AZ22,BD22,BH22,BL22,BP22,BT22,BX22,CB22,CF22,CJ22,CN22,CR22,CV22,CZ22,DD22,DH22,DL22,DP22,DT22) -> 370490 | E22: =SUM(I22,M22,Q22,U22,Y22,AC22,AG22,AK22,AO22,AS22,AW22,BA22,BE22,BI22,BM22,BQ22,BU22,BY22,CC22,CG22,CK22,CO22,CS22,CW22,DA22,DE22,DI22,DM22,DQ22,DU22) -> 181920 | F22: 23234 | G22: 北名古屋市 | H22: 291409 | I22: 139731 | J22: 23342 | K22: 豊山町 | L22: 79081 | M22: 42189
A23: 愛知県 | B23: 23887 | C23: 尾三衛生組合 | D23: =SUM(H23,L23,P23,T23,X23,AB23,AF23,AJ23,AN23,AR23,AV23,AZ23,BD23,BH23,BL23,BP23,BT23,BX23,CB23,CF23,CJ23,CN23,CR23,CV23,CZ23,DD23,DH23,DL23,DP23,DT23) -> 909739 | E23: =SUM(I23,M23,Q23,U23,Y23,AC23,AG23,AK23,AO23,AS23,AW23,BA23,BE23,BI23,BM23,BQ23,BU23,BY23,CC23,CG23,CK23,CO23,CS23,CW23,DA23,DE23,DI23,DM23,DQ23,DU23) -> 0 | F23: 23230 | G23: 日進市 | H23: 410308 | I23: 0 | J23: 23236 | K23: みよし市 | L23: 288541 | M23: 0 | N23: 23302 | O23: 東郷町 | P23: 210890 | Q23: 0
A24: 愛知県 | B24: 23899 | C24: 五条広域事務組合 | D24: =SUM(H24,L24,P24,T24,X24,AB24,AF24,AJ24,AN24,AR24,AV24,AZ24,BD24,BH24,BL24,BP24,BT24,BX24,CB24,CF24,CJ24,CN24,CR24,CV24,CZ24,DD24,DH24,DL24,DP24,DT24) -> 0 | E24: =SUM(I24,M24,Q24,U24,Y24,AC24,AG24,AK24,AO24,AS24,AW24,BA24,BE24,BI24,BM24,BQ24,BU24,BY24,CC24,CG24,CK24,CO24,CS24,CW24,DA24,DE24,DI24,DM24,DQ24,DU24) -> 259936 | F24: 23233 | G24: 清須市 | H24: 0 | I24: 169114 | J24: 23237 | K24: あま市 | L24: 0 | M24: 90822
A25: 愛知県 | B25: 23932 | C25: 知多南部広域環境組合 | D25: =SUM(H25,L25,P25,T25,X25,AB25,AF25,AJ25,AN25,AR25,AV25,AZ25,BD25,BH25,BL25,BP25,BT25,BX25,CB25,CF25,CJ25,CN25,CR25,CV25,CZ25,DD25,DH25,DL25,DP25,DT25) -> 418019 | E25: =SUM(I25,M25,Q25,U25,Y25,AC25,AG25,AK25,AO25,AS25,AW25,BA25,BE25,BI25,BM25,BQ25,BU25,BY25,CC25,CG25,CK25,CO25,CS25,CW25,DA25,DE25,DI25,DM25,DQ25,DU25) -> 0 | F25: 23205 | G25: 半田市 | H25: 182381 | I25: 0 | J25: 23216 | K25: 常滑市 | L25: 84530 | M25: 0 | N25: 23445 | O25: 南知多町 | P25: 40022 | Q25: 0 | R25: 23446 | S25: 美浜町 | T25: 46836 | U25: 0 | V25: 23447 | W25: 武豊町 | X25: 64250 | Y25: 0
A26: 愛知県 | B26: 23934 | C26: 尾張北部環境組合 | D26: =SUM(H26,L26,P26,T26,X26,AB26,AF26,AJ26,AN26,AR26,AV26,AZ26,BD26,BH26,BL26,BP26,BT26,BX26,CB26,CF26,CJ26,CN26,CR26,CV26,CZ26,DD26,DH26,DL26,DP26,DT26) -> 79254 | E26: =SUM(I26,M26,Q26,U26,Y26,AC26,AG26,AK26,AO26,AS26,AW26,BA26,BE26,BI26,BM26,BQ26,BU26,BY26,CC26,CG26,CK26,CO26,CS26,CW26,DA26,DE26,DI26,DM26,DQ26,DU26) -> 0 | F26: 23215 | G26: 犬山市 | H26: 24198 | I26: 0 | J26: 23217 | K26: 江南市 | L26: 31869 | M26: 0 | N26: 23361 | O26: 大口町 | P26: 10053 | Q26: 0 | R26: 23362 | S26: 扶桑町 | T26: 13134 | U26: 0

Sheet 経費集計
B1: =COUNTA(A:A) - 3 -> -3 | C1: =SUBTOTAL(3,A:A ) - 2 -> -2
C2: 入力→ | E2: :市区町村コード(都道府県計は、01000～47000の何れか） | L2: =LEFT(D2,2) | M2: =IF(L2<>"",VLOOKUP(L2,$AK$6:$AL$52,2,FALSE),"-") -> - | AC2: =IF(VALUE(D2)=0,0,1) -> 0 | AD2: =IF(AC2=0,"",VLOOKUP(D2,'廃棄物事業経費（歳入）'!B7:C250,2,FALSE)) | AF2: =IF(AC2=0,1,IF(ISERROR(AD2),1,0)) -> 1 | AH2: =COUNTA('廃棄物事業経費（歳入）'!B7:B250)+6 | AI2: =IF(AC2=0,0,VLOOKUP(D2,AH5:AI250,2,FALSE)) -> 0
M5: （千円） | AH5: =+'廃棄物事業経費（歳入）'!B5 -> 0 | AI5: 5
B6: 歳入 | E6: ごみ | F6: し尿 | H6: 歳出 | L6: ごみ | M6: し尿 | AH6: =+'廃棄物事業経費（歳入）'!B6 -> 0 | AI6: 6 | AK6: 01 | AL6: 北海道
B7: 国庫支出金 | E7: =AF7 -> 0 | F7: =AF14 -> 0 | H7: 建設・改良費 | I7: 工事費 | J7: 収集運搬施設 | L7: =AF21 -> 0 | M7: =AF42 -> 0 | AC7: 国庫支出金 | AD7: 廃棄物事業経費（歳入） | AE7: F | AF7: =IF(AF$2=0,INDIRECT("'"&AD7&"'!"&AE7&$AI$2),0) -> 0 | AH7: =+'廃棄物事業経費（歳入）'!B7 -> 23000 | AI7: 7 | AK7: 02 | AL7: 青森県
B8: 都道府県支出金 | E8: =AF8 -> 0 | F8: =AF15 -> 0 | J8: 中間処理施設 | L8: =AF22 -> 0 | M8: =AF43 -> 0 | AC8: 都道府県支出金 | AD8: 廃棄物事業経費（歳入） | AE8: G | AF8: =IF(AF$2=0,INDIRECT("'"&AD8&"'!"&AE8&$AI$2),0) -> 0 | AH8: =+'廃棄物事業経費（歳入）'!B8 -> 23100 | AI8: 8 | AK8: 03 | AL8: 岩手県
B9: 地方債 | E9: =AF9 -> 0 | F9: =AF16 -> 0 | J9: 最終処分場 | L9: =AF23 -> 0 | M9: =AF44 -> 0 | AC9: 地方債 | AD9: 廃棄物事業経費（歳入） | AE9: H | AF9: =IF(AF$2=0,INDIRECT("'"&AD9&"'!"&AE9&$AI$2),0) -> 0 | AH9: =+'廃棄物事業経費（歳入）'!B9 -> 23201 | AI9: 9 | AK9: 04 | AL9: 宮城県
B10: 使用料・手数料 | E10: =AF10 -> 0 | F10: =AF17 -> 0 | J10: その他 | L10: =AF24 -> 0 | M10: =AF45 -> 0 | AC10: 使用料・手数料 | AD10: 廃棄物事業経費（歳入） | AE10: I | AF10: =IF(AF$2=0,INDIRECT("'"&AD10&"'!"&AE10&$AI$2),0) -> 0 | AH10: =+'廃棄物事業経費（歳入）'!B10 -> 23202 | AI10: 10 | AK10: 05 | AL10: 秋田県
B11: （市区町村分担金） | E11: =AF11 -> 0 | F11: =AF18 -> 0 | I11: 調査費 | L11: =AF25 -> 0 | M11: =AF46 -> 0 | AC11: （市区町村分担金） | AD11: 廃棄物事業経費（歳入） | AE11: J | AF11: =IF(AF$2=0,INDIRECT("'"&AD11&"'!"&AE11&$AI$2),0) -> 0 | AH11: =+'廃棄物事業経費（歳入）'!B11 -> 23203 | AI11: 11 | AK11: 06 | AL11: 山形県
B12: その他 | E12: =AF12 -> 0 | F12: =AF19 -> 0 | I12: （組合分担金） | L12: =AF26 -> 0 | M12: =AF47 -> 0 | AC12: その他 | AD12: 廃棄物事業経費（歳入） | AE12: K | AF12: =IF(AF$2=0,INDIRECT("'"&AD12&"'!"&AE12&$AI$2),0) -> 0 | AH12: =+'廃棄物事業経費（歳入）'!B12 -> 23204 | AI12: 12 | AK12: 07 | AL12: 福島県
B13: 小計（分担金含む） | E13: =SUM(E7:E12) -> 0 | F13: =SUM(F7:F12) -> 0 | I13: 小計 | L13: =SUM(L7:L12) -> 0 | M13: =SUM(M7:M12) -> 0 | AC13: 一般財源 | AD13: 廃棄物事業経費（歳入） | AE13: L | AF13: =IF(AF$2=0,INDIRECT("'"&AD13&"'!"&AE13&$AI$2),0) -> 0 | AH13: =+'廃棄物事業経費（歳入）'!B13 -> 23205 | AI13: 13 | AK13: 08 | AL13: 茨城県
C14: 分担金除く | E14: =E13-E11 -> 0 | F14: =F13-F11 -> 0 | K14: 分担金除く | L14: =L13-L12 -> 0 | M14: =M13-M12 -> 0 | AC14: 国庫支出金 | AD14: 廃棄物事業経費（歳入） | AE14: O | AF14: =IF(AF$2=0,INDIRECT("'"&AD14&"'!"&AE14&$AI$2),0) -> 0 | AH14: =+'廃棄物事業経費（歳入）'!B14 -> 23206 | AI14: 14 | AK14: 09 | AL14: 栃木県
B15: 一般財源 | E15: =AF13 -> 0 | F15: =AF20 -> 0 | H15: 処理及び維持管理費 | I15: 人件費 | J15: 一般職 | L15: =AF27 -> 0 | M15: =AF48 -> 0 | AC15: 都道府県支出金 | AD15: 廃棄物事業経費（歳入） | AE15: P | AF15: =IF(AF$2=0,INDIRECT("'"&AD15&"'!"&AE15&$AI$2),0) -> 0 | AH15: =+'廃棄物事業経費（歳入）'!B15 -> 23207 | AI15: 15 | AK15: 10 | AL15: 群馬県
B16: 合計 | E16: =SUM(E13,E15) -> 0 | F16: =SUM(F13,F15) -> 0 | J16: 技能職 | K16: 収集運搬 | L16: =AF28 -> 0 | M16: =AF49 -> 0 | AC16: 地方債 | AD16: 廃棄物事業経費（歳入） | AE16: Q | AF16: =IF(AF$2=0,INDIRECT("'"&AD16&"'!"&AE16&$AI$2),0) -> 0 | AH16: =+'廃棄物事業経費（歳入）'!B16 -> 23208 | AI16: 16 | AK16: 11 | AL16: 埼玉県
C17: 分担金除く | E17: =SUM(E14:E15) -> 0 | F17: =SUM(F14:F15) -> 0 | K17: 中間処理 | L17: =AF29 -> 0 | M17: =AF50 -> 0 | AC17: 使用料・手数料 | AD17: 廃棄物事業経費（歳入） | AE17: R | AF17: =IF(AF$2=0,INDIRECT("'"&AD17&"'!"&AE17&$AI$2),0) -> 0 | AH17: =+'廃棄物事業経費（歳入）'!B17 -> 23209 | AI17: 17 | AK17: 12 | AL17: 千葉県
K18: 最終処分 | L18: =AF30 -> 0 | M18: =AF51 -> 0 | AC18: （市区町村分担金） | AD18: 廃棄物事業経費（歳入） | AE18: S | AF18: =IF(AF$2=0,INDIRECT("'"&AD18&"'!"&AE18&$AI$2),0) -> 0 | AH18: =+'廃棄物事業経費（歳入）'!B18 -> 23210 | AI18: 18 | AK18: 13 | AL18: 東京都
I19: 処理費 | J19: 収集運搬費 | L19: =AF31 -> 0 | M19: =AF52 -> 0 | AC19: その他 | AD19: 廃棄物事業経費（歳入） | AE19: T | AF19: =IF(AF$2=0,INDIRECT("'"&AD19&"'!"&AE19&$AI$2),0) -> 0 | AH19: =+'廃棄物事業経費（歳入）'!B19 -> 23211 | AI19: 19 | AK19: 14 | AL19: 神奈川県
B20: 歳入の市区町村分担金 | E20: =E11 -> 0 | F20: =F11 -> 0 | J20: 中間処理費 | L20: =AF32 -> 0 | M20: =AF53 -> 0 | AC20: 一般財源 | AD20: 廃棄物事業経費（歳入） | AE20: U | AF20: =IF(AF$2=0,INDIRECT("'"&AD20&"'!"&AE20&$AI$2),0) -> 0 | AH20: =+'廃棄物事業経費（歳入）'!B20 -> 23212 | AI20: 20 | AK20: 15 | AL20: 新潟県
B21: 歳出の組合分担金 | E21: =L12+L27 -> 0 | F21: =M12+M27 -> 0 | J21: 最終処分費 | L21: =AF33 -> 0 | M21: =AF54 -> 0 | AB21: ごみ | AC21: 工事費（収集） | AD21: 廃棄物事業経費（歳出） | AE21: F | AF21: =IF(AF$2=0,INDIRECT("'"&AD21&"'!"&AE21&$AI$2),0) -> 0 | AH21: =+'廃棄物事業経費（歳入）'!B21 -> 23213 | AI21: 21 | AK21: 16 | AL21: 富山県
I22: 車両等購入費 | L22: =AF34 -> 0 | M22: =AF55 -> 0 | AB22: ごみ | AC22: 工事費（中間） | AD22: 廃棄物事業経費（歳出） | AE22: G | AF22: =IF(AF$2=0,INDIRECT("'"&AD22&"'!"&AE22&$AI$2),0) -> 0 | AH22: =+'廃棄物事業経費（歳入）'!B22 -> 23214 | AI22: 22 | AK22: 17 | AL22: 石川県
I23: 委託費 | J23: 収集運搬費 | L23: =AF35 -> 0 | M23: =AF56 -> 0 | AB23: ごみ | AC23: 工事費（処分） | AD23: 廃棄物事業経費（歳出） | AE23: H | AF23: =IF(AF$2=0,INDIRECT("'"&AD23&"'!"&AE23&$AI$2),0) -> 0 | AH23: =+'廃棄物事業経費（歳入）'!B23 -> 23215 | AI23: 23 | AK23: 18 | AL23: 福井県
J24: 中間処理費 | L24: =AF36 -> 0 | M24: =AF57 -> 0 | AB24: ごみ | AC24: その他 | AD24: 廃棄物事業経費（歳出） | AE24: I | AF24: =IF(AF$2=0,INDIRECT("'"&AD24&"'!"&AE24&$AI$2),0) -> 0 | AH24: =+'廃棄物事業経費（歳入）'!B24 -> 23216 | AI24: 24 | AK24: 19 | AL24: 山梨県
J25: 最終処分費 | L25: =AF37 -> 0 | M25: =AF58 -> 0 | AB25: ごみ | AC25: 調査費 | AD25: 廃棄物事業経費（歳出） | AE25: J | AF25: =IF(AF$2=0,INDIRECT("'"&AD25&"'!"&AE25&$AI$2),0) -> 0 | AH25: =+'廃棄物事業経費（歳入）'!B25 -> 23217 | AI25: 25 | AK25: 20 | AL25: 長野県
