Workbook

Sheet 収集運搬（生活系）
A1: ごみ収集運搬の状況【生活系ごみ】（令和3年度実績）
A2: 都道府県名 | B2: 地方公共団体コード | C2: 市区町村名 | D2: 生活系ごみの収集運搬
D3: 混合ごみ | L3: 可燃ごみ | T3: 不燃ごみ | AB3: 資源ごみ | ER3: その他のごみ | EZ3: 粗大ごみ
AB4: 紙（紙パック、紙製容器包装を除く） | AJ4: 紙パック | AR4: 紙製容器包装 | AZ4: 金属類 | BH4: ガラス類 | BP4: ペットボトル | BX4: 白色トレイ | CF4: 容器包装プラスチック（白色トレイを除く） | CN4: プラスチック類（白色トレイ、容器包装プラスチックを除く） | CV4: 布類 | DD4: 生ごみ | DL4: 廃食油 | DT4: 剪定枝 | EB4: 小型家電 | EJ4: その他
D5: 形態 | H5: 地域 | J5: 収集回数 | K5: 収集方式 | L5: 形態 | P5: 地域 | R5: 収集回数 | S5: 収集方式 | T5: 形態 | X5: 地域 | Z5: 収集回数 | AA5: 収集方式 | AB5: 形態 | AF5: 地域 | AH5: 収集回数 | AI5: 収集方式 | AJ5: 形態 | AN5: 地域 | AP5: 収集回数 | AQ5: 収集方式 | AR5: 形態 | AV5: 地域 | AX5: 収集回数 | AY5: 収集方式 | AZ5: 形態 | BD5: 地域 | BF5: 収集回数 | BG5: 収集方式 | BH5: 形態 | BL5: 地域 | BN5: 収集回数 | BO5: 収集方式 | BP5: 形態 | BT5: 地域 | BV5: 収集回数 | BW5: 収集方式 | BX5: 形態 | CB5: 地域 | CD5: 収集回数 | CE5: 収集方式 | CF5: 形態 | CJ5: 地域 | CL5: 収集回数 | CM5: 収集方式 | CN5: 形態 | CR5: 地域 | CT5: 収集回数 | CU5: 収集方式 | CV5: 形態 | CZ5: 地域 | DB5: 収集回数 | DC5: 収集方式 | DD5: 形態 | DH5: 地域 | DJ5: 収集回数 | DK5: 収集方式 | DL5: 形態 | DP5: 地域 | DR5: 収集回数 | DS5: 収集方式 | DT5: 形態 | DX5: 地域 | DZ5: 収集回数 | EA5: 収集方式 | EB5: 形態 | EF5: 地域 | EH5: 収集回数 | EI5: 収集方式 | EJ5: 形態 | EN5: 地域 | EP5: 収集回数 | EQ5: 収集方式 | ER5: 形態 | EV5: 地域 | EX5: 収集回数 | EY5: 収集方式 | EZ5: 形態 | FD5: 地域 | FF5: 収集回数 | FG5: 収集方式
D6: 直営 | E6: 委託 | F6: 許可 | G6: 収集無し | H6: 全地域 | I6: 一部地域 | J6: （回/週） | L6: 直営 | M6: 委託 | N6: 許可 | O6: 収集無し | P6: 全地域 | Q6: 一部地域 | R6: （回/週） | T6: 直営 | U6: 委託 | V6: 許可 | W6: 収集無し | X6: 全地域 | Y6: 一部地域 | Z6: （回/月） | AB6: 直営 | AC6: 委託 | AD6: 許可 | AE6: 収集無し | AF6: 全地域 | AG6: 一部地域 | AH6: （回/月） | AJ6: 直営 | AK6: 委託 | AL6: 許可 | AM6: 収集無し | AN6: 全地域 | AO6: 一部地域 | AP6: （回/月） | AR6: 直営 | AS6: 委託 | AT6: 許可 | AU6: 収集無し | AV6: 全地域 | AW6: 一部地域 | AX6: （回/月） | AZ6: 直営 | BA6: 委託 | BB6: 許可 | BC6: 収集無し | BD6: 全地域 | BE6: 一部地域 | BF6: （回/月） | BH6: 直営 | BI6: 委託 | BJ6: 許可 | BK6: 収集無し | BL6: 全地域 | BM6: 一部地域 | BN6: （回/月） | BP6: 直営 | BQ6: 委託 | BR6: 許可 | BS6: 収集無し | BT6: 全地域 | BU6: 一部地域 | BV6: （回/月） | BX6: 直営 | BY6: 委託 | BZ6: 許可 | CA6: 収集無し | CB6: 全地域 | CC6: 一部地域 | CD6: （回/月） | CF6: 直営 | CG6: 委託 | CH6: 許可 | CI6: 収集無し | CJ6: 全地域 | CK6: 一部地域 | CL6: （回/月） | CN6: 直営 | CO6: 委託 | CP6: 許可 | CQ6: 収集無し | CR6: 全地域 | CS6: 一部地域 | CT6: （回/月） | CV6: 直営 | CW6: 委託 | CX6: 許可 | CY6: 収集無し | CZ6: 全地域 | DA6: 一部地域 | DB6: （回/月） | DD6: 直営 | DE6: 委託 | DF6: 許可 | DG6: 収集無し | DH6: 全地域 | DI6: 一部地域 | DJ6: （回/月） | DL6: 直営 | DM6: 委託 | DN6: 許可 | DO6: 収集無し | DP6: 全地域 | DQ6: 一部地域 | DR6: （回/月） | DT6: 直営 | DU6: 委託 | DV6: 許可 | DW6: 収集無し | DX6: 全地域 | DY6: 一部地域 | DZ6: （回/月） | EB6: 直営 | EC6: 委託 | ED6: 許可 | EE6: 収集無し | EF6: 全地域 | EG6: 一部地域 | EH6: （回/月） | EJ6: 直営 | EK6: 委託 | EL6: 許可 | EM6: 収集無し | EN6: 全地域 | EO6: 一部地域 | EP6: （回/月） | ER6: 直営 | ES6: 委託 | ET6: 許可 | EU6: 収集無し | EV6: 全地域 | EW6: 一部地域 | EX6: （回/月） | EZ6: 直営 | FA6: 委託 | FB6: 許可 | FC6: 収集無し | FD6: 全地域 | FE6: 一部地域 | FF6: （回/月）
A7: 山口県 | B7: 35000 | C7: 合計 | D7: =COUNTIF(D$8:D$207,"○") -> 0 | E7: =COUNTIF(E$8:E$207,"○") -> 0 | F7: =COUNTIF(F$8:F$207,"○") -> 0 | G7: =COUNTIF(G$8:G$207,"○") -> 19 | H7: =COUNTIF(H$8:H$207,"○") -> 0 | I7: =COUNTIF(I$8:I$207,"○") -> 0 | J7: =COUNTIF(J$8:J$207,"<>") -> 0 | K7: =COUNTIF(K$8:K$207,"<>") -> 0 | L7: =COUNTIF(L$8:L$207,"○") -> 11 | M7: =COUNTIF(M$8:M$207,"○") -> 18 | N7: =COUNTIF(N$8:N$207,"○") -> 1 | O7: =COUNTIF(O$8:O$207,"○") -> 0 | P7: =COUNTIF(P$8:P$207,"○") -> 19 | Q7: =COUNTIF(Q$8:Q$207,"○") -> 0 | R7: =COUNTIF(R$8:R$207,"<>") -> 19 | S7: =COUNTIF(S$8:S$207,"<>") -> 19 | T7: =COUNTIF(T$8:T$207,"○") -> 9 | U7: =COUNTIF(U$8:U$207,"○") -> 15 | V7: =COUNTIF(V$8:V$207,"○") -> 1 | W7: =COUNTIF(W$8:W$207,"○") -> 1 | X7: =COUNTIF(X$8:X$207,"○") -> 17 | Y7: =COUNTIF(Y$8:Y$207,"○") -> 1 | Z7: =COUNTIF(Z$8:Z$207,"<>") -> 18 | AA7: =COUNTIF(AA$8:AA$207,"<>") -> 18 | AB7: =COUNTIF(AB$8:AB$207,"○") -> 9 | AC7: =COUNTIF(AC$8:AC$207,"○") -> 17 | AD7: =COUNTIF(AD$8:AD$207,"○") -> 0 | AE7: =COUNTIF(AE$8:AE$207,"○") -> 1 | AF7: =COUNTIF(AF$8:AF$207,"○") -> 16 | AG7: =COUNTIF(AG$8:AG$207,"○") -> 2 | AH7: =COUNTIF(AH$8:AH$207,"<>") -> 18 | AI7: =COUNTIF(AI$8:AI$207,"<>") -> 18 | AJ7: =COUNTIF(AJ$8:AJ$207,"○") -> 8 | AK7: =COUNTIF(AK$8:AK$207,"○") -> 13 | AL7: =COUNTIF(AL$8:AL$207,"○") -> 0 | AM7: =COUNTIF(AM$8:AM$207,"○") -> 4 | AN7: =COUNTIF(AN$8:AN$207,"○") -> 13 | AO7: =COUNTIF(AO$8:AO$207,"○") -> 2 | AP7: =COUNTIF(AP$8:AP$207,"<>") -> 15 | AQ7: =COUNTIF(AQ$8:AQ$207,"<>") -> 15 | AR7: =COUNTIF(AR$8:AR$207,"○") -> 8 | AS7: =COUNTIF(AS$8:AS$207,"○") -> 12 | AT7: =COUNTIF(AT$8:AT$207,"○") -> 0 | AU7: =COUNTIF(AU$8:AU$207,"○") -> 5 | AV7: =COUNTIF(AV$8:AV$207,"○") -> 13 | AW7: =COUNTIF(AW$8:AW$207,"○") -> 1 | AX7: =COUNTIF(AX$8:AX$207,"<>") -> 14 | AY7: =COUNTIF(AY$8:AY$207,"<>") -> 14 | AZ7: =COUNTIF(AZ$8:AZ$207,"○") -> 10 | BA7: =COUNTIF(BA$8:BA$207,"○") -> 18 | BB7: =COUNTIF(BB$8:BB$207,"○") -> 0 | BC7: =COUNTIF(BC$8:BC$207,"○") -> 0 | BD7: =COUNTIF(BD$8:BD$207,"○") -> 18 | BE7: =COUNTIF(BE$8:BE$207,"○") -> 1 | BF7: =COUNTIF(BF$8:BF$207,"<>") -> 19 | BG7: =COUNTIF(BG$8:BG$207,"<>") -> 19 | BH7: =COUNTIF(BH$8:BH$207,"○") -> 11 | BI7: =COUNTIF(BI$8:BI$207,"○") -> 17 | BJ7: =COUNTIF(BJ$8:BJ$207,"○") -> 0 | BK7: =COUNTIF(BK$8:BK$207,"○") -> 0 | BL7: =COUNTIF(BL$8:BL$207,"○") -> 18 | BM7: =COUNTIF(BM$8:BM$207,"○") -> 1 | BN7: =COUNTIF(BN$8:BN$207,"<>") -> 19 | BO7: =COUNTIF(BO$8:BO$207,"<>") -> 19 | BP7: =COUNTIF(BP$8:BP$207,"○") -> 9 | BQ7: =COUNTIF(BQ$8:BQ$207,"○") -> 18 | BR7: =COUNTIF(BR$8:BR$207,"○") -> 0 | BS7: =COUNTIF(BS$8:BS$207,"○") -> 0 | BT7: =COUNTIF(BT$8:BT$207,"○") -> 17 | BU7: =COUNTIF(BU$8:BU$207,"○") -> 2 | BV7: =COUNTIF(BV$8:BV$207,"<>") -> 19 | BW7: =COUNTIF(BW$8:BW$207,"<>") -> 19 | BX7: =COUNTIF(BX$8:BX$207,"○") -> 7 | BY7: =COUNTIF(BY$8:BY$207,"○") -> 12 | BZ7: =COUNTIF(BZ$8:BZ$207,"○") -> 0 | CA7: =COUNTIF(CA$8:CA$207,"○") -> 7 | CB7: =COUNTIF(CB$8:CB$207,"○") -> 11 | CC7: =COUNTIF(CC$8:CC$207,"○") -> 1 | CD7: =COUNTIF(CD$8:CD$207,"<>") -> 12 | CE7: =COUNTIF(CE$8:CE$207,"<>") -> 12 | CF7: =COUNTIF(CF$8:CF$207,"○") -> 10 | CG7: =COUNTIF(CG$8:CG$207,"○") -> 13 | CH7: =COUNTIF(CH$8:CH$207,"○") -> 0 | CI7: =COUNTIF(CI$8:CI$207,"○") -> 5 | CJ7: =COUNTIF(CJ$8:CJ$207,"○") -> 14 | CK7: =COUNTIF(CK$8:CK$207,"○") -> 0 | CL7: =COUNTIF(CL$8:CL$207,"<>") -> 14 | CM7: =COUNTIF(CM$8:CM$207,"<>") -> 14 | CN7: =COUNTIF(CN$8:CN$207,"○") -> 4 | CO7: =COUNTIF(CO$8:CO$207,"○") -> 6 | CP7: =COUNTIF(CP$8:CP$207,"○") -> 0 | CQ7: =COUNTIF(CQ$8:CQ$207,"○") -> 13 | CR7: =COUNTIF(CR$8:CR$207,"○") -> 6 | CS7: =COUNTIF(CS$8:CS$207,"○") -> 0 | CT7: =COUNTIF(CT$8:CT$207,"<>") -> 6 | CU7: =COUNTIF(CU$8:CU$207,"<>") -> 6 | CV7: =COUNTIF(CV$8:CV$207,"○") -> 4 | CW7: =COUNTIF(CW$8:CW$207,"○") -> 10 | CX7: =COUNTIF(CX$8:CX$207,"○") -> 0 | CY7: =COUNTIF(CY$8:CY$207,"○") -> 8 | CZ7: =COUNTIF(CZ$8:CZ$207,"○") -> 10 | DA7: =COUNTIF(DA$8:DA$207,"○") -> 1 | DB7: =COUNTIF(DB$8:DB$207,"<>") -> 11 | DC7: =COUNTIF(DC$8:DC$207,"<>") -> 11 | DD7: =COUNTIF(DD$8:DD$207,"○") -> 0 | DE7: =COUNTIF(DE$8:DE$207,"○") -> 0 | DF7: =COUNTIF(DF$8:DF$207,"○") -> 0 | DG7: =COUNTIF(DG$8:DG$207,"○") -> 19 | DH7: =COUNTIF(DH$8:DH$207,"○") -> 0 | DI7: =COUNTIF(DI$8:DI$207,"○") -> 0 | DJ7: =COUNTIF(DJ$8:DJ$207,"<>") -> 0 | DK7: =COUNTIF(DK$8:DK$207,"<>") -> 0 | DL7: =COUNTIF(DL$8:DL$207,"○") -> 2 | DM7: =COUNTIF(DM$8:DM$207,"○") -> 3 | DN7: =COUNTIF(DN$8:DN$207,"○") -> 0 | DO7: =COUNTIF(DO$8:DO$207,"○") -> 16 | DP7: =COUNTIF(DP$8:DP$207,"○") -> 2 | DQ7: =COUNTIF(DQ$8:DQ$207,"○") -> 1 | DR7: =COUNTIF(DR$8:DR$207,"<>") -> 3 | DS7: =COUNTIF(DS$8:DS$207,"<>") -> 3 | DT7: =COUNTIF(DT$8:DT$207,"○") -> 0 | DU7: =COUNTIF(DU$8:DU$207,"○") -> 0 | DV7: =COUNTIF(DV$8:DV$207,"○") -> 0 | DW7: =COUNTIF(DW$8:DW$207,"○") -> 19 | DX7: =COUNTIF(DX$8:DX$207,"○") -> 0 | DY7: =COUNTIF(DY$8:DY$207,"○") -> 0 | DZ7: =COUNTIF(DZ$8:DZ$207,"<>") -> 0 | EA7: =COUNTIF(EA$8:EA$207,"<>") -> 0 | EB7: =COUNTIF(EB$8:EB$207,"○") -> 9 | EC7: =COUNTIF(EC$8:EC$207,"○") -> 6 | ED7: =COUNTIF(ED$8:ED$207,"○") -> 0 | EE7: =COUNTIF(EE$8:EE$207,"○") -> 6 | EF7: =COUNTIF(EF$8:EF$207,"○") -> 13 | EG7: =COUNTIF(EG$8:EG$207,"○") -> 0 | EH7: =COUNTIF(EH$8:EH$207,"<>") -> 13 | EI7: =COUNTIF(EI$8:EI$207,"<>") -> 13 | EJ7: =COUNTIF(EJ$8:EJ$207,"○") -> 6 | EK7: =COUNTIF(EK$8:EK$207,"○") -> 6 | EL7: =COUNTIF(EL$8:EL$207,"○") -> 0 | EM7: =COUNTIF(EM$8:EM$207,"○") -> 12 | EN7: =COUNTIF(EN$8:EN$207,"○") -> 6 | EO7: =COUNTIF(EO$8:EO$207,"○") -> 1 | EP7: =COUNTIF(EP$8:EP$207,"<>") -> 7 | EQ7: =COUNTIF(EQ$8:EQ$207,"<>") -> 7 | ER7: =COUNTIF(ER$8:ER$207,"○") -> 6 | ES7: =COUNTIF(ES$8:ES$207,"○") -> 7 | ET7: =COUNTIF(ET$8:ET$207,"○") -> 2 | EU7: =COUNTIF(EU$8:EU$207,"○") -> 8 | EV7: =COUNTIF(EV$8:EV$207,"○") -> 11 | EW7: =COUNTIF(EW$8:EW$207,"○") -> 0 | EX7: =COUNTIF(EX$8:EX$207,"<>") -> 11 | EY7: =COUNTIF(EY$8:EY$207,"<>") -> 11 | EZ7: =COUNTIF(EZ$8:EZ$207,"○") -> 13 | FA7: =COUNTIF(FA$8:FA$207,"○") -> 11 | FB7: =COUNTIF(FB$8:FB$207,"○") -> 0 | FC7: =COUNTIF(FC$8:FC$207,"○") -> 1 | FD7: =COUNTIF(FD$8:FD$207,"○") -> 17 | FE7: =COUNTIF(FE$8:FE$207,"○") -> 1 | FF7: =COUNTIF(FF$8:FF$207,"<>") -> 18 | FG7: =COUNTIF(FG$8:FG$207,"<>") -> 18
A8: 山口県 | B8: 35201 | C8: 下関市 | G8: ○ | L8: ○ | M8: ○ | P8: ○ | R8: ２回 | S8: ステーション方式 | W8: ○ | AB8: ○ | AC8: ○ | AF8: ○ | AH8: ４回 | AI8: ステーション方式 | AM8: ○ | AU8: ○ | AZ8: ○ | BA8: ○ | BD8: ○ | BF8: ４回 | BG8: ステーション方式 | BH8: ○ | BI8: ○ | BL8: ○ | BN8: ４回 | BO8: ステーション方式 | BP8: ○ | BQ8: ○ | BT8: ○ | BV8: ２回 | BW8: ステーション方式 | BX8: ○ | BY8: ○ | CB8: ○ | CD8: ４回 | CE8: ステーション方式 | CF8: ○ | CG8: ○ | CJ8: ○ | CL8: ４回 | CM8: ステーション方式 | CQ8: ○ | CY8: ○ | DG8: ○ | DO8: ○ | DW8: ○ | EB8: ○ | EF8: ○ | EH8: 不定期 | EI8: その他 | EM8: ○ | ER8: ○ | EV8: ○ | EX8: ２回 | EY8: 各戸収集方式 | EZ8: ○ | FD8: ○ | FF8: ２回 | FG8: 各戸収集方式
A9: 山口県 | B9: 35202 | C9: 宇部市 | G9: ○ | L9: ○ | M9: ○ | P9: ○ | R9: ３回 | S9: ステーション方式 | T9: ○ | U9: ○ | X9: ○ | Z9: １回 | AA9: ステーション方式 | AB9: ○ | AC9: ○ | AF9: ○ | AH9: １回 | AI9: ステーション方式 | AJ9: ○ | AK9: ○ | AN9: ○ | AP9: １回 | AQ9: ステーション方式 | AR9: ○ | AS9: ○ | AV9: ○ | AX9: １回 | AY9: ステーション方式 | AZ9: ○ | BA9: ○ | BD9: ○ | BF9: １回 | BG9: ステーション方式 | BH9: ○ | BI9: ○ | BL9: ○ | BN9: １回 | BO9: ステーション方式 | BP9: ○ | BQ9: ○ | BT9: ○ | BV9: １回 | BW9: ステーション方式 | BX9: ○ | BY9: ○ | CB9: ○ | CD9: １回 | CE9: ステーション方式 | CF9: ○ | CG9: ○ | CJ9: ○ | CL9: １回 | CM9: ステーション方式 | CQ9: ○ | CY9: ○ | DG9: ○ | DO9: ○ | DW9: ○ | EB9: ○ | EF9: ○ | EH9: ２回 | EI9: その他 | EM9: ○ | ER9: ○ | ES9: ○ | EV9: ○ | EX9: １回 | EY9: ステーション方式 | EZ9: ○ | FA9: ○ | FD9: ○ | FF9: 不定期 | FG9: 各戸収集方式
A10: 山口県 | B10: 35203 | C10: 山口市 | G10: ○ | L10: ○ | M10: ○ | P10: ○ | R10: ２回 | S10: ステーション方式 | U10: ○ | X10: ○ | Z10: １回 | AA10: ステーション方式 | AB10: ○ | AC10: ○ | AF10: ○ | AH10: １回 | AI10: ステーション方式 | AJ10: ○ | AK10: ○ | AN10: ○ | AP10: １回 | AQ10: ステーション方式 | AR10: ○ | AS10: ○ | AV10: ○ | AX10: １回 | AY10: ステーション方式 | AZ10: ○ | BA10: ○ | BD10: ○ | BF10: １回 | BG10: ステーション方式 | BH10: ○ | BI10: ○ | BL10: ○ | BN10: １回 | BO10: ステーション方式 | BP10: ○ | BQ10: ○ | BT10: ○ | BV10: １回 | BW10: ステーション方式 | BY10: ○ | CC10: ○ | CD10: 不定期 | CE10: その他 | CF10: ○ | CG10: ○ | CJ10: ○ | CL10: ４回 | CM10: ステーション方式 | CQ10: ○ | CW10: ○ | CZ10: ○ | DB10: 不定期 | DC10: その他 | DG10: ○ | DL10: ○ | DM10: ○ | DP10: ○ | DR10: 不定期 | DS10: その他 | DW10: ○ | EC10: ○ | EF10: ○ | EH10: 不定期 | EI10: その他 | EM10: ○ | ER10: ○ | ES10: ○ | EV10: ○ | EX10: ７回以上 | EY10: 併用 | EZ10: ○ | FA10: ○ | FD10: ○ | FF10: 不定期 | FG10: 各戸収集方式
A11: 山口県 | B11: 35204 | C11: 萩市 | G11: ○ | L11: ○ | M11: ○ | P11: ○ | R11: ２回 | S11: 併用 | U11: ○ | X11: ○ | Z11: １回 | AA11: ステーション方式 | AC11: ○ | AF11: ○ | AH11: １回 | AI11: ステーション方式 | AK11: ○ | AN11: ○ | AP11: １回 | AQ11: ステーション方式 | AS11: ○ | AV11: ○ | AX11: １回 | AY11: ステーション方式 | BA11: ○ | BD11: ○ | BF11: １回 | BG11: ステーション方式 | BI11: ○ | BL11: ○ | BN11: １回 | BO11: ステーション方式 | BQ11: ○ | BT11: ○ | BV11: １回 | BW11: ステーション方式 | BY11: ○ | CB11: ○ | CD11: １回 | CE11: ステーション方式 | CG11: ○ | CJ11: ○ | CL11: ２回 | CM11: ステーション方式 | CQ11: ○ | CW11: ○ | CZ11: ○ | DB11: １回 | DC11: ステーション方式 | DG11: ○ | DM11: ○ | DQ11: ○ | DR11: １回 | DS11: ステーション方式 | DW11: ○ | EE11: ○ | EM11: ○ | ES11: ○ | EV11: ○ | EX11: １回 | EY11: ステーション方式 | FA11: ○ | FD11: ○ | FF11: １回未満 | FG11: 各戸収集方式
A12: 山口県 | B12: 35206 | C12: 防府市 | G12: ○ | L12: ○ | M12: ○ | P12: ○ | R12: ２回 | S12: ステーション方式 | T12: ○ | Y12: ○ | Z12: １回 | AA12: ステーション方式 | AB12: ○ | AC12: ○ | AG12: ○ | AH12: １回 | AI12: ステーション方式 | AJ12: ○ | AO12: ○ | AP12: １回 | AQ12: ステーション方式 | AR12: ○ | AW12: ○ | AX12: １回 | AY12: ステーション方式 | AZ12: ○ | BA12: ○ | BE12: ○ | BF12: １回 | BG12: ステーション方式 | BH12: ○ | BI12: ○ | BM12: ○ | BN12: １回 | BO12: ステーション方式 | BQ12: ○ | BU12: ○ | BV12: １回 | BW12: ステーション方式 | CA12: ○ | CF12: ○ | CJ12: ○ | CL12: ４回 | CM12: ステーション方式 | CQ12: ○ | CY12: ○ | DG12: ○ | DO12: ○ | DW12: ○ | EB12: ○ | EF12: ○ | EH12: ４回 | EI12: その他 | EM12: ○ | ER12: ○ | EV12: ○ | EX12: １回 | EY12: ステーション方式 | EZ12: ○ | FD12: ○ | FF12: ７回以上 | FG12: 各戸収集方式
A13: 山口県 | B13: 35207 | C13: 下松市 | G13: ○ | L13: ○ | M13: ○ | P13: ○ | R13: ２回 | S13: ステーション方式 | T13: ○ | U13: ○ | X13: ○ | Z13: １回 | AA13: ステーション方式 | AC13: ○ | AF13: ○ | AH13: ２回 | AI13: ステーション方式 | AK13: ○ | AN13: ○ | AP13: ２回 | AQ13: ステーション方式 | AS13: ○ | AV13: ○ | AX13: ２回 | AY13: ステーション方式 | AZ13: ○ | BA13: ○ | BD13: ○ | BF13: ２回 | BG13: ステーション方式 | BH13: ○ | BI13: ○ | BL13: ○ | BN13: ２回 | BO13: ステーション方式 | BP13: ○ | BQ13: ○ | BT13: ○ | BV13: ２回 | BW13: ステーション方式 | BX13: ○ | BY13: ○ | CB13: ○ | CD13: ４回 | CE13: ステーション方式 | CF13: ○ | CG13: ○ | CJ13: ○ | CL13: ４回 | CM13: ステーション方式 | CN13: ○ | CO13: ○ | CR13: ○ | CT13: １回 | CU13: ステーション方式 | CW13: ○ | CZ13: ○ | DB13: ２回 | DC13: ステーション方式 | DG13: ○ | DO13: ○ | DW13: ○ | EB13: ○ | EC13: ○ | EF13: ○ | EH13: １回 | EI13: ステーション方式 | EJ13: ○ | EK13: ○ | EN13: ○ | EP13: １回未満 | EQ13: ステーション方式 | ET13: ○ | EV13: ○ | EX13: 不定期 | EY13: 各戸収集方式 | EZ13: ○ | FA13: ○ | FD13: ○ | FF13: ２回 | FG13: ステーション方式
A14: 山口県 | B14: 35208 | C14: 岩国市 | G14: ○ | L14: ○ | M14: ○ | P14: ○ | R14: ２回 | S14: ステーション方式 | T14: ○ | U14: ○ | X14: ○ | Z14: １回 | AA14: ステーション方式 | AB14: ○ | AC14: ○ | AF14: ○ | AH14: １回 | AI14: ステーション方式 | AJ14: ○ | AK14: ○ | AN14: ○ | AP14: １回 | AQ14: ステーション方式 | AR14: ○ | AS14: ○ | AV14: ○ | AX14: １回 | AY14: ステーション方式 | AZ14: ○ | BA14: ○ | BD14: ○ | BF14: １回 | BG14: ステーション方式 | BH14: ○ | BI14: ○ | BL14: ○ | BN14: １回 | BO14: ステーション方式 | BP14: ○ | BQ14: ○ | BT14: ○ | BV14: ７回以上 | BW14: ステーション方式 | CA14: ○ | CF14: ○ | CG14: ○ | CJ14: ○ | CL14: ５回 | CM14: ステーション方式 | CN14: ○ | CO14: ○ | CR14: ○ | CT14: １回 | CU14: ステーション方式 | CV14: ○ | CW14: ○ | CZ14: ○ | DB14: １回 | DC14: ステーション方式 | DG14: ○ | DL14: ○ | DM14: ○ | DP14: ○ | DR14: １回 | DS14: ステーション方式 | DW14: ○ | EB14: ○ | EF14: ○ | EH14: ２回 | EI14: その他 | EJ14: ○ | EK14: ○ | EN14: ○ | EP14: １回 | EQ14: ステーション方式 | ER14: ○ | ES14: ○ | EV14: ○ | EX14: ５回 | EY14: ステーション方式 | EZ14: ○ | FA14: ○ | FD14: ○ | FF14: １回 | FG14: ステーション方式
A15: 山口県 | B15: 35210 | C15: 光市 | G15: ○ | L15: ○ | M15: ○ | P15: ○ | R15: ２回 | S15: 併用 | T15: ○ | U15: ○ | X15: ○ | Z15: １回 | AA15: ステーション方式 | AB15: ○ | AC15: ○ | AF15: ○ | AH15: １回 | AI15: ステーション方式 | AJ15: ○ | AK15: ○ | AN15: ○ | AP15: １回 | AQ15: ステーション方式 | AR15: ○ | AS15: ○ | AV15: ○ | AX15: １回 | AY15: ステーション方式 | AZ15: ○ | BA15: ○ | BD15: ○ | BF15: ２回 | BG15: ステーション方式 | BH15: ○ | BI15: ○ | BL15: ○ | BN15: ２回 | BO15: ステーション方式 | BP15: ○ | BQ15: ○ | BT15: ○ | BV15: ２回 | BW15: ステーション方式 | BX15: ○ | BY15: ○ | CB15: ○ | CD15: ４回 | CE15: ステーション方式 | CF15: ○ | CG15: ○ | CJ15: ○ | CL15: ４回 | CM15: ステーション方式 | CN15: ○ | CO15: ○ | CR15: ○ | CT15: １回 | CU15: ステーション方式 | CV15: ○ | CW15: ○ | CZ15: ○ | DB15: １回 | DC15: ステーション方式 | DG15: ○ | DO15: ○ | DW15: ○ | EB15: ○ | EC15: ○ | EF15: ○ | EH15: １回 | EI15: ステーション方式 | EJ15: ○ | EK15: ○ | EN15: ○ | EP15: １回 | EQ15: ステーション方式 | EU15: ○ | EZ15: ○ | FA15: ○ | FD15: ○ | FF15: １回 | FG15: ステーション方式
A16: 山口県 | B16: 35211 | C16: 長門市 | G16: ○ | L16: ○ | M16: ○ | P16: ○ | R16: ２回 | S16: ステーション方式 | T16: ○ | U16: ○ | X16: ○ | Z16: １回 | AA16: ステーション方式 | AB16: ○ | AC16: ○ | AF16: ○ | AH16: ７回以上 | AI16: ステーション方式 | AJ16: ○ | AK16: ○ | AN16: ○ | AP16: ７回以上 | AQ16: ステーション方式 | AR16: ○ | AS16: ○ | AV16: ○ | AX16: ７回以上 | AY16: ステーション方式 | AZ16: ○ | BA16: ○ | BD16: ○ | BF16: ２回 | BG16: ステーション方式 | BH16: ○ | BI16: ○ | BL16: ○ | BN16: ２回 | BO16: ステーション方式 | BP16: ○ | BQ16: ○ | BT16: ○ | BV16: ２回 | BW16: ステーション方式 | BX16: ○ | BY16: ○ | CB16: ○ | CD16: ７回以上 | CE16: ステーション方式 | CF16: ○ | CG16: ○ | CJ16: ○ | CL16: ７回以上 | CM16: ステーション方式 | CQ16: ○ | CV16: ○ | CW16: ○ | CZ16: ○ | DB16: ７回以上 | DC16: ステーション方式 | DG16: ○ | DO16: ○ | DW16: ○ | EB16: ○ | EF16: ○ | EH16: 不定期 | EI16: その他 | EM16: ○ | ER16: ○ | EV16: ○ | EX16: 不定期 | EY16: その他 | EZ16: ○ | FA16: ○ | FD16: ○ | FF16: １回未満 | FG16: ステーション方式
A17: 山口県 | B17: 35212 | C17: 柳井市 | G17: ○ | L17: ○ | P17: ○ | R17: ２回 | S17: ステーション方式 | T17: ○ | X17: ○ | Z17: １回 | AA17: ステーション方式 | AC17: ○ | AF17: ○ | AH17: １回 | AI17: ステーション方式 | AM17: ○ | AU17: ○ | BA17: ○ | BD17: ○ | BF17: １回 | BG17: ステーション方式 | BH17: ○ | BL17: ○ | BN17: １回 | BO17: ステーション方式 | BQ17: ○ | BT17: ○ | BV17: １回 | BW17: ステーション方式 | CA17: ○ | CI17: ○ | CQ17: ○ | CY17: ○ | DG17: ○ | DO17: ○ | DW17: ○ | EE17: ○ | EJ17: ○ | EN17: ○ | EP17: １回 | EQ17: ステーション方式 | EU17: ○ | EZ17: ○ | FD17: ○ | FF17: １回 | FG17: 各戸収集方式
A18: 山口県 | B18: 35213 | C18: 美祢市 | G18: ○ | M18: ○ | P18: ○ | R18: ２回 | S18: ステーション方式 | U18: ○ | X18: ○ | Z18: １回 | AA18: ステーション方式 | AC18: ○ | AG18: ○ | AH18: 不定期 | AI18: ステーション方式 | AK18: ○ | AO18: ○ | AP18: 不定期 | AQ18: ステーション方式 | AU18: ○ | BA18: ○ | BD18: ○ | BF18: １回 | BG18: ステーション方式 | BI18: ○ | BL18: ○ | BN18: １回 | BO18: ステーション方式 | BQ18: ○ | BU18: ○ | BV18: 不定期 | BW18: ステーション方式 | CA18: ○ | CI18: ○ | CQ18: ○ | CW18: ○ | DA18: ○ | DB18: １回 | DC18: ステーション方式 | DG18: ○ | DO18: ○ | DW18: ○ | EC18: ○ | EF18: ○ | EH18: １回 | EI18: ステーション方式 | EK18: ○ | EO18: ○ | EP18: 不定期 | EQ18: 併用 | EU18: ○ | FA18: ○ | FE18: ○ | FF18: １回 | FG18: 併用
A19: 山口県 | B19: 35215 | C19: 周南市 | G19: ○ | M19: ○ | N19: ○ | P19: ○ | R19: ２回 | S19: ステーション方式 | T19: ○ | U19: ○ | V19: ○ | X19: ○ | Z19: １回 | AA19: ステーション方式 | AB19: ○ | AC19: ○ | AF19: ○ | AH19: ２回 | AI19: ステーション方式 | AJ19: ○ | AK19: ○ | AN19: ○ | AP19: ２回 | AQ19: ステーション方式 | AR19: ○ | AS19: ○ | AV19: ○ | AX19: ２回 | AY19: ステーション方式 | AZ19: ○ | BA19: ○ | BD19: ○ | BF19: ２回 | BG19: ステーション方式 | BH19: ○ | BI19: ○ | BL19: ○ | BN19: ２回 | BO19: ステーション方式 | BP19: ○ | BQ19: ○ | BT19: ○ | BV19: ２回 | BW19: ステーション方式 | BX19: ○ | BY19: ○ | CB19: ○ | CD19: ４回 | CE19: ステーション方式 | CF19: ○ | CG19: ○ | CJ19: ○ | CL19: ４回 | CM19: ステーション方式 | CN19: ○ | CO19: ○ | CR19: ○ | CT19: １回 | CU19: ステーション方式 | CY19: ○ | DG19: ○ | DO19: ○ | DW19: ○ | EB19: ○ | EF19: ○ | EH19: 不定期 | EI19: その他 | EJ19: ○ | EK19: ○ | EN19: ○ | EP19: ２回 | EQ19: ステーション方式 | ES19: ○ | ET19: ○ | EV19: ○ | EX19: １回 | EY19: ステーション方式 | EZ19: ○ | FD19: ○ | FF19: 不定期 | FG19: 各戸収集方式
A20: 山口県 | B20: 35216 | C20: 山陽小野田市 | G20: ○ | L20: ○ | M20: ○ | P20: ○ | R20: ２回 | S20: ステーション方式 | T20: ○ | X20: ○ | Z20: １回 | AA20: ステーション方式 | AB20: ○ | AF20: ○ | AH20: １回 | AI20: ステーション方式 | AJ20: ○ | AN20: ○ | AP20: １回 | AQ20: ステーション方式 | AR20: ○ | AV20: ○ | AX20: １回 | AY20: ステーション方式 | AZ20: ○ | BD20: ○ | BF20: １回 | BG20: ステーション方式 | BH20: ○ | BL20: ○ | BN20: １回 | BO20: ステーション方式 | BP20: ○ | BT20: ○ | BV20: １回 | BW20: ステーション方式 | BX20: ○ | BY20: ○ | CB20: ○ | CD20: １回 | CE20: ステーション方式 | CF20: ○ | CG20: ○ | CJ20: ○ | CL20: １回 | CM20: ステーション方式 | CQ20: ○ | CV20: ○ | CZ20: ○ | DB20: １回 | DC20: ステーション方式 | DG20: ○ | DO20: ○ | DW20: ○ | EB20: ○ | EF20: ○ | EH20: １回 | EI20: ステーション方式 | EJ20: ○ | EK20: ○ | EN20: ○ | EP20: １回 | EQ20: ステーション方式 | EU20: ○ | EZ20: ○ | FD20: ○ | FF20: 不定期 | FG20: 各戸収集方式
A21: 山口県 | B21: 35305 | C21: 周防大島町 | G21: ○ | M21: ○ | P21: ○ | R21: ２回 | S21: ステーション方式 | U21: ○ | X21: ○ | Z21: １回 | AA21: ステーション方式 | AE21: ○ | AM21: ○ | AU21: ○ | BA21: ○ | BD21: ○ | BF21: １回 | BG21: ステーション方式 | BI21: ○ | BL21: ○ | BN21: １回 | BO21: ステーション方式 | BQ21: ○ | BT21: ○ | BV21: １回 | BW21: ステーション方式 | BY21: ○ | CB21: ○ | CD21: ２回 | CE21: ステーション方式 | CG21: ○ | CJ21: ○ | CL21: ２回 | CM21: ステーション方式 | CO21: ○ | CR21: ○ | CT21: １回 | CU21: ステーション方式 | CY21: ○ | DG21: ○ | DO21: ○ | DW21: ○ | EE21: ○ | EM21: ○ | ES21: ○ | EV21: ○ | EX21: １回未満 | EY21: ステーション方式 | FA21: ○ | FD21: ○ | FF21: １回未満 | FG21: ステーション方式
A22: 山口県 | B22: 35321 | C22: 和木町 | G22: ○ | M22: ○ | P22: ○ | R22: ２回 | S22: ステーション方式 | U22: ○ | X22: ○ | Z22: ２回 | AA22: ステーション方式 | AC22: ○ | AF22: ○ | AH22: ２回 | AI22: ステーション方式 | AM22: ○ | AU22: ○ | BA22: ○ | BD22: ○ | BF22: ２回 | BG22: ステーション方式 | BI22: ○ | BL22: ○ | BN22: ２回 | BO22: ステーション方式 | BQ22: ○ | BT22: ○ | BV22: ２回 | BW22: ステーション方式 | BY22: ○ | CB22: ○ | CD22: ４回 | CE22: ステーション方式 | CG22: ○ | CJ22: ○ | CL22: ４回 | CM22: ステーション方式 | CO22: ○ | CR22: ○ | CT22: ２回 | CU22: ステーション方式 | CY22: ○ | DG22: ○ | DO22: ○ | DW22: ○ | EE22: ○ | EM22: ○ | EU22: ○ | FA22: ○ | FD22: ○ | FF22: １回 | FG22: 各戸収集方式
A23: 山口県 | B23: 35341 | C23: 上関町 | G23: ○ | M23: ○ | P23: ○ | R23: ２回 | S23: ステーション方式 | U23: ○ | X23: ○ | Z23: １回 | AA23: ステーション方式 | AC23: ○ | AF23: ○ | AH23: １回 | AI23: ステーション方式 | AK23: ○ | AN23: ○ | AP23: １回 | AQ23: ステーション方式 | AS23: ○ | AV23: ○ | AX23: １回 | AY23: ステーション方式 | BA23: ○ | BD23: ○ | BF23: ２回 | BG23: ステーション方式 | BI23: ○ | BL23: ○ | BN23: １回 | BO23: ステーション方式 | BQ23: ○ | BT23: ○ | BV23: 不定期 | BW23: その他 | CA23: ○ | CI23: ○ | CQ23: ○ | CY23: ○ | DG23: ○ | DO23: ○ | DW23: ○ | EC23: ○ | EF23: ○ | EH23: １回 | EI23: ステーション方式 | EM23: ○ | EU23: ○ | FC23: ○
A24: 山口県 | B24: 35343 | C24: 田布施町 | G24: ○ | M24: ○ | P24: ○ | R24: ２回 | S24: ステーション方式 | U24: ○ | X24: ○ | Z24: １回 | AA24: ステーション方式 | AC24: ○ | AF24: ○ | AH24: １回 | AI24: ステーション方式 | AK24: ○ | AN24: ○ | AP24: １回 | AQ24: ステーション方式 | AS24: ○ | AV24: ○ | AX24: １回 | AY24: ステーション方式 | BA24: ○ | BD24: ○ | BF24: １回 | BG24: ステーション方式 | BI24: ○ | BL24: ○ | BN24: １回 | BO24: ステーション方式 | BQ24: ○ | BT24: ○ | BV24: １回 | BW24: ステーション方式 | CA24: ○ | CI24: ○ | CQ24: ○ | CW24: ○ | CZ24: ○ | DB24: １回 | DC24: ステーション方式 | DG24: ○ | DO24: ○ | DW24: ○ | EE24: ○ | EM24: ○ | EU24: ○ | EZ24: ○ | FD24: ○ | FF24: １回 | FG24: 各戸収集方式
A25: 山口県 | B25: 35344 | C25: 平生町 | G25: ○ | M25: ○ | P25: ○ | R25: ２回 | S25: ステーション方式 | U25: ○ | X25: ○ | Z25: １回 | AA25: ステーション方式 | AC25: ○ | AF25: ○ | AH25: １回 | AI25: ステーション方式 | AK25: ○ | AN25: ○ | AP25: １回 | AQ25: ステーション方式 | AS25: ○ | AV25: ○ | AX25: １回 | AY25: ステーション方式 | BA25: ○ | BD25: ○ | BF25: １回 | BG25: ステーション方式 | BI25: ○ | BL25: ○ | BN25: １回 | BO25: ステーション方式 | BQ25: ○ | BT25: ○ | BV25: １回 | BW25: ステーション方式 | CA25: ○ | CI25: ○ | CQ25: ○ | CW25: ○ | CZ25: ○ | DB25: １回 | DC25: ステーション方式 | DG25: ○ | DO25: ○ | DW25: ○ | EE25: ○ | EM25: ○ | EU25: ○ | EZ25: ○ | FD25: ○ | FF25: １回 | FG25: 各戸収集方式
A26: 山口県 | B26: 35502 | C26: 阿武町 | G26: ○ | M26: ○ | P26: ○ | R26: ３回 | S26: ステーション方式 | U26: ○ | X26: ○ | Z26: １回 | AA26: ステーション方式 | AC26: ○ | AF26: ○ | AH26: １回 | AI26: ステーション方式 | AK26: ○ | AN26: ○ | AP26: １回 | AQ26: ステーション方式 | AS26: ○ | AV26: ○ | AX26: １回 | AY26: ステーション方式 | BA26: ○ | BD26: ○ | BF26: １回 | BG26: ステーション方式 | BI26: ○ | BL26: ○ | BN26: １回 | BO26: ステーション方式 | BQ26: ○ | BT26: ○ | BV26: １回 | BW26: ステーション方式 | BY26: ○ | CB26: ○ | CD26: １回 | CE26: ステーション方式 | CG26: ○ | CJ26: ○ | CL26: ２回 | CM26: ステーション方式 | CQ26: ○ | CW26: ○ | CZ26: ○ | DB26: ３回 | DC26: ステーション方式 | DG26: ○ | DO26: ○ | DW26: ○ | EC26: ○ | EF26: ○ | EH26: １回 | EI26: ステーション方式 | EM26: ○ | ES26: ○ | EV26: ○ | EX26: １回 | EY26: ステーション方式 | FA26: ○ | FD26: ○ | FF26: １回 | FG26: 併用

Sheet 収集運搬（事業系）
A1: ごみ収集運搬の状況【事業系ごみ】（令和3年度実績）
A2: 都道府県名 | B2: 地方公共団体コード | C2: 市区町村名 | D2: 事業系ごみの収集運搬
D3: 混合ごみ | L3: 可燃ごみ | T3: 不燃ごみ | AB3: 資源ごみ | ER3: その他のごみ | EZ3: 粗大ごみ
AB4: 紙（紙パック、紙製容器包装を除く） | AJ4: 紙パック | AR4: 紙製容器包装 | AZ4: 金属類 | BH4: ガラス類 | BP4: ペットボトル | BX4: 白色トレイ | CF4: 容器包装プラスチック（白色トレイを除く） | CN4: プラスチック類（白色トレイ、容器包装プラスチックを除く） | CV4: 布類 | DD4: 生ごみ | DL4: 廃食油 | DT4: 剪定枝 | EB4: 小型家電 | EJ4: その他
D5: 形態 | H5: 地域 | J5: 収集回数 | K5: 収集方式 | L5: 形態 | P5: 地域 | R5: 収集回数 | S5: 収集方式 | T5: 形態 | X5: 地域 | Z5: 収集回数 | AA5: 収集方式 | AB5: 形態 | AF5: 地域 | AH5: 収集回数 | AI5: 収集方式 | AJ5: 形態 | AN5: 地域 | AP5: 収集回数 | AQ5: 収集方式 | AR5: 形態 | AV5: 地域 | AX5: 収集回数 | AY5: 収集方式 | AZ5: 形態 | BD5: 地域 | BF5: 収集回数 | BG5: 収集方式 | BH5: 形態 | BL5: 地域 | BN5: 収集回数 | BO5: 収集方式 | BP5: 形態 | BT5: 地域 | BV5: 収集回数 | BW5: 収集方式 | BX5: 形態 | CB5: 地域 | CD5: 収集回数 | CE5: 収集方式 | CF5: 形態 | CJ5: 地域 | CL5: 収集回数 | CM5: 収集方式 | CN5: 形態 | CR5: 地域 | CT5: 収集回数 | CU5: 収集方式 | CV5: 形態 | CZ5: 地域 | DB5: 収集回数 | DC5: 収集方式 | DD5: 形態 | DH5: 地域 | DJ5: 収集回数 | DK5: 収集方式 | DL5: 形態 | DP5: 地域 | DR5: 収集回数 | DS5: 収集方式 | DT5: 形態 | DX5: 地域 | DZ5: 収集回数 | EA5: 収集方式 | EB5: 形態 | EF5: 地域 | EH5: 収集回数 | EI5: 収集方式 | EJ5: 形態 | EN5: 地域 | EP5: 収集回数 | EQ5: 収集方式 | ER5: 形態 | EV5: 地域 | EX5: 収集回数 | EY5: 収集方式 | EZ5: 形態 | FD5: 地域 | FF5: 収集回数 | FG5: 収集方式
D6: 直営 | E6: 委託 | F6: 許可 | G6: 収集無し | H6: 全地域 | I6: 一部地域 | J6: （回/週） | L6: 直営 | M6: 委託 | N6: 許可 | O6: 収集無し | P6: 全地域 | Q6: 一部地域 | R6: （回/週） | T6: 直営 | U6: 委託 | V6: 許可 | W6: 収集無し | X6: 全地域 | Y6: 一部地域 | Z6: （回/月） | AB6: 直営 | AC6: 委託 | AD6: 許可 | AE6: 収集無し | AF6: 全地域 | AG6: 一部地域 | AH6: （回/月） | AJ6: 直営 | AK6: 委託 | AL6: 許可 | AM6: 収集無し | AN6: 全地域 | AO6: 一部地域 | AP6: （回/月） | AR6: 直営 | AS6: 委託 | AT6: 許可 | AU6: 収集無し | AV6: 全地域 | AW6: 一部地域 | AX6: （回/月） | AZ6: 直営 | BA6: 委託 | BB6: 許可 | BC6: 収集無し | BD6: 全地域 | BE6: 一部地域 | BF6: （回/月） | BH6: 直営 | BI6: 委託 | BJ6: 許可 | BK6: 収集無し | BL6: 全地域 | BM6: 一部地域 | BN6: （回/月） | BP6: 直営 | BQ6: 委託 | BR6: 許可 | BS6: 収集無し | BT6: 全地域 | BU6: 一部地域 | BV6: （回/月） | BX6: 直営 | BY6: 委託 | BZ6: 許可 | CA6: 収集無し | CB6: 全地域 | CC6: 一部地域 | CD6: （回/月） | CF6: 直営 | CG6: 委託 | CH6: 許可 | CI6: 収集無し | CJ6: 全地域 | CK6: 一部地域 | CL6: （回/月） | CN6: 直営 | CO6: 委託 | CP6: 許可 | CQ6: 収集無し | CR6: 全地域 | CS6: 一部地域 | CT6: （回/月） | CV6: 直営 | CW6: 委託 | CX6: 許可 | CY6: 収集無し | CZ6: 全地域 | DA6: 一部地域 | DB6: （回/月） | DD6: 直営 | DE6: 委託 | DF6: 許可 | DG6: 収集無し | DH6: 全地域 | DI6: 一部地域 | DJ6: （回/月） | DL6: 直営 | DM6: 委託 | DN6: 許可 | DO6: 収集無し | DP6: 全地域 | DQ6: 一部地域 | DR6: （回/月） | DT6: 直営 | DU6: 委託 | DV6: 許可 | DW6: 収集無し | DX6: 全地域 | DY6: 一部地域 | DZ6: （回/月） | EB6: 直営 | EC6: 委託 | ED6: 許可 | EE6: 収集無し | EF6: 全地域 | EG6: 一部地域 | EH6: （回/月） | EJ6: 直営 | EK6: 委託 | EL6: 許可 | EM6: 収集無し | EN6: 全地域 | EO6: 一部地域 | EP6: （回/月） | ER6: 直営 | ES6: 委託 | ET6: 許可 | EU6: 収集無し | EV6: 全地域 | EW6: 一部地域 | EX6: （回/月） | EZ6: 直営 | FA6: 委託 | FB6: 許可 | FC6: 収集無し | FD6: 全地域 | FE6: 一部地域 | FF6: （回/月）
A7: ='収集運搬（生活系）'!A7 -> 山口県 | B7: ='収集運搬（生活系）'!B7 -> 35000 | C7: 合計 | D7: =COUNTIF(D$8:D$207,"○") -> 0 | E7: =COUNTIF(E$8:E$207,"○") -> 0 | F7: =COUNTIF(F$8:F$207,"○") -> 0 | G7: =COUNTIF(G$8:G$207,"○") -> 19 | H7: =COUNTIF(H$8:H$207,"○") -> 0 | I7: =COUNTIF(I$8:I$207,"○") -> 0 | J7: =COUNTIF(J$8:J$207,"<>") -> 0 | K7: =COUNTIF(K$8:K$207,"<>") -> 0 | L7: =COUNTIF(L$8:L$207,"○") -> 2 | M7: =COUNTIF(M$8:M$207,"○") -> 4 | N7: =COUNTIF(N$8:N$207,"○") -> 13 | O7: =COUNTIF(O$8:O$207,"○") -> 3 | P7: =COUNTIF(P$8:P$207,"○") -> 15 | Q7: =COUNTIF(Q$8:Q$207,"○") -> 1 | R7: =COUNTIF(R$8:R$207,"<>") -> 16 | S7: =COUNTIF(S$8:S$207,"<>") -> 16 | T7: =COUNTIF(T$8:T$207,"○") -> 0 | U7: =COUNTIF(U$8:U$207,"○") -> 2 | V7: =COUNTIF(V$8:V$207,"○") -> 12 | W7: =COUNTIF(W$8:W$207,"○") -> 5 | X7: =COUNTIF(X$8:X$207,"○") -> 13 | Y7: =COUNTIF(Y$8:Y$207,"○") -> 1 | Z7: =COUNTIF(Z$8:Z$207,"<>") -> 14 | AA7: =COUNTIF(AA$8:AA$207,"<>") -> 14 | AB7: =COUNTIF(AB$8:AB$207,"○") -> 0 | AC7: =COUNTIF(AC$8:AC$207,"○") -> 3 | AD7: =COUNTIF(AD$8:AD$207,"○") -> 8 | AE7: =COUNTIF(AE$8:AE$207,"○") -> 8 | AF7: =COUNTIF(AF$8:AF$207,"○") -> 10 | AG7: =COUNTIF(AG$8:AG$207,"○") -> 1 | AH7: =COUNTIF(AH$8:AH$207,"<>") -> 11 | AI7: =COUNTIF(AI$8:AI$207,"<>") -> 11 | AJ7: =COUNTIF(AJ$8:AJ$207,"○") -> 0 | AK7: =COUNTIF(AK$8:AK$207,"○") -> 3 | AL7: =COUNTIF(AL$8:AL$207,"○") -> 7 | AM7: =COUNTIF(AM$8:AM$207,"○") -> 9 | AN7: =COUNTIF(AN$8:AN$207,"○") -> 9 | AO7: =COUNTIF(AO$8:AO$207,"○") -> 1 | AP7: =COUNTIF(AP$8:AP$207,"<>") -> 10 | AQ7: =COUNTIF(AQ$8:AQ$207,"<>") -> 10 | AR7: =COUNTIF(AR$8:AR$207,"○") -> 0 | AS7: =COUNTIF(AS$8:AS$207,"○") -> 2 | AT7: =COUNTIF(AT$8:AT$207,"○") -> 7 | AU7: =COUNTIF(AU$8:AU$207,"○") -> 10 | AV7: =COUNTIF(AV$8:AV$207,"○") -> 9 | AW7: =COUNTIF(AW$8:AW$207,"○") -> 0 | AX7: =COUNTIF(AX$8:AX$207,"<>") -> 9 | AY7: =COUNTIF(AY$8:AY$207,"<>") -> 9 | AZ7: =COUNTIF(AZ$8:AZ$207,"○") -> 0 | BA7: =COUNTIF(BA$8:BA$207,"○") -> 3 | BB7: =COUNTIF(BB$8:BB$207,"○") -> 10 | BC7: =COUNTIF(BC$8:BC$207,"○") -> 6 | BD7: =COUNTIF(BD$8:BD$207,"○") -> 12 | BE7: =COUNTIF(BE$8:BE$207,"○") -> 1 | BF7: =COUNTIF(BF$8:BF$207,"<>") -> 13 | BG7: =COUNTIF(BG$8:BG$207,"<>") -> 13 | BH7: =COUNTIF(BH$8:BH$207,"○") -> 0 | BI7: =COUNTIF(BI$8:BI$207,"○") -> 3 | BJ7: =COUNTIF(BJ$8:BJ$207,"○") -> 11 | BK7: =COUNTIF(BK$8:BK$207,"○") -> 5 | BL7: =COUNTIF(BL$8:BL$207,"○") -> 13 | BM7: =COUNTIF(BM$8:BM$207,"○") -> 1 | BN7: =COUNTIF(BN$8:BN$207,"<>") -> 14 | BO7: =COUNTIF(BO$8:BO$207,"<>") -> 14 | BP7: =COUNTIF(BP$8:BP$207,"○") -> 0 | BQ7: =COUNTIF(BQ$8:BQ$207,"○") -> 3 | BR7: =COUNTIF(BR$8:BR$207,"○") -> 9 | BS7: =COUNTIF(BS$8:BS$207,"○") -> 7 | BT7: =COUNTIF(BT$8:BT$207,"○") -> 11 | BU7: =COUNTIF(BU$8:BU$207,"○") -> 1 | BV7: =COUNTIF(BV$8:BV$207,"<>") -> 12 | BW7: =COUNTIF(BW$8:BW$207,"<>") -> 12 | BX7: =COUNTIF(BX$8:BX$207,"○") -> 0 | BY7: =COUNTIF(BY$8:BY$207,"○") -> 1 | BZ7: =COUNTIF(BZ$8:BZ$207,"○") -> 5 | CA7: =COUNTIF(CA$8:CA$207,"○") -> 13 | CB7: =COUNTIF(CB$8:CB$207,"○") -> 6 | CC7: =COUNTIF(CC$8:CC$207,"○") -> 0 | CD7: =COUNTIF(CD$8:CD$207,"<>") -> 6 | CE7: =COUNTIF(CE$8:CE$207,"<>") -> 6 | CF7: =COUNTIF(CF$8:CF$207,"○") -> 1 | CG7: =COUNTIF(CG$8:CG$207,"○") -> 2 | CH7: =COUNTIF(CH$8:CH$207,"○") -> 7 | CI7: =COUNTIF(CI$8:CI$207,"○") -> 11 | CJ7: =COUNTIF(CJ$8:CJ$207,"○") -> 8 | CK7: =COUNTIF(CK$8:CK$207,"○") -> 0 | CL7: =COUNTIF(CL$8:CL$207,"<>") -> 8 | CM7: =COUNTIF(CM$8:CM$207,"<>") -> 8 | CN7: =COUNTIF(CN$8:CN$207,"○") -> 0 | CO7: =COUNTIF(CO$8:CO$207,"○") -> 0 | CP7: =COUNTIF(CP$8:CP$207,"○") -> 3 | CQ7: =COUNTIF(CQ$8:CQ$207,"○") -> 16 | CR7: =COUNTIF(CR$8:CR$207,"○") -> 3 | CS7: =COUNTIF(CS$8:CS$207,"○") -> 0 | CT7: =COUNTIF(CT$8:CT$207,"<>") -> 3 | CU7: =COUNTIF(CU$8:CU$207,"<>") -> 3 | CV7: =COUNTIF(CV$8:CV$207,"○") -> 0 | CW7: =COUNTIF(CW$8:CW$207,"○") -> 2 | CX7: =COUNTIF(CX$8:CX$207,"○") -> 3 | CY7: =COUNTIF(CY$8:CY$207,"○") -> 14 | CZ7: =COUNTIF(CZ$8:CZ$207,"○") -> 4 | DA7: =COUNTIF(DA$8:DA$207,"○") -> 1 | DB7: =COUNTIF(DB$8:DB$207,"<>") -> 5 | DC7: =COUNTIF(DC$8:DC$207,"<>") -> 5 | DD7: =COUNTIF(DD$8:DD$207,"○") -> 0 | DE7: =COUNTIF(DE$8:DE$207,"○") -> 0 | DF7: =COUNTIF(DF$8:DF$207,"○") -> 1 | DG7: =COUNTIF(DG$8:DG$207,"○") -> 18 | DH7: =COUNTIF(DH$8:DH$207,"○") -> 1 | DI7: =COUNTIF(DI$8:DI$207,"○") -> 0 | DJ7: =COUNTIF(DJ$8:DJ$207,"<>") -> 1 | DK7: =COUNTIF(DK$8:DK$207,"<>") -> 1 | DL7: =COUNTIF(DL$8:DL$207,"○") -> 0 | DM7: =COUNTIF(DM$8:DM$207,"○") -> 0 | DN7: =COUNTIF(DN$8:DN$207,"○") -> 1 | DO7: =COUNTIF(DO$8:DO$207,"○") -> 18 | DP7: =COUNTIF(DP$8:DP$207,"○") -> 1 | DQ7: =COUNTIF(DQ$8:DQ$207,"○") -> 0 | DR7: =COUNTIF(DR$8:DR$207,"<>") -> 1 | DS7: =COUNTIF(DS$8:DS$207,"<>") -> 1 | DT7: =COUNTIF(DT$8:DT$207,"○") -> 0 | DU7: =COUNTIF(DU$8:DU$207,"○") -> 0 | DV7: =COUNTIF(DV$8:DV$207,"○") -> 0 | DW7: =COUNTIF(DW$8:DW$207,"○") -> 19 | DX7: =COUNTIF(DX$8:DX$207,"○") -> 0 | DY7: =COUNTIF(DY$8:DY$207,"○") -> 0 | DZ7: =COUNTIF(DZ$8:DZ$207,"<>") -> 0 | EA7: =COUNTIF(EA$8:EA$207,"<>") -> 0 | EB7: =COUNTIF(EB$8:EB$207,"○") -> 0 | EC7: =COUNTIF(EC$8:EC$207,"○") -> 1 | ED7: =COUNTIF(ED$8:ED$207,"○") -> 1 | EE7: =COUNTIF(EE$8:EE$207,"○") -> 17 | EF7: =COUNTIF(EF$8:EF$207,"○") -> 2 | EG7: =COUNTIF(EG$8:EG$207,"○") -> 0 | EH7: =COUNTIF(EH$8:EH$207,"<>") -> 2 | EI7: =COUNTIF(EI$8:EI$207,"<>") -> 2 | EJ7: =COUNTIF(EJ$8:EJ$207,"○") -> 0 | EK7: =COUNTIF(EK$8:EK$207,"○") -> 0 | EL7: =COUNTIF(EL$8:EL$207,"○") -> 4 | EM7: =COUNTIF(EM$8:EM$207,"○") -> 15 | EN7: =COUNTIF(EN$8:EN$207,"○") -> 4 | EO7: =COUNTIF(EO$8:EO$207,"○") -> 0 | EP7: =COUNTIF(EP$8:EP$207,"<>") -> 4 | EQ7: =COUNTIF(EQ$8:EQ$207,"<>") -> 4 | ER7: =COUNTIF(ER$8:ER$207,"○") -> 0 | ES7: =COUNTIF(ES$8:ES$207,"○") -> 1 | ET7: =COUNTIF(ET$8:ET$207,"○") -> 4 | EU7: =COUNTIF(EU$8:EU$207,"○") -> 14 | EV7: =COUNTIF(EV$8:EV$207,"○") -> 5 | EW7: =COUNTIF(EW$8:EW$207,"○") -> 0 | EX7: =COUNTIF(EX$8:EX$207,"<>") -> 5 | EY7: =COUNTIF(EY$8:EY$207,"<>") -> 5 | EZ7: =COUNTIF(EZ$8:EZ$207,"○") -> 1 | FA7: =COUNTIF(FA$8:FA$207,"○") -> 2 | FB7: =COUNTIF(FB$8:FB$207,"○") -> 10 | FC7: =COUNTIF(FC$8:FC$207,"○") -> 7 | FD7: =COUNTIF(FD$8:FD$207,"○") -> 11 | FE7: =COUNTIF(FE$8:FE$207,"○") -> 1 | FF7: =COUNTIF(FF$8:FF$207,"<>") -> 12 | FG7: =COUNTIF(FG$8:FG$207,"<>") -> 12
A8: 山口県 | B8: 35201 | C8: 下関市 | G8: ○ | O8: ○ | W8: ○ | AE8: ○ | AM8: ○ | AU8: ○ | BC8: ○ | BK8: ○ | BS8: ○ | CA8: ○ | CI8: ○ | CQ8: ○ | CY8: ○ | DG8: ○ | DO8: ○ | DW8: ○ | EE8: ○ | EM8: ○ | EU8: ○ | FC8: ○
A9: 山口県 | B9: 35202 | C9: 宇部市 | G9: ○ | N9: ○ | P9: ○ | R9: 不定期 | S9: その他 | V9: ○ | X9: ○ | Z9: 不定期 | AA9: その他 | AD9: ○ | AF9: ○ | AH9: 不定期 | AI9: その他 | AL9: ○ | AN9: ○ | AP9: 不定期 | AQ9: その他 | AT9: ○ | AV9: ○ | AX9: 不定期 | AY9: その他 | BB9: ○ | BD9: ○ | BF9: 不定期 | BG9: その他 | BJ9: ○ | BL9: ○ | BN9: 不定期 | BO9: その他 | BR9: ○ | BT9: ○ | BV9: 不定期 | BW9: その他 | BZ9: ○ | CB9: ○ | CD9: 不定期 | CE9: その他 | CH9: ○ | CJ9: ○ | CL9: 不定期 | CM9: その他 | CQ9: ○ | CY9: ○ | DG9: ○ | DO9: ○ | DW9: ○ | EE9: ○ | EM9: ○ | ET9: ○ | EV9: ○ | EX9: 不定期 | EY9: その他 | FB9: ○ | FD9: ○ | FF9: 不定期 | FG9: その他
A10: 山口県 | B10: 35203 | C10: 山口市 | G10: ○ | O10: ○ | W10: ○ | AE10: ○ | AM10: ○ | AU10: ○ | BC10: ○ | BK10: ○ | BS10: ○ | CA10: ○ | CI10: ○ | CQ10: ○ | CY10: ○ | DG10: ○ | DO10: ○ | DW10: ○ | EE10: ○ | EM10: ○ | EU10: ○ | FC10: ○
A11: 山口県 | B11: 35204 | C11: 萩市 | G11: ○ | L11: ○ | M11: ○ | P11: ○ | R11: ２回 | S11: 併用 | W11: ○ | AE11: ○ | AM11: ○ | AU11: ○ | BC11: ○ | BK11: ○ | BS11: ○ | CA11: ○ | CI11: ○ | CQ11: ○ | CY11: ○ | DG11: ○ | DO11: ○ | DW11: ○ | EE11: ○ | EM11: ○ | EU11: ○ | FC11: ○
A12: 山口県 | B12: 35206 | C12: 防府市 | G12: ○ | L12: ○ | M12: ○ | N12: ○ | P12: ○ | R12: ２回 | S12: 各戸収集方式 | V12: ○ | X12: ○ | Z12: 不定期 | AA12: 各戸収集方式 | AD12: ○ | AF12: ○ | AH12: 不定期 | AI12: 各戸収集方式 | AL12: ○ | AN12: ○ | AP12: 不定期 | AQ12: 各戸収集方式 | AT12: ○ | AV12: ○ | AX12: 不定期 | AY12: 各戸収集方式 | BB12: ○ | BD12: ○ | BF12: 不定期 | BG12: 各戸収集方式 | BJ12: ○ | BL12: ○ | BN12: 不定期 | BO12: 各戸収集方式 | BR12: ○ | BT12: ○ | BV12: 不定期 | BW12: 各戸収集方式 | CA12: ○ | CF12: ○ | CG12: ○ | CH12: ○ | CJ12: ○ | CL12: ４回 | CM12: 各戸収集方式 | CQ12: ○ | CY12: ○ | DG12: ○ | DO12: ○ | DW12: ○ | EE12: ○ | EM12: ○ | EU12: ○ | EZ12: ○ | FB12: ○ | FD12: ○ | FF12: 不定期 | FG12: 各戸収集方式
A13: 山口県 | B13: 35207 | C13: 下松市 | G13: ○ | N13: ○ | P13: ○ | R13: 不定期 | S13: 各戸収集方式 | V13: ○ | X13: ○ | Z13: 不定期 | AA13: 各戸収集方式 | AE13: ○ | AM13: ○ | AU13: ○ | BC13: ○ | BK13: ○ | BS13: ○ | CA13: ○ | CI13: ○ | CQ13: ○ | CY13: ○ | DG13: ○ | DO13: ○ | DW13: ○ | EE13: ○ | EM13: ○ | ET13: ○ | EV13: ○ | EX13: 不定期 | EY13: 各戸収集方式 | FB13: ○ | FD13: ○ | FF13: 不定期 | FG13: 各戸収集方式
A14: 山口県 | B14: 35208 | C14: 岩国市 | G14: ○ | N14: ○ | P14: ○ | R14: 不定期 | S14: 各戸収集方式 | V14: ○ | X14: ○ | Z14: 不定期 | AA14: 各戸収集方式 | AD14: ○ | AF14: ○ | AH14: 不定期 | AI14: 各戸収集方式 | AL14: ○ | AN14: ○ | AP14: 不定期 | AQ14: 各戸収集方式 | AT14: ○ | AV14: ○ | AX14: 不定期 | AY14: 各戸収集方式 | BB14: ○ | BD14: ○ | BF14: 不定期 | BG14: 各戸収集方式 | BJ14: ○ | BL14: ○ | BN14: 不定期 | BO14: 各戸収集方式 | BR14: ○ | BT14: ○ | BV14: 不定期 | BW14: 各戸収集方式 | CA14: ○ | CH14: ○ | CJ14: ○ | CL14: 不定期 | CM14: 各戸収集方式 | CP14: ○ | CR14: ○ | CT14: 不定期 | CU14: 各戸収集方式 | CX14: ○ | CZ14: ○ | DB14: 不定期 | DC14: 各戸収集方式 | DG14: ○ | DN14: ○ | DP14: ○ | DR14: 不定期 | DS14: 各戸収集方式 | DW14: ○ | EE14: ○ | EL14: ○ | EN14: ○ | EP14: 不定期 | EQ14: 各戸収集方式 | ET14: ○ | EV14: ○ | EX14: 不定期 | EY14: 各戸収集方式 | FB14: ○ | FD14: ○ | FF14: 不定期 | FG14: 各戸収集方式
A15: 山口県 | B15: 35210 | C15: 光市 | G15: ○ | N15: ○ | P15: ○ | R15: 不定期 | S15: 各戸収集方式 | V15: ○ | X15: ○ | Z15: 不定期 | AA15: 各戸収集方式 | AE15: ○ | AM15: ○ | AU15: ○ | BB15: ○ | BD15: ○ | BF15: 不定期 | BG15: 各戸収集方式 | BJ15: ○ | BL15: ○ | BN15: 不定期 | BO15: 各戸収集方式 | BR15: ○ | BT15: ○ | BV15: 不定期 | BW15: 各戸収集方式 | BZ15: ○ | CB15: ○ | CD15: 不定期 | CE15: 各戸収集方式 | CH15: ○ | CJ15: ○ | CL15: 不定期 | CM15: 各戸収集方式 | CP15: ○ | CR15: ○ | CT15: 不定期 | CU15: 各戸収集方式 | CY15: ○ | DG15: ○ | DO15: ○ | DW15: ○ | ED15: ○ | EF15: ○ | EH15: 不定期 | EI15: 各戸収集方式 | EL15: ○ | EN15: ○ | EP15: 不定期 | EQ15: 各戸収集方式 | EU15: ○ | FB15: ○ | FD15: ○ | FF15: 不定期 | FG15: 各戸収集方式
A16: 山口県 | B16: 35211 | C16: 長門市 | G16: ○ | N16: ○ | P16: ○ | R16: 不定期 | S16: 各戸収集方式 | V16: ○ | X16: ○ | Z16: 不定期 | AA16: 各戸収集方式 | AD16: ○ | AF16: ○ | AH16: 不定期 | AI16: 各戸収集方式 | AL16: ○ | AN16: ○ | AP16: 不定期 | AQ16: 各戸収集方式 | AT16: ○ | AV16: ○ | AX16: 不定期 | AY16: 各戸収集方式 | BB16: ○ | BD16: ○ | BF16: 不定期 | BG16: 各戸収集方式 | BJ16: ○ | BL16: ○ | BN16: 不定期 | BO16: 各戸収集方式 | BR16: ○ | BT16: ○ | BV16: 不定期 | BW16: 各戸収集方式 | BZ16: ○ | CB16: ○ | CD16: 不定期 | CE16: 各戸収集方式 | CH16: ○ | CJ16: ○ | CL16: 不定期 | CM16: 各戸収集方式 | CQ16: ○ | CX16: ○ | CZ16: ○ | DB16: 不定期 | DC16: 各戸収集方式 | DG16: ○ | DO16: ○ | DW16: ○ | EE16: ○ | EM16: ○ | EU16: ○ | FB16: ○ | FD16: ○ | FF16: 不定期 | FG16: 各戸収集方式
A17: 山口県 | B17: 35212 | C17: 柳井市 | G17: ○ | N17: ○ | P17: ○ | R17: 不定期 | S17: 各戸収集方式 | V17: ○ | X17: ○ | Z17: 不定期 | AA17: 各戸収集方式 | AD17: ○ | AF17: ○ | AH17: 不定期 | AI17: 各戸収集方式 | AM17: ○ | AU17: ○ | BB17: ○ | BD17: ○ | BF17: 不定期 | BG17: 各戸収集方式 | BJ17: ○ | BL17: ○ | BN17: 不定期 | BO17: 各戸収集方式 | BR17: ○ | BT17: ○ | BV17: 不定期 | BW17: 各戸収集方式 | CA17: ○ | CI17: ○ | CQ17: ○ | CY17: ○ | DG17: ○ | DO17: ○ | DW17: ○ | EE17: ○ | EL17: ○ | EN17: ○ | EP17: 不定期 | EQ17: 各戸収集方式 | EU17: ○ | FB17: ○ | FD17: ○ | FF17: 不定期 | FG17: 各戸収集方式
A18: 山口県 | B18: 35213 | C18: 美祢市 | G18: ○ | N18: ○ | Q18: ○ | R18: 不定期 | S18: その他 | V18: ○ | Y18: ○ | Z18: 不定期 | AA18: その他 | AC18: ○ | AG18: ○ | AH18: 不定期 | AI18: ステーション方式 | AK18: ○ | AO18: ○ | AP18: 不定期 | AQ18: ステーション方式 | AU18: ○ | BA18: ○ | BE18: ○ | BF18: １回 | BG18: ステーション方式 | BI18: ○ | BM18: ○ | BN18: １回 | BO18: ステーション方式 | BQ18: ○ | BU18: ○ | BV18: 不定期 | BW18: ステーション方式 | CA18: ○ | CI18: ○ | CQ18: ○ | CW18: ○ | DA18: ○ | DB18: １回 | DC18: ステーション方式 | DG18: ○ | DO18: ○ | DW18: ○ | EE18: ○ | EM18: ○ | EU18: ○ | FA18: ○ | FE18: ○ | FF18: １回 | FG18: 併用
A19: 山口県 | B19: 35215 | C19: 周南市 | G19: ○ | N19: ○ | P19: ○ | R19: 不定期 | S19: 各戸収集方式 | V19: ○ | X19: ○ | Z19: 不定期 | AA19: 各戸収集方式 | AE19: ○ | AM19: ○ | AU19: ○ | BB19: ○ | BD19: ○ | BF19: 不定期 | BG19: 各戸収集方式 | BJ19: ○ | BL19: ○ | BN19: 不定期 | BO19: 各戸収集方式 | BR19: ○ | BT19: ○ | BV19: 不定期 | BW19: 各戸収集方式 | BZ19: ○ | CB19: ○ | CD19: 不定期 | CE19: 各戸収集方式 | CH19: ○ | CJ19: ○ | CL19: 不定期 | CM19: 各戸収集方式 | CP19: ○ | CR19: ○ | CT19: 不定期 | CU19: 各戸収集方式 | CY19: ○ | DF19: ○ | DH19: ○ | DJ19: 不定期 | DK19: 各戸収集方式 | DO19: ○ | DW19: ○ | EE19: ○ | EM19: ○ | EU19: ○ | FC19: ○
A20: 山口県 | B20: 35216 | C20: 山陽小野田市 | G20: ○ | N20: ○ | P20: ○ | R20: 不定期 | S20: その他 | V20: ○ | X20: ○ | Z20: 不定期 | AA20: その他 | AD20: ○ | AF20: ○ | AH20: 不定期 | AI20: その他 | AL20: ○ | AN20: ○ | AP20: 不定期 | AQ20: その他 | AT20: ○ | AV20: ○ | AX20: 不定期 | AY20: その他 | BB20: ○ | BD20: ○ | BF20: 不定期 | BG20: その他 | BJ20: ○ | BL20: ○ | BN20: 不定期 | BO20: その他 | BR20: ○ | BT20: ○ | BV20: 不定期 | BW20: その他 | BZ20: ○ | CB20: ○ | CD20: 不定期 | CE20: その他 | CH20: ○ | CJ20: ○ | CL20: 不定期 | CM20: その他 | CQ20: ○ | CX20: ○ | CZ20: ○ | DB20: 不定期 | DC20: その他 | DG20: ○ | DO20: ○ | DW20: ○ | EE20: ○ | EL20: ○ | EN20: ○ | EP20: 不定期 | EQ20: その他 | ET20: ○ | EV20: ○ | EX20: 不定期 | EY20: その他 | FB20: ○ | FD20: ○ | FF20: 不定期 | FG20: その他
A21: 山口県 | B21: 35305 | C21: 周防大島町 | G21: ○ | N21: ○ | P21: ○ | R21: 不定期 | S21: 各戸収集方式 | W21: ○ | AE21: ○ | AM21: ○ | AU21: ○ | BC21: ○ | BJ21: ○ | BL21: ○ | BN21: 不定期 | BO21: 各戸収集方式 | BR21: ○ | BT21: ○ | BV21: 不定期 | BW21: 各戸収集方式 | CA21: ○ | CI21: ○ | CQ21: ○ | CY21: ○ | DG21: ○ | DO21: ○ | DW21: ○ | EE21: ○ | EM21: ○ | EU21: ○ | FC21: ○
A22: 山口県 | B22: 35321 | C22: 和木町 | G22: ○ | O22: ○ | W22: ○ | AE22: ○ | AM22: ○ | AU22: ○ | BC22: ○ | BK22: ○ | BS22: ○ | CA22: ○ | CI22: ○ | CQ22: ○ | CY22: ○ | DG22: ○ | DO22: ○ | DW22: ○ | EE22: ○ | EM22: ○ | EU22: ○ | FC22: ○
A23: 山口県 | B23: 35341 | C23: 上関町 | G23: ○ | M23: ○ | P23: ○ | R23: ２回 | S23: ステーション方式 | U23: ○ | X23: ○ | Z23: １回 | AA23: ステーション方式 | AC23: ○ | AF23: ○ | AH23: １回 | AI23: ステーション方式 | AK23: ○ | AN23: ○ | AP23: １回 | AQ23: ステーション方式 | AS23: ○ | AV23: ○ | AX23: １回 | AY23: ステーション方式 | BA23: ○ | BD23: ○ | BF23: ２回 | BG23: ステーション方式 | BI23: ○ | BL23: ○ | BN23: １回 | BO23: ステーション方式 | BQ23: ○ | BT23: ○ | BV23: 不定期 | BW23: その他 | CA23: ○ | CI23: ○ | CQ23: ○ | CY23: ○ | DG23: ○ | DO23: ○ | DW23: ○ | EC23: ○ | EF23: ○ | EH23: １回 | EI23: ステーション方式 | EM23: ○ | EU23: ○ | FC23: ○
A24: 山口県 | B24: 35343 | C24: 田布施町 | G24: ○ | N24: ○ | P24: ○ | R24: 不定期 | S24: 各戸収集方式 | V24: ○ | X24: ○ | Z24: 不定期 | AA24: 各戸収集方式 | AD24: ○ | AF24: ○ | AH24: 不定期 | AI24: 各戸収集方式 | AL24: ○ | AN24: ○ | AP24: 不定期 | AQ24: 各戸収集方式 | AT24: ○ | AV24: ○ | AX24: 不定期 | AY24: 各戸収集方式 | BB24: ○ | BD24: ○ | BF24: 不定期 | BG24: 各戸収集方式 | BJ24: ○ | BL24: ○ | BN24: 不定期 | BO24: 各戸収集方式 | BS24: ○ | CA24: ○ | CI24: ○ | CQ24: ○ | CY24: ○ | DG24: ○ | DO24: ○ | DW24: ○ | EE24: ○ | EM24: ○ | EU24: ○ | FB24: ○ | FD24: ○ | FF24: 不定期 | FG24: 各戸収集方式
A25: 山口県 | B25: 35344 | C25: 平生町 | G25: ○ | N25: ○ | P25: ○ | R25: 不定期 | S25: 各戸収集方式 | V25: ○ | X25: ○ | Z25: 不定期 | AA25: 各戸収集方式 | AD25: ○ | AF25: ○ | AH25: 不定期 | AI25: 各戸収集方式 | AL25: ○ | AN25: ○ | AP25: 不定期 | AQ25: 各戸収集方式 | AT25: ○ | AV25: ○ | AX25: 不定期 | AY25: 各戸収集方式 | BB25: ○ | BD25: ○ | BF25: 不定期 | BG25: 各戸収集方式 | BJ25: ○ | BL25: ○ | BN25: 不定期 | BO25: 各戸収集方式 | BS25: ○ | CA25: ○ | CI25: ○ | CQ25: ○ | CY25: ○ | DG25: ○ | DO25: ○ | DW25: ○ | EE25: ○ | EM25: ○ | EU25: ○ | FB25: ○ | FD25: ○ | FF25: 不定期 | FG25: 各戸収集方式
A26: 山口県 | B26: 35502 | C26: 阿武町 | G26: ○ | M26: ○ | P26: ○ | R26: ３回 | S26: ステーション方式 | U26: ○ | X26: ○ | Z26: １回 | AA26: ステーション方式 | AC26: ○ | AF26: ○ | AH26: １回 | AI26: ステーション方式 | AK26: ○ | AN26: ○ | AP26: １回 | AQ26: ステーション方式 | AS26: ○ | AV26: ○ | AX26: １回 | AY26: ステーション方式 | BA26: ○ | BD26: ○ | BF26: １回 | BG26: ステーション方式 | BI26: ○ | BL26: ○ | BN26: １回 | BO26: ステーション方式 | BQ26: ○ | BT26: ○ | BV26: １回 | BW26: ステーション方式 | BY26: ○ | CB26: ○ | CD26: １回 | CE26: ステーション方式 | CG26: ○ | CJ26: ○ | CL26: ２回 | CM26: ステーション方式 | CQ26: ○ | CW26: ○ | CZ26: ○ | DB26: １回 | DC26: ステーション方式 | DG26: ○ | DO26: ○ | DW26: ○ | EE26: ○ | EM26: ○ | ES26: ○ | EV26: ○ | EX26: １回 | EY26: ステーション方式 | FA26: ○ | FD26: ○ | FF26: １回 | FG26: ステーション方式

Sheet 分別数等
A1: ごみ分別数と処理処分の実施形態の状況（令和3年度実績）
A2: 都道府県名 | B2: 地方公共団体コード | C2: 市区町村名 | D2: ごみの分別数 | AF2: ごみの収集区分 | CH2: 混合ごみ | CP2: 可燃ごみ | CX2: 不燃ごみ | DF2: 資源ごみ | HV2: その他のごみ | ID2: 粗大ごみ
DF3: 紙類（紙パック、紙製容器包装を除く） | DN3: 紙パック | DV3: 紙製容器包装 | ED3: 金属類 | EL3: ガラス類 | ET3: ペットボトル | FB3: 白色トレイ | FJ3: 容器包装プラスチック（白色トレイ除く） | FR3: プラスチック類（白色トレイ、容器包装プラスチック除く） | FZ3: 布類 | GH3: 生ごみ | GP3: 廃食油 | GX3: 剪定枝 | HF3: 小型家電 | HN3: その他
E4: １種類 | F4: ２種類 | G4: ３種類 | H4: ４種類 | I4: ５種類 | J4: ６種類 | K4: ７種類 | L4: ８種類 | M4: ９種類 | N4: 10種類 | O4: 11種類 | P4: 12種類 | Q4: 13種類 | R4: 14種類 | S4: 15種類 | T4: 16種類 | U4: 17種類 | V4: 18種類 | W4: 19種類 | X4: 20種類 | Y4: 21種類 | Z4: 22種類 | AA4: 23種類 | AB4: 24種類 | AC4: 25種類 | AD4: 26種類 以上 | AE4: 収集 無し | AF4: 混合ごみ | AO4: 可燃ごみ | AX4: 不燃ごみ | BG4: 資源ごみ | BP4: 集団回収 | BY4: 収集していない | CH4: 中間処理 | CL4: 最終処分 | CP4: 中間処理 | CT4: 最終処分 | CX4: 中間処理 | DB4: 最終処分 | DF4: 中間処理 | DJ4: 最終処分 | DN4: 中間処理 | DR4: 最終処分 | DV4: 中間処理 | DZ4: 最終処分 | ED4: 中間処理 | EH4: 最終処分 | EL4: 中間処理 | EP4: 最終処分 | ET4: 中間処理 | EX4: 最終処分 | FB4: 中間処理 | FF4: 最終処分 | FJ4: 中間処理 | FN4: 最終処分 | FR4: 中間処理 | FV4: 最終処分 | FZ4: 中間処理 | GD4: 最終処分 | GH4: 中間処理 | GL4: 最終処分 | GP4: 中間処理 | GT4: 最終処分 | GX4: 中間処理 | HB4: 最終処分 | HF4: 中間処理 | HJ4: 最終処分 | HN4: 中間処理 | HR4: 最終処分 | HV4: 中間処理 | HZ4: 最終処分 | ID4: 中間処理 | IH4: 最終処分
D5: 分別数 | AF5: ペットボトル | AG5: 容器包装プラ | AH5: 白色トレー | AI5: 上記以外のプラ | AJ5: 紙パック | AK5: 紙製容器包装 | AL5: 生ごみ | AM5: 廃食油 | AN5: 剪定枝 | AO5: ペットボトル | AP5: 容器包装プラ | AQ5: 白色トレー | AR5: 上記以外のプラ | AS5: 紙パック | AT5: 紙製容器包装 | AU5: 生ごみ | AV5: 廃食油 | AW5: 剪定枝 | AX5: ペットボトル | AY5: 容器包装プラ | AZ5: 白色トレー | BA5: 上記以外のプラ | BB5: 紙パック | BC5: 紙製容器包装 | BD5: 生ごみ | BE5: 廃食油 | BF5: 剪定枝 | BG5: ペットボトル | BH5: 容器包装プラ | BI5: 白色トレー | BJ5: 上記以外のプラ | BK5: 紙パック | BL5: 紙製容器包装 | BM5: 生ごみ | BN5: 廃食油 | BO5: 剪定枝 | BP5: ペットボトル | BQ5: 容器包装プラ | BR5: 白色トレー | BS5: 上記以外のプラ | BT5: 紙パック | BU5: 紙製容器包装 | BV5: 生ごみ | BW5: 廃食油 | BX5: 剪定枝 | BY5: ペットボトル | BZ5: 容器包装プラ | CA5: 白色トレー | CB5: 上記以外のプラ | CC5: 紙パック | CD5: 紙製容器包装 | CE5: 生ごみ | CF5: 廃食油 | CG5: 剪定枝 | CH5: 直営 | CI5: 委託 | CJ5: 許可 | CK5: 無し | CL5: 直営 | CM5: 委託 | CN5: 許可 | CO5: 無し | CP5: 直営 | CQ5: 委託 | CR5: 許可 | CS5: 無し | CT5: 直営 | CU5: 委託 | CV5: 許可 | CW5: 無し | CX5: 直営 | CY5: 委託 | CZ5: 許可 | DA5: 無し | DB5: 直営 | DC5: 委託 | DD5: 許可 | DE5: 無し | DF5: 直営 | DG5: 委託 | DH5: 許可 | DI5: 無し | DJ5: 直営 | DK5: 委託 | DL5: 許可 | DM5: 無し | DN5: 直営 | DO5: 委託 | DP5: 許可 | DQ5: 無し | DR5: 直営 | DS5: 委託 | DT5: 許可 | DU5: 無し | DV5: 直営 | DW5: 委託 | DX5: 許可 | DY5: 無し | DZ5: 直営 | EA5: 委託 | EB5: 許可 | EC5: 無し | ED5: 直営 | EE5: 委託 | EF5: 許可 | EG5: 無し | EH5: 直営 | EI5: 委託 | EJ5: 許可 | EK5: 無し | EL5: 直営 | EM5: 委託 | EN5: 許可 | EO5: 無し | EP5: 直営 | EQ5: 委託 | ER5: 許可 | ES5: 無し | ET5: 直営 | EU5: 委託 | EV5: 許可 | EW5: 無し | EX5: 直営 | EY5: 委託 | EZ5: 許可 | FA5: 無し | FB5: 直営 | FC5: 委託 | FD5: 許可 | FE5: 無し | FF5: 直営 | FG5: 委託 | FH5: 許可 | FI5: 無し | FJ5: 直営 | FK5: 委託 | FL5: 許可 | FM5: 無し | FN5: 直営 | FO5: 委託 | FP5: 許可 | FQ5: 無し | FR5: 直営 | FS5: 委託 | FT5: 許可 | FU5: 無し | FV5: 直営 | FW5: 委託 | FX5: 許可 | FY5: 無し | FZ5: 直営 | GA5: 委託 | GB5: 許可 | GC5: 無し | GD5: 直営 | GE5: 委託 | GF5: 許可 | GG5: 無し | GH5: 直営 | GI5: 委託 | GJ5: 許可 | GK5: 無し | GL5: 直営 | GM5: 委託 | GN5: 許可 | GO5: 無し | GP5: 直営 | GQ5: 委託 | GR5: 許可 | GS5: 無し | GT5: 直営 | GU5: 委託 | GV5: 許可 | GW5: 無し | GX5: 直営 | GY5: 委託 | GZ5: 許可 | HA5: 無し | HB5: 直営 | HC5: 委託 | HD5: 許可 | HE5: 無し | HF5: 直営 | HG5: 委託 | HH5: 許可 | HI5: 無し | HJ5: 直営 | HK5: 委託 | HL5: 許可 | HM5: 無し | HN5: 直営 | HO5: 委託 | HP5: 許可 | HQ5: 無し | HR5: 直営 | HS5: 委託 | HT5: 許可 | HU5: 無し | HV5: 直営 | HW5: 委託 | HX5: 許可 | HY5: 無し | HZ5: 直営 | IA5: 委託 | IB5: 許可 | IC5: 無し | ID5: 直営 | IE5: 委託 | IF5: 許可 | IG5: 無し | IH5: 直営 | II5: 委託 | IJ5: 許可 | IK5: 無し
A7: ='収集運搬（生活系）'!A7 -> 山口県 | B7: ='収集運搬（生活系）'!B7 -> 35000 | C7: 合計 | D7: =COUNTIF(D$8:D$207,"<>") -> 19 | E7: =COUNTIF(E$8:E$207,"○") -> 0 | F7: =COUNTIF(F$8:F$207,"○") -> 0 | G7: =COUNTIF(G$8:G$207,"○") -> 0 | H7: =COUNTIF(H$8:H$207,"○") -> 0 | I7: =COUNTIF(I$8:I$207,"○") -> 0 | J7: =COUNTIF(J$8:J$207,"○") -> 0 | K7: =COUNTIF(K$8:K$207,"○") -> 0 | L7: =COUNTIF(L$8:L$207,"○") -> 2 | ... IK7: =COUNTIF(IK$8:IK$207,"○") -> 1
A8: 山口県 | B8: 35201 | C8: 下関市 | D8: 10 | N8: ○ | AO8: ○ | AP8: ○ | AQ8: ○ | AS8: ○ | AT8: ○ | AU8: ○ | AV8: ○ | AW8: ○ | BA8: ○ | BG8: ○ | BH8: ○ | BI8: ○ | CK8: ○ | CO8: ○ | CP8: ○ | CT8: ○ | CU8: ○ | DA8: ○ | DE8: ○ | DG8: ○ | DK8: ○ | DQ8: ○ | DU8: ○ | DY8: ○ | EC8: ○ | ED8: ○ | EI8: ○ | EL8: ○ | EQ8: ○ | ET8: ○ | EY8: ○ | FB8: ○ | FG8: ○ | FJ8: ○ | FO8: ○ | FU8: ○ | FY8: ○ | GC8: ○ | GG8: ○ | GK8: ○ | GO8: ○ | GS8: ○ | GW8: ○ | HA8: ○ | HE8: ○ | HI8: ○ | HM8: ○ | HQ8: ○ | HU8: ○ | HV8: ○ | IA8: ○ | ID8: ○ | IH8: ○ | II8: ○
A9: 山口県 | B9: 35202 | C9: 宇部市 | D9: 9 | M9: ○ | AO9: ○ | AP9: ○ | AQ9: ○ | AU9: ○ | AV9: ○ | AW9: ○ | BA9: ○ | BG9: ○ | BH9: ○ | BI9: ○ | BK9: ○ | BL9: ○ | CK9: ○ | CO9: ○ | CP9: ○ | CU9: ○ | CX9: ○ | DC9: ○ | DI9: ○ | DM9: ○ | DQ9: ○ | DU9: ○ | DW9: ○ | EC9: ○ | EE9: ○ | EK9: ○ | EM9: ○ | ES9: ○ | EU9: ○ | FA9: ○ | FE9: ○ | FI9: ○ | FK9: ○ | FQ9: ○ | FU9: ○ | FW9: ○ | GC9: ○ | GG9: ○ | GK9: ○ | GO9: ○ | GS9: ○ | GW9: ○ | HA9: ○ | HE9: ○ | HI9: ○ | HM9: ○ | HQ9: ○ | HU9: ○ | HY9: ○ | IA9: ○ | ID9: ○ | IE9: ○ | II9: ○
A10: 山口県 | B10: 35203 | C10: 山口市 | D10: 22 | Z10: ○ | AR10: ○ | AU10: ○ | AW10: ○ | BA10: ○ | BG10: ○ | BH10: ○ | BI10: ○ | BK10: ○ | BL10: ○ | BN10: ○ | CK10: ○ | CO10: ○ | CP10: ○ | CU10: ○ | CY10: ○ | DB10: ○ | DG10: ○ | DK10: ○ | DN10: ○ | DS10: ○ | DV10: ○ | EA10: ○ | ED10: ○ | EI10: ○ | EL10: ○ | EQ10: ○ | ET10: ○ | EY10: ○ | FB10: ○ | FG10: ○ | FJ10: ○ | FO10: ○ | FU10: ○ | FY10: ○ | GA10: ○ | GE10: ○ | GK10: ○ | GO10: ○ | GQ10: ○ | GU10: ○ | HA10: ○ | HE10: ○ | HG10: ○ | HK10: ○ | HQ10: ○ | HU10: ○ | HV10: ○ | IA10: ○ | IE10: ○ | IH10: ○ | II10: ○
A11: 山口県 | B11: 35204 | C11: 萩市 | D11: 18 | V11: ○ | AR11: ○ | AU11: ○ | AW11: ○ | BG11: ○ | BH11: ○ | BI11: ○ | BK11: ○ | BL11: ○ | BN11: ○ | CK11: ○ | CO11: ○ | CQ11: ○ | CU11: ○ | CX11: ○ | DB11: ○ | DC11: ○ | DF11: ○ | DK11: ○ | DN11: ○ | DS11: ○ | DV11: ○ | EA11: ○ | ED11: ○ | EI11: ○ | EL11: ○ | EQ11: ○ | ET11: ○ | EY11: ○ | FB11: ○ | FG11: ○ | FJ11: ○ | FO11: ○ | FU11: ○ | FY11: ○ | FZ11: ○ | GE11: ○ | GK11: ○ | GO11: ○ | GP11: ○ | GU11: ○ | HA11: ○ | HE11: ○ | HF11: ○ | HK11: ○ | HQ11: ○ | HU11: ○ | HV11: ○ | HZ11: ○ | IA11: ○ | ID11: ○ | IE11: ○ | IH11: ○ | II11: ○
A12: 山口県 | B12: 35206 | C12: 防府市 | D12: 20 | X12: ○ | AO12: ○ | AP12: ○ | AQ12: ○ | AR12: ○ | AS12: ○ | AT12: ○ | AU12: ○ | AV12: ○ | AW12: ○ | BG12: ○ | BH12: ○ | BK12: ○ | BL12: ○ | BP12: ○ | BT12: ○ | BU12: ○ | CK12: ○ | CO12: ○ | CP12: ○ | CT12: ○ | CU12: ○ | CX12: ○ | DB12: ○ | DC12: ○ | DG12: ○ | DK12: ○ | DO12: ○ | DS12: ○ | DV12: ○ | EA12: ○ | ED12: ○ | EI12: ○ | EM12: ○ | EQ12: ○ | ET12: ○ | EY12: ○ | FE12: ○ | FI12: ○ | FJ12: ○ | FO12: ○ | FU12: ○ | FY12: ○ | GC12: ○ | GG12: ○ | GK12: ○ | GO12: ○ | GS12: ○ | GW12: ○ | HA12: ○ | HE12: ○ | HG12: ○ | HK12: ○ | HQ12: ○ | HU12: ○ | HY12: ○ | IC12: ○ | ID12: ○ | IH12: ○ | II12: ○
A13: 山口県 | B13: 35207 | C13: 下松市 | D13: 12 | P13: ○ | AU13: ○ | AV13: ○ | AW13: ○ | BG13: ○ | BH13: ○ | BI13: ○ | BJ13: ○ | BK13: ○ | BL13: ○ | BP13: ○ | BT13: ○ | BU13: ○ | BW13: ○ | CK13: ○ | CO13: ○ | CP13: ○ | CT13: ○ | CX13: ○ | DB13: ○ | DI13: ○ | DM13: ○ | DQ13: ○ | DU13: ○ | DY13: ○ | EC13: ○ | ED13: ○ | EH13: ○ | EL13: ○ | EP13: ○ | ET13: ○ | EX13: ○ | FB13: ○ | FF13: ○ | FJ13: ○ | FN13: ○ | FR13: ○ | FV13: ○ | GC13: ○ | GG13: ○ | GK13: ○ | GO13: ○ | GS13: ○ | GW13: ○ | HA13: ○ | HE13: ○ | HF13: ○ | HJ13: ○ | HN13: ○ | HR13: ○ | HY13: ○ | IC13: ○ | ID13: ○ | IH13: ○
A14: 山口県 | B14: 35208 | C14: 岩国市 | D14: 20 | X14: ○ | AU14: ○ | AW14: ○ | BG14: ○ | BH14: ○ | BJ14: ○ | BK14: ○ | BL14: ○ | BN14: ○ | CA14: ○ | CK14: ○ | CO14: ○ | CP14: ○ | CQ14: ○ | CT14: ○ | CU14: ○ | CX14: ○ | CY14: ○ | DB14: ○ | DC14: ○ | DH14: ○ | DL14: ○ | DP14: ○ | DT14: ○ | DX14: ○ | EB14: ○ | ED14: ○ | EE14: ○ | EH14: ○ | EI14: ○ | EL14: ○ | EM14: ○ | EP14: ○ | EQ14: ○ | ET14: ○ | EU14: ○ | EX14: ○ | EY14: ○ | FE14: ○ | FI14: ○ | FJ14: ○ | FK14: ○ | FN14: ○ | FO14: ○ | FR14: ○ | FS14: ○ | FV14: ○ | FW14: ○ | GB14: ○ | GF14: ○ | GK14: ○ | GO14: ○ | GP14: ○ | GQ14: ○ | GT14: ○ | GU14: ○ | HA14: ○ | HE14: ○ | HG14: ○ | HM14: ○ | HN14: ○ | HO14: ○ | HP14: ○ | HR14: ○ | HS14: ○ | HT14: ○ | HV14: ○ | HW14: ○ | HZ14: ○ | IA14: ○ | ID14: ○ | IE14: ○ | IH14: ○ | II14: ○
A15: 山口県 | B15: 35210 | C15: 光市 | D15: 14 | R15: ○ | AT15: ○ | AU15: ○ | AV15: ○ | AW15: ○ | BG15: ○ | BH15: ○ | BI15: ○ | BJ15: ○ | BK15: ○ | BL15: ○ | BT15: ○ | BU15: ○ | CK15: ○ | CO15: ○ | CP15: ○ | CU15: ○ | CX15: ○ | DB15: ○ | DI15: ○ | DM15: ○ | DQ15: ○ | DU15: ○ | DY15: ○ | EC15: ○ | ED15: ○ | EH15: ○ | EL15: ○ | EP15: ○ | ET15: ○ | EX15: ○ | FB15: ○ | FF15: ○ | FJ15: ○ | FN15: ○ | FR15: ○ | FV15: ○ | GC15: ○ | GG15: ○ | GK15: ○ | GO15: ○ | GS15: ○ | GW15: ○ | HA15: ○ | HE15: ○ | HF15: ○ | HJ15: ○ | HN15: ○ | HO15: ○ | HR15: ○ | HS15: ○ | HY15: ○ | IC15: ○ | ID15: ○ | II15: ○
A16: 山口県 | B16: 35211 | C16: 長門市 | D16: 17 | U16: ○ | AR16: ○ | AU16: ○ | AV16: ○ | AW16: ○ | BG16: ○ | BH16: ○ | BI16: ○ | BK16: ○ | BL16: ○ | CK16: ○ | CO16: ○ | CP16: ○ | CU16: ○ | CX16: ○ | DB16: ○ | DC16: ○ | DF16: ○ | DK16: ○ | DN16: ○ | DS16: ○ | DV16: ○ | EA16: ○ | ED16: ○ | EI16: ○ | EL16: ○ | EQ16: ○ | ET16: ○ | EY16: ○ | FB16: ○ | FG16: ○ | FJ16: ○ | FO16: ○ | FU16: ○ | FY16: ○ | FZ16: ○ | GE16: ○ | GK16: ○ | GO16: ○ | GS16: ○ | GW16: ○ | HA16: ○ | HE16: ○ | HF16: ○ | HK16: ○ | HQ16: ○ | HU16: ○ | HV16: ○ | IA16: ○ | ID16: ○ | IH16: ○ | II16: ○
A17: 山口県 | B17: 35212 | C17: 柳井市 | D17: 8 | L17: ○ | AP17: ○ | AQ17: ○ | AR17: ○ | AS17: ○ | AT17: ○ | AU17: ○ | AV17: ○ | AW17: ○ | BG17: ○ | CK17: ○ | CO17: ○ | CP17: ○ | CU17: ○ | DA17: ○ | DB17: ○ | DG17: ○ | DM17: ○ | DQ17: ○ | DU17: ○ | DY17: ○ | EC17: ○ | EE17: ○ | EK17: ○ | EL17: ○ | ES17: ○ | ET17: ○ | FA17: ○ | FE17: ○ | FI17: ○ | FM17: ○ | FQ17: ○ | FU17: ○ | FY17: ○ | GC17: ○ | GG17: ○ | GK17: ○ | GO17: ○ | GS17: ○ | GW17: ○ | HA17: ○ | HE17: ○ | HI17: ○ | HM17: ○ | HO17: ○ | HU17: ○ | HY17: ○ | IC17: ○ | ID17: ○ | IH17: ○
A18: 山口県 | B18: 35213 | C18: 美祢市 | D18: 18 | V18: ○ | AP18: ○ | AQ18: ○ | AT18: ○ | AU18: ○ | AV18: ○ | AW18: ○ | BA18: ○ | BG18: ○ | BK18: ○ | CK18: ○ | CO18: ○ | CP18: ○ | CT18: ○ | CX18: ○ | DB18: ○ | DI18: ○ | DM18: ○ | DQ18: ○ | DU18: ○ | DY18: ○ | EC18: ○ | ED18: ○ | EK18: ○ | EO18: ○ | ES18: ○ | ET18: ○ | FA18: ○ | FE18: ○ | FI18: ○ | FM18: ○ | FQ18: ○ | FU18: ○ | FY18: ○ | FZ18: ○ | GG18: ○ | GK18: ○ | GO18: ○ | GS18: ○ | GW18: ○ | HA18: ○ | HE18: ○ | HG18: ○ | HM18: ○ | HQ18: ○ | HU18: ○ | HY18: ○ | IC18: ○ | ID18: ○ | IH18: ○
A19: 山口県 | B19: 35215 | C19: 周南市 | D19: 10 | N19: ○ | AS19: ○ | AT19: ○ | AU19: ○ | AV19: ○ | AW19: ○ | BG19: ○ | BH19: ○ | BI19: ○ | BJ19: ○ | BK19: ○ | BL19: ○ | BP19: ○ | BT19: ○ | BU19: ○ | CK19: ○ | CO19: ○ | CP19: ○ | CT19: ○ | CX19: ○ | DB19: ○ | DG19: ○ | DJ19: ○ | DO19: ○ | DR19: ○ | DW19: ○ | DZ19: ○ | ED19: ○ | EH19: ○ | EL19: ○ | EP19: ○ | ET19: ○ | EX19: ○ | FB19: ○ | FF19: ○ | FJ19: ○ | FN19: ○ | FR19: ○ | FV19: ○ | GC19: ○ | GG19: ○ | GJ19: ○ | GO19: ○ | GS19: ○ | GW19: ○ | HA19: ○ | HE19: ○ | HI19: ○ | HM19: ○ | HO19: ○ | HR19: ○ | HV19: ○ | HZ19: ○ | ID19: ○ | IH19: ○
A20: 山口県 | B20: 35216 | C20: 山陽小野田市 | D20: 14 | R20: ○ | AR20: ○ | AU20: ○ | AW20: ○ | BG20: ○ | BH20: ○ | BI20: ○ | BK20: ○ | BL20: ○ | BT20: ○ | BU20: ○ | BW20: ○ | CK20: ○ | CL20: ○ | CP20: ○ | CW20: ○ | DA20: ○ | DB20: ○ | DI20: ○ | DM20: ○ | DQ20: ○ | DU20: ○ | DY20: ○ | EC20: ○ | ED20: ○ | EK20: ○ | EL20: ○ | ES20: ○ | ET20: ○ | FA20: ○ | FB20: ○ | FI20: ○ | FJ20: ○ | FQ20: ○ | FU20: ○ | FY20: ○ | GC20: ○ | GG20: ○ | GK20: ○ | GO20: ○ | GS20: ○ | GW20: ○ | HA20: ○ | HE20: ○ | HI20: ○ | HM20: ○ | HN20: ○ | HU20: ○ | HY20: ○ | IC20: ○ | ID20: ○ | IH20: ○
A21: 山口県 | B21: 35305 | C21: 周防大島町 | D21: 12 | P21: ○ | AS21: ○ | AT21: ○ | AU21: ○ | AV21: ○ | AW21: ○ | BG21: ○ | BH21: ○ | BI21: ○ | BJ21: ○ | CK21: ○ | CO21: ○ | CQ21: ○ | CU21: ○ | CX21: ○ | DB21: ○ | DI21: ○ | DM21: ○ | DQ21: ○ | DU21: ○ | DY21: ○ | EC21: ○ | ED21: ○ | EI21: ○ | EL21: ○ | EQ21: ○ | ET21: ○ | EY21: ○ | FB21: ○ | FG21: ○ | FJ21: ○ | FO21: ○ | FR21: ○ | FW21: ○ | GC21: ○ | GG21: ○ | GK21: ○ | GO21: ○ | GS21: ○ | GW21: ○ | HA21: ○ | HE21: ○ | HI21: ○ | HM21: ○ | HQ21: ○ | HU21: ○ | HV21: ○ | IA21: ○ | ID21: ○ | II21: ○
A22: 山口県 | B22: 35321 | C22: 和木町 | D22: 12 | P22: ○ | AS22: ○ | AT22: ○ | AU22: ○ | AV22: ○ | AW22: ○ | BG22: ○ | BH22: ○ | BI22: ○ | BJ22: ○ | CK22: ○ | CO22: ○ | CP22: ○ | CU22: ○ | CY22: ○ | DC22: ○ | DG22: ○ | DK22: ○ | DQ22: ○ | DU22: ○ | DY22: ○ | EC22: ○ | EE22: ○ | EI22: ○ | EM22: ○ | EQ22: ○ | EU22: ○ | EY22: ○ | FB22: ○ | FI22: ○ | FJ22: ○ | FO22: ○ | FR22: ○ | FY22: ○ | GC22: ○ | GG22: ○ | GK22: ○ | GO22: ○ | GS22: ○ | GW22: ○ | HA22: ○ | HE22: ○ | HI22: ○ | HM22: ○ | HQ22: ○ | HU22: ○ | HY22: ○ | IC22: ○ | IE22: ○ | II22: ○
A23: 山口県 | B23: 35341 | C23: 上関町 | D23: 8 | L23: ○ | AP23: ○ | AQ23: ○ | AR23: ○ | AU23: ○ | AV23: ○ | AW23: ○ | BG23: ○ | BK23: ○ | BL23: ○ | CK23: ○ | CO23: ○ | CQ23: ○ | CU23: ○ | CY23: ○ | DC23: ○ | DG23: ○ | DK23: ○ | DO23: ○ | DS23: ○ | DW23: ○ | EA23: ○ | EE23: ○ | EI23: ○ | EM23: ○ | EQ23: ○ | EU23: ○ | EY23: ○ | FE23: ○ | FI23: ○ | FM23: ○ | FQ23: ○ | FU23: ○ | FY23: ○ | GC23: ○ | GG23: ○ | GK23: ○ | GO23: ○ | GS23: ○ | GW23: ○ | HA23: ○ | HE23: ○ | HG23: ○ | HK23: ○ | HQ23: ○ | HU23: ○ | HY23: ○ | IC23: ○ | IG23: ○ | IK23: ○
A24: 山口県 | B24: 35343 | C24: 田布施町 | D24: 12 | P24: ○ | AP24: ○ | AQ24: ○ | AR24: ○ | AT24: ○ | AU24: ○ | AV24: ○ | AW24: ○ | BG24: ○ | BK24: ○ | BL24: ○ | BU24: ○ | CK24: ○ | CO24: ○ | CP24: ○ | CU24: ○ | CX24: ○ | DB24: ○ | DF24: ○ | DK24: ○ | DN24: ○ | DS24: ○ | DY24: ○ | EC24: ○ | ED24: ○ | EI24: ○ | EL24: ○ | EQ24: ○ | ET24: ○ | EY24: ○ | FE24: ○ | FI24: ○ | FM24: ○ | FQ24: ○ | FU24: ○ | FY24: ○ | GA24: ○ | GE24: ○ | GK24: ○ | GO24: ○ | GS24: ○ | GW24: ○ | HA24: ○ | HE24: ○ | HI24: ○ | HM24: ○ | HQ24: ○ | HU24: ○ | HY24: ○ | IC24: ○ | ID24: ○ | IH24: ○
A25: 山口県 | B25: 35344 | C25: 平生町 | D25: 10 | N25: ○ | AP25: ○ | AQ25: ○ | AR25: ○ | AU25: ○ | AV25: ○ | AW25: ○ | BG25: ○ | BK25: ○ | BL25: ○ | CK25: ○ | CO25: ○ | CP25: ○ | CU25: ○ | CX25: ○ | DB25: ○ | DF25: ○ | DK25: ○ | DN25: ○ | DS25: ○ | DY25: ○ | EC25: ○ | ED25: ○ | EI25: ○ | EL25: ○ | EQ25: ○ | ET25: ○ | EY25: ○ | FE25: ○ | FI25: ○ | FM25: ○ | FQ25: ○ | FU25: ○ | FY25: ○ | FZ25: ○ | GE25: ○ | GK25: ○ | GO25: ○ | GS25: ○ | GW25: ○ | HA25: ○ | HE25: ○ | HG25: ○ | HK25: ○ | HQ25: ○ | HU25: ○ | HY25: ○ | IC25: ○ | ID25: ○ | IH25: ○
A26: 山口県 | B26: 35502 | C26: 阿武町 | D26: 12 | P26: ○ | AO26: ○ | AP26: ○ | AQ26: ○ | AR26: ○ | AS26: ○ | AT26: ○ | AU26: ○ | BG26: ○ | BH26: ○ | BI26: ○ | BK26: ○ | BL26: ○ | CF26: ○ | CG26: ○ | CK26: ○ | CO26: ○ | CQ26: ○ | CU26: ○ | CY26: ○ | DC26: ○ | DG26: ○ | DK26: ○ | DO26: ○ | DS26: ○ | DW26: ○ | EA26: ○ | EE26: ○ | EI26: ○ | EM26: ○ | EQ26: ○ | EU26: ○ | EY26: ○ | FC26: ○ | FG26: ○ | FK26: ○ | FO26: ○ | FU26: ○ | FY26: ○ | GA26: ○ | GE26: ○ | GK26: ○ | GO26: ○ | GS26: ○ | GW26: ○ | HA26: ○ | HE26: ○ | HG26: ○ | HK26: ○ | HQ26: ○ | HU26: ○ | HW26: ○ | IA26: ○ | IE26: ○ | II26: ○

Sheet 手数料（生活系）
A1: ごみ手数料の状況【生活系ごみ】（令和3年度実績）
A2: 都道府県名 | B2: 地方公共団体コード | C2: 市区町村名 | D2: 混合ごみ | O2: 可燃ごみ | Z2: 不燃ごみ | AK2: 資源ごみ | GT2: その他収集ごみ | HE2: 粗大ごみ
AK3: 紙類（紙パック、紙製容器包装を除く） | AV3: 紙パック | BG3: 紙製容器包装 | BR3: 金属類 | CC3: ガラス類 | CN3: ペットボトル | CY3: 白色トレイ | DJ3: 容器包装プラスチック（白色トレイを除く） | DU3: プラスチック類（白色トレイ、容器包装プラスチックを除く） | EF3: 布類 | EQ3: 生ごみ | FB3: 廃食用油 | FM3: 剪定枝 | FX3: 小型家電 | GI3: その他
D4: 手数料 | H4: 徴収方法 | O4: 手数料 | S4: 徴収方法 | Z4: 手数料 | AD4: 徴収方法 | AK4: 手数料 | AO4: 徴収方法 | AV4: 手数料 | AZ4: 徴収方法 | BG4: 手数料 | BK4: 徴収方法 | BR4: 手数料 | BV4: 徴収方法 | CC4: 手数料 | CG4: 徴収方法 | CN4: 手数料 | CR4: 徴収方法 | CY4: 手数料 | DC4: 徴収方法 | DJ4: 手数料 | DN4: 徴収方法 | DU4: 手数料 | DY4: 徴収方法 | EF4: 手数料 | EJ4: 徴収方法 | EQ4: 手数料 | EU4: 徴収方法 | FB4: 手数料 | FF4: 徴収方法 | FM4: 手数料 | FQ4: 徴収方法 | FX4: 手数料 | GB4: 徴収方法 | GI4: 手数料 | GM4: 徴収方法 | GT4: 手数料 | GX4: 徴収方法 | HE4: 手数料 | HI4: 徴収方法
H5: 排出量単純比例型 | I5: 排出量多段階比例型 | J5: 一定量無料型 | K5: 負担補助組合せ型 | L5: 定額制従量制併用型 | N5: その他 | S5: 排出量単純比例型 | T5: 排出量多段階比例型 | U5: 一定量無料型 | V5: 負担補助組合せ型 | W5: 定額制従量制併用型 | Y5: その他 | AD5: 排出量単純比例型 | AE5: 排出量多段階比例型 | AF5: 一定量無料型 | AG5: 負担補助組合せ型 | AH5: 定額制従量制併用型 | AJ5: その他 | AO5: 排出量単純比例型 | AP5: 排出量多段階比例型 | AQ5: 一定量無料型 | AR5: 負担補助組合せ型 | AS5: 定額制従量制併用型 | AU5: その他 | AZ5: 排出量単純比例型 | BA5: 排出量多段階比例型 | BB5: 一定量無料型 | BC5: 負担補助組合せ型 | BD5: 定額制従量制併用型 | BF5: その他 | BK5: 排出量単純比例型 | BL5: 排出量多段階比例型 | BM5: 一定量無料型 | BN5: 負担補助組合せ型 | BO5: 定額制従量制併用型 | BQ5: その他 | BV5: 排出量単純比例型 | BW5: 排出量多段階比例型 | BX5: 一定量無料型 | BY5: 負担補助組合せ型 | BZ5: 定額制従量制併用型 | CB5: その他 | CG5: 排出量単純比例型 | CH5: 排出量多段階比例型 | CI5: 一定量無料型 | CJ5: 負担補助組合せ型 | CK5: 定額制従量制併用型 | CM5: その他 | CR5: 排出量単純比例型 | CS5: 排出量多段階比例型 | CT5: 一定量無料型 | CU5: 負担補助組合せ型 | CV5: 定額制従量制併用型 | CX5: その他 | DC5: 排出量単純比例型 | DD5: 排出量多段階比例型 | DE5: 一定量無料型 | DF5: 負担補助組合せ型 | DG5: 定額制従量制併用型 | DI5: その他 | DN5: 排出量単純比例型 | DO5: 排出量多段階比例型 | DP5: 一定量無料型 | DQ5: 負担補助組合せ型 | DR5: 定額制従量制併用型 | DT5: その他 | DY5: 排出量単純比例型 | DZ5: 排出量多段階比例型 | EA5: 一定量無料型 | EB5: 負担補助組合せ型 | EC5: 定額制従量制併用型 | EE5: その他 | EJ5: 排出量単純比例型 | EK5: 排出量多段階比例型 | EL5: 一定量無料型 | EM5: 負担補助組合せ型 | EN5: 定額制従量制併用型 | EP5: その他 | EU5: 排出量単純比例型 | EV5: 排出量多段階比例型 | EW5: 一定量無料型 | EX5: 負担補助組合せ型 | EY5: 定額制従量制併用型 | FA5: その他 | FF5: 排出量単純比例型 | FG5: 排出量多段階比例型 | FH5: 一定量無料型 | FI5: 負担補助組合せ型 | FJ5: 定額制従量制併用型 | FL5: その他 | FQ5: 排出量単純比例型 | FR5: 排出量多段階比例型 | FS5: 一定量無料型 | FT5: 負担補助組合せ型 | FU5: 定額制従量制併用型 | FW5: その他 | GB5: 排出量単純比例型 | GC5: 排出量多段階比例型 | GD5: 一定量無料型 | GE5: 負担補助組合せ型 | GF5: 定額制従量制併用型 | GH5: その他 | GM5: 排出量単純比例型 | GN5: 排出量多段階比例型 | GO5: 一定量無料型 | GP5: 負担補助組合せ型 | GQ5: 定額制従量制併用型 | GS5: その他 | GX5: 排出量単純比例型 | GY5: 排出量多段階比例型 | GZ5: 一定量無料型 | HA5: 負担補助組合せ型 | HB5: 定額制従量制併用型 | HD5: その他 | HI5: 排出量単純比例型 | HJ5: 排出量多段階比例型 | HK5: 一定量無料型 | HL5: 負担補助組合せ型 | HM5: 定額制従量制併用型 | HO5: その他
