{"text_format":"3","workbook":"xlsx","n_sheets":24,"sheets":["ごみ処理概要","ごみ搬入量内訳(総括)","ごみ搬入量内訳(直接資源化)","ごみ搬入量内訳(焼却)","ごみ搬入量内訳(粗大)","ごみ搬入量内訳(堆肥化)","ごみ搬入量内訳(飼料化)","ごみ搬入量内訳(メタン化)","ごみ搬入量内訳(燃料化)","ごみ搬入量内訳(セメント)","ごみ搬入量内訳(資源化等)","ごみ搬入量内訳(その他)","ごみ搬入量内訳(直接埋立)","ごみ搬入量内訳(海洋投入)","資源化量内訳","施設資源化量内訳(焼却)","施設資源化量内訳(粗大)","施設資源化量内訳(堆肥化)","施設資源化量内訳(飼料化)","施設資源化量内訳(メタン化)","施設資源化量内訳(燃料化)","施設資源化量内訳(セメント)","施設資源化量内訳(資源化等)","ごみ処理量内訳"],"not_rendered":{"external_links":1,"defined_names":52},"read":"whole","date_system":"1900"}

{"sheet":"ごみ処理概要","index":0,"n_rows":32,"n_cols":31,"rows_kept":32,"merged":[[1,0,5,0],[1,1,5,1],[1,2,5,2],[1,3,4,3],[1,16,4,16],[1,17,1,24],[1,25,4,25],[1,26,4,26],[1,27,1,30],[2,4,3,4],[2,5,3,5],[2,6,2,13],[2,14,3,14],[2,15,3,15],[2,17,4,17],[2,18,4,18],[2,19,4,19],[2,20,4,20],[2,21,4,21],[2,22,4,22],[2,23,4,23],[2,24,3,24],[2,27,3,27],[2,28,3,28],[2,29,3,29],[2,30,3,30],[3,6,4,6],[3,7,4,7],[3,8,4,8],[3,9,4,9],[3,10,4,10],[3,11,4,11],[3,12,4,12],[3,13,4,13]]}
["【災害】ごみ処理の概要（令和3年度実績）"]
["都道府県名","地方公共団体コード","市区町村名","災害量廃棄物\n排出量","ごみ処理量 (直接焼却量+直接最終処分量+焼却以外の中間処理量+直接資源化量)",{"$nulls":11},"減量処理率 (直接資源化量+直接焼却量+焼却以外の中間処理量)/ごみ処理量*100\n\n","中間処理後再生利用量 (焼却施設＋粗大ごみ処理施設+ごみ堆肥化施設+ごみ飼料化施設+メタン化施設+ごみ燃料化施設+その他の資源化等を行う施設)",{"$nulls":7},"リサイクル率 Ｒ\n(直接資源化量+中間処理後再生利用量)/(ごみ処理量)*100","リサイクル率 Ｒ’\n(直接資源化量+中間処理後再生利用量〔固形燃料、焼却灰・飛灰のｾﾒﾝﾄ原料化、セメント等への直接投入、飛灰の山元還元　を除く〕)/(ごみ処理量)*100","最終処分量 (直接最終処分量+焼却残渣量+処理残渣量)"]
[{"$nulls":4},"直接焼却量","直接最終\n処分量\n（海洋投入含む）","焼却以外の中間処理量(粗大ごみ処理施設+ごみ堆肥化施設+ごみ飼料化施設+メタン化施設+ごみ燃料化施設+その他の資源化等を行う施設+その他の施設)",{"$nulls":7},"直接\n資源化量","合計",null,"焼却施設","粗大ごみ\n処理施設","ごみ堆肥化施設","ごみ飼料化施設","メタン化施設","ごみ燃料化施設","その他の資源化等を行う施設（セメント等への直接投入含む）","合計",null,null,"直接最終\n処分量\n（海洋投入含む）","焼却残渣量","処理残渣量","合計"]
[{"$nulls":6},"合計","粗大ごみ\n処理施設","資源化等を行う施設（セメント等への直接投入含む）","ごみ堆肥化施設","ごみ飼料化施設","メタン化施設","ごみ燃料化\n施設","その他の\n施設"]
[]
[{"$nulls":3},"（ｔ）","（ｔ）","（ｔ）","（ｔ）","（ｔ）","（ｔ）","（ｔ）","（ｔ）","（ｔ）","（ｔ）","（ｔ）","（ｔ）","（ｔ）","（％）","（ｔ）","（ｔ）","（ｔ）","（ｔ）","（ｔ）","（ｔ）","（ｔ）","（ｔ）","（％）","（％）","（ｔ）","（ｔ）","（ｔ）","（ｔ）"]
["秋田県","05000","合計",{"$f":"SUM($D$8:$D$32)","v":0},{"$f":"SUM($E$8:$E$32)","v":0},{"$f":"SUM($F$8:$F$32)","v":0},{"$f":"SUM($G$8:$G$32)","v":0},{"$f":"SUM($H$8:$H$32)","v":0},{"$f":"SUM($I$8:$I$32)","v":0},{"$f":"SUM($J$8:$J$32)","v":0},{"$f":"SUM($K$8:$K$32)","v":0},{"$f":"SUM($L$8:$L$32)","v":0},{"$f":"SUM($M$8:$M$32)","v":0},{"$f":"SUM($N$8:$N$32)","v":0},{"$f":"SUM($O$8:$O$32)","v":0},{"$f":"SUM($P$8:$P$32)","v":0},{"$f":"IF(P7<>0,(O7+E7+G7)/P7*100,\"-\")","v":"-"},{"$f":"SUM($R$8:$R$32)","v":0},{"$f":"SUM($S$8:$S$32)","v":0},{"$f":"SUM($T$8:$T$32)","v":0},{"$f":"SUM($U$8:$U$32)","v":0},{"$f":"SUM($V$8:$V$32)","v":0},{"$f":"SUM($W$8:$W$32)","v":0},{"$f":"SUM($X$8:$X$32)","v":0},{"$f":"SUM($Y$8:$Y$32)","v":0},"-","-",{"$f":"SUM($AB$8:$AB$32)","v":0},{"$f":"SUM($AC$8:$AC$32)","v":0},{"$f":"SUM($AD$8:$AD$32)","v":0},{"$f":"SUM($AE$8:$AE$32)","v":0}]
["秋田県","05201","秋田市",{"$f":"'ごみ搬入量内訳(総括)'!D8","v":0},{"$f":"ごみ処理量内訳!E8","v":0},{"$f":"ごみ処理量内訳!O8","v":0},{"$f":"SUM(H8:N8)","v":0},{"$f":"ごみ処理量内訳!G8","v":0},{"$f":"ごみ処理量内訳!L8+ごみ処理量内訳!M8","v":0},{"$f":"ごみ処理量内訳!H8","v":0},{"$f":"ごみ処理量内訳!I8","v":0},{"$f":"ごみ処理量内訳!J8","v":0},{"$f":"ごみ処理量内訳!K8","v":0},{"$f":"ごみ処理量内訳!N8","v":0},{"$f":"資源化量内訳!AH8","v":0},{"$f":"SUM(E8,F8,G8,O8)","v":0},{"$f":"IF(P8<>0,(O8+E8+G8)/P8*100,\"-\")","v":"-"},{"$f":"'施設資源化量内訳(焼却)'!D8","v":0},{"$f":"'施設資源化量内訳(粗大)'!D8","v":0},{"$f":"'施設資源化量内訳(堆肥化)'!D8","v":0},{"$f":"'施設資源化量内訳(飼料化)'!D8","v":0},{"$f":"'施設資源化量内訳(メタン化)'!D8","v":0},{"$f":"'施設資源化量内訳(燃料化)'!D8","v":0},{"$f":"'施設資源化量内訳(資源化等)'!D8+'ごみ搬入量内訳(セメント)'!D8","v":0},{"$f":"SUM(R8:X8)","v":0},null,null,{"$f":"ごみ処理量内訳!O8","v":0},{"$f":"ごみ処理量内訳!AO8","v":0},{"$f":"ごみ処理量内訳!AP8","v":0},{"$f":"SUM(AB8:AD8)","v":0}]
["秋田県","05202","能代市",{"$f":"'ごみ搬入量内訳(総括)'!D9","v":0},{"$f":"ごみ処理量内訳!E9","v":0},{"$f":"ごみ処理量内訳!O9","v":0},{"$f":"SUM(H9:N9)","v":0},{"$f":"ごみ処理量内訳!G9","v":0},{"$f":"ごみ処理量内訳!L9+ごみ処理量内訳!M9","v":0},{"$f":"ごみ処理量内訳!H9","v":0},{"$f":"ごみ処理量内訳!I9","v":0},{"$f":"ごみ処理量内訳!J9","v":0},{"$f":"ごみ処理量内訳!K9","v":0},{"$f":"ごみ処理量内訳!N9","v":0},{"$f":"資源化量内訳!AH9","v":0},{"$f":"SUM(E9,F9,G9,O9)","v":0},{"$f":"IF(P9<>0,(O9+E9+G9)/P9*100,\"-\")","v":"-"},{"$f":"'施設資源化量内訳(焼却)'!D9","v":0},{"$f":"'施設資源化量内訳(粗大)'!D9","v":0},{"$f":"'施設資源化量内訳(堆肥化)'!D9","v":0},{"$f":"'施設資源化量内訳(飼料化)'!D9","v":0},{"$f":"'施設資源化量内訳(メタン化)'!D9","v":0},{"$f":"'施設資源化量内訳(燃料化)'!D9","v":0},{"$f":"'施設資源化量内訳(資源化等)'!D9+'ごみ搬入量内訳(セメント)'!D9","v":0},{"$f":"SUM(R9:X9)","v":0},null,null,{"$f":"ごみ処理量内訳!O9","v":0},{"$f":"ごみ処理量内訳!AO9","v":0},{"$f":"ごみ処理量内訳!AP9","v":0},{"$f":"SUM(AB9:AD9)","v":0}]
["秋田県","05203","横手市",{"$f":"'ごみ搬入量内訳(総括)'!D10","v":0},{"$f":"ごみ処理量内訳!E10","v":0},{"$f":"ごみ処理量内訳!O10","v":0},{"$f":"SUM(H10:N10)","v":0},{"$f":"ごみ処理量内訳!G10","v":0},{"$f":"ごみ処理量内訳!L10+ごみ処理量内訳!M10","v":0},{"$f":"ごみ処理量内訳!H10","v":0},{"$f":"ごみ処理量内訳!I10","v":0},{"$f":"ごみ処理量内訳!J10","v":0},{"$f":"ごみ処理量内訳!K10","v":0},{"$f":"ごみ処理量内訳!N10","v":0},{"$f":"資源化量内訳!AH10","v":0},{"$f":"SUM(E10,F10,G10,O10)","v":0},{"$f":"IF(P10<>0,(O10+E10+G10)/P10*100,\"-\")","v":"-"},{"$f":"'施設資源化量内訳(焼却)'!D10","v":0},{"$f":"'施設資源化量内訳(粗大)'!D10","v":0},{"$f":"'施設資源化量内訳(堆肥化)'!D10","v":0},{"$f":"'施設資源化量内訳(飼料化)'!D10","v":0},{"$f":"'施設資源化量内訳(メタン化)'!D10","v":0},{"$f":"'施設資源化量内訳(燃料化)'!D10","v":0},{"$f":"'施設資源化量内訳(資源化等)'!D10+'ごみ搬入量内訳(セメント)'!D10","v":0},{"$f":"SUM(R10:X10)","v":0},null,null,{"$f":"ごみ処理量内訳!O10","v":0},{"$f":"ごみ処理量内訳!AO10","v":0},{"$f":"ごみ処理量内訳!AP10","v":0},{"$f":"SUM(AB10:AD10)","v":0}]
["秋田県","05204","大館市",{"$f":"'ごみ搬入量内訳(総括)'!D11","v":0},{"$f":"ごみ処理量内訳!E11","v":0},{"$f":"ごみ処理量内訳!O11","v":0},{"$f":"SUM(H11:N11)","v":0},{"$f":"ごみ処理量内訳!G11","v":0},{"$f":"ごみ処理量内訳!L11+ごみ処理量内訳!M11","v":0},{"$f":"ごみ処理量内訳!H11","v":0},{"$f":"ごみ処理量内訳!I11","v":0},{"$f":"ごみ処理量内訳!J11","v":0},{"$f":"ごみ処理量内訳!K11","v":0},{"$f":"ごみ処理量内訳!N11","v":0},{"$f":"資源化量内訳!AH11","v":0},{"$f":"SUM(E11,F11,G11,O11)","v":0},{"$f":"IF(P11<>0,(O11+E11+G11)/P11*100,\"-\")","v":"-"},{"$f":"'施設資源化量内訳(焼却)'!D11","v":0},{"$f":"'施設資源化量内訳(粗大)'!D11","v":0},{"$f":"'施設資源化量内訳(堆肥化)'!D11","v":0},{"$f":"'施設資源化量内訳(飼料化)'!D11","v":0},{"$f":"'施設資源化量内訳(メタン化)'!D11","v":0},{"$f":"'施設資源化量内訳(燃料化)'!D11","v":0},{"$f":"'施設資源化量内訳(資源化等)'!D11+'ごみ搬入量内訳(セメント)'!D11","v":0},{"$f":"SUM(R11:X11)","v":0},null,null,{"$f":"ごみ処理量内訳!O11","v":0},{"$f":"ごみ処理量内訳!AO11","v":0},{"$f":"ごみ処理量内訳!AP11","v":0},{"$f":"SUM(AB11:AD11)","v":0}]
["秋田県","05206","男鹿市",{"$f":"'ごみ搬入量内訳(総括)'!D12","v":0},{"$f":"ごみ処理量内訳!E12","v":0},{"$f":"ごみ処理量内訳!O12","v":0},{"$f":"SUM(H12:N12)","v":0},{"$f":"ごみ処理量内訳!G12","v":0},{"$f":"ごみ処理量内訳!L12+ごみ処理量内訳!M12","v":0},{"$f":"ごみ処理量内訳!H12","v":0},{"$f":"ごみ処理量内訳!I12","v":0},{"$f":"ごみ処理量内訳!J12","v":0},{"$f":"ごみ処理量内訳!K12","v":0},{"$f":"ごみ処理量内訳!N12","v":0},{"$f":"資源化量内訳!AH12","v":0},{"$f":"SUM(E12,F12,G12,O12)","v":0},{"$f":"IF(P12<>0,(O12+E12+G12)/P12*100,\"-\")","v":"-"},{"$f":"'施設資源化量内訳(焼却)'!D12","v":0},{"$f":"'施設資源化量内訳(粗大)'!D12","v":0},{"$f":"'施設資源化量内訳(堆肥化)'!D12","v":0},{"$f":"'施設資源化量内訳(飼料化)'!D12","v":0},{"$f":"'施設資源化量内訳(メタン化)'!D12","v":0},{"$f":"'施設資源化量内訳(燃料化)'!D12","v":0},{"$f":"'施設資源化量内訳(資源化等)'!D12+'ごみ搬入量内訳(セメント)'!D12","v":0},{"$f":"SUM(R12:X12)","v":0},null,null,{"$f":"ごみ処理量内訳!O12","v":0},{"$f":"ごみ処理量内訳!AO12","v":0},{"$f":"ごみ処理量内訳!AP12","v":0},{"$f":"SUM(AB12:AD12)","v":0}]
["秋田県","05207","湯沢市",{"$f":"'ごみ搬入量内訳(総括)'!D13","v":0},{"$f":"ごみ処理量内訳!E13","v":0},{"$f":"ごみ処理量内訳!O13","v":0},{"$f":"SUM(H13:N13)","v":0},{"$f":"ごみ処理量内訳!G13","v":0},{"$f":"ごみ処理量内訳!L13+ごみ処理量内訳!M13","v":0},{"$f":"ごみ処理量内訳!H13","v":0},{"$f":"ごみ処理量内訳!I13","v":0},{"$f":"ごみ処理量内訳!J13","v":0},{"$f":"ごみ処理量内訳!K13","v":0},{"$f":"ごみ処理量内訳!N13","v":0},{"$f":"資源化量内訳!AH13","v":0},{"$f":"SUM(E13,F13,G13,O13)","v":0},{"$f":"IF(P13<>0,(O13+E13+G13)/P13*100,\"-\")","v":"-"},{"$f":"'施設資源化量内訳(焼却)'!D13","v":0},{"$f":"'施設資源化量内訳(粗大)'!D13","v":0},{"$f":"'施設資源化量内訳(堆肥化)'!D13","v":0},{"$f":"'施設資源化量内訳(飼料化)'!D13","v":0},{"$f":"'施設資源化量内訳(メタン化)'!D13","v":0},{"$f":"'施設資源化量内訳(燃料化)'!D13","v":0},{"$f":"'施設資源化量内訳(資源化等)'!D13+'ごみ搬入量内訳(セメント)'!D13","v":0},{"$f":"SUM(R13:X13)","v":0},null,null,{"$f":"ごみ処理量内訳!O13","v":0},{"$f":"ごみ処理量内訳!AO13","v":0},{"$f":"ごみ処理量内訳!AP13","v":0},{"$f":"SUM(AB13:AD13)","v":0}]
["秋田県","05209","鹿角市",{"$f":"'ごみ搬入量内訳(総括)'!D14","v":0},{"$f":"ごみ処理量内訳!E14","v":0},{"$f":"ごみ処理量内訳!O14","v":0},{"$f":"SUM(H14:N14)","v":0},{"$f":"ごみ処理量内訳!G14","v":0},{"$f":"ごみ処理量内訳!L14+ごみ処理量内訳!M14","v":0},{"$f":"ごみ処理量内訳!H14","v":0},{"$f":"ごみ処理量内訳!I14","v":0},{"$f":"ごみ処理量内訳!J14","v":0},{"$f":"ごみ処理量内訳!K14","v":0},{"$f":"ごみ処理量内訳!N14","v":0},{"$f":"資源化量内訳!AH14","v":0},{"$f":"SUM(E14,F14,G14,O14)","v":0},{"$f":"IF(P14<>0,(O14+E14+G14)/P14*100,\"-\")","v":"-"},{"$f":"'施設資源化量内訳(焼却)'!D14","v":0},{"$f":"'施設資源化量内訳(粗大)'!D14","v":0},{"$f":"'施設資源化量内訳(堆肥化)'!D14","v":0},{"$f":"'施設資源化量内訳(飼料化)'!D14","v":0},{"$f":"'施設資源化量内訳(メタン化)'!D14","v":0},{"$f":"'施設資源化量内訳(燃料化)'!D14","v":0},{"$f":"'施設資源化量内訳(資源化等)'!D14+'ごみ搬入量内訳(セメント)'!D14","v":0},{"$f":"SUM(R14:X14)","v":0},null,null,{"$f":"ごみ処理量内訳!O14","v":0},{"$f":"ごみ処理量内訳!AO14","v":0},{"$f":"ごみ処理量内訳!AP14","v":0},{"$f":"SUM(AB14:AD14)","v":0}]
["秋田県","05210","由利本荘市",{"$f":"'ごみ搬入量内訳(総括)'!D15","v":0},{"$f":"ごみ処理量内訳!E15","v":0},{"$f":"ごみ処理量内訳!O15","v":0},{"$f":"SUM(H15:N15)","v":0},{"$f":"ごみ処理量内訳!G15","v":0},{"$f":"ごみ処理量内訳!L15+ごみ処理量内訳!M15","v":0},{"$f":"ごみ処理量内訳!H15","v":0},{"$f":"ごみ処理量内訳!I15","v":0},{"$f":"ごみ処理量内訳!J15","v":0},{"$f":"ごみ処理量内訳!K15","v":0},{"$f":"ごみ処理量内訳!N15","v":0},{"$f":"資源化量内訳!AH15","v":0},{"$f":"SUM(E15,F15,G15,O15)","v":0},{"$f":"IF(P15<>0,(O15+E15+G15)/P15*100,\"-\")","v":"-"},{"$f":"'施設資源化量内訳(焼却)'!D15","v":0},{"$f":"'施設資源化量内訳(粗大)'!D15","v":0},{"$f":"'施設資源化量内訳(堆肥化)'!D15","v":0},{"$f":"'施設資源化量内訳(飼料化)'!D15","v":0},{"$f":"'施設資源化量内訳(メタン化)'!D15","v":0},{"$f":"'施設資源化量内訳(燃料化)'!D15","v":0},{"$f":"'施設資源化量内訳(資源化等)'!D15+'ごみ搬入量内訳(セメント)'!D15","v":0},{"$f":"SUM(R15:X15)","v":0},null,null,{"$f":"ごみ処理量内訳!O15","v":0},{"$f":"ごみ処理量内訳!AO15","v":0},{"$f":"ごみ処理量内訳!AP15","v":0},{"$f":"SUM(AB15:AD15)","v":0}]
["秋田県","05211","潟上市",{"$f":"'ごみ搬入量内訳(総括)'!D16","v":0},{"$f":"ごみ処理量内訳!E16","v":0},{"$f":"ごみ処理量内訳!O16","v":0},{"$f":"SUM(H16:N16)","v":0},{"$f":"ごみ処理量内訳!G16","v":0},{"$f":"ごみ処理量内訳!L16+ごみ処理量内訳!M16","v":0},{"$f":"ごみ処理量内訳!H16","v":0},{"$f":"ごみ処理量内訳!I16","v":0},{"$f":"ごみ処理量内訳!J16","v":0},{"$f":"ごみ処理量内訳!K16","v":0},{"$f":"ごみ処理量内訳!N16","v":0},{"$f":"資源化量内訳!AH16","v":0},{"$f":"SUM(E16,F16,G16,O16)","v":0},{"$f":"IF(P16<>0,(O16+E16+G16)/P16*100,\"-\")","v":"-"},{"$f":"'施設資源化量内訳(焼却)'!D16","v":0},{"$f":"'施設資源化量内訳(粗大)'!D16","v":0},{"$f":"'施設資源化量内訳(堆肥化)'!D16","v":0},{"$f":"'施設資源化量内訳(飼料化)'!D16","v":0},{"$f":"'施設資源化量内訳(メタン化)'!D16","v":0},{"$f":"'施設資源化量内訳(燃料化)'!D16","v":0},{"$f":"'施設資源化量内訳(資源化等)'!D16+'ごみ搬入量内訳(セメント)'!D16","v":0},{"$f":"SUM(R16:X16)","v":0},null,null,{"$f":"ごみ処理量内訳!O16","v":0},{"$f":"ごみ処理量内訳!AO16","v":0},{"$f":"ごみ処理量内訳!AP16","v":0},{"$f":"SUM(AB16:AD16)","v":0}]
["秋田県","05212","大仙市",{"$f":"'ごみ搬入量内訳(総括)'!D17","v":0},{"$f":"ごみ処理量内訳!E17","v":0},{"$f":"ごみ処理量内訳!O17","v":0},{"$f":"SUM(H17:N17)","v":0},{"$f":"ごみ処理量内訳!G17","v":0},{"$f":"ごみ処理量内訳!L17+ごみ処理量内訳!M17","v":0},{"$f":"ごみ処理量内訳!H17","v":0},{"$f":"ごみ処理量内訳!I17","v":0},{"$f":"ごみ処理量内訳!J17","v":0},{"$f":"ごみ処理量内訳!K17","v":0},{"$f":"ごみ処理量内訳!N17","v":0},{"$f":"資源化量内訳!AH17","v":0},{"$f":"SUM(E17,F17,G17,O17)","v":0},{"$f":"IF(P17<>0,(O17+E17+G17)/P17*100,\"-\")","v":"-"},{"$f":"'施設資源化量内訳(焼却)'!D17","v":0},{"$f":"'施設資源化量内訳(粗大)'!D17","v":0},{"$f":"'施設資源化量内訳(堆肥化)'!D17","v":0},{"$f":"'施設資源化量内訳(飼料化)'!D17","v":0},{"$f":"'施設資源化量内訳(メタン化)'!D17","v":0},{"$f":"'施設資源化量内訳(燃料化)'!D17","v":0},{"$f":"'施設資源化量内訳(資源化等)'!D17+'ごみ搬入量内訳(セメント)'!D17","v":0},{"$f":"SUM(R17:X17)","v":0},null,null,{"$f":"ごみ処理量内訳!O17","v":0},{"$f":"ごみ処理量内訳!AO17","v":0},{"$f":"ごみ処理量内訳!AP17","v":0},{"$f":"SUM(AB17:AD17)","v":0}]
["秋田県","05213","北秋田市",{"$f":"'ごみ搬入量内訳(総括)'!D18","v":0},{"$f":"ごみ処理量内訳!E18","v":0},{"$f":"ごみ処理量内訳!O18","v":0},{"$f":"SUM(H18:N18)","v":0},{"$f":"ごみ処理量内訳!G18","v":0},{"$f":"ごみ処理量内訳!L18+ごみ処理量内訳!M18","v":0},{"$f":"ごみ処理量内訳!H18","v":0},{"$f":"ごみ処理量内訳!I18","v":0},{"$f":"ごみ処理量内訳!J18","v":0},{"$f":"ごみ処理量内訳!K18","v":0},{"$f":"ごみ処理量内訳!N18","v":0},{"$f":"資源化量内訳!AH18","v":0},{"$f":"SUM(E18,F18,G18,O18)","v":0},{"$f":"IF(P18<>0,(O18+E18+G18)/P18*100,\"-\")","v":"-"},{"$f":"'施設資源化量内訳(焼却)'!D18","v":0},{"$f":"'施設資源化量内訳(粗大)'!D18","v":0},{"$f":"'施設資源化量内訳(堆肥化)'!D18","v":0},{"$f":"'施設資源化量内訳(飼料化)'!D18","v":0},{"$f":"'施設資源化量内訳(メタン化)'!D18","v":0},{"$f":"'施設資源化量内訳(燃料化)'!D18","v":0},{"$f":"'施設資源化量内訳(資源化等)'!D18+'ごみ搬入量内訳(セメント)'!D18","v":0},{"$f":"SUM(R18:X18)","v":0},null,null,{"$f":"ごみ処理量内訳!O18","v":0},{"$f":"ごみ処理量内訳!AO18","v":0},{"$f":"ごみ処理量内訳!AP18","v":0},{"$f":"SUM(AB18:AD18)","v":0}]
["秋田県","05214","にかほ市",{"$f":"'ごみ搬入量内訳(総括)'!D19","v":0},{"$f":"ごみ処理量内訳!E19","v":0},{"$f":"ごみ処理量内訳!O19","v":0},{"$f":"SUM(H19:N19)","v":0},{"$f":"ごみ処理量内訳!G19","v":0},{"$f":"ごみ処理量内訳!L19+ごみ処理量内訳!M19","v":0},{"$f":"ごみ処理量内訳!H19","v":0},{"$f":"ごみ処理量内訳!I19","v":0},{"$f":"ごみ処理量内訳!J19","v":0},{"$f":"ごみ処理量内訳!K19","v":0},{"$f":"ごみ処理量内訳!N19","v":0},{"$f":"資源化量内訳!AH19","v":0},{"$f":"SUM(E19,F19,G19,O19)","v":0},{"$f":"IF(P19<>0,(O19+E19+G19)/P19*100,\"-\")","v":"-"},{"$f":"'施設資源化量内訳(焼却)'!D19","v":0},{"$f":"'施設資源化量内訳(粗大)'!D19","v":0},{"$f":"'施設資源化量内訳(堆肥化)'!D19","v":0},{"$f":"'施設資源化量内訳(飼料化)'!D19","v":0},{"$f":"'施設資源化量内訳(メタン化)'!D19","v":0},{"$f":"'施設資源化量内訳(燃料化)'!D19","v":0},{"$f":"'施設資源化量内訳(資源化等)'!D19+'ごみ搬入量内訳(セメント)'!D19","v":0},{"$f":"SUM(R19:X19)","v":0},null,null,{"$f":"ごみ処理量内訳!O19","v":0},{"$f":"ごみ処理量内訳!AO19","v":0},{"$f":"ごみ処理量内訳!AP19","v":0},{"$f":"SUM(AB19:AD19)","v":0}]
["秋田県","05215","仙北市",{"$f":"'ごみ搬入量内訳(総括)'!D20","v":0},{"$f":"ごみ処理量内訳!E20","v":0},{"$f":"ごみ処理量内訳!O20","v":0},{"$f":"SUM(H20:N20)","v":0},{"$f":"ごみ処理量内訳!G20","v":0},{"$f":"ごみ処理量内訳!L20+ごみ処理量内訳!M20","v":0},{"$f":"ごみ処理量内訳!H20","v":0},{"$f":"ごみ処理量内訳!I20","v":0},{"$f":"ごみ処理量内訳!J20","v":0},{"$f":"ごみ処理量内訳!K20","v":0},{"$f":"ごみ処理量内訳!N20","v":0},{"$f":"資源化量内訳!AH20","v":0},{"$f":"SUM(E20,F20,G20,O20)","v":0},{"$f":"IF(P20<>0,(O20+E20+G20)/P20*100,\"-\")","v":"-"},{"$f":"'施設資源化量内訳(焼却)'!D20","v":0},{"$f":"'施設資源化量内訳(粗大)'!D20","v":0},{"$f":"'施設資源化量内訳(堆肥化)'!D20","v":0},{"$f":"'施設資源化量内訳(飼料化)'!D20","v":0},{"$f":"'施設資源化量内訳(メタン化)'!D20","v":0},{"$f":"'施設資源化量内訳(燃料化)'!D20","v":0},{"$f":"'施設資源化量内訳(資源化等)'!D20+'ごみ搬入量内訳(セメント)'!D20","v":0},{"$f":"SUM(R20:X20)","v":0},null,null,{"$f":"ごみ処理量内訳!O20","v":0},{"$f":"ごみ処理量内訳!AO20","v":0},{"$f":"ごみ処理量内訳!AP20","v":0},{"$f":"SUM(AB20:AD20)","v":0}]
["秋田県","05303","小坂町",{"$f":"'ごみ搬入量内訳(総括)'!D21","v":0},{"$f":"ごみ処理量内訳!E21","v":0},{"$f":"ごみ処理量内訳!O21","v":0},{"$f":"SUM(H21:N21)","v":0},{"$f":"ごみ処理量内訳!G21","v":0},{"$f":"ごみ処理量内訳!L21+ごみ処理量内訳!M21","v":0},{"$f":"ごみ処理量内訳!H21","v":0},{"$f":"ごみ処理量内訳!I21","v":0},{"$f":"ごみ処理量内訳!J21","v":0},{"$f":"ごみ処理量内訳!K21","v":0},{"$f":"ごみ処理量内訳!N21","v":0},{"$f":"資源化量内訳!AH21","v":0},{"$f":"SUM(E21,F21,G21,O21)","v":0},{"$f":"IF(P21<>0,(O21+E21+G21)/P21*100,\"-\")","v":"-"},{"$f":"'施設資源化量内訳(焼却)'!D21","v":0},{"$f":"'施設資源化量内訳(粗大)'!D21","v":0},{"$f":"'施設資源化量内訳(堆肥化)'!D21","v":0},{"$f":"'施設資源化量内訳(飼料化)'!D21","v":0},{"$f":"'施設資源化量内訳(メタン化)'!D21","v":0},{"$f":"'施設資源化量内訳(燃料化)'!D21","v":0},{"$f":"'施設資源化量内訳(資源化等)'!D21+'ごみ搬入量内訳(セメント)'!D21","v":0},{"$f":"SUM(R21:X21)","v":0},null,null,{"$f":"ごみ処理量内訳!O21","v":0},{"$f":"ごみ処理量内訳!AO21","v":0},{"$f":"ごみ処理量内訳!AP21","v":0},{"$f":"SUM(AB21:AD21)","v":0}]
["秋田県","05327","上小阿仁村",{"$f":"'ごみ搬入量内訳(総括)'!D22","v":0},{"$f":"ごみ処理量内訳!E22","v":0},{"$f":"ごみ処理量内訳!O22","v":0},{"$f":"SUM(H22:N22)","v":0},{"$f":"ごみ処理量内訳!G22","v":0},{"$f":"ごみ処理量内訳!L22+ごみ処理量内訳!M22","v":0},{"$f":"ごみ処理量内訳!H22","v":0},{"$f":"ごみ処理量内訳!I22","v":0},{"$f":"ごみ処理量内訳!J22","v":0},{"$f":"ごみ処理量内訳!K22","v":0},{"$f":"ごみ処理量内訳!N22","v":0},{"$f":"資源化量内訳!AH22","v":0},{"$f":"SUM(E22,F22,G22,O22)","v":0},{"$f":"IF(P22<>0,(O22+E22+G22)/P22*100,\"-\")","v":"-"},{"$f":"'施設資源化量内訳(焼却)'!D22","v":0},{"$f":"'施設資源化量内訳(粗大)'!D22","v":0},{"$f":"'施設資源化量内訳(堆肥化)'!D22","v":0},{"$f":"'施設資源化量内訳(飼料化)'!D22","v":0},{"$f":"'施設資源化量内訳(メタン化)'!D22","v":0},{"$f":"'施設資源化量内訳(燃料化)'!D22","v":0},{"$f":"'施設資源化量内訳(資源化等)'!D22+'ごみ搬入量内訳(セメント)'!D22","v":0},{"$f":"SUM(R22:X22)","v":0},null,null,{"$f":"ごみ処理量内訳!O22","v":0},{"$f":"ごみ処理量内訳!AO22","v":0},{"$f":"ごみ処理量内訳!AP22","v":0},{"$f":"SUM(AB22:AD22)","v":0}]
["秋田県","05346","藤里町",{"$f":"'ごみ搬入量内訳(総括)'!D23","v":0},{"$f":"ごみ処理量内訳!E23","v":0},{"$f":"ごみ処理量内訳!O23","v":0},{"$f":"SUM(H23:N23)","v":0},{"$f":"ごみ処理量内訳!G23","v":0},{"$f":"ごみ処理量内訳!L23+ごみ処理量内訳!M23","v":0},{"$f":"ごみ処理量内訳!H23","v":0},{"$f":"ごみ処理量内訳!I23","v":0},{"$f":"ごみ処理量内訳!J23","v":0},{"$f":"ごみ処理量内訳!K23","v":0},{"$f":"ごみ処理量内訳!N23","v":0},{"$f":"資源化量内訳!AH23","v":0},{"$f":"SUM(E23,F23,G23,O23)","v":0},{"$f":"IF(P23<>0,(O23+E23+G23)/P23*100,\"-\")","v":"-"},{"$f":"'施設資源化量内訳(焼却)'!D23","v":0},{"$f":"'施設資源化量内訳(粗大)'!D23","v":0},{"$f":"'施設資源化量内訳(堆肥化)'!D23","v":0},{"$f":"'施設資源化量内訳(飼料化)'!D23","v":0},{"$f":"'施設資源化量内訳(メタン化)'!D23","v":0},{"$f":"'施設資源化量内訳(燃料化)'!D23","v":0},{"$f":"'施設資源化量内訳(資源化等)'!D23+'ごみ搬入量内訳(セメント)'!D23","v":0},{"$f":"SUM(R23:X23)","v":0},null,null,{"$f":"ごみ処理量内訳!O23","v":0},{"$f":"ごみ処理量内訳!AO23","v":0},{"$f":"ごみ処理量内訳!AP23","v":0},{"$f":"SUM(AB23:AD23)","v":0}]
["秋田県","05348","三種町",{"$f":"'ごみ搬入量内訳(総括)'!D24","v":0},{"$f":"ごみ処理量内訳!E24","v":0},{"$f":"ごみ処理量内訳!O24","v":0},{"$f":"SUM(H24:N24)","v":0},{"$f":"ごみ処理量内訳!G24","v":0},{"$f":"ごみ処理量内訳!L24+ごみ処理量内訳!M24","v":0},{"$f":"ごみ処理量内訳!H24","v":0},{"$f":"ごみ処理量内訳!I24","v":0},{"$f":"ごみ処理量内訳!J24","v":0},{"$f":"ごみ処理量内訳!K24","v":0},{"$f":"ごみ処理量内訳!N24","v":0},{"$f":"資源化量内訳!AH24","v":0},{"$f":"SUM(E24,F24,G24,O24)","v":0},{"$f":"IF(P24<>0,(O24+E24+G24)/P24*100,\"-\")","v":"-"},{"$f":"'施設資源化量内訳(焼却)'!D24","v":0},{"$f":"'施設資源化量内訳(粗大)'!D24","v":0},{"$f":"'施設資源化量内訳(堆肥化)'!D24","v":0},{"$f":"'施設資源化量内訳(飼料化)'!D24","v":0},{"$f":"'施設資源化量内訳(メタン化)'!D24","v":0},{"$f":"'施設資源化量内訳(燃料化)'!D24","v":0},{"$f":"'施設資源化量内訳(資源化等)'!D24+'ごみ搬入量内訳(セメント)'!D24","v":0},{"$f":"SUM(R24:X24)","v":0},null,null,{"$f":"ごみ処理量内訳!O24","v":0},{"$f":"ごみ処理量内訳!AO24","v":0},{"$f":"ごみ処理量内訳!AP24","v":0},{"$f":"SUM(AB24:AD24)","v":0}]
["秋田県","05349","八峰町",{"$f":"'ごみ搬入量内訳(総括)'!D25","v":0},{"$f":"ごみ処理量内訳!E25","v":0},{"$f":"ごみ処理量内訳!O25","v":0},{"$f":"SUM(H25:N25)","v":0},{"$f":"ごみ処理量内訳!G25","v":0},{"$f":"ごみ処理量内訳!L25+ごみ処理量内訳!M25","v":0},{"$f":"ごみ処理量内訳!H25","v":0},{"$f":"ごみ処理量内訳!I25","v":0},{"$f":"ごみ処理量内訳!J25","v":0},{"$f":"ごみ処理量内訳!K25","v":0},{"$f":"ごみ処理量内訳!N25","v":0},{"$f":"資源化量内訳!AH25","v":0},{"$f":"SUM(E25,F25,G25,O25)","v":0},{"$f":"IF(P25<>0,(O25+E25+G25)/P25*100,\"-\")","v":"-"},{"$f":"'施設資源化量内訳(焼却)'!D25","v":0},{"$f":"'施設資源化量内訳(粗大)'!D25","v":0},{"$f":"'施設資源化量内訳(堆肥化)'!D25","v":0},{"$f":"'施設資源化量内訳(飼料化)'!D25","v":0},{"$f":"'施設資源化量内訳(メタン化)'!D25","v":0},{"$f":"'施設資源化量内訳(燃料化)'!D25","v":0},{"$f":"'施設資源化量内訳(資源化等)'!D25+'ごみ搬入量内訳(セメント)'!D25","v":0},{"$f":"SUM(R25:X25)","v":0},null,null,{"$f":"ごみ処理量内訳!O25","v":0},{"$f":"ごみ処理量内訳!AO25","v":0},{"$f":"ごみ処理量内訳!AP25","v":0},{"$f":"SUM(AB25:AD25)","v":0}]
["秋田県","05361","五城目町",{"$f":"'ごみ搬入量内訳(総括)'!D26","v":0},{"$f":"ごみ処理量内訳!E26","v":0},{"$f":"ごみ処理量内訳!O26","v":0},{"$f":"SUM(H26:N26)","v":0},{"$f":"ごみ処理量内訳!G26","v":0},{"$f":"ごみ処理量内訳!L26+ごみ処理量内訳!M26","v":0},{"$f":"ごみ処理量内訳!H26","v":0},{"$f":"ごみ処理量内訳!I26","v":0},{"$f":"ごみ処理量内訳!J26","v":0},{"$f":"ごみ処理量内訳!K26","v":0},{"$f":"ごみ処理量内訳!N26","v":0},{"$f":"資源化量内訳!AH26","v":0},{"$f":"SUM(E26,F26,G26,O26)","v":0},{"$f":"IF(P26<>0,(O26+E26+G26)/P26*100,\"-\")","v":"-"},{"$f":"'施設資源化量内訳(焼却)'!D26","v":0},{"$f":"'施設資源化量内訳(粗大)'!D26","v":0},{"$f":"'施設資源化量内訳(堆肥化)'!D26","v":0},{"$f":"'施設資源化量内訳(飼料化)'!D26","v":0},{"$f":"'施設資源化量内訳(メタン化)'!D26","v":0},{"$f":"'施設資源化量内訳(燃料化)'!D26","v":0},{"$f":"'施設資源化量内訳(資源化等)'!D26+'ごみ搬入量内訳(セメント)'!D26","v":0},{"$f":"SUM(R26:X26)","v":0},null,null,{"$f":"ごみ処理量内訳!O26","v":0},{"$f":"ごみ処理量内訳!AO26","v":0},{"$f":"ごみ処理量内訳!AP26","v":0},{"$f":"SUM(AB26:AD26)","v":0}]
["秋田県","05363","八郎潟町",{"$f":"'ごみ搬入量内訳(総括)'!D27","v":0},{"$f":"ごみ処理量内訳!E27","v":0},{"$f":"ごみ処理量内訳!O27","v":0},{"$f":"SUM(H27:N27)","v":0},{"$f":"ごみ処理量内訳!G27","v":0},{"$f":"ごみ処理量内訳!L27+ごみ処理量内訳!M27","v":0},{"$f":"ごみ処理量内訳!H27","v":0},{"$f":"ごみ処理量内訳!I27","v":0},{"$f":"ごみ処理量内訳!J27","v":0},{"$f":"ごみ処理量内訳!K27","v":0},{"$f":"ごみ処理量内訳!N27","v":0},{"$f":"資源化量内訳!AH27","v":0},{"$f":"SUM(E27,F27,G27,O27)","v":0},{"$f":"IF(P27<>0,(O27+E27+G27)/P27*100,\"-\")","v":"-"},{"$f":"'施設資源化量内訳(焼却)'!D27","v":0},{"$f":"'施設資源化量内訳(粗大)'!D27","v":0},{"$f":"'施設資源化量内訳(堆肥化)'!D27","v":0},{"$f":"'施設資源化量内訳(飼料化)'!D27","v":0},{"$f":"'施設資源化量内訳(メタン化)'!D27","v":0},{"$f":"'施設資源化量内訳(燃料化)'!D27","v":0},{"$f":"'施設資源化量内訳(資源化等)'!D27+'ごみ搬入量内訳(セメント)'!D27","v":0},{"$f":"SUM(R27:X27)","v":0},null,null,{"$f":"ごみ処理量内訳!O27","v":0},{"$f":"ごみ処理量内訳!AO27","v":0},{"$f":"ごみ処理量内訳!AP27","v":0},{"$f":"SUM(AB27:AD27)","v":0}]
["秋田県","05366","井川町",{"$f":"'ごみ搬入量内訳(総括)'!D28","v":0},{"$f":"ごみ処理量内訳!E28","v":0},{"$f":"ごみ処理量内訳!O28","v":0},{"$f":"SUM(H28:N28)","v":0},{"$f":"ごみ処理量内訳!G28","v":0},{"$f":"ごみ処理量内訳!L28+ごみ処理量内訳!M28","v":0},{"$f":"ごみ処理量内訳!H28","v":0},{"$f":"ごみ処理量内訳!I28","v":0},{"$f":"ごみ処理量内訳!J28","v":0},{"$f":"ごみ処理量内訳!K28","v":0},{"$f":"ごみ処理量内訳!N28","v":0},{"$f":"資源化量内訳!AH28","v":0},{"$f":"SUM(E28,F28,G28,O28)","v":0},{"$f":"IF(P28<>0,(O28+E28+G28)/P28*100,\"-\")","v":"-"},{"$f":"'施設資源化量内訳(焼却)'!D28","v":0},{"$f":"'施設資源化量内訳(粗大)'!D28","v":0},{"$f":"'施設資源化量内訳(堆肥化)'!D28","v":0},{"$f":"'施設資源化量内訳(飼料化)'!D28","v":0},{"$f":"'施設資源化量内訳(メタン化)'!D28","v":0},{"$f":"'施設資源化量内訳(燃料化)'!D28","v":0},{"$f":"'施設資源化量内訳(資源化等)'!D28+'ごみ搬入量内訳(セメント)'!D28","v":0},{"$f":"SUM(R28:X28)","v":0},null,null,{"$f":"ごみ処理量内訳!O28","v":0},{"$f":"ごみ処理量内訳!AO28","v":0},{"$f":"ごみ処理量内訳!AP28","v":0},{"$f":"SUM(AB28:AD28)","v":0}]
["秋田県","05368","大潟村",{"$f":"'ごみ搬入量内訳(総括)'!D29","v":0},{"$f":"ごみ処理量内訳!E29","v":0},{"$f":"ごみ処理量内訳!O29","v":0},{"$f":"SUM(H29:N29)","v":0},{"$f":"ごみ処理量内訳!G29","v":0},{"$f":"ごみ処理量内訳!L29+ごみ処理量内訳!M29","v":0},{"$f":"ごみ処理量内訳!H29","v":0},{"$f":"ごみ処理量内訳!I29","v":0},{"$f":"ごみ処理量内訳!J29","v":0},{"$f":"ごみ処理量内訳!K29","v":0},{"$f":"ごみ処理量内訳!N29","v":0},{"$f":"資源化量内訳!AH29","v":0},{"$f":"SUM(E29,F29,G29,O29)","v":0},{"$f":"IF(P29<>0,(O29+E29+G29)/P29*100,\"-\")","v":"-"},{"$f":"'施設資源化量内訳(焼却)'!D29","v":0},{"$f":"'施設資源化量内訳(粗大)'!D29","v":0},{"$f":"'施設資源化量内訳(堆肥化)'!D29","v":0},{"$f":"'施設資源化量内訳(飼料化)'!D29","v":0},{"$f":"'施設資源化量内訳(メタン化)'!D29","v":0},{"$f":"'施設資源化量内訳(燃料化)'!D29","v":0},{"$f":"'施設資源化量内訳(資源化等)'!D29+'ごみ搬入量内訳(セメント)'!D29","v":0},{"$f":"SUM(R29:X29)","v":0},null,null,{"$f":"ごみ処理量内訳!O29","v":0},{"$f":"ごみ処理量内訳!AO29","v":0},{"$f":"ごみ処理量内訳!AP29","v":0},{"$f":"SUM(AB29:AD29)","v":0}]
["秋田県","05434","美郷町",{"$f":"'ごみ搬入量内訳(総括)'!D30","v":0},{"$f":"ごみ処理量内訳!E30","v":0},{"$f":"ごみ処理量内訳!O30","v":0},{"$f":"SUM(H30:N30)","v":0},{"$f":"ごみ処理量内訳!G30","v":0},{"$f":"ごみ処理量内訳!L30+ごみ処理量内訳!M30","v":0},{"$f":"ごみ処理量内訳!H30","v":0},{"$f":"ごみ処理量内訳!I30","v":0},{"$f":"ごみ処理量内訳!J30","v":0},{"$f":"ごみ処理量内訳!K30","v":0},{"$f":"ごみ処理量内訳!N30","v":0},{"$f":"資源化量内訳!AH30","v":0},{"$f":"SUM(E30,F30,G30,O30)","v":0},{"$f":"IF(P30<>0,(O30+E30+G30)/P30*100,\"-\")","v":"-"},{"$f":"'施設資源化量内訳(焼却)'!D30","v":0},{"$f":"'施設資源化量内訳(粗大)'!D30","v":0},{"$f":"'施設資源化量内訳(堆肥化)'!D30","v":0},{"$f":"'施設資源化量内訳(飼料化)'!D30","v":0},{"$f":"'施設資源化量内訳(メタン化)'!D30","v":0},{"$f":"'施設資源化量内訳(燃料化)'!D30","v":0},{"$f":"'施設資源化量内訳(資源化等)'!D30+'ごみ搬入量内訳(セメント)'!D30","v":0},{"$f":"SUM(R30:X30)","v":0},null,null,{"$f":"ごみ処理量内訳!O30","v":0},{"$f":"ごみ処理量内訳!AO30","v":0},{"$f":"ごみ処理量内訳!AP30","v":0},{"$f":"SUM(AB30:AD30)","v":0}]
["秋田県","05463","羽後町",{"$f":"'ごみ搬入量内訳(総括)'!D31","v":0},{"$f":"ごみ処理量内訳!E31","v":0},{"$f":"ごみ処理量内訳!O31","v":0},{"$f":"SUM(H31:N31)","v":0},{"$f":"ごみ処理量内訳!G31","v":0},{"$f":"ごみ処理量内訳!L31+ごみ処理量内訳!M31","v":0},{"$f":"ごみ処理量内訳!H31","v":0},{"$f":"ごみ処理量内訳!I31","v":0},{"$f":"ごみ処理量内訳!J31","v":0},{"$f":"ごみ処理量内訳!K31","v":0},{"$f":"ごみ処理量内訳!N31","v":0},{"$f":"資源化量内訳!AH31","v":0},{"$f":"SUM(E31,F31,G31,O31)","v":0},{"$f":"IF(P31<>0,(O31+E31+G31)/P31*100,\"-\")","v":"-"},{"$f":"'施設資源化量内訳(焼却)'!D31","v":0},{"$f":"'施設資源化量内訳(粗大)'!D31","v":0},{"$f":"'施設資源化量内訳(堆肥化)'!D31","v":0},{"$f":"'施設資源化量内訳(飼料化)'!D31","v":0},{"$f":"'施設資源化量内訳(メタン化)'!D31","v":0},{"$f":"'施設資源化量内訳(燃料化)'!D31","v":0},{"$f":"'施設資源化量内訳(資源化等)'!D31+'ごみ搬入量内訳(セメント)'!D31","v":0},{"$f":"SUM(R31:X31)","v":0},null,null,{"$f":"ごみ処理量内訳!O31","v":0},{"$f":"ごみ処理量内訳!AO31","v":0},{"$f":"ごみ処理量内訳!AP31","v":0},{"$f":"SUM(AB31:AD31)","v":0}]
["秋田県","05464","東成瀬村",{"$f":"'ごみ搬入量内訳(総括)'!D32","v":0},{"$f":"ごみ処理量内訳!E32","v":0},{"$f":"ごみ処理量内訳!O32","v":0},{"$f":"SUM(H32:N32)","v":0},{"$f":"ごみ処理量内訳!G32","v":0},{"$f":"ごみ処理量内訳!L32+ごみ処理量内訳!M32","v":0},{"$f":"ごみ処理量内訳!H32","v":0},{"$f":"ごみ処理量内訳!I32","v":0},{"$f":"ごみ処理量内訳!J32","v":0},{"$f":"ごみ処理量内訳!K32","v":0},{"$f":"ごみ処理量内訳!N32","v":0},{"$f":"資源化量内訳!AH32","v":0},{"$f":"SUM(E32,F32,G32,O32)","v":0},{"$f":"IF(P32<>0,(O32+E32+G32)/P32*100,\"-\")","v":"-"},{"$f":"'施設資源化量内訳(焼却)'!D32","v":0},{"$f":"'施設資源化量内訳(粗大)'!D32","v":0},{"$f":"'施設資源化量内訳(堆肥化)'!D32","v":0},{"$f":"'施設資源化量内訳(飼料化)'!D32","v":0},{"$f":"'施設資源化量内訳(メタン化)'!D32","v":0},{"$f":"'施設資源化量内訳(燃料化)'!D32","v":0},{"$f":"'施設資源化量内訳(資源化等)'!D32+'ごみ搬入量内訳(セメント)'!D32","v":0},{"$f":"SUM(R32:X32)","v":0},null,null,{"$f":"ごみ処理量内訳!O32","v":0},{"$f":"ごみ処理量内訳!AO32","v":0},{"$f":"ごみ処理量内訳!AP32","v":0},{"$f":"SUM(AB32:AD32)","v":0}]

{"sheet":"ごみ搬入量内訳(総括)","index":1,"n_rows":32,"n_cols":35,"rows_kept":32,"merged":[[1,0,5,0],[1,1,5,1],[1,2,5,2],[2,3,4,3],[2,4,4,4],[2,5,4,5],[2,6,4,6],[2,7,4,7],[2,8,4,8],[2,9,4,9],[2,10,4,10],[2,11,4,11],[2,12,4,12],[2,13,4,13],[2,14,4,14],[2,15,4,15],[2,16,4,16],[2,17,4,17],[2,18,4,18],[2,19,4,19],[2,20,4,20],[2,21,4,21],[2,22,4,22],[2,23,4,23],[2,24,4,24],[2,25,4,25],[2,26,4,26],[2,27,4,27],[2,28,4,28],[2,29,4,29],[2,30,4,30],[2,31,4,31],[2,33,4,33],[2,34,4,34]]}
["【災害】処理施設別ごみ搬入量の状況（令和3年度実績）"]
["都道府県名","地方公共団体コード","市区町村名","合　　計"]
[{"$nulls":3},"合計","木くず","金属くず","コンクリートがら","その他がれき類","石綿含有廃棄物等","ＰＣＢ廃棄物","その他有害物、危険物","混合ごみ","可燃ごみ","不燃ごみ","資源ごみ","粗大ごみ","家電４品目","パソコン","自動車","ＦＲＰ船","鋼船","その他船舶","畳","漁網","タイヤ","その他家電","消火器","ガスボンベ","土石類","津波堆積物","その他","冷凍・冷蔵庫保管物\n（海洋投入）",null,"漂着ごみ","除染廃棄物"]
[{"$nulls":32},"石膏ボード"]
[]
[{"$nulls":3},"（ｔ）","（ｔ）","（ｔ）","（ｔ）","（ｔ）","（ｔ）","（ｔ）","（ｔ）","（ｔ）","（ｔ）","（ｔ）","（ｔ）","（ｔ）","（ｔ）","（ｔ）","（ｔ）","（ｔ）","（ｔ）","（ｔ）","（ｔ）","（ｔ）","（ｔ）","（ｔ）","（ｔ）","（ｔ）","（ｔ）","（ｔ）","（ｔ）","（ｔ）","（ｔ）","（ｔ）","（ｔ）"]
["秋田県","05000","合計",{"$f":"SUM($D$8:$D$32)","v":0},{"$f":"SUM($E$8:$E$32)","v":0},{"$f":"SUM($F$8:$F$32)","v":0},{"$f":"SUM($G$8:$G$32)","v":0},{"$f":"SUM($H$8:$H$32)","v":0},{"$f":"SUM($I$8:$I$32)","v":0},{"$f":"SUM($J$8:$J$32)","v":0},{"$f":"SUM($K$8:$K$32)","v":0},{"$f":"SUM($L$8:$L$32)","v":0},{"$f":"SUM($M$8:$M$32)","v":0},{"$f":"SUM($N$8:$N$32)","v":0},{"$f":"SUM($O$8:$O$32)","v":0},{"$f":"SUM($P$8:$P$32)","v":0},{"$f":"SUM($Q$8:$Q$32)","v":0},{"$f":"SUM($R$8:$R$32)","v":0},{"$f":"SUM($S$8:$S$32)","v":0},{"$f":"SUM($T$8:$T$32)","v":0},{"$f":"SUM($U$8:$U$32)","v":0},{"$f":"SUM($V$8:$V$32)","v":0},{"$f":"SUM($W$8:$W$32)","v":0},{"$f":"SUM($X$8:$X$32)","v":0},{"$f":"SUM($Y$8:$Y$32)","v":0},{"$f":"SUM($Z$8:$Z$32)","v":0},{"$f":"SUM($AA$8:$AA$32)","v":0},{"$f":"SUM($AB$8:$AB$32)","v":0},{"$f":"SUM($AC$8:$AC$32)","v":0},{"$f":"SUM($AD$8:$AD$32)","v":0},{"$f":"SUM($AE$8:$AE$32)","v":0},{"$f":"SUM($AF$8:$AF$32)","v":0},{"$f":"SUM($AG$8:$AG$32)","v":0},{"$f":"SUM($AH$8:$AH$32)","v":0},{"$f":"SUM($AI$8:$AI$32)","v":0}]
["秋田県","05201","秋田市",{"$f":"SUM(E8:AI8)","v":0},{"$f":"'ごみ搬入量内訳(直接資源化)'!E8+'ごみ搬入量内訳(焼却)'!E8+'ごみ搬入量内訳(粗大)'!E8+'ごみ搬入量内訳(堆肥化)'!E8+'ごみ搬入量内訳(飼料化)'!E8+'ごみ搬入量内訳(メタン化)'!E8+'ごみ搬入量内訳(燃料化)'!E8+'ごみ搬入量内訳(セメント)'!E8+'ごみ搬入量内訳(資源化等)'!E8+'ごみ搬入量内訳(その他)'!E8+'ごみ搬入量内訳(直接埋立)'!E8+'ごみ搬入量内訳(海洋投入)'!E8","v":0},{"$f":"'ごみ搬入量内訳(直接資源化)'!F8+'ごみ搬入量内訳(焼却)'!F8+'ごみ搬入量内訳(粗大)'!F8+'ごみ搬入量内訳(堆肥化)'!F8+'ごみ搬入量内訳(飼料化)'!F8+'ごみ搬入量内訳(メタン化)'!F8+'ごみ搬入量内訳(燃料化)'!F8+'ごみ搬入量内訳(セメント)'!F8+'ごみ搬入量内訳(資源化等)'!F8+'ごみ搬入量内訳(その他)'!F8+'ごみ搬入量内訳(直接埋立)'!F8+'ごみ搬入量内訳(海洋投入)'!F8","v":0},{"$f":"'ごみ搬入量内訳(直接資源化)'!G8+'ごみ搬入量内訳(焼却)'!G8+'ごみ搬入量内訳(粗大)'!G8+'ごみ搬入量内訳(堆肥化)'!G8+'ごみ搬入量内訳(飼料化)'!G8+'ごみ搬入量内訳(メタン化)'!G8+'ごみ搬入量内訳(燃料化)'!G8+'ごみ搬入量内訳(セメント)'!G8+'ごみ搬入量内訳(資源化等)'!G8+'ごみ搬入量内訳(その他)'!G8+'ごみ搬入量内訳(直接埋立)'!G8+'ごみ搬入量内訳(海洋投入)'!G8","v":0},{"$f":"'ごみ搬入量内訳(直接資源化)'!H8+'ごみ搬入量内訳(焼却)'!H8+'ごみ搬入量内訳(粗大)'!H8+'ごみ搬入量内訳(堆肥化)'!H8+'ごみ搬入量内訳(飼料化)'!H8+'ごみ搬入量内訳(メタン化)'!H8+'ごみ搬入量内訳(燃料化)'!H8+'ごみ搬入量内訳(セメント)'!H8+'ごみ搬入量内訳(資源化等)'!H8+'ごみ搬入量内訳(その他)'!H8+'ごみ搬入量内訳(直接埋立)'!H8+'ごみ搬入量内訳(海洋投入)'!H8","v":0},{"$f":"'ごみ搬入量内訳(直接資源化)'!I8+'ごみ搬入量内訳(焼却)'!I8+'ごみ搬入量内訳(粗大)'!I8+'ごみ搬入量内訳(堆肥化)'!I8+'ごみ搬入量内訳(飼料化)'!I8+'ごみ搬入量内訳(メタン化)'!I8+'ごみ搬入量内訳(燃料化)'!I8+'ごみ搬入量内訳(セメント)'!I8+'ごみ搬入量内訳(資源化等)'!I8+'ごみ搬入量内訳(その他)'!I8+'ごみ搬入量内訳(直接埋立)'!I8+'ごみ搬入量内訳(海洋投入)'!I8","v":0},{"$f":"'ごみ搬入量内訳(直接資源化)'!J8+'ごみ搬入量内訳(焼却)'!J8+'ごみ搬入量内訳(粗大)'!J8+'ごみ搬入量内訳(堆肥化)'!J8+'ごみ搬入量内訳(飼料化)'!J8+'ごみ搬入量内訳(メタン化)'!J8+'ごみ搬入量内訳(燃料化)'!J8+'ごみ搬入量内訳(セメント)'!J8+'ごみ搬入量内訳(資源化等)'!J8+'ごみ搬入量内訳(その他)'!J8+'ごみ搬入量内訳(直接埋立)'!J8+'ごみ搬入量内訳(海洋投入)'!J8","v":0},{"$f":"'ごみ搬入量内訳(直接資源化)'!K8+'ごみ搬入量内訳(焼却)'!K8+'ごみ搬入量内訳(粗大)'!K8+'ごみ搬入量内訳(堆肥化)'!K8+'ごみ搬入量内訳(飼料化)'!K8+'ごみ搬入量内訳(メタン化)'!K8+'ごみ搬入量内訳(燃料化)'!K8+'ごみ搬入量内訳(セメント)'!K8+'ごみ搬入量内訳(資源化等)'!K8+'ごみ搬入量内訳(その他)'!K8+'ごみ搬入量内訳(直接埋立)'!K8+'ごみ搬入量内訳(海洋投入)'!K8","v":0},{"$f":"'ごみ搬入量内訳(直接資源化)'!L8+'ごみ搬入量内訳(焼却)'!L8+'ごみ搬入量内訳(粗大)'!L8+'ごみ搬入量内訳(堆肥化)'!L8+'ごみ搬入量内訳(飼料化)'!L8+'ごみ搬入量内訳(メタン化)'!L8+'ごみ搬入量内訳(燃料化)'!L8+'ごみ搬入量内訳(セメント)'!L8+'ごみ搬入量内訳(資源化等)'!L8+'ごみ搬入量内訳(その他)'!L8+'ごみ搬入量内訳(直接埋立)'!L8+'ごみ搬入量内訳(海洋投入)'!L8","v":0},{"$f":"'ごみ搬入量内訳(直接資源化)'!M8+'ごみ搬入量内訳(焼却)'!M8+'ごみ搬入量内訳(粗大)'!M8+'ごみ搬入量内訳(堆肥化)'!M8+'ごみ搬入量内訳(飼料化)'!M8+'ごみ搬入量内訳(メタン化)'!M8+'ごみ搬入量内訳(燃料化)'!M8+'ごみ搬入量内訳(セメント)'!M8+'ごみ搬入量内訳(資源化等)'!M8+'ごみ搬入量内訳(その他)'!M8+'ごみ搬入量内訳(直接埋立)'!M8+'ごみ搬入量内訳(海洋投入)'!M8","v":0},{"$f":"'ごみ搬入量内訳(直接資源化)'!N8+'ごみ搬入量内訳(焼却)'!N8+'ごみ搬入量内訳(粗大)'!N8+'ごみ搬入量内訳(堆肥化)'!N8+'ごみ搬入量内訳(飼料化)'!N8+'ごみ搬入量内訳(メタン化)'!N8+'ごみ搬入量内訳(燃料化)'!N8+'ごみ搬入量内訳(セメント)'!N8+'ごみ搬入量内訳(資源化等)'!N8+'ごみ搬入量内訳(その他)'!N8+'ごみ搬入量内訳(直接埋立)'!N8+'ごみ搬入量内訳(海洋投入)'!N8","v":0},{"$f":"'ごみ搬入量内訳(直接資源化)'!O8+'ごみ搬入量内訳(焼却)'!O8+'ごみ搬入量内訳(粗大)'!O8+'ごみ搬入量内訳(堆肥化)'!O8+'ごみ搬入量内訳(飼料化)'!O8+'ごみ搬入量内訳(メタン化)'!O8+'ごみ搬入量内訳(燃料化)'!O8+'ごみ搬入量内訳(セメント)'!O8+'ごみ搬入量内訳(資源化等)'!O8+'ごみ搬入量内訳(その他)'!O8+'ごみ搬入量内訳(直接埋立)'!O8+'ごみ搬入量内訳(海洋投入)'!O8","v":0},{"$f":"'ごみ搬入量内訳(直接資源化)'!P8+'ごみ搬入量内訳(焼却)'!P8+'ごみ搬入量内訳(粗大)'!P8+'ごみ搬入量内訳(堆肥化)'!P8+'ごみ搬入量内訳(飼料化)'!P8+'ごみ搬入量内訳(メタン化)'!P8+'ごみ搬入量内訳(燃料化)'!P8+'ごみ搬入量内訳(セメント)'!P8+'ごみ搬入量内訳(資源化等)'!P8+'ごみ搬入量内訳(その他)'!P8+'ごみ搬入量内訳(直接埋立)'!P8+'ごみ搬入量内訳(海洋投入)'!P8","v":0},{"$f":"'ごみ搬入量内訳(直接資源化)'!Q8+'ごみ搬入量内訳(焼却)'!Q8+'ごみ搬入量内訳(粗大)'!Q8+'ごみ搬入量内訳(堆肥化)'!Q8+'ごみ搬入量内訳(飼料化)'!Q8+'ごみ搬入量内訳(メタン化)'!Q8+'ごみ搬入量内訳(燃料化)'!Q8+'ごみ搬入量内訳(セメント)'!Q8+'ごみ搬入量内訳(資源化等)'!Q8+'ごみ搬入量内訳(その他)'!Q8+'ごみ搬入量内訳(直接埋立)'!Q8+'ごみ搬入量内訳(海洋投入)'!Q8","v":0},{"$f":"'ごみ搬入量内訳(直接資源化)'!R8+'ごみ搬入量内訳(焼却)'!R8+'ごみ搬入量内訳(粗大)'!R8+'ごみ搬入量内訳(堆肥化)'!R8+'ごみ搬入量内訳(飼料化)'!R8+'ごみ搬入量内訳(メタン化)'!R8+'ごみ搬入量内訳(燃料化)'!R8+'ごみ搬入量内訳(セメント)'!R8+'ごみ搬入量内訳(資源化等)'!R8+'ごみ搬入量内訳(その他)'!R8+'ごみ搬入量内訳(直接埋立)'!R8+'ごみ搬入量内訳(海洋投入)'!R8","v":0},{"$f":"'ごみ搬入量内訳(直接資源化)'!S8+'ごみ搬入量内訳(焼却)'!S8+'ごみ搬入量内訳(粗大)'!S8+'ごみ搬入量内訳(堆肥化)'!S8+'ごみ搬入量内訳(飼料化)'!S8+'ごみ搬入量内訳(メタン化)'!S8+'ごみ搬入量内訳(燃料化)'!S8+'ごみ搬入量内訳(セメント)'!S8+'ごみ搬入量内訳(資源化等)'!S8+'ごみ搬入量内訳(その他)'!S8+'ごみ搬入量内訳(直接埋立)'!S8+'ごみ搬入量内訳(海洋投入)'!S8","v":0},{"$f":"'ごみ搬入量内訳(直接資源化)'!T8+'ごみ搬入量内訳(焼却)'!T8+'ごみ搬入量内訳(粗大)'!T8+'ごみ搬入量内訳(堆肥化)'!T8+'ごみ搬入量内訳(飼料化)'!T8+'ごみ搬入量内訳(メタン化)'!T8+'ごみ搬入量内訳(燃料化)'!T8+'ごみ搬入量内訳(セメント)'!T8+'ごみ搬入量内訳(資源化等)'!T8+'ごみ搬入量内訳(その他)'!T8+'ごみ搬入量内訳(直接埋立)'!T8+'ごみ搬入量内訳(海洋投入)'!T8","v":0},{"$f":"'ごみ搬入量内訳(直接資源化)'!U8+'ごみ搬入量内訳(焼却)'!U8+'ごみ搬入量内訳(粗大)'!U8+'ごみ搬入量内訳(堆肥化)'!U8+'ごみ搬入量内訳(飼料化)'!U8+'ごみ搬入量内訳(メタン化)'!U8+'ごみ搬入量内訳(燃料化)'!U8+'ごみ搬入量内訳(セメント)'!U8+'ごみ搬入量内訳(資源化等)'!U8+'ごみ搬入量内訳(その他)'!U8+'ごみ搬入量内訳(直接埋立)'!U8+'ごみ搬入量内訳(海洋投入)'!U8","v":0},{"$f":"'ごみ搬入量内訳(直接資源化)'!V8+'ごみ搬入量内訳(焼却)'!V8+'ごみ搬入量内訳(粗大)'!V8+'ごみ搬入量内訳(堆肥化)'!V8+'ごみ搬入量内訳(飼料化)'!V8+'ごみ搬入量内訳(メタン化)'!V8+'ごみ搬入量内訳(燃料化)'!V8+'ごみ搬入量内訳(セメント)'!V8+'ごみ搬入量内訳(資源化等)'!V8+'ごみ搬入量内訳(その他)'!V8+'ごみ搬入量内訳(直接埋立)'!V8+'ごみ搬入量内訳(海洋投入)'!V8","v":0},{"$f":"'ごみ搬入量内訳(直接資源化)'!W8+'ごみ搬入量内訳(焼却)'!W8+'ごみ搬入量内訳(粗大)'!W8+'ごみ搬入量内訳(堆肥化)'!W8+'ごみ搬入量内訳(飼料化)'!W8+'ごみ搬入量内訳(メタン化)'!W8+'ごみ搬入量内訳(燃料化)'!W8+'ごみ搬入量内訳(セメント)'!W8+'ごみ搬入量内訳(資源化等)'!W8+'ごみ搬入量内訳(その他)'!W8+'ごみ搬入量内訳(直接埋立)'!W8+'ごみ搬入量内訳(海洋投入)'!W8","v":0},{"$f":"'ごみ搬入量内訳(直接資源化)'!X8+'ごみ搬入量内訳(焼却)'!X8+'ごみ搬入量内訳(粗大)'!X8+'ごみ搬入量内訳(堆肥化)'!X8+'ごみ搬入量内訳(飼料化)'!X8+'ごみ搬入量内訳(メタン化)'!X8+'ごみ搬入量内訳(燃料化)'!X8+'ごみ搬入量内訳(セメント)'!X8+'ごみ搬入量内訳(資源化等)'!X8+'ごみ搬入量内訳(その他)'!X8+'ごみ搬入量内訳(直接埋立)'!X8+'ごみ搬入量内訳(海洋投入)'!X8","v":0},{"$f":"'ごみ搬入量内訳(直接資源化)'!Y8+'ごみ搬入量内訳(焼却)'!Y8+'ごみ搬入量内訳(粗大)'!Y8+'ごみ搬入量内訳(堆肥化)'!Y8+'ごみ搬入量内訳(飼料化)'!Y8+'ごみ搬入量内訳(メタン化)'!Y8+'ごみ搬入量内訳(燃料化)'!Y8+'ごみ搬入量内訳(セメント)'!Y8+'ごみ搬入量内訳(資源化等)'!Y8+'ごみ搬入量内訳(その他)'!Y8+'ごみ搬入量内訳(直接埋立)'!Y8+'ごみ搬入量内訳(海洋投入)'!Y8","v":0},{"$f":"'ごみ搬入量内訳(直接資源化)'!Z8+'ごみ搬入量内訳(焼却)'!Z8+'ごみ搬入量内訳(粗大)'!Z8+'ごみ搬入量内訳(堆肥化)'!Z8+'ごみ搬入量内訳(飼料化)'!Z8+'ごみ搬入量内訳(メタン化)'!Z8+'ごみ搬入量内訳(燃料化)'!Z8+'ごみ搬入量内訳(セメント)'!Z8+'ごみ搬入量内訳(資源化等)'!Z8+'ごみ搬入量内訳(その他)'!Z8+'ごみ搬入量内訳(直接埋立)'!Z8+'ごみ搬入量内訳(海洋投入)'!Z8","v":0},{"$f":"'ごみ搬入量内訳(直接資源化)'!AA8+'ごみ搬入量内訳(焼却)'!AA8+'ごみ搬入量内訳(粗大)'!AA8+'ごみ搬入量内訳(堆肥化)'!AA8+'ごみ搬入量内訳(飼料化)'!AA8+'ごみ搬入量内訳(メタン化)'!AA8+'ごみ搬入量内訳(燃料化)'!AA8+'ごみ搬入量内訳(セメント)'!AA8+'ごみ搬入量内訳(資源化等)'!AA8+'ごみ搬入量内訳(その他)'!AA8+'ごみ搬入量内訳(直接埋立)'!AA8+'ごみ搬入量内訳(海洋投入)'!AA8","v":0},{"$f":"'ごみ搬入量内訳(直接資源化)'!AB8+'ごみ搬入量内訳(焼却)'!AB8+'ごみ搬入量内訳(粗大)'!AB8+'ごみ搬入量内訳(堆肥化)'!AB8+'ごみ搬入量内訳(飼料化)'!AB8+'ごみ搬入量内訳(メタン化)'!AB8+'ごみ搬入量内訳(燃料化)'!AB8+'ごみ搬入量内訳(セメント)'!AB8+'ごみ搬入量内訳(資源化等)'!AB8+'ごみ搬入量内訳(その他)'!AB8+'ごみ搬入量内訳(直接埋立)'!AB8+'ごみ搬入量内訳(海洋投入)'!AB8","v":0},{"$f":"'ごみ搬入量内訳(直接資源化)'!AC8+'ごみ搬入量内訳(焼却)'!AC8+'ごみ搬入量内訳(粗大)'!AC8+'ごみ搬入量内訳(堆肥化)'!AC8+'ごみ搬入量内訳(飼料化)'!AC8+'ごみ搬入量内訳(メタン化)'!AC8+'ごみ搬入量内訳(燃料化)'!AC8+'ごみ搬入量内訳(セメント)'!AC8+'ごみ搬入量内訳(資源化等)'!AC8+'ごみ搬入量内訳(その他)'!AC8+'ごみ搬入量内訳(直接埋立)'!AC8+'ごみ搬入量内訳(海洋投入)'!AC8","v":0},{"$f":"'ごみ搬入量内訳(直接資源化)'!AD8+'ごみ搬入量内訳(焼却)'!AD8+'ごみ搬入量内訳(粗大)'!AD8+'ごみ搬入量内訳(堆肥化)'!AD8+'ごみ搬入量内訳(飼料化)'!AD8+'ごみ搬入量内訳(メタン化)'!AD8+'ごみ搬入量内訳(燃料化)'!AD8+'ごみ搬入量内訳(セメント)'!AD8+'ごみ搬入量内訳(資源化等)'!AD8+'ごみ搬入量内訳(その他)'!AD8+'ごみ搬入量内訳(直接埋立)'!AD8+'ごみ搬入量内訳(海洋投入)'!AD8","v":0},{"$f":"'ごみ搬入量内訳(直接資源化)'!AE8+'ごみ搬入量内訳(焼却)'!AE8+'ごみ搬入量内訳(粗大)'!AE8+'ごみ搬入量内訳(堆肥化)'!AE8+'ごみ搬入量内訳(飼料化)'!AE8+'ごみ搬入量内訳(メタン化)'!AE8+'ごみ搬入量内訳(燃料化)'!AE8+'ごみ搬入量内訳(セメント)'!AE8+'ごみ搬入量内訳(資源化等)'!AE8+'ごみ搬入量内訳(その他)'!AE8+'ごみ搬入量内訳(直接埋立)'!AE8+'ごみ搬入量内訳(海洋投入)'!AE8","v":0},{"$f":"'ごみ搬入量内訳(直接資源化)'!AF8+'ごみ搬入量内訳(焼却)'!AF8+'ごみ搬入量内訳(粗大)'!AF8+'ごみ搬入量内訳(堆肥化)'!AF8+'ごみ搬入量内訳(飼料化)'!AF8+'ごみ搬入量内訳(メタン化)'!AF8+'ごみ搬入量内訳(燃料化)'!AF8+'ごみ搬入量内訳(セメント)'!AF8+'ごみ搬入量内訳(資源化等)'!AF8+'ごみ搬入量内訳(その他)'!AF8+'ごみ搬入量内訳(直接埋立)'!AF8+'ごみ搬入量内訳(海洋投入)'!AF8","v":0},{"$f":"'ごみ搬入量内訳(直接資源化)'!AG8+'ごみ搬入量内訳(焼却)'!AG8+'ごみ搬入量内訳(粗大)'!AG8+'ごみ搬入量内訳(堆肥化)'!AG8+'ごみ搬入量内訳(飼料化)'!AG8+'ごみ搬入量内訳(メタン化)'!AG8+'ごみ搬入量内訳(燃料化)'!AG8+'ごみ搬入量内訳(セメント)'!AG8+'ごみ搬入量内訳(資源化等)'!AG8+'ごみ搬入量内訳(その他)'!AG8+'ごみ搬入量内訳(直接埋立)'!AG8+'ごみ搬入量内訳(海洋投入)'!AG8","v":0},{"$f":"'ごみ搬入量内訳(直接資源化)'!AH8+'ごみ搬入量内訳(焼却)'!AH8+'ごみ搬入量内訳(粗大)'!AH8+'ごみ搬入量内訳(堆肥化)'!AH8+'ごみ搬入量内訳(飼料化)'!AH8+'ごみ搬入量内訳(メタン化)'!AH8+'ごみ搬入量内訳(燃料化)'!AH8+'ごみ搬入量内訳(セメント)'!AH8+'ごみ搬入量内訳(資源化等)'!AH8+'ごみ搬入量内訳(その他)'!AH8+'ごみ搬入量内訳(直接埋立)'!AH8+'ごみ搬入量内訳(海洋投入)'!AH8","v":0},{"$f":"'ごみ搬入量内訳(直接資源化)'!AI8+'ごみ搬入量内訳(焼却)'!AI8+'ごみ搬入量内訳(粗大)'!AI8+'ごみ搬入量内訳(堆肥化)'!AI8+'ごみ搬入量内訳(飼料化)'!AI8+'ごみ搬入量内訳(メタン化)'!AI8+'ごみ搬入量内訳(燃料化)'!AI8+'ごみ搬入量内訳(セメント)'!AI8+'ごみ搬入量内訳(資源化等)'!AI8+'ごみ搬入量内訳(その他)'!AI8+'ごみ搬入量内訳(直接埋立)'!AI8+'ごみ搬入量内訳(海洋投入)'!AI8","v":0}]
["秋田県","05202","能代市",{"$f":"SUM(E9:AI9)","v":0},{"$f":"'ごみ搬入量内訳(直接資源化)'!E9+'ごみ搬入量内訳(焼却)'!E9+'ごみ搬入量内訳(粗大)'!E9+'ごみ搬入量内訳(堆肥化)'!E9+'ごみ搬入量内訳(飼料化)'!E9+'ごみ搬入量内訳(メタン化)'!E9+'ごみ搬入量内訳(燃料化)'!E9+'ごみ搬入量内訳(セメント)'!E9+'ごみ搬入量内訳(資源化等)'!E9+'ごみ搬入量内訳(その他)'!E9+'ごみ搬入量内訳(直接埋立)'!E9+'ごみ搬入量内訳(海洋投入)'!E9","v":0},{"$f":"'ごみ搬入量内訳(直接資源化)'!F9+'ごみ搬入量内訳(焼却)'!F9+'ごみ搬入量内訳(粗大)'!F9+'ごみ搬入量内訳(堆肥化)'!F9+'ごみ搬入量内訳(飼料化)'!F9+'ごみ搬入量内訳(メタン化)'!F9+'ごみ搬入量内訳(燃料化)'!F9+'ごみ搬入量内訳(セメント)'!F9+'ごみ搬入量内訳(資源化等)'!F9+'ごみ搬入量内訳(その他)'!F9+'ごみ搬入量内訳(直接埋立)'!F9+'ごみ搬入量内訳(海洋投入)'!F9","v":0},{"$f":"'ごみ搬入量内訳(直接資源化)'!G9+'ごみ搬入量内訳(焼却)'!G9+'ごみ搬入量内訳(粗大)'!G9+'ごみ搬入量内訳(堆肥化)'!G9+'ごみ搬入量内訳(飼料化)'!G9+'ごみ搬入量内訳(メタン化)'!G9+'ごみ搬入量内訳(燃料化)'!G9+'ごみ搬入量内訳(セメント)'!G9+'ごみ搬入量内訳(資源化等)'!G9+'ごみ搬入量内訳(その他)'!G9+'ごみ搬入量内訳(直接埋立)'!G9+'ごみ搬入量内訳(海洋投入)'!G9","v":0},{"$f":"'ごみ搬入量内訳(直接資源化)'!H9+'ごみ搬入量内訳(焼却)'!H9+'ごみ搬入量内訳(粗大)'!H9+'ごみ搬入量内訳(堆肥化)'!H9+'ごみ搬入量内訳(飼料化)'!H9+'ごみ搬入量内訳(メタン化)'!H9+'ごみ搬入量内訳(燃料化)'!H9+'ごみ搬入量内訳(セメント)'!H9+'ごみ搬入量内訳(資源化等)'!H9+'ごみ搬入量内訳(その他)'!H9+'ごみ搬入量内訳(直接埋立)'!H9+'ごみ搬入量内訳(海洋投入)'!H9","v":0},{"$f":"'ごみ搬入量内訳(直接資源化)'!I9+'ごみ搬入量内訳(焼却)'!I9+'ごみ搬入量内訳(粗大)'!I9+'ごみ搬入量内訳(堆肥化)'!I9+'ごみ搬入量内訳(飼料化)'!I9+'ごみ搬入量内訳(メタン化)'!I9+'ごみ搬入量内訳(燃料化)'!I9+'ごみ搬入量内訳(セメント)'!I9+'ごみ搬入量内訳(資源化等)'!I9+'ごみ搬入量内訳(その他)'!I9+'ごみ搬入量内訳(直接埋立)'!I9+'ごみ搬入量内訳(海洋投入)'!I9","v":0},{"$f":"'ごみ搬入量内訳(直接資源化)'!J9+'ごみ搬入量内訳(焼却)'!J9+'ごみ搬入量内訳(粗大)'!J9+'ごみ搬入量内訳(堆肥化)'!J9+'ごみ搬入量内訳(飼料化)'!J9+'ごみ搬入量内訳(メタン化)'!J9+'ごみ搬入量内訳(燃料化)'!J9+'ごみ搬入量内訳(セメント)'!J9+'ごみ搬入量内訳(資源化等)'!J9+'ごみ搬入量内訳(その他)'!J9+'ごみ搬入量内訳(直接埋立)'!J9+'ごみ搬入量内訳(海洋投入)'!J9","v":0},{"$f":"'ごみ搬入量内訳(直接資源化)'!K9+'ごみ搬入量内訳(焼却)'!K9+'ごみ搬入量内訳(粗大)'!K9+'ごみ搬入量内訳(堆肥化)'!K9+'ごみ搬入量内訳(飼料化)'!K9+'ごみ搬入量内訳(メタン化)'!K9+'ごみ搬入量内訳(燃料化)'!K9+'ごみ搬入量内訳(セメント)'!K9+'ごみ搬入量内訳(資源化等)'!K9+'ごみ搬入量内訳(その他)'!K9+'ごみ搬入量内訳(直接埋立)'!K9+'ごみ搬入量内訳(海洋投入)'!K9","v":0},{"$f":"'ごみ搬入量内訳(直接資源化)'!L9+'ごみ搬入量内訳(焼却)'!L9+'ごみ搬入量内訳(粗大)'!L9+'ごみ搬入量内訳(堆肥化)'!L9+'ごみ搬入量内訳(飼料化)'!L9+'ごみ搬入量内訳(メタン化)'!L9+'ごみ搬入量内訳(燃料化)'!L9+'ごみ搬入量内訳(セメント)'!L9+'ごみ搬入量内訳(資源化等)'!L9+'ごみ搬入量内訳(その他)'!L9+'ごみ搬入量内訳(直接埋立)'!L9+'ごみ搬入量内訳(海洋投入)'!L9","v":0},{"$f":"'ごみ搬入量内訳(直接資源化)'!M9+'ごみ搬入量内訳(焼却)'!M9+'ごみ搬入量内訳(粗大)'!M9+'ごみ搬入量内訳(堆肥化)'!M9+'ごみ搬入量内訳(飼料化)'!M9+'ごみ搬入量内訳(メタン化)'!M9+'ごみ搬入量内訳(燃料化)'!M9+'ごみ搬入量内訳(セメント)'!M9+'ごみ搬入量内訳(資源化等)'!M9+'ごみ搬入量内訳(その他)'!M9+'ごみ搬入量内訳(直接埋立)'!M9+'ごみ搬入量内訳(海洋投入)'!M9","v":0},{"$f":"'ごみ搬入量内訳(直接資源化)'!N9+'ごみ搬入量内訳(焼却)'!N9+'ごみ搬入量内訳(粗大)'!N9+'ごみ搬入量内訳(堆肥化)'!N9+'ごみ搬入量内訳(飼料化)'!N9+'ごみ搬入量内訳(メタン化)'!N9+'ごみ搬入量内訳(燃料化)'!N9+'ごみ搬入量内訳(セメント)'!N9+'ごみ搬入量内訳(資源化等)'!N9+'ごみ搬入量内訳(その他)'!N9+'ごみ搬入量内訳(直接埋立)'!N9+'ごみ搬入量内訳(海洋投入)'!N9","v":0},{"$f":"'ごみ搬入量内訳(直接資源化)'!O9+'ごみ搬入量内訳(焼却)'!O9+'ごみ搬入量内訳(粗大)'!O9+'ごみ搬入量内訳(堆肥化)'!O9+'ごみ搬入量内訳(飼料化)'!O9+'ごみ搬入量内訳(メタン化)'!O9+'ごみ搬入量内訳(燃料化)'!O9+'ごみ搬入量内訳(セメント)'!O9+'ごみ搬入量内訳(資源化等)'!O9+'ごみ搬入量内訳(その他)'!O9+'ごみ搬入量内訳(直接埋立)'!O9+'ごみ搬入量内訳(海洋投入)'!O9","v":0},{"$f":"'ごみ搬入量内訳(直接資源化)'!P9+'ごみ搬入量内訳(焼却)'!P9+'ごみ搬入量内訳(粗大)'!P9+'ごみ搬入量内訳(堆肥化)'!P9+'ごみ搬入量内訳(飼料化)'!P9+'ごみ搬入量内訳(メタン化)'!P9+'ごみ搬入量内訳(燃料化)'!P9+'ごみ搬入量内訳(セメント)'!P9+'ごみ搬入量内訳(資源化等)'!P9+'ごみ搬入量内訳(その他)'!P9+'ごみ搬入量内訳(直接埋立)'!P9+'ごみ搬入量内訳(海洋投入)'!P9","v":0},{"$f":"'ごみ搬入量内訳(直接資源化)'!Q9+'ごみ搬入量内訳(焼却)'!Q9+'ごみ搬入量内訳(粗大)'!Q9+'ごみ搬入量内訳(堆肥化)'!Q9+'ごみ搬入量内訳(飼料化)'!Q9+'ごみ搬入量内訳(メタン化)'!Q9+'ごみ搬入量内訳(燃料化)'!Q9+'ごみ搬入量内訳(セメント)'!Q9+'ごみ搬入量内訳(資源化等)'!Q9+'ごみ搬入量内訳(その他)'!Q9+'ごみ搬入量内訳(直接埋立)'!Q9+'ごみ搬入量内訳(海洋投入)'!Q9","v":0},{"$f":"'ごみ搬入量内訳(直接資源化)'!R9+'ごみ搬入量内訳(焼却)'!R9+'ごみ搬入量内訳(粗大)'!R9+'ごみ搬入量内訳(堆肥化)'!R9+'ごみ搬入量内訳(飼料化)'!R9+'ごみ搬入量内訳(メタン化)'!R9+'ごみ搬入量内訳(燃料化)'!R9+'ごみ搬入量内訳(セメント)'!R9+'ごみ搬入量内訳(資源化等)'!R9+'ごみ搬入量内訳(その他)'!R9+'ごみ搬入量内訳(直接埋立)'!R9+'ごみ搬入量内訳(海洋投入)'!R9","v":0},{"$f":"'ごみ搬入量内訳(直接資源化)'!S9+'ごみ搬入量内訳(焼却)'!S9+'ごみ搬入量内訳(粗大)'!S9+'ごみ搬入量内訳(堆肥化)'!S9+'ごみ搬入量内訳(飼料化)'!S9+'ごみ搬入量内訳(メタン化)'!S9+'ごみ搬入量内訳(燃料化)'!S9+'ごみ搬入量内訳(セメント)'!S9+'ごみ搬入量内訳(資源化等)'!S9+'ごみ搬入量内訳(その他)'!S9+'ごみ搬入量内訳(直接埋立)'!S9+'ごみ搬入量内訳(海洋投入)'!S9","v":0},{"$f":"'ごみ搬入量内訳(直接資源化)'!T9+'ごみ搬入量内訳(焼却)'!T9+'ごみ搬入量内訳(粗大)'!T9+'ごみ搬入量内訳(堆肥化)'!T9+'ごみ搬入量内訳(飼料化)'!T9+'ごみ搬入量内訳(メタン化)'!T9+'ごみ搬入量内訳(燃料化)'!T9+'ごみ搬入量内訳(セメント)'!T9+'ごみ搬入量内訳(資源化等)'!T9+'ごみ搬入量内訳(その他)'!T9+'ごみ搬入量内訳(直接埋立)'!T9+'ごみ搬入量内訳(海洋投入)'!T9","v":0},{"$f":"'ごみ搬入量内訳(直接資源化)'!U9+'ごみ搬入量内訳(焼却)'!U9+'ごみ搬入量内訳(粗大)'!U9+'ごみ搬入量内訳(堆肥化)'!U9+'ごみ搬入量内訳(飼料化)'!U9+'ごみ搬入量内訳(メタン化)'!U9+'ごみ搬入量内訳(燃料化)'!U9+'ごみ搬入量内訳(セメント)'!U9+'ごみ搬入量内訳(資源化等)'!U9+'ごみ搬入量内訳(その他)'!U9+'ごみ搬入量内訳(直接埋立)'!U9+'ごみ搬入量内訳(海洋投入)'!U9","v":0},{"$f":"'ごみ搬入量内訳(直接資源化)'!V9+'ごみ搬入量内訳(焼却)'!V9+'ごみ搬入量内訳(粗大)'!V9+'ごみ搬入量内訳(堆肥化)'!V9+'ごみ搬入量内訳(飼料化)'!V9+'ごみ搬入量内訳(メタン化)'!V9+'ごみ搬入量内訳(燃料化)'!V9+'ごみ搬入量内訳(セメント)'!V9+'ごみ搬入量内訳(資源化等)'!V9+'ごみ搬入量内訳(その他)'!V9+'ごみ搬入量内訳(直接埋立)'!V9+'ごみ搬入量内訳(海洋投入)'!V9","v":0},{"$f":"'ごみ搬入量内訳(直接資源化)'!W9+'ごみ搬入量内訳(焼却)'!W9+'ごみ搬入量内訳(粗大)'!W9+'ごみ搬入量内訳(堆肥化)'!W9+'ごみ搬入量内訳(飼料化)'!W9+'ごみ搬入量内訳(メタン化)'!W9+'ごみ搬入量内訳(燃料化)'!W9+'ごみ搬入量内訳(セメント)'!W9+'ごみ搬入量内訳(資源化等)'!W9+'ごみ搬入量内訳(その他)'!W9+'ごみ搬入量内訳(直接埋立)'!W9+'ごみ搬入量内訳(海洋投入)'!W9","v":0},{"$f":"'ごみ搬入量内訳(直接資源化)'!X9+'ごみ搬入量内訳(焼却)'!X9+'ごみ搬入量内訳(粗大)'!X9+'ごみ搬入量内訳(堆肥化)'!X9+'ごみ搬入量内訳(飼料化)'!X9+'ごみ搬入量内訳(メタン化)'!X9+'ごみ搬入量内訳(燃料化)'!X9+'ごみ搬入量内訳(セメント)'!X9+'ごみ搬入量内訳(資源化等)'!X9+'ごみ搬入量内訳(その他)'!X9+'ごみ搬入量内訳(直接埋立)'!X9+'ごみ搬入量内訳(海洋投入)'!X9","v":0},{"$f":"'ごみ搬入量内訳(直接資源化)'!Y9+'ごみ搬入量内訳(焼却)'!Y9+'ごみ搬入量内訳(粗大)'!Y9+'ごみ搬入量内訳(堆肥化)'!Y9+'ごみ搬入量内訳(飼料化)'!Y9+'ごみ搬入量内訳(メタン化)'!Y9+'ごみ搬入量内訳(燃料化)'!Y9+'ごみ搬入量内訳(セメント)'!Y9+'ごみ搬入量内訳(資源化等)'!Y9+'ごみ搬入量内訳(その他)'!Y9+'ごみ搬入量内訳(直接埋立)'!Y9+'ごみ搬入量内訳(海洋投入)'!Y9","v":0},{"$f":"'ごみ搬入量内訳(直接資源化)'!Z9+'ごみ搬入量内訳(焼却)'!Z9+'ごみ搬入量内訳(粗大)'!Z9+'ごみ搬入量内訳(堆肥化)'!Z9+'ごみ搬入量内訳(飼料化)'!Z9+'ごみ搬入量内訳(メタン化)'!Z9+'ごみ搬入量内訳(燃料化)'!Z9+'ごみ搬入量内訳(セメント)'!Z9+'ごみ搬入量内訳(資源化等)'!Z9+'ごみ搬入量内訳(その他)'!Z9+'ごみ搬入量内訳(直接埋立)'!Z9+'ごみ搬入量内訳(海洋投入)'!Z9","v":0},{"$f":"'ごみ搬入量内訳(直接資源化)'!AA9+'ごみ搬入量内訳(焼却)'!AA9+'ごみ搬入量内訳(粗大)'!AA9+'ごみ搬入量内訳(堆肥化)'!AA9+'ごみ搬入量内訳(飼料化)'!AA9+'ごみ搬入量内訳(メタン化)'!AA9+'ごみ搬入量内訳(燃料化)'!AA9+'ごみ搬入量内訳(セメント)'!AA9+'ごみ搬入量内訳(資源化等)'!AA9+'ごみ搬入量内訳(その他)'!AA9+'ごみ搬入量内訳(直接埋立)'!AA9+'ごみ搬入量内訳(海洋投入)'!AA9","v":0},{"$f":"'ごみ搬入量内訳(直接資源化)'!AB9+'ごみ搬入量内訳(焼却)'!AB9+'ごみ搬入量内訳(粗大)'!AB9+'ごみ搬入量内訳(堆肥化)'!AB9+'ごみ搬入量内訳(飼料化)'!AB9+'ごみ搬入量内訳(メタン化)'!AB9+'ごみ搬入量内訳(燃料化)'!AB9+'ごみ搬入量内訳(セメント)'!AB9+'ごみ搬入量内訳(資源化等)'!AB9+'ごみ搬入量内訳(その他)'!AB9+'ごみ搬入量内訳(直接埋立)'!AB9+'ごみ搬入量内訳(海洋投入)'!AB9","v":0},{"$f":"'ごみ搬入量内訳(直接資源化)'!AC9+'ごみ搬入量内訳(焼却)'!AC9+'ごみ搬入量内訳(粗大)'!AC9+'ごみ搬入量内訳(堆肥化)'!AC9+'ごみ搬入量内訳(飼料化)'!AC9+'ごみ搬入量内訳(メタン化)'!AC9+'ごみ搬入量内訳(燃料化)'!AC9+'ごみ搬入量内訳(セメント)'!AC9+'ごみ搬入量内訳(資源化等)'!AC9+'ごみ搬入量内訳(その他)'!AC9+'ごみ搬入量内訳(直接埋立)'!AC9+'ごみ搬入量内訳(海洋投入)'!AC9","v":0},{"$f":"'ごみ搬入量内訳(直接資源化)'!AD9+'ごみ搬入量内訳(焼却)'!AD9+'ごみ搬入量内訳(粗大)'!AD9+'ごみ搬入量内訳(堆肥化)'!AD9+'ごみ搬入量内訳(飼料化)'!AD9+'ごみ搬入量内訳(メタン化)'!AD9+'ごみ搬入量内訳(燃料化)'!AD9+'ごみ搬入量内訳(セメント)'!AD9+'ごみ搬入量内訳(資源化等)'!AD9+'ごみ搬入量内訳(その他)'!AD9+'ごみ搬入量内訳(直接埋立)'!AD9+'ごみ搬入量内訳(海洋投入)'!AD9","v":0},{"$f":"'ごみ搬入量内訳(直接資源化)'!AE9+'ごみ搬入量内訳(焼却)'!AE9+'ごみ搬入量内訳(粗大)'!AE9+'ごみ搬入量内訳(堆肥化)'!AE9+'ごみ搬入量内訳(飼料化)'!AE9+'ごみ搬入量内訳(メタン化)'!AE9+'ごみ搬入量内訳(燃料化)'!AE9+'ごみ搬入量内訳(セメント)'!AE9+'ごみ搬入量内訳(資源化等)'!AE9+'ごみ搬入量内訳(その他)'!AE9+'ごみ搬入量内訳(直接埋立)'!AE9+'ごみ搬入量内訳(海洋投入)'!AE9","v":0},{"$f":"'ごみ搬入量内訳(直接資源化)'!AF9+'ごみ搬入量内訳(焼却)'!AF9+'ごみ搬入量内訳(粗大)'!AF9+'ごみ搬入量内訳(堆肥化)'!AF9+'ごみ搬入量内訳(飼料化)'!AF9+'ごみ搬入量内訳(メタン化)'!AF9+'ごみ搬入量内訳(燃料化)'!AF9+'ごみ搬入量内訳(セメント)'!AF9+'ごみ搬入量内訳(資源化等)'!AF9+'ごみ搬入量内訳(その他)'!AF9+'ごみ搬入量内訳(直接埋立)'!AF9+'ごみ搬入量内訳(海洋投入)'!AF9","v":0},{"$f":"'ごみ搬入量内訳(直接資源化)'!AG9+'ごみ搬入量内訳(焼却)'!AG9+'ごみ搬入量内訳(粗大)'!AG9+'ごみ搬入量内訳(堆肥化)'!AG9+'ごみ搬入量内訳(飼料化)'!AG9+'ごみ搬入量内訳(メタン化)'!AG9+'ごみ搬入量内訳(燃料化)'!AG9+'ごみ搬入量内訳(セメント)'!AG9+'ごみ搬入量内訳(資源化等)'!AG9+'ごみ搬入量内訳(その他)'!AG9+'ごみ搬入量内訳(直接埋立)'!AG9+'ごみ搬入量内訳(海洋投入)'!AG9","v":0},{"$f":"'ごみ搬入量内訳(直接資源化)'!AH9+'ごみ搬入量内訳(焼却)'!AH9+'ごみ搬入量内訳(粗大)'!AH9+'ごみ搬入量内訳(堆肥化)'!AH9+'ごみ搬入量内訳(飼料化)'!AH9+'ごみ搬入量内訳(メタン化)'!AH9+'ごみ搬入量内訳(燃料化)'!AH9+'ごみ搬入量内訳(セメント)'!AH9+'ごみ搬入量内訳(資源化等)'!AH9+'ごみ搬入量内訳(その他)'!AH9+'ごみ搬入量内訳(直接埋立)'!AH9+'ごみ搬入量内訳(海洋投入)'!AH9","v":0},{"$f":"'ごみ搬入量内訳(直接資源化)'!AI9+'ごみ搬入量内訳(焼却)'!AI9+'ごみ搬入量内訳(粗大)'!AI9+'ごみ搬入量内訳(堆肥化)'!AI9+'ごみ搬入量内訳(飼料化)'!AI9+'ごみ搬入量内訳(メタン化)'!AI9+'ごみ搬入量内訳(燃料化)'!AI9+'ごみ搬入量内訳(セメント)'!AI9+'ごみ搬入量内訳(資源化等)'!AI9+'ごみ搬入量内訳(その他)'!AI9+'ごみ搬入量内訳(直接埋立)'!AI9+'ごみ搬入量内訳(海洋投入)'!AI9","v":0}]
["秋田県","05203","横手市",{"$f":"SUM(E10:AI10)","v":0},{"$f":"'ごみ搬入量内訳(直接資源化)'!E10+'ごみ搬入量内訳(焼却)'!E10+'ごみ搬入量内訳(粗大)'!E10+'ごみ搬入量内訳(堆肥化)'!E10+'ごみ搬入量内訳(飼料化)'!E10+'ごみ搬入量内訳(メタン化)'!E10+'ごみ搬入量内訳(燃料化)'!E10+'ごみ搬入量内訳(セメント)'!E10+'ごみ搬入量内訳(資源化等)'!E10+'ごみ搬入量内訳(その他)'!E10+'ごみ搬入量内訳(直接埋立)'!E10+'ごみ搬入量内訳(海洋投入)'!E10","v":0},{"$f":"'ごみ搬入量内訳(直接資源化)'!F10+'ごみ搬入量内訳(焼却)'!F10+'ごみ搬入量内訳(粗大)'!F10+'ごみ搬入量内訳(堆肥化)'!F10+'ごみ搬入量内訳(飼料化)'!F10+'ごみ搬入量内訳(メタン化)'!F10+'ごみ搬入量内訳(燃料化)'!F10+'ごみ搬入量内訳(セメント)'!F10+'ごみ搬入量内訳(資源化等)'!F10+'ごみ搬入量内訳(その他)'!F10+'ごみ搬入量内訳(直接埋立)'!F10+'ごみ搬入量内訳(海洋投入)'!F10","v":0},{"$f":"'ごみ搬入量内訳(直接資源化)'!G10+'ごみ搬入量内訳(焼却)'!G10+'ごみ搬入量内訳(粗大)'!G10+'ごみ搬入量内訳(堆肥化)'!G10+'ごみ搬入量内訳(飼料化)'!G10+'ごみ搬入量内訳(メタン化)'!G10+'ごみ搬入量内訳(燃料化)'!G10+'ごみ搬入量内訳(セメント)'!G10+'ごみ搬入量内訳(資源化等)'!G10+'ごみ搬入量内訳(その他)'!G10+'ごみ搬入量内訳(直接埋立)'!G10+'ごみ搬入量内訳(海洋投入)'!G10","v":0},{"$f":"'ごみ搬入量内訳(直接資源化)'!H10+'ごみ搬入量内訳(焼却)'!H10+'ごみ搬入量内訳(粗大)'!H10+'ごみ搬入量内訳(堆肥化)'!H10+'ごみ搬入量内訳(飼料化)'!H10+'ごみ搬入量内訳(メタン化)'!H10+'ごみ搬入量内訳(燃料化)'!H10+'ごみ搬入量内訳(セメント)'!H10+'ごみ搬入量内訳(資源化等)'!H10+'ごみ搬入量内訳(その他)'!H10+'ごみ搬入量内訳(直接埋立)'!H10+'ごみ搬入量内訳(海洋投入)'!H10","v":0},{"$f":"'ごみ搬入量内訳(直接資源化)'!I10+'ごみ搬入量内訳(焼却)'!I10+'ごみ搬入量内訳(粗大)'!I10+'ごみ搬入量内訳(堆肥化)'!I10+'ごみ搬入量内訳(飼料化)'!I10+'ごみ搬入量内訳(メタン化)'!I10+'ごみ搬入量内訳(燃料化)'!I10+'ごみ搬入量内訳(セメント)'!I10+'ごみ搬入量内訳(資源化等)'!I10+'ごみ搬入量内訳(その他)'!I10+'ごみ搬入量内訳(直接埋立)'!I10+'ごみ搬入量内訳(海洋投入)'!I10","v":0},{"$f":"'ごみ搬入量内訳(直接資源化)'!J10+'ごみ搬入量内訳(焼却)'!J10+'ごみ搬入量内訳(粗大)'!J10+'ごみ搬入量内訳(堆肥化)'!J10+'ごみ搬入量内訳(飼料化)'!J10+'ごみ搬入量内訳(メタン化)'!J10+'ごみ搬入量内訳(燃料化)'!J10+'ごみ搬入量内訳(セメント)'!J10+'ごみ搬入量内訳(資源化等)'!J10+'ごみ搬入量内訳(その他)'!J10+'ごみ搬入量内訳(直接埋立)'!J10+'ごみ搬入量内訳(海洋投入)'!J10","v":0},{"$f":"'ごみ搬入量内訳(直接資源化)'!K10+'ごみ搬入量内訳(焼却)'!K10+'ごみ搬入量内訳(粗大)'!K10+'ごみ搬入量内訳(堆肥化)'!K10+'ごみ搬入量内訳(飼料化)'!K10+'ごみ搬入量内訳(メタン化)'!K10+'ごみ搬入量内訳(燃料化)'!K10+'ごみ搬入量内訳(セメント)'!K10+'ごみ搬入量内訳(資源化等)'!K10+'ごみ搬入量内訳(その他)'!K10+'ごみ搬入量内訳(直接埋立)'!K10+'ごみ搬入量内訳(海洋投入)'!K10","v":0},{"$f":"'ごみ搬入量内訳(直接資源化)'!L10+'ごみ搬入量内訳(焼却)'!L10+'ごみ搬入量内訳(粗大)'!L10+'ごみ搬入量内訳(堆肥化)'!L10+'ごみ搬入量内訳(飼料化)'!L10+'ごみ搬入量内訳(メタン化)'!L10+'ごみ搬入量内訳(燃料化)'!L10+'ごみ搬入量内訳(セメント)'!L10+'ごみ搬入量内訳(資源化等)'!L10+'ごみ搬入量内訳(その他)'!L10+'ごみ搬入量内訳(直接埋立)'!L10+'ごみ搬入量内訳(海洋投入)'!L10","v":0},{"$f":"'ごみ搬入量内訳(直接資源化)'!M10+'ごみ搬入量内訳(焼却)'!M10+'ごみ搬入量内訳(粗大)'!M10+'ごみ搬入量内訳(堆肥化)'!M10+'ごみ搬入量内訳(飼料化)'!M10+'ごみ搬入量内訳(メタン化)'!M10+'ごみ搬入量内訳(燃料化)'!M10+'ごみ搬入量内訳(セメント)'!M10+'ごみ搬入量内訳(資源化等)'!M10+'ごみ搬入量内訳(その他)'!M10+'ごみ搬入量内訳(直接埋立)'!M10+'ごみ搬入量内訳(海洋投入)'!M10","v":0},{"$f":"'ごみ搬入量内訳(直接資源化)'!N10+'ごみ搬入量内訳(焼却)'!N10+'ごみ搬入量内訳(粗大)'!N10+'ごみ搬入量内訳(堆肥化)'!N10+'ごみ搬入量内訳(飼料化)'!N10+'ごみ搬入量内訳(メタン化)'!N10+'ごみ搬入量内訳(燃料化)'!N10+'ごみ搬入量内訳(セメント)'!N10+'ごみ搬入量内訳(資源化等)'!N10+'ごみ搬入量内訳(その他)'!N10+'ごみ搬入量内訳(直接埋立)'!N10+'ごみ搬入量内訳(海洋投入)'!N10","v":0},{"$f":"'ごみ搬入量内訳(直接資源化)'!O10+'ごみ搬入量内訳(焼却)'!O10+'ごみ搬入量内訳(粗大)'!O10+'ごみ搬入量内訳(堆肥化)'!O10+'ごみ搬入量内訳(飼料化)'!O10+'ごみ搬入量内訳(メタン化)'!O10+'ごみ搬入量内訳(燃料化)'!O10+'ごみ搬入量内訳(セメント)'!O10+'ごみ搬入量内訳(資源化等)'!O10+'ごみ搬入量内訳(その他)'!O10+'ごみ搬入量内訳(直接埋立)'!O10+'ごみ搬入量内訳(海洋投入)'!O10","v":0},{"$f":"'ごみ搬入量内訳(直接資源化)'!P10+'ごみ搬入量内訳(焼却)'!P10+'ごみ搬入量内訳(粗大)'!P10+'ごみ搬入量内訳(堆肥化)'!P10+'ごみ搬入量内訳(飼料化)'!P10+'ごみ搬入量内訳(メタン化)'!P10+'ごみ搬入量内訳(燃料化)'!P10+'ごみ搬入量内訳(セメント)'!P10+'ごみ搬入量内訳(資源化等)'!P10+'ごみ搬入量内訳(その他)'!P10+'ごみ搬入量内訳(直接埋立)'!P10+'ごみ搬入量内訳(海洋投入)'!P10","v":0},{"$f":"'ごみ搬入量内訳(直接資源化)'!Q10+'ごみ搬入量内訳(焼却)'!Q10+'ごみ搬入量内訳(粗大)'!Q10+'ごみ搬入量内訳(堆肥化)'!Q10+'ごみ搬入量内訳(飼料化)'!Q10+'ごみ搬入量内訳(メタン化)'!Q10+'ごみ搬入量内訳(燃料化)'!Q10+'ごみ搬入量内訳(セメント)'!Q10+'ごみ搬入量内訳(資源化等)'!Q10+'ごみ搬入量内訳(その他)'!Q10+'ごみ搬入量内訳(直接埋立)'!Q10+'ごみ搬入量内訳(海洋投入)'!Q10","v":0},{"$f":"'ごみ搬入量内訳(直接資源化)'!R10+'ごみ搬入量内訳(焼却)'!R10+'ごみ搬入量内訳(粗大)'!R10+'ごみ搬入量内訳(堆肥化)'!R10+'ごみ搬入量内訳(飼料化)'!R10+'ごみ搬入量内訳(メタン化)'!R10+'ごみ搬入量内訳(燃料化)'!R10+'ごみ搬入量内訳(セメント)'!R10+'ごみ搬入量内訳(資源化等)'!R10+'ごみ搬入量内訳(その他)'!R10+'ごみ搬入量内訳(直接埋立)'!R10+'ごみ搬入量内訳(海洋投入)'!R10","v":0},{"$f":"'ごみ搬入量内訳(直接資源化)'!S10+'ごみ搬入量内訳(焼却)'!S10+'ごみ搬入量内訳(粗大)'!S10+'ごみ搬入量内訳(堆肥化)'!S10+'ごみ搬入量内訳(飼料化)'!S10+'ごみ搬入量内訳(メタン化)'!S10+'ごみ搬入量内訳(燃料化)'!S10+'ごみ搬入量内訳(セメント)'!S10+'ごみ搬入量内訳(資源化等)'!S10+'ごみ搬入量内訳(その他)'!S10+'ごみ搬入量内訳(直接埋立)'!S10+'ごみ搬入量内訳(海洋投入)'!S10","v":0},{"$f":"'ごみ搬入量内訳(直接資源化)'!T10+'ごみ搬入量内訳(焼却)'!T10+'ごみ搬入量内訳(粗大)'!T10+'ごみ搬入量内訳(堆肥化)'!T10+'ごみ搬入量内訳(飼料化)'!T10+'ごみ搬入量内訳(メタン化)'!T10+'ごみ搬入量内訳(燃料化)'!T10+'ごみ搬入量内訳(セメント)'!T10+'ごみ搬入量内訳(資源化等)'!T10+'ごみ搬入量内訳(その他)'!T10+'ごみ搬入量内訳(直接埋立)'!T10+'ごみ搬入量内訳(海洋投入)'!T10","v":0},{"$f":"'ごみ搬入量内訳(直接資源化)'!U10+'ごみ搬入量内訳(焼却)'!U10+'ごみ搬入量内訳(粗大)'!U10+'ごみ搬入量内訳(堆肥化)'!U10+'ごみ搬入量内訳(飼料化)'!U10+'ごみ搬入量内訳(メタン化)'!U10+'ごみ搬入量内訳(燃料化)'!U10+'ごみ搬入量内訳(セメント)'!U10+'ごみ搬入量内訳(資源化等)'!U10+'ごみ搬入量内訳(その他)'!U10+'ごみ搬入量内訳(直接埋立)'!U10+'ごみ搬入量内訳(海洋投入)'!U10","v":0},{"$f":"'ごみ搬入量内訳(直接資源化)'!V10+'ごみ搬入量内訳(焼却)'!V10+'ごみ搬入量内訳(粗大)'!V10+'ごみ搬入量内訳(堆肥化)'!V10+'ごみ搬入量内訳(飼料化)'!V10+'ごみ搬入量内訳(メタン化)'!V10+'ごみ搬入量内訳(燃料化)'!V10+'ごみ搬入量内訳(セメント)'!V10+'ごみ搬入量内訳(資源化等)'!V10+'ごみ搬入量内訳(その他)'!V10+'ごみ搬入量内訳(直接埋立)'!V10+'ごみ搬入量内訳(海洋投入)'!V10","v":0},{"$f":"'ごみ搬入量内訳(直接資源化)'!W10+'ごみ搬入量内訳(焼却)'!W10+'ごみ搬入量内訳(粗大)'!W10+'ごみ搬入量内訳(堆肥化)'!W10+'ごみ搬入量内訳(飼料化)'!W10+'ごみ搬入量内訳(メタン化)'!W10+'ごみ搬入量内訳(燃料化)'!W10+'ごみ搬入量内訳(セメント)'!W10+'ごみ搬入量内訳(資源化等)'!W10+'ごみ搬入量内訳(その他)'!W10+'ごみ搬入量内訳(直接埋立)'!W10+'ごみ搬入量内訳(海洋投入)'!W10","v":0},{"$f":"'ごみ搬入量内訳(直接資源化)'!X10+'ごみ搬入量内訳(焼却)'!X10+'ごみ搬入量内訳(粗大)'!X10+'ごみ搬入量内訳(堆肥化)'!X10+'ごみ搬入量内訳(飼料化)'!X10+'ごみ搬入量内訳(メタン化)'!X10+'ごみ搬入量内訳(燃料化)'!X10+'ごみ搬入量内訳(セメント)'!X10+'ごみ搬入量内訳(資源化等)'!X10+'ごみ搬入量内訳(その他)'!X10+'ごみ搬入量内訳(直接埋立)'!X10+'ごみ搬入量内訳(海洋投入)'!X10","v":0},{"$f":"'ごみ搬入量内訳(直接資源化)'!Y10+'ごみ搬入量内訳(焼却)'!Y10+'ごみ搬入量内訳(粗大)'!Y10+'ごみ搬入量内訳(堆肥化)'!Y10+'ごみ搬入量内訳(飼料化)'!Y10+'ごみ搬入量内訳(メタン化)'!Y10+'ごみ搬入量内訳(燃料化)'!Y10+'ごみ搬入量内訳(セメント)'!Y10+'ごみ搬入量内訳(資源化等)'!Y10+'ごみ搬入量内訳(その他)'!Y10+'ごみ搬入量内訳(直接埋立)'!Y10+'ごみ搬入量内訳(海洋投入)'!Y10","v":0},{"$f":"'ごみ搬入量内訳(直接資源化)'!Z10+'ごみ搬入量内訳(焼却)'!Z10+'ごみ搬入量内訳(粗大)'!Z10+'ごみ搬入量内訳(堆肥化)'!Z10+'ごみ搬入量内訳(飼料化)'!Z10+'ごみ搬入量内訳(メタン化)'!Z10+'ごみ搬入量内訳(燃料化)'!Z10+'ごみ搬入量内訳(セメント)'!Z10+'ごみ搬入量内訳(資源化等)'!Z10+'ごみ搬入量内訳(その他)'!Z10+'ごみ搬入量内訳(直接埋立)'!Z10+'ごみ搬入量内訳(海洋投入)'!Z10","v":0},{"$f":"'ごみ搬入量内訳(直接資源化)'!AA10+'ごみ搬入量内訳(焼却)'!AA10+'ごみ搬入量内訳(粗大)'!AA10+'ごみ搬入量内訳(堆肥化)'!AA10+'ごみ搬入量内訳(飼料化)'!AA10+'ごみ搬入量内訳(メタン化)'!AA10+'ごみ搬入量内訳(燃料化)'!AA10+'ごみ搬入量内訳(セメント)'!AA10+'ごみ搬入量内訳(資源化等)'!AA10+'ごみ搬入量内訳(その他)'!AA10+'ごみ搬入量内訳(直接埋立)'!AA10+'ごみ搬入量内訳(海洋投入)'!AA10","v":0},{"$f":"'ごみ搬入量内訳(直接資源化)'!AB10+'ごみ搬入量内訳(焼却)'!AB10+'ごみ搬入量内訳(粗大)'!AB10+'ごみ搬入量内訳(堆肥化)'!AB10+'ごみ搬入量内訳(飼料化)'!AB10+'ごみ搬入量内訳(メタン化)'!AB10+'ごみ搬入量内訳(燃料化)'!AB10+'ごみ搬入量内訳(セメント)'!AB10+'ごみ搬入量内訳(資源化等)'!AB10+'ごみ搬入量内訳(その他)'!AB10+'ごみ搬入量内訳(直接埋立)'!AB10+'ごみ搬入量内訳(海洋投入)'!AB10","v":0},{"$f":"'ごみ搬入量内訳(直接資源化)'!AC10+'ごみ搬入量内訳(焼却)'!AC10+'ごみ搬入量内訳(粗大)'!AC10+'ごみ搬入量内訳(堆肥化)'!AC10+'ごみ搬入量内訳(飼料化)'!AC10+'ごみ搬入量内訳(メタン化)'!AC10+'ごみ搬入量内訳(燃料化)'!AC10+'ごみ搬入量内訳(セメント)'!AC10+'ごみ搬入量内訳(資源化等)'!AC10+'ごみ搬入量内訳(その他)'!AC10+'ごみ搬入量内訳(直接埋立)'!AC10+'ごみ搬入量内訳(海洋投入)'!AC10","v":0},{"$f":"'ごみ搬入量内訳(直接資源化)'!AD10+'ごみ搬入量内訳(焼却)'!AD10+'ごみ搬入量内訳(粗大)'!AD10+'ごみ搬入量内訳(堆肥化)'!AD10+'ごみ搬入量内訳(飼料化)'!AD10+'ごみ搬入量内訳(メタン化)'!AD10+'ごみ搬入量内訳(燃料化)'!AD10+'ごみ搬入量内訳(セメント)'!AD10+'ごみ搬入量内訳(資源化等)'!AD10+'ごみ搬入量内訳(その他)'!AD10+'ごみ搬入量内訳(直接埋立)'!AD10+'ごみ搬入量内訳(海洋投入)'!AD10","v":0},{"$f":"'ごみ搬入量内訳(直接資源化)'!AE10+'ごみ搬入量内訳(焼却)'!AE10+'ごみ搬入量内訳(粗大)'!AE10+'ごみ搬入量内訳(堆肥化)'!AE10+'ごみ搬入量内訳(飼料化)'!AE10+'ごみ搬入量内訳(メタン化)'!AE10+'ごみ搬入量内訳(燃料化)'!AE10+'ごみ搬入量内訳(セメント)'!AE10+'ごみ搬入量内訳(資源化等)'!AE10+'ごみ搬入量内訳(その他)'!AE10+'ごみ搬入量内訳(直接埋立)'!AE10+'ごみ搬入量内訳(海洋投入)'!AE10","v":0},{"$f":"'ごみ搬入量内訳(直接資源化)'!AF10+'ごみ搬入量内訳(焼却)'!AF10+'ごみ搬入量内訳(粗大)'!AF10+'ごみ搬入量内訳(堆肥化)'!AF10+'ごみ搬入量内訳(飼料化)'!AF10+'ごみ搬入量内訳(メタン化)'!AF10+'ごみ搬入量内訳(燃料化)'!AF10+'ごみ搬入量内訳(セメント)'!AF10+'ごみ搬入量内訳(資源化等)'!AF10+'ごみ搬入量内訳(その他)'!AF10+'ごみ搬入量内訳(直接埋立)'!AF10+'ごみ搬入量内訳(海洋投入)'!AF10","v":0},{"$f":"'ごみ搬入量内訳(直接資源化)'!AG10+'ごみ搬入量内訳(焼却)'!AG10+'ごみ搬入量内訳(粗大)'!AG10+'ごみ搬入量内訳(堆肥化)'!AG10+'ごみ搬入量内訳(飼料化)'!AG10+'ごみ搬入量内訳(メタン化)'!AG10+'ごみ搬入量内訳(燃料化)'!AG10+'ごみ搬入量内訳(セメント)'!AG10+'ごみ搬入量内訳(資源化等)'!AG10+'ごみ搬入量内訳(その他)'!AG10+'ごみ搬入量内訳(直接埋立)'!AG10+'ごみ搬入量内訳(海洋投入)'!AG10","v":0},{"$f":"'ごみ搬入量内訳(直接資源化)'!AH10+'ごみ搬入量内訳(焼却)'!AH10+'ごみ搬入量内訳(粗大)'!AH10+'ごみ搬入量内訳(堆肥化)'!AH10+'ごみ搬入量内訳(飼料化)'!AH10+'ごみ搬入量内訳(メタン化)'!AH10+'ごみ搬入量内訳(燃料化)'!AH10+'ごみ搬入量内訳(セメント)'!AH10+'ごみ搬入量内訳(資源化等)'!AH10+'ごみ搬入量内訳(その他)'!AH10+'ごみ搬入量内訳(直接埋立)'!AH10+'ごみ搬入量内訳(海洋投入)'!AH10","v":0},{"$f":"'ごみ搬入量内訳(直接資源化)'!AI10+'ごみ搬入量内訳(焼却)'!AI10+'ごみ搬入量内訳(粗大)'!AI10+'ごみ搬入量内訳(堆肥化)'!AI10+'ごみ搬入量内訳(飼料化)'!AI10+'ごみ搬入量内訳(メタン化)'!AI10+'ごみ搬入量内訳(燃料化)'!AI10+'ごみ搬入量内訳(セメント)'!AI10+'ごみ搬入量内訳(資源化等)'!AI10+'ごみ搬入量内訳(その他)'!AI10+'ごみ搬入量内訳(直接埋立)'!AI10+'ごみ搬入量内訳(海洋投入)'!AI10","v":0}]
["秋田県","05204","大館市",{"$f":"SUM(E11:AI11)","v":0},{"$f":"'ごみ搬入量内訳(直接資源化)'!E11+'ごみ搬入量内訳(焼却)'!E11+'ごみ搬入量内訳(粗大)'!E11+'ごみ搬入量内訳(堆肥化)'!E11+'ごみ搬入量内訳(飼料化)'!E11+'ごみ搬入量内訳(メタン化)'!E11+'ごみ搬入量内訳(燃料化)'!E11+'ごみ搬入量内訳(セメント)'!E11+'ごみ搬入量内訳(資源化等)'!E11+'ごみ搬入量内訳(その他)'!E11+'ごみ搬入量内訳(直接埋立)'!E11+'ごみ搬入量内訳(海洋投入)'!E11","v":0},{"$f":"'ごみ搬入量内訳(直接資源化)'!F11+'ごみ搬入量内訳(焼却)'!F11+'ごみ搬入量内訳(粗大)'!F11+'ごみ搬入量内訳(堆肥化)'!F11+'ごみ搬入量内訳(飼料化)'!F11+'ごみ搬入量内訳(メタン化)'!F11+'ごみ搬入量内訳(燃料化)'!F11+'ごみ搬入量内訳(セメント)'!F11+'ごみ搬入量内訳(資源化等)'!F11+'ごみ搬入量内訳(その他)'!F11+'ごみ搬入量内訳(直接埋立)'!F11+'ごみ搬入量内訳(海洋投入)'!F11","v":0},{"$f":"'ごみ搬入量内訳(直接資源化)'!G11+'ごみ搬入量内訳(焼却)'!G11+'ごみ搬入量内訳(粗大)'!G11+'ごみ搬入量内訳(堆肥化)'!G11+'ごみ搬入量内訳(飼料化)'!G11+'ごみ搬入量内訳(メタン化)'!G11+'ごみ搬入量内訳(燃料化)'!G11+'ごみ搬入量内訳(セメント)'!G11+'ごみ搬入量内訳(資源化等)'!G11+'ごみ搬入量内訳(その他)'!G11+'ごみ搬入量内訳(直接埋立)'!G11+'ごみ搬入量内訳(海洋投入)'!G11","v":0},{"$f":"'ごみ搬入量内訳(直接資源化)'!H11+'ごみ搬入量内訳(焼却)'!H11+'ごみ搬入量内訳(粗大)'!H11+'ごみ搬入量内訳(堆肥化)'!H11+'ごみ搬入量内訳(飼料化)'!H11+'ごみ搬入量内訳(メタン化)'!H11+'ごみ搬入量内訳(燃料化)'!H11+'ごみ搬入量内訳(セメント)'!H11+'ごみ搬入量内訳(資源化等)'!H11+'ごみ搬入量内訳(その他)'!H11+'ごみ搬入量内訳(直接埋立)'!H11+'ごみ搬入量内訳(海洋投入)'!H11","v":0},{"$f":"'ごみ搬入量内訳(直接資源化)'!I11+'ごみ搬入量内訳(焼却)'!I11+'ごみ搬入量内訳(粗大)'!I11+'ごみ搬入量内訳(堆肥化)'!I11+'ごみ搬入量内訳(飼料化)'!I11+'ごみ搬入量内訳(メタン化)'!I11+'ごみ搬入量内訳(燃料化)'!I11+'ごみ搬入量内訳(セメント)'!I11+'ごみ搬入量内訳(資源化等)'!I11+'ごみ搬入量内訳(その他)'!I11+'ごみ搬入量内訳(直接埋立)'!I11+'ごみ搬入量内訳(海洋投入)'!I11","v":0},{"$f":"'ごみ搬入量内訳(直接資源化)'!J11+'ごみ搬入量内訳(焼却)'!J11+'ごみ搬入量内訳(粗大)'!J11+'ごみ搬入量内訳(堆肥化)'!J11+'ごみ搬入量内訳(飼料化)'!J11+'ごみ搬入量内訳(メタン化)'!J11+'ごみ搬入量内訳(燃料化)'!J11+'ごみ搬入量内訳(セメント)'!J11+'ごみ搬入量内訳(資源化等)'!J11+'ごみ搬入量内訳(その他)'!J11+'ごみ搬入量内訳(直接埋立)'!J11+'ごみ搬入量内訳(海洋投入)'!J11","v":0},{"$f":"'ごみ搬入量内訳(直接資源化)'!K11+'ごみ搬入量内訳(焼却)'!K11+'ごみ搬入量内訳(粗大)'!K11+'ごみ搬入量内訳(堆肥化)'!K11+'ごみ搬入量内訳(飼料化)'!K11+'ごみ搬入量内訳(メタン化)'!K11+'ごみ搬入量内訳(燃料化)'!K11+'ごみ搬入量内訳(セメント)'!K11+'ごみ搬入量内訳(資源化等)'!K11+'ごみ搬入量内訳(その他)'!K11+'ごみ搬入量内訳(直接埋立)'!K11+'ごみ搬入量内訳(海洋投入)'!K11","v":0},{"$f":"'ごみ搬入量内訳(直接資源化)'!L11+'ごみ搬入量内訳(焼却)'!L11+'ごみ搬入量内訳(粗大)'!L11+'ごみ搬入量内訳(堆肥化)'!L11+'ごみ搬入量内訳(飼料化)'!L11+'ごみ搬入量内訳(メタン化)'!L11+'ごみ搬入量内訳(燃料化)'!L11+'ごみ搬入量内訳(セメント)'!L11+'ごみ搬入量内訳(資源化等)'!L11+'ごみ搬入量内訳(その他)'!L11+'ごみ搬入量内訳(直接埋立)'!L11+'ごみ搬入量内訳(海洋投入)'!L11","v":0},{"$f":"'ごみ搬入量内訳(直接資源化)'!M11+'ごみ搬入量内訳(焼却)'!M11+'ごみ搬入量内訳(粗大)'!M11+'ごみ搬入量内訳(堆肥化)'!M11+'ごみ搬入量内訳(飼料化)'!M11+'ごみ搬入量内訳(メタン化)'!M11+'ごみ搬入量内訳(燃料化)'!M11+'ごみ搬入量内訳(セメント)'!M11+'ごみ搬入量内訳(資源化等)'!M11+'ごみ搬入量内訳(その他)'!M11+'ごみ搬入量内訳(直接埋立)'!M11+'ごみ搬入量内訳(海洋投入)'!M11","v":0},{"$f":"'ごみ搬入量内訳(直接資源化)'!N11+'ごみ搬入量内訳(焼却)'!N11+'ごみ搬入量内訳(粗大)'!N11+'ごみ搬入量内訳(堆肥化)'!N11+'ごみ搬入量内訳(飼料化)'!N11+'ごみ搬入量内訳(メタン化)'!N11+'ごみ搬入量内訳(燃料化)'!N11+'ごみ搬入量内訳(セメント)'!N11+'ごみ搬入量内訳(資源化等)'!N11+'ごみ搬入量内訳(その他)'!N11+'ごみ搬入量内訳(直接埋立)'!N11+'ごみ搬入量内訳(海洋投入)'!N11","v":0},{"$f":"'ごみ搬入量内訳(直接資源化)'!O11+'ごみ搬入量内訳(焼却)'!O11+'ごみ搬入量内訳(粗大)'!O11+'ごみ搬入量内訳(堆肥化)'!O11+'ごみ搬入量内訳(飼料化)'!O11+'ごみ搬入量内訳(メタン化)'!O11+'ごみ搬入量内訳(燃料化)'!O11+'ごみ搬入量内訳(セメント)'!O11+'ごみ搬入量内訳(資源化等)'!O11+'ごみ搬入量内訳(その他)'!O11+'ごみ搬入量内訳(直接埋立)'!O11+'ごみ搬入量内訳(海洋投入)'!O11","v":0},{"$f":"'ごみ搬入量内訳(直接資源化)'!P11+'ごみ搬入量内訳(焼却)'!P11+'ごみ搬入量内訳(粗大)'!P11+'ごみ搬入量内訳(堆肥化)'!P11+'ごみ搬入量内訳(飼料化)'!P11+'ごみ搬入量内訳(メタン化)'!P11+'ごみ搬入量内訳(燃料化)'!P11+'ごみ搬入量内訳(セメント)'!P11+'ごみ搬入量内訳(資源化等)'!P11+'ごみ搬入量内訳(その他)'!P11+'ごみ搬入量内訳(直接埋立)'!P11+'ごみ搬入量内訳(海洋投入)'!P11","v":0},{"$f":"'ごみ搬入量内訳(直接資源化)'!Q11+'ごみ搬入量内訳(焼却)'!Q11+'ごみ搬入量内訳(粗大)'!Q11+'ごみ搬入量内訳(堆肥化)'!Q11+'ごみ搬入量内訳(飼料化)'!Q11+'ごみ搬入量内訳(メタン化)'!Q11+'ごみ搬入量内訳(燃料化)'!Q11+'ごみ搬入量内訳(セメント)'!Q11+'ごみ搬入量内訳(資源化等)'!Q11+'ごみ搬入量内訳(その他)'!Q11+'ごみ搬入量内訳(直接埋立)'!Q11+'ごみ搬入量内訳(海洋投入)'!Q11","v":0},{"$f":"'ごみ搬入量内訳(直接資源化)'!R11+'ごみ搬入量内訳(焼却)'!R11+'ごみ搬入量内訳(粗大)'!R11+'ごみ搬入量内訳(堆肥化)'!R11+'ごみ搬入量内訳(飼料化)'!R11+'ごみ搬入量内訳(メタン化)'!R11+'ごみ搬入量内訳(燃料化)'!R11+'ごみ搬入量内訳(セメント)'!R11+'ごみ搬入量内訳(資源化等)'!R11+'ごみ搬入量内訳(その他)'!R11+'ごみ搬入量内訳(直接埋立)'!R11+'ごみ搬入量内訳(海洋投入)'!R11","v":0},{"$f":"'ごみ搬入量内訳(直接資源化)'!S11+'ごみ搬入量内訳(焼却)'!S11+'ごみ搬入量内訳(粗大)'!S11+'ごみ搬入量内訳(堆肥化)'!S11+'ごみ搬入量内訳(飼料化)'!S11+'ごみ搬入量内訳(メタン化)'!S11+'ごみ搬入量内訳(燃料化)'!S11+'ごみ搬入量内訳(セメント)'!S11+'ごみ搬入量内訳(資源化等)'!S11+'ごみ搬入量内訳(その他)'!S11+'ごみ搬入量内訳(直接埋立)'!S11+'ごみ搬入量内訳(海洋投入)'!S11","v":0},{"$f":"'ごみ搬入量内訳(直接資源化)'!T11+'ごみ搬入量内訳(焼却)'!T11+'ごみ搬入量内訳(粗大)'!T11+'ごみ搬入量内訳(堆肥化)'!T11+'ごみ搬入量内訳(飼料化)'!T11+'ごみ搬入量内訳(メタン化)'!T11+'ごみ搬入量内訳(燃料化)'!T11+'ごみ搬入量内訳(セメント)'!T11+'ごみ搬入量内訳(資源化等)'!T11+'ごみ搬入量内訳(その他)'!T11+'ごみ搬入量内訳(直接埋立)'!T11+'ごみ搬入量内訳(海洋投入)'!T11","v":0},{"$f":"'ごみ搬入量内訳(直接資源化)'!U11+'ごみ搬入量内訳(焼却)'!U11+'ごみ搬入量内訳(粗大)'!U11+'ごみ搬入量内訳(堆肥化)'!U11+'ごみ搬入量内訳(飼料化)'!U11+'ごみ搬入量内訳(メタン化)'!U11+'ごみ搬入量内訳(燃料化)'!U11+'ごみ搬入量内訳(セメント)'!U11+'ごみ搬入量内訳(資源化等)'!U11+'ごみ搬入量内訳(その他)'!U11+'ごみ搬入量内訳(直接埋立)'!U11+'ごみ搬入量内訳(海洋投入)'!U11","v":0},{"$f":"'ごみ搬入量内訳(直接資源化)'!V11+'ごみ搬入量内訳(焼却)'!V11+'ごみ搬入量内訳(粗大)'!V11+'ごみ搬入量内訳(堆肥化)'!V11+'ごみ搬入量内訳(飼料化)'!V11+'ごみ搬入量内訳(メタン化)'!V11+'ごみ搬入量内訳(燃料化)'!V11+'ごみ搬入量内訳(セメント)'!V11+'ごみ搬入量内訳(資源化等)'!V11+'ごみ搬入量内訳(その他)'!V11+'ごみ搬入量内訳(直接埋立)'!V11+'ごみ搬入量内訳(海洋投入)'!V11","v":0},{"$f":"'ごみ搬入量内訳(直接資源化)'!W11+'ごみ搬入量内訳(焼却)'!W11+'ごみ搬入量内訳(粗大)'!W11+'ごみ搬入量内訳(堆肥化)'!W11+'ごみ搬入量内訳(飼料化)'!W11+'ごみ搬入量内訳(メタン化)'!W11+'ごみ搬入量内訳(燃料化)'!W11+'ごみ搬入量内訳(セメント)'!W11+'ごみ搬入量内訳(資源化等)'!W11+'ごみ搬入量内訳(その他)'!W11+'ごみ搬入量内訳(直接埋立)'!W11+'ごみ搬入量内訳(海洋投入)'!W11","v":0},{"$f":"'ごみ搬入量内訳(直接資源化)'!X11+'ごみ搬入量内訳(焼却)'!X11+'ごみ搬入量内訳(粗大)'!X11+'ごみ搬入量内訳(堆肥化)'!X11+'ごみ搬入量内訳(飼料化)'!X11+'ごみ搬入量内訳(メタン化)'!X11+'ごみ搬入量内訳(燃料化)'!X11+'ごみ搬入量内訳(セメント)'!X11+'ごみ搬入量内訳(資源化等)'!X11+'ごみ搬入量内訳(その他)'!X11+'ごみ搬入量内訳(直接埋立)'!X11+'ごみ搬入量内訳(海洋投入)'!X11","v":0},{"$f":"'ごみ搬入量内訳(直接資源化)'!Y11+'ごみ搬入量内訳(焼却)'!Y11+'ごみ搬入量内訳(粗大)'!Y11+'ごみ搬入量内訳(堆肥化)'!Y11+'ごみ搬入量内訳(飼料化)'!Y11+'ごみ搬入量内訳(メタン化)'!Y11+'ごみ搬入量内訳(燃料化)'!Y11+'ごみ搬入量内訳(セメント)'!Y11+'ごみ搬入量内訳(資源化等)'!Y11+'ごみ搬入量内訳(その他)'!Y11+'ごみ搬入量内訳(直接埋立)'!Y11+'ごみ搬入量内訳(海洋投入)'!Y11","v":0},{"$f":"'ごみ搬入量内訳(直接資源化)'!Z11+'ごみ搬入量内訳(焼却)'!Z11+'ごみ搬入量内訳(粗大)'!Z11+'ごみ搬入量内訳(堆肥化)'!Z11+'ごみ搬入量内訳(飼料化)'!Z11+'ごみ搬入量内訳(メタン化)'!Z11+'ごみ搬入量内訳(燃料化)'!Z11+'ごみ搬入量内訳(セメント)'!Z11+'ごみ搬入量内訳(資源化等)'!Z11+'ごみ搬入量内訳(その他)'!Z11+'ごみ搬入量内訳(直接埋立)'!Z11+'ごみ搬入量内訳(海洋投入)'!Z11","v":0},{"$f":"'ごみ搬入量内訳(直接資源化)'!AA11+'ごみ搬入量内訳(焼却)'!AA11+'ごみ搬入量内訳(粗大)'!AA11+'ごみ搬入量内訳(堆肥化)'!AA11+'ごみ搬入量内訳(飼料化)'!AA11+'ごみ搬入量内訳(メタン化)'!AA11+'ごみ搬入量内訳(燃料化)'!AA11+'ごみ搬入量内訳(セメント)'!AA11+'ごみ搬入量内訳(資源化等)'!AA11+'ごみ搬入量内訳(その他)'!AA11+'ごみ搬入量内訳(直接埋立)'!AA11+'ごみ搬入量内訳(海洋投入)'!AA11","v":0},{"$f":"'ごみ搬入量内訳(直接資源化)'!AB11+'ごみ搬入量内訳(焼却)'!AB11+'ごみ搬入量内訳(粗大)'!AB11+'ごみ搬入量内訳(堆肥化)'!AB11+'ごみ搬入量内訳(飼料化)'!AB11+'ごみ搬入量内訳(メタン化)'!AB11+'ごみ搬入量内訳(燃料化)'!AB11+'ごみ搬入量内訳(セメント)'!AB11+'ごみ搬入量内訳(資源化等)'!AB11+'ごみ搬入量内訳(その他)'!AB11+'ごみ搬入量内訳(直接埋立)'!AB11+'ごみ搬入量内訳(海洋投入)'!AB11","v":0},{"$f":"'ごみ搬入量内訳(直接資源化)'!AC11+'ごみ搬入量内訳(焼却)'!AC11+'ごみ搬入量内訳(粗大)'!AC11+'ごみ搬入量内訳(堆肥化)'!AC11+'ごみ搬入量内訳(飼料化)'!AC11+'ごみ搬入量内訳(メタン化)'!AC11+'ごみ搬入量内訳(燃料化)'!AC11+'ごみ搬入量内訳(セメント)'!AC11+'ごみ搬入量内訳(資源化等)'!AC11+'ごみ搬入量内訳(その他)'!AC11+'ごみ搬入量内訳(直接埋立)'!AC11+'ごみ搬入量内訳(海洋投入)'!AC11","v":0},{"$f":"'ごみ搬入量内訳(直接資源化)'!AD11+'ごみ搬入量内訳(焼却)'!AD11+'ごみ搬入量内訳(粗大)'!AD11+'ごみ搬入量内訳(堆肥化)'!AD11+'ごみ搬入量内訳(飼料化)'!AD11+'ごみ搬入量内訳(メタン化)'!AD11+'ごみ搬入量内訳(燃料化)'!AD11+'ごみ搬入量内訳(セメント)'!AD11+'ごみ搬入量内訳(資源化等)'!AD11+'ごみ搬入量内訳(その他)'!AD11+'ごみ搬入量内訳(直接埋立)'!AD11+'ごみ搬入量内訳(海洋投入)'!AD11","v":0},{"$f":"'ごみ搬入量内訳(直接資源化)'!AE11+'ごみ搬入量内訳(焼却)'!AE11+'ごみ搬入量内訳(粗大)'!AE11+'ごみ搬入量内訳(堆肥化)'!AE11+'ごみ搬入量内訳(飼料化)'!AE11+'ごみ搬入量内訳(メタン化)'!AE11+'ごみ搬入量内訳(燃料化)'!AE11+'ごみ搬入量内訳(セメント)'!AE11+'ごみ搬入量内訳(資源化等)'!AE11+'ごみ搬入量内訳(その他)'!AE11+'ごみ搬入量内訳(直接埋立)'!AE11+'ごみ搬入量内訳(海洋投入)'!AE11","v":0},{"$f":"'ごみ搬入量内訳(直接資源化)'!AF11+'ごみ搬入量内訳(焼却)'!AF11+'ごみ搬入量内訳(粗大)'!AF11+'ごみ搬入量内訳(堆肥化)'!AF11+'ごみ搬入量内訳(飼料化)'!AF11+'ごみ搬入量内訳(メタン化)'!AF11+'ごみ搬入量内訳(燃料化)'!AF11+'ごみ搬入量内訳(セメント)'!AF11+'ごみ搬入量内訳(資源化等)'!AF11+'ごみ搬入量内訳(その他)'!AF11+'ごみ搬入量内訳(直接埋立)'!AF11+'ごみ搬入量内訳(海洋投入)'!AF11","v":0},{"$f":"'ごみ搬入量内訳(直接資源化)'!AG11+'ごみ搬入量内訳(焼却)'!AG11+'ごみ搬入量内訳(粗大)'!AG11+'ごみ搬入量内訳(堆肥化)'!AG11+'ごみ搬入量内訳(飼料化)'!AG11+'ごみ搬入量内訳(メタン化)'!AG11+'ごみ搬入量内訳(燃料化)'!AG11+'ごみ搬入量内訳(セメント)'!AG11+'ごみ搬入量内訳(資源化等)'!AG11+'ごみ搬入量内訳(その他)'!AG11+'ごみ搬入量内訳(直接埋立)'!AG11+'ごみ搬入量内訳(海洋投入)'!AG11","v":0},{"$f":"'ごみ搬入量内訳(直接資源化)'!AH11+'ごみ搬入量内訳(焼却)'!AH11+'ごみ搬入量内訳(粗大)'!AH11+'ごみ搬入量内訳(堆肥化)'!AH11+'ごみ搬入量内訳(飼料化)'!AH11+'ごみ搬入量内訳(メタン化)'!AH11+'ごみ搬入量内訳(燃料化)'!AH11+'ごみ搬入量内訳(セメント)'!AH11+'ごみ搬入量内訳(資源化等)'!AH11+'ごみ搬入量内訳(その他)'!AH11+'ごみ搬入量内訳(直接埋立)'!AH11+'ごみ搬入量内訳(海洋投入)'!AH11","v":0},{"$f":"'ごみ搬入量内訳(直接資源化)'!AI11+'ごみ搬入量内訳(焼却)'!AI11+'ごみ搬入量内訳(粗大)'!AI11+'ごみ搬入量内訳(堆肥化)'!AI11+'ごみ搬入量内訳(飼料化)'!AI11+'ごみ搬入量内訳(メタン化)'!AI11+'ごみ搬入量内訳(燃料化)'!AI11+'ごみ搬入量内訳(セメント)'!AI11+'ごみ搬入量内訳(資源化等)'!AI11+'ごみ搬入量内訳(その他)'!AI11+'ごみ搬入量内訳(直接埋立)'!AI11+'ごみ搬入量内訳(海洋投入)'!AI11","v":0}]
["秋田県","05206","男鹿市",{"$f":"SUM(E12:AI12)","v":0},{"$f":"'ごみ搬入量内訳(直接資源化)'!E12+'ごみ搬入量内訳(焼却)'!E12+'ごみ搬入量内訳(粗大)'!E12+'ごみ搬入量内訳(堆肥化)'!E12+'ごみ搬入量内訳(飼料化)'!E12+'ごみ搬入量内訳(メタン化)'!E12+'ごみ搬入量内訳(燃料化)'!E12+'ごみ搬入量内訳(セメント)'!E12+'ごみ搬入量内訳(資源化等)'!E12+'ごみ搬入量内訳(その他)'!E12+'ごみ搬入量内訳(直接埋立)'!E12+'ごみ搬入量内訳(海洋投入)'!E12","v":0},{"$f":"'ごみ搬入量内訳(直接資源化)'!F12+'ごみ搬入量内訳(焼却)'!F12+'ごみ搬入量内訳(粗大)'!F12+'ごみ搬入量内訳(堆肥化)'!F12+'ごみ搬入量内訳(飼料化)'!F12+'ごみ搬入量内訳(メタン化)'!F12+'ごみ搬入量内訳(燃料化)'!F12+'ごみ搬入量内訳(セメント)'!F12+'ごみ搬入量内訳(資源化等)'!F12+'ごみ搬入量内訳(その他)'!F12+'ごみ搬入量内訳(直接埋立)'!F12+'ごみ搬入量内訳(海洋投入)'!F12","v":0},{"$f":"'ごみ搬入量内訳(直接資源化)'!G12+'ごみ搬入量内訳(焼却)'!G12+'ごみ搬入量内訳(粗大)'!G12+'ごみ搬入量内訳(堆肥化)'!G12+'ごみ搬入量内訳(飼料化)'!G12+'ごみ搬入量内訳(メタン化)'!G12+'ごみ搬入量内訳(燃料化)'!G12+'ごみ搬入量内訳(セメント)'!G12+'ごみ搬入量内訳(資源化等)'!G12+'ごみ搬入量内訳(その他)'!G12+'ごみ搬入量内訳(直接埋立)'!G12+'ごみ搬入量内訳(海洋投入)'!G12","v":0},{"$f":"'ごみ搬入量内訳(直接資源化)'!H12+'ごみ搬入量内訳(焼却)'!H12+'ごみ搬入量内訳(粗大)'!H12+'ごみ搬入量内訳(堆肥化)'!H12+'ごみ搬入量内訳(飼料化)'!H12+'ごみ搬入量内訳(メタン化)'!H12+'ごみ搬入量内訳(燃料化)'!H12+'ごみ搬入量内訳(セメント)'!H12+'ごみ搬入量内訳(資源化等)'!H12+'ごみ搬入量内訳(その他)'!H12+'ごみ搬入量内訳(直接埋立)'!H12+'ごみ搬入量内訳(海洋投入)'!H12","v":0},{"$f":"'ごみ搬入量内訳(直接資源化)'!I12+'ごみ搬入量内訳(焼却)'!I12+'ごみ搬入量内訳(粗大)'!I12+'ごみ搬入量内訳(堆肥化)'!I12+'ごみ搬入量内訳(飼料化)'!I12+'ごみ搬入量内訳(メタン化)'!I12+'ごみ搬入量内訳(燃料化)'!I12+'ごみ搬入量内訳(セメント)'!I12+'ごみ搬入量内訳(資源化等)'!I12+'ごみ搬入量内訳(その他)'!I12+'ごみ搬入量内訳(直接埋立)'!I12+'ごみ搬入量内訳(海洋投入)'!I12","v":0},{"$f":"'ごみ搬入量内訳(直接資源化)'!J12+'ごみ搬入量内訳(焼却)'!J12+'ごみ搬入量内訳(粗大)'!J12+'ごみ搬入量内訳(堆肥化)'!J12+'ごみ搬入量内訳(飼料化)'!J12+'ごみ搬入量内訳(メタン化)'!J12+'ごみ搬入量内訳(燃料化)'!J12+'ごみ搬入量内訳(セメント)'!J12+'ごみ搬入量内訳(資源化等)'!J12+'ごみ搬入量内訳(その他)'!J12+'ごみ搬入量内訳(直接埋立)'!J12+'ごみ搬入量内訳(海洋投入)'!J12","v":0},{"$f":"'ごみ搬入量内訳(直接資源化)'!K12+'ごみ搬入量内訳(焼却)'!K12+'ごみ搬入量内訳(粗大)'!K12+'ごみ搬入量内訳(堆肥化)'!K12+'ごみ搬入量内訳(飼料化)'!K12+'ごみ搬入量内訳(メタン化)'!K12+'ごみ搬入量内訳(燃料化)'!K12+'ごみ搬入量内訳(セメント)'!K12+'ごみ搬入量内訳(資源化等)'!K12+'ごみ搬入量内訳(その他)'!K12+'ごみ搬入量内訳(直接埋立)'!K12+'ごみ搬入量内訳(海洋投入)'!K12","v":0},{"$f":"'ごみ搬入量内訳(直接資源化)'!L12+'ごみ搬入量内訳(焼却)'!L12+'ごみ搬入量内訳(粗大)'!L12+'ごみ搬入量内訳(堆肥化)'!L12+'ごみ搬入量内訳(飼料化)'!L12+'ごみ搬入量内訳(メタン化)'!L12+'ごみ搬入量内訳(燃料化)'!L12+'ごみ搬入量内訳(セメント)'!L12+'ごみ搬入量内訳(資源化等)'!L12+'ごみ搬入量内訳(その他)'!L12+'ごみ搬入量内訳(直接埋立)'!L12+'ごみ搬入量内訳(海洋投入)'!L12","v":0},{"$f":"'ごみ搬入量内訳(直接資源化)'!M12+'ごみ搬入量内訳(焼却)'!M12+'ごみ搬入量内訳(粗大)'!M12+'ごみ搬入量内訳(堆肥化)'!M12+'ごみ搬入量内訳(飼料化)'!M12+'ごみ搬入量内訳(メタン化)'!M12+'ごみ搬入量内訳(燃料化)'!M12+'ごみ搬入量内訳(セメント)'!M12+'ごみ搬入量内訳(資源化等)'!M12+'ごみ搬入量内訳(その他)'!M12+'ごみ搬入量内訳(直接埋立)'!M12+'ごみ搬入量内訳(海洋投入)'!M12","v":0},{"$f":"'ごみ搬入量内訳(直接資源化)'!N12+'ごみ搬入量内訳(焼却)'!N12+'ごみ搬入量内訳(粗大)'!N12+'ごみ搬入量内訳(堆肥化)'!N12+'ごみ搬入量内訳(飼料化)'!N12+'ごみ搬入量内訳(メタン化)'!N12+'ごみ搬入量内訳(燃料化)'!N12+'ごみ搬入量内訳(セメント)'!N12+'ごみ搬入量内訳(資源化等)'!N12+'ごみ搬入量内訳(その他)'!N12+'ごみ搬入量内訳(直接埋立)'!N12+'ごみ搬入量内訳(海洋投入)'!N12","v":0},{"$f":"'ごみ搬入量内訳(直接資源化)'!O12+'ごみ搬入量内訳(焼却)'!O12+'ごみ搬入量内訳(粗大)'!O12+'ごみ搬入量内訳(堆肥化)'!O12+'ごみ搬入量内訳(飼料化)'!O12+'ごみ搬入量内訳(メタン化)'!O12+'ごみ搬入量内訳(燃料化)'!O12+'ごみ搬入量内訳(セメント)'!O12+'ごみ搬入量内訳(資源化等)'!O12+'ごみ搬入量内訳(その他)'!O12+'ごみ搬入量内訳(直接埋立)'!O12+'ごみ搬入量内訳(海洋投入)'!O12","v":0},{"$f":"'ごみ搬入量内訳(直接資源化)'!P12+'ごみ搬入量内訳(焼却)'!P12+'ごみ搬入量内訳(粗大)'!P12+'ごみ搬入量内訳(堆肥化)'!P12+'ごみ搬入量内訳(飼料化)'!P12+'ごみ搬入量内訳(メタン化)'!P12+'ごみ搬入量内訳(燃料化)'!P12+'ごみ搬入量内訳(セメント)'!P12+'ごみ搬入量内訳(資源化等)'!P12+'ごみ搬入量内訳(その他)'!P12+'ごみ搬入量内訳(直接埋立)'!P12+'ごみ搬入量内訳(海洋投入)'!P12","v":0},{"$f":"'ごみ搬入量内訳(直接資源化)'!Q12+'ごみ搬入量内訳(焼却)'!Q12+'ごみ搬入量内訳(粗大)'!Q12+'ごみ搬入量内訳(堆肥化)'!Q12+'ごみ搬入量内訳(飼料化)'!Q12+'ごみ搬入量内訳(メタン化)'!Q12+'ごみ搬入量内訳(燃料化)'!Q12+'ごみ搬入量内訳(セメント)'!Q12+'ごみ搬入量内訳(資源化等)'!Q12+'ごみ搬入量内訳(その他)'!Q12+'ごみ搬入量内訳(直接埋立)'!Q12+'ごみ搬入量内訳(海洋投入)'!Q12","v":0},{"$f":"'ごみ搬入量内訳(直接資源化)'!R12+'ごみ搬入量内訳(焼却)'!R12+'ごみ搬入量内訳(粗大)'!R12+'ごみ搬入量内訳(堆肥化)'!R12+'ごみ搬入量内訳(飼料化)'!R12+'ごみ搬入量内訳(メタン化)'!R12+'ごみ搬入量内訳(燃料化)'!R12+'ごみ搬入量内訳(セメント)'!R12+'ごみ搬入量内訳(資源化等)'!R12+'ごみ搬入量内訳(その他)'!R12+'ごみ搬入量内訳(直接埋立)'!R12+'ごみ搬入量内訳(海洋投入)'!R12","v":0},{"$f":"'ごみ搬入量内訳(直接資源化)'!S12+'ごみ搬入量内訳(焼却)'!S12+'ごみ搬入量内訳(粗大)'!S12+'ごみ搬入量内訳(堆肥化)'!S12+'ごみ搬入量内訳(飼料化)'!S12+'ごみ搬入量内訳(メタン化)'!S12+'ごみ搬入量内訳(燃料化)'!S12+'ごみ搬入量内訳(セメント)'!S12+'ごみ搬入量内訳(資源化等)'!S12+'ごみ搬入量内訳(その他)'!S12+'ごみ搬入量内訳(直接埋立)'!S12+'ごみ搬入量内訳(海洋投入)'!S12","v":0},{"$f":"'ごみ搬入量内訳(直接資源化)'!T12+'ごみ搬入量内訳(焼却)'!T12+'ごみ搬入量内訳(粗大)'!T12+'ごみ搬入量内訳(堆肥化)'!T12+'ごみ搬入量内訳(飼料化)'!T12+'ごみ搬入量内訳(メタン化)'!T12+'ごみ搬入量内訳(燃料化)'!T12+'ごみ搬入量内訳(セメント)'!T12+'ごみ搬入量内訳(資源化等)'!T12+'ごみ搬入量内訳(その他)'!T12+'ごみ搬入量内訳(直接埋立)'!T12+'ごみ搬入量内訳(海洋投入)'!T12","v":0},{"$f":"'ごみ搬入量内訳(直接資源化)'!U12+'ごみ搬入量内訳(焼却)'!U12+'ごみ搬入量内訳(粗大)'!U12+'ごみ搬入量内訳(堆肥化)'!U12+'ごみ搬入量内訳(飼料化)'!U12+'ごみ搬入量内訳(メタン化)'!U12+'ごみ搬入量内訳(燃料化)'!U12+'ごみ搬入量内訳(セメント)'!U12+'ごみ搬入量内訳(資源化等)'!U12+'ごみ搬入量内訳(その他)'!U12+'ごみ搬入量内訳(直接埋立)'!U12+'ごみ搬入量内訳(海洋投入)'!U12","v":0},{"$f":"'ごみ搬入量内訳(直接資源化)'!V12+'ごみ搬入量内訳(焼却)'!V12+'ごみ搬入量内訳(粗大)'!V12+'ごみ搬入量内訳(堆肥化)'!V12+'ごみ搬入量内訳(飼料化)'!V12+'ごみ搬入量内訳(メタン化)'!V12+'ごみ搬入量内訳(燃料化)'!V12+'ごみ搬入量内訳(セメント)'!V12+'ごみ搬入量内訳(資源化等)'!V12+'ごみ搬入量内訳(その他)'!V12+'ごみ搬入量内訳(直接埋立)'!V12+'ごみ搬入量内訳(海洋投入)'!V12","v":0},{"$f":"'ごみ搬入量内訳(直接資源化)'!W12+'ごみ搬入量内訳(焼却)'!W12+'ごみ搬入量内訳(粗大)'!W12+'ごみ搬入量内訳(堆肥化)'!W12+'ごみ搬入量内訳(飼料化)'!W12+'ごみ搬入量内訳(メタン化)'!W12+'ごみ搬入量内訳(燃料化)'!W12+'ごみ搬入量内訳(セメント)'!W12+'ごみ搬入量内訳(資源化等)'!W12+'ごみ搬入量内訳(その他)'!W12+'ごみ搬入量内訳(直接埋立)'!W12+'ごみ搬入量内訳(海洋投入)'!W12","v":0},{"$f":"'ごみ搬入量内訳(直接資源化)'!X12+'ごみ搬入量内訳(焼却)'!X12+'ごみ搬入量内訳(粗大)'!X12+'ごみ搬入量内訳(堆肥化)'!X12+'ごみ搬入量内訳(飼料化)'!X12+'ごみ搬入量内訳(メタン化)'!X12+'ごみ搬入量内訳(燃料化)'!X12+'ごみ搬入量内訳(セメント)'!X12+'ごみ搬入量内訳(資源化等)'!X12+'ごみ搬入量内訳(その他)'!X12+'ごみ搬入量内訳(直接埋立)'!X12+'ごみ搬入量内訳(海洋投入)'!X12","v":0},{"$f":"'ごみ搬入量内訳(直接資源化)'!Y12+'ごみ搬入量内訳(焼却)'!Y12+'ごみ搬入量内訳(粗大)'!Y12+'ごみ搬入量内訳(堆肥化)'!Y12+'ごみ搬入量内訳(飼料化)'!Y12+'ごみ搬入量内訳(メタン化)'!Y12+'ごみ搬入量内訳(燃料化)'!Y12+'ごみ搬入量内訳(セメント)'!Y12+'ごみ搬入量内訳(資源化等)'!Y12+'ごみ搬入量内訳(その他)'!Y12+'ごみ搬入量内訳(直接埋立)'!Y12+'ごみ搬入量内訳(海洋投入)'!Y12","v":0},{"$f":"'ごみ搬入量内訳(直接資源化)'!Z12+'ごみ搬入量内訳(焼却)'!Z12+'ごみ搬入量内訳(粗大)'!Z12+'ごみ搬入量内訳(堆肥化)'!Z12+'ごみ搬入量内訳(飼料化)'!Z12+'ごみ搬入量内訳(メタン化)'!Z12+'ごみ搬入量内訳(燃料化)'!Z12+'ごみ搬入量内訳(セメント)'!Z12+'ごみ搬入量内訳(資源化等)'!Z12+'ごみ搬入量内訳(その他)'!Z12+'ごみ搬入量内訳(直接埋立)'!Z12+'ごみ搬入量内訳(海洋投入)'!Z12","v":0},{"$f":"'ごみ搬入量内訳(直接資源化)'!AA12+'ごみ搬入量内訳(焼却)'!AA12+'ごみ搬入量内訳(粗大)'!AA12+'ごみ搬入量内訳(堆肥化)'!AA12+'ごみ搬入量内訳(飼料化)'!AA12+'ごみ搬入量内訳(メタン化)'!AA12+'ごみ搬入量内訳(燃料化)'!AA12+'ごみ搬入量内訳(セメント)'!AA12+'ごみ搬入量内訳(資源化等)'!AA12+'ごみ搬入量内訳(その他)'!AA12+'ごみ搬入量内訳(直接埋立)'!AA12+'ごみ搬入量内訳(海洋投入)'!AA12","v":0},{"$f":"'ごみ搬入量内訳(直接資源化)'!AB12+'ごみ搬入量内訳(焼却)'!AB12+'ごみ搬入量内訳(粗大)'!AB12+'ごみ搬入量内訳(堆肥化)'!AB12+'ごみ搬入量内訳(飼料化)'!AB12+'ごみ搬入量内訳(メタン化)'!AB12+'ごみ搬入量内訳(燃料化)'!AB12+'ごみ搬入量内訳(セメント)'!AB12+'ごみ搬入量内訳(資源化等)'!AB12+'ごみ搬入量内訳(その他)'!AB12+'ごみ搬入量内訳(直接埋立)'!AB12+'ごみ搬入量内訳(海洋投入)'!AB12","v":0},{"$f":"'ごみ搬入量内訳(直接資源化)'!AC12+'ごみ搬入量内訳(焼却)'!AC12+'ごみ搬入量内訳(粗大)'!AC12+'ごみ搬入量内訳(堆肥化)'!AC12+'ごみ搬入量内訳(飼料化)'!AC12+'ごみ搬入量内訳(メタン化)'!AC12+'ごみ搬入量内訳(燃料化)'!AC12+'ごみ搬入量内訳(セメント)'!AC12+'ごみ搬入量内訳(資源化等)'!AC12+'ごみ搬入量内訳(その他)'!AC12+'ごみ搬入量内訳(直接埋立)'!AC12+'ごみ搬入量内訳(海洋投入)'!AC12","v":0},{"$f":"'ごみ搬入量内訳(直接資源化)'!AD12+'ごみ搬入量内訳(焼却)'!AD12+'ごみ搬入量内訳(粗大)'!AD12+'ごみ搬入量内訳(堆肥化)'!AD12+'ごみ搬入量内訳(飼料化)'!AD12+'ごみ搬入量内訳(メタン化)'!AD12+'ごみ搬入量内訳(燃料化)'!AD12+'ごみ搬入量内訳(セメント)'!AD12+'ごみ搬入量内訳(資源化等)'!AD12+'ごみ搬入量内訳(その他)'!AD12+'ごみ搬入量内訳(直接埋立)'!AD12+'ごみ搬入量内訳(海洋投入)'!AD12","v":0},{"$f":"'ごみ搬入量内訳(直接資源化)'!AE12+'ごみ搬入量内訳(焼却)'!AE12+'ごみ搬入量内訳(粗大)'!AE12+'ごみ搬入量内訳(堆肥化)'!AE12+'ごみ搬入量内訳(飼料化)'!AE12+'ごみ搬入量内訳(メタン化)'!AE12+'ごみ搬入量内訳(燃料化)'!AE12+'ごみ搬入量内訳(セメント)'!AE12+'ごみ搬入量内訳(資源化等)'!AE12+'ごみ搬入量内訳(その他)'!AE12+'ごみ搬入量内訳(直接埋立)'!AE12+'ごみ搬入量内訳(海洋投入)'!AE12","v":0},{"$f":"'ごみ搬入量内訳(直接資源化)'!AF12+'ごみ搬入量内訳(焼却)'!AF12+'ごみ搬入量内訳(粗大)'!AF12+'ごみ搬入量内訳(堆肥化)'!AF12+'ごみ搬入量内訳(飼料化)'!AF12+'ごみ搬入量内訳(メタン化)'!AF12+'ごみ搬入量内訳(燃料化)'!AF12+'ごみ搬入量内訳(セメント)'!AF12+'ごみ搬入量内訳(資源化等)'!AF12+'ごみ搬入量内訳(その他)'!AF12+'ごみ搬入量内訳(直接埋立)'!AF12+'ごみ搬入量内訳(海洋投入)'!AF12","v":0},{"$f":"'ごみ搬入量内訳(直接資源化)'!AG12+'ごみ搬入量内訳(焼却)'!AG12+'ごみ搬入量内訳(粗大)'!AG12+'ごみ搬入量内訳(堆肥化)'!AG12+'ごみ搬入量内訳(飼料化)'!AG12+'ごみ搬入量内訳(メタン化)'!AG12+'ごみ搬入量内訳(燃料化)'!AG12+'ごみ搬入量内訳(セメント)'!AG12+'ごみ搬入量内訳(資源化等)'!AG12+'ごみ搬入量内訳(その他)'!AG12+'ごみ搬入量内訳(直接埋立)'!AG12+'ごみ搬入量内訳(海洋投入)'!AG12","v":0},{"$f":"'ごみ搬入量内訳(直接資源化)'!AH12+'ごみ搬入量内訳(焼却)'!AH12+'ごみ搬入量内訳(粗大)'!AH12+'ごみ搬入量内訳(堆肥化)'!AH12+'ごみ搬入量内訳(飼料化)'!AH12+'ごみ搬入量内訳(メタン化)'!AH12+'ごみ搬入量内訳(燃料化)'!AH12+'ごみ搬入量内訳(セメント)'!AH12+'ごみ搬入量内訳(資源化等)'!AH12+'ごみ搬入量内訳(その他)'!AH12+'ごみ搬入量内訳(直接埋立)'!AH12+'ごみ搬入量内訳(海洋投入)'!AH12","v":0},{"$f":"'ごみ搬入量内訳(直接資源化)'!AI12+'ごみ搬入量内訳(焼却)'!AI12+'ごみ搬入量内訳(粗大)'!AI12+'ごみ搬入量内訳(堆肥化)'!AI12+'ごみ搬入量内訳(飼料化)'!AI12+'ごみ搬入量内訳(メタン化)'!AI12+'ごみ搬入量内訳(燃料化)'!AI12+'ごみ搬入量内訳(セメント)'!AI12+'ごみ搬入量内訳(資源化等)'!AI12+'ごみ搬入量内訳(その他)'!AI12+'ごみ搬入量内訳(直接埋立)'!AI12+'ごみ搬入量内訳(海洋投入)'!AI12","v":0}]
["秋田県","05207","湯沢市",{"$f":"SUM(E13:AI13)","v":0},{"$f":"'ごみ搬入量内訳(直接資源化)'!E13+'ごみ搬入量内訳(焼却)'!E13+'ごみ搬入量内訳(粗大)'!E13+'ごみ搬入量内訳(堆肥化)'!E13+'ごみ搬入量内訳(飼料化)'!E13+'ごみ搬入量内訳(メタン化)'!E13+'ごみ搬入量内訳(燃料化)'!E13+'ごみ搬入量内訳(セメント)'!E13+'ごみ搬入量内訳(資源化等)'!E13+'ごみ搬入量内訳(その他)'!E13+'ごみ搬入量内訳(直接埋立)'!E13+'ごみ搬入量内訳(海洋投入)'!E13","v":0},{"$f":"'ごみ搬入量内訳(直接資源化)'!F13+'ごみ搬入量内訳(焼却)'!F13+'ごみ搬入量内訳(粗大)'!F13+'ごみ搬入量内訳(堆肥化)'!F13+'ごみ搬入量内訳(飼料化)'!F13+'ごみ搬入量内訳(メタン化)'!F13+'ごみ搬入量内訳(燃料化)'!F13+'ごみ搬入量内訳(セメント)'!F13+'ごみ搬入量内訳(資源化等)'!F13+'ごみ搬入量内訳(その他)'!F13+'ごみ搬入量内訳(直接埋立)'!F13+'ごみ搬入量内訳(海洋投入)'!F13","v":0},{"$f":"'ごみ搬入量内訳(直接資源化)'!G13+'ごみ搬入量内訳(焼却)'!G13+'ごみ搬入量内訳(粗大)'!G13+'ごみ搬入量内訳(堆肥化)'!G13+'ごみ搬入量内訳(飼料化)'!G13+'ごみ搬入量内訳(メタン化)'!G13+'ごみ搬入量内訳(燃料化)'!G13+'ごみ搬入量内訳(セメント)'!G13+'ごみ搬入量内訳(資源化等)'!G13+'ごみ搬入量内訳(その他)'!G13+'ごみ搬入量内訳(直接埋立)'!G13+'ごみ搬入量内訳(海洋投入)'!G13","v":0},{"$f":"'ごみ搬入量内訳(直接資源化)'!H13+'ごみ搬入量内訳(焼却)'!H13+'ごみ搬入量内訳(粗大)'!H13+'ごみ搬入量内訳(堆肥化)'!H13+'ごみ搬入量内訳(飼料化)'!H13+'ごみ搬入量内訳(メタン化)'!H13+'ごみ搬入量内訳(燃料化)'!H13+'ごみ搬入量内訳(セメント)'!H13+'ごみ搬入量内訳(資源化等)'!H13+'ごみ搬入量内訳(その他)'!H13+'ごみ搬入量内訳(直接埋立)'!H13+'ごみ搬入量内訳(海洋投入)'!H13","v":0},{"$f":"'ごみ搬入量内訳(直接資源化)'!I13+'ごみ搬入量内訳(焼却)'!I13+'ごみ搬入量内訳(粗大)'!I13+'ごみ搬入量内訳(堆肥化)'!I13+'ごみ搬入量内訳(飼料化)'!I13+'ごみ搬入量内訳(メタン化)'!I13+'ごみ搬入量内訳(燃料化)'!I13+'ごみ搬入量内訳(セメント)'!I13+'ごみ搬入量内訳(資源化等)'!I13+'ごみ搬入量内訳(その他)'!I13+'ごみ搬入量内訳(直接埋立)'!I13+'ごみ搬入量内訳(海洋投入)'!I13","v":0},{"$f":"'ごみ搬入量内訳(直接資源化)'!J13+'ごみ搬入量内訳(焼却)'!J13+'ごみ搬入量内訳(粗大)'!J13+'ごみ搬入量内訳(堆肥化)'!J13+'ごみ搬入量内訳(飼料化)'!J13+'ごみ搬入量内訳(メタン化)'!J13+'ごみ搬入量内訳(燃料化)'!J13+'ごみ搬入量内訳(セメント)'!J13+'ごみ搬入量内訳(資源化等)'!J13+'ごみ搬入量内訳(その他)'!J13+'ごみ搬入量内訳(直接埋立)'!J13+'ごみ搬入量内訳(海洋投入)'!J13","v":0},{"$f":"'ごみ搬入量内訳(直接資源化)'!K13+'ごみ搬入量内訳(焼却)'!K13+'ごみ搬入量内訳(粗大)'!K13+'ごみ搬入量内訳(堆肥化)'!K13+'ごみ搬入量内訳(飼料化)'!K13+'ごみ搬入量内訳(メタン化)'!K13+'ごみ搬入量内訳(燃料化)'!K13+'ごみ搬入量内訳(セメント)'!K13+'ごみ搬入量内訳(資源化等)'!K13+'ごみ搬入量内訳(その他)'!K13+'ごみ搬入量内訳(直接埋立)'!K13+'ごみ搬入量内訳(海洋投入)'!K13","v":0},{"$f":"'ごみ搬入量内訳(直接資源化)'!L13+'ごみ搬入量内訳(焼却)'!L13+'ごみ搬入量内訳(粗大)'!L13+'ごみ搬入量内訳(堆肥化)'!L13+'ごみ搬入量内訳(飼料化)'!L13+'ごみ搬入量内訳(メタン化)'!L13+'ごみ搬入量内訳(燃料化)'!L13+'ごみ搬入量内訳(セメント)'!L13+'ごみ搬入量内訳(資源化等)'!L13+'ごみ搬入量内訳(その他)'!L13+'ごみ搬入量内訳(直接埋立)'!L13+'ごみ搬入量内訳(海洋投入)'!L13","v":0},{"$f":"'ごみ搬入量内訳(直接資源化)'!M13+'ごみ搬入量内訳(焼却)'!M13+'ごみ搬入量内訳(粗大)'!M13+'ごみ搬入量内訳(堆肥化)'!M13+'ごみ搬入量内訳(飼料化)'!M13+'ごみ搬入量内訳(メタン化)'!M13+'ごみ搬入量内訳(燃料化)'!M13+'ごみ搬入量内訳(セメント)'!M13+'ごみ搬入量内訳(資源化等)'!M13+'ごみ搬入量内訳(その他)'!M13+'ごみ搬入量内訳(直接埋立)'!M13+'ごみ搬入量内訳(海洋投入)'!M13","v":0},{"$f":"'ごみ搬入量内訳(直接資源化)'!N13+'ごみ搬入量内訳(焼却)'!N13+'ごみ搬入量内訳(粗大)'!N13+'ごみ搬入量内訳(堆肥化)'!N13+'ごみ搬入量内訳(飼料化)'!N13+'ごみ搬入量内訳(メタン化)'!N13+'ごみ搬入量内訳(燃料化)'!N13+'ごみ搬入量内訳(セメント)'!N13+'ごみ搬入量内訳(資源化等)'!N13+'ごみ搬入量内訳(その他)'!N13+'ごみ搬入量内訳(直接埋立)'!N13+'ごみ搬入量内訳(海洋投入)'!N13","v":0},{"$f":"'ごみ搬入量内訳(直接資源化)'!O13+'ごみ搬入量内訳(焼却)'!O13+'ごみ搬入量内訳(粗大)'!O13+'ごみ搬入量内訳(堆肥化)'!O13+'ごみ搬入量内訳(飼料化)'!O13+'ごみ搬入量内訳(メタン化)'!O13+'ごみ搬入量内訳(燃料化)'!O13+'ごみ搬入量内訳(セメント)'!O13+'ごみ搬入量内訳(資源化等)'!O13+'ごみ搬入量内訳(その他)'!O13+'ごみ搬入量内訳(直接埋立)'!O13+'ごみ搬入量内訳(海洋投入)'!O13","v":0},{"$f":"'ごみ搬入量内訳(直接資源化)'!P13+'ごみ搬入量内訳(焼却)'!P13+'ごみ搬入量内訳(粗大)'!P13+'ごみ搬入量内訳(堆肥化)'!P13+'ごみ搬入量内訳(飼料化)'!P13+'ごみ搬入量内訳(メタン化)'!P13+'ごみ搬入量内訳(燃料化)'!P13+'ごみ搬入量内訳(セメント)'!P13+'ごみ搬入量内訳(資源化等)'!P13+'ごみ搬入量内訳(その他)'!P13+'ごみ搬入量内訳(直接埋立)'!P13+'ごみ搬入量内訳(海洋投入)'!P13","v":0},{"$f":"'ごみ搬入量内訳(直接資源化)'!Q13+'ごみ搬入量内訳(焼却)'!Q13+'ごみ搬入量内訳(粗大)'!Q13+'ごみ搬入量内訳(堆肥化)'!Q13+'ごみ搬入量内訳(飼料化)'!Q13+'ごみ搬入量内訳(メタン化)'!Q13+'ごみ搬入量内訳(燃料化)'!Q13+'ごみ搬入量内訳(セメント)'!Q13+'ごみ搬入量内訳(資源化等)'!Q13+'ごみ搬入量内訳(その他)'!Q13+'ごみ搬入量内訳(直接埋立)'!Q13+'ごみ搬入量内訳(海洋投入)'!Q13","v":0},{"$f":"'ごみ搬入量内訳(直接資源化)'!R13+'ごみ搬入量内訳(焼却)'!R13+'ごみ搬入量内訳(粗大)'!R13+'ごみ搬入量内訳(堆肥化)'!R13+'ごみ搬入量内訳(飼料化)'!R13+'ごみ搬入量内訳(メタン化)'!R13+'ごみ搬入量内訳(燃料化)'!R13+'ごみ搬入量内訳(セメント)'!R13+'ごみ搬入量内訳(資源化等)'!R13+'ごみ搬入量内訳(その他)'!R13+'ごみ搬入量内訳(直接埋立)'!R13+'ごみ搬入量内訳(海洋投入)'!R13","v":0},{"$f":"'ごみ搬入量内訳(直接資源化)'!S13+'ごみ搬入量内訳(焼却)'!S13+'ごみ搬入量内訳(粗大)'!S13+'ごみ搬入量内訳(堆肥化)'!S13+'ごみ搬入量内訳(飼料化)'!S13+'ごみ搬入量内訳(メタン化)'!S13+'ごみ搬入量内訳(燃料化)'!S13+'ごみ搬入量内訳(セメント)'!S13+'ごみ搬入量内訳(資源化等)'!S13+'ごみ搬入量内訳(その他)'!S13+'ごみ搬入量内訳(直接埋立)'!S13+'ごみ搬入量内訳(海洋投入)'!S13","v":0},{"$f":"'ごみ搬入量内訳(直接資源化)'!T13+'ごみ搬入量内訳(焼却)'!T13+'ごみ搬入量内訳(粗大)'!T13+'ごみ搬入量内訳(堆肥化)'!T13+'ごみ搬入量内訳(飼料化)'!T13+'ごみ搬入量内訳(メタン化)'!T13+'ごみ搬入量内訳(燃料化)'!T13+'ごみ搬入量内訳(セメント)'!T13+'ごみ搬入量内訳(資源化等)'!T13+'ごみ搬入量内訳(その他)'!T13+'ごみ搬入量内訳(直接埋立)'!T13+'ごみ搬入量内訳(海洋投入)'!T13","v":0},{"$f":"'ごみ搬入量内訳(直接資源化)'!U13+'ごみ搬入量内訳(焼却)'!U13+'ごみ搬入量内訳(粗大)'!U13+'ごみ搬入量内訳(堆肥化)'!U13+'ごみ搬入量内訳(飼料化)'!U13+'ごみ搬入量内訳(メタン化)'!U13+'ごみ搬入量内訳(燃料化)'!U13+'ごみ搬入量内訳(セメント)'!U13+'ごみ搬入量内訳(資源化等)'!U13+'ごみ搬入量内訳(その他)'!U13+'ごみ搬入量内訳(直接埋立)'!U13+'ごみ搬入量内訳(海洋投入)'!U13","v":0},{"$f":"'ごみ搬入量内訳(直接資源化)'!V13+'ごみ搬入量内訳(焼却)'!V13+'ごみ搬入量内訳(粗大)'!V13+'ごみ搬入量内訳(堆肥化)'!V13+'ごみ搬入量内訳(飼料化)'!V13+'ごみ搬入量内訳(メタン化)'!V13+'ごみ搬入量内訳(燃料化)'!V13+'ごみ搬入量内訳(セメント)'!V13+'ごみ搬入量内訳(資源化等)'!V13+'ごみ搬入量内訳(その他)'!V13+'ごみ搬入量内訳(直接埋立)'!V13+'ごみ搬入量内訳(海洋投入)'!V13","v":0},{"$f":"'ごみ搬入量内訳(直接資源化)'!W13+'ごみ搬入量内訳(焼却)'!W13+'ごみ搬入量内訳(粗大)'!W13+'ごみ搬入量内訳(堆肥化)'!W13+'ごみ搬入量内訳(飼料化)'!W13+'ごみ搬入量内訳(メタン化)'!W13+'ごみ搬入量内訳(燃料化)'!W13+'ごみ搬入量内訳(セメント)'!W13+'ごみ搬入量内訳(資源化等)'!W13+'ごみ搬入量内訳(その他)'!W13+'ごみ搬入量内訳(直接埋立)'!W13+'ごみ搬入量内訳(海洋投入)'!W13","v":0},{"$f":"'ごみ搬入量内訳(直接資源化)'!X13+'ごみ搬入量内訳(焼却)'!X13+'ごみ搬入量内訳(粗大)'!X13+'ごみ搬入量内訳(堆肥化)'!X13+'ごみ搬入量内訳(飼料化)'!X13+'ごみ搬入量内訳(メタン化)'!X13+'ごみ搬入量内訳(燃料化)'!X13+'ごみ搬入量内訳(セメント)'!X13+'ごみ搬入量内訳(資源化等)'!X13+'ごみ搬入量内訳(その他)'!X13+'ごみ搬入量内訳(直接埋立)'!X13+'ごみ搬入量内訳(海洋投入)'!X13","v":0},{"$f":"'ごみ搬入量内訳(直接資源化)'!Y13+'ごみ搬入量内訳(焼却)'!Y13+'ごみ搬入量内訳(粗大)'!Y13+'ごみ搬入量内訳(堆肥化)'!Y13+'ごみ搬入量内訳(飼料化)'!Y13+'ごみ搬入量内訳(メタン化)'!Y13+'ごみ搬入量内訳(燃料化)'!Y13+'ごみ搬入量内訳(セメント)'!Y13+'ごみ搬入量内訳(資源化等)'!Y13+'ごみ搬入量内訳(その他)'!Y13+'ごみ搬入量内訳(直接埋立)'!Y13+'ごみ搬入量内訳(海洋投入)'!Y13","v":0},{"$f":"'ごみ搬入量内訳(直接資源化)'!Z13+'ごみ搬入量内訳(焼却)'!Z13+'ごみ搬入量内訳(粗大)'!Z13+'ごみ搬入量内訳(堆肥化)'!Z13+'ごみ搬入量内訳(飼料化)'!Z13+'ごみ搬入量内訳(メタン化)'!Z13+'ごみ搬入量内訳(燃料化)'!Z13+'ごみ搬入量内訳(セメント)'!Z13+'ごみ搬入量内訳(資源化等)'!Z13+'ごみ搬入量内訳(その他)'!Z13+'ごみ搬入量内訳(直接埋立)'!Z13+'ごみ搬入量内訳(海洋投入)'!Z13","v":0},{"$f":"'ごみ搬入量内訳(直接資源化)'!AA13+'ごみ搬入量内訳(焼却)'!AA13+'ごみ搬入量内訳(粗大)'!AA13+'ごみ搬入量内訳(堆肥化)'!AA13+'ごみ搬入量内訳(飼料化)'!AA13+'ごみ搬入量内訳(メタン化)'!AA13+'ごみ搬入量内訳(燃料化)'!AA13+'ごみ搬入量内訳(セメント)'!AA13+'ごみ搬入量内訳(資源化等)'!AA13+'ごみ搬入量内訳(その他)'!AA13+'ごみ搬入量内訳(直接埋立)'!AA13+'ごみ搬入量内訳(海洋投入)'!AA13","v":0},{"$f":"'ごみ搬入量内訳(直接資源化)'!AB13+'ごみ搬入量内訳(焼却)'!AB13+'ごみ搬入量内訳(粗大)'!AB13+'ごみ搬入量内訳(堆肥化)'!AB13+'ごみ搬入量内訳(飼料化)'!AB13+'ごみ搬入量内訳(メタン化)'!AB13+'ごみ搬入量内訳(燃料化)'!AB13+'ごみ搬入量内訳(セメント)'!AB13+'ごみ搬入量内訳(資源化等)'!AB13+'ごみ搬入量内訳(その他)'!AB13+'ごみ搬入量内訳(直接埋立)'!AB13+'ごみ搬入量内訳(海洋投入)'!AB13","v":0},{"$f":"'ごみ搬入量内訳(直接資源化)'!AC13+'ごみ搬入量内訳(焼却)'!AC13+'ごみ搬入量内訳(粗大)'!AC13+'ごみ搬入量内訳(堆肥化)'!AC13+'ごみ搬入量内訳(飼料化)'!AC13+'ごみ搬入量内訳(メタン化)'!AC13+'ごみ搬入量内訳(燃料化)'!AC13+'ごみ搬入量内訳(セメント)'!AC13+'ごみ搬入量内訳(資源化等)'!AC13+'ごみ搬入量内訳(その他)'!AC13+'ごみ搬入量内訳(直接埋立)'!AC13+'ごみ搬入量内訳(海洋投入)'!AC13","v":0},{"$f":"'ごみ搬入量内訳(直接資源化)'!AD13+'ごみ搬入量内訳(焼却)'!AD13+'ごみ搬入量内訳(粗大)'!AD13+'ごみ搬入量内訳(堆肥化)'!AD13+'ごみ搬入量内訳(飼料化)'!AD13+'ごみ搬入量内訳(メタン化)'!AD13+'ごみ搬入量内訳(燃料化)'!AD13+'ごみ搬入量内訳(セメント)'!AD13+'ごみ搬入量内訳(資源化等)'!AD13+'ごみ搬入量内訳(その他)'!AD13+'ごみ搬入量内訳(直接埋立)'!AD13+'ごみ搬入量内訳(海洋投入)'!AD13","v":0},{"$f":"'ごみ搬入量内訳(直接資源化)'!AE13+'ごみ搬入量内訳(焼却)'!AE13+'ごみ搬入量内訳(粗大)'!AE13+'ごみ搬入量内訳(堆肥化)'!AE13+'ごみ搬入量内訳(飼料化)'!AE13+'ごみ搬入量内訳(メタン化)'!AE13+'ごみ搬入量内訳(燃料化)'!AE13+'ごみ搬入量内訳(セメント)'!AE13+'ごみ搬入量内訳(資源化等)'!AE13+'ごみ搬入量内訳(その他)'!AE13+'ごみ搬入量内訳(直接埋立)'!AE13+'ごみ搬入量内訳(海洋投入)'!AE13","v":0},{"$f":"'ごみ搬入量内訳(直接資源化)'!AF13+'ごみ搬入量内訳(焼却)'!AF13+'ごみ搬入量内訳(粗大)'!AF13+'ごみ搬入量内訳(堆肥化)'!AF13+'ごみ搬入量内訳(飼料化)'!AF13+'ごみ搬入量内訳(メタン化)'!AF13+'ごみ搬入量内訳(燃料化)'!AF13+'ごみ搬入量内訳(セメント)'!AF13+'ごみ搬入量内訳(資源化等)'!AF13+'ごみ搬入量内訳(その他)'!AF13+'ごみ搬入量内訳(直接埋立)'!AF13+'ごみ搬入量内訳(海洋投入)'!AF13","v":0},{"$f":"'ごみ搬入量内訳(直接資源化)'!AG13+'ごみ搬入量内訳(焼却)'!AG13+'ごみ搬入量内訳(粗大)'!AG13+'ごみ搬入量内訳(堆肥化)'!AG13+'ごみ搬入量内訳(飼料化)'!AG13+'ごみ搬入量内訳(メタン化)'!AG13+'ごみ搬入量内訳(燃料化)'!AG13+'ごみ搬入量内訳(セメント)'!AG13+'ごみ搬入量内訳(資源化等)'!AG13+'ごみ搬入量内訳(その他)'!AG13+'ごみ搬入量内訳(直接埋立)'!AG13+'ごみ搬入量内訳(海洋投入)'!AG13","v":0},{"$f":"'ごみ搬入量内訳(直接資源化)'!AH13+'ごみ搬入量内訳(焼却)'!AH13+'ごみ搬入量内訳(粗大)'!AH13+'ごみ搬入量内訳(堆肥化)'!AH13+'ごみ搬入量内訳(飼料化)'!AH13+'ごみ搬入量内訳(メタン化)'!AH13+'ごみ搬入量内訳(燃料化)'!AH13+'ごみ搬入量内訳(セメント)'!AH13+'ごみ搬入量内訳(資源化等)'!AH13+'ごみ搬入量内訳(その他)'!AH13+'ごみ搬入量内訳(直接埋立)'!AH13+'ごみ搬入量内訳(海洋投入)'!AH13","v":0},{"$f":"'ごみ搬入量内訳(直接資源化)'!AI13+'ごみ搬入量内訳(焼却)'!AI13+'ごみ搬入量内訳(粗大)'!AI13+'ごみ搬入量内訳(堆肥化)'!AI13+'ごみ搬入量内訳(飼料化)'!AI13+'ごみ搬入量内訳(メタン化)'!AI13+'ごみ搬入量内訳(燃料化)'!AI13+'ごみ搬入量内訳(セメント)'!AI13+'ごみ搬入量内訳(資源化等)'!AI13+'ごみ搬入量内訳(その他)'!AI13+'ごみ搬入量内訳(直接埋立)'!AI13+'ごみ搬入量内訳(海洋投入)'!AI13","v":0}]
["秋田県","05209","鹿角市",{"$f":"SUM(E14:AI14)","v":0},{"$f":"'ごみ搬入量内訳(直接資源化)'!E14+'ごみ搬入量内訳(焼却)'!E14+'ごみ搬入量内訳(粗大)'!E14+'ごみ搬入量内訳(堆肥化)'!E14+'ごみ搬入量内訳(飼料化)'!E14+'ごみ搬入量内訳(メタン化)'!E14+'ごみ搬入量内訳(燃料化)'!E14+'ごみ搬入量内訳(セメント)'!E14+'ごみ搬入量内訳(資源化等)'!E14+'ごみ搬入量内訳(その他)'!E14+'ごみ搬入量内訳(直接埋立)'!E14+'ごみ搬入量内訳(海洋投入)'!E14","v":0},{"$f":"'ごみ搬入量内訳(直接資源化)'!F14+'ごみ搬入量内訳(焼却)'!F14+'ごみ搬入量内訳(粗大)'!F14+'ごみ搬入量内訳(堆肥化)'!F14+'ごみ搬入量内訳(飼料化)'!F14+'ごみ搬入量内訳(メタン化)'!F14+'ごみ搬入量内訳(燃料化)'!F14+'ごみ搬入量内訳(セメント)'!F14+'ごみ搬入量内訳(資源化等)'!F14+'ごみ搬入量内訳(その他)'!F14+'ごみ搬入量内訳(直接埋立)'!F14+'ごみ搬入量内訳(海洋投入)'!F14","v":0},{"$f":"'ごみ搬入量内訳(直接資源化)'!G14+'ごみ搬入量内訳(焼却)'!G14+'ごみ搬入量内訳(粗大)'!G14+'ごみ搬入量内訳(堆肥化)'!G14+'ごみ搬入量内訳(飼料化)'!G14+'ごみ搬入量内訳(メタン化)'!G14+'ごみ搬入量内訳(燃料化)'!G14+'ごみ搬入量内訳(セメント)'!G14+'ごみ搬入量内訳(資源化等)'!G14+'ごみ搬入量内訳(その他)'!G14+'ごみ搬入量内訳(直接埋立)'!G14+'ごみ搬入量内訳(海洋投入)'!G14","v":0},{"$f":"'ごみ搬入量内訳(直接資源化)'!H14+'ごみ搬入量内訳(焼却)'!H14+'ごみ搬入量内訳(粗大)'!H14+'ごみ搬入量内訳(堆肥化)'!H14+'ごみ搬入量内訳(飼料化)'!H14+'ごみ搬入量内訳(メタン化)'!H14+'ごみ搬入量内訳(燃料化)'!H14+'ごみ搬入量内訳(セメント)'!H14+'ごみ搬入量内訳(資源化等)'!H14+'ごみ搬入量内訳(その他)'!H14+'ごみ搬入量内訳(直接埋立)'!H14+'ごみ搬入量内訳(海洋投入)'!H14","v":0},{"$f":"'ごみ搬入量内訳(直接資源化)'!I14+'ごみ搬入量内訳(焼却)'!I14+'ごみ搬入量内訳(粗大)'!I14+'ごみ搬入量内訳(堆肥化)'!I14+'ごみ搬入量内訳(飼料化)'!I14+'ごみ搬入量内訳(メタン化)'!I14+'ごみ搬入量内訳(燃料化)'!I14+'ごみ搬入量内訳(セメント)'!I14+'ごみ搬入量内訳(資源化等)'!I14+'ごみ搬入量内訳(その他)'!I14+'ごみ搬入量内訳(直接埋立)'!I14+'ごみ搬入量内訳(海洋投入)'!I14","v":0},{"$f":"'ごみ搬入量内訳(直接資源化)'!J14+'ごみ搬入量内訳(焼却)'!J14+'ごみ搬入量内訳(粗大)'!J14+'ごみ搬入量内訳(堆肥化)'!J14+'ごみ搬入量内訳(飼料化)'!J14+'ごみ搬入量内訳(メタン化)'!J14+'ごみ搬入量内訳(燃料化)'!J14+'ごみ搬入量内訳(セメント)'!J14+'ごみ搬入量内訳(資源化等)'!J14+'ごみ搬入量内訳(その他)'!J14+'ごみ搬入量内訳(直接埋立)'!J14+'ごみ搬入量内訳(海洋投入)'!J14","v":0},{"$f":"'ごみ搬入量内訳(直接資源化)'!K14+'ごみ搬入量内訳(焼却)'!K14+'ごみ搬入量内訳(粗大)'!K14+'ごみ搬入量内訳(堆肥化)'!K14+'ごみ搬入量内訳(飼料化)'!K14+'ごみ搬入量内訳(メタン化)'!K14+'ごみ搬入量内訳(燃料化)'!K14+'ごみ搬入量内訳(セメント)'!K14+'ごみ搬入量内訳(資源化等)'!K14+'ごみ搬入量内訳(その他)'!K14+'ごみ搬入量内訳(直接埋立)'!K14+'ごみ搬入量内訳(海洋投入)'!K14","v":0},{"$f":"'ごみ搬入量内訳(直接資源化)'!L14+'ごみ搬入量内訳(焼却)'!L14+'ごみ搬入量内訳(粗大)'!L14+'ごみ搬入量内訳(堆肥化)'!L14+'ごみ搬入量内訳(飼料化)'!L14+'ごみ搬入量内訳(メタン化)'!L14+'ごみ搬入量内訳(燃料化)'!L14+'ごみ搬入量内訳(セメント)'!L14+'ごみ搬入量内訳(資源化等)'!L14+'ごみ搬入量内訳(その他)'!L14+'ごみ搬入量内訳(直接埋立)'!L14+'ごみ搬入量内訳(海洋投入)'!L14","v":0},{"$f":"'ごみ搬入量内訳(直接資源化)'!M14+'ごみ搬入量内訳(焼却)'!M14+'ごみ搬入量内訳(粗大)'!M14+'ごみ搬入量内訳(堆肥化)'!M14+'ごみ搬入量内訳(飼料化)'!M14+'ごみ搬入量内訳(メタン化)'!M14+'ごみ搬入量内訳(燃料化)'!M14+'ごみ搬入量内訳(セメント)'!M14+'ごみ搬入量内訳(資源化等)'!M14+'ごみ搬入量内訳(その他)'!M14+'ごみ搬入量内訳(直接埋立)'!M14+'ごみ搬入量内訳(海洋投入)'!M14","v":0},{"$f":"'ごみ搬入量内訳(直接資源化)'!N14+'ごみ搬入量内訳(焼却)'!N14+'ごみ搬入量内訳(粗大)'!N14+'ごみ搬入量内訳(堆肥化)'!N14+'ごみ搬入量内訳(飼料化)'!N14+'ごみ搬入量内訳(メタン化)'!N14+'ごみ搬入量内訳(燃料化)'!N14+'ごみ搬入量内訳(セメント)'!N14+'ごみ搬入量内訳(資源化等)'!N14+'ごみ搬入量内訳(その他)'!N14+'ごみ搬入量内訳(直接埋立)'!N14+'ごみ搬入量内訳(海洋投入)'!N14","v":0},{"$f":"'ごみ搬入量内訳(直接資源化)'!O14+'ごみ搬入量内訳(焼却)'!O14+'ごみ搬入量内訳(粗大)'!O14+'ごみ搬入量内訳(堆肥化)'!O14+'ごみ搬入量内訳(飼料化)'!O14+'ごみ搬入量内訳(メタン化)'!O14+'ごみ搬入量内訳(燃料化)'!O14+'ごみ搬入量内訳(セメント)'!O14+'ごみ搬入量内訳(資源化等)'!O14+'ごみ搬入量内訳(その他)'!O14+'ごみ搬入量内訳(直接埋立)'!O14+'ごみ搬入量内訳(海洋投入)'!O14","v":0},{"$f":"'ごみ搬入量内訳(直接資源化)'!P14+'ごみ搬入量内訳(焼却)'!P14+'ごみ搬入量内訳(粗大)'!P14+'ごみ搬入量内訳(堆肥化)'!P14+'ごみ搬入量内訳(飼料化)'!P14+'ごみ搬入量内訳(メタン化)'!P14+'ごみ搬入量内訳(燃料化)'!P14+'ごみ搬入量内訳(セメント)'!P14+'ごみ搬入量内訳(資源化等)'!P14+'ごみ搬入量内訳(その他)'!P14+'ごみ搬入量内訳(直接埋立)'!P14+'ごみ搬入量内訳(海洋投入)'!P14","v":0},{"$f":"'ごみ搬入量内訳(直接資源化)'!Q14+'ごみ搬入量内訳(焼却)'!Q14+'ごみ搬入量内訳(粗大)'!Q14+'ごみ搬入量内訳(堆肥化)'!Q14+'ごみ搬入量内訳(飼料化)'!Q14+'ごみ搬入量内訳(メタン化)'!Q14+'ごみ搬入量内訳(燃料化)'!Q14+'ごみ搬入量内訳(セメント)'!Q14+'ごみ搬入量内訳(資源化等)'!Q14+'ごみ搬入量内訳(その他)'!Q14+'ごみ搬入量内訳(直接埋立)'!Q14+'ごみ搬入量内訳(海洋投入)'!Q14","v":0},{"$f":"'ごみ搬入量内訳(直接資源化)'!R14+'ごみ搬入量内訳(焼却)'!R14+'ごみ搬入量内訳(粗大)'!R14+'ごみ搬入量内訳(堆肥化)'!R14+'ごみ搬入量内訳(飼料化)'!R14+'ごみ搬入量内訳(メタン化)'!R14+'ごみ搬入量内訳(燃料化)'!R14+'ごみ搬入量内訳(セメント)'!R14+'ごみ搬入量内訳(資源化等)'!R14+'ごみ搬入量内訳(その他)'!R14+'ごみ搬入量内訳(直接埋立)'!R14+'ごみ搬入量内訳(海洋投入)'!R14","v":0},{"$f":"'ごみ搬入量内訳(直接資源化)'!S14+'ごみ搬入量内訳(焼却)'!S14+'ごみ搬入量内訳(粗大)'!S14+'ごみ搬入量内訳(堆肥化)'!S14+'ごみ搬入量内訳(飼料化)'!S14+'ごみ搬入量内訳(メタン化)'!S14+'ごみ搬入量内訳(燃料化)'!S14+'ごみ搬入量内訳(セメント)'!S14+'ごみ搬入量内訳(資源化等)'!S14+'ごみ搬入量内訳(その他)'!S14+'ごみ搬入量内訳(直接埋立)'!S14+'ごみ搬入量内訳(海洋投入)'!S14","v":0},{"$f":"'ごみ搬入量内訳(直接資源化)'!T14+'ごみ搬入量内訳(焼却)'!T14+'ごみ搬入量内訳(粗大)'!T14+'ごみ搬入量内訳(堆肥化)'!T14+'ごみ搬入量内訳(飼料化)'!T14+'ごみ搬入量内訳(メタン化)'!T14+'ごみ搬入量内訳(燃料化)'!T14+'ごみ搬入量内訳(セメント)'!T14+'ごみ搬入量内訳(資源化等)'!T14+'ごみ搬入量内訳(その他)'!T14+'ごみ搬入量内訳(直接埋立)'!T14+'ごみ搬入量内訳(海洋投入)'!T14","v":0},{"$f":"'ごみ搬入量内訳(直接資源化)'!U14+'ごみ搬入量内訳(焼却)'!U14+'ごみ搬入量内訳(粗大)'!U14+'ごみ搬入量内訳(堆肥化)'!U14+'ごみ搬入量内訳(飼料化)'!U14+'ごみ搬入量内訳(メタン化)'!U14+'ごみ搬入量内訳(燃料化)'!U14+'ごみ搬入量内訳(セメント)'!U14+'ごみ搬入量内訳(資源化等)'!U14+'ごみ搬入量内訳(その他)'!U14+'ごみ搬入量内訳(直接埋立)'!U14+'ごみ搬入量内訳(海洋投入)'!U14","v":0},{"$f":"'ごみ搬入量内訳(直接資源化)'!V14+'ごみ搬入量内訳(焼却)'!V14+'ごみ搬入量内訳(粗大)'!V14+'ごみ搬入量内訳(堆肥化)'!V14+'ごみ搬入量内訳(飼料化)'!V14+'ごみ搬入量内訳(メタン化)'!V14+'ごみ搬入量内訳(燃料化)'!V14+'ごみ搬入量内訳(セメント)'!V14+'ごみ搬入量内訳(資源化等)'!V14+'ごみ搬入量内訳(その他)'!V14+'ごみ搬入量内訳(直接埋立)'!V14+'ごみ搬入量内訳(海洋投入)'!V14","v":0},{"$f":"'ごみ搬入量内訳(直接資源化)'!W14+'ごみ搬入量内訳(焼却)'!W14+'ごみ搬入量内訳(粗大)'!W14+'ごみ搬入量内訳(堆肥化)'!W14+'ごみ搬入量内訳(飼料化)'!W14+'ごみ搬入量内訳(メタン化)'!W14+'ごみ搬入量内訳(燃料化)'!W14+'ごみ搬入量内訳(セメント)'!W14+'ごみ搬入量内訳(資源化等)'!W14+'ごみ搬入量内訳(その他)'!W14+'ごみ搬入量内訳(直接埋立)'!W14+'ごみ搬入量内訳(海洋投入)'!W14","v":0},{"$f":"'ごみ搬入量内訳(直接資源化)'!X14+'ごみ搬入量内訳(焼却)'!X14+'ごみ搬入量内訳(粗大)'!X14+'ごみ搬入量内訳(堆肥化)'!X14+'ごみ搬入量内訳(飼料化)'!X14+'ごみ搬入量内訳(メタン化)'!X14+'ごみ搬入量内訳(燃料化)'!X14+'ごみ搬入量内訳(セメント)'!X14+'ごみ搬入量内訳(資源化等)'!X14+'ごみ搬入量内訳(その他)'!X14+'ごみ搬入量内訳(直接埋立)'!X14+'ごみ搬入量内訳(海洋投入)'!X14","v":0},{"$f":"'ごみ搬入量内訳(直接資源化)'!Y14+'ごみ搬入量内訳(焼却)'!Y14+'ごみ搬入量内訳(粗大)'!Y14+'ごみ搬入量内訳(堆肥化)'!Y14+'ごみ搬入量内訳(飼料化)'!Y14+'ごみ搬入量内訳(メタン化)'!Y14+'ごみ搬入量内訳(燃料化)'!Y14+'ごみ搬入量内訳(セメント)'!Y14+'ごみ搬入量内訳(資源化等)'!Y14+'ごみ搬入量内訳(その他)'!Y14+'ごみ搬入量内訳(直接埋立)'!Y14+'ごみ搬入量内訳(海洋投入)'!Y14","v":0},{"$f":"'ごみ搬入量内訳(直接資源化)'!Z14+'ごみ搬入量内訳(焼却)'!Z14+'ごみ搬入量内訳(粗大)'!Z14+'ごみ搬入量内訳(堆肥化)'!Z14+'ごみ搬入量内訳(飼料化)'!Z14+'ごみ搬入量内訳(メタン化)'!Z14+'ごみ搬入量内訳(燃料化)'!Z14+'ごみ搬入量内訳(セメント)'!Z14+'ごみ搬入量内訳(資源化等)'!Z14+'ごみ搬入量内訳(その他)'!Z14+'ごみ搬入量内訳(直接埋立)'!Z14+'ごみ搬入量内訳(海洋投入)'!Z14","v":0},{"$f":"'ごみ搬入量内訳(直接資源化)'!AA14+'ごみ搬入量内訳(焼却)'!AA14+'ごみ搬入量内訳(粗大)'!AA14+'ごみ搬入量内訳(堆肥化)'!AA14+'ごみ搬入量内訳(飼料化)'!AA14+'ごみ搬入量内訳(メタン化)'!AA14+'ごみ搬入量内訳(燃料化)'!AA14+'ごみ搬入量内訳(セメント)'!AA14+'ごみ搬入量内訳(資源化等)'!AA14+'ごみ搬入量内訳(その他)'!AA14+'ごみ搬入量内訳(直接埋立)'!AA14+'ごみ搬入量内訳(海洋投入)'!AA14","v":0},{"$f":"'ごみ搬入量内訳(直接資源化)'!AB14+'ごみ搬入量内訳(焼却)'!AB14+'ごみ搬入量内訳(粗大)'!AB14+'ごみ搬入量内訳(堆肥化)'!AB14+'ごみ搬入量内訳(飼料化)'!AB14+'ごみ搬入量内訳(メタン化)'!AB14+'ごみ搬入量内訳(燃料化)'!AB14+'ごみ搬入量内訳(セメント)'!AB14+'ごみ搬入量内訳(資源化等)'!AB14+'ごみ搬入量内訳(その他)'!AB14+'ごみ搬入量内訳(直接埋立)'!AB14+'ごみ搬入量内訳(海洋投入)'!AB14","v":0},{"$f":"'ごみ搬入量内訳(直接資源化)'!AC14+'ごみ搬入量内訳(焼却)'!AC14+'ごみ搬入量内訳(粗大)'!AC14+'ごみ搬入量内訳(堆肥化)'!AC14+'ごみ搬入量内訳(飼料化)'!AC14+'ごみ搬入量内訳(メタン化)'!AC14+'ごみ搬入量内訳(燃料化)'!AC14+'ごみ搬入量内訳(セメント)'!AC14+'ごみ搬入量内訳(資源化等)'!AC14+'ごみ搬入量内訳(その他)'!AC14+'ごみ搬入量内訳(直接埋立)'!AC14+'ごみ搬入量内訳(海洋投入)'!AC14","v":0},{"$f":"'ごみ搬入量内訳(直接資源化)'!AD14+'ごみ搬入量内訳(焼却)'!AD14+'ごみ搬入量内訳(粗大)'!AD14+'ごみ搬入量内訳(堆肥化)'!AD14+'ごみ搬入量内訳(飼料化)'!AD14+'ごみ搬入量内訳(メタン化)'!AD14+'ごみ搬入量内訳(燃料化)'!AD14+'ごみ搬入量内訳(セメント)'!AD14+'ごみ搬入量内訳(資源化等)'!AD14+'ごみ搬入量内訳(その他)'!AD14+'ごみ搬入量内訳(直接埋立)'!AD14+'ごみ搬入量内訳(海洋投入)'!AD14","v":0},{"$f":"'ごみ搬入量内訳(直接資源化)'!AE14+'ごみ搬入量内訳(焼却)'!AE14+'ごみ搬入量内訳(粗大)'!AE14+'ごみ搬入量内訳(堆肥化)'!AE14+'ごみ搬入量内訳(飼料化)'!AE14+'ごみ搬入量内訳(メタン化)'!AE14+'ごみ搬入量内訳(燃料化)'!AE14+'ごみ搬入量内訳(セメント)'!AE14+'ごみ搬入量内訳(資源化等)'!AE14+'ごみ搬入量内訳(その他)'!AE14+'ごみ搬入量内訳(直接埋立)'!AE14+'ごみ搬入量内訳(海洋投入)'!AE14","v":0},{"$f":"'ごみ搬入量内訳(直接資源化)'!AF14+'ごみ搬入量内訳(焼却)'!AF14+'ごみ搬入量内訳(粗大)'!AF14+'ごみ搬入量内訳(堆肥化)'!AF14+'ごみ搬入量内訳(飼料化)'!AF14+'ごみ搬入量内訳(メタン化)'!AF14+'ごみ搬入量内訳(燃料化)'!AF14+'ごみ搬入量内訳(セメント)'!AF14+'ごみ搬入量内訳(資源化等)'!AF14+'ごみ搬入量内訳(その他)'!AF14+'ごみ搬入量内訳(直接埋立)'!AF14+'ごみ搬入量内訳(海洋投入)'!AF14","v":0},{"$f":"'ごみ搬入量内訳(直接資源化)'!AG14+'ごみ搬入量内訳(焼却)'!AG14+'ごみ搬入量内訳(粗大)'!AG14+'ごみ搬入量内訳(堆肥化)'!AG14+'ごみ搬入量内訳(飼料化)'!AG14+'ごみ搬入量内訳(メタン化)'!AG14+'ごみ搬入量内訳(燃料化)'!AG14+'ごみ搬入量内訳(セメント)'!AG14+'ごみ搬入量内訳(資源化等)'!AG14+'ごみ搬入量内訳(その他)'!AG14+'ごみ搬入量内訳(直接埋立)'!AG14+'ごみ搬入量内訳(海洋投入)'!AG14","v":0},{"$f":"'ごみ搬入量内訳(直接資源化)'!AH14+'ごみ搬入量内訳(焼却)'!AH14+'ごみ搬入量内訳(粗大)'!AH14+'ごみ搬入量内訳(堆肥化)'!AH14+'ごみ搬入量内訳(飼料化)'!AH14+'ごみ搬入量内訳(メタン化)'!AH14+'ごみ搬入量内訳(燃料化)'!AH14+'ごみ搬入量内訳(セメント)'!AH14+'ごみ搬入量内訳(資源化等)'!AH14+'ごみ搬入量内訳(その他)'!AH14+'ごみ搬入量内訳(直接埋立)'!AH14+'ごみ搬入量内訳(海洋投入)'!AH14","v":0},{"$f":"'ごみ搬入量内訳(直接資源化)'!AI14+'ごみ搬入量内訳(焼却)'!AI14+'ごみ搬入量内訳(粗大)'!AI14+'ごみ搬入量内訳(堆肥化)'!AI14+'ごみ搬入量内訳(飼料化)'!AI14+'ごみ搬入量内訳(メタン化)'!AI14+'ごみ搬入量内訳(燃料化)'!AI14+'ごみ搬入量内訳(セメント)'!AI14+'ごみ搬入量内訳(資源化等)'!AI14+'ごみ搬入量内訳(その他)'!AI14+'ごみ搬入量内訳(直接埋立)'!AI14+'ごみ搬入量内訳(海洋投入)'!AI14","v":0}]
["秋田県","05210","由利本荘市",{"$f":"SUM(E15:AI15)","v":0},{"$f":"'ごみ搬入量内訳(直接資源化)'!E15+'ごみ搬入量内訳(焼却)'!E15+'ごみ搬入量内訳(粗大)'!E15+'ごみ搬入量内訳(堆肥化)'!E15+'ごみ搬入量内訳(飼料化)'!E15+'ごみ搬入量内訳(メタン化)'!E15+'ごみ搬入量内訳(燃料化)'!E15+'ごみ搬入量内訳(セメント)'!E15+'ごみ搬入量内訳(資源化等)'!E15+'ごみ搬入量内訳(その他)'!E15+'ごみ搬入量内訳(直接埋立)'!E15+'ごみ搬入量内訳(海洋投入)'!E15","v":0},{"$f":"'ごみ搬入量内訳(直接資源化)'!F15+'ごみ搬入量内訳(焼却)'!F15+'ごみ搬入量内訳(粗大)'!F15+'ごみ搬入量内訳(堆肥化)'!F15+'ごみ搬入量内訳(飼料化)'!F15+'ごみ搬入量内訳(メタン化)'!F15+'ごみ搬入量内訳(燃料化)'!F15+'ごみ搬入量内訳(セメント)'!F15+'ごみ搬入量内訳(資源化等)'!F15+'ごみ搬入量内訳(その他)'!F15+'ごみ搬入量内訳(直接埋立)'!F15+'ごみ搬入量内訳(海洋投入)'!F15","v":0},{"$f":"'ごみ搬入量内訳(直接資源化)'!G15+'ごみ搬入量内訳(焼却)'!G15+'ごみ搬入量内訳(粗大)'!G15+'ごみ搬入量内訳(堆肥化)'!G15+'ごみ搬入量内訳(飼料化)'!G15+'ごみ搬入量内訳(メタン化)'!G15+'ごみ搬入量内訳(燃料化)'!G15+'ごみ搬入量内訳(セメント)'!G15+'ごみ搬入量内訳(資源化等)'!G15+'ごみ搬入量内訳(その他)'!G15+'ごみ搬入量内訳(直接埋立)'!G15+'ごみ搬入量内訳(海洋投入)'!G15","v":0},{"$f":"'ごみ搬入量内訳(直接資源化)'!H15+'ごみ搬入量内訳(焼却)'!H15+'ごみ搬入量内訳(粗大)'!H15+'ごみ搬入量内訳(堆肥化)'!H15+'ごみ搬入量内訳(飼料化)'!H15+'ごみ搬入量内訳(メタン化)'!H15+'ごみ搬入量内訳(燃料化)'!H15+'ごみ搬入量内訳(セメント)'!H15+'ごみ搬入量内訳(資源化等)'!H15+'ごみ搬入量内訳(その他)'!H15+'ごみ搬入量内訳(直接埋立)'!H15+'ごみ搬入量内訳(海洋投入)'!H15","v":0},{"$f":"'ごみ搬入量内訳(直接資源化)'!I15+'ごみ搬入量内訳(焼却)'!I15+'ごみ搬入量内訳(粗大)'!I15+'ごみ搬入量内訳(堆肥化)'!I15+'ごみ搬入量内訳(飼料化)'!I15+'ごみ搬入量内訳(メタン化)'!I15+'ごみ搬入量内訳(燃料化)'!I15+'ごみ搬入量内訳(セメント)'!I15+'ごみ搬入量内訳(資源化等)'!I15+'ごみ搬入量内訳(その他)'!I15+'ごみ搬入量内訳(直接埋立)'!I15+'ごみ搬入量内訳(海洋投入)'!I15","v":0},{"$f":"'ごみ搬入量内訳(直接資源化)'!J15+'ごみ搬入量内訳(焼却)'!J15+'ごみ搬入量内訳(粗大)'!J15+'ごみ搬入量内訳(堆肥化)'!J15+'ごみ搬入量内訳(飼料化)'!J15+'ごみ搬入量内訳(メタン化)'!J15+'ごみ搬入量内訳(燃料化)'!J15+'ごみ搬入量内訳(セメント)'!J15+'ごみ搬入量内訳(資源化等)'!J15+'ごみ搬入量内訳(その他)'!J15+'ごみ搬入量内訳(直接埋立)'!J15+'ごみ搬入量内訳(海洋投入)'!J15","v":0},{"$f":"'ごみ搬入量内訳(直接資源化)'!K15+'ごみ搬入量内訳(焼却)'!K15+'ごみ搬入量内訳(粗大)'!K15+'ごみ搬入量内訳(堆肥化)'!K15+'ごみ搬入量内訳(飼料化)'!K15+'ごみ搬入量内訳(メタン化)'!K15+'ごみ搬入量内訳(燃料化)'!K15+'ごみ搬入量内訳(セメント)'!K15+'ごみ搬入量内訳(資源化等)'!K15+'ごみ搬入量内訳(その他)'!K15+'ごみ搬入量内訳(直接埋立)'!K15+'ごみ搬入量内訳(海洋投入)'!K15","v":0},{"$f":"'ごみ搬入量内訳(直接資源化)'!L15+'ごみ搬入量内訳(焼却)'!L15+'ごみ搬入量内訳(粗大)'!L15+'ごみ搬入量内訳(堆肥化)'!L15+'ごみ搬入量内訳(飼料化)'!L15+'ごみ搬入量内訳(メタン化)'!L15+'ごみ搬入量内訳(燃料化)'!L15+'ごみ搬入量内訳(セメント)'!L15+'ごみ搬入量内訳(資源化等)'!L15+'ごみ搬入量内訳(その他)'!L15+'ごみ搬入量内訳(直接埋立)'!L15+'ごみ搬入量内訳(海洋投入)'!L15","v":0},{"$f":"'ごみ搬入量内訳(直接資源化)'!M15+'ごみ搬入量内訳(焼却)'!M15+'ごみ搬入量内訳(粗大)'!M15+'ごみ搬入量内訳(堆肥化)'!M15+'ごみ搬入量内訳(飼料化)'!M15+'ごみ搬入量内訳(メタン化)'!M15+'ごみ搬入量内訳(燃料化)'!M15+'ごみ搬入量内訳(セメント)'!M15+'ごみ搬入量内訳(資源化等)'!M15+'ごみ搬入量内訳(その他)'!M15+'ごみ搬入量内訳(直接埋立)'!M15+'ごみ搬入量内訳(海洋投入)'!M15","v":0},{"$f":"'ごみ搬入量内訳(直接資源化)'!N15+'ごみ搬入量内訳(焼却)'!N15+'ごみ搬入量内訳(粗大)'!N15+'ごみ搬入量内訳(堆肥化)'!N15+'ごみ搬入量内訳(飼料化)'!N15+'ごみ搬入量内訳(メタン化)'!N15+'ごみ搬入量内訳(燃料化)'!N15+'ごみ搬入量内訳(セメント)'!N15+'ごみ搬入量内訳(資源化等)'!N15+'ごみ搬入量内訳(その他)'!N15+'ごみ搬入量内訳(直接埋立)'!N15+'ごみ搬入量内訳(海洋投入)'!N15","v":0},{"$f":"'ごみ搬入量内訳(直接資源化)'!O15+'ごみ搬入量内訳(焼却)'!O15+'ごみ搬入量内訳(粗大)'!O15+'ごみ搬入量内訳(堆肥化)'!O15+'ごみ搬入量内訳(飼料化)'!O15+'ごみ搬入量内訳(メタン化)'!O15+'ごみ搬入量内訳(燃料化)'!O15+'ごみ搬入量内訳(セメント)'!O15+'ごみ搬入量内訳(資源化等)'!O15+'ごみ搬入量内訳(その他)'!O15+'ごみ搬入量内訳(直接埋立)'!O15+'ごみ搬入量内訳(海洋投入)'!O15","v":0},{"$f":"'ごみ搬入量内訳(直接資源化)'!P15+'ごみ搬入量内訳(焼却)'!P15+'ごみ搬入量内訳(粗大)'!P15+'ごみ搬入量内訳(堆肥化)'!P15+'ごみ搬入量内訳(飼料化)'!P15+'ごみ搬入量内訳(メタン化)'!P15+'ごみ搬入量内訳(燃料化)'!P15+'ごみ搬入量内訳(セメント)'!P15+'ごみ搬入量内訳(資源化等)'!P15+'ごみ搬入量内訳(その他)'!P15+'ごみ搬入量内訳(直接埋立)'!P15+'ごみ搬入量内訳(海洋投入)'!P15","v":0},{"$f":"'ごみ搬入量内訳(直接資源化)'!Q15+'ごみ搬入量内訳(焼却)'!Q15+'ごみ搬入量内訳(粗大)'!Q15+'ごみ搬入量内訳(堆肥化)'!Q15+'ごみ搬入量内訳(飼料化)'!Q15+'ごみ搬入量内訳(メタン化)'!Q15+'ごみ搬入量内訳(燃料化)'!Q15+'ごみ搬入量内訳(セメント)'!Q15+'ごみ搬入量内訳(資源化等)'!Q15+'ごみ搬入量内訳(その他)'!Q15+'ごみ搬入量内訳(直接埋立)'!Q15+'ごみ搬入量内訳(海洋投入)'!Q15","v":0},{"$f":"'ごみ搬入量内訳(直接資源化)'!R15+'ごみ搬入量内訳(焼却)'!R15+'ごみ搬入量内訳(粗大)'!R15+'ごみ搬入量内訳(堆肥化)'!R15+'ごみ搬入量内訳(飼料化)'!R15+'ごみ搬入量内訳(メタン化)'!R15+'ごみ搬入量内訳(燃料化)'!R15+'ごみ搬入量内訳(セメント)'!R15+'ごみ搬入量内訳(資源化等)'!R15+'ごみ搬入量内訳(その他)'!R15+'ごみ搬入量内訳(直接埋立)'!R15+'ごみ搬入量内訳(海洋投入)'!R15","v":0},{"$f":"'ごみ搬入量内訳(直接資源化)'!S15+'ごみ搬入量内訳(焼却)'!S15+'ごみ搬入量内訳(粗大)'!S15+'ごみ搬入量内訳(堆肥化)'!S15+'ごみ搬入量内訳(飼料化)'!S15+'ごみ搬入量内訳(メタン化)'!S15+'ごみ搬入量内訳(燃料化)'!S15+'ごみ搬入量内訳(セメント)'!S15+'ごみ搬入量内訳(資源化等)'!S15+'ごみ搬入量内訳(その他)'!S15+'ごみ搬入量内訳(直接埋立)'!S15+'ごみ搬入量内訳(海洋投入)'!S15","v":0},{"$f":"'ごみ搬入量内訳(直接資源化)'!T15+'ごみ搬入量内訳(焼却)'!T15+'ごみ搬入量内訳(粗大)'!T15+'ごみ搬入量内訳(堆肥化)'!T15+'ごみ搬入量内訳(飼料化)'!T15+'ごみ搬入量内訳(メタン化)'!T15+'ごみ搬入量内訳(燃料化)'!T15+'ごみ搬入量内訳(セメント)'!T15+'ごみ搬入量内訳(資源化等)'!T15+'ごみ搬入量内訳(その他)'!T15+'ごみ搬入量内訳(直接埋立)'!T15+'ごみ搬入量内訳(海洋投入)'!T15","v":0},{"$f":"'ごみ搬入量内訳(直接資源化)'!U15+'ごみ搬入量内訳(焼却)'!U15+'ごみ搬入量内訳(粗大)'!U15+'ごみ搬入量内訳(堆肥化)'!U15+'ごみ搬入量内訳(飼料化)'!U15+'ごみ搬入量内訳(メタン化)'!U15+'ごみ搬入量内訳(燃料化)'!U15+'ごみ搬入量内訳(セメント)'!U15+'ごみ搬入量内訳(資源化等)'!U15+'ごみ搬入量内訳(その他)'!U15+'ごみ搬入量内訳(直接埋立)'!U15+'ごみ搬入量内訳(海洋投入)'!U15","v":0},{"$f":"'ごみ搬入量内訳(直接資源化)'!V15+'ごみ搬入量内訳(焼却)'!V15+'ごみ搬入量内訳(粗大)'!V15+'ごみ搬入量内訳(堆肥化)'!V15+'ごみ搬入量内訳(飼料化)'!V15+'ごみ搬入量内訳(メタン化)'!V15+'ごみ搬入量内訳(燃料化)'!V15+'ごみ搬入量内訳(セメント)'!V15+'ごみ搬入量内訳(資源化等)'!V15+'ごみ搬入量内訳(その他)'!V15+'ごみ搬入量内訳(直接埋立)'!V15+'ごみ搬入量内訳(海洋投入)'!V15","v":0},{"$f":"'ごみ搬入量内訳(直接資源化)'!W15+'ごみ搬入量内訳(焼却)'!W15+'ごみ搬入量内訳(粗大)'!W15+'ごみ搬入量内訳(堆肥化)'!W15+'ごみ搬入量内訳(飼料化)'!W15+'ごみ搬入量内訳(メタン化)'!W15+'ごみ搬入量内訳(燃料化)'!W15+'ごみ搬入量内訳(セメント)'!W15+'ごみ搬入量内訳(資源化等)'!W15+'ごみ搬入量内訳(その他)'!W15+'ごみ搬入量内訳(直接埋立)'!W15+'ごみ搬入量内訳(海洋投入)'!W15","v":0},{"$f":"'ごみ搬入量内訳(直接資源化)'!X15+'ごみ搬入量内訳(焼却)'!X15+'ごみ搬入量内訳(粗大)'!X15+'ごみ搬入量内訳(堆肥化)'!X15+'ごみ搬入量内訳(飼料化)'!X15+'ごみ搬入量内訳(メタン化)'!X15+'ごみ搬入量内訳(燃料化)'!X15+'ごみ搬入量内訳(セメント)'!X15+'ごみ搬入量内訳(資源化等)'!X15+'ごみ搬入量内訳(その他)'!X15+'ごみ搬入量内訳(直接埋立)'!X15+'ごみ搬入量内訳(海洋投入)'!X15","v":0},{"$f":"'ごみ搬入量内訳(直接資源化)'!Y15+'ごみ搬入量内訳(焼却)'!Y15+'ごみ搬入量内訳(粗大)'!Y15+'ごみ搬入量内訳(堆肥化)'!Y15+'ごみ搬入量内訳(飼料化)'!Y15+'ごみ搬入量内訳(メタン化)'!Y15+'ごみ搬入量内訳(燃料化)'!Y15+'ごみ搬入量内訳(セメント)'!Y15+'ごみ搬入量内訳(資源化等)'!Y15+'ごみ搬入量内訳(その他)'!Y15+'ごみ搬入量内訳(直接埋立)'!Y15+'ごみ搬入量内訳(海洋投入)'!Y15","v":0},{"$f":"'ごみ搬入量内訳(直接資源化)'!Z15+'ごみ搬入量内訳(焼却)'!Z15+'ごみ搬入量内訳(粗大)'!Z15+'ごみ搬入量内訳(堆肥化)'!Z15+'ごみ搬入量内訳(飼料化)'!Z15+'ごみ搬入量内訳(メタン化)'!Z15+'ごみ搬入量内訳(燃料化)'!Z15+'ごみ搬入量内訳(セメント)'!Z15+'ごみ搬入量内訳(資源化等)'!Z15+'ごみ搬入量内訳(その他)'!Z15+'ごみ搬入量内訳(直接埋立)'!Z15+'ごみ搬入量内訳(海洋投入)'!Z15","v":0},{"$f":"'ごみ搬入量内訳(直接資源化)'!AA15+'ごみ搬入量内訳(焼却)'!AA15+'ごみ搬入量内訳(粗大)'!AA15+'ごみ搬入量内訳(堆肥化)'!AA15+'ごみ搬入量内訳(飼料化)'!AA15+'ごみ搬入量内訳(メタン化)'!AA15+'ごみ搬入量内訳(燃料化)'!AA15+'ごみ搬入量内訳(セメント)'!AA15+'ごみ搬入量内訳(資源化等)'!AA15+'ごみ搬入量内訳(その他)'!AA15+'ごみ搬入量内訳(直接埋立)'!AA15+'ごみ搬入量内訳(海洋投入)'!AA15","v":0},{"$f":"'ごみ搬入量内訳(直接資源化)'!AB15+'ごみ搬入量内訳(焼却)'!AB15+'ごみ搬入量内訳(粗大)'!AB15+'ごみ搬入量内訳(堆肥化)'!AB15+'ごみ搬入量内訳(飼料化)'!AB15+'ごみ搬入量内訳(メタン化)'!AB15+'ごみ搬入量内訳(燃料化)'!AB15+'ごみ搬入量内訳(セメント)'!AB15+'ごみ搬入量内訳(資源化等)'!AB15+'ごみ搬入量内訳(その他)'!AB15+'ごみ搬入量内訳(直接埋立)'!AB15+'ごみ搬入量内訳(海洋投入)'!AB15","v":0},{"$f":"'ごみ搬入量内訳(直接資源化)'!AC15+'ごみ搬入量内訳(焼却)'!AC15+'ごみ搬入量内訳(粗大)'!AC15+'ごみ搬入量内訳(堆肥化)'!AC15+'ごみ搬入量内訳(飼料化)'!AC15+'ごみ搬入量内訳(メタン化)'!AC15+'ごみ搬入量内訳(燃料化)'!AC15+'ごみ搬入量内訳(セメント)'!AC15+'ごみ搬入量内訳(資源化等)'!AC15+'ごみ搬入量内訳(その他)'!AC15+'ごみ搬入量内訳(直接埋立)'!AC15+'ごみ搬入量内訳(海洋投入)'!AC15","v":0},{"$f":"'ごみ搬入量内訳(直接資源化)'!AD15+'ごみ搬入量内訳(焼却)'!AD15+'ごみ搬入量内訳(粗大)'!AD15+'ごみ搬入量内訳(堆肥化)'!AD15+'ごみ搬入量内訳(飼料化)'!AD15+'ごみ搬入量内訳(メタン化)'!AD15+'ごみ搬入量内訳(燃料化)'!AD15+'ごみ搬入量内訳(セメント)'!AD15+'ごみ搬入量内訳(資源化等)'!AD15+'ごみ搬入量内訳(その他)'!AD15+'ごみ搬入量内訳(直接埋立)'!AD15+'ごみ搬入量内訳(海洋投入)'!AD15","v":0},{"$f":"'ごみ搬入量内訳(直接資源化)'!AE15+'ごみ搬入量内訳(焼却)'!AE15+'ごみ搬入量内訳(粗大)'!AE15+'ごみ搬入量内訳(堆肥化)'!AE15+'ごみ搬入量内訳(飼料化)'!AE15+'ごみ搬入量内訳(メタン化)'!AE15+'ごみ搬入量内訳(燃料化)'!AE15+'ごみ搬入量内訳(セメント)'!AE15+'ごみ搬入量内訳(資源化等)'!AE15+'ごみ搬入量内訳(その他)'!AE15+'ごみ搬入量内訳(直接埋立)'!AE15+'ごみ搬入量内訳(海洋投入)'!AE15","v":0},{"$f":"'ごみ搬入量内訳(直接資源化)'!AF15+'ごみ搬入量内訳(焼却)'!AF15+'ごみ搬入量内訳(粗大)'!AF15+'ごみ搬入量内訳(堆肥化)'!AF15+'ごみ搬入量内訳(飼料化)'!AF15+'ごみ搬入量内訳(メタン化)'!AF15+'ごみ搬入量内訳(燃料化)'!AF15+'ごみ搬入量内訳(セメント)'!AF15+'ごみ搬入量内訳(資源化等)'!AF15+'ごみ搬入量内訳(その他)'!AF15+'ごみ搬入量内訳(直接埋立)'!AF15+'ごみ搬入量内訳(海洋投入)'!AF15","v":0},{"$f":"'ごみ搬入量内訳(直接資源化)'!AG15+'ごみ搬入量内訳(焼却)'!AG15+'ごみ搬入量内訳(粗大)'!AG15+'ごみ搬入量内訳(堆肥化)'!AG15+'ごみ搬入量内訳(飼料化)'!AG15+'ごみ搬入量内訳(メタン化)'!AG15+'ごみ搬入量内訳(燃料化)'!AG15+'ごみ搬入量内訳(セメント)'!AG15+'ごみ搬入量内訳(資源化等)'!AG15+'ごみ搬入量内訳(その他)'!AG15+'ごみ搬入量内訳(直接埋立)'!AG15+'ごみ搬入量内訳(海洋投入)'!AG15","v":0},{"$f":"'ごみ搬入量内訳(直接資源化)'!AH15+'ごみ搬入量内訳(焼却)'!AH15+'ごみ搬入量内訳(粗大)'!AH15+'ごみ搬入量内訳(堆肥化)'!AH15+'ごみ搬入量内訳(飼料化)'!AH15+'ごみ搬入量内訳(メタン化)'!AH15+'ごみ搬入量内訳(燃料化)'!AH15+'ごみ搬入量内訳(セメント)'!AH15+'ごみ搬入量内訳(資源化等)'!AH15+'ごみ搬入量内訳(その他)'!AH15+'ごみ搬入量内訳(直接埋立)'!AH15+'ごみ搬入量内訳(海洋投入)'!AH15","v":0},{"$f":"'ごみ搬入量内訳(直接資源化)'!AI15+'ごみ搬入量内訳(焼却)'!AI15+'ごみ搬入量内訳(粗大)'!AI15+'ごみ搬入量内訳(堆肥化)'!AI15+'ごみ搬入量内訳(飼料化)'!AI15+'ごみ搬入量内訳(メタン化)'!AI15+'ごみ搬入量内訳(燃料化)'!AI15+'ごみ搬入量内訳(セメント)'!AI15+'ごみ搬入量内訳(資源化等)'!AI15+'ごみ搬入量内訳(その他)'!AI15+'ごみ搬入量内訳(直接埋立)'!AI15+'ごみ搬入量内訳(海洋投入)'!AI15","v":0}]
["秋田県","05211","潟上市",{"$f":"SUM(E16:AI16)","v":0},{"$f":"'ごみ搬入量内訳(直接資源化)'!E16+'ごみ搬入量内訳(焼却)'!E16+'ごみ搬入量内訳(粗大)'!E16+'ごみ搬入量内訳(堆肥化)'!E16+'ごみ搬入量内訳(飼料化)'!E16+'ごみ搬入量内訳(メタン化)'!E16+'ごみ搬入量内訳(燃料化)'!E16+'ごみ搬入量内訳(セメント)'!E16+'ごみ搬入量内訳(資源化等)'!E16+'ごみ搬入量内訳(その他)'!E16+'ごみ搬入量内訳(直接埋立)'!E16+'ごみ搬入量内訳(海洋投入)'!E16","v":0},{"$f":"'ごみ搬入量内訳(直接資源化)'!F16+'ごみ搬入量内訳(焼却)'!F16+'ごみ搬入量内訳(粗大)'!F16+'ごみ搬入量内訳(堆肥化)'!F16+'ごみ搬入量内訳(飼料化)'!F16+'ごみ搬入量内訳(メタン化)'!F16+'ごみ搬入量内訳(燃料化)'!F16+'ごみ搬入量内訳(セメント)'!F16+'ごみ搬入量内訳(資源化等)'!F16+'ごみ搬入量内訳(その他)'!F16+'ごみ搬入量内訳(直接埋立)'!F16+'ごみ搬入量内訳(海洋投入)'!F16","v":0},{"$f":"'ごみ搬入量内訳(直接資源化)'!G16+'ごみ搬入量内訳(焼却)'!G16+'ごみ搬入量内訳(粗大)'!G16+'ごみ搬入量内訳(堆肥化)'!G16+'ごみ搬入量内訳(飼料化)'!G16+'ごみ搬入量内訳(メタン化)'!G16+'ごみ搬入量内訳(燃料化)'!G16+'ごみ搬入量内訳(セメント)'!G16+'ごみ搬入量内訳(資源化等)'!G16+'ごみ搬入量内訳(その他)'!G16+'ごみ搬入量内訳(直接埋立)'!G16+'ごみ搬入量内訳(海洋投入)'!G16","v":0},{"$f":"'ごみ搬入量内訳(直接資源化)'!H16+'ごみ搬入量内訳(焼却)'!H16+'ごみ搬入量内訳(粗大)'!H16+'ごみ搬入量内訳(堆肥化)'!H16+'ごみ搬入量内訳(飼料化)'!H16+'ごみ搬入量内訳(メタン化)'!H16+'ごみ搬入量内訳(燃料化)'!H16+'ごみ搬入量内訳(セメント)'!H16+'ごみ搬入量内訳(資源化等)'!H16+'ごみ搬入量内訳(その他)'!H16+'ごみ搬入量内訳(直接埋立)'!H16+'ごみ搬入量内訳(海洋投入)'!H16","v":0},{"$f":"'ごみ搬入量内訳(直接資源化)'!I16+'ごみ搬入量内訳(焼却)'!I16+'ごみ搬入量内訳(粗大)'!I16+'ごみ搬入量内訳(堆肥化)'!I16+'ごみ搬入量内訳(飼料化)'!I16+'ごみ搬入量内訳(メタン化)'!I16+'ごみ搬入量内訳(燃料化)'!I16+'ごみ搬入量内訳(セメント)'!I16+'ごみ搬入量内訳(資源化等)'!I16+'ごみ搬入量内訳(その他)'!I16+'ごみ搬入量内訳(直接埋立)'!I16+'ごみ搬入量内訳(海洋投入)'!I16","v":0},{"$f":"'ごみ搬入量内訳(直接資源化)'!J16+'ごみ搬入量内訳(焼却)'!J16+'ごみ搬入量内訳(粗大)'!J16+'ごみ搬入量内訳(堆肥化)'!J16+'ごみ搬入量内訳(飼料化)'!J16+'ごみ搬入量内訳(メタン化)'!J16+'ごみ搬入量内訳(燃料化)'!J16+'ごみ搬入量内訳(セメント)'!J16+'ごみ搬入量内訳(資源化等)'!J16+'ごみ搬入量内訳(その他)'!J16+'ごみ搬入量内訳(直接埋立)'!J16+'ごみ搬入量内訳(海洋投入)'!J16","v":0},{"$f":"'ごみ搬入量内訳(直接資源化)'!K16+'ごみ搬入量内訳(焼却)'!K16+'ごみ搬入量内訳(粗大)'!K16+'ごみ搬入量内訳(堆肥化)'!K16+'ごみ搬入量内訳(飼料化)'!K16+'ごみ搬入量内訳(メタン化)'!K16+'ごみ搬入量内訳(燃料化)'!K16+'ごみ搬入量内訳(セメント)'!K16+'ごみ搬入量内訳(資源化等)'!K16+'ごみ搬入量内訳(その他)'!K16+'ごみ搬入量内訳(直接埋立)'!K16+'ごみ搬入量内訳(海洋投入)'!K16","v":0},{"$f":"'ごみ搬入量内訳(直接資源化)'!L16+'ごみ搬入量内訳(焼却)'!L16+'ごみ搬入量内訳(粗大)'!L16+'ごみ搬入量内訳(堆肥化)'!L16+'ごみ搬入量内訳(飼料化)'!L16+'ごみ搬入量内訳(メタン化)'!L16+'ごみ搬入量内訳(燃料化)'!L16+'ごみ搬入量内訳(セメント)'!L16+'ごみ搬入量内訳(資源化等)'!L16+'ごみ搬入量内訳(その他)'!L16+'ごみ搬入量内訳(直接埋立)'!L16+'ごみ搬入量内訳(海洋投入)'!L16","v":0},{"$f":"'ごみ搬入量内訳(直接資源化)'!M16+'ごみ搬入量内訳(焼却)'!M16+'ごみ搬入量内訳(粗大)'!M16+'ごみ搬入量内訳(堆肥化)'!M16+'ごみ搬入量内訳(飼料化)'!M16+'ごみ搬入量内訳(メタン化)'!M16+'ごみ搬入量内訳(燃料化)'!M16+'ごみ搬入量内訳(セメント)'!M16+'ごみ搬入量内訳(資源化等)'!M16+'ごみ搬入量内訳(その他)'!M16+'ごみ搬入量内訳(直接埋立)'!M16+'ごみ搬入量内訳(海洋投入)'!M16","v":0},{"$f":"'ごみ搬入量内訳(直接資源化)'!N16+'ごみ搬入量内訳(焼却)'!N16+'ごみ搬入量内訳(粗大)'!N16+'ごみ搬入量内訳(堆肥化)'!N16+'ごみ搬入量内訳(飼料化)'!N16+'ごみ搬入量内訳(メタン化)'!N16+'ごみ搬入量内訳(燃料化)'!N16+'ごみ搬入量内訳(セメント)'!N16+'ごみ搬入量内訳(資源化等)'!N16+'ごみ搬入量内訳(その他)'!N16+'ごみ搬入量内訳(直接埋立)'!N16+'ごみ搬入量内訳(海洋投入)'!N16","v":0},{"$f":"'ごみ搬入量内訳(直接資源化)'!O16+'ごみ搬入量内訳(焼却)'!O16+'ごみ搬入量内訳(粗大)'!O16+'ごみ搬入量内訳(堆肥化)'!O16+'ごみ搬入量内訳(飼料化)'!O16+'ごみ搬入量内訳(メタン化)'!O16+'ごみ搬入量内訳(燃料化)'!O16+'ごみ搬入量内訳(セメント)'!O16+'ごみ搬入量内訳(資源化等)'!O16+'ごみ搬入量内訳(その他)'!O16+'ごみ搬入量内訳(直接埋立)'!O16+'ごみ搬入量内訳(海洋投入)'!O16","v":0},{"$f":"'ごみ搬入量内訳(直接資源化)'!P16+'ごみ搬入量内訳(焼却)'!P16+'ごみ搬入量内訳(粗大)'!P16+'ごみ搬入量内訳(堆肥化)'!P16+'ごみ搬入量内訳(飼料化)'!P16+'ごみ搬入量内訳(メタン化)'!P16+'ごみ搬入量内訳(燃料化)'!P16+'ごみ搬入量内訳(セメント)'!P16+'ごみ搬入量内訳(資源化等)'!P16+'ごみ搬入量内訳(その他)'!P16+'ごみ搬入量内訳(直接埋立)'!P16+'ごみ搬入量内訳(海洋投入)'!P16","v":0},{"$f":"'ごみ搬入量内訳(直接資源化)'!Q16+'ごみ搬入量内訳(焼却)'!Q16+'ごみ搬入量内訳(粗大)'!Q16+'ごみ搬入量内訳(堆肥化)'!Q16+'ごみ搬入量内訳(飼料化)'!Q16+'ごみ搬入量内訳(メタン化)'!Q16+'ごみ搬入量内訳(燃料化)'!Q16+'ごみ搬入量内訳(セメント)'!Q16+'ごみ搬入量内訳(資源化等)'!Q16+'ごみ搬入量内訳(その他)'!Q16+'ごみ搬入量内訳(直接埋立)'!Q16+'ごみ搬入量内訳(海洋投入)'!Q16","v":0},{"$f":"'ごみ搬入量内訳(直接資源化)'!R16+'ごみ搬入量内訳(焼却)'!R16+'ごみ搬入量内訳(粗大)'!R16+'ごみ搬入量内訳(堆肥化)'!R16+'ごみ搬入量内訳(飼料化)'!R16+'ごみ搬入量内訳(メタン化)'!R16+'ごみ搬入量内訳(燃料化)'!R16+'ごみ搬入量内訳(セメント)'!R16+'ごみ搬入量内訳(資源化等)'!R16+'ごみ搬入量内訳(その他)'!R16+'ごみ搬入量内訳(直接埋立)'!R16+'ごみ搬入量内訳(海洋投入)'!R16","v":0},{"$f":"'ごみ搬入量内訳(直接資源化)'!S16+'ごみ搬入量内訳(焼却)'!S16+'ごみ搬入量内訳(粗大)'!S16+'ごみ搬入量内訳(堆肥化)'!S16+'ごみ搬入量内訳(飼料化)'!S16+'ごみ搬入量内訳(メタン化)'!S16+'ごみ搬入量内訳(燃料化)'!S16+'ごみ搬入量内訳(セメント)'!S16+'ごみ搬入量内訳(資源化等)'!S16+'ごみ搬入量内訳(その他)'!S16+'ごみ搬入量内訳(直接埋立)'!S16+'ごみ搬入量内訳(海洋投入)'!S16","v":0},{"$f":"'ごみ搬入量内訳(直接資源化)'!T16+'ごみ搬入量内訳(焼却)'!T16+'ごみ搬入量内訳(粗大)'!T16+'ごみ搬入量内訳(堆肥化)'!T16+'ごみ搬入量内訳(飼料化)'!T16+'ごみ搬入量内訳(メタン化)'!T16+'ごみ搬入量内訳(燃料化)'!T16+'ごみ搬入量内訳(セメント)'!T16+'ごみ搬入量内訳(資源化等)'!T16+'ごみ搬入量内訳(その他)'!T16+'ごみ搬入量内訳(直接埋立)'!T16+'ごみ搬入量内訳(海洋投入)'!T16","v":0},{"$f":"'ごみ搬入量内訳(直接資源化)'!U16+'ごみ搬入量内訳(焼却)'!U16+'ごみ搬入量内訳(粗大)'!U16+'ごみ搬入量内訳(堆肥化)'!U16+'ごみ搬入量内訳(飼料化)'!U16+'ごみ搬入量内訳(メタン化)'!U16+'ごみ搬入量内訳(燃料化)'!U16+'ごみ搬入量内訳(セメント)'!U16+'ごみ搬入量内訳(資源化等)'!U16+'ごみ搬入量内訳(その他)'!U16+'ごみ搬入量内訳(直接埋立)'!U16+'ごみ搬入量内訳(海洋投入)'!U16","v":0},{"$f":"'ごみ搬入量内訳(直接資源化)'!V16+'ごみ搬入量内訳(焼却)'!V16+'ごみ搬入量内訳(粗大)'!V16+'ごみ搬入量内訳(堆肥化)'!V16+'ごみ搬入量内訳(飼料化)'!V16+'ごみ搬入量内訳(メタン化)'!V16+'ごみ搬入量内訳(燃料化)'!V16+'ごみ搬入量内訳(セメント)'!V16+'ごみ搬入量内訳(資源化等)'!V16+'ごみ搬入量内訳(その他)'!V16+'ごみ搬入量内訳(直接埋立)'!V16+'ごみ搬入量内訳(海洋投入)'!V16","v":0},{"$f":"'ごみ搬入量内訳(直接資源化)'!W16+'ごみ搬入量内訳(焼却)'!W16+'ごみ搬入量内訳(粗大)'!W16+'ごみ搬入量内訳(堆肥化)'!W16+'ごみ搬入量内訳(飼料化)'!W16+'ごみ搬入量内訳(メタン化)'!W16+'ごみ搬入量内訳(燃料化)'!W16+'ごみ搬入量内訳(セメント)'!W16+'ごみ搬入量内訳(資源化等)'!W16+'ごみ搬入量内訳(その他)'!W16+'ごみ搬入量内訳(直接埋立)'!W16+'ごみ搬入量内訳(海洋投入)'!W16","v":0},{"$f":"'ごみ搬入量内訳(直接資源化)'!X16+'ごみ搬入量内訳(焼却)'!X16+'ごみ搬入量内訳(粗大)'!X16+'ごみ搬入量内訳(堆肥化)'!X16+'ごみ搬入量内訳(飼料化)'!X16+'ごみ搬入量内訳(メタン化)'!X16+'ごみ搬入量内訳(燃料化)'!X16+'ごみ搬入量内訳(セメント)'!X16+'ごみ搬入量内訳(資源化等)'!X16+'ごみ搬入量内訳(その他)'!X16+'ごみ搬入量内訳(直接埋立)'!X16+'ごみ搬入量内訳(海洋投入)'!X16","v":0},{"$f":"'ごみ搬入量内訳(直接資源化)'!Y16+'ごみ搬入量内訳(焼却)'!Y16+'ごみ搬入量内訳(粗大)'!Y16+'ごみ搬入量内訳(堆肥化)'!Y16+'ごみ搬入量内訳(飼料化)'!Y16+'ごみ搬入量内訳(メタン化)'!Y16+'ごみ搬入量内訳(燃料化)'!Y16+'ごみ搬入量内訳(セメント)'!Y16+'ごみ搬入量内訳(資源化等)'!Y16+'ごみ搬入量内訳(その他)'!Y16+'ごみ搬入量内訳(直接埋立)'!Y16+'ごみ搬入量内訳(海洋投入)'!Y16","v":0},{"$f":"'ごみ搬入量内訳(直接資源化)'!Z16+'ごみ搬入量内訳(焼却)'!Z16+'ごみ搬入量内訳(粗大)'!Z16+'ごみ搬入量内訳(堆肥化)'!Z16+'ごみ搬入量内訳(飼料化)'!Z16+'ごみ搬入量内訳(メタン化)'!Z16+'ごみ搬入量内訳(燃料化)'!Z16+'ごみ搬入量内訳(セメント)'!Z16+'ごみ搬入量内訳(資源化等)'!Z16+'ごみ搬入量内訳(その他)'!Z16+'ごみ搬入量内訳(直接埋立)'!Z16+'ごみ搬入量内訳(海洋投入)'!Z16","v":0},{"$f":"'ごみ搬入量内訳(直接資源化)'!AA16+'ごみ搬入量内訳(焼却)'!AA16+'ごみ搬入量内訳(粗大)'!AA16+'ごみ搬入量内訳(堆肥化)'!AA16+'ごみ搬入量内訳(飼料化)'!AA16+'ごみ搬入量内訳(メタン化)'!AA16+'ごみ搬入量内訳(燃料化)'!AA16+'ごみ搬入量内訳(セメント)'!AA16+'ごみ搬入量内訳(資源化等)'!AA16+'ごみ搬入量内訳(その他)'!AA16+'ごみ搬入量内訳(直接埋立)'!AA16+'ごみ搬入量内訳(海洋投入)'!AA16","v":0},{"$f":"'ごみ搬入量内訳(直接資源化)'!AB16+'ごみ搬入量内訳(焼却)'!AB16+'ごみ搬入量内訳(粗大)'!AB16+'ごみ搬入量内訳(堆肥化)'!AB16+'ごみ搬入量内訳(飼料化)'!AB16+'ごみ搬入量内訳(メタン化)'!AB16+'ごみ搬入量内訳(燃料化)'!AB16+'ごみ搬入量内訳(セメント)'!AB16+'ごみ搬入量内訳(資源化等)'!AB16+'ごみ搬入量内訳(その他)'!AB16+'ごみ搬入量内訳(直接埋立)'!AB16+'ごみ搬入量内訳(海洋投入)'!AB16","v":0},{"$f":"'ごみ搬入量内訳(直接資源化)'!AC16+'ごみ搬入量内訳(焼却)'!AC16+'ごみ搬入量内訳(粗大)'!AC16+'ごみ搬入量内訳(堆肥化)'!AC16+'ごみ搬入量内訳(飼料化)'!AC16+'ごみ搬入量内訳(メタン化)'!AC16+'ごみ搬入量内訳(燃料化)'!AC16+'ごみ搬入量内訳(セメント)'!AC16+'ごみ搬入量内訳(資源化等)'!AC16+'ごみ搬入量内訳(その他)'!AC16+'ごみ搬入量内訳(直接埋立)'!AC16+'ごみ搬入量内訳(海洋投入)'!AC16","v":0},{"$f":"'ごみ搬入量内訳(直接資源化)'!AD16+'ごみ搬入量内訳(焼却)'!AD16+'ごみ搬入量内訳(粗大)'!AD16+'ごみ搬入量内訳(堆肥化)'!AD16+'ごみ搬入量内訳(飼料化)'!AD16+'ごみ搬入量内訳(メタン化)'!AD16+'ごみ搬入量内訳(燃料化)'!AD16+'ごみ搬入量内訳(セメント)'!AD16+'ごみ搬入量内訳(資源化等)'!AD16+'ごみ搬入量内訳(その他)'!AD16+'ごみ搬入量内訳(直接埋立)'!AD16+'ごみ搬入量内訳(海洋投入)'!AD16","v":0},{"$f":"'ごみ搬入量内訳(直接資源化)'!AE16+'ごみ搬入量内訳(焼却)'!AE16+'ごみ搬入量内訳(粗大)'!AE16+'ごみ搬入量内訳(堆肥化)'!AE16+'ごみ搬入量内訳(飼料化)'!AE16+'ごみ搬入量内訳(メタン化)'!AE16+'ごみ搬入量内訳(燃料化)'!AE16+'ごみ搬入量内訳(セメント)'!AE16+'ごみ搬入量内訳(資源化等)'!AE16+'ごみ搬入量内訳(その他)'!AE16+'ごみ搬入量内訳(直接埋立)'!AE16+'ごみ搬入量内訳(海洋投入)'!AE16","v":0},{"$f":"'ごみ搬入量内訳(直接資源化)'!AF16+'ごみ搬入量内訳(焼却)'!AF16+'ごみ搬入量内訳(粗大)'!AF16+'ごみ搬入量内訳(堆肥化)'!AF16+'ごみ搬入量内訳(飼料化)'!AF16+'ごみ搬入量内訳(メタン化)'!AF16+'ごみ搬入量内訳(燃料化)'!AF16+'ごみ搬入量内訳(セメント)'!AF16+'ごみ搬入量内訳(資源化等)'!AF16+'ごみ搬入量内訳(その他)'!AF16+'ごみ搬入量内訳(直接埋立)'!AF16+'ごみ搬入量内訳(海洋投入)'!AF16","v":0},{"$f":"'ごみ搬入量内訳(直接資源化)'!AG16+'ごみ搬入量内訳(焼却)'!AG16+'ごみ搬入量内訳(粗大)'!AG16+'ごみ搬入量内訳(堆肥化)'!AG16+'ごみ搬入量内訳(飼料化)'!AG16+'ごみ搬入量内訳(メタン化)'!AG16+'ごみ搬入量内訳(燃料化)'!AG16+'ごみ搬入量内訳(セメント)'!AG16+'ごみ搬入量内訳(資源化等)'!AG16+'ごみ搬入量内訳(その他)'!AG16+'ごみ搬入量内訳(直接埋立)'!AG16+'ごみ搬入量内訳(海洋投入)'!AG16","v":0},{"$f":"'ごみ搬入量内訳(直接資源化)'!AH16+'ごみ搬入量内訳(焼却)'!AH16+'ごみ搬入量内訳(粗大)'!AH16+'ごみ搬入量内訳(堆肥化)'!AH16+'ごみ搬入量内訳(飼料化)'!AH16+'ごみ搬入量内訳(メタン化)'!AH16+'ごみ搬入量内訳(燃料化)'!AH16+'ごみ搬入量内訳(セメント)'!AH16+'ごみ搬入量内訳(資源化等)'!AH16+'ごみ搬入量内訳(その他)'!AH16+'ごみ搬入量内訳(直接埋立)'!AH16+'ごみ搬入量内訳(海洋投入)'!AH16","v":0},{"$f":"'ごみ搬入量内訳(直接資源化)'!AI16+'ごみ搬入量内訳(焼却)'!AI16+'ごみ搬入量内訳(粗大)'!AI16+'ごみ搬入量内訳(堆肥化)'!AI16+'ごみ搬入量内訳(飼料化)'!AI16+'ごみ搬入量内訳(メタン化)'!AI16+'ごみ搬入量内訳(燃料化)'!AI16+'ごみ搬入量内訳(セメント)'!AI16+'ごみ搬入量内訳(資源化等)'!AI16+'ごみ搬入量内訳(その他)'!AI16+'ごみ搬入量内訳(直接埋立)'!AI16+'ごみ搬入量内訳(海洋投入)'!AI16","v":0}]
["秋田県","05212","大仙市",{"$f":"SUM(E17:AI17)","v":0},{"$f":"'ごみ搬入量内訳(直接資源化)'!E17+'ごみ搬入量内訳(焼却)'!E17+'ごみ搬入量内訳(粗大)'!E17+'ごみ搬入量内訳(堆肥化)'!E17+'ごみ搬入量内訳(飼料化)'!E17+'ごみ搬入量内訳(メタン化)'!E17+'ごみ搬入量内訳(燃料化)'!E17+'ごみ搬入量内訳(セメント)'!E17+'ごみ搬入量内訳(資源化等)'!E17+'ごみ搬入量内訳(その他)'!E17+'ごみ搬入量内訳(直接埋立)'!E17+'ごみ搬入量内訳(海洋投入)'!E17","v":0},{"$f":"'ごみ搬入量内訳(直接資源化)'!F17+'ごみ搬入量内訳(焼却)'!F17+'ごみ搬入量内訳(粗大)'!F17+'ごみ搬入量内訳(堆肥化)'!F17+'ごみ搬入量内訳(飼料化)'!F17+'ごみ搬入量内訳(メタン化)'!F17+'ごみ搬入量内訳(燃料化)'!F17+'ごみ搬入量内訳(セメント)'!F17+'ごみ搬入量内訳(資源化等)'!F17+'ごみ搬入量内訳(その他)'!F17+'ごみ搬入量内訳(直接埋立)'!F17+'ごみ搬入量内訳(海洋投入)'!F17","v":0},{"$f":"'ごみ搬入量内訳(直接資源化)'!G17+'ごみ搬入量内訳(焼却)'!G17+'ごみ搬入量内訳(粗大)'!G17+'ごみ搬入量内訳(堆肥化)'!G17+'ごみ搬入量内訳(飼料化)'!G17+'ごみ搬入量内訳(メタン化)'!G17+'ごみ搬入量内訳(燃料化)'!G17+'ごみ搬入量内訳(セメント)'!G17+'ごみ搬入量内訳(資源化等)'!G17+'ごみ搬入量内訳(その他)'!G17+'ごみ搬入量内訳(直接埋立)'!G17+'ごみ搬入量内訳(海洋投入)'!G17","v":0},{"$f":"'ごみ搬入量内訳(直接資源化)'!H17+'ごみ搬入量内訳(焼却)'!H17+'ごみ搬入量内訳(粗大)'!H17+'ごみ搬入量内訳(堆肥化)'!H17+'ごみ搬入量内訳(飼料化)'!H17+'ごみ搬入量内訳(メタン化)'!H17+'ごみ搬入量内訳(燃料化)'!H17+'ごみ搬入量内訳(セメント)'!H17+'ごみ搬入量内訳(資源化等)'!H17+'ごみ搬入量内訳(その他)'!H17+'ごみ搬入量内訳(直接埋立)'!H17+'ごみ搬入量内訳(海洋投入)'!H17","v":0},{"$f":"'ごみ搬入量内訳(直接資源化)'!I17+'ごみ搬入量内訳(焼却)'!I17+'ごみ搬入量内訳(粗大)'!I17+'ごみ搬入量内訳(堆肥化)'!I17+'ごみ搬入量内訳(飼料化)'!I17+'ごみ搬入量内訳(メタン化)'!I17+'ごみ搬入量内訳(燃料化)'!I17+'ごみ搬入量内訳(セメント)'!I17+'ごみ搬入量内訳(資源化等)'!I17+'ごみ搬入量内訳(その他)'!I17+'ごみ搬入量内訳(直接埋立)'!I17+'ごみ搬入量内訳(海洋投入)'!I17","v":0},{"$f":"'ごみ搬入量内訳(直接資源化)'!J17+'ごみ搬入量内訳(焼却)'!J17+'ごみ搬入量内訳(粗大)'!J17+'ごみ搬入量内訳(堆肥化)'!J17+'ごみ搬入量内訳(飼料化)'!J17+'ごみ搬入量内訳(メタン化)'!J17+'ごみ搬入量内訳(燃料化)'!J17+'ごみ搬入量内訳(セメント)'!J17+'ごみ搬入量内訳(資源化等)'!J17+'ごみ搬入量内訳(その他)'!J17+'ごみ搬入量内訳(直接埋立)'!J17+'ごみ搬入量内訳(海洋投入)'!J17","v":0},{"$f":"'ごみ搬入量内訳(直接資源化)'!K17+'ごみ搬入量内訳(焼却)'!K17+'ごみ搬入量内訳(粗大)'!K17+'ごみ搬入量内訳(堆肥化)'!K17+'ごみ搬入量内訳(飼料化)'!K17+'ごみ搬入量内訳(メタン化)'!K17+'ごみ搬入量内訳(燃料化)'!K17+'ごみ搬入量内訳(セメント)'!K17+'ごみ搬入量内訳(資源化等)'!K17+'ごみ搬入量内訳(その他)'!K17+'ごみ搬入量内訳(直接埋立)'!K17+'ごみ搬入量内訳(海洋投入)'!K17","v":0},{"$f":"'ごみ搬入量内訳(直接資源化)'!L17+'ごみ搬入量内訳(焼却)'!L17+'ごみ搬入量内訳(粗大)'!L17+'ごみ搬入量内訳(堆肥化)'!L17+'ごみ搬入量内訳(飼料化)'!L17+'ごみ搬入量内訳(メタン化)'!L17+'ごみ搬入量内訳(燃料化)'!L17+'ごみ搬入量内訳(セメント)'!L17+'ごみ搬入量内訳(資源化等)'!L17+'ごみ搬入量内訳(その他)'!L17+'ごみ搬入量内訳(直接埋立)'!L17+'ごみ搬入量内訳(海洋投入)'!L17","v":0},{"$f":"'ごみ搬入量内訳(直接資源化)'!M17+'ごみ搬入量内訳(焼却)'!M17+'ごみ搬入量内訳(粗大)'!M17+'ごみ搬入量内訳(堆肥化)'!M17+'ごみ搬入量内訳(飼料化)'!M17+'ごみ搬入量内訳(メタン化)'!M17+'ごみ搬入量内訳(燃料化)'!M17+'ごみ搬入量内訳(セメント)'!M17+'ごみ搬入量内訳(資源化等)'!M17+'ごみ搬入量内訳(その他)'!M17+'ごみ搬入量内訳(直接埋立)'!M17+'ごみ搬入量内訳(海洋投入)'!M17","v":0},{"$f":"'ごみ搬入量内訳(直接資源化)'!N17+'ごみ搬入量内訳(焼却)'!N17+'ごみ搬入量内訳(粗大)'!N17+'ごみ搬入量内訳(堆肥化)'!N17+'ごみ搬入量内訳(飼料化)'!N17+'ごみ搬入量内訳(メタン化)'!N17+'ごみ搬入量内訳(燃料化)'!N17+'ごみ搬入量内訳(セメント)'!N17+'ごみ搬入量内訳(資源化等)'!N17+'ごみ搬入量内訳(その他)'!N17+'ごみ搬入量内訳(直接埋立)'!N17+'ごみ搬入量内訳(海洋投入)'!N17","v":0},{"$f":"'ごみ搬入量内訳(直接資源化)'!O17+'ごみ搬入量内訳(焼却)'!O17+'ごみ搬入量内訳(粗大)'!O17+'ごみ搬入量内訳(堆肥化)'!O17+'ごみ搬入量内訳(飼料化)'!O17+'ごみ搬入量内訳(メタン化)'!O17+'ごみ搬入量内訳(燃料化)'!O17+'ごみ搬入量内訳(セメント)'!O17+'ごみ搬入量内訳(資源化等)'!O17+'ごみ搬入量内訳(その他)'!O17+'ごみ搬入量内訳(直接埋立)'!O17+'ごみ搬入量内訳(海洋投入)'!O17","v":0},{"$f":"'ごみ搬入量内訳(直接資源化)'!P17+'ごみ搬入量内訳(焼却)'!P17+'ごみ搬入量内訳(粗大)'!P17+'ごみ搬入量内訳(堆肥化)'!P17+'ごみ搬入量内訳(飼料化)'!P17+'ごみ搬入量内訳(メタン化)'!P17+'ごみ搬入量内訳(燃料化)'!P17+'ごみ搬入量内訳(セメント)'!P17+'ごみ搬入量内訳(資源化等)'!P17+'ごみ搬入量内訳(その他)'!P17+'ごみ搬入量内訳(直接埋立)'!P17+'ごみ搬入量内訳(海洋投入)'!P17","v":0},{"$f":"'ごみ搬入量内訳(直接資源化)'!Q17+'ごみ搬入量内訳(焼却)'!Q17+'ごみ搬入量内訳(粗大)'!Q17+'ごみ搬入量内訳(堆肥化)'!Q17+'ごみ搬入量内訳(飼料化)'!Q17+'ごみ搬入量内訳(メタン化)'!Q17+'ごみ搬入量内訳(燃料化)'!Q17+'ごみ搬入量内訳(セメント)'!Q17+'ごみ搬入量内訳(資源化等)'!Q17+'ごみ搬入量内訳(その他)'!Q17+'ごみ搬入量内訳(直接埋立)'!Q17+'ごみ搬入量内訳(海洋投入)'!Q17","v":0},{"$f":"'ごみ搬入量内訳(直接資源化)'!R17+'ごみ搬入量内訳(焼却)'!R17+'ごみ搬入量内訳(粗大)'!R17+'ごみ搬入量内訳(堆肥化)'!R17+'ごみ搬入量内訳(飼料化)'!R17+'ごみ搬入量内訳(メタン化)'!R17+'ごみ搬入量内訳(燃料化)'!R17+'ごみ搬入量内訳(セメント)'!R17+'ごみ搬入量内訳(資源化等)'!R17+'ごみ搬入量内訳(その他)'!R17+'ごみ搬入量内訳(直接埋立)'!R17+'ごみ搬入量内訳(海洋投入)'!R17","v":0},{"$f":"'ごみ搬入量内訳(直接資源化)'!S17+'ごみ搬入量内訳(焼却)'!S17+'ごみ搬入量内訳(粗大)'!S17+'ごみ搬入量内訳(堆肥化)'!S17+'ごみ搬入量内訳(飼料化)'!S17+'ごみ搬入量内訳(メタン化)'!S17+'ごみ搬入量内訳(燃料化)'!S17+'ごみ搬入量内訳(セメント)'!S17+'ごみ搬入量内訳(資源化等)'!S17+'ごみ搬入量内訳(その他)'!S17+'ごみ搬入量内訳(直接埋立)'!S17+'ごみ搬入量内訳(海洋投入)'!S17","v":0},{"$f":"'ごみ搬入量内訳(直接資源化)'!T17+'ごみ搬入量内訳(焼却)'!T17+'ごみ搬入量内訳(粗大)'!T17+'ごみ搬入量内訳(堆肥化)'!T17+'ごみ搬入量内訳(飼料化)'!T17+'ごみ搬入量内訳(メタン化)'!T17+'ごみ搬入量内訳(燃料化)'!T17+'ごみ搬入量内訳(セメント)'!T17+'ごみ搬入量内訳(資源化等)'!T17+'ごみ搬入量内訳(その他)'!T17+'ごみ搬入量内訳(直接埋立)'!T17+'ごみ搬入量内訳(海洋投入)'!T17","v":0},{"$f":"'ごみ搬入量内訳(直接資源化)'!U17+'ごみ搬入量内訳(焼却)'!U17+'ごみ搬入量内訳(粗大)'!U17+'ごみ搬入量内訳(堆肥化)'!U17+'ごみ搬入量内訳(飼料化)'!U17+'ごみ搬入量内訳(メタン化)'!U17+'ごみ搬入量内訳(燃料化)'!U17+'ごみ搬入量内訳(セメント)'!U17+'ごみ搬入量内訳(資源化等)'!U17+'ごみ搬入量内訳(その他)'!U17+'ごみ搬入量内訳(直接埋立)'!U17+'ごみ搬入量内訳(海洋投入)'!U17","v":0},{"$f":"'ごみ搬入量内訳(直接資源化)'!V17+'ごみ搬入量内訳(焼却)'!V17+'ごみ搬入量内訳(粗大)'!V17+'ごみ搬入量内訳(堆肥化)'!V17+'ごみ搬入量内訳(飼料化)'!V17+'ごみ搬入量内訳(メタン化)'!V17+'ごみ搬入量内訳(燃料化)'!V17+'ごみ搬入量内訳(セメント)'!V17+'ごみ搬入量内訳(資源化等)'!V17+'ごみ搬入量内訳(その他)'!V17+'ごみ搬入量内訳(直接埋立)'!V17+'ごみ搬入量内訳(海洋投入)'!V17","v":0},{"$f":"'ごみ搬入量内訳(直接資源化)'!W17+'ごみ搬入量内訳(焼却)'!W17+'ごみ搬入量内訳(粗大)'!W17+'ごみ搬入量内訳(堆肥化)'!W17+'ごみ搬入量内訳(飼料化)'!W17+'ごみ搬入量内訳(メタン化)'!W17+'ごみ搬入量内訳(燃料化)'!W17+'ごみ搬入量内訳(セメント)'!W17+'ごみ搬入量内訳(資源化等)'!W17+'ごみ搬入量内訳(その他)'!W17+'ごみ搬入量内訳(直接埋立)'!W17+'ごみ搬入量内訳(海洋投入)'!W17","v":0},{"$f":"'ごみ搬入量内訳(直接資源化)'!X17+'ごみ搬入量内訳(焼却)'!X17+'ごみ搬入量内訳(粗大)'!X17+'ごみ搬入量内訳(堆肥化)'!X17+'ごみ搬入量内訳(飼料化)'!X17+'ごみ搬入量内訳(メタン化)'!X17+'ごみ搬入量内訳(燃料化)'!X17+'ごみ搬入量内訳(セメント)'!X17+'ごみ搬入量内訳(資源化等)'!X17+'ごみ搬入量内訳(その他)'!X17+'ごみ搬入量内訳(直接埋立)'!X17+'ごみ搬入量内訳(海洋投入)'!X17","v":0},{"$f":"'ごみ搬入量内訳(直接資源化)'!Y17+'ごみ搬入量内訳(焼却)'!Y17+'ごみ搬入量内訳(粗大)'!Y17+'ごみ搬入量内訳(堆肥化)'!Y17+'ごみ搬入量内訳(飼料化)'!Y17+'ごみ搬入量内訳(メタン化)'!Y17+'ごみ搬入量内訳(燃料化)'!Y17+'ごみ搬入量内訳(セメント)'!Y17+'ごみ搬入量内訳(資源化等)'!Y17+'ごみ搬入量内訳(その他)'!Y17+'ごみ搬入量内訳(直接埋立)'!Y17+'ごみ搬入量内訳(海洋投入)'!Y17","v":0},{"$f":"'ごみ搬入量内訳(直接資源化)'!Z17+'ごみ搬入量内訳(焼却)'!Z17+'ごみ搬入量内訳(粗大)'!Z17+'ごみ搬入量内訳(堆肥化)'!Z17+'ごみ搬入量内訳(飼料化)'!Z17+'ごみ搬入量内訳(メタン化)'!Z17+'ごみ搬入量内訳(燃料化)'!Z17+'ごみ搬入量内訳(セメント)'!Z17+'ごみ搬入量内訳(資源化等)'!Z17+'ごみ搬入量内訳(その他)'!Z17+'ごみ搬入量内訳(直接埋立)'!Z17+'ごみ搬入量内訳(海洋投入)'!Z17","v":0},{"$f":"'ごみ搬入量内訳(直接資源化)'!AA17+'ごみ搬入量内訳(焼却)'!AA17+'ごみ搬入量内訳(粗大)'!AA17+'ごみ搬入量内訳(堆肥化)'!AA17+'ごみ搬入量内訳(飼料化)'!AA17+'ごみ搬入量内訳(メタン化)'!AA17+'ごみ搬入量内訳(燃料化)'!AA17+'ごみ搬入量内訳(セメント)'!AA17+'ごみ搬入量内訳(資源化等)'!AA17+'ごみ搬入量内訳(その他)'!AA17+'ごみ搬入量内訳(直接埋立)'!AA17+'ごみ搬入量内訳(海洋投入)'!AA17","v":0},{"$f":"'ごみ搬入量内訳(直接資源化)'!AB17+'ごみ搬入量内訳(焼却)'!AB17+'ごみ搬入量内訳(粗大)'!AB17+'ごみ搬入量内訳(堆肥化)'!AB17+'ごみ搬入量内訳(飼料化)'!AB17+'ごみ搬入量内訳(メタン化)'!AB17+'ごみ搬入量内訳(燃料化)'!AB17+'ごみ搬入量内訳(セメント)'!AB17+'ごみ搬入量内訳(資源化等)'!AB17+'ごみ搬入量内訳(その他)'!AB17+'ごみ搬入量内訳(直接埋立)'!AB17+'ごみ搬入量内訳(海洋投入)'!AB17","v":0},{"$f":"'ごみ搬入量内訳(直接資源化)'!AC17+'ごみ搬入量内訳(焼却)'!AC17+'ごみ搬入量内訳(粗大)'!AC17+'ごみ搬入量内訳(堆肥化)'!AC17+'ごみ搬入量内訳(飼料化)'!AC17+'ごみ搬入量内訳(メタン化)'!AC17+'ごみ搬入量内訳(燃料化)'!AC17+'ごみ搬入量内訳(セメント)'!AC17+'ごみ搬入量内訳(資源化等)'!AC17+'ごみ搬入量内訳(その他)'!AC17+'ごみ搬入量内訳(直接埋立)'!AC17+'ごみ搬入量内訳(海洋投入)'!AC17","v":0},{"$f":"'ごみ搬入量内訳(直接資源化)'!AD17+'ごみ搬入量内訳(焼却)'!AD17+'ごみ搬入量内訳(粗大)'!AD17+'ごみ搬入量内訳(堆肥化)'!AD17+'ごみ搬入量内訳(飼料化)'!AD17+'ごみ搬入量内訳(メタン化)'!AD17+'ごみ搬入量内訳(燃料化)'!AD17+'ごみ搬入量内訳(セメント)'!AD17+'ごみ搬入量内訳(資源化等)'!AD17+'ごみ搬入量内訳(その他)'!AD17+'ごみ搬入量内訳(直接埋立)'!AD17+'ごみ搬入量内訳(海洋投入)'!AD17","v":0},{"$f":"'ごみ搬入量内訳(直接資源化)'!AE17+'ごみ搬入量内訳(焼却)'!AE17+'ごみ搬入量内訳(粗大)'!AE17+'ごみ搬入量内訳(堆肥化)'!AE17+'ごみ搬入量内訳(飼料化)'!AE17+'ごみ搬入量内訳(メタン化)'!AE17+'ごみ搬入量内訳(燃料化)'!AE17+'ごみ搬入量内訳(セメント)'!AE17+'ごみ搬入量内訳(資源化等)'!AE17+'ごみ搬入量内訳(その他)'!AE17+'ごみ搬入量内訳(直接埋立)'!AE17+'ごみ搬入量内訳(海洋投入)'!AE17","v":0},{"$f":"'ごみ搬入量内訳(直接資源化)'!AF17+'ごみ搬入量内訳(焼却)'!AF17+'ごみ搬入量内訳(粗大)'!AF17+'ごみ搬入量内訳(堆肥化)'!AF17+'ごみ搬入量内訳(飼料化)'!AF17+'ごみ搬入量内訳(メタン化)'!AF17+'ごみ搬入量内訳(燃料化)'!AF17+'ごみ搬入量内訳(セメント)'!AF17+'ごみ搬入量内訳(資源化等)'!AF17+'ごみ搬入量内訳(その他)'!AF17+'ごみ搬入量内訳(直接埋立)'!AF17+'ごみ搬入量内訳(海洋投入)'!AF17","v":0},{"$f":"'ごみ搬入量内訳(直接資源化)'!AG17+'ごみ搬入量内訳(焼却)'!AG17+'ごみ搬入量内訳(粗大)'!AG17+'ごみ搬入量内訳(堆肥化)'!AG17+'ごみ搬入量内訳(飼料化)'!AG17+'ごみ搬入量内訳(メタン化)'!AG17+'ごみ搬入量内訳(燃料化)'!AG17+'ごみ搬入量内訳(セメント)'!AG17+'ごみ搬入量内訳(資源化等)'!AG17+'ごみ搬入量内訳(その他)'!AG17+'ごみ搬入量内訳(直接埋立)'!AG17+'ごみ搬入量内訳(海洋投入)'!AG17","v":0},{"$f":"'ごみ搬入量内訳(直接資源化)'!AH17+'ごみ搬入量内訳(焼却)'!AH17+'ごみ搬入量内訳(粗大)'!AH17+'ごみ搬入量内訳(堆肥化)'!AH17+'ごみ搬入量内訳(飼料化)'!AH17+'ごみ搬入量内訳(メタン化)'!AH17+'ごみ搬入量内訳(燃料化)'!AH17+'ごみ搬入量内訳(セメント)'!AH17+'ごみ搬入量内訳(資源化等)'!AH17+'ごみ搬入量内訳(その他)'!AH17+'ごみ搬入量内訳(直接埋立)'!AH17+'ごみ搬入量内訳(海洋投入)'!AH17","v":0},{"$f":"'ごみ搬入量内訳(直接資源化)'!AI17+'ごみ搬入量内訳(焼却)'!AI17+'ごみ搬入量内訳(粗大)'!AI17+'ごみ搬入量内訳(堆肥化)'!AI17+'ごみ搬入量内訳(飼料化)'!AI17+'ごみ搬入量内訳(メタン化)'!AI17+'ごみ搬入量内訳(燃料化)'!AI17+'ごみ搬入量内訳(セメント)'!AI17+'ごみ搬入量内訳(資源化等)'!AI17+'ごみ搬入量内訳(その他)'!AI17+'ごみ搬入量内訳(直接埋立)'!AI17+'ごみ搬入量内訳(海洋投入)'!AI17","v":0}]
["秋田県","05213","北秋田市",{"$f":"SUM(E18:AI18)","v":0},{"$f":"'ごみ搬入量内訳(直接資源化)'!E18+'ごみ搬入量内訳(焼却)'!E18+'ごみ搬入量内訳(粗大)'!E18+'ごみ搬入量内訳(堆肥化)'!E18+'ごみ搬入量内訳(飼料化)'!E18+'ごみ搬入量内訳(メタン化)'!E18+'ごみ搬入量内訳(燃料化)'!E18+'ごみ搬入量内訳(セメント)'!E18+'ごみ搬入量内訳(資源化等)'!E18+'ごみ搬入量内訳(その他)'!E18+'ごみ搬入量内訳(直接埋立)'!E18+'ごみ搬入量内訳(海洋投入)'!E18","v":0},{"$f":"'ごみ搬入量内訳(直接資源化)'!F18+'ごみ搬入量内訳(焼却)'!F18+'ごみ搬入量内訳(粗大)'!F18+'ごみ搬入量内訳(堆肥化)'!F18+'ごみ搬入量内訳(飼料化)'!F18+'ごみ搬入量内訳(メタン化)'!F18+'ごみ搬入量内訳(燃料化)'!F18+'ごみ搬入量内訳(セメント)'!F18+'ごみ搬入量内訳(資源化等)'!F18+'ごみ搬入量内訳(その他)'!F18+'ごみ搬入量内訳(直接埋立)'!F18+'ごみ搬入量内訳(海洋投入)'!F18","v":0},{"$f":"'ごみ搬入量内訳(直接資源化)'!G18+'ごみ搬入量内訳(焼却)'!G18+'ごみ搬入量内訳(粗大)'!G18+'ごみ搬入量内訳(堆肥化)'!G18+'ごみ搬入量内訳(飼料化)'!G18+'ごみ搬入量内訳(メタン化)'!G18+'ごみ搬入量内訳(燃料化)'!G18+'ごみ搬入量内訳(セメント)'!G18+'ごみ搬入量内訳(資源化等)'!G18+'ごみ搬入量内訳(その他)'!G18+'ごみ搬入量内訳(直接埋立)'!G18+'ごみ搬入量内訳(海洋投入)'!G18","v":0},{"$f":"'ごみ搬入量内訳(直接資源化)'!H18+'ごみ搬入量内訳(焼却)'!H18+'ごみ搬入量内訳(粗大)'!H18+'ごみ搬入量内訳(堆肥化)'!H18+'ごみ搬入量内訳(飼料化)'!H18+'ごみ搬入量内訳(メタン化)'!H18+'ごみ搬入量内訳(燃料化)'!H18+'ごみ搬入量内訳(セメント)'!H18+'ごみ搬入量内訳(資源化等)'!H18+'ごみ搬入量内訳(その他)'!H18+'ごみ搬入量内訳(直接埋立)'!H18+'ごみ搬入量内訳(海洋投入)'!H18","v":0},{"$f":"'ごみ搬入量内訳(直接資源化)'!I18+'ごみ搬入量内訳(焼却)'!I18+'ごみ搬入量内訳(粗大)'!I18+'ごみ搬入量内訳(堆肥化)'!I18+'ごみ搬入量内訳(飼料化)'!I18+'ごみ搬入量内訳(メタン化)'!I18+'ごみ搬入量内訳(燃料化)'!I18+'ごみ搬入量内訳(セメント)'!I18+'ごみ搬入量内訳(資源化等)'!I18+'ごみ搬入量内訳(その他)'!I18+'ごみ搬入量内訳(直接埋立)'!I18+'ごみ搬入量内訳(海洋投入)'!I18","v":0},{"$f":"'ごみ搬入量内訳(直接資源化)'!J18+'ごみ搬入量内訳(焼却)'!J18+'ごみ搬入量内訳(粗大)'!J18+'ごみ搬入量内訳(堆肥化)'!J18+'ごみ搬入量内訳(飼料化)'!J18+'ごみ搬入量内訳(メタン化)'!J18+'ごみ搬入量内訳(燃料化)'!J18+'ごみ搬入量内訳(セメント)'!J18+'ごみ搬入量内訳(資源化等)'!J18+'ごみ搬入量内訳(その他)'!J18+'ごみ搬入量内訳(直接埋立)'!J18+'ごみ搬入量内訳(海洋投入)'!J18","v":0},{"$f":"'ごみ搬入量内訳(直接資源化)'!K18+'ごみ搬入量内訳(焼却)'!K18+'ごみ搬入量内訳(粗大)'!K18+'ごみ搬入量内訳(堆肥化)'!K18+'ごみ搬入量内訳(飼料化)'!K18+'ごみ搬入量内訳(メタン化)'!K18+'ごみ搬入量内訳(燃料化)'!K18+'ごみ搬入量内訳(セメント)'!K18+'ごみ搬入量内訳(資源化等)'!K18+'ごみ搬入量内訳(その他)'!K18+'ごみ搬入量内訳(直接埋立)'!K18+'ごみ搬入量内訳(海洋投入)'!K18","v":0},{"$f":"'ごみ搬入量内訳(直接資源化)'!L18+'ごみ搬入量内訳(焼却)'!L18+'ごみ搬入量内訳(粗大)'!L18+'ごみ搬入量内訳(堆肥化)'!L18+'ごみ搬入量内訳(飼料化)'!L18+'ごみ搬入量内訳(メタン化)'!L18+'ごみ搬入量内訳(燃料化)'!L18+'ごみ搬入量内訳(セメント)'!L18+'ごみ搬入量内訳(資源化等)'!L18+'ごみ搬入量内訳(その他)'!L18+'ごみ搬入量内訳(直接埋立)'!L18+'ごみ搬入量内訳(海洋投入)'!L18","v":0},{"$f":"'ごみ搬入量内訳(直接資源化)'!M18+'ごみ搬入量内訳(焼却)'!M18+'ごみ搬入量内訳(粗大)'!M18+'ごみ搬入量内訳(堆肥化)'!M18+'ごみ搬入量内訳(飼料化)'!M18+'ごみ搬入量内訳(メタン化)'!M18+'ごみ搬入量内訳(燃料化)'!M18+'ごみ搬入量内訳(セメント)'!M18+'ごみ搬入量内訳(資源化等)'!M18+'ごみ搬入量内訳(その他)'!M18+'ごみ搬入量内訳(直接埋立)'!M18+'ごみ搬入量内訳(海洋投入)'!M18","v":0},{"$f":"'ごみ搬入量内訳(直接資源化)'!N18+'ごみ搬入量内訳(焼却)'!N18+'ごみ搬入量内訳(粗大)'!N18+'ごみ搬入量内訳(堆肥化)'!N18+'ごみ搬入量内訳(飼料化)'!N18+'ごみ搬入量内訳(メタン化)'!N18+'ごみ搬入量内訳(燃料化)'!N18+'ごみ搬入量内訳(セメント)'!N18+'ごみ搬入量内訳(資源化等)'!N18+'ごみ搬入量内訳(その他)'!N18+'ごみ搬入量内訳(直接埋立)'!N18+'ごみ搬入量内訳(海洋投入)'!N18","v":0},{"$f":"'ごみ搬入量内訳(直接資源化)'!O18+'ごみ搬入量内訳(焼却)'!O18+'ごみ搬入量内訳(粗大)'!O18+'ごみ搬入量内訳(堆肥化)'!O18+'ごみ搬入量内訳(飼料化)'!O18+'ごみ搬入量内訳(メタン化)'!O18+'ごみ搬入量内訳(燃料化)'!O18+'ごみ搬入量内訳(セメント)'!O18+'ごみ搬入量内訳(資源化等)'!O18+'ごみ搬入量内訳(その他)'!O18+'ごみ搬入量内訳(直接埋立)'!O18+'ごみ搬入量内訳(海洋投入)'!O18","v":0},{"$f":"'ごみ搬入量内訳(直接資源化)'!P18+'ごみ搬入量内訳(焼却)'!P18+'ごみ搬入量内訳(粗大)'!P18+'ごみ搬入量内訳(堆肥化)'!P18+'ごみ搬入量内訳(飼料化)'!P18+'ごみ搬入量内訳(メタン化)'!P18+'ごみ搬入量内訳(燃料化)'!P18+'ごみ搬入量内訳(セメント)'!P18+'ごみ搬入量内訳(資源化等)'!P18+'ごみ搬入量内訳(その他)'!P18+'ごみ搬入量内訳(直接埋立)'!P18+'ごみ搬入量内訳(海洋投入)'!P18","v":0},{"$f":"'ごみ搬入量内訳(直接資源化)'!Q18+'ごみ搬入量内訳(焼却)'!Q18+'ごみ搬入量内訳(粗大)'!Q18+'ごみ搬入量内訳(堆肥化)'!Q18+'ごみ搬入量内訳(飼料化)'!Q18+'ごみ搬入量内訳(メタン化)'!Q18+'ごみ搬入量内訳(燃料化)'!Q18+'ごみ搬入量内訳(セメント)'!Q18+'ごみ搬入量内訳(資源化等)'!Q18+'ごみ搬入量内訳(その他)'!Q18+'ごみ搬入量内訳(直接埋立)'!Q18+'ごみ搬入量内訳(海洋投入)'!Q18","v":0},{"$f":"'ごみ搬入量内訳(直接資源化)'!R18+'ごみ搬入量内訳(焼却)'!R18+'ごみ搬入量内訳(粗大)'!R18+'ごみ搬入量内訳(堆肥化)'!R18+'ごみ搬入量内訳(飼料化)'!R18+'ごみ搬入量内訳(メタン化)'!R18+'ごみ搬入量内訳(燃料化)'!R18+'ごみ搬入量内訳(セメント)'!R18+'ごみ搬入量内訳(資源化等)'!R18+'ごみ搬入量内訳(その他)'!R18+'ごみ搬入量内訳(直接埋立)'!R18+'ごみ搬入量内訳(海洋投入)'!R18","v":0},{"$f":"'ごみ搬入量内訳(直接資源化)'!S18+'ごみ搬入量内訳(焼却)'!S18+'ごみ搬入量内訳(粗大)'!S18+'ごみ搬入量内訳(堆肥化)'!S18+'ごみ搬入量内訳(飼料化)'!S18+'ごみ搬入量内訳(メタン化)'!S18+'ごみ搬入量内訳(燃料化)'!S18+'ごみ搬入量内訳(セメント)'!S18+'ごみ搬入量内訳(資源化等)'!S18+'ごみ搬入量内訳(その他)'!S18+'ごみ搬入量内訳(直接埋立)'!S18+'ごみ搬入量内訳(海洋投入)'!S18","v":0},{"$f":"'ごみ搬入量内訳(直接資源化)'!T18+'ごみ搬入量内訳(焼却)'!T18+'ごみ搬入量内訳(粗大)'!T18+'ごみ搬入量内訳(堆肥化)'!T18+'ごみ搬入量内訳(飼料化)'!T18+'ごみ搬入量内訳(メタン化)'!T18+'ごみ搬入量内訳(燃料化)'!T18+'ごみ搬入量内訳(セメント)'!T18+'ごみ搬入量内訳(資源化等)'!T18+'ごみ搬入量内訳(その他)'!T18+'ごみ搬入量内訳(直接埋立)'!T18+'ごみ搬入量内訳(海洋投入)'!T18","v":0},{"$f":"'ごみ搬入量内訳(直接資源化)'!U18+'ごみ搬入量内訳(焼却)'!U18+'ごみ搬入量内訳(粗大)'!U18+'ごみ搬入量内訳(堆肥化)'!U18+'ごみ搬入量内訳(飼料化)'!U18+'ごみ搬入量内訳(メタン化)'!U18+'ごみ搬入量内訳(燃料化)'!U18+'ごみ搬入量内訳(セメント)'!U18+'ごみ搬入量内訳(資源化等)'!U18+'ごみ搬入量内訳(その他)'!U18+'ごみ搬入量内訳(直接埋立)'!U18+'ごみ搬入量内訳(海洋投入)'!U18","v":0},{"$f":"'ごみ搬入量内訳(直接資源化)'!V18+'ごみ搬入量内訳(焼却)'!V18+'ごみ搬入量内訳(粗大)'!V18+'ごみ搬入量内訳(堆肥化)'!V18+'ごみ搬入量内訳(飼料化)'!V18+'ごみ搬入量内訳(メタン化)'!V18+'ごみ搬入量内訳(燃料化)'!V18+'ごみ搬入量内訳(セメント)'!V18+'ごみ搬入量内訳(資源化等)'!V18+'ごみ搬入量内訳(その他)'!V18+'ごみ搬入量内訳(直接埋立)'!V18+'ごみ搬入量内訳(海洋投入)'!V18","v":0},{"$f":"'ごみ搬入量内訳(直接資源化)'!W18+'ごみ搬入量内訳(焼却)'!W18+'ごみ搬入量内訳(粗大)'!W18+'ごみ搬入量内訳(堆肥化)'!W18+'ごみ搬入量内訳(飼料化)'!W18+'ごみ搬入量内訳(メタン化)'!W18+'ごみ搬入量内訳(燃料化)'!W18+'ごみ搬入量内訳(セメント)'!W18+'ごみ搬入量内訳(資源化等)'!W18+'ごみ搬入量内訳(その他)'!W18+'ごみ搬入量内訳(直接埋立)'!W18+'ごみ搬入量内訳(海洋投入)'!W18","v":0},{"$f":"'ごみ搬入量内訳(直接資源化)'!X18+'ごみ搬入量内訳(焼却)'!X18+'ごみ搬入量内訳(粗大)'!X18+'ごみ搬入量内訳(堆肥化)'!X18+'ごみ搬入量内訳(飼料化)'!X18+'ごみ搬入量内訳(メタン化)'!X18+'ごみ搬入量内訳(燃料化)'!X18+'ごみ搬入量内訳(セメント)'!X18+'ごみ搬入量内訳(資源化等)'!X18+'ごみ搬入量内訳(その他)'!X18+'ごみ搬入量内訳(直接埋立)'!X18+'ごみ搬入量内訳(海洋投入)'!X18","v":0},{"$f":"'ごみ搬入量内訳(直接資源化)'!Y18+'ごみ搬入量内訳(焼却)'!Y18+'ごみ搬入量内訳(粗大)'!Y18+'ごみ搬入量内訳(堆肥化)'!Y18+'ごみ搬入量内訳(飼料化)'!Y18+'ごみ搬入量内訳(メタン化)'!Y18+'ごみ搬入量内訳(燃料化)'!Y18+'ごみ搬入量内訳(セメント)'!Y18+'ごみ搬入量内訳(資源化等)'!Y18+'ごみ搬入量内訳(その他)'!Y18+'ごみ搬入量内訳(直接埋立)'!Y18+'ごみ搬入量内訳(海洋投入)'!Y18","v":0},{"$f":"'ごみ搬入量内訳(直接資源化)'!Z18+'ごみ搬入量内訳(焼却)'!Z18+'ごみ搬入量内訳(粗大)'!Z18+'ごみ搬入量内訳(堆肥化)'!Z18+'ごみ搬入量内訳(飼料化)'!Z18+'ごみ搬入量内訳(メタン化)'!Z18+'ごみ搬入量内訳(燃料化)'!Z18+'ごみ搬入量内訳(セメント)'!Z18+'ごみ搬入量内訳(資源化等)'!Z18+'ごみ搬入量内訳(その他)'!Z18+'ごみ搬入量内訳(直接埋立)'!Z18+'ごみ搬入量内訳(海洋投入)'!Z18","v":0},{"$f":"'ごみ搬入量内訳(直接資源化)'!AA18+'ごみ搬入量内訳(焼却)'!AA18+'ごみ搬入量内訳(粗大)'!AA18+'ごみ搬入量内訳(堆肥化)'!AA18+'ごみ搬入量内訳(飼料化)'!AA18+'ごみ搬入量内訳(メタン化)'!AA18+'ごみ搬入量内訳(燃料化)'!AA18+'ごみ搬入量内訳(セメント)'!AA18+'ごみ搬入量内訳(資源化等)'!AA18+'ごみ搬入量内訳(その他)'!AA18+'ごみ搬入量内訳(直接埋立)'!AA18+'ごみ搬入量内訳(海洋投入)'!AA18","v":0},{"$f":"'ごみ搬入量内訳(直接資源化)'!AB18+'ごみ搬入量内訳(焼却)'!AB18+'ごみ搬入量内訳(粗大)'!AB18+'ごみ搬入量内訳(堆肥化)'!AB18+'ごみ搬入量内訳(飼料化)'!AB18+'ごみ搬入量内訳(メタン化)'!AB18+'ごみ搬入量内訳(燃料化)'!AB18+'ごみ搬入量内訳(セメント)'!AB18+'ごみ搬入量内訳(資源化等)'!AB18+'ごみ搬入量内訳(その他)'!AB18+'ごみ搬入量内訳(直接埋立)'!AB18+'ごみ搬入量内訳(海洋投入)'!AB18","v":0},{"$f":"'ごみ搬入量内訳(直接資源化)'!AC18+'ごみ搬入量内訳(焼却)'!AC18+'ごみ搬入量内訳(粗大)'!AC18+'ごみ搬入量内訳(堆肥化)'!AC18+'ごみ搬入量内訳(飼料化)'!AC18+'ごみ搬入量内訳(メタン化)'!AC18+'ごみ搬入量内訳(燃料化)'!AC18+'ごみ搬入量内訳(セメント)'!AC18+'ごみ搬入量内訳(資源化等)'!AC18+'ごみ搬入量内訳(その他)'!AC18+'ごみ搬入量内訳(直接埋立)'!AC18+'ごみ搬入量内訳(海洋投入)'!AC18","v":0},{"$f":"'ごみ搬入量内訳(直接資源化)'!AD18+'ごみ搬入量内訳(焼却)'!AD18+'ごみ搬入量内訳(粗大)'!AD18+'ごみ搬入量内訳(堆肥化)'!AD18+'ごみ搬入量内訳(飼料化)'!AD18+'ごみ搬入量内訳(メタン化)'!AD18+'ごみ搬入量内訳(燃料化)'!AD18+'ごみ搬入量内訳(セメント)'!AD18+'ごみ搬入量内訳(資源化等)'!AD18+'ごみ搬入量内訳(その他)'!AD18+'ごみ搬入量内訳(直接埋立)'!AD18+'ごみ搬入量内訳(海洋投入)'!AD18","v":0},{"$f":"'ごみ搬入量内訳(直接資源化)'!AE18+'ごみ搬入量内訳(焼却)'!AE18+'ごみ搬入量内訳(粗大)'!AE18+'ごみ搬入量内訳(堆肥化)'!AE18+'ごみ搬入量内訳(飼料化)'!AE18+'ごみ搬入量内訳(メタン化)'!AE18+'ごみ搬入量内訳(燃料化)'!AE18+'ごみ搬入量内訳(セメント)'!AE18+'ごみ搬入量内訳(資源化等)'!AE18+'ごみ搬入量内訳(その他)'!AE18+'ごみ搬入量内訳(直接埋立)'!AE18+'ごみ搬入量内訳(海洋投入)'!AE18","v":0},{"$f":"'ごみ搬入量内訳(直接資源化)'!AF18+'ごみ搬入量内訳(焼却)'!AF18+'ごみ搬入量内訳(粗大)'!AF18+'ごみ搬入量内訳(堆肥化)'!AF18+'ごみ搬入量内訳(飼料化)'!AF18+'ごみ搬入量内訳(メタン化)'!AF18+'ごみ搬入量内訳(燃料化)'!AF18+'ごみ搬入量内訳(セメント)'!AF18+'ごみ搬入量内訳(資源化等)'!AF18+'ごみ搬入量内訳(その他)'!AF18+'ごみ搬入量内訳(直接埋立)'!AF18+'ごみ搬入量内訳(海洋投入)'!AF18","v":0},{"$f":"'ごみ搬入量内訳(直接資源化)'!AG18+'ごみ搬入量内訳(焼却)'!AG18+'ごみ搬入量内訳(粗大)'!AG18+'ごみ搬入量内訳(堆肥化)'!AG18+'ごみ搬入量内訳(飼料化)'!AG18+'ごみ搬入量内訳(メタン化)'!AG18+'ごみ搬入量内訳(燃料化)'!AG18+'ごみ搬入量内訳(セメント)'!AG18+'ごみ搬入量内訳(資源化等)'!AG18+'ごみ搬入量内訳(その他)'!AG18+'ごみ搬入量内訳(直接埋立)'!AG18+'ごみ搬入量内訳(海洋投入)'!AG18","v":0},{"$f":"'ごみ搬入量内訳(直接資源化)'!AH18+'ごみ搬入量内訳(焼却)'!AH18+'ごみ搬入量内訳(粗大)'!AH18+'ごみ搬入量内訳(堆肥化)'!AH18+'ごみ搬入量内訳(飼料化)'!AH18+'ごみ搬入量内訳(メタン化)'!AH18+'ごみ搬入量内訳(燃料化)'!AH18+'ごみ搬入量内訳(セメント)'!AH18+'ごみ搬入量内訳(資源化等)'!AH18+'ごみ搬入量内訳(その他)'!AH18+'ごみ搬入量内訳(直接埋立)'!AH18+'ごみ搬入量内訳(海洋投入)'!AH18","v":0},{"$f":"'ごみ搬入量内訳(直接資源化)'!AI18+'ごみ搬入量内訳(焼却)'!AI18+'ごみ搬入量内訳(粗大)'!AI18+'ごみ搬入量内訳(堆肥化)'!AI18+'ごみ搬入量内訳(飼料化)'!AI18+'ごみ搬入量内訳(メタン化)'!AI18+'ごみ搬入量内訳(燃料化)'!AI18+'ごみ搬入量内訳(セメント)'!AI18+'ごみ搬入量内訳(資源化等)'!AI18+'ごみ搬入量内訳(その他)'!AI18+'ごみ搬入量内訳(直接埋立)'!AI18+'ごみ搬入量内訳(海洋投入)'!AI18","v":0}]
["秋田県","05214","にかほ市",{"$f":"SUM(E19:AI19)","v":0},{"$f":"'ごみ搬入量内訳(直接資源化)'!E19+'ごみ搬入量内訳(焼却)'!E19+'ごみ搬入量内訳(粗大)'!E19+'ごみ搬入量内訳(堆肥化)'!E19+'ごみ搬入量内訳(飼料化)'!E19+'ごみ搬入量内訳(メタン化)'!E19+'ごみ搬入量内訳(燃料化)'!E19+'ごみ搬入量内訳(セメント)'!E19+'ごみ搬入量内訳(資源化等)'!E19+'ごみ搬入量内訳(その他)'!E19+'ごみ搬入量内訳(直接埋立)'!E19+'ごみ搬入量内訳(海洋投入)'!E19","v":0},{"$f":"'ごみ搬入量内訳(直接資源化)'!F19+'ごみ搬入量内訳(焼却)'!F19+'ごみ搬入量内訳(粗大)'!F19+'ごみ搬入量内訳(堆肥化)'!F19+'ごみ搬入量内訳(飼料化)'!F19+'ごみ搬入量内訳(メタン化)'!F19+'ごみ搬入量内訳(燃料化)'!F19+'ごみ搬入量内訳(セメント)'!F19+'ごみ搬入量内訳(資源化等)'!F19+'ごみ搬入量内訳(その他)'!F19+'ごみ搬入量内訳(直接埋立)'!F19+'ごみ搬入量内訳(海洋投入)'!F19","v":0},{"$f":"'ごみ搬入量内訳(直接資源化)'!G19+'ごみ搬入量内訳(焼却)'!G19+'ごみ搬入量内訳(粗大)'!G19+'ごみ搬入量内訳(堆肥化)'!G19+'ごみ搬入量内訳(飼料化)'!G19+'ごみ搬入量内訳(メタン化)'!G19+'ごみ搬入量内訳(燃料化)'!G19+'ごみ搬入量内訳(セメント)'!G19+'ごみ搬入量内訳(資源化等)'!G19+'ごみ搬入量内訳(その他)'!G19+'ごみ搬入量内訳(直接埋立)'!G19+'ごみ搬入量内訳(海洋投入)'!G19","v":0},{"$f":"'ごみ搬入量内訳(直接資源化)'!H19+'ごみ搬入量内訳(焼却)'!H19+'ごみ搬入量内訳(粗大)'!H19+'ごみ搬入量内訳(堆肥化)'!H19+'ごみ搬入量内訳(飼料化)'!H19+'ごみ搬入量内訳(メタン化)'!H19+'ごみ搬入量内訳(燃料化)'!H19+'ごみ搬入量内訳(セメント)'!H19+'ごみ搬入量内訳(資源化等)'!H19+'ごみ搬入量内訳(その他)'!H19+'ごみ搬入量内訳(直接埋立)'!H19+'ごみ搬入量内訳(海洋投入)'!H19","v":0},{"$f":"'ごみ搬入量内訳(直接資源化)'!I19+'ごみ搬入量内訳(焼却)'!I19+'ごみ搬入量内訳(粗大)'!I19+'ごみ搬入量内訳(堆肥化)'!I19+'ごみ搬入量内訳(飼料化)'!I19+'ごみ搬入量内訳(メタン化)'!I19+'ごみ搬入量内訳(燃料化)'!I19+'ごみ搬入量内訳(セメント)'!I19+'ごみ搬入量内訳(資源化等)'!I19+'ごみ搬入量内訳(その他)'!I19+'ごみ搬入量内訳(直接埋立)'!I19+'ごみ搬入量内訳(海洋投入)'!I19","v":0},{"$f":"'ごみ搬入量内訳(直接資源化)'!J19+'ごみ搬入量内訳(焼却)'!J19+'ごみ搬入量内訳(粗大)'!J19+'ごみ搬入量内訳(堆肥化)'!J19+'ごみ搬入量内訳(飼料化)'!J19+'ごみ搬入量内訳(メタン化)'!J19+'ごみ搬入量内訳(燃料化)'!J19+'ごみ搬入量内訳(セメント)'!J19+'ごみ搬入量内訳(資源化等)'!J19+'ごみ搬入量内訳(その他)'!J19+'ごみ搬入量内訳(直接埋立)'!J19+'ごみ搬入量内訳(海洋投入)'!J19","v":0},{"$f":"'ごみ搬入量内訳(直接資源化)'!K19+'ごみ搬入量内訳(焼却)'!K19+'ごみ搬入量内訳(粗大)'!K19+'ごみ搬入量内訳(堆肥化)'!K19+'ごみ搬入量内訳(飼料化)'!K19+'ごみ搬入量内訳(メタン化)'!K19+'ごみ搬入量内訳(燃料化)'!K19+'ごみ搬入量内訳(セメント)'!K19+'ごみ搬入量内訳(資源化等)'!K19+'ごみ搬入量内訳(その他)'!K19+'ごみ搬入量内訳(直接埋立)'!K19+'ごみ搬入量内訳(海洋投入)'!K19","v":0},{"$f":"'ごみ搬入量内訳(直接資源化)'!L19+'ごみ搬入量内訳(焼却)'!L19+'ごみ搬入量内訳(粗大)'!L19+'ごみ搬入量内訳(堆肥化)'!L19+'ごみ搬入量内訳(飼料化)'!L19+'ごみ搬入量内訳(メタン化)'!L19+'ごみ搬入量内訳(燃料化)'!L19+'ごみ搬入量内訳(セメント)'!L19+'ごみ搬入量内訳(資源化等)'!L19+'ごみ搬入量内訳(その他)'!L19+'ごみ搬入量内訳(直接埋立)'!L19+'ごみ搬入量内訳(海洋投入)'!L19","v":0},{"$f":"'ごみ搬入量内訳(直接資源化)'!M19+'ごみ搬入量内訳(焼却)'!M19+'ごみ搬入量内訳(粗大)'!M19+'ごみ搬入量内訳(堆肥化)'!M19+'ごみ搬入量内訳(飼料化)'!M19+'ごみ搬入量内訳(メタン化)'!M19+'ごみ搬入量内訳(燃料化)'!M19+'ごみ搬入量内訳(セメント)'!M19+'ごみ搬入量内訳(資源化等)'!M19+'ごみ搬入量内訳(その他)'!M19+'ごみ搬入量内訳(直接埋立)'!M19+'ごみ搬入量内訳(海洋投入)'!M19","v":0},{"$f":"'ごみ搬入量内訳(直接資源化)'!N19+'ごみ搬入量内訳(焼却)'!N19+'ごみ搬入量内訳(粗大)'!N19+'ごみ搬入量内訳(堆肥化)'!N19+'ごみ搬入量内訳(飼料化)'!N19+'ごみ搬入量内訳(メタン化)'!N19+'ごみ搬入量内訳(燃料化)'!N19+'ごみ搬入量内訳(セメント)'!N19+'ごみ搬入量内訳(資源化等)'!N19+'ごみ搬入量内訳(その他)'!N19+'ごみ搬入量内訳(直接埋立)'!N19+'ごみ搬入量内訳(海洋投入)'!N19","v":0},{"$f":"'ごみ搬入量内訳(直接資源化)'!O19+'ごみ搬入量内訳(焼却)'!O19+'ごみ搬入量内訳(粗大)'!O19+'ごみ搬入量内訳(堆肥化)'!O19+'ごみ搬入量内訳(飼料化)'!O19+'ごみ搬入量内訳(メタン化)'!O19+'ごみ搬入量内訳(燃料化)'!O19+'ごみ搬入量内訳(セメント)'!O19+'ごみ搬入量内訳(資源化等)'!O19+'ごみ搬入量内訳(その他)'!O19+'ごみ搬入量内訳(直接埋立)'!O19+'ごみ搬入量内訳(海洋投入)'!O19","v":0},{"$f":"'ごみ搬入量内訳(直接資源化)'!P19+'ごみ搬入量内訳(焼却)'!P19+'ごみ搬入量内訳(粗大)'!P19+'ごみ搬入量内訳(堆肥化)'!P19+'ごみ搬入量内訳(飼料化)'!P19+'ごみ搬入量内訳(メタン化)'!P19+'ごみ搬入量内訳(燃料化)'!P19+'ごみ搬入量内訳(セメント)'!P19+'ごみ搬入量内訳(資源化等)'!P19+'ごみ搬入量内訳(その他)'!P19+'ごみ搬入量内訳(直接埋立)'!P19+'ごみ搬入量内訳(海洋投入)'!P19","v":0},{"$f":"'ごみ搬入量内訳(直接資源化)'!Q19+'ごみ搬入量内訳(焼却)'!Q19+'ごみ搬入量内訳(粗大)'!Q19+'ごみ搬入量内訳(堆肥化)'!Q19+'ごみ搬入量内訳(飼料化)'!Q19+'ごみ搬入量内訳(メタン化)'!Q19+'ごみ搬入量内訳(燃料化)'!Q19+'ごみ搬入量内訳(セメント)'!Q19+'ごみ搬入量内訳(資源化等)'!Q19+'ごみ搬入量内訳(その他)'!Q19+'ごみ搬入量内訳(直接埋立)'!Q19+'ごみ搬入量内訳(海洋投入)'!Q19","v":0},{"$f":"'ごみ搬入量内訳(直接資源化)'!R19+'ごみ搬入量内訳(焼却)'!R19+'ごみ搬入量内訳(粗大)'!R19+'ごみ搬入量内訳(堆肥化)'!R19+'ごみ搬入量内訳(飼料化)'!R19+'ごみ搬入量内訳(メタン化)'!R19+'ごみ搬入量内訳(燃料化)'!R19+'ごみ搬入量内訳(セメント)'!R19+'ごみ搬入量内訳(資源化等)'!R19+'ごみ搬入量内訳(その他)'!R19+'ごみ搬入量内訳(直接埋立)'!R19+'ごみ搬入量内訳(海洋投入)'!R19","v":0},{"$f":"'ごみ搬入量内訳(直接資源化)'!S19+'ごみ搬入量内訳(焼却)'!S19+'ごみ搬入量内訳(粗大)'!S19+'ごみ搬入量内訳(堆肥化)'!S19+'ごみ搬入量内訳(飼料化)'!S19+'ごみ搬入量内訳(メタン化)'!S19+'ごみ搬入量内訳(燃料化)'!S19+'ごみ搬入量内訳(セメント)'!S19+'ごみ搬入量内訳(資源化等)'!S19+'ごみ搬入量内訳(その他)'!S19+'ごみ搬入量内訳(直接埋立)'!S19+'ごみ搬入量内訳(海洋投入)'!S19","v":0},{"$f":"'ごみ搬入量内訳(直接資源化)'!T19+'ごみ搬入量内訳(焼却)'!T19+'ごみ搬入量内訳(粗大)'!T19+'ごみ搬入量内訳(堆肥化)'!T19+'ごみ搬入量内訳(飼料化)'!T19+'ごみ搬入量内訳(メタン化)'!T19+'ごみ搬入量内訳(燃料化)'!T19+'ごみ搬入量内訳(セメント)'!T19+'ごみ搬入量内訳(資源化等)'!T19+'ごみ搬入量内訳(その他)'!T19+'ごみ搬入量内訳(直接埋立)'!T19+'ごみ搬入量内訳(海洋投入)'!T19","v":0},{"$f":"'ごみ搬入量内訳(直接資源化)'!U19+'ごみ搬入量内訳(焼却)'!U19+'ごみ搬入量内訳(粗大)'!U19+'ごみ搬入量内訳(堆肥化)'!U19+'ごみ搬入量内訳(飼料化)'!U19+'ごみ搬入量内訳(メタン化)'!U19+'ごみ搬入量内訳(燃料化)'!U19+'ごみ搬入量内訳(セメント)'!U19+'ごみ搬入量内訳(資源化等)'!U19+'ごみ搬入量内訳(その他)'!U19+'ごみ搬入量内訳(直接埋立)'!U19+'ごみ搬入量内訳(海洋投入)'!U19","v":0},{"$f":"'ごみ搬入量内訳(直接資源化)'!V19+'ごみ搬入量内訳(焼却)'!V19+'ごみ搬入量内訳(粗大)'!V19+'ごみ搬入量内訳(堆肥化)'!V19+'ごみ搬入量内訳(飼料化)'!V19+'ごみ搬入量内訳(メタン化)'!V19+'ごみ搬入量内訳(燃料化)'!V19+'ごみ搬入量内訳(セメント)'!V19+'ごみ搬入量内訳(資源化等)'!V19+'ごみ搬入量内訳(その他)'!V19+'ごみ搬入量内訳(直接埋立)'!V19+'ごみ搬入量内訳(海洋投入)'!V19","v":0},{"$f":"'ごみ搬入量内訳(直接資源化)'!W19+'ごみ搬入量内訳(焼却)'!W19+'ごみ搬入量内訳(粗大)'!W19+'ごみ搬入量内訳(堆肥化)'!W19+'ごみ搬入量内訳(飼料化)'!W19+'ごみ搬入量内訳(メタン化)'!W19+'ごみ搬入量内訳(燃料化)'!W19+'ごみ搬入量内訳(セメント)'!W19+'ごみ搬入量内訳(資源化等)'!W19+'ごみ搬入量内訳(その他)'!W19+'ごみ搬入量内訳(直接埋立)'!W19+'ごみ搬入量内訳(海洋投入)'!W19","v":0},{"$f":"'ごみ搬入量内訳(直接資源化)'!X19+'ごみ搬入量内訳(焼却)'!X19+'ごみ搬入量内訳(粗大)'!X19+'ごみ搬入量内訳(堆肥化)'!X19+'ごみ搬入量内訳(飼料化)'!X19+'ごみ搬入量内訳(メタン化)'!X19+'ごみ搬入量内訳(燃料化)'!X19+'ごみ搬入量内訳(セメント)'!X19+'ごみ搬入量内訳(資源化等)'!X19+'ごみ搬入量内訳(その他)'!X19+'ごみ搬入量内訳(直接埋立)'!X19+'ごみ搬入量内訳(海洋投入)'!X19","v":0},{"$f":"'ごみ搬入量内訳(直接資源化)'!Y19+'ごみ搬入量内訳(焼却)'!Y19+'ごみ搬入量内訳(粗大)'!Y19+'ごみ搬入量内訳(堆肥化)'!Y19+'ごみ搬入量内訳(飼料化)'!Y19+'ごみ搬入量内訳(メタン化)'!Y19+'ごみ搬入量内訳(燃料化)'!Y19+'ごみ搬入量内訳(セメント)'!Y19+'ごみ搬入量内訳(資源化等)'!Y19+'ごみ搬入量内訳(その他)'!Y19+'ごみ搬入量内訳(直接埋立)'!Y19+'ごみ搬入量内訳(海洋投入)'!Y19","v":0},{"$f":"'ごみ搬入量内訳(直接資源化)'!Z19+'ごみ搬入量内訳(焼却)'!Z19+'ごみ搬入量内訳(粗大)'!Z19+'ごみ搬入量内訳(堆肥化)'!Z19+'ごみ搬入量内訳(飼料化)'!Z19+'ごみ搬入量内訳(メタン化)'!Z19+'ごみ搬入量内訳(燃料化)'!Z19+'ごみ搬入量内訳(セメント)'!Z19+'ごみ搬入量内訳(資源化等)'!Z19+'ごみ搬入量内訳(その他)'!Z19+'ごみ搬入量内訳(直接埋立)'!Z19+'ごみ搬入量内訳(海洋投入)'!Z19","v":0},{"$f":"'ごみ搬入量内訳(直接資源化)'!AA19+'ごみ搬入量内訳(焼却)'!AA19+'ごみ搬入量内訳(粗大)'!AA19+'ごみ搬入量内訳(堆肥化)'!AA19+'ごみ搬入量内訳(飼料化)'!AA19+'ごみ搬入量内訳(メタン化)'!AA19+'ごみ搬入量内訳(燃料化)'!AA19+'ごみ搬入量内訳(セメント)'!AA19+'ごみ搬入量内訳(資源化等)'!AA19+'ごみ搬入量内訳(その他)'!AA19+'ごみ搬入量内訳(直接埋立)'!AA19+'ごみ搬入量内訳(海洋投入)'!AA19","v":0},{"$f":"'ごみ搬入量内訳(直接資源化)'!AB19+'ごみ搬入量内訳(焼却)'!AB19+'ごみ搬入量内訳(粗大)'!AB19+'ごみ搬入量内訳(堆肥化)'!AB19+'ごみ搬入量内訳(飼料化)'!AB19+'ごみ搬入量内訳(メタン化)'!AB19+'ごみ搬入量内訳(燃料化)'!AB19+'ごみ搬入量内訳(セメント)'!AB19+'ごみ搬入量内訳(資源化等)'!AB19+'ごみ搬入量内訳(その他)'!AB19+'ごみ搬入量内訳(直接埋立)'!AB19+'ごみ搬入量内訳(海洋投入)'!AB19","v":0},{"$f":"'ごみ搬入量内訳(直接資源化)'!AC19+'ごみ搬入量内訳(焼却)'!AC19+'ごみ搬入量内訳(粗大)'!AC19+'ごみ搬入量内訳(堆肥化)'!AC19+'ごみ搬入量内訳(飼料化)'!AC19+'ごみ搬入量内訳(メタン化)'!AC19+'ごみ搬入量内訳(燃料化)'!AC19+'ごみ搬入量内訳(セメント)'!AC19+'ごみ搬入量内訳(資源化等)'!AC19+'ごみ搬入量内訳(その他)'!AC19+'ごみ搬入量内訳(直接埋立)'!AC19+'ごみ搬入量内訳(海洋投入)'!AC19","v":0},{"$f":"'ごみ搬入量内訳(直接資源化)'!AD19+'ごみ搬入量内訳(焼却)'!AD19+'ごみ搬入量内訳(粗大)'!AD19+'ごみ搬入量内訳(堆肥化)'!AD19+'ごみ搬入量内訳(飼料化)'!AD19+'ごみ搬入量内訳(メタン化)'!AD19+'ごみ搬入量内訳(燃料化)'!AD19+'ごみ搬入量内訳(セメント)'!AD19+'ごみ搬入量内訳(資源化等)'!AD19+'ごみ搬入量内訳(その他)'!AD19+'ごみ搬入量内訳(直接埋立)'!AD19+'ごみ搬入量内訳(海洋投入)'!AD19","v":0},{"$f":"'ごみ搬入量内訳(直接資源化)'!AE19+'ごみ搬入量内訳(焼却)'!AE19+'ごみ搬入量内訳(粗大)'!AE19+'ごみ搬入量内訳(堆肥化)'!AE19+'ごみ搬入量内訳(飼料化)'!AE19+'ごみ搬入量内訳(メタン化)'!AE19+'ごみ搬入量内訳(燃料化)'!AE19+'ごみ搬入量内訳(セメント)'!AE19+'ごみ搬入量内訳(資源化等)'!AE19+'ごみ搬入量内訳(その他)'!AE19+'ごみ搬入量内訳(直接埋立)'!AE19+'ごみ搬入量内訳(海洋投入)'!AE19","v":0},{"$f":"'ごみ搬入量内訳(直接資源化)'!AF19+'ごみ搬入量内訳(焼却)'!AF19+'ごみ搬入量内訳(粗大)'!AF19+'ごみ搬入量内訳(堆肥化)'!AF19+'ごみ搬入量内訳(飼料化)'!AF19+'ごみ搬入量内訳(メタン化)'!AF19+'ごみ搬入量内訳(燃料化)'!AF19+'ごみ搬入量内訳(セメント)'!AF19+'ごみ搬入量内訳(資源化等)'!AF19+'ごみ搬入量内訳(その他)'!AF19+'ごみ搬入量内訳(直接埋立)'!AF19+'ごみ搬入量内訳(海洋投入)'!AF19","v":0},{"$f":"'ごみ搬入量内訳(直接資源化)'!AG19+'ごみ搬入量内訳(焼却)'!AG19+'ごみ搬入量内訳(粗大)'!AG19+'ごみ搬入量内訳(堆肥化)'!AG19+'ごみ搬入量内訳(飼料化)'!AG19+'ごみ搬入量内訳(メタン化)'!AG19+'ごみ搬入量内訳(燃料化)'!AG19+'ごみ搬入量内訳(セメント)'!AG19+'ごみ搬入量内訳(資源化等)'!AG19+'ごみ搬入量内訳(その他)'!AG19+'ごみ搬入量内訳(直接埋立)'!AG19+'ごみ搬入量内訳(海洋投入)'!AG19","v":0},{"$f":"'ごみ搬入量内訳(直接資源化)'!AH19+'ごみ搬入量内訳(焼却)'!AH19+'ごみ搬入量内訳(粗大)'!AH19+'ごみ搬入量内訳(堆肥化)'!AH19+'ごみ搬入量内訳(飼料化)'!AH19+'ごみ搬入量内訳(メタン化)'!AH19+'ごみ搬入量内訳(燃料化)'!AH19+'ごみ搬入量内訳(セメント)'!AH19+'ごみ搬入量内訳(資源化等)'!AH19+'ごみ搬入量内訳(その他)'!AH19+'ごみ搬入量内訳(直接埋立)'!AH19+'ごみ搬入量内訳(海洋投入)'!AH19","v":0},{"$f":"'ごみ搬入量内訳(直接資源化)'!AI19+'ごみ搬入量内訳(焼却)'!AI19+'ごみ搬入量内訳(粗大)'!AI19+'ごみ搬入量内訳(堆肥化)'!AI19+'ごみ搬入量内訳(飼料化)'!AI19+'ごみ搬入量内訳(メタン化)'!AI19+'ごみ搬入量内訳(燃料化)'!AI19+'ごみ搬入量内訳(セメント)'!AI19+'ごみ搬入量内訳(資源化等)'!AI19+'ごみ搬入量内訳(その他)'!AI19+'ごみ搬入量内訳(直接埋立)'!AI19+'ごみ搬入量内訳(海洋投入)'!AI19","v":0}]
["秋田県","05215","仙北市",{"$f":"SUM(E20:AI20)","v":0},{"$f":"'ごみ搬入量内訳(直接資源化)'!E20+'ごみ搬入量内訳(焼却)'!E20+'ごみ搬入量内訳(粗大)'!E20+'ごみ搬入量内訳(堆肥化)'!E20+'ごみ搬入量内訳(飼料化)'!E20+'ごみ搬入量内訳(メタン化)'!E20+'ごみ搬入量内訳(燃料化)'!E20+'ごみ搬入量内訳(セメント)'!E20+'ごみ搬入量内訳(資源化等)'!E20+'ごみ搬入量内訳(その他)'!E20+'ごみ搬入量内訳(直接埋立)'!E20+'ごみ搬入量内訳(海洋投入)'!E20","v":0},{"$f":"'ごみ搬入量内訳(直接資源化)'!F20+'ごみ搬入量内訳(焼却)'!F20+'ごみ搬入量内訳(粗大)'!F20+'ごみ搬入量内訳(堆肥化)'!F20+'ごみ搬入量内訳(飼料化)'!F20+'ごみ搬入量内訳(メタン化)'!F20+'ごみ搬入量内訳(燃料化)'!F20+'ごみ搬入量内訳(セメント)'!F20+'ごみ搬入量内訳(資源化等)'!F20+'ごみ搬入量内訳(その他)'!F20+'ごみ搬入量内訳(直接埋立)'!F20+'ごみ搬入量内訳(海洋投入)'!F20","v":0},{"$f":"'ごみ搬入量内訳(直接資源化)'!G20+'ごみ搬入量内訳(焼却)'!G20+'ごみ搬入量内訳(粗大)'!G20+'ごみ搬入量内訳(堆肥化)'!G20+'ごみ搬入量内訳(飼料化)'!G20+'ごみ搬入量内訳(メタン化)'!G20+'ごみ搬入量内訳(燃料化)'!G20+'ごみ搬入量内訳(セメント)'!G20+'ごみ搬入量内訳(資源化等)'!G20+'ごみ搬入量内訳(その他)'!G20+'ごみ搬入量内訳(直接埋立)'!G20+'ごみ搬入量内訳(海洋投入)'!G20","v":0},{"$f":"'ごみ搬入量内訳(直接資源化)'!H20+'ごみ搬入量内訳(焼却)'!H20+'ごみ搬入量内訳(粗大)'!H20+'ごみ搬入量内訳(堆肥化)'!H20+'ごみ搬入量内訳(飼料化)'!H20+'ごみ搬入量内訳(メタン化)'!H20+'ごみ搬入量内訳(燃料化)'!H20+'ごみ搬入量内訳(セメント)'!H20+'ごみ搬入量内訳(資源化等)'!H20+'ごみ搬入量内訳(その他)'!H20+'ごみ搬入量内訳(直接埋立)'!H20+'ごみ搬入量内訳(海洋投入)'!H20","v":0},{"$f":"'ごみ搬入量内訳(直接資源化)'!I20+'ごみ搬入量内訳(焼却)'!I20+'ごみ搬入量内訳(粗大)'!I20+'ごみ搬入量内訳(堆肥化)'!I20+'ごみ搬入量内訳(飼料化)'!I20+'ごみ搬入量内訳(メタン化)'!I20+'ごみ搬入量内訳(燃料化)'!I20+'ごみ搬入量内訳(セメント)'!I20+'ごみ搬入量内訳(資源化等)'!I20+'ごみ搬入量内訳(その他)'!I20+'ごみ搬入量内訳(直接埋立)'!I20+'ごみ搬入量内訳(海洋投入)'!I20","v":0},{"$f":"'ごみ搬入量内訳(直接資源化)'!J20+'ごみ搬入量内訳(焼却)'!J20+'ごみ搬入量内訳(粗大)'!J20+'ごみ搬入量内訳(堆肥化)'!J20+'ごみ搬入量内訳(飼料化)'!J20+'ごみ搬入量内訳(メタン化)'!J20+'ごみ搬入量内訳(燃料化)'!J20+'ごみ搬入量内訳(セメント)'!J20+'ごみ搬入量内訳(資源化等)'!J20+'ごみ搬入量内訳(その他)'!J20+'ごみ搬入量内訳(直接埋立)'!J20+'ごみ搬入量内訳(海洋投入)'!J20","v":0},{"$f":"'ごみ搬入量内訳(直接資源化)'!K20+'ごみ搬入量内訳(焼却)'!K20+'ごみ搬入量内訳(粗大)'!K20+'ごみ搬入量内訳(堆肥化)'!K20+'ごみ搬入量内訳(飼料化)'!K20+'ごみ搬入量内訳(メタン化)'!K20+'ごみ搬入量内訳(燃料化)'!K20+'ごみ搬入量内訳(セメント)'!K20+'ごみ搬入量内訳(資源化等)'!K20+'ごみ搬入量内訳(その他)'!K20+'ごみ搬入量内訳(直接埋立)'!K20+'ごみ搬入量内訳(海洋投入)'!K20","v":0},{"$f":"'ごみ搬入量内訳(直接資源化)'!L20+'ごみ搬入量内訳(焼却)'!L20+'ごみ搬入量内訳(粗大)'!L20+'ごみ搬入量内訳(堆肥化)'!L20+'ごみ搬入量内訳(飼料化)'!L20+'ごみ搬入量内訳(メタン化)'!L20+'ごみ搬入量内訳(燃料化)'!L20+'ごみ搬入量内訳(セメント)'!L20+'ごみ搬入量内訳(資源化等)'!L20+'ごみ搬入量内訳(その他)'!L20+'ごみ搬入量内訳(直接埋立)'!L20+'ごみ搬入量内訳(海洋投入)'!L20","v":0},{"$f":"'ごみ搬入量内訳(直接資源化)'!M20+'ごみ搬入量内訳(焼却)'!M20+'ごみ搬入量内訳(粗大)'!M20+'ごみ搬入量内訳(堆肥化)'!M20+'ごみ搬入量内訳(飼料化)'!M20+'ごみ搬入量内訳(メタン化)'!M20+'ごみ搬入量内訳(燃料化)'!M20+'ごみ搬入量内訳(セメント)'!M20+'ごみ搬入量内訳(資源化等)'!M20+'ごみ搬入量内訳(その他)'!M20+'ごみ搬入量内訳(直接埋立)'!M20+'ごみ搬入量内訳(海洋投入)'!M20","v":0},{"$f":"'ごみ搬入量内訳(直接資源化)'!N20+'ごみ搬入量内訳(焼却)'!N20+'ごみ搬入量内訳(粗大)'!N20+'ごみ搬入量内訳(堆肥化)'!N20+'ごみ搬入量内訳(飼料化)'!N20+'ごみ搬入量内訳(メタン化)'!N20+'ごみ搬入量内訳(燃料化)'!N20+'ごみ搬入量内訳(セメント)'!N20+'ごみ搬入量内訳(資源化等)'!N20+'ごみ搬入量内訳(その他)'!N20+'ごみ搬入量内訳(直接埋立)'!N20+'ごみ搬入量内訳(海洋投入)'!N20","v":0},{"$f":"'ごみ搬入量内訳(直接資源化)'!O20+'ごみ搬入量内訳(焼却)'!O20+'ごみ搬入量内訳(粗大)'!O20+'ごみ搬入量内訳(堆肥化)'!O20+'ごみ搬入量内訳(飼料化)'!O20+'ごみ搬入量内訳(メタン化)'!O20+'ごみ搬入量内訳(燃料化)'!O20+'ごみ搬入量内訳(セメント)'!O20+'ごみ搬入量内訳(資源化等)'!O20+'ごみ搬入量内訳(その他)'!O20+'ごみ搬入量内訳(直接埋立)'!O20+'ごみ搬入量内訳(海洋投入)'!O20","v":0},{"$f":"'ごみ搬入量内訳(直接資源化)'!P20+'ごみ搬入量内訳(焼却)'!P20+'ごみ搬入量内訳(粗大)'!P20+'ごみ搬入量内訳(堆肥化)'!P20+'ごみ搬入量内訳(飼料化)'!P20+'ごみ搬入量内訳(メタン化)'!P20+'ごみ搬入量内訳(燃料化)'!P20+'ごみ搬入量内訳(セメント)'!P20+'ごみ搬入量内訳(資源化等)'!P20+'ごみ搬入量内訳(その他)'!P20+'ごみ搬入量内訳(直接埋立)'!P20+'ごみ搬入量内訳(海洋投入)'!P20","v":0},{"$f":"'ごみ搬入量内訳(直接資源化)'!Q20+'ごみ搬入量内訳(焼却)'!Q20+'ごみ搬入量内訳(粗大)'!Q20+'ごみ搬入量内訳(堆肥化)'!Q20+'ごみ搬入量内訳(飼料化)'!Q20+'ごみ搬入量内訳(メタン化)'!Q20+'ごみ搬入量内訳(燃料化)'!Q20+'ごみ搬入量内訳(セメント)'!Q20+'ごみ搬入量内訳(資源化等)'!Q20+'ごみ搬入量内訳(その他)'!Q20+'ごみ搬入量内訳(直接埋立)'!Q20+'ごみ搬入量内訳(海洋投入)'!Q20","v":0},{"$f":"'ごみ搬入量内訳(直接資源化)'!R20+'ごみ搬入量内訳(焼却)'!R20+'ごみ搬入量内訳(粗大)'!R20+'ごみ搬入量内訳(堆肥化)'!R20+'ごみ搬入量内訳(飼料化)'!R20+'ごみ搬入量内訳(メタン化)'!R20+'ごみ搬入量内訳(燃料化)'!R20+'ごみ搬入量内訳(セメント)'!R20+'ごみ搬入量内訳(資源化等)'!R20+'ごみ搬入量内訳(その他)'!R20+'ごみ搬入量内訳(直接埋立)'!R20+'ごみ搬入量内訳(海洋投入)'!R20","v":0},{"$f":"'ごみ搬入量内訳(直接資源化)'!S20+'ごみ搬入量内訳(焼却)'!S20+'ごみ搬入量内訳(粗大)'!S20+'ごみ搬入量内訳(堆肥化)'!S20+'ごみ搬入量内訳(飼料化)'!S20+'ごみ搬入量内訳(メタン化)'!S20+'ごみ搬入量内訳(燃料化)'!S20+'ごみ搬入量内訳(セメント)'!S20+'ごみ搬入量内訳(資源化等)'!S20+'ごみ搬入量内訳(その他)'!S20+'ごみ搬入量内訳(直接埋立)'!S20+'ごみ搬入量内訳(海洋投入)'!S20","v":0},{"$f":"'ごみ搬入量内訳(直接資源化)'!T20+'ごみ搬入量内訳(焼却)'!T20+'ごみ搬入量内訳(粗大)'!T20+'ごみ搬入量内訳(堆肥化)'!T20+'ごみ搬入量内訳(飼料化)'!T20+'ごみ搬入量内訳(メタン化)'!T20+'ごみ搬入量内訳(燃料化)'!T20+'ごみ搬入量内訳(セメント)'!T20+'ごみ搬入量内訳(資源化等)'!T20+'ごみ搬入量内訳(その他)'!T20+'ごみ搬入量内訳(直接埋立)'!T20+'ごみ搬入量内訳(海洋投入)'!T20","v":0},{"$f":"'ごみ搬入量内訳(直接資源化)'!U20+'ごみ搬入量内訳(焼却)'!U20+'ごみ搬入量内訳(粗大)'!U20+'ごみ搬入量内訳(堆肥化)'!U20+'ごみ搬入量内訳(飼料化)'!U20+'ごみ搬入量内訳(メタン化)'!U20+'ごみ搬入量内訳(燃料化)'!U20+'ごみ搬入量内訳(セメント)'!U20+'ごみ搬入量内訳(資源化等)'!U20+'ごみ搬入量内訳(その他)'!U20+'ごみ搬入量内訳(直接埋立)'!U20+'ごみ搬入量内訳(海洋投入)'!U20","v":0},{"$f":"'ごみ搬入量内訳(直接資源化)'!V20+'ごみ搬入量内訳(焼却)'!V20+'ごみ搬入量内訳(粗大)'!V20+'ごみ搬入量内訳(堆肥化)'!V20+'ごみ搬入量内訳(飼料化)'!V20+'ごみ搬入量内訳(メタン化)'!V20+'ごみ搬入量内訳(燃料化)'!V20+'ごみ搬入量内訳(セメント)'!V20+'ごみ搬入量内訳(資源化等)'!V20+'ごみ搬入量内訳(その他)'!V20+'ごみ搬入量内訳(直接埋立)'!V20+'ごみ搬入量内訳(海洋投入)'!V20","v":0},{"$f":"'ごみ搬入量内訳(直接資源化)'!W20+'ごみ搬入量内訳(焼却)'!W20+'ごみ搬入量内訳(粗大)'!W20+'ごみ搬入量内訳(堆肥化)'!W20+'ごみ搬入量内訳(飼料化)'!W20+'ごみ搬入量内訳(メタン化)'!W20+'ごみ搬入量内訳(燃料化)'!W20+'ごみ搬入量内訳(セメント)'!W20+'ごみ搬入量内訳(資源化等)'!W20+'ごみ搬入量内訳(その他)'!W20+'ごみ搬入量内訳(直接埋立)'!W20+'ごみ搬入量内訳(海洋投入)'!W20","v":0},{"$f":"'ごみ搬入量内訳(直接資源化)'!X20+'ごみ搬入量内訳(焼却)'!X20+'ごみ搬入量内訳(粗大)'!X20+'ごみ搬入量内訳(堆肥化)'!X20+'ごみ搬入量内訳(飼料化)'!X20+'ごみ搬入量内訳(メタン化)'!X20+'ごみ搬入量内訳(燃料化)'!X20+'ごみ搬入量内訳(セメント)'!X20+'ごみ搬入量内訳(資源化等)'!X20+'ごみ搬入量内訳(その他)'!X20+'ごみ搬入量内訳(直接埋立)'!X20+'ごみ搬入量内訳(海洋投入)'!X20","v":0},{"$f":"'ごみ搬入量内訳(直接資源化)'!Y20+'ごみ搬入量内訳(焼却)'!Y20+'ごみ搬入量内訳(粗大)'!Y20+'ごみ搬入量内訳(堆肥化)'!Y20+'ごみ搬入量内訳(飼料化)'!Y20+'ごみ搬入量内訳(メタン化)'!Y20+'ごみ搬入量内訳(燃料化)'!Y20+'ごみ搬入量内訳(セメント)'!Y20+'ごみ搬入量内訳(資源化等)'!Y20+'ごみ搬入量内訳(その他)'!Y20+'ごみ搬入量内訳(直接埋立)'!Y20+'ごみ搬入量内訳(海洋投入)'!Y20","v":0},{"$f":"'ごみ搬入量内訳(直接資源化)'!Z20+'ごみ搬入量内訳(焼却)'!Z20+'ごみ搬入量内訳(粗大)'!Z20+'ごみ搬入量内訳(堆肥化)'!Z20+'ごみ搬入量内訳(飼料化)'!Z20+'ごみ搬入量内訳(メタン化)'!Z20+'ごみ搬入量内訳(燃料化)'!Z20+'ごみ搬入量内訳(セメント)'!Z20+'ごみ搬入量内訳(資源化等)'!Z20+'ごみ搬入量内訳(その他)'!Z20+'ごみ搬入量内訳(直接埋立)'!Z20+'ごみ搬入量内訳(海洋投入)'!Z20","v":0},{"$f":"'ごみ搬入量内訳(直接資源化)'!AA20+'ごみ搬入量内訳(焼却)'!AA20+'ごみ搬入量内訳(粗大)'!AA20+'ごみ搬入量内訳(堆肥化)'!AA20+'ごみ搬入量内訳(飼料化)'!AA20+'ごみ搬入量内訳(メタン化)'!AA20+'ごみ搬入量内訳(燃料化)'!AA20+'ごみ搬入量内訳(セメント)'!AA20+'ごみ搬入量内訳(資源化等)'!AA20+'ごみ搬入量内訳(その他)'!AA20+'ごみ搬入量内訳(直接埋立)'!AA20+'ごみ搬入量内訳(海洋投入)'!AA20","v":0},{"$f":"'ごみ搬入量内訳(直接資源化)'!AB20+'ごみ搬入量内訳(焼却)'!AB20+'ごみ搬入量内訳(粗大)'!AB20+'ごみ搬入量内訳(堆肥化)'!AB20+'ごみ搬入量内訳(飼料化)'!AB20+'ごみ搬入量内訳(メタン化)'!AB20+'ごみ搬入量内訳(燃料化)'!AB20+'ごみ搬入量内訳(セメント)'!AB20+'ごみ搬入量内訳(資源化等)'!AB20+'ごみ搬入量内訳(その他)'!AB20+'ごみ搬入量内訳(直接埋立)'!AB20+'ごみ搬入量内訳(海洋投入)'!AB20","v":0},{"$f":"'ごみ搬入量内訳(直接資源化)'!AC20+'ごみ搬入量内訳(焼却)'!AC20+'ごみ搬入量内訳(粗大)'!AC20+'ごみ搬入量内訳(堆肥化)'!AC20+'ごみ搬入量内訳(飼料化)'!AC20+'ごみ搬入量内訳(メタン化)'!AC20+'ごみ搬入量内訳(燃料化)'!AC20+'ごみ搬入量内訳(セメント)'!AC20+'ごみ搬入量内訳(資源化等)'!AC20+'ごみ搬入量内訳(その他)'!AC20+'ごみ搬入量内訳(直接埋立)'!AC20+'ごみ搬入量内訳(海洋投入)'!AC20","v":0},{"$f":"'ごみ搬入量内訳(直接資源化)'!AD20+'ごみ搬入量内訳(焼却)'!AD20+'ごみ搬入量内訳(粗大)'!AD20+'ごみ搬入量内訳(堆肥化)'!AD20+'ごみ搬入量内訳(飼料化)'!AD20+'ごみ搬入量内訳(メタン化)'!AD20+'ごみ搬入量内訳(燃料化)'!AD20+'ごみ搬入量内訳(セメント)'!AD20+'ごみ搬入量内訳(資源化等)'!AD20+'ごみ搬入量内訳(その他)'!AD20+'ごみ搬入量内訳(直接埋立)'!AD20+'ごみ搬入量内訳(海洋投入)'!AD20","v":0},{"$f":"'ごみ搬入量内訳(直接資源化)'!AE20+'ごみ搬入量内訳(焼却)'!AE20+'ごみ搬入量内訳(粗大)'!AE20+'ごみ搬入量内訳(堆肥化)'!AE20+'ごみ搬入量内訳(飼料化)'!AE20+'ごみ搬入量内訳(メタン化)'!AE20+'ごみ搬入量内訳(燃料化)'!AE20+'ごみ搬入量内訳(セメント)'!AE20+'ごみ搬入量内訳(資源化等)'!AE20+'ごみ搬入量内訳(その他)'!AE20+'ごみ搬入量内訳(直接埋立)'!AE20+'ごみ搬入量内訳(海洋投入)'!AE20","v":0},{"$f":"'ごみ搬入量内訳(直接資源化)'!AF20+'ごみ搬入量内訳(焼却)'!AF20+'ごみ搬入量内訳(粗大)'!AF20+'ごみ搬入量内訳(堆肥化)'!AF20+'ごみ搬入量内訳(飼料化)'!AF20+'ごみ搬入量内訳(メタン化)'!AF20+'ごみ搬入量内訳(燃料化)'!AF20+'ごみ搬入量内訳(セメント)'!AF20+'ごみ搬入量内訳(資源化等)'!AF20+'ごみ搬入量内訳(その他)'!AF20+'ごみ搬入量内訳(直接埋立)'!AF20+'ごみ搬入量内訳(海洋投入)'!AF20","v":0},{"$f":"'ごみ搬入量内訳(直接資源化)'!AG20+'ごみ搬入量内訳(焼却)'!AG20+'ごみ搬入量内訳(粗大)'!AG20+'ごみ搬入量内訳(堆肥化)'!AG20+'ごみ搬入量内訳(飼料化)'!AG20+'ごみ搬入量内訳(メタン化)'!AG20+'ごみ搬入量内訳(燃料化)'!AG20+'ごみ搬入量内訳(セメント)'!AG20+'ごみ搬入量内訳(資源化等)'!AG20+'ごみ搬入量内訳(その他)'!AG20+'ごみ搬入量内訳(直接埋立)'!AG20+'ごみ搬入量内訳(海洋投入)'!AG20","v":0},{"$f":"'ごみ搬入量内訳(直接資源化)'!AH20+'ごみ搬入量内訳(焼却)'!AH20+'ごみ搬入量内訳(粗大)'!AH20+'ごみ搬入量内訳(堆肥化)'!AH20+'ごみ搬入量内訳(飼料化)'!AH20+'ごみ搬入量内訳(メタン化)'!AH20+'ごみ搬入量内訳(燃料化)'!AH20+'ごみ搬入量内訳(セメント)'!AH20+'ごみ搬入量内訳(資源化等)'!AH20+'ごみ搬入量内訳(その他)'!AH20+'ごみ搬入量内訳(直接埋立)'!AH20+'ごみ搬入量内訳(海洋投入)'!AH20","v":0},{"$f":"'ごみ搬入量内訳(直接資源化)'!AI20+'ごみ搬入量内訳(焼却)'!AI20+'ごみ搬入量内訳(粗大)'!AI20+'ごみ搬入量内訳(堆肥化)'!AI20+'ごみ搬入量内訳(飼料化)'!AI20+'ごみ搬入量内訳(メタン化)'!AI20+'ごみ搬入量内訳(燃料化)'!AI20+'ごみ搬入量内訳(セメント)'!AI20+'ごみ搬入量内訳(資源化等)'!AI20+'ごみ搬入量内訳(その他)'!AI20+'ごみ搬入量内訳(直接埋立)'!AI20+'ごみ搬入量内訳(海洋投入)'!AI20","v":0}]
["秋田県","05303","小坂町",{"$f":"SUM(E21:AI21)","v":0},{"$f":"'ごみ搬入量内訳(直接資源化)'!E21+'ごみ搬入量内訳(焼却)'!E21+'ごみ搬入量内訳(粗大)'!E21+'ごみ搬入量内訳(堆肥化)'!E21+'ごみ搬入量内訳(飼料化)'!E21+'ごみ搬入量内訳(メタン化)'!E21+'ごみ搬入量内訳(燃料化)'!E21+'ごみ搬入量内訳(セメント)'!E21+'ごみ搬入量内訳(資源化等)'!E21+'ごみ搬入量内訳(その他)'!E21+'ごみ搬入量内訳(直接埋立)'!E21+'ごみ搬入量内訳(海洋投入)'!E21","v":0},{"$f":"'ごみ搬入量内訳(直接資源化)'!F21+'ごみ搬入量内訳(焼却)'!F21+'ごみ搬入量内訳(粗大)'!F21+'ごみ搬入量内訳(堆肥化)'!F21+'ごみ搬入量内訳(飼料化)'!F21+'ごみ搬入量内訳(メタン化)'!F21+'ごみ搬入量内訳(燃料化)'!F21+'ごみ搬入量内訳(セメント)'!F21+'ごみ搬入量内訳(資源化等)'!F21+'ごみ搬入量内訳(その他)'!F21+'ごみ搬入量内訳(直接埋立)'!F21+'ごみ搬入量内訳(海洋投入)'!F21","v":0},{"$f":"'ごみ搬入量内訳(直接資源化)'!G21+'ごみ搬入量内訳(焼却)'!G21+'ごみ搬入量内訳(粗大)'!G21+'ごみ搬入量内訳(堆肥化)'!G21+'ごみ搬入量内訳(飼料化)'!G21+'ごみ搬入量内訳(メタン化)'!G21+'ごみ搬入量内訳(燃料化)'!G21+'ごみ搬入量内訳(セメント)'!G21+'ごみ搬入量内訳(資源化等)'!G21+'ごみ搬入量内訳(その他)'!G21+'ごみ搬入量内訳(直接埋立)'!G21+'ごみ搬入量内訳(海洋投入)'!G21","v":0},{"$f":"'ごみ搬入量内訳(直接資源化)'!H21+'ごみ搬入量内訳(焼却)'!H21+'ごみ搬入量内訳(粗大)'!H21+'ごみ搬入量内訳(堆肥化)'!H21+'ごみ搬入量内訳(飼料化)'!H21+'ごみ搬入量内訳(メタン化)'!H21+'ごみ搬入量内訳(燃料化)'!H21+'ごみ搬入量内訳(セメント)'!H21+'ごみ搬入量内訳(資源化等)'!H21+'ごみ搬入量内訳(その他)'!H21+'ごみ搬入量内訳(直接埋立)'!H21+'ごみ搬入量内訳(海洋投入)'!H21","v":0},{"$f":"'ごみ搬入量内訳(直接資源化)'!I21+'ごみ搬入量内訳(焼却)'!I21+'ごみ搬入量内訳(粗大)'!I21+'ごみ搬入量内訳(堆肥化)'!I21+'ごみ搬入量内訳(飼料化)'!I21+'ごみ搬入量内訳(メタン化)'!I21+'ごみ搬入量内訳(燃料化)'!I21+'ごみ搬入量内訳(セメント)'!I21+'ごみ搬入量内訳(資源化等)'!I21+'ごみ搬入量内訳(その他)'!I21+'ごみ搬入量内訳(直接埋立)'!I21+'ごみ搬入量内訳(海洋投入)'!I21","v":0},{"$f":"'ごみ搬入量内訳(直接資源化)'!J21+'ごみ搬入量内訳(焼却)'!J21+'ごみ搬入量内訳(粗大)'!J21+'ごみ搬入量内訳(堆肥化)'!J21+'ごみ搬入量内訳(飼料化)'!J21+'ごみ搬入量内訳(メタン化)'!J21+'ごみ搬入量内訳(燃料化)'!J21+'ごみ搬入量内訳(セメント)'!J21+'ごみ搬入量内訳(資源化等)'!J21+'ごみ搬入量内訳(その他)'!J21+'ごみ搬入量内訳(直接埋立)'!J21+'ごみ搬入量内訳(海洋投入)'!J21","v":0},{"$f":"'ごみ搬入量内訳(直接資源化)'!K21+'ごみ搬入量内訳(焼却)'!K21+'ごみ搬入量内訳(粗大)'!K21+'ごみ搬入量内訳(堆肥化)'!K21+'ごみ搬入量内訳(飼料化)'!K21+'ごみ搬入量内訳(メタン化)'!K21+'ごみ搬入量内訳(燃料化)'!K21+'ごみ搬入量内訳(セメント)'!K21+'ごみ搬入量内訳(資源化等)'!K21+'ごみ搬入量内訳(その他)'!K21+'ごみ搬入量内訳(直接埋立)'!K21+'ごみ搬入量内訳(海洋投入)'!K21","v":0},{"$f":"'ごみ搬入量内訳(直接資源化)'!L21+'ごみ搬入量内訳(焼却)'!L21+'ごみ搬入量内訳(粗大)'!L21+'ごみ搬入量内訳(堆肥化)'!L21+'ごみ搬入量内訳(飼料化)'!L21+'ごみ搬入量内訳(メタン化)'!L21+'ごみ搬入量内訳(燃料化)'!L21+'ごみ搬入量内訳(セメント)'!L21+'ごみ搬入量内訳(資源化等)'!L21+'ごみ搬入量内訳(その他)'!L21+'ごみ搬入量内訳(直接埋立)'!L21+'ごみ搬入量内訳(海洋投入)'!L21","v":0},{"$f":"'ごみ搬入量内訳(直接資源化)'!M21+'ごみ搬入量内訳(焼却)'!M21+'ごみ搬入量内訳(粗大)'!M21+'ごみ搬入量内訳(堆肥化)'!M21+'ごみ搬入量内訳(飼料化)'!M21+'ごみ搬入量内訳(メタン化)'!M21+'ごみ搬入量内訳(燃料化)'!M21+'ごみ搬入量内訳(セメント)'!M21+'ごみ搬入量内訳(資源化等)'!M21+'ごみ搬入量内訳(その他)'!M21+'ごみ搬入量内訳(直接埋立)'!M21+'ごみ搬入量内訳(海洋投入)'!M21","v":0},{"$f":"'ごみ搬入量内訳(直接資源化)'!N21+'ごみ搬入量内訳(焼却)'!N21+'ごみ搬入量内訳(粗大)'!N21+'ごみ搬入量内訳(堆肥化)'!N21+'ごみ搬入量内訳(飼料化)'!N21+'ごみ搬入量内訳(メタン化)'!N21+'ごみ搬入量内訳(燃料化)'!N21+'ごみ搬入量内訳(セメント)'!N21+'ごみ搬入量内訳(資源化等)'!N21+'ごみ搬入量内訳(その他)'!N21+'ごみ搬入量内訳(直接埋立)'!N21+'ごみ搬入量内訳(海洋投入)'!N21","v":0},{"$f":"'ごみ搬入量内訳(直接資源化)'!O21+'ごみ搬入量内訳(焼却)'!O21+'ごみ搬入量内訳(粗大)'!O21+'ごみ搬入量内訳(堆肥化)'!O21+'ごみ搬入量内訳(飼料化)'!O21+'ごみ搬入量内訳(メタン化)'!O21+'ごみ搬入量内訳(燃料化)'!O21+'ごみ搬入量内訳(セメント)'!O21+'ごみ搬入量内訳(資源化等)'!O21+'ごみ搬入量内訳(その他)'!O21+'ごみ搬入量内訳(直接埋立)'!O21+'ごみ搬入量内訳(海洋投入)'!O21","v":0},{"$f":"'ごみ搬入量内訳(直接資源化)'!P21+'ごみ搬入量内訳(焼却)'!P21+'ごみ搬入量内訳(粗大)'!P21+'ごみ搬入量内訳(堆肥化)'!P21+'ごみ搬入量内訳(飼料化)'!P21+'ごみ搬入量内訳(メタン化)'!P21+'ごみ搬入量内訳(燃料化)'!P21+'ごみ搬入量内訳(セメント)'!P21+'ごみ搬入量内訳(資源化等)'!P21+'ごみ搬入量内訳(その他)'!P21+'ごみ搬入量内訳(直接埋立)'!P21+'ごみ搬入量内訳(海洋投入)'!P21","v":0},{"$f":"'ごみ搬入量内訳(直接資源化)'!Q21+'ごみ搬入量内訳(焼却)'!Q21+'ごみ搬入量内訳(粗大)'!Q21+'ごみ搬入量内訳(堆肥化)'!Q21+'ごみ搬入量内訳(飼料化)'!Q21+'ごみ搬入量内訳(メタン化)'!Q21+'ごみ搬入量内訳(燃料化)'!Q21+'ごみ搬入量内訳(セメント)'!Q21+'ごみ搬入量内訳(資源化等)'!Q21+'ごみ搬入量内訳(その他)'!Q21+'ごみ搬入量内訳(直接埋立)'!Q21+'ごみ搬入量内訳(海洋投入)'!Q21","v":0},{"$f":"'ごみ搬入量内訳(直接資源化)'!R21+'ごみ搬入量内訳(焼却)'!R21+'ごみ搬入量内訳(粗大)'!R21+'ごみ搬入量内訳(堆肥化)'!R21+'ごみ搬入量内訳(飼料化)'!R21+'ごみ搬入量内訳(メタン化)'!R21+'ごみ搬入量内訳(燃料化)'!R21+'ごみ搬入量内訳(セメント)'!R21+'ごみ搬入量内訳(資源化等)'!R21+'ごみ搬入量内訳(その他)'!R21+'ごみ搬入量内訳(直接埋立)'!R21+'ごみ搬入量内訳(海洋投入)'!R21","v":0},{"$f":"'ごみ搬入量内訳(直接資源化)'!S21+'ごみ搬入量内訳(焼却)'!S21+'ごみ搬入量内訳(粗大)'!S21+'ごみ搬入量内訳(堆肥化)'!S21+'ごみ搬入量内訳(飼料化)'!S21+'ごみ搬入量内訳(メタン化)'!S21+'ごみ搬入量内訳(燃料化)'!S21+'ごみ搬入量内訳(セメント)'!S21+'ごみ搬入量内訳(資源化等)'!S21+'ごみ搬入量内訳(その他)'!S21+'ごみ搬入量内訳(直接埋立)'!S21+'ごみ搬入量内訳(海洋投入)'!S21","v":0},{"$f":"'ごみ搬入量内訳(直接資源化)'!T21+'ごみ搬入量内訳(焼却)'!T21+'ごみ搬入量内訳(粗大)'!T21+'ごみ搬入量内訳(堆肥化)'!T21+'ごみ搬入量内訳(飼料化)'!T21+'ごみ搬入量内訳(メタン化)'!T21+'ごみ搬入量内訳(燃料化)'!T21+'ごみ搬入量内訳(セメント)'!T21+'ごみ搬入量内訳(資源化等)'!T21+'ごみ搬入量内訳(その他)'!T21+'ごみ搬入量内訳(直接埋立)'!T21+'ごみ搬入量内訳(海洋投入)'!T21","v":0},{"$f":"'ごみ搬入量内訳(直接資源化)'!U21+'ごみ搬入量内訳(焼却)'!U21+'ごみ搬入量内訳(粗大)'!U21+'ごみ搬入量内訳(堆肥化)'!U21+'ごみ搬入量内訳(飼料化)'!U21+'ごみ搬入量内訳(メタン化)'!U21+'ごみ搬入量内訳(燃料化)'!U21+'ごみ搬入量内訳(セメント)'!U21+'ごみ搬入量内訳(資源化等)'!U21+'ごみ搬入量内訳(その他)'!U21+'ごみ搬入量内訳(直接埋立)'!U21+'ごみ搬入量内訳(海洋投入)'!U21","v":0},{"$f":"'ごみ搬入量内訳(直接資源化)'!V21+'ごみ搬入量内訳(焼却)'!V21+'ごみ搬入量内訳(粗大)'!V21+'ごみ搬入量内訳(堆肥化)'!V21+'ごみ搬入量内訳(飼料化)'!V21+'ごみ搬入量内訳(メタン化)'!V21+'ごみ搬入量内訳(燃料化)'!V21+'ごみ搬入量内訳(セメント)'!V21+'ごみ搬入量内訳(資源化等)'!V21+'ごみ搬入量内訳(その他)'!V21+'ごみ搬入量内訳(直接埋立)'!V21+'ごみ搬入量内訳(海洋投入)'!V21","v":0},{"$f":"'ごみ搬入量内訳(直接資源化)'!W21+'ごみ搬入量内訳(焼却)'!W21+'ごみ搬入量内訳(粗大)'!W21+'ごみ搬入量内訳(堆肥化)'!W21+'ごみ搬入量内訳(飼料化)'!W21+'ごみ搬入量内訳(メタン化)'!W21+'ごみ搬入量内訳(燃料化)'!W21+'ごみ搬入量内訳(セメント)'!W21+'ごみ搬入量内訳(資源化等)'!W21+'ごみ搬入量内訳(その他)'!W21+'ごみ搬入量内訳(直接埋立)'!W21+'ごみ搬入量内訳(海洋投入)'!W21","v":0},{"$f":"'ごみ搬入量内訳(直接資源化)'!X21+'ごみ搬入量内訳(焼却)'!X21+'ごみ搬入量内訳(粗大)'!X21+'ごみ搬入量内訳(堆肥化)'!X21+'ごみ搬入量内訳(飼料化)'!X21+'ごみ搬入量内訳(メタン化)'!X21+'ごみ搬入量内訳(燃料化)'!X21+'ごみ搬入量内訳(セメント)'!X21+'ごみ搬入量内訳(資源化等)'!X21+'ごみ搬入量内訳(その他)'!X21+'ごみ搬入量内訳(直接埋立)'!X21+'ごみ搬入量内訳(海洋投入)'!X21","v":0},{"$f":"'ごみ搬入量内訳(直接資源化)'!Y21+'ごみ搬入量内訳(焼却)'!Y21+'ごみ搬入量内訳(粗大)'!Y21+'ごみ搬入量内訳(堆肥化)'!Y21+'ごみ搬入量内訳(飼料化)'!Y21+'ごみ搬入量内訳(メタン化)'!Y21+'ごみ搬入量内訳(燃料化)'!Y21+'ごみ搬入量内訳(セメント)'!Y21+'ごみ搬入量内訳(資源化等)'!Y21+'ごみ搬入量内訳(その他)'!Y21+'ごみ搬入量内訳(直接埋立)'!Y21+'ごみ搬入量内訳(海洋投入)'!Y21","v":0},{"$f":"'ごみ搬入量内訳(直接資源化)'!Z21+'ごみ搬入量内訳(焼却)'!Z21+'ごみ搬入量内訳(粗大)'!Z21+'ごみ搬入量内訳(堆肥化)'!Z21+'ごみ搬入量内訳(飼料化)'!Z21+'ごみ搬入量内訳(メタン化)'!Z21+'ごみ搬入量内訳(燃料化)'!Z21+'ごみ搬入量内訳(セメント)'!Z21+'ごみ搬入量内訳(資源化等)'!Z21+'ごみ搬入量内訳(その他)'!Z21+'ごみ搬入量内訳(直接埋立)'!Z21+'ごみ搬入量内訳(海洋投入)'!Z21","v":0},{"$f":"'ごみ搬入量内訳(直接資源化)'!AA21+'ごみ搬入量内訳(焼却)'!AA21+'ごみ搬入量内訳(粗大)'!AA21+'ごみ搬入量内訳(堆肥化)'!AA21+'ごみ搬入量内訳(飼料化)'!AA21+'ごみ搬入量内訳(メタン化)'!AA21+'ごみ搬入量内訳(燃料化)'!AA21+'ごみ搬入量内訳(セメント)'!AA21+'ごみ搬入量内訳(資源化等)'!AA21+'ごみ搬入量内訳(その他)'!AA21+'ごみ搬入量内訳(直接埋立)'!AA21+'ごみ搬入量内訳(海洋投入)'!AA21","v":0},{"$f":"'ごみ搬入量内訳(直接資源化)'!AB21+'ごみ搬入量内訳(焼却)'!AB21+'ごみ搬入量内訳(粗大)'!AB21+'ごみ搬入量内訳(堆肥化)'!AB21+'ごみ搬入量内訳(飼料化)'!AB21+'ごみ搬入量内訳(メタン化)'!AB21+'ごみ搬入量内訳(燃料化)'!AB21+'ごみ搬入量内訳(セメント)'!AB21+'ごみ搬入量内訳(資源化等)'!AB21+'ごみ搬入量内訳(その他)'!AB21+'ごみ搬入量内訳(直接埋立)'!AB21+'ごみ搬入量内訳(海洋投入)'!AB21","v":0},{"$f":"'ごみ搬入量内訳(直接資源化)'!AC21+'ごみ搬入量内訳(焼却)'!AC21+'ごみ搬入量内訳(粗大)'!AC21+'ごみ搬入量内訳(堆肥化)'!AC21+'ごみ搬入量内訳(飼料化)'!AC21+'ごみ搬入量内訳(メタン化)'!AC21+'ごみ搬入量内訳(燃料化)'!AC21+'ごみ搬入量内訳(セメント)'!AC21+'ごみ搬入量内訳(資源化等)'!AC21+'ごみ搬入量内訳(その他)'!AC21+'ごみ搬入量内訳(直接埋立)'!AC21+'ごみ搬入量内訳(海洋投入)'!AC21","v":0},{"$f":"'ごみ搬入量内訳(直接資源化)'!AD21+'ごみ搬入量内訳(焼却)'!AD21+'ごみ搬入量内訳(粗大)'!AD21+'ごみ搬入量内訳(堆肥化)'!AD21+'ごみ搬入量内訳(飼料化)'!AD21+'ごみ搬入量内訳(メタン化)'!AD21+'ごみ搬入量内訳(燃料化)'!AD21+'ごみ搬入量内訳(セメント)'!AD21+'ごみ搬入量内訳(資源化等)'!AD21+'ごみ搬入量内訳(その他)'!AD21+'ごみ搬入量内訳(直接埋立)'!AD21+'ごみ搬入量内訳(海洋投入)'!AD21","v":0},{"$f":"'ごみ搬入量内訳(直接資源化)'!AE21+'ごみ搬入量内訳(焼却)'!AE21+'ごみ搬入量内訳(粗大)'!AE21+'ごみ搬入量内訳(堆肥化)'!AE21+'ごみ搬入量内訳(飼料化)'!AE21+'ごみ搬入量内訳(メタン化)'!AE21+'ごみ搬入量内訳(燃料化)'!AE21+'ごみ搬入量内訳(セメント)'!AE21+'ごみ搬入量内訳(資源化等)'!AE21+'ごみ搬入量内訳(その他)'!AE21+'ごみ搬入量内訳(直接埋立)'!AE21+'ごみ搬入量内訳(海洋投入)'!AE21","v":0},{"$f":"'ごみ搬入量内訳(直接資源化)'!AF21+'ごみ搬入量内訳(焼却)'!AF21+'ごみ搬入量内訳(粗大)'!AF21+'ごみ搬入量内訳(堆肥化)'!AF21+'ごみ搬入量内訳(飼料化)'!AF21+'ごみ搬入量内訳(メタン化)'!AF21+'ごみ搬入量内訳(燃料化)'!AF21+'ごみ搬入量内訳(セメント)'!AF21+'ごみ搬入量内訳(資源化等)'!AF21+'ごみ搬入量内訳(その他)'!AF21+'ごみ搬入量内訳(直接埋立)'!AF21+'ごみ搬入量内訳(海洋投入)'!AF21","v":0},{"$f":"'ごみ搬入量内訳(直接資源化)'!AG21+'ごみ搬入量内訳(焼却)'!AG21+'ごみ搬入量内訳(粗大)'!AG21+'ごみ搬入量内訳(堆肥化)'!AG21+'ごみ搬入量内訳(飼料化)'!AG21+'ごみ搬入量内訳(メタン化)'!AG21+'ごみ搬入量内訳(燃料化)'!AG21+'ごみ搬入量内訳(セメント)'!AG21+'ごみ搬入量内訳(資源化等)'!AG21+'ごみ搬入量内訳(その他)'!AG21+'ごみ搬入量内訳(直接埋立)'!AG21+'ごみ搬入量内訳(海洋投入)'!AG21","v":0},{"$f":"'ごみ搬入量内訳(直接資源化)'!AH21+'ごみ搬入量内訳(焼却)'!AH21+'ごみ搬入量内訳(粗大)'!AH21+'ごみ搬入量内訳(堆肥化)'!AH21+'ごみ搬入量内訳(飼料化)'!AH21+'ごみ搬入量内訳(メタン化)'!AH21+'ごみ搬入量内訳(燃料化)'!AH21+'ごみ搬入量内訳(セメント)'!AH21+'ごみ搬入量内訳(資源化等)'!AH21+'ごみ搬入量内訳(その他)'!AH21+'ごみ搬入量内訳(直接埋立)'!AH21+'ごみ搬入量内訳(海洋投入)'!AH21","v":0},{"$f":"'ごみ搬入量内訳(直接資源化)'!AI21+'ごみ搬入量内訳(焼却)'!AI21+'ごみ搬入量内訳(粗大)'!AI21+'ごみ搬入量内訳(堆肥化)'!AI21+'ごみ搬入量内訳(飼料化)'!AI21+'ごみ搬入量内訳(メタン化)'!AI21+'ごみ搬入量内訳(燃料化)'!AI21+'ごみ搬入量内訳(セメント)'!AI21+'ごみ搬入量内訳(資源化等)'!AI21+'ごみ搬入量内訳(その他)'!AI21+'ごみ搬入量内訳(直接埋立)'!AI21+'ごみ搬入量内訳(海洋投入)'!AI21","v":0}]
["秋田県","05327","上小阿仁村",{"$f":"SUM(E22:AI22)","v":0},{"$f":"'ごみ搬入量内訳(直接資源化)'!E22+'ごみ搬入量内訳(焼却)'!E22+'ごみ搬入量内訳(粗大)'!E22+'ごみ搬入量内訳(堆肥化)'!E22+'ごみ搬入量内訳(飼料化)'!E22+'ごみ搬入量内訳(メタン化)'!E22+'ごみ搬入量内訳(燃料化)'!E22+'ごみ搬入量内訳(セメント)'!E22+'ごみ搬入量内訳(資源化等)'!E22+'ごみ搬入量内訳(その他)'!E22+'ごみ搬入量内訳(直接埋立)'!E22+'ごみ搬入量内訳(海洋投入)'!E22","v":0},{"$f":"'ごみ搬入量内訳(直接資源化)'!F22+'ごみ搬入量内訳(焼却)'!F22+'ごみ搬入量内訳(粗大)'!F22+'ごみ搬入量内訳(堆肥化)'!F22+'ごみ搬入量内訳(飼料化)'!F22+'ごみ搬入量内訳(メタン化)'!F22+'ごみ搬入量内訳(燃料化)'!F22+'ごみ搬入量内訳(セメント)'!F22+'ごみ搬入量内訳(資源化等)'!F22+'ごみ搬入量内訳(その他)'!F22+'ごみ搬入量内訳(直接埋立)'!F22+'ごみ搬入量内訳(海洋投入)'!F22","v":0},{"$f":"'ごみ搬入量内訳(直接資源化)'!G22+'ごみ搬入量内訳(焼却)'!G22+'ごみ搬入量内訳(粗大)'!G22+'ごみ搬入量内訳(堆肥化)'!G22+'ごみ搬入量内訳(飼料化)'!G22+'ごみ搬入量内訳(メタン化)'!G22+'ごみ搬入量内訳(燃料化)'!G22+'ごみ搬入量内訳(セメント)'!G22+'ごみ搬入量内訳(資源化等)'!G22+'ごみ搬入量内訳(その他)'!G22+'ごみ搬入量内訳(直接埋立)'!G22+'ごみ搬入量内訳(海洋投入)'!G22","v":0},{"$f":"'ごみ搬入量内訳(直接資源化)'!H22+'ごみ搬入量内訳(焼却)'!H22+'ごみ搬入量内訳(粗大)'!H22+'ごみ搬入量内訳(堆肥化)'!H22+'ごみ搬入量内訳(飼料化)'!H22+'ごみ搬入量内訳(メタン化)'!H22+'ごみ搬入量内訳(燃料化)'!H22+'ごみ搬入量内訳(セメント)'!H22+'ごみ搬入量内訳(資源化等)'!H22+'ごみ搬入量内訳(その他)'!H22+'ごみ搬入量内訳(直接埋立)'!H22+'ごみ搬入量内訳(海洋投入)'!H22","v":0},{"$f":"'ごみ搬入量内訳(直接資源化)'!I22+'ごみ搬入量内訳(焼却)'!I22+'ごみ搬入量内訳(粗大)'!I22+'ごみ搬入量内訳(堆肥化)'!I22+'ごみ搬入量内訳(飼料化)'!I22+'ごみ搬入量内訳(メタン化)'!I22+'ごみ搬入量内訳(燃料化)'!I22+'ごみ搬入量内訳(セメント)'!I22+'ごみ搬入量内訳(資源化等)'!I22+'ごみ搬入量内訳(その他)'!I22+'ごみ搬入量内訳(直接埋立)'!I22+'ごみ搬入量内訳(海洋投入)'!I22","v":0},{"$f":"'ごみ搬入量内訳(直接資源化)'!J22+'ごみ搬入量内訳(焼却)'!J22+'ごみ搬入量内訳(粗大)'!J22+'ごみ搬入量内訳(堆肥化)'!J22+'ごみ搬入量内訳(飼料化)'!J22+'ごみ搬入量内訳(メタン化)'!J22+'ごみ搬入量内訳(燃料化)'!J22+'ごみ搬入量内訳(セメント)'!J22+'ごみ搬入量内訳(資源化等)'!J22+'ごみ搬入量内訳(その他)'!J22+'ごみ搬入量内訳(直接埋立)'!J22+'ごみ搬入量内訳(海洋投入)'!J22","v":0},{"$f":"'ごみ搬入量内訳(直接資源化)'!K22+'ごみ搬入量内訳(焼却)'!K22+'ごみ搬入量内訳(粗大)'!K22+'ごみ搬入量内訳(堆肥化)'!K22+'ごみ搬入量内訳(飼料化)'!K22+'ごみ搬入量内訳(メタン化)'!K22+'ごみ搬入量内訳(燃料化)'!K22+'ごみ搬入量内訳(セメント)'!K22+'ごみ搬入量内訳(資源化等)'!K22+'ごみ搬入量内訳(その他)'!K22+'ごみ搬入量内訳(直接埋立)'!K22+'ごみ搬入量内訳(海洋投入)'!K22","v":0},{"$f":"'ごみ搬入量内訳(直接資源化)'!L22+'ごみ搬入量内訳(焼却)'!L22+'ごみ搬入量内訳(粗大)'!L22+'ごみ搬入量内訳(堆肥化)'!L22+'ごみ搬入量内訳(飼料化)'!L22+'ごみ搬入量内訳(メタン化)'!L22+'ごみ搬入量内訳(燃料化)'!L22+'ごみ搬入量内訳(セメント)'!L22+'ごみ搬入量内訳(資源化等)'!L22+'ごみ搬入量内訳(その他)'!L22+'ごみ搬入量内訳(直接埋立)'!L22+'ごみ搬入量内訳(海洋投入)'!L22","v":0},{"$f":"'ごみ搬入量内訳(直接資源化)'!M22+'ごみ搬入量内訳(焼却)'!M22+'ごみ搬入量内訳(粗大)'!M22+'ごみ搬入量内訳(堆肥化)'!M22+'ごみ搬入量内訳(飼料化)'!M22+'ごみ搬入量内訳(メタン化)'!M22+'ごみ搬入量内訳(燃料化)'!M22+'ごみ搬入量内訳(セメント)'!M22+'ごみ搬入量内訳(資源化等)'!M22+'ごみ搬入量内訳(その他)'!M22+'ごみ搬入量内訳(直接埋立)'!M22+'ごみ搬入量内訳(海洋投入)'!M22","v":0},{"$f":"'ごみ搬入量内訳(直接資源化)'!N22+'ごみ搬入量内訳(焼却)'!N22+'ごみ搬入量内訳(粗大)'!N22+'ごみ搬入量内訳(堆肥化)'!N22+'ごみ搬入量内訳(飼料化)'!N22+'ごみ搬入量内訳(メタン化)'!N22+'ごみ搬入量内訳(燃料化)'!N22+'ごみ搬入量内訳(セメント)'!N22+'ごみ搬入量内訳(資源化等)'!N22+'ごみ搬入量内訳(その他)'!N22+'ごみ搬入量内訳(直接埋立)'!N22+'ごみ搬入量内訳(海洋投入)'!N22","v":0},{"$f":"'ごみ搬入量内訳(直接資源化)'!O22+'ごみ搬入量内訳(焼却)'!O22+'ごみ搬入量内訳(粗大)'!O22+'ごみ搬入量内訳(堆肥化)'!O22+'ごみ搬入量内訳(飼料化)'!O22+'ごみ搬入量内訳(メタン化)'!O22+'ごみ搬入量内訳(燃料化)'!O22+'ごみ搬入量内訳(セメント)'!O22+'ごみ搬入量内訳(資源化等)'!O22+'ごみ搬入量内訳(その他)'!O22+'ごみ搬入量内訳(直接埋立)'!O22+'ごみ搬入量内訳(海洋投入)'!O22","v":0},{"$f":"'ごみ搬入量内訳(直接資源化)'!P22+'ごみ搬入量内訳(焼却)'!P22+'ごみ搬入量内訳(粗大)'!P22+'ごみ搬入量内訳(堆肥化)'!P22+'ごみ搬入量内訳(飼料化)'!P22+'ごみ搬入量内訳(メタン化)'!P22+'ごみ搬入量内訳(燃料化)'!P22+'ごみ搬入量内訳(セメント)'!P22+'ごみ搬入量内訳(資源化等)'!P22+'ごみ搬入量内訳(その他)'!P22+'ごみ搬入量内訳(直接埋立)'!P22+'ごみ搬入量内訳(海洋投入)'!P22","v":0},{"$f":"'ごみ搬入量内訳(直接資源化)'!Q22+'ごみ搬入量内訳(焼却)'!Q22+'ごみ搬入量内訳(粗大)'!Q22+'ごみ搬入量内訳(堆肥化)'!Q22+'ごみ搬入量内訳(飼料化)'!Q22+'ごみ搬入量内訳(メタン化)'!Q22+'ごみ搬入量内訳(燃料化)'!Q22+'ごみ搬入量内訳(セメント)'!Q22+'ごみ搬入量内訳(資源化等)'!Q22+'ごみ搬入量内訳(その他)'!Q22+'ごみ搬入量内訳(直接埋立)'!Q22+'ごみ搬入量内訳(海洋投入)'!Q22","v":0},{"$f":"'ごみ搬入量内訳(直接資源化)'!R22+'ごみ搬入量内訳(焼却)'!R22+'ごみ搬入量内訳(粗大)'!R22+'ごみ搬入量内訳(堆肥化)'!R22+'ごみ搬入量内訳(飼料化)'!R22+'ごみ搬入量内訳(メタン化)'!R22+'ごみ搬入量内訳(燃料化)'!R22+'ごみ搬入量内訳(セメント)'!R22+'ごみ搬入量内訳(資源化等)'!R22+'ごみ搬入量内訳(その他)'!R22+'ごみ搬入量内訳(直接埋立)'!R22+'ごみ搬入量内訳(海洋投入)'!R22","v":0},{"$f":"'ごみ搬入量内訳(直接資源化)'!S22+'ごみ搬入量内訳(焼却)'!S22+'ごみ搬入量内訳(粗大)'!S22+'ごみ搬入量内訳(堆肥化)'!S22+'ごみ搬入量内訳(飼料化)'!S22+'ごみ搬入量内訳(メタン化)'!S22+'ごみ搬入量内訳(燃料化)'!S22+'ごみ搬入量内訳(セメント)'!S22+'ごみ搬入量内訳(資源化等)'!S22+'ごみ搬入量内訳(その他)'!S22+'ごみ搬入量内訳(直接埋立)'!S22+'ごみ搬入量内訳(海洋投入)'!S22","v":0},{"$f":"'ごみ搬入量内訳(直接資源化)'!T22+'ごみ搬入量内訳(焼却)'!T22+'ごみ搬入量内訳(粗大)'!T22+'ごみ搬入量内訳(堆肥化)'!T22+'ごみ搬入量内訳(飼料化)'!T22+'ごみ搬入量内訳(メタン化)'!T22+'ごみ搬入量内訳(燃料化)'!T22+'ごみ搬入量内訳(セメント)'!T22+'ごみ搬入量内訳(資源化等)'!T22+'ごみ搬入量内訳(その他)'!T22+'ごみ搬入量内訳(直接埋立)'!T22+'ごみ搬入量内訳(海洋投入)'!T22","v":0},{"$f":"'ごみ搬入量内訳(直接資源化)'!U22+'ごみ搬入量内訳(焼却)'!U22+'ごみ搬入量内訳(粗大)'!U22+'ごみ搬入量内訳(堆肥化)'!U22+'ごみ搬入量内訳(飼料化)'!U22+'ごみ搬入量内訳(メタン化)'!U22+'ごみ搬入量内訳(燃料化)'!U22+'ごみ搬入量内訳(セメント)'!U22+'ごみ搬入量内訳(資源化等)'!U22+'ごみ搬入量内訳(その他)'!U22+'ごみ搬入量内訳(直接埋立)'!U22+'ごみ搬入量内訳(海洋投入)'!U22","v":0},{"$f":"'ごみ搬入量内訳(直接資源化)'!V22+'ごみ搬入量内訳(焼却)'!V22+'ごみ搬入量内訳(粗大)'!V22+'ごみ搬入量内訳(堆肥化)'!V22+'ごみ搬入量内訳(飼料化)'!V22+'ごみ搬入量内訳(メタン化)'!V22+'ごみ搬入量内訳(燃料化)'!V22+'ごみ搬入量内訳(セメント)'!V22+'ごみ搬入量内訳(資源化等)'!V22+'ごみ搬入量内訳(その他)'!V22+'ごみ搬入量内訳(直接埋立)'!V22+'ごみ搬入量内訳(海洋投入)'!V22","v":0},{"$f":"'ごみ搬入量内訳(直接資源化)'!W22+'ごみ搬入量内訳(焼却)'!W22+'ごみ搬入量内訳(粗大)'!W22+'ごみ搬入量内訳(堆肥化)'!W22+'ごみ搬入量内訳(飼料化)'!W22+'ごみ搬入量内訳(メタン化)'!W22+'ごみ搬入量内訳(燃料化)'!W22+'ごみ搬入量内訳(セメント)'!W22+'ごみ搬入量内訳(資源化等)'!W22+'ごみ搬入量内訳(その他)'!W22+'ごみ搬入量内訳(直接埋立)'!W22+'ごみ搬入量内訳(海洋投入)'!W22","v":0},{"$f":"'ごみ搬入量内訳(直接資源化)'!X22+'ごみ搬入量内訳(焼却)'!X22+'ごみ搬入量内訳(粗大)'!X22+'ごみ搬入量内訳(堆肥化)'!X22+'ごみ搬入量内訳(飼料化)'!X22+'ごみ搬入量内訳(メタン化)'!X22+'ごみ搬入量内訳(燃料化)'!X22+'ごみ搬入量内訳(セメント)'!X22+'ごみ搬入量内訳(資源化等)'!X22+'ごみ搬入量内訳(その他)'!X22+'ごみ搬入量内訳(直接埋立)'!X22+'ごみ搬入量内訳(海洋投入)'!X22","v":0},{"$f":"'ごみ搬入量内訳(直接資源化)'!Y22+'ごみ搬入量内訳(焼却)'!Y22+'ごみ搬入量内訳(粗大)'!Y22+'ごみ搬入量内訳(堆肥化)'!Y22+'ごみ搬入量内訳(飼料化)'!Y22+'ごみ搬入量内訳(メタン化)'!Y22+'ごみ搬入量内訳(燃料化)'!Y22+'ごみ搬入量内訳(セメント)'!Y22+'ごみ搬入量内訳(資源化等)'!Y22+'ごみ搬入量内訳(その他)'!Y22+'ごみ搬入量内訳(直接埋立)'!Y22+'ごみ搬入量内訳(海洋投入)'!Y22","v":0},{"$f":"'ごみ搬入量内訳(直接資源化)'!Z22+'ごみ搬入量内訳(焼却)'!Z22+'ごみ搬入量内訳(粗大)'!Z22+'ごみ搬入量内訳(堆肥化)'!Z22+'ごみ搬入量内訳(飼料化)'!Z22+'ごみ搬入量内訳(メタン化)'!Z22+'ごみ搬入量内訳(燃料化)'!Z22+'ごみ搬入量内訳(セメント)'!Z22+'ごみ搬入量内訳(資源化等)'!Z22+'ごみ搬入量内訳(その他)'!Z22+'ごみ搬入量内訳(直接埋立)'!Z22+'ごみ搬入量内訳(海洋投入)'!Z22","v":0},{"$f":"'ごみ搬入量内訳(直接資源化)'!AA22+'ごみ搬入量内訳(焼却)'!AA22+'ごみ搬入量内訳(粗大)'!AA22+'ごみ搬入量内訳(堆肥化)'!AA22+'ごみ搬入量内訳(飼料化)'!AA22+'ごみ搬入量内訳(メタン化)'!AA22+'ごみ搬入量内訳(燃料化)'!AA22+'ごみ搬入量内訳(セメント)'!AA22+'ごみ搬入量内訳(資源化等)'!AA22+'ごみ搬入量内訳(その他)'!AA22+'ごみ搬入量内訳(直接埋立)'!AA22+'ごみ搬入量内訳(海洋投入)'!AA22","v":0},{"$f":"'ごみ搬入量内訳(直接資源化)'!AB22+'ごみ搬入量内訳(焼却)'!AB22+'ごみ搬入量内訳(粗大)'!AB22+'ごみ搬入量内訳(堆肥化)'!AB22+'ごみ搬入量内訳(飼料化)'!AB22+'ごみ搬入量内訳(メタン化)'!AB22+'ごみ搬入量内訳(燃料化)'!AB22+'ごみ搬入量内訳(セメント)'!AB22+'ごみ搬入量内訳(資源化等)'!AB22+'ごみ搬入量内訳(その他)'!AB22+'ごみ搬入量内訳(直接埋立)'!AB22+'ごみ搬入量内訳(海洋投入)'!AB22","v":0},{"$f":"'ごみ搬入量内訳(直接資源化)'!AC22+'ごみ搬入量内訳(焼却)'!AC22+'ごみ搬入量内訳(粗大)'!AC22+'ごみ搬入量内訳(堆肥化)'!AC22+'ごみ搬入量内訳(飼料化)'!AC22+'ごみ搬入量内訳(メタン化)'!AC22+'ごみ搬入量内訳(燃料化)'!AC22+'ごみ搬入量内訳(セメント)'!AC22+'ごみ搬入量内訳(資源化等)'!AC22+'ごみ搬入量内訳(その他)'!AC22+'ごみ搬入量内訳(直接埋立)'!AC22+'ごみ搬入量内訳(海洋投入)'!AC22","v":0},{"$f":"'ごみ搬入量内訳(直接資源化)'!AD22+'ごみ搬入量内訳(焼却)'!AD22+'ごみ搬入量内訳(粗大)'!AD22+'ごみ搬入量内訳(堆肥化)'!AD22+'ごみ搬入量内訳(飼料化)'!AD22+'ごみ搬入量内訳(メタン化)'!AD22+'ごみ搬入量内訳(燃料化)'!AD22+'ごみ搬入量内訳(セメント)'!AD22+'ごみ搬入量内訳(資源化等)'!AD22+'ごみ搬入量内訳(その他)'!AD22+'ごみ搬入量内訳(直接埋立)'!AD22+'ごみ搬入量内訳(海洋投入)'!AD22","v":0},{"$f":"'ごみ搬入量内訳(直接資源化)'!AE22+'ごみ搬入量内訳(焼却)'!AE22+'ごみ搬入量内訳(粗大)'!AE22+'ごみ搬入量内訳(堆肥化)'!AE22+'ごみ搬入量内訳(飼料化)'!AE22+'ごみ搬入量内訳(メタン化)'!AE22+'ごみ搬入量内訳(燃料化)'!AE22+'ごみ搬入量内訳(セメント)'!AE22+'ごみ搬入量内訳(資源化等)'!AE22+'ごみ搬入量内訳(その他)'!AE22+'ごみ搬入量内訳(直接埋立)'!AE22+'ごみ搬入量内訳(海洋投入)'!AE22","v":0},{"$f":"'ごみ搬入量内訳(直接資源化)'!AF22+'ごみ搬入量内訳(焼却)'!AF22+'ごみ搬入量内訳(粗大)'!AF22+'ごみ搬入量内訳(堆肥化)'!AF22+'ごみ搬入量内訳(飼料化)'!AF22+'ごみ搬入量内訳(メタン化)'!AF22+'ごみ搬入量内訳(燃料化)'!AF22+'ごみ搬入量内訳(セメント)'!AF22+'ごみ搬入量内訳(資源化等)'!AF22+'ごみ搬入量内訳(その他)'!AF22+'ごみ搬入量内訳(直接埋立)'!AF22+'ごみ搬入量内訳(海洋投入)'!AF22","v":0},{"$f":"'ごみ搬入量内訳(直接資源化)'!AG22+'ごみ搬入量内訳(焼却)'!AG22+'ごみ搬入量内訳(粗大)'!AG22+'ごみ搬入量内訳(堆肥化)'!AG22+'ごみ搬入量内訳(飼料化)'!AG22+'ごみ搬入量内訳(メタン化)'!AG22+'ごみ搬入量内訳(燃料化)'!AG22+'ごみ搬入量内訳(セメント)'!AG22+'ごみ搬入量内訳(資源化等)'!AG22+'ごみ搬入量内訳(その他)'!AG22+'ごみ搬入量内訳(直接埋立)'!AG22+'ごみ搬入量内訳(海洋投入)'!AG22","v":0},{"$f":"'ごみ搬入量内訳(直接資源化)'!AH22+'ごみ搬入量内訳(焼却)'!AH22+'ごみ搬入量内訳(粗大)'!AH22+'ごみ搬入量内訳(堆肥化)'!AH22+'ごみ搬入量内訳(飼料化)'!AH22+'ごみ搬入量内訳(メタン化)'!AH22+'ごみ搬入量内訳(燃料化)'!AH22+'ごみ搬入量内訳(セメント)'!AH22+'ごみ搬入量内訳(資源化等)'!AH22+'ごみ搬入量内訳(その他)'!AH22+'ごみ搬入量内訳(直接埋立)'!AH22+'ごみ搬入量内訳(海洋投入)'!AH22","v":0},{"$f":"'ごみ搬入量内訳(直接資源化)'!AI22+'ごみ搬入量内訳(焼却)'!AI22+'ごみ搬入量内訳(粗大)'!AI22+'ごみ搬入量内訳(堆肥化)'!AI22+'ごみ搬入量内訳(飼料化)'!AI22+'ごみ搬入量内訳(メタン化)'!AI22+'ごみ搬入量内訳(燃料化)'!AI22+'ごみ搬入量内訳(セメント)'!AI22+'ごみ搬入量内訳(資源化等)'!AI22+'ごみ搬入量内訳(その他)'!AI22+'ごみ搬入量内訳(直接埋立)'!AI22+'ごみ搬入量内訳(海洋投入)'!AI22","v":0}]
["秋田県","05346","藤里町",{"$f":"SUM(E23:AI23)","v":0},{"$f":"'ごみ搬入量内訳(直接資源化)'!E23+'ごみ搬入量内訳(焼却)'!E23+'ごみ搬入量内訳(粗大)'!E23+'ごみ搬入量内訳(堆肥化)'!E23+'ごみ搬入量内訳(飼料化)'!E23+'ごみ搬入量内訳(メタン化)'!E23+'ごみ搬入量内訳(燃料化)'!E23+'ごみ搬入量内訳(セメント)'!E23+'ごみ搬入量内訳(資源化等)'!E23+'ごみ搬入量内訳(その他)'!E23+'ごみ搬入量内訳(直接埋立)'!E23+'ごみ搬入量内訳(海洋投入)'!E23","v":0},{"$f":"'ごみ搬入量内訳(直接資源化)'!F23+'ごみ搬入量内訳(焼却)'!F23+'ごみ搬入量内訳(粗大)'!F23+'ごみ搬入量内訳(堆肥化)'!F23+'ごみ搬入量内訳(飼料化)'!F23+'ごみ搬入量内訳(メタン化)'!F23+'ごみ搬入量内訳(燃料化)'!F23+'ごみ搬入量内訳(セメント)'!F23+'ごみ搬入量内訳(資源化等)'!F23+'ごみ搬入量内訳(その他)'!F23+'ごみ搬入量内訳(直接埋立)'!F23+'ごみ搬入量内訳(海洋投入)'!F23","v":0},{"$f":"'ごみ搬入量内訳(直接資源化)'!G23+'ごみ搬入量内訳(焼却)'!G23+'ごみ搬入量内訳(粗大)'!G23+'ごみ搬入量内訳(堆肥化)'!G23+'ごみ搬入量内訳(飼料化)'!G23+'ごみ搬入量内訳(メタン化)'!G23+'ごみ搬入量内訳(燃料化)'!G23+'ごみ搬入量内訳(セメント)'!G23+'ごみ搬入量内訳(資源化等)'!G23+'ごみ搬入量内訳(その他)'!G23+'ごみ搬入量内訳(直接埋立)'!G23+'ごみ搬入量内訳(海洋投入)'!G23","v":0},{"$f":"'ごみ搬入量内訳(直接資源化)'!H23+'ごみ搬入量内訳(焼却)'!H23+'ごみ搬入量内訳(粗大)'!H23+'ごみ搬入量内訳(堆肥化)'!H23+'ごみ搬入量内訳(飼料化)'!H23+'ごみ搬入量内訳(メタン化)'!H23+'ごみ搬入量内訳(燃料化)'!H23+'ごみ搬入量内訳(セメント)'!H23+'ごみ搬入量内訳(資源化等)'!H23+'ごみ搬入量内訳(その他)'!H23+'ごみ搬入量内訳(直接埋立)'!H23+'ごみ搬入量内訳(海洋投入)'!H23","v":0},{"$f":"'ごみ搬入量内訳(直接資源化)'!I23+'ごみ搬入量内訳(焼却)'!I23+'ごみ搬入量内訳(粗大)'!I23+'ごみ搬入量内訳(堆肥化)'!I23+'ごみ搬入量内訳(飼料化)'!I23+'ごみ搬入量内訳(メタン化)'!I23+'ごみ搬入量内訳(燃料化)'!I23+'ごみ搬入量内訳(セメント)'!I23+'ごみ搬入量内訳(資源化等)'!I23+'ごみ搬入量内訳(その他)'!I23+'ごみ搬入量内訳(直接埋立)'!I23+'ごみ搬入量内訳(海洋投入)'!I23","v":0},{"$f":"'ごみ搬入量内訳(直接資源化)'!J23+'ごみ搬入量内訳(焼却)'!J23+'ごみ搬入量内訳(粗大)'!J23+'ごみ搬入量内訳(堆肥化)'!J23+'ごみ搬入量内訳(飼料化)'!J23+'ごみ搬入量内訳(メタン化)'!J23+'ごみ搬入量内訳(燃料化)'!J23+'ごみ搬入量内訳(セメント)'!J23+'ごみ搬入量内訳(資源化等)'!J23+'ごみ搬入量内訳(その他)'!J23+'ごみ搬入量内訳(直接埋立)'!J23+'ごみ搬入量内訳(海洋投入)'!J23","v":0},{"$f":"'ごみ搬入量内訳(直接資源化)'!K23+'ごみ搬入量内訳(焼却)'!K23+'ごみ搬入量内訳(粗大)'!K23+'ごみ搬入量内訳(堆肥化)'!K23+'ごみ搬入量内訳(飼料化)'!K23+'ごみ搬入量内訳(メタン化)'!K23+'ごみ搬入量内訳(燃料化)'!K23+'ごみ搬入量内訳(セメント)'!K23+'ごみ搬入量内訳(資源化等)'!K23+'ごみ搬入量内訳(その他)'!K23+'ごみ搬入量内訳(直接埋立)'!K23+'ごみ搬入量内訳(海洋投入)'!K23","v":0},{"$f":"'ごみ搬入量内訳(直接資源化)'!L23+'ごみ搬入量内訳(焼却)'!L23+'ごみ搬入量内訳(粗大)'!L23+'ごみ搬入量内訳(堆肥化)'!L23+'ごみ搬入量内訳(飼料化)'!L23+'ごみ搬入量内訳(メタン化)'!L23+'ごみ搬入量内訳(燃料化)'!L23+'ごみ搬入量内訳(セメント)'!L23+'ごみ搬入量内訳(資源化等)'!L23+'ごみ搬入量内訳(その他)'!L23+'ごみ搬入量内訳(直接埋立)'!L23+'ごみ搬入量内訳(海洋投入)'!L23","v":0},{"$f":"'ごみ搬入量内訳(直接資源化)'!M23+'ごみ搬入量内訳(焼却)'!M23+'ごみ搬入量内訳(粗大)'!M23+'ごみ搬入量内訳(堆肥化)'!M23+'ごみ搬入量内訳(飼料化)'!M23+'ごみ搬入量内訳(メタン化)'!M23+'ごみ搬入量内訳(燃料化)'!M23+'ごみ搬入量内訳(セメント)'!M23+'ごみ搬入量内訳(資源化等)'!M23+'ごみ搬入量内訳(その他)'!M23+'ごみ搬入量内訳(直接埋立)'!M23+'ごみ搬入量内訳(海洋投入)'!M23","v":0},{"$f":"'ごみ搬入量内訳(直接資源化)'!N23+'ごみ搬入量内訳(焼却)'!N23+'ごみ搬入量内訳(粗大)'!N23+'ごみ搬入量内訳(堆肥化)'!N23+'ごみ搬入量内訳(飼料化)'!N23+'ごみ搬入量内訳(メタン化)'!N23+'ごみ搬入量内訳(燃料化)'!N23+'ごみ搬入量内訳(セメント)'!N23+'ごみ搬入量内訳(資源化等)'!N23+'ごみ搬入量内訳(その他)'!N23+'ごみ搬入量内訳(直接埋立)'!N23+'ごみ搬入量内訳(海洋投入)'!N23","v":0},{"$f":"'ごみ搬入量内訳(直接資源化)'!O23+'ごみ搬入量内訳(焼却)'!O23+'ごみ搬入量内訳(粗大)'!O23+'ごみ搬入量内訳(堆肥化)'!O23+'ごみ搬入量内訳(飼料化)'!O23+'ごみ搬入量内訳(メタン化)'!O23+'ごみ搬入量内訳(燃料化)'!O23+'ごみ搬入量内訳(セメント)'!O23+'ごみ搬入量内訳(資源化等)'!O23+'ごみ搬入量内訳(その他)'!O23+'ごみ搬入量内訳(直接埋立)'!O23+'ごみ搬入量内訳(海洋投入)'!O23","v":0},{"$f":"'ごみ搬入量内訳(直接資源化)'!P23+'ごみ搬入量内訳(焼却)'!P23+'ごみ搬入量内訳(粗大)'!P23+'ごみ搬入量内訳(堆肥化)'!P23+'ごみ搬入量内訳(飼料化)'!P23+'ごみ搬入量内訳(メタン化)'!P23+'ごみ搬入量内訳(燃料化)'!P23+'ごみ搬入量内訳(セメント)'!P23+'ごみ搬入量内訳(資源化等)'!P23+'ごみ搬入量内訳(その他)'!P23+'ごみ搬入量内訳(直接埋立)'!P23+'ごみ搬入量内訳(海洋投入)'!P23","v":0},{"$f":"'ごみ搬入量内訳(直接資源化)'!Q23+'ごみ搬入量内訳(焼却)'!Q23+'ごみ搬入量内訳(粗大)'!Q23+'ごみ搬入量内訳(堆肥化)'!Q23+'ごみ搬入量内訳(飼料化)'!Q23+'ごみ搬入量内訳(メタン化)'!Q23+'ごみ搬入量内訳(燃料化)'!Q23+'ごみ搬入量内訳(セメント)'!Q23+'ごみ搬入量内訳(資源化等)'!Q23+'ごみ搬入量内訳(その他)'!Q23+'ごみ搬入量内訳(直接埋立)'!Q23+'ごみ搬入量内訳(海洋投入)'!Q23","v":0},{"$f":"'ごみ搬入量内訳(直接資源化)'!R23+'ごみ搬入量内訳(焼却)'!R23+'ごみ搬入量内訳(粗大)'!R23+'ごみ搬入量内訳(堆肥化)'!R23+'ごみ搬入量内訳(飼料化)'!R23+'ごみ搬入量内訳(メタン化)'!R23+'ごみ搬入量内訳(燃料化)'!R23+'ごみ搬入量内訳(セメント)'!R23+'ごみ搬入量内訳(資源化等)'!R23+'ごみ搬入量内訳(その他)'!R23+'ごみ搬入量内訳(直接埋立)'!R23+'ごみ搬入量内訳(海洋投入)'!R23","v":0},{"$f":"'ごみ搬入量内訳(直接資源化)'!S23+'ごみ搬入量内訳(焼却)'!S23+'ごみ搬入量内訳(粗大)'!S23+'ごみ搬入量内訳(堆肥化)'!S23+'ごみ搬入量内訳(飼料化)'!S23+'ごみ搬入量内訳(メタン化)'!S23+'ごみ搬入量内訳(燃料化)'!S23+'ごみ搬入量内訳(セメント)'!S23+'ごみ搬入量内訳(資源化等)'!S23+'ごみ搬入量内訳(その他)'!S23+'ごみ搬入量内訳(直接埋立)'!S23+'ごみ搬入量内訳(海洋投入)'!S23","v":0},{"$f":"'ごみ搬入量内訳(直接資源化)'!T23+'ごみ搬入量内訳(焼却)'!T23+'ごみ搬入量内訳(粗大)'!T23+'ごみ搬入量内訳(堆肥化)'!T23+'ごみ搬入量内訳(飼料化)'!T23+'ごみ搬入量内訳(メタン化)'!T23+'ごみ搬入量内訳(燃料化)'!T23+'ごみ搬入量内訳(セメント)'!T23+'ごみ搬入量内訳(資源化等)'!T23+'ごみ搬入量内訳(その他)'!T23+'ごみ搬入量内訳(直接埋立)'!T23+'ごみ搬入量内訳(海洋投入)'!T23","v":0},{"$f":"'ごみ搬入量内訳(直接資源化)'!U23+'ごみ搬入量内訳(焼却)'!U23+'ごみ搬入量内訳(粗大)'!U23+'ごみ搬入量内訳(堆肥化)'!U23+'ごみ搬入量内訳(飼料化)'!U23+'ごみ搬入量内訳(メタン化)'!U23+'ごみ搬入量内訳(燃料化)'!U23+'ごみ搬入量内訳(セメント)'!U23+'ごみ搬入量内訳(資源化等)'!U23+'ごみ搬入量内訳(その他)'!U23+'ごみ搬入量内訳(直接埋立)'!U23+'ごみ搬入量内訳(海洋投入)'!U23","v":0},{"$f":"'ごみ搬入量内訳(直接資源化)'!V23+'ごみ搬入量内訳(焼却)'!V23+'ごみ搬入量内訳(粗大)'!V23+'ごみ搬入量内訳(堆肥化)'!V23+'ごみ搬入量内訳(飼料化)'!V23+'ごみ搬入量内訳(メタン化)'!V23+'ごみ搬入量内訳(燃料化)'!V23+'ごみ搬入量内訳(セメント)'!V23+'ごみ搬入量内訳(資源化等)'!V23+'ごみ搬入量内訳(その他)'!V23+'ごみ搬入量内訳(直接埋立)'!V23+'ごみ搬入量内訳(海洋投入)'!V23","v":0},{"$f":"'ごみ搬入量内訳(直接資源化)'!W23+'ごみ搬入量内訳(焼却)'!W23+'ごみ搬入量内訳(粗大)'!W23+'ごみ搬入量内訳(堆肥化)'!W23+'ごみ搬入量内訳(飼料化)'!W23+'ごみ搬入量内訳(メタン化)'!W23+'ごみ搬入量内訳(燃料化)'!W23+'ごみ搬入量内訳(セメント)'!W23+'ごみ搬入量内訳(資源化等)'!W23+'ごみ搬入量内訳(その他)'!W23+'ごみ搬入量内訳(直接埋立)'!W23+'ごみ搬入量内訳(海洋投入)'!W23","v":0},{"$f":"'ごみ搬入量内訳(直接資源化)'!X23+'ごみ搬入量内訳(焼却)'!X23+'ごみ搬入量内訳(粗大)'!X23+'ごみ搬入量内訳(堆肥化)'!X23+'ごみ搬入量内訳(飼料化)'!X23+'ごみ搬入量内訳(メタン化)'!X23+'ごみ搬入量内訳(燃料化)'!X23+'ごみ搬入量内訳(セメント)'!X23+'ごみ搬入量内訳(資源化等)'!X23+'ごみ搬入量内訳(その他)'!X23+'ごみ搬入量内訳(直接埋立)'!X23+'ごみ搬入量内訳(海洋投入)'!X23","v":0},{"$f":"'ごみ搬入量内訳(直接資源化)'!Y23+'ごみ搬入量内訳(焼却)'!Y23+'ごみ搬入量内訳(粗大)'!Y23+'ごみ搬入量内訳(堆肥化)'!Y23+'ごみ搬入量内訳(飼料化)'!Y23+'ごみ搬入量内訳(メタン化)'!Y23+'ごみ搬入量内訳(燃料化)'!Y23+'ごみ搬入量内訳(セメント)'!Y23+'ごみ搬入量内訳(資源化等)'!Y23+'ごみ搬入量内訳(その他)'!Y23+'ごみ搬入量内訳(直接埋立)'!Y23+'ごみ搬入量内訳(海洋投入)'!Y23","v":0},{"$f":"'ごみ搬入量内訳(直接資源化)'!Z23+'ごみ搬入量内訳(焼却)'!Z23+'ごみ搬入量内訳(粗大)'!Z23+'ごみ搬入量内訳(堆肥化)'!Z23+'ごみ搬入量内訳(飼料化)'!Z23+'ごみ搬入量内訳(メタン化)'!Z23+'ごみ搬入量内訳(燃料化)'!Z23+'ごみ搬入量内訳(セメント)'!Z23+'ごみ搬入量内訳(資源化等)'!Z23+'ごみ搬入量内訳(その他)'!Z23+'ごみ搬入量内訳(直接埋立)'!Z23+'ごみ搬入量内訳(海洋投入)'!Z23","v":0},{"$f":"'ごみ搬入量内訳(直接資源化)'!AA23+'ごみ搬入量内訳(焼却)'!AA23+'ごみ搬入量内訳(粗大)'!AA23+'ごみ搬入量内訳(堆肥化)'!AA23+'ごみ搬入量内訳(飼料化)'!AA23+'ごみ搬入量内訳(メタン化)'!AA23+'ごみ搬入量内訳(燃料化)'!AA23+'ごみ搬入量内訳(セメント)'!AA23+'ごみ搬入量内訳(資源化等)'!AA23+'ごみ搬入量内訳(その他)'!AA23+'ごみ搬入量内訳(直接埋立)'!AA23+'ごみ搬入量内訳(海洋投入)'!AA23","v":0},{"$f":"'ごみ搬入量内訳(直接資源化)'!AB23+'ごみ搬入量内訳(焼却)'!AB23+'ごみ搬入量内訳(粗大)'!AB23+'ごみ搬入量内訳(堆肥化)'!AB23+'ごみ搬入量内訳(飼料化)'!AB23+'ごみ搬入量内訳(メタン化)'!AB23+'ごみ搬入量内訳(燃料化)'!AB23+'ごみ搬入量内訳(セメント)'!AB23+'ごみ搬入量内訳(資源化等)'!AB23+'ごみ搬入量内訳(その他)'!AB23+'ごみ搬入量内訳(直接埋立)'!AB23+'ごみ搬入量内訳(海洋投入)'!AB23","v":0},{"$f":"'ごみ搬入量内訳(直接資源化)'!AC23+'ごみ搬入量内訳(焼却)'!AC23+'ごみ搬入量内訳(粗大)'!AC23+'ごみ搬入量内訳(堆肥化)'!AC23+'ごみ搬入量内訳(飼料化)'!AC23+'ごみ搬入量内訳(メタン化)'!AC23+'ごみ搬入量内訳(燃料化)'!AC23+'ごみ搬入量内訳(セメント)'!AC23+'ごみ搬入量内訳(資源化等)'!AC23+'ごみ搬入量内訳(その他)'!AC23+'ごみ搬入量内訳(直接埋立)'!AC23+'ごみ搬入量内訳(海洋投入)'!AC23","v":0},{"$f":"'ごみ搬入量内訳(直接資源化)'!AD23+'ごみ搬入量内訳(焼却)'!AD23+'ごみ搬入量内訳(粗大)'!AD23+'ごみ搬入量内訳(堆肥化)'!AD23+'ごみ搬入量内訳(飼料化)'!AD23+'ごみ搬入量内訳(メタン化)'!AD23+'ごみ搬入量内訳(燃料化)'!AD23+'ごみ搬入量内訳(セメント)'!AD23+'ごみ搬入量内訳(資源化等)'!AD23+'ごみ搬入量内訳(その他)'!AD23+'ごみ搬入量内訳(直接埋立)'!AD23+'ごみ搬入量内訳(海洋投入)'!AD23","v":0},{"$f":"'ごみ搬入量内訳(直接資源化)'!AE23+'ごみ搬入量内訳(焼却)'!AE23+'ごみ搬入量内訳(粗大)'!AE23+'ごみ搬入量内訳(堆肥化)'!AE23+'ごみ搬入量内訳(飼料化)'!AE23+'ごみ搬入量内訳(メタン化)'!AE23+'ごみ搬入量内訳(燃料化)'!AE23+'ごみ搬入量内訳(セメント)'!AE23+'ごみ搬入量内訳(資源化等)'!AE23+'ごみ搬入量内訳(その他)'!AE23+'ごみ搬入量内訳(直接埋立)'!AE23+'ごみ搬入量内訳(海洋投入)'!AE23","v":0},{"$f":"'ごみ搬入量内訳(直接資源化)'!AF23+'ごみ搬入量内訳(焼却)'!AF23+'ごみ搬入量内訳(粗大)'!AF23+'ごみ搬入量内訳(堆肥化)'!AF23+'ごみ搬入量内訳(飼料化)'!AF23+'ごみ搬入量内訳(メタン化)'!AF23+'ごみ搬入量内訳(燃料化)'!AF23+'ごみ搬入量内訳(セメント)'!AF23+'ごみ搬入量内訳(資源化等)'!AF23+'ごみ搬入量内訳(その他)'!AF23+'ごみ搬入量内訳(直接埋立)'!AF23+'ごみ搬入量内訳(海洋投入)'!AF23","v":0},{"$f":"'ごみ搬入量内訳(直接資源化)'!AG23+'ごみ搬入量内訳(焼却)'!AG23+'ごみ搬入量内訳(粗大)'!AG23+'ごみ搬入量内訳(堆肥化)'!AG23+'ごみ搬入量内訳(飼料化)'!AG23+'ごみ搬入量内訳(メタン化)'!AG23+'ごみ搬入量内訳(燃料化)'!AG23+'ごみ搬入量内訳(セメント)'!AG23+'ごみ搬入量内訳(資源化等)'!AG23+'ごみ搬入量内訳(その他)'!AG23+'ごみ搬入量内訳(直接埋立)'!AG23+'ごみ搬入量内訳(海洋投入)'!AG23","v":0},{"$f":"'ごみ搬入量内訳(直接資源化)'!AH23+'ごみ搬入量内訳(焼却)'!AH23+'ごみ搬入量内訳(粗大)'!AH23+'ごみ搬入量内訳(堆肥化)'!AH23+'ごみ搬入量内訳(飼料化)'!AH23+'ごみ搬入量内訳(メタン化)'!AH23+'ごみ搬入量内訳(燃料化)'!AH23+'ごみ搬入量内訳(セメント)'!AH23+'ごみ搬入量内訳(資源化等)'!AH23+'ごみ搬入量内訳(その他)'!AH23+'ごみ搬入量内訳(直接埋立)'!AH23+'ごみ搬入量内訳(海洋投入)'!AH23","v":0},{"$f":"'ごみ搬入量内訳(直接資源化)'!AI23+'ごみ搬入量内訳(焼却)'!AI23+'ごみ搬入量内訳(粗大)'!AI23+'ごみ搬入量内訳(堆肥化)'!AI23+'ごみ搬入量内訳(飼料化)'!AI23+'ごみ搬入量内訳(メタン化)'!AI23+'ごみ搬入量内訳(燃料化)'!AI23+'ごみ搬入量内訳(セメント)'!AI23+'ごみ搬入量内訳(資源化等)'!AI23+'ごみ搬入量内訳(その他)'!AI23+'ごみ搬入量内訳(直接埋立)'!AI23+'ごみ搬入量内訳(海洋投入)'!AI23","v":0}]
["秋田県","05348","三種町",{"$f":"SUM(E24:AI24)","v":0},{"$f":"'ごみ搬入量内訳(直接資源化)'!E24+'ごみ搬入量内訳(焼却)'!E24+'ごみ搬入量内訳(粗大)'!E24+'ごみ搬入量内訳(堆肥化)'!E24+'ごみ搬入量内訳(飼料化)'!E24+'ごみ搬入量内訳(メタン化)'!E24+'ごみ搬入量内訳(燃料化)'!E24+'ごみ搬入量内訳(セメント)'!E24+'ごみ搬入量内訳(資源化等)'!E24+'ごみ搬入量内訳(その他)'!E24+'ごみ搬入量内訳(直接埋立)'!E24+'ごみ搬入量内訳(海洋投入)'!E24","v":0},{"$f":"'ごみ搬入量内訳(直接資源化)'!F24+'ごみ搬入量内訳(焼却)'!F24+'ごみ搬入量内訳(粗大)'!F24+'ごみ搬入量内訳(堆肥化)'!F24+'ごみ搬入量内訳(飼料化)'!F24+'ごみ搬入量内訳(メタン化)'!F24+'ごみ搬入量内訳(燃料化)'!F24+'ごみ搬入量内訳(セメント)'!F24+'ごみ搬入量内訳(資源化等)'!F24+'ごみ搬入量内訳(その他)'!F24+'ごみ搬入量内訳(直接埋立)'!F24+'ごみ搬入量内訳(海洋投入)'!F24","v":0},{"$f":"'ごみ搬入量内訳(直接資源化)'!G24+'ごみ搬入量内訳(焼却)'!G24+'ごみ搬入量内訳(粗大)'!G24+'ごみ搬入量内訳(堆肥化)'!G24+'ごみ搬入量内訳(飼料化)'!G24+'ごみ搬入量内訳(メタン化)'!G24+'ごみ搬入量内訳(燃料化)'!G24+'ごみ搬入量内訳(セメント)'!G24+'ごみ搬入量内訳(資源化等)'!G24+'ごみ搬入量内訳(その他)'!G24+'ごみ搬入量内訳(直接埋立)'!G24+'ごみ搬入量内訳(海洋投入)'!G24","v":0},{"$f":"'ごみ搬入量内訳(直接資源化)'!H24+'ごみ搬入量内訳(焼却)'!H24+'ごみ搬入量内訳(粗大)'!H24+'ごみ搬入量内訳(堆肥化)'!H24+'ごみ搬入量内訳(飼料化)'!H24+'ごみ搬入量内訳(メタン化)'!H24+'ごみ搬入量内訳(燃料化)'!H24+'ごみ搬入量内訳(セメント)'!H24+'ごみ搬入量内訳(資源化等)'!H24+'ごみ搬入量内訳(その他)'!H24+'ごみ搬入量内訳(直接埋立)'!H24+'ごみ搬入量内訳(海洋投入)'!H24","v":0},{"$f":"'ごみ搬入量内訳(直接資源化)'!I24+'ごみ搬入量内訳(焼却)'!I24+'ごみ搬入量内訳(粗大)'!I24+'ごみ搬入量内訳(堆肥化)'!I24+'ごみ搬入量内訳(飼料化)'!I24+'ごみ搬入量内訳(メタン化)'!I24+'ごみ搬入量内訳(燃料化)'!I24+'ごみ搬入量内訳(セメント)'!I24+'ごみ搬入量内訳(資源化等)'!I24+'ごみ搬入量内訳(その他)'!I24+'ごみ搬入量内訳(直接埋立)'!I24+'ごみ搬入量内訳(海洋投入)'!I24","v":0},{"$f":"'ごみ搬入量内訳(直接資源化)'!J24+'ごみ搬入量内訳(焼却)'!J24+'ごみ搬入量内訳(粗大)'!J24+'ごみ搬入量内訳(堆肥化)'!J24+'ごみ搬入量内訳(飼料化)'!J24+'ごみ搬入量内訳(メタン化)'!J24+'ごみ搬入量内訳(燃料化)'!J24+'ごみ搬入量内訳(セメント)'!J24+'ごみ搬入量内訳(資源化等)'!J24+'ごみ搬入量内訳(その他)'!J24+'ごみ搬入量内訳(直接埋立)'!J24+'ごみ搬入量内訳(海洋投入)'!J24","v":0},{"$f":"'ごみ搬入量内訳(直接資源化)'!K24+'ごみ搬入量内訳(焼却)'!K24+'ごみ搬入量内訳(粗大)'!K24+'ごみ搬入量内訳(堆肥化)'!K24+'ごみ搬入量内訳(飼料化)'!K24+'ごみ搬入量内訳(メタン化)'!K24+'ごみ搬入量内訳(燃料化)'!K24+'ごみ搬入量内訳(セメント)'!K24+'ごみ搬入量内訳(資源化等)'!K24+'ごみ搬入量内訳(その他)'!K24+'ごみ搬入量内訳(直接埋立)'!K24+'ごみ搬入量内訳(海洋投入)'!K24","v":0},{"$f":"'ごみ搬入量内訳(直接資源化)'!L24+'ごみ搬入量内訳(焼却)'!L24+'ごみ搬入量内訳(粗大)'!L24+'ごみ搬入量内訳(堆肥化)'!L24+'ごみ搬入量内訳(飼料化)'!L24+'ごみ搬入量内訳(メタン化)'!L24+'ごみ搬入量内訳(燃料化)'!L24+'ごみ搬入量内訳(セメント)'!L24+'ごみ搬入量内訳(資源化等)'!L24+'ごみ搬入量内訳(その他)'!L24+'ごみ搬入量内訳(直接埋立)'!L24+'ごみ搬入量内訳(海洋投入)'!L24","v":0},{"$f":"'ごみ搬入量内訳(直接資源化)'!M24+'ごみ搬入量内訳(焼却)'!M24+'ごみ搬入量内訳(粗大)'!M24+'ごみ搬入量内訳(堆肥化)'!M24+'ごみ搬入量内訳(飼料化)'!M24+'ごみ搬入量内訳(メタン化)'!M24+'ごみ搬入量内訳(燃料化)'!M24+'ごみ搬入量内訳(セメント)'!M24+'ごみ搬入量内訳(資源化等)'!M24+'ごみ搬入量内訳(その他)'!M24+'ごみ搬入量内訳(直接埋立)'!M24+'ごみ搬入量内訳(海洋投入)'!M24","v":0},{"$f":"'ごみ搬入量内訳(直接資源化)'!N24+'ごみ搬入量内訳(焼却)'!N24+'ごみ搬入量内訳(粗大)'!N24+'ごみ搬入量内訳(堆肥化)'!N24+'ごみ搬入量内訳(飼料化)'!N24+'ごみ搬入量内訳(メタン化)'!N24+'ごみ搬入量内訳(燃料化)'!N24+'ごみ搬入量内訳(セメント)'!N24+'ごみ搬入量内訳(資源化等)'!N24+'ごみ搬入量内訳(その他)'!N24+'ごみ搬入量内訳(直接埋立)'!N24+'ごみ搬入量内訳(海洋投入)'!N24","v":0},{"$f":"'ごみ搬入量内訳(直接資源化)'!O24+'ごみ搬入量内訳(焼却)'!O24+'ごみ搬入量内訳(粗大)'!O24+'ごみ搬入量内訳(堆肥化)'!O24+'ごみ搬入量内訳(飼料化)'!O24+'ごみ搬入量内訳(メタン化)'!O24+'ごみ搬入量内訳(燃料化)'!O24+'ごみ搬入量内訳(セメント)'!O24+'ごみ搬入量内訳(資源化等)'!O24+'ごみ搬入量内訳(その他)'!O24+'ごみ搬入量内訳(直接埋立)'!O24+'ごみ搬入量内訳(海洋投入)'!O24","v":0},{"$f":"'ごみ搬入量内訳(直接資源化)'!P24+'ごみ搬入量内訳(焼却)'!P24+'ごみ搬入量内訳(粗大)'!P24+'ごみ搬入量内訳(堆肥化)'!P24+'ごみ搬入量内訳(飼料化)'!P24+'ごみ搬入量内訳(メタン化)'!P24+'ごみ搬入量内訳(燃料化)'!P24+'ごみ搬入量内訳(セメント)'!P24+'ごみ搬入量内訳(資源化等)'!P24+'ごみ搬入量内訳(その他)'!P24+'ごみ搬入量内訳(直接埋立)'!P24+'ごみ搬入量内訳(海洋投入)'!P24","v":0},{"$f":"'ごみ搬入量内訳(直接資源化)'!Q24+'ごみ搬入量内訳(焼却)'!Q24+'ごみ搬入量内訳(粗大)'!Q24+'ごみ搬入量内訳(堆肥化)'!Q24+'ごみ搬入量内訳(飼料化)'!Q24+'ごみ搬入量内訳(メタン化)'!Q24+'ごみ搬入量内訳(燃料化)'!Q24+'ごみ搬入量内訳(セメント)'!Q24+'ごみ搬入量内訳(資源化等)'!Q24+'ごみ搬入量内訳(その他)'!Q24+'ごみ搬入量内訳(直接埋立)'!Q24+'ごみ搬入量内訳(海洋投入)'!Q24","v":0},{"$f":"'ごみ搬入量内訳(直接資源化)'!R24+'ごみ搬入量内訳(焼却)'!R24+'ごみ搬入量内訳(粗大)'!R24+'ごみ搬入量内訳(堆肥化)'!R24+'ごみ搬入量内訳(飼料化)'!R24+'ごみ搬入量内訳(メタン化)'!R24+'ごみ搬入量内訳(燃料化)'!R24+'ごみ搬入量内訳(セメント)'!R24+'ごみ搬入量内訳(資源化等)'!R24+'ごみ搬入量内訳(その他)'!R24+'ごみ搬入量内訳(直接埋立)'!R24+'ごみ搬入量内訳(海洋投入)'!R24","v":0},{"$f":"'ごみ搬入量内訳(直接資源化)'!S24+'ごみ搬入量内訳(焼却)'!S24+'ごみ搬入量内訳(粗大)'!S24+'ごみ搬入量内訳(堆肥化)'!S24+'ごみ搬入量内訳(飼料化)'!S24+'ごみ搬入量内訳(メタン化)'!S24+'ごみ搬入量内訳(燃料化)'!S24+'ごみ搬入量内訳(セメント)'!S24+'ごみ搬入量内訳(資源化等)'!S24+'ごみ搬入量内訳(その他)'!S24+'ごみ搬入量内訳(直接埋立)'!S24+'ごみ搬入量内訳(海洋投入)'!S24","v":0},{"$f":"'ごみ搬入量内訳(直接資源化)'!T24+'ごみ搬入量内訳(焼却)'!T24+'ごみ搬入量内訳(粗大)'!T24+'ごみ搬入量内訳(堆肥化)'!T24+'ごみ搬入量内訳(飼料化)'!T24+'ごみ搬入量内訳(メタン化)'!T24+'ごみ搬入量内訳(燃料化)'!T24+'ごみ搬入量内訳(セメント)'!T24+'ごみ搬入量内訳(資源化等)'!T24+'ごみ搬入量内訳(その他)'!T24+'ごみ搬入量内訳(直接埋立)'!T24+'ごみ搬入量内訳(海洋投入)'!T24","v":0},{"$f":"'ごみ搬入量内訳(直接資源化)'!U24+'ごみ搬入量内訳(焼却)'!U24+'ごみ搬入量内訳(粗大)'!U24+'ごみ搬入量内訳(堆肥化)'!U24+'ごみ搬入量内訳(飼料化)'!U24+'ごみ搬入量内訳(メタン化)'!U24+'ごみ搬入量内訳(燃料化)'!U24+'ごみ搬入量内訳(セメント)'!U24+'ごみ搬入量内訳(資源化等)'!U24+'ごみ搬入量内訳(その他)'!U24+'ごみ搬入量内訳(直接埋立)'!U24+'ごみ搬入量内訳(海洋投入)'!U24","v":0},{"$f":"'ごみ搬入量内訳(直接資源化)'!V24+'ごみ搬入量内訳(焼却)'!V24+'ごみ搬入量内訳(粗大)'!V24+'ごみ搬入量内訳(堆肥化)'!V24+'ごみ搬入量内訳(飼料化)'!V24+'ごみ搬入量内訳(メタン化)'!V24+'ごみ搬入量内訳(燃料化)'!V24+'ごみ搬入量内訳(セメント)'!V24+'ごみ搬入量内訳(資源化等)'!V24+'ごみ搬入量内訳(その他)'!V24+'ごみ搬入量内訳(直接埋立)'!V24+'ごみ搬入量内訳(海洋投入)'!V24","v":0},{"$f":"'ごみ搬入量内訳(直接資源化)'!W24+'ごみ搬入量内訳(焼却)'!W24+'ごみ搬入量内訳(粗大)'!W24+'ごみ搬入量内訳(堆肥化)'!W24+'ごみ搬入量内訳(飼料化)'!W24+'ごみ搬入量内訳(メタン化)'!W24+'ごみ搬入量内訳(燃料化)'!W24+'ごみ搬入量内訳(セメント)'!W24+'ごみ搬入量内訳(資源化等)'!W24+'ごみ搬入量内訳(その他)'!W24+'ごみ搬入量内訳(直接埋立)'!W24+'ごみ搬入量内訳(海洋投入)'!W24","v":0},{"$f":"'ごみ搬入量内訳(直接資源化)'!X24+'ごみ搬入量内訳(焼却)'!X24+'ごみ搬入量内訳(粗大)'!X24+'ごみ搬入量内訳(堆肥化)'!X24+'ごみ搬入量内訳(飼料化)'!X24+'ごみ搬入量内訳(メタン化)'!X24+'ごみ搬入量内訳(燃料化)'!X24+'ごみ搬入量内訳(セメント)'!X24+'ごみ搬入量内訳(資源化等)'!X24+'ごみ搬入量内訳(その他)'!X24+'ごみ搬入量内訳(直接埋立)'!X24+'ごみ搬入量内訳(海洋投入)'!X24","v":0},{"$f":"'ごみ搬入量内訳(直接資源化)'!Y24+'ごみ搬入量内訳(焼却)'!Y24+'ごみ搬入量内訳(粗大)'!Y24+'ごみ搬入量内訳(堆肥化)'!Y24+'ごみ搬入量内訳(飼料化)'!Y24+'ごみ搬入量内訳(メタン化)'!Y24+'ごみ搬入量内訳(燃料化)'!Y24+'ごみ搬入量内訳(セメント)'!Y24+'ごみ搬入量内訳(資源化等)'!Y24+'ごみ搬入量内訳(その他)'!Y24+'ごみ搬入量内訳(直接埋立)'!Y24+'ごみ搬入量内訳(海洋投入)'!Y24","v":0},{"$f":"'ごみ搬入量内訳(直接資源化)'!Z24+'ごみ搬入量内訳(焼却)'!Z24+'ごみ搬入量内訳(粗大)'!Z24+'ごみ搬入量内訳(堆肥化)'!Z24+'ごみ搬入量内訳(飼料化)'!Z24+'ごみ搬入量内訳(メタン化)'!Z24+'ごみ搬入量内訳(燃料化)'!Z24+'ごみ搬入量内訳(セメント)'!Z24+'ごみ搬入量内訳(資源化等)'!Z24+'ごみ搬入量内訳(その他)'!Z24+'ごみ搬入量内訳(直接埋立)'!Z24+'ごみ搬入量内訳(海洋投入)'!Z24","v":0},{"$f":"'ごみ搬入量内訳(直接資源化)'!AA24+'ごみ搬入量内訳(焼却)'!AA24+'ごみ搬入量内訳(粗大)'!AA24+'ごみ搬入量内訳(堆肥化)'!AA24+'ごみ搬入量内訳(飼料化)'!AA24+'ごみ搬入量内訳(メタン化)'!AA24+'ごみ搬入量内訳(燃料化)'!AA24+'ごみ搬入量内訳(セメント)'!AA24+'ごみ搬入量内訳(資源化等)'!AA24+'ごみ搬入量内訳(その他)'!AA24+'ごみ搬入量内訳(直接埋立)'!AA24+'ごみ搬入量内訳(海洋投入)'!AA24","v":0},{"$f":"'ごみ搬入量内訳(直接資源化)'!AB24+'ごみ搬入量内訳(焼却)'!AB24+'ごみ搬入量内訳(粗大)'!AB24+'ごみ搬入量内訳(堆肥化)'!AB24+'ごみ搬入量内訳(飼料化)'!AB24+'ごみ搬入量内訳(メタン化)'!AB24+'ごみ搬入量内訳(燃料化)'!AB24+'ごみ搬入量内訳(セメント)'!AB24+'ごみ搬入量内訳(資源化等)'!AB24+'ごみ搬入量内訳(その他)'!AB24+'ごみ搬入量内訳(直接埋立)'!AB24+'ごみ搬入量内訳(海洋投入)'!AB24","v":0},{"$f":"'ごみ搬入量内訳(直接資源化)'!AC24+'ごみ搬入量内訳(焼却)'!AC24+'ごみ搬入量内訳(粗大)'!AC24+'ごみ搬入量内訳(堆肥化)'!AC24+'ごみ搬入量内訳(飼料化)'!AC24+'ごみ搬入量内訳(メタン化)'!AC24+'ごみ搬入量内訳(燃料化)'!AC24+'ごみ搬入量内訳(セメント)'!AC24+'ごみ搬入量内訳(資源化等)'!AC24+'ごみ搬入量内訳(その他)'!AC24+'ごみ搬入量内訳(直接埋立)'!AC24+'ごみ搬入量内訳(海洋投入)'!AC24","v":0},{"$f":"'ごみ搬入量内訳(直接資源化)'!AD24+'ごみ搬入量内訳(焼却)'!AD24+'ごみ搬入量内訳(粗大)'!AD24+'ごみ搬入量内訳(堆肥化)'!AD24+'ごみ搬入量内訳(飼料化)'!AD24+'ごみ搬入量内訳(メタン化)'!AD24+'ごみ搬入量内訳(燃料化)'!AD24+'ごみ搬入量内訳(セメント)'!AD24+'ごみ搬入量内訳(資源化等)'!AD24+'ごみ搬入量内訳(その他)'!AD24+'ごみ搬入量内訳(直接埋立)'!AD24+'ごみ搬入量内訳(海洋投入)'!AD24","v":0},{"$f":"'ごみ搬入量内訳(直接資源化)'!AE24+'ごみ搬入量内訳(焼却)'!AE24+'ごみ搬入量内訳(粗大)'!AE24+'ごみ搬入量内訳(堆肥化)'!AE24+'ごみ搬入量内訳(飼料化)'!AE24+'ごみ搬入量内訳(メタン化)'!AE24+'ごみ搬入量内訳(燃料化)'!AE24+'ごみ搬入量内訳(セメント)'!AE24+'ごみ搬入量内訳(資源化等)'!AE24+'ごみ搬入量内訳(その他)'!AE24+'ごみ搬入量内訳(直接埋立)'!AE24+'ごみ搬入量内訳(海洋投入)'!AE24","v":0},{"$f":"'ごみ搬入量内訳(直接資源化)'!AF24+'ごみ搬入量内訳(焼却)'!AF24+'ごみ搬入量内訳(粗大)'!AF24+'ごみ搬入量内訳(堆肥化)'!AF24+'ごみ搬入量内訳(飼料化)'!AF24+'ごみ搬入量内訳(メタン化)'!AF24+'ごみ搬入量内訳(燃料化)'!AF24+'ごみ搬入量内訳(セメント)'!AF24+'ごみ搬入量内訳(資源化等)'!AF24+'ごみ搬入量内訳(その他)'!AF24+'ごみ搬入量内訳(直接埋立)'!AF24+'ごみ搬入量内訳(海洋投入)'!AF24","v":0},{"$f":"'ごみ搬入量内訳(直接資源化)'!AG24+'ごみ搬入量内訳(焼却)'!AG24+'ごみ搬入量内訳(粗大)'!AG24+'ごみ搬入量内訳(堆肥化)'!AG24+'ごみ搬入量内訳(飼料化)'!AG24+'ごみ搬入量内訳(メタン化)'!AG24+'ごみ搬入量内訳(燃料化)'!AG24+'ごみ搬入量内訳(セメント)'!AG24+'ごみ搬入量内訳(資源化等)'!AG24+'ごみ搬入量内訳(その他)'!AG24+'ごみ搬入量内訳(直接埋立)'!AG24+'ごみ搬入量内訳(海洋投入)'!AG24","v":0},{"$f":"'ごみ搬入量内訳(直接資源化)'!AH24+'ごみ搬入量内訳(焼却)'!AH24+'ごみ搬入量内訳(粗大)'!AH24+'ごみ搬入量内訳(堆肥化)'!AH24+'ごみ搬入量内訳(飼料化)'!AH24+'ごみ搬入量内訳(メタン化)'!AH24+'ごみ搬入量内訳(燃料化)'!AH24+'ごみ搬入量内訳(セメント)'!AH24+'ごみ搬入量内訳(資源化等)'!AH24+'ごみ搬入量内訳(その他)'!AH24+'ごみ搬入量内訳(直接埋立)'!AH24+'ごみ搬入量内訳(海洋投入)'!AH24","v":0},{"$f":"'ごみ搬入量内訳(直接資源化)'!AI24+'ごみ搬入量内訳(焼却)'!AI24+'ごみ搬入量内訳(粗大)'!AI24+'ごみ搬入量内訳(堆肥化)'!AI24+'ごみ搬入量内訳(飼料化)'!AI24+'ごみ搬入量内訳(メタン化)'!AI24+'ごみ搬入量内訳(燃料化)'!AI24+'ごみ搬入量内訳(セメント)'!AI24+'ごみ搬入量内訳(資源化等)'!AI24+'ごみ搬入量内訳(その他)'!AI24+'ごみ搬入量内訳(直接埋立)'!AI24+'ごみ搬入量内訳(海洋投入)'!AI24","v":0}]
["秋田県","05349","八峰町",{"$f":"SUM(E25:AI25)","v":0},{"$f":"'ごみ搬入量内訳(直接資源化)'!E25+'ごみ搬入量内訳(焼却)'!E25+'ごみ搬入量内訳(粗大)'!E25+'ごみ搬入量内訳(堆肥化)'!E25+'ごみ搬入量内訳(飼料化)'!E25+'ごみ搬入量内訳(メタン化)'!E25+'ごみ搬入量内訳(燃料化)'!E25+'ごみ搬入量内訳(セメント)'!E25+'ごみ搬入量内訳(資源化等)'!E25+'ごみ搬入量内訳(その他)'!E25+'ごみ搬入量内訳(直接埋立)'!E25+'ごみ搬入量内訳(海洋投入)'!E25","v":0},{"$f":"'ごみ搬入量内訳(直接資源化)'!F25+'ごみ搬入量内訳(焼却)'!F25+'ごみ搬入量内訳(粗大)'!F25+'ごみ搬入量内訳(堆肥化)'!F25+'ごみ搬入量内訳(飼料化)'!F25+'ごみ搬入量内訳(メタン化)'!F25+'ごみ搬入量内訳(燃料化)'!F25+'ごみ搬入量内訳(セメント)'!F25+'ごみ搬入量内訳(資源化等)'!F25+'ごみ搬入量内訳(その他)'!F25+'ごみ搬入量内訳(直接埋立)'!F25+'ごみ搬入量内訳(海洋投入)'!F25","v":0},{"$f":"'ごみ搬入量内訳(直接資源化)'!G25+'ごみ搬入量内訳(焼却)'!G25+'ごみ搬入量内訳(粗大)'!G25+'ごみ搬入量内訳(堆肥化)'!G25+'ごみ搬入量内訳(飼料化)'!G25+'ごみ搬入量内訳(メタン化)'!G25+'ごみ搬入量内訳(燃料化)'!G25+'ごみ搬入量内訳(セメント)'!G25+'ごみ搬入量内訳(資源化等)'!G25+'ごみ搬入量内訳(その他)'!G25+'ごみ搬入量内訳(直接埋立)'!G25+'ごみ搬入量内訳(海洋投入)'!G25","v":0},{"$f":"'ごみ搬入量内訳(直接資源化)'!H25+'ごみ搬入量内訳(焼却)'!H25+'ごみ搬入量内訳(粗大)'!H25+'ごみ搬入量内訳(堆肥化)'!H25+'ごみ搬入量内訳(飼料化)'!H25+'ごみ搬入量内訳(メタン化)'!H25+'ごみ搬入量内訳(燃料化)'!H25+'ごみ搬入量内訳(セメント)'!H25+'ごみ搬入量内訳(資源化等)'!H25+'ごみ搬入量内訳(その他)'!H25+'ごみ搬入量内訳(直接埋立)'!H25+'ごみ搬入量内訳(海洋投入)'!H25","v":0},{"$f":"'ごみ搬入量内訳(直接資源化)'!I25+'ごみ搬入量内訳(焼却)'!I25+'ごみ搬入量内訳(粗大)'!I25+'ごみ搬入量内訳(堆肥化)'!I25+'ごみ搬入量内訳(飼料化)'!I25+'ごみ搬入量内訳(メタン化)'!I25+'ごみ搬入量内訳(燃料化)'!I25+'ごみ搬入量内訳(セメント)'!I25+'ごみ搬入量内訳(資源化等)'!I25+'ごみ搬入量内訳(その他)'!I25+'ごみ搬入量内訳(直接埋立)'!I25+'ごみ搬入量内訳(海洋投入)'!I25","v":0},{"$f":"'ごみ搬入量内訳(直接資源化)'!J25+'ごみ搬入量内訳(焼却)'!J25+'ごみ搬入量内訳(粗大)'!J25+'ごみ搬入量内訳(堆肥化)'!J25+'ごみ搬入量内訳(飼料化)'!J25+'ごみ搬入量内訳(メタン化)'!J25+'ごみ搬入量内訳(燃料化)'!J25+'ごみ搬入量内訳(セメント)'!J25+'ごみ搬入量内訳(資源化等)'!J25+'ごみ搬入量内訳(その他)'!J25+'ごみ搬入量内訳(直接埋立)'!J25+'ごみ搬入量内訳(海洋投入)'!J25","v":0},{"$f":"'ごみ搬入量内訳(直接資源化)'!K25+'ごみ搬入量内訳(焼却)'!K25+'ごみ搬入量内訳(粗大)'!K25+'ごみ搬入量内訳(堆肥化)'!K25+'ごみ搬入量内訳(飼料化)'!K25+'ごみ搬入量内訳(メタン化)'!K25+'ごみ搬入量内訳(燃料化)'!K25+'ごみ搬入量内訳(セメント)'!K25+'ごみ搬入量内訳(資源化等)'!K25+'ごみ搬入量内訳(その他)'!K25+'ごみ搬入量内訳(直接埋立)'!K25+'ごみ搬入量内訳(海洋投入)'!K25","v":0},{"$f":"'ごみ搬入量内訳(直接資源化)'!L25+'ごみ搬入量内訳(焼却)'!L25+'ごみ搬入量内訳(粗大)'!L25+'ごみ搬入量内訳(堆肥化)'!L25+'ごみ搬入量内訳(飼料化)'!L25+'ごみ搬入量内訳(メタン化)'!L25+'ごみ搬入量内訳(燃料化)'!L25+'ごみ搬入量内訳(セメント)'!L25+'ごみ搬入量内訳(資源化等)'!L25+'ごみ搬入量内訳(その他)'!L25+'ごみ搬入量内訳(直接埋立)'!L25+'ごみ搬入量内訳(海洋投入)'!L25","v":0},{"$f":"'ごみ搬入量内訳(直接資源化)'!M25+'ごみ搬入量内訳(焼却)'!M25+'ごみ搬入量内訳(粗大)'!M25+'ごみ搬入量内訳(堆肥化)'!M25+'ごみ搬入量内訳(飼料化)'!M25+'ごみ搬入量内訳(メタン化)'!M25+'ごみ搬入量内訳(燃料化)'!M25+'ごみ搬入量内訳(セメント)'!M25+'ごみ搬入量内訳(資源化等)'!M25+'ごみ搬入量内訳(その他)'!M25+'ごみ搬入量内訳(直接埋立)'!M25+'ごみ搬入量内訳(海洋投入)'!M25","v":0},{"$f":"'ごみ搬入量内訳(直接資源化)'!N25+'ごみ搬入量内訳(焼却)'!N25+'ごみ搬入量内訳(粗大)'!N25+'ごみ搬入量内訳(堆肥化)'!N25+'ごみ搬入量内訳(飼料化)'!N25+'ごみ搬入量内訳(メタン化)'!N25+'ごみ搬入量内訳(燃料化)'!N25+'ごみ搬入量内訳(セメント)'!N25+'ごみ搬入量内訳(資源化等)'!N25+'ごみ搬入量内訳(その他)'!N25+'ごみ搬入量内訳(直接埋立)'!N25+'ごみ搬入量内訳(海洋投入)'!N25","v":0},{"$f":"'ごみ搬入量内訳(直接資源化)'!O25+'ごみ搬入量内訳(焼却)'!O25+'ごみ搬入量内訳(粗大)'!O25+'ごみ搬入量内訳(堆肥化)'!O25+'ごみ搬入量内訳(飼料化)'!O25+'ごみ搬入量内訳(メタン化)'!O25+'ごみ搬入量内訳(燃料化)'!O25+'ごみ搬入量内訳(セメント)'!O25+'ごみ搬入量内訳(資源化等)'!O25+'ごみ搬入量内訳(その他)'!O25+'ごみ搬入量内訳(直接埋立)'!O25+'ごみ搬入量内訳(海洋投入)'!O25","v":0},{"$f":"'ごみ搬入量内訳(直接資源化)'!P25+'ごみ搬入量内訳(焼却)'!P25+'ごみ搬入量内訳(粗大)'!P25+'ごみ搬入量内訳(堆肥化)'!P25+'ごみ搬入量内訳(飼料化)'!P25+'ごみ搬入量内訳(メタン化)'!P25+'ごみ搬入量内訳(燃料化)'!P25+'ごみ搬入量内訳(セメント)'!P25+'ごみ搬入量内訳(資源化等)'!P25+'ごみ搬入量内訳(その他)'!P25+'ごみ搬入量内訳(直接埋立)'!P25+'ごみ搬入量内訳(海洋投入)'!P25","v":0},{"$f":"'ごみ搬入量内訳(直接資源化)'!Q25+'ごみ搬入量内訳(焼却)'!Q25+'ごみ搬入量内訳(粗大)'!Q25+'ごみ搬入量内訳(堆肥化)'!Q25+'ごみ搬入量内訳(飼料化)'!Q25+'ごみ搬入量内訳(メタン化)'!Q25+'ごみ搬入量内訳(燃料化)'!Q25+'ごみ搬入量内訳(セメント)'!Q25+'ごみ搬入量内訳(資源化等)'!Q25+'ごみ搬入量内訳(その他)'!Q25+'ごみ搬入量内訳(直接埋立)'!Q25+'ごみ搬入量内訳(海洋投入)'!Q25","v":0},{"$f":"'ごみ搬入量内訳(直接資源化)'!R25+'ごみ搬入量内訳(焼却)'!R25+'ごみ搬入量内訳(粗大)'!R25+'ごみ搬入量内訳(堆肥化)'!R25+'ごみ搬入量内訳(飼料化)'!R25+'ごみ搬入量内訳(メタン化)'!R25+'ごみ搬入量内訳(燃料化)'!R25+'ごみ搬入量内訳(セメント)'!R25+'ごみ搬入量内訳(資源化等)'!R25+'ごみ搬入量内訳(その他)'!R25+'ごみ搬入量内訳(直接埋立)'!R25+'ごみ搬入量内訳(海洋投入)'!R25","v":0},{"$f":"'ごみ搬入量内訳(直接資源化)'!S25+'ごみ搬入量内訳(焼却)'!S25+'ごみ搬入量内訳(粗大)'!S25+'ごみ搬入量内訳(堆肥化)'!S25+'ごみ搬入量内訳(飼料化)'!S25+'ごみ搬入量内訳(メタン化)'!S25+'ごみ搬入量内訳(燃料化)'!S25+'ごみ搬入量内訳(セメント)'!S25+'ごみ搬入量内訳(資源化等)'!S25+'ごみ搬入量内訳(その他)'!S25+'ごみ搬入量内訳(直接埋立)'!S25+'ごみ搬入量内訳(海洋投入)'!S25","v":0},{"$f":"'ごみ搬入量内訳(直接資源化)'!T25+'ごみ搬入量内訳(焼却)'!T25+'ごみ搬入量内訳(粗大)'!T25+'ごみ搬入量内訳(堆肥化)'!T25+'ごみ搬入量内訳(飼料化)'!T25+'ごみ搬入量内訳(メタン化)'!T25+'ごみ搬入量内訳(燃料化)'!T25+'ごみ搬入量内訳(セメント)'!T25+'ごみ搬入量内訳(資源化等)'!T25+'ごみ搬入量内訳(その他)'!T25+'ごみ搬入量内訳(直接埋立)'!T25+'ごみ搬入量内訳(海洋投入)'!T25","v":0},{"$f":"'ごみ搬入量内訳(直接資源化)'!U25+'ごみ搬入量内訳(焼却)'!U25+'ごみ搬入量内訳(粗大)'!U25+'ごみ搬入量内訳(堆肥化)'!U25+'ごみ搬入量内訳(飼料化)'!U25+'ごみ搬入量内訳(メタン化)'!U25+'ごみ搬入量内訳(燃料化)'!U25+'ごみ搬入量内訳(セメント)'!U25+'ごみ搬入量内訳(資源化等)'!U25+'ごみ搬入量内訳(その他)'!U25+'ごみ搬入量内訳(直接埋立)'!U25+'ごみ搬入量内訳(海洋投入)'!U25","v":0},{"$f":"'ごみ搬入量内訳(直接資源化)'!V25+'ごみ搬入量内訳(焼却)'!V25+'ごみ搬入量内訳(粗大)'!V25+'ごみ搬入量内訳(堆肥化)'!V25+'ごみ搬入量内訳(飼料化)'!V25+'ごみ搬入量内訳(メタン化)'!V25+'ごみ搬入量内訳(燃料化)'!V25+'ごみ搬入量内訳(セメント)'!V25+'ごみ搬入量内訳(資源化等)'!V25+'ごみ搬入量内訳(その他)'!V25+'ごみ搬入量内訳(直接埋立)'!V25+'ごみ搬入量内訳(海洋投入)'!V25","v":0},{"$f":"'ごみ搬入量内訳(直接資源化)'!W25+'ごみ搬入量内訳(焼却)'!W25+'ごみ搬入量内訳(粗大)'!W25+'ごみ搬入量内訳(堆肥化)'!W25+'ごみ搬入量内訳(飼料化)'!W25+'ごみ搬入量内訳(メタン化)'!W25+'ごみ搬入量内訳(燃料化)'!W25+'ごみ搬入量内訳(セメント)'!W25+'ごみ搬入量内訳(資源化等)'!W25+'ごみ搬入量内訳(その他)'!W25+'ごみ搬入量内訳(直接埋立)'!W25+'ごみ搬入量内訳(海洋投入)'!W25","v":0},{"$f":"'ごみ搬入量内訳(直接資源化)'!X25+'ごみ搬入量内訳(焼却)'!X25+'ごみ搬入量内訳(粗大)'!X25+'ごみ搬入量内訳(堆肥化)'!X25+'ごみ搬入量内訳(飼料化)'!X25+'ごみ搬入量内訳(メタン化)'!X25+'ごみ搬入量内訳(燃料化)'!X25+'ごみ搬入量内訳(セメント)'!X25+'ごみ搬入量内訳(資源化等)'!X25+'ごみ搬入量内訳(その他)'!X25+'ごみ搬入量内訳(直接埋立)'!X25+'ごみ搬入量内訳(海洋投入)'!X25","v":0},{"$f":"'ごみ搬入量内訳(直接資源化)'!Y25+'ごみ搬入量内訳(焼却)'!Y25+'ごみ搬入量内訳(粗大)'!Y25+'ごみ搬入量内訳(堆肥化)'!Y25+'ごみ搬入量内訳(飼料化)'!Y25+'ごみ搬入量内訳(メタン化)'!Y25+'ごみ搬入量内訳(燃料化)'!Y25+'ごみ搬入量内訳(セメント)'!Y25+'ごみ搬入量内訳(資源化等)'!Y25+'ごみ搬入量内訳(その他)'!Y25+'ごみ搬入量内訳(直接埋立)'!Y25+'ごみ搬入量内訳(海洋投入)'!Y25","v":0},{"$f":"'ごみ搬入量内訳(直接資源化)'!Z25+'ごみ搬入量内訳(焼却)'!Z25+'ごみ搬入量内訳(粗大)'!Z25+'ごみ搬入量内訳(堆肥化)'!Z25+'ごみ搬入量内訳(飼料化)'!Z25+'ごみ搬入量内訳(メタン化)'!Z25+'ごみ搬入量内訳(燃料化)'!Z25+'ごみ搬入量内訳(セメント)'!Z25+'ごみ搬入量内訳(資源化等)'!Z25+'ごみ搬入量内訳(その他)'!Z25+'ごみ搬入量内訳(直接埋立)'!Z25+'ごみ搬入量内訳(海洋投入)'!Z25","v":0},{"$f":"'ごみ搬入量内訳(直接資源化)'!AA25+'ごみ搬入量内訳(焼却)'!AA25+'ごみ搬入量内訳(粗大)'!AA25+'ごみ搬入量内訳(堆肥化)'!AA25+'ごみ搬入量内訳(飼料化)'!AA25+'ごみ搬入量内訳(メタン化)'!AA25+'ごみ搬入量内訳(燃料化)'!AA25+'ごみ搬入量内訳(セメント)'!AA25+'ごみ搬入量内訳(資源化等)'!AA25+'ごみ搬入量内訳(その他)'!AA25+'ごみ搬入量内訳(直接埋立)'!AA25+'ごみ搬入量内訳(海洋投入)'!AA25","v":0},{"$f":"'ごみ搬入量内訳(直接資源化)'!AB25+'ごみ搬入量内訳(焼却)'!AB25+'ごみ搬入量内訳(粗大)'!AB25+'ごみ搬入量内訳(堆肥化)'!AB25+'ごみ搬入量内訳(飼料化)'!AB25+'ごみ搬入量内訳(メタン化)'!AB25+'ごみ搬入量内訳(燃料化)'!AB25+'ごみ搬入量内訳(セメント)'!AB25+'ごみ搬入量内訳(資源化等)'!AB25+'ごみ搬入量内訳(その他)'!AB25+'ごみ搬入量内訳(直接埋立)'!AB25+'ごみ搬入量内訳(海洋投入)'!AB25","v":0},{"$f":"'ごみ搬入量内訳(直接資源化)'!AC25+'ごみ搬入量内訳(焼却)'!AC25+'ごみ搬入量内訳(粗大)'!AC25+'ごみ搬入量内訳(堆肥化)'!AC25+'ごみ搬入量内訳(飼料化)'!AC25+'ごみ搬入量内訳(メタン化)'!AC25+'ごみ搬入量内訳(燃料化)'!AC25+'ごみ搬入量内訳(セメント)'!AC25+'ごみ搬入量内訳(資源化等)'!AC25+'ごみ搬入量内訳(その他)'!AC25+'ごみ搬入量内訳(直接埋立)'!AC25+'ごみ搬入量内訳(海洋投入)'!AC25","v":0},{"$f":"'ごみ搬入量内訳(直接資源化)'!AD25+'ごみ搬入量内訳(焼却)'!AD25+'ごみ搬入量内訳(粗大)'!AD25+'ごみ搬入量内訳(堆肥化)'!AD25+'ごみ搬入量内訳(飼料化)'!AD25+'ごみ搬入量内訳(メタン化)'!AD25+'ごみ搬入量内訳(燃料化)'!AD25+'ごみ搬入量内訳(セメント)'!AD25+'ごみ搬入量内訳(資源化等)'!AD25+'ごみ搬入量内訳(その他)'!AD25+'ごみ搬入量内訳(直接埋立)'!AD25+'ごみ搬入量内訳(海洋投入)'!AD25","v":0},{"$f":"'ごみ搬入量内訳(直接資源化)'!AE25+'ごみ搬入量内訳(焼却)'!AE25+'ごみ搬入量内訳(粗大)'!AE25+'ごみ搬入量内訳(堆肥化)'!AE25+'ごみ搬入量内訳(飼料化)'!AE25+'ごみ搬入量内訳(メタン化)'!AE25+'ごみ搬入量内訳(燃料化)'!AE25+'ごみ搬入量内訳(セメント)'!AE25+'ごみ搬入量内訳(資源化等)'!AE25+'ごみ搬入量内訳(その他)'!AE25+'ごみ搬入量内訳(直接埋立)'!AE25+'ごみ搬入量内訳(海洋投入)'!AE25","v":0},{"$f":"'ごみ搬入量内訳(直接資源化)'!AF25+'ごみ搬入量内訳(焼却)'!AF25+'ごみ搬入量内訳(粗大)'!AF25+'ごみ搬入量内訳(堆肥化)'!AF25+'ごみ搬入量内訳(飼料化)'!AF25+'ごみ搬入量内訳(メタン化)'!AF25+'ごみ搬入量内訳(燃料化)'!AF25+'ごみ搬入量内訳(セメント)'!AF25+'ごみ搬入量内訳(資源化等)'!AF25+'ごみ搬入量内訳(その他)'!AF25+'ごみ搬入量内訳(直接埋立)'!AF25+'ごみ搬入量内訳(海洋投入)'!AF25","v":0},{"$f":"'ごみ搬入量内訳(直接資源化)'!AG25+'ごみ搬入量内訳(焼却)'!AG25+'ごみ搬入量内訳(粗大)'!AG25+'ごみ搬入量内訳(堆肥化)'!AG25+'ごみ搬入量内訳(飼料化)'!AG25+'ごみ搬入量内訳(メタン化)'!AG25+'ごみ搬入量内訳(燃料化)'!AG25+'ごみ搬入量内訳(セメント)'!AG25+'ごみ搬入量内訳(資源化等)'!AG25+'ごみ搬入量内訳(その他)'!AG25+'ごみ搬入量内訳(直接埋立)'!AG25+'ごみ搬入量内訳(海洋投入)'!AG25","v":0},{"$f":"'ごみ搬入量内訳(直接資源化)'!AH25+'ごみ搬入量内訳(焼却)'!AH25+'ごみ搬入量内訳(粗大)'!AH25+'ごみ搬入量内訳(堆肥化)'!AH25+'ごみ搬入量内訳(飼料化)'!AH25+'ごみ搬入量内訳(メタン化)'!AH25+'ごみ搬入量内訳(燃料化)'!AH25+'ごみ搬入量内訳(セメント)'!AH25+'ごみ搬入量内訳(資源化等)'!AH25+'ごみ搬入量内訳(その他)'!AH25+'ごみ搬入量内訳(直接埋立)'!AH25+'ごみ搬入量内訳(海洋投入)'!AH25","v":0},{"$f":"'ごみ搬入量内訳(直接資源化)'!AI25+'ごみ搬入量内訳(焼却)'!AI25+'ごみ搬入量内訳(粗大)'!AI25+'ごみ搬入量内訳(堆肥化)'!AI25+'ごみ搬入量内訳(飼料化)'!AI25+'ごみ搬入量内訳(メタン化)'!AI25+'ごみ搬入量内訳(燃料化)'!AI25+'ごみ搬入量内訳(セメント)'!AI25+'ごみ搬入量内訳(資源化等)'!AI25+'ごみ搬入量内訳(その他)'!AI25+'ごみ搬入量内訳(直接埋立)'!AI25+'ごみ搬入量内訳(海洋投入)'!AI25","v":0}]
["秋田県","05361","五城目町",{"$f":"SUM(E26:AI26)","v":0},{"$f":"'ごみ搬入量内訳(直接資源化)'!E26+'ごみ搬入量内訳(焼却)'!E26+'ごみ搬入量内訳(粗大)'!E26+'ごみ搬入量内訳(堆肥化)'!E26+'ごみ搬入量内訳(飼料化)'!E26+'ごみ搬入量内訳(メタン化)'!E26+'ごみ搬入量内訳(燃料化)'!E26+'ごみ搬入量内訳(セメント)'!E26+'ごみ搬入量内訳(資源化等)'!E26+'ごみ搬入量内訳(その他)'!E26+'ごみ搬入量内訳(直接埋立)'!E26+'ごみ搬入量内訳(海洋投入)'!E26","v":0},{"$f":"'ごみ搬入量内訳(直接資源化)'!F26+'ごみ搬入量内訳(焼却)'!F26+'ごみ搬入量内訳(粗大)'!F26+'ごみ搬入量内訳(堆肥化)'!F26+'ごみ搬入量内訳(飼料化)'!F26+'ごみ搬入量内訳(メタン化)'!F26+'ごみ搬入量内訳(燃料化)'!F26+'ごみ搬入量内訳(セメント)'!F26+'ごみ搬入量内訳(資源化等)'!F26+'ごみ搬入量内訳(その他)'!F26+'ごみ搬入量内訳(直接埋立)'!F26+'ごみ搬入量内訳(海洋投入)'!F26","v":0},{"$f":"'ごみ搬入量内訳(直接資源化)'!G26+'ごみ搬入量内訳(焼却)'!G26+'ごみ搬入量内訳(粗大)'!G26+'ごみ搬入量内訳(堆肥化)'!G26+'ごみ搬入量内訳(飼料化)'!G26+'ごみ搬入量内訳(メタン化)'!G26+'ごみ搬入量内訳(燃料化)'!G26+'ごみ搬入量内訳(セメント)'!G26+'ごみ搬入量内訳(資源化等)'!G26+'ごみ搬入量内訳(その他)'!G26+'ごみ搬入量内訳(直接埋立)'!G26+'ごみ搬入量内訳(海洋投入)'!G26","v":0},{"$f":"'ごみ搬入量内訳(直接資源化)'!H26+'ごみ搬入量内訳(焼却)'!H26+'ごみ搬入量内訳(粗大)'!H26+'ごみ搬入量内訳(堆肥化)'!H26+'ごみ搬入量内訳(飼料化)'!H26+'ごみ搬入量内訳(メタン化)'!H26+'ごみ搬入量内訳(燃料化)'!H26+'ごみ搬入量内訳(セメント)'!H26+'ごみ搬入量内訳(資源化等)'!H26+'ごみ搬入量内訳(その他)'!H26+'ごみ搬入量内訳(直接埋立)'!H26+'ごみ搬入量内訳(海洋投入)'!H26","v":0},{"$f":"'ごみ搬入量内訳(直接資源化)'!I26+'ごみ搬入量内訳(焼却)'!I26+'ごみ搬入量内訳(粗大)'!I26+'ごみ搬入量内訳(堆肥化)'!I26+'ごみ搬入量内訳(飼料化)'!I26+'ごみ搬入量内訳(メタン化)'!I26+'ごみ搬入量内訳(燃料化)'!I26+'ごみ搬入量内訳(セメント)'!I26+'ごみ搬入量内訳(資源化等)'!I26+'ごみ搬入量内訳(その他)'!I26+'ごみ搬入量内訳(直接埋立)'!I26+'ごみ搬入量内訳(海洋投入)'!I26","v":0},{"$f":"'ごみ搬入量内訳(直接資源化)'!J26+'ごみ搬入量内訳(焼却)'!J26+'ごみ搬入量内訳(粗大)'!J26+'ごみ搬入量内訳(堆肥化)'!J26+'ごみ搬入量内訳(飼料化)'!J26+'ごみ搬入量内訳(メタン化)'!J26+'ごみ搬入量内訳(燃料化)'!J26+'ごみ搬入量内訳(セメント)'!J26+'ごみ搬入量内訳(資源化等)'!J26+'ごみ搬入量内訳(その他)'!J26+'ごみ搬入量内訳(直接埋立)'!J26+'ごみ搬入量内訳(海洋投入)'!J26","v":0},{"$f":"'ごみ搬入量内訳(直接資源化)'!K26+'ごみ搬入量内訳(焼却)'!K26+'ごみ搬入量内訳(粗大)'!K26+'ごみ搬入量内訳(堆肥化)'!K26+'ごみ搬入量内訳(飼料化)'!K26+'ごみ搬入量内訳(メタン化)'!K26+'ごみ搬入量内訳(燃料化)'!K26+'ごみ搬入量内訳(セメント)'!K26+'ごみ搬入量内訳(資源化等)'!K26+'ごみ搬入量内訳(その他)'!K26+'ごみ搬入量内訳(直接埋立)'!K26+'ごみ搬入量内訳(海洋投入)'!K26","v":0},{"$f":"'ごみ搬入量内訳(直接資源化)'!L26+'ごみ搬入量内訳(焼却)'!L26+'ごみ搬入量内訳(粗大)'!L26+'ごみ搬入量内訳(堆肥化)'!L26+'ごみ搬入量内訳(飼料化)'!L26+'ごみ搬入量内訳(メタン化)'!L26+'ごみ搬入量内訳(燃料化)'!L26+'ごみ搬入量内訳(セメント)'!L26+'ごみ搬入量内訳(資源化等)'!L26+'ごみ搬入量内訳(その他)'!L26+'ごみ搬入量内訳(直接埋立)'!L26+'ごみ搬入量内訳(海洋投入)'!L26","v":0},{"$f":"'ごみ搬入量内訳(直接資源化)'!M26+'ごみ搬入量内訳(焼却)'!M26+'ごみ搬入量内訳(粗大)'!M26+'ごみ搬入量内訳(堆肥化)'!M26+'ごみ搬入量内訳(飼料化)'!M26+'ごみ搬入量内訳(メタン化)'!M26+'ごみ搬入量内訳(燃料化)'!M26+'ごみ搬入量内訳(セメント)'!M26+'ごみ搬入量内訳(資源化等)'!M26+'ごみ搬入量内訳(その他)'!M26+'ごみ搬入量内訳(直接埋立)'!M26+'ごみ搬入量内訳(海洋投入)'!M26","v":0},{"$f":"'ごみ搬入量内訳(直接資源化)'!N26+'ごみ搬入量内訳(焼却)'!N26+'ごみ搬入量内訳(粗大)'!N26+'ごみ搬入量内訳(堆肥化)'!N26+'ごみ搬入量内訳(飼料化)'!N26+'ごみ搬入量内訳(メタン化)'!N26+'ごみ搬入量内訳(燃料化)'!N26+'ごみ搬入量内訳(セメント)'!N26+'ごみ搬入量内訳(資源化等)'!N26+'ごみ搬入量内訳(その他)'!N26+'ごみ搬入量内訳(直接埋立)'!N26+'ごみ搬入量内訳(海洋投入)'!N26","v":0},{"$f":"'ごみ搬入量内訳(直接資源化)'!O26+'ごみ搬入量内訳(焼却)'!O26+'ごみ搬入量内訳(粗大)'!O26+'ごみ搬入量内訳(堆肥化)'!O26+'ごみ搬入量内訳(飼料化)'!O26+'ごみ搬入量内訳(メタン化)'!O26+'ごみ搬入量内訳(燃料化)'!O26+'ごみ搬入量内訳(セメント)'!O26+'ごみ搬入量内訳(資源化等)'!O26+'ごみ搬入量内訳(その他)'!O26+'ごみ搬入量内訳(直接埋立)'!O26+'ごみ搬入量内訳(海洋投入)'!O26","v":0},{"$f":"'ごみ搬入量内訳(直接資源化)'!P26+'ごみ搬入量内訳(焼却)'!P26+'ごみ搬入量内訳(粗大)'!P26+'ごみ搬入量内訳(堆肥化)'!P26+'ごみ搬入量内訳(飼料化)'!P26+'ごみ搬入量内訳(メタン化)'!P26+'ごみ搬入量内訳(燃料化)'!P26+'ごみ搬入量内訳(セメント)'!P26+'ごみ搬入量内訳(資源化等)'!P26+'ごみ搬入量内訳(その他)'!P26+'ごみ搬入量内訳(直接埋立)'!P26+'ごみ搬入量内訳(海洋投入)'!P26","v":0},{"$f":"'ごみ搬入量内訳(直接資源化)'!Q26+'ごみ搬入量内訳(焼却)'!Q26+'ごみ搬入量内訳(粗大)'!Q26+'ごみ搬入量内訳(堆肥化)'!Q26+'ごみ搬入量内訳(飼料化)'!Q26+'ごみ搬入量内訳(メタン化)'!Q26+'ごみ搬入量内訳(燃料化)'!Q26+'ごみ搬入量内訳(セメント)'!Q26+'ごみ搬入量内訳(資源化等)'!Q26+'ごみ搬入量内訳(その他)'!Q26+'ごみ搬入量内訳(直接埋立)'!Q26+'ごみ搬入量内訳(海洋投入)'!Q26","v":0},{"$f":"'ごみ搬入量内訳(直接資源化)'!R26+'ごみ搬入量内訳(焼却)'!R26+'ごみ搬入量内訳(粗大)'!R26+'ごみ搬入量内訳(堆肥化)'!R26+'ごみ搬入量内訳(飼料化)'!R26+'ごみ搬入量内訳(メタン化)'!R26+'ごみ搬入量内訳(燃料化)'!R26+'ごみ搬入量内訳(セメント)'!R26+'ごみ搬入量内訳(資源化等)'!R26+'ごみ搬入量内訳(その他)'!R26+'ごみ搬入量内訳(直接埋立)'!R26+'ごみ搬入量内訳(海洋投入)'!R26","v":0},{"$f":"'ごみ搬入量内訳(直接資源化)'!S26+'ごみ搬入量内訳(焼却)'!S26+'ごみ搬入量内訳(粗大)'!S26+'ごみ搬入量内訳(堆肥化)'!S26+'ごみ搬入量内訳(飼料化)'!S26+'ごみ搬入量内訳(メタン化)'!S26+'ごみ搬入量内訳(燃料化)'!S26+'ごみ搬入量内訳(セメント)'!S26+'ごみ搬入量内訳(資源化等)'!S26+'ごみ搬入量内訳(その他)'!S26+'ごみ搬入量内訳(直接埋立)'!S26+'ごみ搬入量内訳(海洋投入)'!S26","v":0},{"$f":"'ごみ搬入量内訳(直接資源化)'!T26+'ごみ搬入量内訳(焼却)'!T26+'ごみ搬入量内訳(粗大)'!T26+'ごみ搬入量内訳(堆肥化)'!T26+'ごみ搬入量内訳(飼料化)'!T26+'ごみ搬入量内訳(メタン化)'!T26+'ごみ搬入量内訳(燃料化)'!T26+'ごみ搬入量内訳(セメント)'!T26+'ごみ搬入量内訳(資源化等)'!T26+'ごみ搬入量内訳(その他)'!T26+'ごみ搬入量内訳(直接埋立)'!T26+'ごみ搬入量内訳(海洋投入)'!T26","v":0},{"$f":"'ごみ搬入量内訳(直接資源化)'!U26+'ごみ搬入量内訳(焼却)'!U26+'ごみ搬入量内訳(粗大)'!U26+'ごみ搬入量内訳(堆肥化)'!U26+'ごみ搬入量内訳(飼料化)'!U26+'ごみ搬入量内訳(メタン化)'!U26+'ごみ搬入量内訳(燃料化)'!U26+'ごみ搬入量内訳(セメント)'!U26+'ごみ搬入量内訳(資源化等)'!U26+'ごみ搬入量内訳(その他)'!U26+'ごみ搬入量内訳(直接埋立)'!U26+'ごみ搬入量内訳(海洋投入)'!U26","v":0},{"$f":"'ごみ搬入量内訳(直接資源化)'!V26+'ごみ搬入量内訳(焼却)'!V26+'ごみ搬入量内訳(粗大)'!V26+'ごみ搬入量内訳(堆肥化)'!V26+'ごみ搬入量内訳(飼料化)'!V26+'ごみ搬入量内訳(メタン化)'!V26+'ごみ搬入量内訳(燃料化)'!V26+'ごみ搬入量内訳(セメント)'!V26+'ごみ搬入量内訳(資源化等)'!V26+'ごみ搬入量内訳(その他)'!V26+'ごみ搬入量内訳(直接埋立)'!V26+'ごみ搬入量内訳(海洋投入)'!V26","v":0},{"$f":"'ごみ搬入量内訳(直接資源化)'!W26+'ごみ搬入量内訳(焼却)'!W26+'ごみ搬入量内訳(粗大)'!W26+'ごみ搬入量内訳(堆肥化)'!W26+'ごみ搬入量内訳(飼料化)'!W26+'ごみ搬入量内訳(メタン化)'!W26+'ごみ搬入量内訳(燃料化)'!W26+'ごみ搬入量内訳(セメント)'!W26+'ごみ搬入量内訳(資源化等)'!W26+'ごみ搬入量内訳(その他)'!W26+'ごみ搬入量内訳(直接埋立)'!W26+'ごみ搬入量内訳(海洋投入)'!W26","v":0},{"$f":"'ごみ搬入量内訳(直接資源化)'!X26+'ごみ搬入量内訳(焼却)'!X26+'ごみ搬入量内訳(粗大)'!X26+'ごみ搬入量内訳(堆肥化)'!X26+'ごみ搬入量内訳(飼料化)'!X26+'ごみ搬入量内訳(メタン化)'!X26+'ごみ搬入量内訳(燃料化)'!X26+'ごみ搬入量内訳(セメント)'!X26+'ごみ搬入量内訳(資源化等)'!X26+'ごみ搬入量内訳(その他)'!X26+'ごみ搬入量内訳(直接埋立)'!X26+'ごみ搬入量内訳(海洋投入)'!X26","v":0},{"$f":"'ごみ搬入量内訳(直接資源化)'!Y26+'ごみ搬入量内訳(焼却)'!Y26+'ごみ搬入量内訳(粗大)'!Y26+'ごみ搬入量内訳(堆肥化)'!Y26+'ごみ搬入量内訳(飼料化)'!Y26+'ごみ搬入量内訳(メタン化)'!Y26+'ごみ搬入量内訳(燃料化)'!Y26+'ごみ搬入量内訳(セメント)'!Y26+'ごみ搬入量内訳(資源化等)'!Y26+'ごみ搬入量内訳(その他)'!Y26+'ごみ搬入量内訳(直接埋立)'!Y26+'ごみ搬入量内訳(海洋投入)'!Y26","v":0},{"$f":"'ごみ搬入量内訳(直接資源化)'!Z26+'ごみ搬入量内訳(焼却)'!Z26+'ごみ搬入量内訳(粗大)'!Z26+'ごみ搬入量内訳(堆肥化)'!Z26+'ごみ搬入量内訳(飼料化)'!Z26+'ごみ搬入量内訳(メタン化)'!Z26+'ごみ搬入量内訳(燃料化)'!Z26+'ごみ搬入量内訳(セメント)'!Z26+'ごみ搬入量内訳(資源化等)'!Z26+'ごみ搬入量内訳(その他)'!Z26+'ごみ搬入量内訳(直接埋立)'!Z26+'ごみ搬入量内訳(海洋投入)'!Z26","v":0},{"$f":"'ごみ搬入量内訳(直接資源化)'!AA26+'ごみ搬入量内訳(焼却)'!AA26+'ごみ搬入量内訳(粗大)'!AA26+'ごみ搬入量内訳(堆肥化)'!AA26+'ごみ搬入量内訳(飼料化)'!AA26+'ごみ搬入量内訳(メタン化)'!AA26+'ごみ搬入量内訳(燃料化)'!AA26+'ごみ搬入量内訳(セメント)'!AA26+'ごみ搬入量内訳(資源化等)'!AA26+'ごみ搬入量内訳(その他)'!AA26+'ごみ搬入量内訳(直接埋立)'!AA26+'ごみ搬入量内訳(海洋投入)'!AA26","v":0},{"$f":"'ごみ搬入量内訳(直接資源化)'!AB26+'ごみ搬入量内訳(焼却)'!AB26+'ごみ搬入量内訳(粗大)'!AB26+'ごみ搬入量内訳(堆肥化)'!AB26+'ごみ搬入量内訳(飼料化)'!AB26+'ごみ搬入量内訳(メタン化)'!AB26+'ごみ搬入量内訳(燃料化)'!AB26+'ごみ搬入量内訳(セメント)'!AB26+'ごみ搬入量内訳(資源化等)'!AB26+'ごみ搬入量内訳(その他)'!AB26+'ごみ搬入量内訳(直接埋立)'!AB26+'ごみ搬入量内訳(海洋投入)'!AB26","v":0},{"$f":"'ごみ搬入量内訳(直接資源化)'!AC26+'ごみ搬入量内訳(焼却)'!AC26+'ごみ搬入量内訳(粗大)'!AC26+'ごみ搬入量内訳(堆肥化)'!AC26+'ごみ搬入量内訳(飼料化)'!AC26+'ごみ搬入量内訳(メタン化)'!AC26+'ごみ搬入量内訳(燃料化)'!AC26+'ごみ搬入量内訳(セメント)'!AC26+'ごみ搬入量内訳(資源化等)'!AC26+'ごみ搬入量内訳(その他)'!AC26+'ごみ搬入量内訳(直接埋立)'!AC26+'ごみ搬入量内訳(海洋投入)'!AC26","v":0},{"$f":"'ごみ搬入量内訳(直接資源化)'!AD26+'ごみ搬入量内訳(焼却)'!AD26+'ごみ搬入量内訳(粗大)'!AD26+'ごみ搬入量内訳(堆肥化)'!AD26+'ごみ搬入量内訳(飼料化)'!AD26+'ごみ搬入量内訳(メタン化)'!AD26+'ごみ搬入量内訳(燃料化)'!AD26+'ごみ搬入量内訳(セメント)'!AD26+'ごみ搬入量内訳(資源化等)'!AD26+'ごみ搬入量内訳(その他)'!AD26+'ごみ搬入量内訳(直接埋立)'!AD26+'ごみ搬入量内訳(海洋投入)'!AD26","v":0},{"$f":"'ごみ搬入量内訳(直接資源化)'!AE26+'ごみ搬入量内訳(焼却)'!AE26+'ごみ搬入量内訳(粗大)'!AE26+'ごみ搬入量内訳(堆肥化)'!AE26+'ごみ搬入量内訳(飼料化)'!AE26+'ごみ搬入量内訳(メタン化)'!AE26+'ごみ搬入量内訳(燃料化)'!AE26+'ごみ搬入量内訳(セメント)'!AE26+'ごみ搬入量内訳(資源化等)'!AE26+'ごみ搬入量内訳(その他)'!AE26+'ごみ搬入量内訳(直接埋立)'!AE26+'ごみ搬入量内訳(海洋投入)'!AE26","v":0},{"$f":"'ごみ搬入量内訳(直接資源化)'!AF26+'ごみ搬入量内訳(焼却)'!AF26+'ごみ搬入量内訳(粗大)'!AF26+'ごみ搬入量内訳(堆肥化)'!AF26+'ごみ搬入量内訳(飼料化)'!AF26+'ごみ搬入量内訳(メタン化)'!AF26+'ごみ搬入量内訳(燃料化)'!AF26+'ごみ搬入量内訳(セメント)'!AF26+'ごみ搬入量内訳(資源化等)'!AF26+'ごみ搬入量内訳(その他)'!AF26+'ごみ搬入量内訳(直接埋立)'!AF26+'ごみ搬入量内訳(海洋投入)'!AF26","v":0},{"$f":"'ごみ搬入量内訳(直接資源化)'!AG26+'ごみ搬入量内訳(焼却)'!AG26+'ごみ搬入量内訳(粗大)'!AG26+'ごみ搬入量内訳(堆肥化)'!AG26+'ごみ搬入量内訳(飼料化)'!AG26+'ごみ搬入量内訳(メタン化)'!AG26+'ごみ搬入量内訳(燃料化)'!AG26+'ごみ搬入量内訳(セメント)'!AG26+'ごみ搬入量内訳(資源化等)'!AG26+'ごみ搬入量内訳(その他)'!AG26+'ごみ搬入量内訳(直接埋立)'!AG26+'ごみ搬入量内訳(海洋投入)'!AG26","v":0},{"$f":"'ごみ搬入量内訳(直接資源化)'!AH26+'ごみ搬入量内訳(焼却)'!AH26+'ごみ搬入量内訳(粗大)'!AH26+'ごみ搬入量内訳(堆肥化)'!AH26+'ごみ搬入量内訳(飼料化)'!AH26+'ごみ搬入量内訳(メタン化)'!AH26+'ごみ搬入量内訳(燃料化)'!AH26+'ごみ搬入量内訳(セメント)'!AH26+'ごみ搬入量内訳(資源化等)'!AH26+'ごみ搬入量内訳(その他)'!AH26+'ごみ搬入量内訳(直接埋立)'!AH26+'ごみ搬入量内訳(海洋投入)'!AH26","v":0},{"$f":"'ごみ搬入量内訳(直接資源化)'!AI26+'ごみ搬入量内訳(焼却)'!AI26+'ごみ搬入量内訳(粗大)'!AI26+'ごみ搬入量内訳(堆肥化)'!AI26+'ごみ搬入量内訳(飼料化)'!AI26+'ごみ搬入量内訳(メタン化)'!AI26+'ごみ搬入量内訳(燃料化)'!AI26+'ごみ搬入量内訳(セメント)'!AI26+'ごみ搬入量内訳(資源化等)'!AI26+'ごみ搬入量内訳(その他)'!AI26+'ごみ搬入量内訳(直接埋立)'!AI26+'ごみ搬入量内訳(海洋投入)'!AI26","v":0}]
["秋田県","05363","八郎潟町",{"$f":"SUM(E27:AI27)","v":0},{"$f":"'ごみ搬入量内訳(直接資源化)'!E27+'ごみ搬入量内訳(焼却)'!E27+'ごみ搬入量内訳(粗大)'!E27+'ごみ搬入量内訳(堆肥化)'!E27+'ごみ搬入量内訳(飼料化)'!E27+'ごみ搬入量内訳(メタン化)'!E27+'ごみ搬入量内訳(燃料化)'!E27+'ごみ搬入量内訳(セメント)'!E27+'ごみ搬入量内訳(資源化等)'!E27+'ごみ搬入量内訳(その他)'!E27+'ごみ搬入量内訳(直接埋立)'!E27+'ごみ搬入量内訳(海洋投入)'!E27","v":0},{"$f":"'ごみ搬入量内訳(直接資源化)'!F27+'ごみ搬入量内訳(焼却)'!F27+'ごみ搬入量内訳(粗大)'!F27+'ごみ搬入量内訳(堆肥化)'!F27+'ごみ搬入量内訳(飼料化)'!F27+'ごみ搬入量内訳(メタン化)'!F27+'ごみ搬入量内訳(燃料化)'!F27+'ごみ搬入量内訳(セメント)'!F27+'ごみ搬入量内訳(資源化等)'!F27+'ごみ搬入量内訳(その他)'!F27+'ごみ搬入量内訳(直接埋立)'!F27+'ごみ搬入量内訳(海洋投入)'!F27","v":0},{"$f":"'ごみ搬入量内訳(直接資源化)'!G27+'ごみ搬入量内訳(焼却)'!G27+'ごみ搬入量内訳(粗大)'!G27+'ごみ搬入量内訳(堆肥化)'!G27+'ごみ搬入量内訳(飼料化)'!G27+'ごみ搬入量内訳(メタン化)'!G27+'ごみ搬入量内訳(燃料化)'!G27+'ごみ搬入量内訳(セメント)'!G27+'ごみ搬入量内訳(資源化等)'!G27+'ごみ搬入量内訳(その他)'!G27+'ごみ搬入量内訳(直接埋立)'!G27+'ごみ搬入量内訳(海洋投入)'!G27","v":0},{"$f":"'ごみ搬入量内訳(直接資源化)'!H27+'ごみ搬入量内訳(焼却)'!H27+'ごみ搬入量内訳(粗大)'!H27+'ごみ搬入量内訳(堆肥化)'!H27+'ごみ搬入量内訳(飼料化)'!H27+'ごみ搬入量内訳(メタン化)'!H27+'ごみ搬入量内訳(燃料化)'!H27+'ごみ搬入量内訳(セメント)'!H27+'ごみ搬入量内訳(資源化等)'!H27+'ごみ搬入量内訳(その他)'!H27+'ごみ搬入量内訳(直接埋立)'!H27+'ごみ搬入量内訳(海洋投入)'!H27","v":0},{"$f":"'ごみ搬入量内訳(直接資源化)'!I27+'ごみ搬入量内訳(焼却)'!I27+'ごみ搬入量内訳(粗大)'!I27+'ごみ搬入量内訳(堆肥化)'!I27+'ごみ搬入量内訳(飼料化)'!I27+'ごみ搬入量内訳(メタン化)'!I27+'ごみ搬入量内訳(燃料化)'!I27+'ごみ搬入量内訳(セメント)'!I27+'ごみ搬入量内訳(資源化等)'!I27+'ごみ搬入量内訳(その他)'!I27+'ごみ搬入量内訳(直接埋立)'!I27+'ごみ搬入量内訳(海洋投入)'!I27","v":0},{"$f":"'ごみ搬入量内訳(直接資源化)'!J27+'ごみ搬入量内訳(焼却)'!J27+'ごみ搬入量内訳(粗大)'!J27+'ごみ搬入量内訳(堆肥化)'!J27+'ごみ搬入量内訳(飼料化)'!J27+'ごみ搬入量内訳(メタン化)'!J27+'ごみ搬入量内訳(燃料化)'!J27+'ごみ搬入量内訳(セメント)'!J27+'ごみ搬入量内訳(資源化等)'!J27+'ごみ搬入量内訳(その他)'!J27+'ごみ搬入量内訳(直接埋立)'!J27+'ごみ搬入量内訳(海洋投入)'!J27","v":0},{"$f":"'ごみ搬入量内訳(直接資源化)'!K27+'ごみ搬入量内訳(焼却)'!K27+'ごみ搬入量内訳(粗大)'!K27+'ごみ搬入量内訳(堆肥化)'!K27+'ごみ搬入量内訳(飼料化)'!K27+'ごみ搬入量内訳(メタン化)'!K27+'ごみ搬入量内訳(燃料化)'!K27+'ごみ搬入量内訳(セメント)'!K27+'ごみ搬入量内訳(資源化等)'!K27+'ごみ搬入量内訳(その他)'!K27+'ごみ搬入量内訳(直接埋立)'!K27+'ごみ搬入量内訳(海洋投入)'!K27","v":0},{"$f":"'ごみ搬入量内訳(直接資源化)'!L27+'ごみ搬入量内訳(焼却)'!L27+'ごみ搬入量内訳(粗大)'!L27+'ごみ搬入量内訳(堆肥化)'!L27+'ごみ搬入量内訳(飼料化)'!L27+'ごみ搬入量内訳(メタン化)'!L27+'ごみ搬入量内訳(燃料化)'!L27+'ごみ搬入量内訳(セメント)'!L27+'ごみ搬入量内訳(資源化等)'!L27+'ごみ搬入量内訳(その他)'!L27+'ごみ搬入量内訳(直接埋立)'!L27+'ごみ搬入量内訳(海洋投入)'!L27","v":0},{"$f":"'ごみ搬入量内訳(直接資源化)'!M27+'ごみ搬入量内訳(焼却)'!M27+'ごみ搬入量内訳(粗大)'!M27+'ごみ搬入量内訳(堆肥化)'!M27+'ごみ搬入量内訳(飼料化)'!M27+'ごみ搬入量内訳(メタン化)'!M27+'ごみ搬入量内訳(燃料化)'!M27+'ごみ搬入量内訳(セメント)'!M27+'ごみ搬入量内訳(資源化等)'!M27+'ごみ搬入量内訳(その他)'!M27+'ごみ搬入量内訳(直接埋立)'!M27+'ごみ搬入量内訳(海洋投入)'!M27","v":0},{"$f":"'ごみ搬入量内訳(直接資源化)'!N27+'ごみ搬入量内訳(焼却)'!N27+'ごみ搬入量内訳(粗大)'!N27+'ごみ搬入量内訳(堆肥化)'!N27+'ごみ搬入量内訳(飼料化)'!N27+'ごみ搬入量内訳(メタン化)'!N27+'ごみ搬入量内訳(燃料化)'!N27+'ごみ搬入量内訳(セメント)'!N27+'ごみ搬入量内訳(資源化等)'!N27+'ごみ搬入量内訳(その他)'!N27+'ごみ搬入量内訳(直接埋立)'!N27+'ごみ搬入量内訳(海洋投入)'!N27","v":0},{"$f":"'ごみ搬入量内訳(直接資源化)'!O27+'ごみ搬入量内訳(焼却)'!O27+'ごみ搬入量内訳(粗大)'!O27+'ごみ搬入量内訳(堆肥化)'!O27+'ごみ搬入量内訳(飼料化)'!O27+'ごみ搬入量内訳(メタン化)'!O27+'ごみ搬入量内訳(燃料化)'!O27+'ごみ搬入量内訳(セメント)'!O27+'ごみ搬入量内訳(資源化等)'!O27+'ごみ搬入量内訳(その他)'!O27+'ごみ搬入量内訳(直接埋立)'!O27+'ごみ搬入量内訳(海洋投入)'!O27","v":0},{"$f":"'ごみ搬入量内訳(直接資源化)'!P27+'ごみ搬入量内訳(焼却)'!P27+'ごみ搬入量内訳(粗大)'!P27+'ごみ搬入量内訳(堆肥化)'!P27+'ごみ搬入量内訳(飼料化)'!P27+'ごみ搬入量内訳(メタン化)'!P27+'ごみ搬入量内訳(燃料化)'!P27+'ごみ搬入量内訳(セメント)'!P27+'ごみ搬入量内訳(資源化等)'!P27+'ごみ搬入量内訳(その他)'!P27+'ごみ搬入量内訳(直接埋立)'!P27+'ごみ搬入量内訳(海洋投入)'!P27","v":0},{"$f":"'ごみ搬入量内訳(直接資源化)'!Q27+'ごみ搬入量内訳(焼却)'!Q27+'ごみ搬入量内訳(粗大)'!Q27+'ごみ搬入量内訳(堆肥化)'!Q27+'ごみ搬入量内訳(飼料化)'!Q27+'ごみ搬入量内訳(メタン化)'!Q27+'ごみ搬入量内訳(燃料化)'!Q27+'ごみ搬入量内訳(セメント)'!Q27+'ごみ搬入量内訳(資源化等)'!Q27+'ごみ搬入量内訳(その他)'!Q27+'ごみ搬入量内訳(直接埋立)'!Q27+'ごみ搬入量内訳(海洋投入)'!Q27","v":0},{"$f":"'ごみ搬入量内訳(直接資源化)'!R27+'ごみ搬入量内訳(焼却)'!R27+'ごみ搬入量内訳(粗大)'!R27+'ごみ搬入量内訳(堆肥化)'!R27+'ごみ搬入量内訳(飼料化)'!R27+'ごみ搬入量内訳(メタン化)'!R27+'ごみ搬入量内訳(燃料化)'!R27+'ごみ搬入量内訳(セメント)'!R27+'ごみ搬入量内訳(資源化等)'!R27+'ごみ搬入量内訳(その他)'!R27+'ごみ搬入量内訳(直接埋立)'!R27+'ごみ搬入量内訳(海洋投入)'!R27","v":0},{"$f":"'ごみ搬入量内訳(直接資源化)'!S27+'ごみ搬入量内訳(焼却)'!S27+'ごみ搬入量内訳(粗大)'!S27+'ごみ搬入量内訳(堆肥化)'!S27+'ごみ搬入量内訳(飼料化)'!S27+'ごみ搬入量内訳(メタン化)'!S27+'ごみ搬入量内訳(燃料化)'!S27+'ごみ搬入量内訳(セメント)'!S27+'ごみ搬入量内訳(資源化等)'!S27+'ごみ搬入量内訳(その他)'!S27+'ごみ搬入量内訳(直接埋立)'!S27+'ごみ搬入量内訳(海洋投入)'!S27","v":0},{"$f":"'ごみ搬入量内訳(直接資源化)'!T27+'ごみ搬入量内訳(焼却)'!T27+'ごみ搬入量内訳(粗大)'!T27+'ごみ搬入量内訳(堆肥化)'!T27+'ごみ搬入量内訳(飼料化)'!T27+'ごみ搬入量内訳(メタン化)'!T27+'ごみ搬入量内訳(燃料化)'!T27+'ごみ搬入量内訳(セメント)'!T27+'ごみ搬入量内訳(資源化等)'!T27+'ごみ搬入量内訳(その他)'!T27+'ごみ搬入量内訳(直接埋立)'!T27+'ごみ搬入量内訳(海洋投入)'!T27","v":0},{"$f":"'ごみ搬入量内訳(直接資源化)'!U27+'ごみ搬入量内訳(焼却)'!U27+'ごみ搬入量内訳(粗大)'!U27+'ごみ搬入量内訳(堆肥化)'!U27+'ごみ搬入量内訳(飼料化)'!U27+'ごみ搬入量内訳(メタン化)'!U27+'ごみ搬入量内訳(燃料化)'!U27+'ごみ搬入量内訳(セメント)'!U27+'ごみ搬入量内訳(資源化等)'!U27+'ごみ搬入量内訳(その他)'!U27+'ごみ搬入量内訳(直接埋立)'!U27+'ごみ搬入量内訳(海洋投入)'!U27","v":0},{"$f":"'ごみ搬入量内訳(直接資源化)'!V27+'ごみ搬入量内訳(焼却)'!V27+'ごみ搬入量内訳(粗大)'!V27+'ごみ搬入量内訳(堆肥化)'!V27+'ごみ搬入量内訳(飼料化)'!V27+'ごみ搬入量内訳(メタン化)'!V27+'ごみ搬入量内訳(燃料化)'!V27+'ごみ搬入量内訳(セメント)'!V27+'ごみ搬入量内訳(資源化等)'!V27+'ごみ搬入量内訳(その他)'!V27+'ごみ搬入量内訳(直接埋立)'!V27+'ごみ搬入量内訳(海洋投入)'!V27","v":0},{"$f":"'ごみ搬入量内訳(直接資源化)'!W27+'ごみ搬入量内訳(焼却)'!W27+'ごみ搬入量内訳(粗大)'!W27+'ごみ搬入量内訳(堆肥化)'!W27+'ごみ搬入量内訳(飼料化)'!W27+'ごみ搬入量内訳(メタン化)'!W27+'ごみ搬入量内訳(燃料化)'!W27+'ごみ搬入量内訳(セメント)'!W27+'ごみ搬入量内訳(資源化等)'!W27+'ごみ搬入量内訳(その他)'!W27+'ごみ搬入量内訳(直接埋立)'!W27+'ごみ搬入量内訳(海洋投入)'!W27","v":0},{"$f":"'ごみ搬入量内訳(直接資源化)'!X27+'ごみ搬入量内訳(焼却)'!X27+'ごみ搬入量内訳(粗大)'!X27+'ごみ搬入量内訳(堆肥化)'!X27+'ごみ搬入量内訳(飼料化)'!X27+'ごみ搬入量内訳(メタン化)'!X27+'ごみ搬入量内訳(燃料化)'!X27+'ごみ搬入量内訳(セメント)'!X27+'ごみ搬入量内訳(資源化等)'!X27+'ごみ搬入量内訳(その他)'!X27+'ごみ搬入量内訳(直接埋立)'!X27+'ごみ搬入量内訳(海洋投入)'!X27","v":0},{"$f":"'ごみ搬入量内訳(直接資源化)'!Y27+'ごみ搬入量内訳(焼却)'!Y27+'ごみ搬入量内訳(粗大)'!Y27+'ごみ搬入量内訳(堆肥化)'!Y27+'ごみ搬入量内訳(飼料化)'!Y27+'ごみ搬入量内訳(メタン化)'!Y27+'ごみ搬入量内訳(燃料化)'!Y27+'ごみ搬入量内訳(セメント)'!Y27+'ごみ搬入量内訳(資源化等)'!Y27+'ごみ搬入量内訳(その他)'!Y27+'ごみ搬入量内訳(直接埋立)'!Y27+'ごみ搬入量内訳(海洋投入)'!Y27","v":0},{"$f":"'ごみ搬入量内訳(直接資源化)'!Z27+'ごみ搬入量内訳(焼却)'!Z27+'ごみ搬入量内訳(粗大)'!Z27+'ごみ搬入量内訳(堆肥化)'!Z27+'ごみ搬入量内訳(飼料化)'!Z27+'ごみ搬入量内訳(メタン化)'!Z27+'ごみ搬入量内訳(燃料化)'!Z27+'ごみ搬入量内訳(セメント)'!Z27+'ごみ搬入量内訳(資源化等)'!Z27+'ごみ搬入量内訳(その他)'!Z27+'ごみ搬入量内訳(直接埋立)'!Z27+'ごみ搬入量内訳(海洋投入)'!Z27","v":0},{"$f":"'ごみ搬入量内訳(直接資源化)'!AA27+'ごみ搬入量内訳(焼却)'!AA27+'ごみ搬入量内訳(粗大)'!AA27+'ごみ搬入量内訳(堆肥化)'!AA27+'ごみ搬入量内訳(飼料化)'!AA27+'ごみ搬入量内訳(メタン化)'!AA27+'ごみ搬入量内訳(燃料化)'!AA27+'ごみ搬入量内訳(セメント)'!AA27+'ごみ搬入量内訳(資源化等)'!AA27+'ごみ搬入量内訳(その他)'!AA27+'ごみ搬入量内訳(直接埋立)'!AA27+'ごみ搬入量内訳(海洋投入)'!AA27","v":0},{"$f":"'ごみ搬入量内訳(直接資源化)'!AB27+'ごみ搬入量内訳(焼却)'!AB27+'ごみ搬入量内訳(粗大)'!AB27+'ごみ搬入量内訳(堆肥化)'!AB27+'ごみ搬入量内訳(飼料化)'!AB27+'ごみ搬入量内訳(メタン化)'!AB27+'ごみ搬入量内訳(燃料化)'!AB27+'ごみ搬入量内訳(セメント)'!AB27+'ごみ搬入量内訳(資源化等)'!AB27+'ごみ搬入量内訳(その他)'!AB27+'ごみ搬入量内訳(直接埋立)'!AB27+'ごみ搬入量内訳(海洋投入)'!AB27","v":0},{"$f":"'ごみ搬入量内訳(直接資源化)'!AC27+'ごみ搬入量内訳(焼却)'!AC27+'ごみ搬入量内訳(粗大)'!AC27+'ごみ搬入量内訳(堆肥化)'!AC27+'ごみ搬入量内訳(飼料化)'!AC27+'ごみ搬入量内訳(メタン化)'!AC27+'ごみ搬入量内訳(燃料化)'!AC27+'ごみ搬入量内訳(セメント)'!AC27+'ごみ搬入量内訳(資源化等)'!AC27+'ごみ搬入量内訳(その他)'!AC27+'ごみ搬入量内訳(直接埋立)'!AC27+'ごみ搬入量内訳(海洋投入)'!AC27","v":0},{"$f":"'ごみ搬入量内訳(直接資源化)'!AD27+'ごみ搬入量内訳(焼却)'!AD27+'ごみ搬入量内訳(粗大)'!AD27+'ごみ搬入量内訳(堆肥化)'!AD27+'ごみ搬入量内訳(飼料化)'!AD27+'ごみ搬入量内訳(メタン化)'!AD27+'ごみ搬入量内訳(燃料化)'!AD27+'ごみ搬入量内訳(セメント)'!AD27+'ごみ搬入量内訳(資源化等)'!AD27+'ごみ搬入量内訳(その他)'!AD27+'ごみ搬入量内訳(直接埋立)'!AD27+'ごみ搬入量内訳(海洋投入)'!AD27","v":0},{"$f":"'ごみ搬入量内訳(直接資源化)'!AE27+'ごみ搬入量内訳(焼却)'!AE27+'ごみ搬入量内訳(粗大)'!AE27+'ごみ搬入量内訳(堆肥化)'!AE27+'ごみ搬入量内訳(飼料化)'!AE27+'ごみ搬入量内訳(メタン化)'!AE27+'ごみ搬入量内訳(燃料化)'!AE27+'ごみ搬入量内訳(セメント)'!AE27+'ごみ搬入量内訳(資源化等)'!AE27+'ごみ搬入量内訳(その他)'!AE27+'ごみ搬入量内訳(直接埋立)'!AE27+'ごみ搬入量内訳(海洋投入)'!AE27","v":0},{"$f":"'ごみ搬入量内訳(直接資源化)'!AF27+'ごみ搬入量内訳(焼却)'!AF27+'ごみ搬入量内訳(粗大)'!AF27+'ごみ搬入量内訳(堆肥化)'!AF27+'ごみ搬入量内訳(飼料化)'!AF27+'ごみ搬入量内訳(メタン化)'!AF27+'ごみ搬入量内訳(燃料化)'!AF27+'ごみ搬入量内訳(セメント)'!AF27+'ごみ搬入量内訳(資源化等)'!AF27+'ごみ搬入量内訳(その他)'!AF27+'ごみ搬入量内訳(直接埋立)'!AF27+'ごみ搬入量内訳(海洋投入)'!AF27","v":0},{"$f":"'ごみ搬入量内訳(直接資源化)'!AG27+'ごみ搬入量内訳(焼却)'!AG27+'ごみ搬入量内訳(粗大)'!AG27+'ごみ搬入量内訳(堆肥化)'!AG27+'ごみ搬入量内訳(飼料化)'!AG27+'ごみ搬入量内訳(メタン化)'!AG27+'ごみ搬入量内訳(燃料化)'!AG27+'ごみ搬入量内訳(セメント)'!AG27+'ごみ搬入量内訳(資源化等)'!AG27+'ごみ搬入量内訳(その他)'!AG27+'ごみ搬入量内訳(直接埋立)'!AG27+'ごみ搬入量内訳(海洋投入)'!AG27","v":0},{"$f":"'ごみ搬入量内訳(直接資源化)'!AH27+'ごみ搬入量内訳(焼却)'!AH27+'ごみ搬入量内訳(粗大)'!AH27+'ごみ搬入量内訳(堆肥化)'!AH27+'ごみ搬入量内訳(飼料化)'!AH27+'ごみ搬入量内訳(メタン化)'!AH27+'ごみ搬入量内訳(燃料化)'!AH27+'ごみ搬入量内訳(セメント)'!AH27+'ごみ搬入量内訳(資源化等)'!AH27+'ごみ搬入量内訳(その他)'!AH27+'ごみ搬入量内訳(直接埋立)'!AH27+'ごみ搬入量内訳(海洋投入)'!AH27","v":0},{"$f":"'ごみ搬入量内訳(直接資源化)'!AI27+'ごみ搬入量内訳(焼却)'!AI27+'ごみ搬入量内訳(粗大)'!AI27+'ごみ搬入量内訳(堆肥化)'!AI27+'ごみ搬入量内訳(飼料化)'!AI27+'ごみ搬入量内訳(メタン化)'!AI27+'ごみ搬入量内訳(燃料化)'!AI27+'ごみ搬入量内訳(セメント)'!AI27+'ごみ搬入量内訳(資源化等)'!AI27+'ごみ搬入量内訳(その他)'!AI27+'ごみ搬入量内訳(直接埋立)'!AI27+'ごみ搬入量内訳(海洋投入)'!AI27","v":0}]
["秋田県","05366","井川町",{"$f":"SUM(E28:AI28)","v":0},{"$f":"'ごみ搬入量内訳(直接資源化)'!E28+'ごみ搬入量内訳(焼却)'!E28+'ごみ搬入量内訳(粗大)'!E28+'ごみ搬入量内訳(堆肥化)'!E28+'ごみ搬入量内訳(飼料化)'!E28+'ごみ搬入量内訳(メタン化)'!E28+'ごみ搬入量内訳(燃料化)'!E28+'ごみ搬入量内訳(セメント)'!E28+'ごみ搬入量内訳(資源化等)'!E28+'ごみ搬入量内訳(その他)'!E28+'ごみ搬入量内訳(直接埋立)'!E28+'ごみ搬入量内訳(海洋投入)'!E28","v":0},{"$f":"'ごみ搬入量内訳(直接資源化)'!F28+'ごみ搬入量内訳(焼却)'!F28+'ごみ搬入量内訳(粗大)'!F28+'ごみ搬入量内訳(堆肥化)'!F28+'ごみ搬入量内訳(飼料化)'!F28+'ごみ搬入量内訳(メタン化)'!F28+'ごみ搬入量内訳(燃料化)'!F28+'ごみ搬入量内訳(セメント)'!F28+'ごみ搬入量内訳(資源化等)'!F28+'ごみ搬入量内訳(その他)'!F28+'ごみ搬入量内訳(直接埋立)'!F28+'ごみ搬入量内訳(海洋投入)'!F28","v":0},{"$f":"'ごみ搬入量内訳(直接資源化)'!G28+'ごみ搬入量内訳(焼却)'!G28+'ごみ搬入量内訳(粗大)'!G28+'ごみ搬入量内訳(堆肥化)'!G28+'ごみ搬入量内訳(飼料化)'!G28+'ごみ搬入量内訳(メタン化)'!G28+'ごみ搬入量内訳(燃料化)'!G28+'ごみ搬入量内訳(セメント)'!G28+'ごみ搬入量内訳(資源化等)'!G28+'ごみ搬入量内訳(その他)'!G28+'ごみ搬入量内訳(直接埋立)'!G28+'ごみ搬入量内訳(海洋投入)'!G28","v":0},{"$f":"'ごみ搬入量内訳(直接資源化)'!H28+'ごみ搬入量内訳(焼却)'!H28+'ごみ搬入量内訳(粗大)'!H28+'ごみ搬入量内訳(堆肥化)'!H28+'ごみ搬入量内訳(飼料化)'!H28+'ごみ搬入量内訳(メタン化)'!H28+'ごみ搬入量内訳(燃料化)'!H28+'ごみ搬入量内訳(セメント)'!H28+'ごみ搬入量内訳(資源化等)'!H28+'ごみ搬入量内訳(その他)'!H28+'ごみ搬入量内訳(直接埋立)'!H28+'ごみ搬入量内訳(海洋投入)'!H28","v":0},{"$f":"'ごみ搬入量内訳(直接資源化)'!I28+'ごみ搬入量内訳(焼却)'!I28+'ごみ搬入量内訳(粗大)'!I28+'ごみ搬入量内訳(堆肥化)'!I28+'ごみ搬入量内訳(飼料化)'!I28+'ごみ搬入量内訳(メタン化)'!I28+'ごみ搬入量内訳(燃料化)'!I28+'ごみ搬入量内訳(セメント)'!I28+'ごみ搬入量内訳(資源化等)'!I28+'ごみ搬入量内訳(その他)'!I28+'ごみ搬入量内訳(直接埋立)'!I28+'ごみ搬入量内訳(海洋投入)'!I28","v":0},{"$f":"'ごみ搬入量内訳(直接資源化)'!J28+'ごみ搬入量内訳(焼却)'!J28+'ごみ搬入量内訳(粗大)'!J28+'ごみ搬入量内訳(堆肥化)'!J28+'ごみ搬入量内訳(飼料化)'!J28+'ごみ搬入量内訳(メタン化)'!J28+'ごみ搬入量内訳(燃料化)'!J28+'ごみ搬入量内訳(セメント)'!J28+'ごみ搬入量内訳(資源化等)'!J28+'ごみ搬入量内訳(その他)'!J28+'ごみ搬入量内訳(直接埋立)'!J28+'ごみ搬入量内訳(海洋投入)'!J28","v":0},{"$f":"'ごみ搬入量内訳(直接資源化)'!K28+'ごみ搬入量内訳(焼却)'!K28+'ごみ搬入量内訳(粗大)'!K28+'ごみ搬入量内訳(堆肥化)'!K28+'ごみ搬入量内訳(飼料化)'!K28+'ごみ搬入量内訳(メタン化)'!K28+'ごみ搬入量内訳(燃料化)'!K28+'ごみ搬入量内訳(セメント)'!K28+'ごみ搬入量内訳(資源化等)'!K28+'ごみ搬入量内訳(その他)'!K28+'ごみ搬入量内訳(直接埋立)'!K28+'ごみ搬入量内訳(海洋投入)'!K28","v":0},{"$f":"'ごみ搬入量内訳(直接資源化)'!L28+'ごみ搬入量内訳(焼却)'!L28+'ごみ搬入量内訳(粗大)'!L28+'ごみ搬入量内訳(堆肥化)'!L28+'ごみ搬入量内訳(飼料化)'!L28+'ごみ搬入量内訳(メタン化)'!L28+'ごみ搬入量内訳(燃料化)'!L28+'ごみ搬入量内訳(セメント)'!L28+'ごみ搬入量内訳(資源化等)'!L28+'ごみ搬入量内訳(その他)'!L28+'ごみ搬入量内訳(直接埋立)'!L28+'ごみ搬入量内訳(海洋投入)'!L28","v":0},{"$f":"'ごみ搬入量内訳(直接資源化)'!M28+'ごみ搬入量内訳(焼却)'!M28+'ごみ搬入量内訳(粗大)'!M28+'ごみ搬入量内訳(堆肥化)'!M28+'ごみ搬入量内訳(飼料化)'!M28+'ごみ搬入量内訳(メタン化)'!M28+'ごみ搬入量内訳(燃料化)'!M28+'ごみ搬入量内訳(セメント)'!M28+'ごみ搬入量内訳(資源化等)'!M28+'ごみ搬入量内訳(その他)'!M28+'ごみ搬入量内訳(直接埋立)'!M28+'ごみ搬入量内訳(海洋投入)'!M28","v":0},{"$f":"'ごみ搬入量内訳(直接資源化)'!N28+'ごみ搬入量内訳(焼却)'!N28+'ごみ搬入量内訳(粗大)'!N28+'ごみ搬入量内訳(堆肥化)'!N28+'ごみ搬入量内訳(飼料化)'!N28+'ごみ搬入量内訳(メタン化)'!N28+'ごみ搬入量内訳(燃料化)'!N28+'ごみ搬入量内訳(セメント)'!N28+'ごみ搬入量内訳(資源化等)'!N28+'ごみ搬入量内訳(その他)'!N28+'ごみ搬入量内訳(直接埋立)'!N28+'ごみ搬入量内訳(海洋投入)'!N28","v":0},{"$f":"'ごみ搬入量内訳(直接資源化)'!O28+'ごみ搬入量内訳(焼却)'!O28+'ごみ搬入量内訳(粗大)'!O28+'ごみ搬入量内訳(堆肥化)'!O28+'ごみ搬入量内訳(飼料化)'!O28+'ごみ搬入量内訳(メタン化)'!O28+'ごみ搬入量内訳(燃料化)'!O28+'ごみ搬入量内訳(セメント)'!O28+'ごみ搬入量内訳(資源化等)'!O28+'ごみ搬入量内訳(その他)'!O28+'ごみ搬入量内訳(直接埋立)'!O28+'ごみ搬入量内訳(海洋投入)'!O28","v":0},{"$f":"'ごみ搬入量内訳(直接資源化)'!P28+'ごみ搬入量内訳(焼却)'!P28+'ごみ搬入量内訳(粗大)'!P28+'ごみ搬入量内訳(堆肥化)'!P28+'ごみ搬入量内訳(飼料化)'!P28+'ごみ搬入量内訳(メタン化)'!P28+'ごみ搬入量内訳(燃料化)'!P28+'ごみ搬入量内訳(セメント)'!P28+'ごみ搬入量内訳(資源化等)'!P28+'ごみ搬入量内訳(その他)'!P28+'ごみ搬入量内訳(直接埋立)'!P28+'ごみ搬入量内訳(海洋投入)'!P28","v":0},{"$f":"'ごみ搬入量内訳(直接資源化)'!Q28+'ごみ搬入量内訳(焼却)'!Q28+'ごみ搬入量内訳(粗大)'!Q28+'ごみ搬入量内訳(堆肥化)'!Q28+'ごみ搬入量内訳(飼料化)'!Q28+'ごみ搬入量内訳(メタン化)'!Q28+'ごみ搬入量内訳(燃料化)'!Q28+'ごみ搬入量内訳(セメント)'!Q28+'ごみ搬入量内訳(資源化等)'!Q28+'ごみ搬入量内訳(その他)'!Q28+'ごみ搬入量内訳(直接埋立)'!Q28+'ごみ搬入量内訳(海洋投入)'!Q28","v":0},{"$f":"'ごみ搬入量内訳(直接資源化)'!R28+'ごみ搬入量内訳(焼却)'!R28+'ごみ搬入量内訳(粗大)'!R28+'ごみ搬入量内訳(堆肥化)'!R28+'ごみ搬入量内訳(飼料化)'!R28+'ごみ搬入量内訳(メタン化)'!R28+'ごみ搬入量内訳(燃料化)'!R28+'ごみ搬入量内訳(セメント)'!R28+'ごみ搬入量内訳(資源化等)'!R28+'ごみ搬入量内訳(その他)'!R28+'ごみ搬入量内訳(直接埋立)'!R28+'ごみ搬入量内訳(海洋投入)'!R28","v":0},{"$f":"'ごみ搬入量内訳(直接資源化)'!S28+'ごみ搬入量内訳(焼却)'!S28+'ごみ搬入量内訳(粗大)'!S28+'ごみ搬入量内訳(堆肥化)'!S28+'ごみ搬入量内訳(飼料化)'!S28+'ごみ搬入量内訳(メタン化)'!S28+'ごみ搬入量内訳(燃料化)'!S28+'ごみ搬入量内訳(セメント)'!S28+'ごみ搬入量内訳(資源化等)'!S28+'ごみ搬入量内訳(その他)'!S28+'ごみ搬入量内訳(直接埋立)'!S28+'ごみ搬入量内訳(海洋投入)'!S28","v":0},{"$f":"'ごみ搬入量内訳(直接資源化)'!T28+'ごみ搬入量内訳(焼却)'!T28+'ごみ搬入量内訳(粗大)'!T28+'ごみ搬入量内訳(堆肥化)'!T28+'ごみ搬入量内訳(飼料化)'!T28+'ごみ搬入量内訳(メタン化)'!T28+'ごみ搬入量内訳(燃料化)'!T28+'ごみ搬入量内訳(セメント)'!T28+'ごみ搬入量内訳(資源化等)'!T28+'ごみ搬入量内訳(その他)'!T28+'ごみ搬入量内訳(直接埋立)'!T28+'ごみ搬入量内訳(海洋投入)'!T28","v":0},{"$f":"'ごみ搬入量内訳(直接資源化)'!U28+'ごみ搬入量内訳(焼却)'!U28+'ごみ搬入量内訳(粗大)'!U28+'ごみ搬入量内訳(堆肥化)'!U28+'ごみ搬入量内訳(飼料化)'!U28+'ごみ搬入量内訳(メタン化)'!U28+'ごみ搬入量内訳(燃料化)'!U28+'ごみ搬入量内訳(セメント)'!U28+'ごみ搬入量内訳(資源化等)'!U28+'ごみ搬入量内訳(その他)'!U28+'ごみ搬入量内訳(直接埋立)'!U28+'ごみ搬入量内訳(海洋投入)'!U28","v":0},{"$f":"'ごみ搬入量内訳(直接資源化)'!V28+'ごみ搬入量内訳(焼却)'!V28+'ごみ搬入量内訳(粗大)'!V28+'ごみ搬入量内訳(堆肥化)'!V28+'ごみ搬入量内訳(飼料化)'!V28+'ごみ搬入量内訳(メタン化)'!V28+'ごみ搬入量内訳(燃料化)'!V28+'ごみ搬入量内訳(セメント)'!V28+'ごみ搬入量内訳(資源化等)'!V28+'ごみ搬入量内訳(その他)'!V28+'ごみ搬入量内訳(直接埋立)'!V28+'ごみ搬入量内訳(海洋投入)'!V28","v":0},{"$f":"'ごみ搬入量内訳(直接資源化)'!W28+'ごみ搬入量内訳(焼却)'!W28+'ごみ搬入量内訳(粗大)'!W28+'ごみ搬入量内訳(堆肥化)'!W28+'ごみ搬入量内訳(飼料化)'!W28+'ごみ搬入量内訳(メタン化)'!W28+'ごみ搬入量内訳(燃料化)'!W28+'ごみ搬入量内訳(セメント)'!W28+'ごみ搬入量内訳(資源化等)'!W28+'ごみ搬入量内訳(その他)'!W28+'ごみ搬入量内訳(直接埋立)'!W28+'ごみ搬入量内訳(海洋投入)'!W28","v":0},{"$f":"'ごみ搬入量内訳(直接資源化)'!X28+'ごみ搬入量内訳(焼却)'!X28+'ごみ搬入量内訳(粗大)'!X28+'ごみ搬入量内訳(堆肥化)'!X28+'ごみ搬入量内訳(飼料化)'!X28+'ごみ搬入量内訳(メタン化)'!X28+'ごみ搬入量内訳(燃料化)'!X28+'ごみ搬入量内訳(セメント)'!X28+'ごみ搬入量内訳(資源化等)'!X28+'ごみ搬入量内訳(その他)'!X28+'ごみ搬入量内訳(直接埋立)'!X28+'ごみ搬入量内訳(海洋投入)'!X28","v":0},{"$f":"'ごみ搬入量内訳(直接資源化)'!Y28+'ごみ搬入量内訳(焼却)'!Y28+'ごみ搬入量内訳(粗大)'!Y28+'ごみ搬入量内訳(堆肥化)'!Y28+'ごみ搬入量内訳(飼料化)'!Y28+'ごみ搬入量内訳(メタン化)'!Y28+'ごみ搬入量内訳(燃料化)'!Y28+'ごみ搬入量内訳(セメント)'!Y28+'ごみ搬入量内訳(資源化等)'!Y28+'ごみ搬入量内訳(その他)'!Y28+'ごみ搬入量内訳(直接埋立)'!Y28+'ごみ搬入量内訳(海洋投入)'!Y28","v":0},{"$f":"'ごみ搬入量内訳(直接資源化)'!Z28+'ごみ搬入量内訳(焼却)'!Z28+'ごみ搬入量内訳(粗大)'!Z28+'ごみ搬入量内訳(堆肥化)'!Z28+'ごみ搬入量内訳(飼料化)'!Z28+'ごみ搬入量内訳(メタン化)'!Z28+'ごみ搬入量内訳(燃料化)'!Z28+'ごみ搬入量内訳(セメント)'!Z28+'ごみ搬入量内訳(資源化等)'!Z28+'ごみ搬入量内訳(その他)'!Z28+'ごみ搬入量内訳(直接埋立)'!Z28+'ごみ搬入量内訳(海洋投入)'!Z28","v":0},{"$f":"'ごみ搬入量内訳(直接資源化)'!AA28+'ごみ搬入量内訳(焼却)'!AA28+'ごみ搬入量内訳(粗大)'!AA28+'ごみ搬入量内訳(堆肥化)'!AA28+'ごみ搬入量内訳(飼料化)'!AA28+'ごみ搬入量内訳(メタン化)'!AA28+'ごみ搬入量内訳(燃料化)'!AA28+'ごみ搬入量内訳(セメント)'!AA28+'ごみ搬入量内訳(資源化等)'!AA28+'ごみ搬入量内訳(その他)'!AA28+'ごみ搬入量内訳(直接埋立)'!AA28+'ごみ搬入量内訳(海洋投入)'!AA28","v":0},{"$f":"'ごみ搬入量内訳(直接資源化)'!AB28+'ごみ搬入量内訳(焼却)'!AB28+'ごみ搬入量内訳(粗大)'!AB28+'ごみ搬入量内訳(堆肥化)'!AB28+'ごみ搬入量内訳(飼料化)'!AB28+'ごみ搬入量内訳(メタン化)'!AB28+'ごみ搬入量内訳(燃料化)'!AB28+'ごみ搬入量内訳(セメント)'!AB28+'ごみ搬入量内訳(資源化等)'!AB28+'ごみ搬入量内訳(その他)'!AB28+'ごみ搬入量内訳(直接埋立)'!AB28+'ごみ搬入量内訳(海洋投入)'!AB28","v":0},{"$f":"'ごみ搬入量内訳(直接資源化)'!AC28+'ごみ搬入量内訳(焼却)'!AC28+'ごみ搬入量内訳(粗大)'!AC28+'ごみ搬入量内訳(堆肥化)'!AC28+'ごみ搬入量内訳(飼料化)'!AC28+'ごみ搬入量内訳(メタン化)'!AC28+'ごみ搬入量内訳(燃料化)'!AC28+'ごみ搬入量内訳(セメント)'!AC28+'ごみ搬入量内訳(資源化等)'!AC28+'ごみ搬入量内訳(その他)'!AC28+'ごみ搬入量内訳(直接埋立)'!AC28+'ごみ搬入量内訳(海洋投入)'!AC28","v":0},{"$f":"'ごみ搬入量内訳(直接資源化)'!AD28+'ごみ搬入量内訳(焼却)'!AD28+'ごみ搬入量内訳(粗大)'!AD28+'ごみ搬入量内訳(堆肥化)'!AD28+'ごみ搬入量内訳(飼料化)'!AD28+'ごみ搬入量内訳(メタン化)'!AD28+'ごみ搬入量内訳(燃料化)'!AD28+'ごみ搬入量内訳(セメント)'!AD28+'ごみ搬入量内訳(資源化等)'!AD28+'ごみ搬入量内訳(その他)'!AD28+'ごみ搬入量内訳(直接埋立)'!AD28+'ごみ搬入量内訳(海洋投入)'!AD28","v":0},{"$f":"'ごみ搬入量内訳(直接資源化)'!AE28+'ごみ搬入量内訳(焼却)'!AE28+'ごみ搬入量内訳(粗大)'!AE28+'ごみ搬入量内訳(堆肥化)'!AE28+'ごみ搬入量内訳(飼料化)'!AE28+'ごみ搬入量内訳(メタン化)'!AE28+'ごみ搬入量内訳(燃料化)'!AE28+'ごみ搬入量内訳(セメント)'!AE28+'ごみ搬入量内訳(資源化等)'!AE28+'ごみ搬入量内訳(その他)'!AE28+'ごみ搬入量内訳(直接埋立)'!AE28+'ごみ搬入量内訳(海洋投入)'!AE28","v":0},{"$f":"'ごみ搬入量内訳(直接資源化)'!AF28+'ごみ搬入量内訳(焼却)'!AF28+'ごみ搬入量内訳(粗大)'!AF28+'ごみ搬入量内訳(堆肥化)'!AF28+'ごみ搬入量内訳(飼料化)'!AF28+'ごみ搬入量内訳(メタン化)'!AF28+'ごみ搬入量内訳(燃料化)'!AF28+'ごみ搬入量内訳(セメント)'!AF28+'ごみ搬入量内訳(資源化等)'!AF28+'ごみ搬入量内訳(その他)'!AF28+'ごみ搬入量内訳(直接埋立)'!AF28+'ごみ搬入量内訳(海洋投入)'!AF28","v":0},{"$f":"'ごみ搬入量内訳(直接資源化)'!AG28+'ごみ搬入量内訳(焼却)'!AG28+'ごみ搬入量内訳(粗大)'!AG28+'ごみ搬入量内訳(堆肥化)'!AG28+'ごみ搬入量内訳(飼料化)'!AG28+'ごみ搬入量内訳(メタン化)'!AG28+'ごみ搬入量内訳(燃料化)'!AG28+'ごみ搬入量内訳(セメント)'!AG28+'ごみ搬入量内訳(資源化等)'!AG28+'ごみ搬入量内訳(その他)'!AG28+'ごみ搬入量内訳(直接埋立)'!AG28+'ごみ搬入量内訳(海洋投入)'!AG28","v":0},{"$f":"'ごみ搬入量内訳(直接資源化)'!AH28+'ごみ搬入量内訳(焼却)'!AH28+'ごみ搬入量内訳(粗大)'!AH28+'ごみ搬入量内訳(堆肥化)'!AH28+'ごみ搬入量内訳(飼料化)'!AH28+'ごみ搬入量内訳(メタン化)'!AH28+'ごみ搬入量内訳(燃料化)'!AH28+'ごみ搬入量内訳(セメント)'!AH28+'ごみ搬入量内訳(資源化等)'!AH28+'ごみ搬入量内訳(その他)'!AH28+'ごみ搬入量内訳(直接埋立)'!AH28+'ごみ搬入量内訳(海洋投入)'!AH28","v":0},{"$f":"'ごみ搬入量内訳(直接資源化)'!AI28+'ごみ搬入量内訳(焼却)'!AI28+'ごみ搬入量内訳(粗大)'!AI28+'ごみ搬入量内訳(堆肥化)'!AI28+'ごみ搬入量内訳(飼料化)'!AI28+'ごみ搬入量内訳(メタン化)'!AI28+'ごみ搬入量内訳(燃料化)'!AI28+'ごみ搬入量内訳(セメント)'!AI28+'ごみ搬入量内訳(資源化等)'!AI28+'ごみ搬入量内訳(その他)'!AI28+'ごみ搬入量内訳(直接埋立)'!AI28+'ごみ搬入量内訳(海洋投入)'!AI28","v":0}]
["秋田県","05368","大潟村",{"$f":"SUM(E29:AI29)","v":0},{"$f":"'ごみ搬入量内訳(直接資源化)'!E29+'ごみ搬入量内訳(焼却)'!E29+'ごみ搬入量内訳(粗大)'!E29+'ごみ搬入量内訳(堆肥化)'!E29+'ごみ搬入量内訳(飼料化)'!E29+'ごみ搬入量内訳(メタン化)'!E29+'ごみ搬入量内訳(燃料化)'!E29+'ごみ搬入量内訳(セメント)'!E29+'ごみ搬入量内訳(資源化等)'!E29+'ごみ搬入量内訳(その他)'!E29+'ごみ搬入量内訳(直接埋立)'!E29+'ごみ搬入量内訳(海洋投入)'!E29","v":0},{"$f":"'ごみ搬入量内訳(直接資源化)'!F29+'ごみ搬入量内訳(焼却)'!F29+'ごみ搬入量内訳(粗大)'!F29+'ごみ搬入量内訳(堆肥化)'!F29+'ごみ搬入量内訳(飼料化)'!F29+'ごみ搬入量内訳(メタン化)'!F29+'ごみ搬入量内訳(燃料化)'!F29+'ごみ搬入量内訳(セメント)'!F29+'ごみ搬入量内訳(資源化等)'!F29+'ごみ搬入量内訳(その他)'!F29+'ごみ搬入量内訳(直接埋立)'!F29+'ごみ搬入量内訳(海洋投入)'!F29","v":0},{"$f":"'ごみ搬入量内訳(直接資源化)'!G29+'ごみ搬入量内訳(焼却)'!G29+'ごみ搬入量内訳(粗大)'!G29+'ごみ搬入量内訳(堆肥化)'!G29+'ごみ搬入量内訳(飼料化)'!G29+'ごみ搬入量内訳(メタン化)'!G29+'ごみ搬入量内訳(燃料化)'!G29+'ごみ搬入量内訳(セメント)'!G29+'ごみ搬入量内訳(資源化等)'!G29+'ごみ搬入量内訳(その他)'!G29+'ごみ搬入量内訳(直接埋立)'!G29+'ごみ搬入量内訳(海洋投入)'!G29","v":0},{"$f":"'ごみ搬入量内訳(直接資源化)'!H29+'ごみ搬入量内訳(焼却)'!H29+'ごみ搬入量内訳(粗大)'!H29+'ごみ搬入量内訳(堆肥化)'!H29+'ごみ搬入量内訳(飼料化)'!H29+'ごみ搬入量内訳(メタン化)'!H29+'ごみ搬入量内訳(燃料化)'!H29+'ごみ搬入量内訳(セメント)'!H29+'ごみ搬入量内訳(資源化等)'!H29+'ごみ搬入量内訳(その他)'!H29+'ごみ搬入量内訳(直接埋立)'!H29+'ごみ搬入量内訳(海洋投入)'!H29","v":0},{"$f":"'ごみ搬入量内訳(直接資源化)'!I29+'ごみ搬入量内訳(焼却)'!I29+'ごみ搬入量内訳(粗大)'!I29+'ごみ搬入量内訳(堆肥化)'!I29+'ごみ搬入量内訳(飼料化)'!I29+'ごみ搬入量内訳(メタン化)'!I29+'ごみ搬入量内訳(燃料化)'!I29+'ごみ搬入量内訳(セメント)'!I29+'ごみ搬入量内訳(資源化等)'!I29+'ごみ搬入量内訳(その他)'!I29+'ごみ搬入量内訳(直接埋立)'!I29+'ごみ搬入量内訳(海洋投入)'!I29","v":0},{"$f":"'ごみ搬入量内訳(直接資源化)'!J29+'ごみ搬入量内訳(焼却)'!J29+'ごみ搬入量内訳(粗大)'!J29+'ごみ搬入量内訳(堆肥化)'!J29+'ごみ搬入量内訳(飼料化)'!J29+'ごみ搬入量内訳(メタン化)'!J29+'ごみ搬入量内訳(燃料化)'!J29+'ごみ搬入量内訳(セメント)'!J29+'ごみ搬入量内訳(資源化等)'!J29+'ごみ搬入量内訳(その他)'!J29+'ごみ搬入量内訳(直接埋立)'!J29+'ごみ搬入量内訳(海洋投入)'!J29","v":0},{"$f":"'ごみ搬入量内訳(直接資源化)'!K29+'ごみ搬入量内訳(焼却)'!K29+'ごみ搬入量内訳(粗大)'!K29+'ごみ搬入量内訳(堆肥化)'!K29+'ごみ搬入量内訳(飼料化)'!K29+'ごみ搬入量内訳(メタン化)'!K29+'ごみ搬入量内訳(燃料化)'!K29+'ごみ搬入量内訳(セメント)'!K29+'ごみ搬入量内訳(資源化等)'!K29+'ごみ搬入量内訳(その他)'!K29+'ごみ搬入量内訳(直接埋立)'!K29+'ごみ搬入量内訳(海洋投入)'!K29","v":0},{"$f":"'ごみ搬入量内訳(直接資源化)'!L29+'ごみ搬入量内訳(焼却)'!L29+'ごみ搬入量内訳(粗大)'!L29+'ごみ搬入量内訳(堆肥化)'!L29+'ごみ搬入量内訳(飼料化)'!L29+'ごみ搬入量内訳(メタン化)'!L29+'ごみ搬入量内訳(燃料化)'!L29+'ごみ搬入量内訳(セメント)'!L29+'ごみ搬入量内訳(資源化等)'!L29+'ごみ搬入量内訳(その他)'!L29+'ごみ搬入量内訳(直接埋立)'!L29+'ごみ搬入量内訳(海洋投入)'!L29","v":0},{"$f":"'ごみ搬入量内訳(直接資源化)'!M29+'ごみ搬入量内訳(焼却)'!M29+'ごみ搬入量内訳(粗大)'!M29+'ごみ搬入量内訳(堆肥化)'!M29+'ごみ搬入量内訳(飼料化)'!M29+'ごみ搬入量内訳(メタン化)'!M29+'ごみ搬入量内訳(燃料化)'!M29+'ごみ搬入量内訳(セメント)'!M29+'ごみ搬入量内訳(資源化等)'!M29+'ごみ搬入量内訳(その他)'!M29+'ごみ搬入量内訳(直接埋立)'!M29+'ごみ搬入量内訳(海洋投入)'!M29","v":0},{"$f":"'ごみ搬入量内訳(直接資源化)'!N29+'ごみ搬入量内訳(焼却)'!N29+'ごみ搬入量内訳(粗大)'!N29+'ごみ搬入量内訳(堆肥化)'!N29+'ごみ搬入量内訳(飼料化)'!N29+'ごみ搬入量内訳(メタン化)'!N29+'ごみ搬入量内訳(燃料化)'!N29+'ごみ搬入量内訳(セメント)'!N29+'ごみ搬入量内訳(資源化等)'!N29+'ごみ搬入量内訳(その他)'!N29+'ごみ搬入量内訳(直接埋立)'!N29+'ごみ搬入量内訳(海洋投入)'!N29","v":0},{"$f":"'ごみ搬入量内訳(直接資源化)'!O29+'ごみ搬入量内訳(焼却)'!O29+'ごみ搬入量内訳(粗大)'!O29+'ごみ搬入量内訳(堆肥化)'!O29+'ごみ搬入量内訳(飼料化)'!O29+'ごみ搬入量内訳(メタン化)'!O29+'ごみ搬入量内訳(燃料化)'!O29+'ごみ搬入量内訳(セメント)'!O29+'ごみ搬入量内訳(資源化等)'!O29+'ごみ搬入量内訳(その他)'!O29+'ごみ搬入量内訳(直接埋立)'!O29+'ごみ搬入量内訳(海洋投入)'!O29","v":0},{"$f":"'ごみ搬入量内訳(直接資源化)'!P29+'ごみ搬入量内訳(焼却)'!P29+'ごみ搬入量内訳(粗大)'!P29+'ごみ搬入量内訳(堆肥化)'!P29+'ごみ搬入量内訳(飼料化)'!P29+'ごみ搬入量内訳(メタン化)'!P29+'ごみ搬入量内訳(燃料化)'!P29+'ごみ搬入量内訳(セメント)'!P29+'ごみ搬入量内訳(資源化等)'!P29+'ごみ搬入量内訳(その他)'!P29+'ごみ搬入量内訳(直接埋立)'!P29+'ごみ搬入量内訳(海洋投入)'!P29","v":0},{"$f":"'ごみ搬入量内訳(直接資源化)'!Q29+'ごみ搬入量内訳(焼却)'!Q29+'ごみ搬入量内訳(粗大)'!Q29+'ごみ搬入量内訳(堆肥化)'!Q29+'ごみ搬入量内訳(飼料化)'!Q29+'ごみ搬入量内訳(メタン化)'!Q29+'ごみ搬入量内訳(燃料化)'!Q29+'ごみ搬入量内訳(セメント)'!Q29+'ごみ搬入量内訳(資源化等)'!Q29+'ごみ搬入量内訳(その他)'!Q29+'ごみ搬入量内訳(直接埋立)'!Q29+'ごみ搬入量内訳(海洋投入)'!Q29","v":0},{"$f":"'ごみ搬入量内訳(直接資源化)'!R29+'ごみ搬入量内訳(焼却)'!R29+'ごみ搬入量内訳(粗大)'!R29+'ごみ搬入量内訳(堆肥化)'!R29+'ごみ搬入量内訳(飼料化)'!R29+'ごみ搬入量内訳(メタン化)'!R29+'ごみ搬入量内訳(燃料化)'!R29+'ごみ搬入量内訳(セメント)'!R29+'ごみ搬入量内訳(資源化等)'!R29+'ごみ搬入量内訳(その他)'!R29+'ごみ搬入量内訳(直接埋立)'!R29+'ごみ搬入量内訳(海洋投入)'!R29","v":0},{"$f":"'ごみ搬入量内訳(直接資源化)'!S29+'ごみ搬入量内訳(焼却)'!S29+'ごみ搬入量内訳(粗大)'!S29+'ごみ搬入量内訳(堆肥化)'!S29+'ごみ搬入量内訳(飼料化)'!S29+'ごみ搬入量内訳(メタン化)'!S29+'ごみ搬入量内訳(燃料化)'!S29+'ごみ搬入量内訳(セメント)'!S29+'ごみ搬入量内訳(資源化等)'!S29+'ごみ搬入量内訳(その他)'!S29+'ごみ搬入量内訳(直接埋立)'!S29+'ごみ搬入量内訳(海洋投入)'!S29","v":0},{"$f":"'ごみ搬入量内訳(直接資源化)'!T29+'ごみ搬入量内訳(焼却)'!T29+'ごみ搬入量内訳(粗大)'!T29+'ごみ搬入量内訳(堆肥化)'!T29+'ごみ搬入量内訳(飼料化)'!T29+'ごみ搬入量内訳(メタン化)'!T29+'ごみ搬入量内訳(燃料化)'!T29+'ごみ搬入量内訳(セメント)'!T29+'ごみ搬入量内訳(資源化等)'!T29+'ごみ搬入量内訳(その他)'!T29+'ごみ搬入量内訳(直接埋立)'!T29+'ごみ搬入量内訳(海洋投入)'!T29","v":0},{"$f":"'ごみ搬入量内訳(直接資源化)'!U29+'ごみ搬入量内訳(焼却)'!U29+'ごみ搬入量内訳(粗大)'!U29+'ごみ搬入量内訳(堆肥化)'!U29+'ごみ搬入量内訳(飼料化)'!U29+'ごみ搬入量内訳(メタン化)'!U29+'ごみ搬入量内訳(燃料化)'!U29+'ごみ搬入量内訳(セメント)'!U29+'ごみ搬入量内訳(資源化等)'!U29+'ごみ搬入量内訳(その他)'!U29+'ごみ搬入量内訳(直接埋立)'!U29+'ごみ搬入量内訳(海洋投入)'!U29","v":0},{"$f":"'ごみ搬入量内訳(直接資源化)'!V29+'ごみ搬入量内訳(焼却)'!V29+'ごみ搬入量内訳(粗大)'!V29+'ごみ搬入量内訳(堆肥化)'!V29+'ごみ搬入量内訳(飼料化)'!V29+'ごみ搬入量内訳(メタン化)'!V29+'ごみ搬入量内訳(燃料化)'!V29+'ごみ搬入量内訳(セメント)'!V29+'ごみ搬入量内訳(資源化等)'!V29+'ごみ搬入量内訳(その他)'!V29+'ごみ搬入量内訳(直接埋立)'!V29+'ごみ搬入量内訳(海洋投入)'!V29","v":0},{"$f":"'ごみ搬入量内訳(直接資源化)'!W29+'ごみ搬入量内訳(焼却)'!W29+'ごみ搬入量内訳(粗大)'!W29+'ごみ搬入量内訳(堆肥化)'!W29+'ごみ搬入量内訳(飼料化)'!W29+'ごみ搬入量内訳(メタン化)'!W29+'ごみ搬入量内訳(燃料化)'!W29+'ごみ搬入量内訳(セメント)'!W29+'ごみ搬入量内訳(資源化等)'!W29+'ごみ搬入量内訳(その他)'!W29+'ごみ搬入量内訳(直接埋立)'!W29+'ごみ搬入量内訳(海洋投入)'!W29","v":0},{"$f":"'ごみ搬入量内訳(直接資源化)'!X29+'ごみ搬入量内訳(焼却)'!X29+'ごみ搬入量内訳(粗大)'!X29+'ごみ搬入量内訳(堆肥化)'!X29+'ごみ搬入量内訳(飼料化)'!X29+'ごみ搬入量内訳(メタン化)'!X29+'ごみ搬入量内訳(燃料化)'!X29+'ごみ搬入量内訳(セメント)'!X29+'ごみ搬入量内訳(資源化等)'!X29+'ごみ搬入量内訳(その他)'!X29+'ごみ搬入量内訳(直接埋立)'!X29+'ごみ搬入量内訳(海洋投入)'!X29","v":0},{"$f":"'ごみ搬入量内訳(直接資源化)'!Y29+'ごみ搬入量内訳(焼却)'!Y29+'ごみ搬入量内訳(粗大)'!Y29+'ごみ搬入量内訳(堆肥化)'!Y29+'ごみ搬入量内訳(飼料化)'!Y29+'ごみ搬入量内訳(メタン化)'!Y29+'ごみ搬入量内訳(燃料化)'!Y29+'ごみ搬入量内訳(セメント)'!Y29+'ごみ搬入量内訳(資源化等)'!Y29+'ごみ搬入量内訳(その他)'!Y29+'ごみ搬入量内訳(直接埋立)'!Y29+'ごみ搬入量内訳(海洋投入)'!Y29","v":0},{"$f":"'ごみ搬入量内訳(直接資源化)'!Z29+'ごみ搬入量内訳(焼却)'!Z29+'ごみ搬入量内訳(粗大)'!Z29+'ごみ搬入量内訳(堆肥化)'!Z29+'ごみ搬入量内訳(飼料化)'!Z29+'ごみ搬入量内訳(メタン化)'!Z29+'ごみ搬入量内訳(燃料化)'!Z29+'ごみ搬入量内訳(セメント)'!Z29+'ごみ搬入量内訳(資源化等)'!Z29+'ごみ搬入量内訳(その他)'!Z29+'ごみ搬入量内訳(直接埋立)'!Z29+'ごみ搬入量内訳(海洋投入)'!Z29","v":0},{"$f":"'ごみ搬入量内訳(直接資源化)'!AA29+'ごみ搬入量内訳(焼却)'!AA29+'ごみ搬入量内訳(粗大)'!AA29+'ごみ搬入量内訳(堆肥化)'!AA29+'ごみ搬入量内訳(飼料化)'!AA29+'ごみ搬入量内訳(メタン化)'!AA29+'ごみ搬入量内訳(燃料化)'!AA29+'ごみ搬入量内訳(セメント)'!AA29+'ごみ搬入量内訳(資源化等)'!AA29+'ごみ搬入量内訳(その他)'!AA29+'ごみ搬入量内訳(直接埋立)'!AA29+'ごみ搬入量内訳(海洋投入)'!AA29","v":0},{"$f":"'ごみ搬入量内訳(直接資源化)'!AB29+'ごみ搬入量内訳(焼却)'!AB29+'ごみ搬入量内訳(粗大)'!AB29+'ごみ搬入量内訳(堆肥化)'!AB29+'ごみ搬入量内訳(飼料化)'!AB29+'ごみ搬入量内訳(メタン化)'!AB29+'ごみ搬入量内訳(燃料化)'!AB29+'ごみ搬入量内訳(セメント)'!AB29+'ごみ搬入量内訳(資源化等)'!AB29+'ごみ搬入量内訳(その他)'!AB29+'ごみ搬入量内訳(直接埋立)'!AB29+'ごみ搬入量内訳(海洋投入)'!AB29","v":0},{"$f":"'ごみ搬入量内訳(直接資源化)'!AC29+'ごみ搬入量内訳(焼却)'!AC29+'ごみ搬入量内訳(粗大)'!AC29+'ごみ搬入量内訳(堆肥化)'!AC29+'ごみ搬入量内訳(飼料化)'!AC29+'ごみ搬入量内訳(メタン化)'!AC29+'ごみ搬入量内訳(燃料化)'!AC29+'ごみ搬入量内訳(セメント)'!AC29+'ごみ搬入量内訳(資源化等)'!AC29+'ごみ搬入量内訳(その他)'!AC29+'ごみ搬入量内訳(直接埋立)'!AC29+'ごみ搬入量内訳(海洋投入)'!AC29","v":0},{"$f":"'ごみ搬入量内訳(直接資源化)'!AD29+'ごみ搬入量内訳(焼却)'!AD29+'ごみ搬入量内訳(粗大)'!AD29+'ごみ搬入量内訳(堆肥化)'!AD29+'ごみ搬入量内訳(飼料化)'!AD29+'ごみ搬入量内訳(メタン化)'!AD29+'ごみ搬入量内訳(燃料化)'!AD29+'ごみ搬入量内訳(セメント)'!AD29+'ごみ搬入量内訳(資源化等)'!AD29+'ごみ搬入量内訳(その他)'!AD29+'ごみ搬入量内訳(直接埋立)'!AD29+'ごみ搬入量内訳(海洋投入)'!AD29","v":0},{"$f":"'ごみ搬入量内訳(直接資源化)'!AE29+'ごみ搬入量内訳(焼却)'!AE29+'ごみ搬入量内訳(粗大)'!AE29+'ごみ搬入量内訳(堆肥化)'!AE29+'ごみ搬入量内訳(飼料化)'!AE29+'ごみ搬入量内訳(メタン化)'!AE29+'ごみ搬入量内訳(燃料化)'!AE29+'ごみ搬入量内訳(セメント)'!AE29+'ごみ搬入量内訳(資源化等)'!AE29+'ごみ搬入量内訳(その他)'!AE29+'ごみ搬入量内訳(直接埋立)'!AE29+'ごみ搬入量内訳(海洋投入)'!AE29","v":0},{"$f":"'ごみ搬入量内訳(直接資源化)'!AF29+'ごみ搬入量内訳(焼却)'!AF29+'ごみ搬入量内訳(粗大)'!AF29+'ごみ搬入量内訳(堆肥化)'!AF29+'ごみ搬入量内訳(飼料化)'!AF29+'ごみ搬入量内訳(メタン化)'!AF29+'ごみ搬入量内訳(燃料化)'!AF29+'ごみ搬入量内訳(セメント)'!AF29+'ごみ搬入量内訳(資源化等)'!AF29+'ごみ搬入量内訳(その他)'!AF29+'ごみ搬入量内訳(直接埋立)'!AF29+'ごみ搬入量内訳(海洋投入)'!AF29","v":0},{"$f":"'ごみ搬入量内訳(直接資源化)'!AG29+'ごみ搬入量内訳(焼却)'!AG29+'ごみ搬入量内訳(粗大)'!AG29+'ごみ搬入量内訳(堆肥化)'!AG29+'ごみ搬入量内訳(飼料化)'!AG29+'ごみ搬入量内訳(メタン化)'!AG29+'ごみ搬入量内訳(燃料化)'!AG29+'ごみ搬入量内訳(セメント)'!AG29+'ごみ搬入量内訳(資源化等)'!AG29+'ごみ搬入量内訳(その他)'!AG29+'ごみ搬入量内訳(直接埋立)'!AG29+'ごみ搬入量内訳(海洋投入)'!AG29","v":0},{"$f":"'ごみ搬入量内訳(直接資源化)'!AH29+'ごみ搬入量内訳(焼却)'!AH29+'ごみ搬入量内訳(粗大)'!AH29+'ごみ搬入量内訳(堆肥化)'!AH29+'ごみ搬入量内訳(飼料化)'!AH29+'ごみ搬入量内訳(メタン化)'!AH29+'ごみ搬入量内訳(燃料化)'!AH29+'ごみ搬入量内訳(セメント)'!AH29+'ごみ搬入量内訳(資源化等)'!AH29+'ごみ搬入量内訳(その他)'!AH29+'ごみ搬入量内訳(直接埋立)'!AH29+'ごみ搬入量内訳(海洋投入)'!AH29","v":0},{"$f":"'ごみ搬入量内訳(直接資源化)'!AI29+'ごみ搬入量内訳(焼却)'!AI29+'ごみ搬入量内訳(粗大)'!AI29+'ごみ搬入量内訳(堆肥化)'!AI29+'ごみ搬入量内訳(飼料化)'!AI29+'ごみ搬入量内訳(メタン化)'!AI29+'ごみ搬入量内訳(燃料化)'!AI29+'ごみ搬入量内訳(セメント)'!AI29+'ごみ搬入量内訳(資源化等)'!AI29+'ごみ搬入量内訳(その他)'!AI29+'ごみ搬入量内訳(直接埋立)'!AI29+'ごみ搬入量内訳(海洋投入)'!AI29","v":0}]
["秋田県","05434","美郷町",{"$f":"SUM(E30:AI30)","v":0},{"$f":"'ごみ搬入量内訳(直接資源化)'!E30+'ごみ搬入量内訳(焼却)'!E30+'ごみ搬入量内訳(粗大)'!E30+'ごみ搬入量内訳(堆肥化)'!E30+'ごみ搬入量内訳(飼料化)'!E30+'ごみ搬入量内訳(メタン化)'!E30+'ごみ搬入量内訳(燃料化)'!E30+'ごみ搬入量内訳(セメント)'!E30+'ごみ搬入量内訳(資源化等)'!E30+'ごみ搬入量内訳(その他)'!E30+'ごみ搬入量内訳(直接埋立)'!E30+'ごみ搬入量内訳(海洋投入)'!E30","v":0},{"$f":"'ごみ搬入量内訳(直接資源化)'!F30+'ごみ搬入量内訳(焼却)'!F30+'ごみ搬入量内訳(粗大)'!F30+'ごみ搬入量内訳(堆肥化)'!F30+'ごみ搬入量内訳(飼料化)'!F30+'ごみ搬入量内訳(メタン化)'!F30+'ごみ搬入量内訳(燃料化)'!F30+'ごみ搬入量内訳(セメント)'!F30+'ごみ搬入量内訳(資源化等)'!F30+'ごみ搬入量内訳(その他)'!F30+'ごみ搬入量内訳(直接埋立)'!F30+'ごみ搬入量内訳(海洋投入)'!F30","v":0},{"$f":"'ごみ搬入量内訳(直接資源化)'!G30+'ごみ搬入量内訳(焼却)'!G30+'ごみ搬入量内訳(粗大)'!G30+'ごみ搬入量内訳(堆肥化)'!G30+'ごみ搬入量内訳(飼料化)'!G30+'ごみ搬入量内訳(メタン化)'!G30+'ごみ搬入量内訳(燃料化)'!G30+'ごみ搬入量内訳(セメント)'!G30+'ごみ搬入量内訳(資源化等)'!G30+'ごみ搬入量内訳(その他)'!G30+'ごみ搬入量内訳(直接埋立)'!G30+'ごみ搬入量内訳(海洋投入)'!G30","v":0},{"$f":"'ごみ搬入量内訳(直接資源化)'!H30+'ごみ搬入量内訳(焼却)'!H30+'ごみ搬入量内訳(粗大)'!H30+'ごみ搬入量内訳(堆肥化)'!H30+'ごみ搬入量内訳(飼料化)'!H30+'ごみ搬入量内訳(メタン化)'!H30+'ごみ搬入量内訳(燃料化)'!H30+'ごみ搬入量内訳(セメント)'!H30+'ごみ搬入量内訳(資源化等)'!H30+'ごみ搬入量内訳(その他)'!H30+'ごみ搬入量内訳(直接埋立)'!H30+'ごみ搬入量内訳(海洋投入)'!H30","v":0},{"$f":"'ごみ搬入量内訳(直接資源化)'!I30+'ごみ搬入量内訳(焼却)'!I30+'ごみ搬入量内訳(粗大)'!I30+'ごみ搬入量内訳(堆肥化)'!I30+'ごみ搬入量内訳(飼料化)'!I30+'ごみ搬入量内訳(メタン化)'!I30+'ごみ搬入量内訳(燃料化)'!I30+'ごみ搬入量内訳(セメント)'!I30+'ごみ搬入量内訳(資源化等)'!I30+'ごみ搬入量内訳(その他)'!I30+'ごみ搬入量内訳(直接埋立)'!I30+'ごみ搬入量内訳(海洋投入)'!I30","v":0},{"$f":"'ごみ搬入量内訳(直接資源化)'!J30+'ごみ搬入量内訳(焼却)'!J30+'ごみ搬入量内訳(粗大)'!J30+'ごみ搬入量内訳(堆肥化)'!J30+'ごみ搬入量内訳(飼料化)'!J30+'ごみ搬入量内訳(メタン化)'!J30+'ごみ搬入量内訳(燃料化)'!J30+'ごみ搬入量内訳(セメント)'!J30+'ごみ搬入量内訳(資源化等)'!J30+'ごみ搬入量内訳(その他)'!J30+'ごみ搬入量内訳(直接埋立)'!J30+'ごみ搬入量内訳(海洋投入)'!J30","v":0},{"$f":"'ごみ搬入量内訳(直接資源化)'!K30+'ごみ搬入量内訳(焼却)'!K30+'ごみ搬入量内訳(粗大)'!K30+'ごみ搬入量内訳(堆肥化)'!K30+'ごみ搬入量内訳(飼料化)'!K30+'ごみ搬入量内訳(メタン化)'!K30+'ごみ搬入量内訳(燃料化)'!K30+'ごみ搬入量内訳(セメント)'!K30+'ごみ搬入量内訳(資源化等)'!K30+'ごみ搬入量内訳(その他)'!K30+'ごみ搬入量内訳(直接埋立)'!K30+'ごみ搬入量内訳(海洋投入)'!K30","v":0},{"$f":"'ごみ搬入量内訳(直接資源化)'!L30+'ごみ搬入量内訳(焼却)'!L30+'ごみ搬入量内訳(粗大)'!L30+'ごみ搬入量内訳(堆肥化)'!L30+'ごみ搬入量内訳(飼料化)'!L30+'ごみ搬入量内訳(メタン化)'!L30+'ごみ搬入量内訳(燃料化)'!L30+'ごみ搬入量内訳(セメント)'!L30+'ごみ搬入量内訳(資源化等)'!L30+'ごみ搬入量内訳(その他)'!L30+'ごみ搬入量内訳(直接埋立)'!L30+'ごみ搬入量内訳(海洋投入)'!L30","v":0},{"$f":"'ごみ搬入量内訳(直接資源化)'!M30+'ごみ搬入量内訳(焼却)'!M30+'ごみ搬入量内訳(粗大)'!M30+'ごみ搬入量内訳(堆肥化)'!M30+'ごみ搬入量内訳(飼料化)'!M30+'ごみ搬入量内訳(メタン化)'!M30+'ごみ搬入量内訳(燃料化)'!M30+'ごみ搬入量内訳(セメント)'!M30+'ごみ搬入量内訳(資源化等)'!M30+'ごみ搬入量内訳(その他)'!M30+'ごみ搬入量内訳(直接埋立)'!M30+'ごみ搬入量内訳(海洋投入)'!M30","v":0},{"$f":"'ごみ搬入量内訳(直接資源化)'!N30+'ごみ搬入量内訳(焼却)'!N30+'ごみ搬入量内訳(粗大)'!N30+'ごみ搬入量内訳(堆肥化)'!N30+'ごみ搬入量内訳(飼料化)'!N30+'ごみ搬入量内訳(メタン化)'!N30+'ごみ搬入量内訳(燃料化)'!N30+'ごみ搬入量内訳(セメント)'!N30+'ごみ搬入量内訳(資源化等)'!N30+'ごみ搬入量内訳(その他)'!N30+'ごみ搬入量内訳(直接埋立)'!N30+'ごみ搬入量内訳(海洋投入)'!N30","v":0},{"$f":"'ごみ搬入量内訳(直接資源化)'!O30+'ごみ搬入量内訳(焼却)'!O30+'ごみ搬入量内訳(粗大)'!O30+'ごみ搬入量内訳(堆肥化)'!O30+'ごみ搬入量内訳(飼料化)'!O30+'ごみ搬入量内訳(メタン化)'!O30+'ごみ搬入量内訳(燃料化)'!O30+'ごみ搬入量内訳(セメント)'!O30+'ごみ搬入量内訳(資源化等)'!O30+'ごみ搬入量内訳(その他)'!O30+'ごみ搬入量内訳(直接埋立)'!O30+'ごみ搬入量内訳(海洋投入)'!O30","v":0},{"$f":"'ごみ搬入量内訳(直接資源化)'!P30+'ごみ搬入量内訳(焼却)'!P30+'ごみ搬入量内訳(粗大)'!P30+'ごみ搬入量内訳(堆肥化)'!P30+'ごみ搬入量内訳(飼料化)'!P30+'ごみ搬入量内訳(メタン化)'!P30+'ごみ搬入量内訳(燃料化)'!P30+'ごみ搬入量内訳(セメント)'!P30+'ごみ搬入量内訳(資源化等)'!P30+'ごみ搬入量内訳(その他)'!P30+'ごみ搬入量内訳(直接埋立)'!P30+'ごみ搬入量内訳(海洋投入)'!P30","v":0},{"$f":"'ごみ搬入量内訳(直接資源化)'!Q30+'ごみ搬入量内訳(焼却)'!Q30+'ごみ搬入量内訳(粗大)'!Q30+'ごみ搬入量内訳(堆肥化)'!Q30+'ごみ搬入量内訳(飼料化)'!Q30+'ごみ搬入量内訳(メタン化)'!Q30+'ごみ搬入量内訳(燃料化)'!Q30+'ごみ搬入量内訳(セメント)'!Q30+'ごみ搬入量内訳(資源化等)'!Q30+'ごみ搬入量内訳(その他)'!Q30+'ごみ搬入量内訳(直接埋立)'!Q30+'ごみ搬入量内訳(海洋投入)'!Q30","v":0},{"$f":"'ごみ搬入量内訳(直接資源化)'!R30+'ごみ搬入量内訳(焼却)'!R30+'ごみ搬入量内訳(粗大)'!R30+'ごみ搬入量内訳(堆肥化)'!R30+'ごみ搬入量内訳(飼料化)'!R30+'ごみ搬入量内訳(メタン化)'!R30+'ごみ搬入量内訳(燃料化)'!R30+'ごみ搬入量内訳(セメント)'!R30+'ごみ搬入量内訳(資源化等)'!R30+'ごみ搬入量内訳(その他)'!R30+'ごみ搬入量内訳(直接埋立)'!R30+'ごみ搬入量内訳(海洋投入)'!R30","v":0},{"$f":"'ごみ搬入量内訳(直接資源化)'!S30+'ごみ搬入量内訳(焼却)'!S30+'ごみ搬入量内訳(粗大)'!S30+'ごみ搬入量内訳(堆肥化)'!S30+'ごみ搬入量内訳(飼料化)'!S30+'ごみ搬入量内訳(メタン化)'!S30+'ごみ搬入量内訳(燃料化)'!S30+'ごみ搬入量内訳(セメント)'!S30+'ごみ搬入量内訳(資源化等)'!S30+'ごみ搬入量内訳(その他)'!S30+'ごみ搬入量内訳(直接埋立)'!S30+'ごみ搬入量内訳(海洋投入)'!S30","v":0},{"$f":"'ごみ搬入量内訳(直接資源化)'!T30+'ごみ搬入量内訳(焼却)'!T30+'ごみ搬入量内訳(粗大)'!T30+'ごみ搬入量内訳(堆肥化)'!T30+'ごみ搬入量内訳(飼料化)'!T30+'ごみ搬入量内訳(メタン化)'!T30+'ごみ搬入量内訳(燃料化)'!T30+'ごみ搬入量内訳(セメント)'!T30+'ごみ搬入量内訳(資源化等)'!T30+'ごみ搬入量内訳(その他)'!T30+'ごみ搬入量内訳(直接埋立)'!T30+'ごみ搬入量内訳(海洋投入)'!T30","v":0},{"$f":"'ごみ搬入量内訳(直接資源化)'!U30+'ごみ搬入量内訳(焼却)'!U30+'ごみ搬入量内訳(粗大)'!U30+'ごみ搬入量内訳(堆肥化)'!U30+'ごみ搬入量内訳(飼料化)'!U30+'ごみ搬入量内訳(メタン化)'!U30+'ごみ搬入量内訳(燃料化)'!U30+'ごみ搬入量内訳(セメント)'!U30+'ごみ搬入量内訳(資源化等)'!U30+'ごみ搬入量内訳(その他)'!U30+'ごみ搬入量内訳(直接埋立)'!U30+'ごみ搬入量内訳(海洋投入)'!U30","v":0},{"$f":"'ごみ搬入量内訳(直接資源化)'!V30+'ごみ搬入量内訳(焼却)'!V30+'ごみ搬入量内訳(粗大)'!V30+'ごみ搬入量内訳(堆肥化)'!V30+'ごみ搬入量内訳(飼料化)'!V30+'ごみ搬入量内訳(メタン化)'!V30+'ごみ搬入量内訳(燃料化)'!V30+'ごみ搬入量内訳(セメント)'!V30+'ごみ搬入量内訳(資源化等)'!V30+'ごみ搬入量内訳(その他)'!V30+'ごみ搬入量内訳(直接埋立)'!V30+'ごみ搬入量内訳(海洋投入)'!V30","v":0},{"$f":"'ごみ搬入量内訳(直接資源化)'!W30+'ごみ搬入量内訳(焼却)'!W30+'ごみ搬入量内訳(粗大)'!W30+'ごみ搬入量内訳(堆肥化)'!W30+'ごみ搬入量内訳(飼料化)'!W30+'ごみ搬入量内訳(メタン化)'!W30+'ごみ搬入量内訳(燃料化)'!W30+'ごみ搬入量内訳(セメント)'!W30+'ごみ搬入量内訳(資源化等)'!W30+'ごみ搬入量内訳(その他)'!W30+'ごみ搬入量内訳(直接埋立)'!W30+'ごみ搬入量内訳(海洋投入)'!W30","v":0},{"$f":"'ごみ搬入量内訳(直接資源化)'!X30+'ごみ搬入量内訳(焼却)'!X30+'ごみ搬入量内訳(粗大)'!X30+'ごみ搬入量内訳(堆肥化)'!X30+'ごみ搬入量内訳(飼料化)'!X30+'ごみ搬入量内訳(メタン化)'!X30+'ごみ搬入量内訳(燃料化)'!X30+'ごみ搬入量内訳(セメント)'!X30+'ごみ搬入量内訳(資源化等)'!X30+'ごみ搬入量内訳(その他)'!X30+'ごみ搬入量内訳(直接埋立)'!X30+'ごみ搬入量内訳(海洋投入)'!X30","v":0},{"$f":"'ごみ搬入量内訳(直接資源化)'!Y30+'ごみ搬入量内訳(焼却)'!Y30+'ごみ搬入量内訳(粗大)'!Y30+'ごみ搬入量内訳(堆肥化)'!Y30+'ごみ搬入量内訳(飼料化)'!Y30+'ごみ搬入量内訳(メタン化)'!Y30+'ごみ搬入量内訳(燃料化)'!Y30+'ごみ搬入量内訳(セメント)'!Y30+'ごみ搬入量内訳(資源化等)'!Y30+'ごみ搬入量内訳(その他)'!Y30+'ごみ搬入量内訳(直接埋立)'!Y30+'ごみ搬入量内訳(海洋投入)'!Y30","v":0},{"$f":"'ごみ搬入量内訳(直接資源化)'!Z30+'ごみ搬入量内訳(焼却)'!Z30+'ごみ搬入量内訳(粗大)'!Z30+'ごみ搬入量内訳(堆肥化)'!Z30+'ごみ搬入量内訳(飼料化)'!Z30+'ごみ搬入量内訳(メタン化)'!Z30+'ごみ搬入量内訳(燃料化)'!Z30+'ごみ搬入量内訳(セメント)'!Z30+'ごみ搬入量内訳(資源化等)'!Z30+'ごみ搬入量内訳(その他)'!Z30+'ごみ搬入量内訳(直接埋立)'!Z30+'ごみ搬入量内訳(海洋投入)'!Z30","v":0},{"$f":"'ごみ搬入量内訳(直接資源化)'!AA30+'ごみ搬入量内訳(焼却)'!AA30+'ごみ搬入量内訳(粗大)'!AA30+'ごみ搬入量内訳(堆肥化)'!AA30+'ごみ搬入量内訳(飼料化)'!AA30+'ごみ搬入量内訳(メタン化)'!AA30+'ごみ搬入量内訳(燃料化)'!AA30+'ごみ搬入量内訳(セメント)'!AA30+'ごみ搬入量内訳(資源化等)'!AA30+'ごみ搬入量内訳(その他)'!AA30+'ごみ搬入量内訳(直接埋立)'!AA30+'ごみ搬入量内訳(海洋投入)'!AA30","v":0},{"$f":"'ごみ搬入量内訳(直接資源化)'!AB30+'ごみ搬入量内訳(焼却)'!AB30+'ごみ搬入量内訳(粗大)'!AB30+'ごみ搬入量内訳(堆肥化)'!AB30+'ごみ搬入量内訳(飼料化)'!AB30+'ごみ搬入量内訳(メタン化)'!AB30+'ごみ搬入量内訳(燃料化)'!AB30+'ごみ搬入量内訳(セメント)'!AB30+'ごみ搬入量内訳(資源化等)'!AB30+'ごみ搬入量内訳(その他)'!AB30+'ごみ搬入量内訳(直接埋立)'!AB30+'ごみ搬入量内訳(海洋投入)'!AB30","v":0},{"$f":"'ごみ搬入量内訳(直接資源化)'!AC30+'ごみ搬入量内訳(焼却)'!AC30+'ごみ搬入量内訳(粗大)'!AC30+'ごみ搬入量内訳(堆肥化)'!AC30+'ごみ搬入量内訳(飼料化)'!AC30+'ごみ搬入量内訳(メタン化)'!AC30+'ごみ搬入量内訳(燃料化)'!AC30+'ごみ搬入量内訳(セメント)'!AC30+'ごみ搬入量内訳(資源化等)'!AC30+'ごみ搬入量内訳(その他)'!AC30+'ごみ搬入量内訳(直接埋立)'!AC30+'ごみ搬入量内訳(海洋投入)'!AC30","v":0},{"$f":"'ごみ搬入量内訳(直接資源化)'!AD30+'ごみ搬入量内訳(焼却)'!AD30+'ごみ搬入量内訳(粗大)'!AD30+'ごみ搬入量内訳(堆肥化)'!AD30+'ごみ搬入量内訳(飼料化)'!AD30+'ごみ搬入量内訳(メタン化)'!AD30+'ごみ搬入量内訳(燃料化)'!AD30+'ごみ搬入量内訳(セメント)'!AD30+'ごみ搬入量内訳(資源化等)'!AD30+'ごみ搬入量内訳(その他)'!AD30+'ごみ搬入量内訳(直接埋立)'!AD30+'ごみ搬入量内訳(海洋投入)'!AD30","v":0},{"$f":"'ごみ搬入量内訳(直接資源化)'!AE30+'ごみ搬入量内訳(焼却)'!AE30+'ごみ搬入量内訳(粗大)'!AE30+'ごみ搬入量内訳(堆肥化)'!AE30+'ごみ搬入量内訳(飼料化)'!AE30+'ごみ搬入量内訳(メタン化)'!AE30+'ごみ搬入量内訳(燃料化)'!AE30+'ごみ搬入量内訳(セメント)'!AE30+'ごみ搬入量内訳(資源化等)'!AE30+'ごみ搬入量内訳(その他)'!AE30+'ごみ搬入量内訳(直接埋立)'!AE30+'ごみ搬入量内訳(海洋投入)'!AE30","v":0},{"$f":"'ごみ搬入量内訳(直接資源化)'!AF30+'ごみ搬入量内訳(焼却)'!AF30+'ごみ搬入量内訳(粗大)'!AF30+'ごみ搬入量内訳(堆肥化)'!AF30+'ごみ搬入量内訳(飼料化)'!AF30+'ごみ搬入量内訳(メタン化)'!AF30+'ごみ搬入量内訳(燃料化)'!AF30+'ごみ搬入量内訳(セメント)'!AF30+'ごみ搬入量内訳(資源化等)'!AF30+'ごみ搬入量内訳(その他)'!AF30+'ごみ搬入量内訳(直接埋立)'!AF30+'ごみ搬入量内訳(海洋投入)'!AF30","v":0},{"$f":"'ごみ搬入量内訳(直接資源化)'!AG30+'ごみ搬入量内訳(焼却)'!AG30+'ごみ搬入量内訳(粗大)'!AG30+'ごみ搬入量内訳(堆肥化)'!AG30+'ごみ搬入量内訳(飼料化)'!AG30+'ごみ搬入量内訳(メタン化)'!AG30+'ごみ搬入量内訳(燃料化)'!AG30+'ごみ搬入量内訳(セメント)'!AG30+'ごみ搬入量内訳(資源化等)'!AG30+'ごみ搬入量内訳(その他)'!AG30+'ごみ搬入量内訳(直接埋立)'!AG30+'ごみ搬入量内訳(海洋投入)'!AG30","v":0},{"$f":"'ごみ搬入量内訳(直接資源化)'!AH30+'ごみ搬入量内訳(焼却)'!AH30+'ごみ搬入量内訳(粗大)'!AH30+'ごみ搬入量内訳(堆肥化)'!AH30+'ごみ搬入量内訳(飼料化)'!AH30+'ごみ搬入量内訳(メタン化)'!AH30+'ごみ搬入量内訳(燃料化)'!AH30+'ごみ搬入量内訳(セメント)'!AH30+'ごみ搬入量内訳(資源化等)'!AH30+'ごみ搬入量内訳(その他)'!AH30+'ごみ搬入量内訳(直接埋立)'!AH30+'ごみ搬入量内訳(海洋投入)'!AH30","v":0},{"$f":"'ごみ搬入量内訳(直接資源化)'!AI30+'ごみ搬入量内訳(焼却)'!AI30+'ごみ搬入量内訳(粗大)'!AI30+'ごみ搬入量内訳(堆肥化)'!AI30+'ごみ搬入量内訳(飼料化)'!AI30+'ごみ搬入量内訳(メタン化)'!AI30+'ごみ搬入量内訳(燃料化)'!AI30+'ごみ搬入量内訳(セメント)'!AI30+'ごみ搬入量内訳(資源化等)'!AI30+'ごみ搬入量内訳(その他)'!AI30+'ごみ搬入量内訳(直接埋立)'!AI30+'ごみ搬入量内訳(海洋投入)'!AI30","v":0}]
["秋田県","05463","羽後町",{"$f":"SUM(E31:AI31)","v":0},{"$f":"'ごみ搬入量内訳(直接資源化)'!E31+'ごみ搬入量内訳(焼却)'!E31+'ごみ搬入量内訳(粗大)'!E31+'ごみ搬入量内訳(堆肥化)'!E31+'ごみ搬入量内訳(飼料化)'!E31+'ごみ搬入量内訳(メタン化)'!E31+'ごみ搬入量内訳(燃料化)'!E31+'ごみ搬入量内訳(セメント)'!E31+'ごみ搬入量内訳(資源化等)'!E31+'ごみ搬入量内訳(その他)'!E31+'ごみ搬入量内訳(直接埋立)'!E31+'ごみ搬入量内訳(海洋投入)'!E31","v":0},{"$f":"'ごみ搬入量内訳(直接資源化)'!F31+'ごみ搬入量内訳(焼却)'!F31+'ごみ搬入量内訳(粗大)'!F31+'ごみ搬入量内訳(堆肥化)'!F31+'ごみ搬入量内訳(飼料化)'!F31+'ごみ搬入量内訳(メタン化)'!F31+'ごみ搬入量内訳(燃料化)'!F31+'ごみ搬入量内訳(セメント)'!F31+'ごみ搬入量内訳(資源化等)'!F31+'ごみ搬入量内訳(その他)'!F31+'ごみ搬入量内訳(直接埋立)'!F31+'ごみ搬入量内訳(海洋投入)'!F31","v":0},{"$f":"'ごみ搬入量内訳(直接資源化)'!G31+'ごみ搬入量内訳(焼却)'!G31+'ごみ搬入量内訳(粗大)'!G31+'ごみ搬入量内訳(堆肥化)'!G31+'ごみ搬入量内訳(飼料化)'!G31+'ごみ搬入量内訳(メタン化)'!G31+'ごみ搬入量内訳(燃料化)'!G31+'ごみ搬入量内訳(セメント)'!G31+'ごみ搬入量内訳(資源化等)'!G31+'ごみ搬入量内訳(その他)'!G31+'ごみ搬入量内訳(直接埋立)'!G31+'ごみ搬入量内訳(海洋投入)'!G31","v":0},{"$f":"'ごみ搬入量内訳(直接資源化)'!H31+'ごみ搬入量内訳(焼却)'!H31+'ごみ搬入量内訳(粗大)'!H31+'ごみ搬入量内訳(堆肥化)'!H31+'ごみ搬入量内訳(飼料化)'!H31+'ごみ搬入量内訳(メタン化)'!H31+'ごみ搬入量内訳(燃料化)'!H31+'ごみ搬入量内訳(セメント)'!H31+'ごみ搬入量内訳(資源化等)'!H31+'ごみ搬入量内訳(その他)'!H31+'ごみ搬入量内訳(直接埋立)'!H31+'ごみ搬入量内訳(海洋投入)'!H31","v":0},{"$f":"'ごみ搬入量内訳(直接資源化)'!I31+'ごみ搬入量内訳(焼却)'!I31+'ごみ搬入量内訳(粗大)'!I31+'ごみ搬入量内訳(堆肥化)'!I31+'ごみ搬入量内訳(飼料化)'!I31+'ごみ搬入量内訳(メタン化)'!I31+'ごみ搬入量内訳(燃料化)'!I31+'ごみ搬入量内訳(セメント)'!I31+'ごみ搬入量内訳(資源化等)'!I31+'ごみ搬入量内訳(その他)'!I31+'ごみ搬入量内訳(直接埋立)'!I31+'ごみ搬入量内訳(海洋投入)'!I31","v":0},{"$f":"'ごみ搬入量内訳(直接資源化)'!J31+'ごみ搬入量内訳(焼却)'!J31+'ごみ搬入量内訳(粗大)'!J31+'ごみ搬入量内訳(堆肥化)'!J31+'ごみ搬入量内訳(飼料化)'!J31+'ごみ搬入量内訳(メタン化)'!J31+'ごみ搬入量内訳(燃料化)'!J31+'ごみ搬入量内訳(セメント)'!J31+'ごみ搬入量内訳(資源化等)'!J31+'ごみ搬入量内訳(その他)'!J31+'ごみ搬入量内訳(直接埋立)'!J31+'ごみ搬入量内訳(海洋投入)'!J31","v":0},{"$f":"'ごみ搬入量内訳(直接資源化)'!K31+'ごみ搬入量内訳(焼却)'!K31+'ごみ搬入量内訳(粗大)'!K31+'ごみ搬入量内訳(堆肥化)'!K31+'ごみ搬入量内訳(飼料化)'!K31+'ごみ搬入量内訳(メタン化)'!K31+'ごみ搬入量内訳(燃料化)'!K31+'ごみ搬入量内訳(セメント)'!K31+'ごみ搬入量内訳(資源化等)'!K31+'ごみ搬入量内訳(その他)'!K31+'ごみ搬入量内訳(直接埋立)'!K31+'ごみ搬入量内訳(海洋投入)'!K31","v":0},{"$f":"'ごみ搬入量内訳(直接資源化)'!L31+'ごみ搬入量内訳(焼却)'!L31+'ごみ搬入量内訳(粗大)'!L31+'ごみ搬入量内訳(堆肥化)'!L31+'ごみ搬入量内訳(飼料化)'!L31+'ごみ搬入量内訳(メタン化)'!L31+'ごみ搬入量内訳(燃料化)'!L31+'ごみ搬入量内訳(セメント)'!L31+'ごみ搬入量内訳(資源化等)'!L31+'ごみ搬入量内訳(その他)'!L31+'ごみ搬入量内訳(直接埋立)'!L31+'ごみ搬入量内訳(海洋投入)'!L31","v":0},{"$f":"'ごみ搬入量内訳(直接資源化)'!M31+'ごみ搬入量内訳(焼却)'!M31+'ごみ搬入量内訳(粗大)'!M31+'ごみ搬入量内訳(堆肥化)'!M31+'ごみ搬入量内訳(飼料化)'!M31+'ごみ搬入量内訳(メタン化)'!M31+'ごみ搬入量内訳(燃料化)'!M31+'ごみ搬入量内訳(セメント)'!M31+'ごみ搬入量内訳(資源化等)'!M31+'ごみ搬入量内訳(その他)'!M31+'ごみ搬入量内訳(直接埋立)'!M31+'ごみ搬入量内訳(海洋投入)'!M31","v":0},{"$f":"'ごみ搬入量内訳(直接資源化)'!N31+'ごみ搬入量内訳(焼却)'!N31+'ごみ搬入量内訳(粗大)'!N31+'ごみ搬入量内訳(堆肥化)'!N31+'ごみ搬入量内訳(飼料化)'!N31+'ごみ搬入量内訳(メタン化)'!N31+'ごみ搬入量内訳(燃料化)'!N31+'ごみ搬入量内訳(セメント)'!N31+'ごみ搬入量内訳(資源化等)'!N31+'ごみ搬入量内訳(その他)'!N31+'ごみ搬入量内訳(直接埋立)'!N31+'ごみ搬入量内訳(海洋投入)'!N31","v":0},{"$f":"'ごみ搬入量内訳(直接資源化)'!O31+'ごみ搬入量内訳(焼却)'!O31+'ごみ搬入量内訳(粗大)'!O31+'ごみ搬入量内訳(堆肥化)'!O31+'ごみ搬入量内訳(飼料化)'!O31+'ごみ搬入量内訳(メタン化)'!O31+'ごみ搬入量内訳(燃料化)'!O31+'ごみ搬入量内訳(セメント)'!O31+'ごみ搬入量内訳(資源化等)'!O31+'ごみ搬入量内訳(その他)'!O31+'ごみ搬入量内訳(直接埋立)'!O31+'ごみ搬入量内訳(海洋投入)'!O31","v":0},{"$f":"'ごみ搬入量内訳(直接資源化)'!P31+'ごみ搬入量内訳(焼却)'!P31+'ごみ搬入量内訳(粗大)'!P31+'ごみ搬入量内訳(堆肥化)'!P31+'ごみ搬入量内訳(飼料化)'!P31+'ごみ搬入量内訳(メタン化)'!P31+'ごみ搬入量内訳(燃料化)'!P31+'ごみ搬入量内訳(セメント)'!P31+'ごみ搬入量内訳(資源化等)'!P31+'ごみ搬入量内訳(その他)'!P31+'ごみ搬入量内訳(直接埋立)'!P31+'ごみ搬入量内訳(海洋投入)'!P31","v":0},{"$f":"'ごみ搬入量内訳(直接資源化)'!Q31+'ごみ搬入量内訳(焼却)'!Q31+'ごみ搬入量内訳(粗大)'!Q31+'ごみ搬入量内訳(堆肥化)'!Q31+'ごみ搬入量内訳(飼料化)'!Q31+'ごみ搬入量内訳(メタン化)'!Q31+'ごみ搬入量内訳(燃料化)'!Q31+'ごみ搬入量内訳(セメント)'!Q31+'ごみ搬入量内訳(資源化等)'!Q31+'ごみ搬入量内訳(その他)'!Q31+'ごみ搬入量内訳(直接埋立)'!Q31+'ごみ搬入量内訳(海洋投入)'!Q31","v":0},{"$f":"'ごみ搬入量内訳(直接資源化)'!R31+'ごみ搬入量内訳(焼却)'!R31+'ごみ搬入量内訳(粗大)'!R31+'ごみ搬入量内訳(堆肥化)'!R31+'ごみ搬入量内訳(飼料化)'!R31+'ごみ搬入量内訳(メタン化)'!R31+'ごみ搬入量内訳(燃料化)'!R31+'ごみ搬入量内訳(セメント)'!R31+'ごみ搬入量内訳(資源化等)'!R31+'ごみ搬入量内訳(その他)'!R31+'ごみ搬入量内訳(直接埋立)'!R31+'ごみ搬入量内訳(海洋投入)'!R31","v":0},{"$f":"'ごみ搬入量内訳(直接資源化)'!S31+'ごみ搬入量内訳(焼却)'!S31+'ごみ搬入量内訳(粗大)'!S31+'ごみ搬入量内訳(堆肥化)'!S31+'ごみ搬入量内訳(飼料化)'!S31+'ごみ搬入量内訳(メタン化)'!S31+'ごみ搬入量内訳(燃料化)'!S31+'ごみ搬入量内訳(セメント)'!S31+'ごみ搬入量内訳(資源化等)'!S31+'ごみ搬入量内訳(その他)'!S31+'ごみ搬入量内訳(直接埋立)'!S31+'ごみ搬入量内訳(海洋投入)'!S31","v":0},{"$f":"'ごみ搬入量内訳(直接資源化)'!T31+'ごみ搬入量内訳(焼却)'!T31+'ごみ搬入量内訳(粗大)'!T31+'ごみ搬入量内訳(堆肥化)'!T31+'ごみ搬入量内訳(飼料化)'!T31+'ごみ搬入量内訳(メタン化)'!T31+'ごみ搬入量内訳(燃料化)'!T31+'ごみ搬入量内訳(セメント)'!T31+'ごみ搬入量内訳(資源化等)'!T31+'ごみ搬入量内訳(その他)'!T31+'ごみ搬入量内訳(直接埋立)'!T31+'ごみ搬入量内訳(海洋投入)'!T31","v":0},{"$f":"'ごみ搬入量内訳(直接資源化)'!U31+'ごみ搬入量内訳(焼却)'!U31+'ごみ搬入量内訳(粗大)'!U31+'ごみ搬入量内訳(堆肥化)'!U31+'ごみ搬入量内訳(飼料化)'!U31+'ごみ搬入量内訳(メタン化)'!U31+'ごみ搬入量内訳(燃料化)'!U31+'ごみ搬入量内訳(セメント)'!U31+'ごみ搬入量内訳(資源化等)'!U31+'ごみ搬入量内訳(その他)'!U31+'ごみ搬入量内訳(直接埋立)'!U31+'ごみ搬入量内訳(海洋投入)'!U31","v":0},{"$f":"'ごみ搬入量内訳(直接資源化)'!V31+'ごみ搬入量内訳(焼却)'!V31+'ごみ搬入量内訳(粗大)'!V31+'ごみ搬入量内訳(堆肥化)'!V31+'ごみ搬入量内訳(飼料化)'!V31+'ごみ搬入量内訳(メタン化)'!V31+'ごみ搬入量内訳(燃料化)'!V31+'ごみ搬入量内訳(セメント)'!V31+'ごみ搬入量内訳(資源化等)'!V31+'ごみ搬入量内訳(その他)'!V31+'ごみ搬入量内訳(直接埋立)'!V31+'ごみ搬入量内訳(海洋投入)'!V31","v":0},{"$f":"'ごみ搬入量内訳(直接資源化)'!W31+'ごみ搬入量内訳(焼却)'!W31+'ごみ搬入量内訳(粗大)'!W31+'ごみ搬入量内訳(堆肥化)'!W31+'ごみ搬入量内訳(飼料化)'!W31+'ごみ搬入量内訳(メタン化)'!W31+'ごみ搬入量内訳(燃料化)'!W31+'ごみ搬入量内訳(セメント)'!W31+'ごみ搬入量内訳(資源化等)'!W31+'ごみ搬入量内訳(その他)'!W31+'ごみ搬入量内訳(直接埋立)'!W31+'ごみ搬入量内訳(海洋投入)'!W31","v":0},{"$f":"'ごみ搬入量内訳(直接資源化)'!X31+'ごみ搬入量内訳(焼却)'!X31+'ごみ搬入量内訳(粗大)'!X31+'ごみ搬入量内訳(堆肥化)'!X31+'ごみ搬入量内訳(飼料化)'!X31+'ごみ搬入量内訳(メタン化)'!X31+'ごみ搬入量内訳(燃料化)'!X31+'ごみ搬入量内訳(セメント)'!X31+'ごみ搬入量内訳(資源化等)'!X31+'ごみ搬入量内訳(その他)'!X31+'ごみ搬入量内訳(直接埋立)'!X31+'ごみ搬入量内訳(海洋投入)'!X31","v":0},{"$f":"'ごみ搬入量内訳(直接資源化)'!Y31+'ごみ搬入量内訳(焼却)'!Y31+'ごみ搬入量内訳(粗大)'!Y31+'ごみ搬入量内訳(堆肥化)'!Y31+'ごみ搬入量内訳(飼料化)'!Y31+'ごみ搬入量内訳(メタン化)'!Y31+'ごみ搬入量内訳(燃料化)'!Y31+'ごみ搬入量内訳(セメント)'!Y31+'ごみ搬入量内訳(資源化等)'!Y31+'ごみ搬入量内訳(その他)'!Y31+'ごみ搬入量内訳(直接埋立)'!Y31+'ごみ搬入量内訳(海洋投入)'!Y31","v":0},{"$f":"'ごみ搬入量内訳(直接資源化)'!Z31+'ごみ搬入量内訳(焼却)'!Z31+'ごみ搬入量内訳(粗大)'!Z31+'ごみ搬入量内訳(堆肥化)'!Z31+'ごみ搬入量内訳(飼料化)'!Z31+'ごみ搬入量内訳(メタン化)'!Z31+'ごみ搬入量内訳(燃料化)'!Z31+'ごみ搬入量内訳(セメント)'!Z31+'ごみ搬入量内訳(資源化等)'!Z31+'ごみ搬入量内訳(その他)'!Z31+'ごみ搬入量内訳(直接埋立)'!Z31+'ごみ搬入量内訳(海洋投入)'!Z31","v":0},{"$f":"'ごみ搬入量内訳(直接資源化)'!AA31+'ごみ搬入量内訳(焼却)'!AA31+'ごみ搬入量内訳(粗大)'!AA31+'ごみ搬入量内訳(堆肥化)'!AA31+'ごみ搬入量内訳(飼料化)'!AA31+'ごみ搬入量内訳(メタン化)'!AA31+'ごみ搬入量内訳(燃料化)'!AA31+'ごみ搬入量内訳(セメント)'!AA31+'ごみ搬入量内訳(資源化等)'!AA31+'ごみ搬入量内訳(その他)'!AA31+'ごみ搬入量内訳(直接埋立)'!AA31+'ごみ搬入量内訳(海洋投入)'!AA31","v":0},{"$f":"'ごみ搬入量内訳(直接資源化)'!AB31+'ごみ搬入量内訳(焼却)'!AB31+'ごみ搬入量内訳(粗大)'!AB31+'ごみ搬入量内訳(堆肥化)'!AB31+'ごみ搬入量内訳(飼料化)'!AB31+'ごみ搬入量内訳(メタン化)'!AB31+'ごみ搬入量内訳(燃料化)'!AB31+'ごみ搬入量内訳(セメント)'!AB31+'ごみ搬入量内訳(資源化等)'!AB31+'ごみ搬入量内訳(その他)'!AB31+'ごみ搬入量内訳(直接埋立)'!AB31+'ごみ搬入量内訳(海洋投入)'!AB31","v":0},{"$f":"'ごみ搬入量内訳(直接資源化)'!AC31+'ごみ搬入量内訳(焼却)'!AC31+'ごみ搬入量内訳(粗大)'!AC31+'ごみ搬入量内訳(堆肥化)'!AC31+'ごみ搬入量内訳(飼料化)'!AC31+'ごみ搬入量内訳(メタン化)'!AC31+'ごみ搬入量内訳(燃料化)'!AC31+'ごみ搬入量内訳(セメント)'!AC31+'ごみ搬入量内訳(資源化等)'!AC31+'ごみ搬入量内訳(その他)'!AC31+'ごみ搬入量内訳(直接埋立)'!AC31+'ごみ搬入量内訳(海洋投入)'!AC31","v":0},{"$f":"'ごみ搬入量内訳(直接資源化)'!AD31+'ごみ搬入量内訳(焼却)'!AD31+'ごみ搬入量内訳(粗大)'!AD31+'ごみ搬入量内訳(堆肥化)'!AD31+'ごみ搬入量内訳(飼料化)'!AD31+'ごみ搬入量内訳(メタン化)'!AD31+'ごみ搬入量内訳(燃料化)'!AD31+'ごみ搬入量内訳(セメント)'!AD31+'ごみ搬入量内訳(資源化等)'!AD31+'ごみ搬入量内訳(その他)'!AD31+'ごみ搬入量内訳(直接埋立)'!AD31+'ごみ搬入量内訳(海洋投入)'!AD31","v":0},{"$f":"'ごみ搬入量内訳(直接資源化)'!AE31+'ごみ搬入量内訳(焼却)'!AE31+'ごみ搬入量内訳(粗大)'!AE31+'ごみ搬入量内訳(堆肥化)'!AE31+'ごみ搬入量内訳(飼料化)'!AE31+'ごみ搬入量内訳(メタン化)'!AE31+'ごみ搬入量内訳(燃料化)'!AE31+'ごみ搬入量内訳(セメント)'!AE31+'ごみ搬入量内訳(資源化等)'!AE31+'ごみ搬入量内訳(その他)'!AE31+'ごみ搬入量内訳(直接埋立)'!AE31+'ごみ搬入量内訳(海洋投入)'!AE31","v":0},{"$f":"'ごみ搬入量内訳(直接資源化)'!AF31+'ごみ搬入量内訳(焼却)'!AF31+'ごみ搬入量内訳(粗大)'!AF31+'ごみ搬入量内訳(堆肥化)'!AF31+'ごみ搬入量内訳(飼料化)'!AF31+'ごみ搬入量内訳(メタン化)'!AF31+'ごみ搬入量内訳(燃料化)'!AF31+'ごみ搬入量内訳(セメント)'!AF31+'ごみ搬入量内訳(資源化等)'!AF31+'ごみ搬入量内訳(その他)'!AF31+'ごみ搬入量内訳(直接埋立)'!AF31+'ごみ搬入量内訳(海洋投入)'!AF31","v":0},{"$f":"'ごみ搬入量内訳(直接資源化)'!AG31+'ごみ搬入量内訳(焼却)'!AG31+'ごみ搬入量内訳(粗大)'!AG31+'ごみ搬入量内訳(堆肥化)'!AG31+'ごみ搬入量内訳(飼料化)'!AG31+'ごみ搬入量内訳(メタン化)'!AG31+'ごみ搬入量内訳(燃料化)'!AG31+'ごみ搬入量内訳(セメント)'!AG31+'ごみ搬入量内訳(資源化等)'!AG31+'ごみ搬入量内訳(その他)'!AG31+'ごみ搬入量内訳(直接埋立)'!AG31+'ごみ搬入量内訳(海洋投入)'!AG31","v":0},{"$f":"'ごみ搬入量内訳(直接資源化)'!AH31+'ごみ搬入量内訳(焼却)'!AH31+'ごみ搬入量内訳(粗大)'!AH31+'ごみ搬入量内訳(堆肥化)'!AH31+'ごみ搬入量内訳(飼料化)'!AH31+'ごみ搬入量内訳(メタン化)'!AH31+'ごみ搬入量内訳(燃料化)'!AH31+'ごみ搬入量内訳(セメント)'!AH31+'ごみ搬入量内訳(資源化等)'!AH31+'ごみ搬入量内訳(その他)'!AH31+'ごみ搬入量内訳(直接埋立)'!AH31+'ごみ搬入量内訳(海洋投入)'!AH31","v":0},{"$f":"'ごみ搬入量内訳(直接資源化)'!AI31+'ごみ搬入量内訳(焼却)'!AI31+'ごみ搬入量内訳(粗大)'!AI31+'ごみ搬入量内訳(堆肥化)'!AI31+'ごみ搬入量内訳(飼料化)'!AI31+'ごみ搬入量内訳(メタン化)'!AI31+'ごみ搬入量内訳(燃料化)'!AI31+'ごみ搬入量内訳(セメント)'!AI31+'ごみ搬入量内訳(資源化等)'!AI31+'ごみ搬入量内訳(その他)'!AI31+'ごみ搬入量内訳(直接埋立)'!AI31+'ごみ搬入量内訳(海洋投入)'!AI31","v":0}]
["秋田県","05464","東成瀬村",{"$f":"SUM(E32:AI32)","v":0},{"$f":"'ごみ搬入量内訳(直接資源化)'!E32+'ごみ搬入量内訳(焼却)'!E32+'ごみ搬入量内訳(粗大)'!E32+'ごみ搬入量内訳(堆肥化)'!E32+'ごみ搬入量内訳(飼料化)'!E32+'ごみ搬入量内訳(メタン化)'!E32+'ごみ搬入量内訳(燃料化)'!E32+'ごみ搬入量内訳(セメント)'!E32+'ごみ搬入量内訳(資源化等)'!E32+'ごみ搬入量内訳(その他)'!E32+'ごみ搬入量内訳(直接埋立)'!E32+'ごみ搬入量内訳(海洋投入)'!E32","v":0},{"$f":"'ごみ搬入量内訳(直接資源化)'!F32+'ごみ搬入量内訳(焼却)'!F32+'ごみ搬入量内訳(粗大)'!F32+'ごみ搬入量内訳(堆肥化)'!F32+'ごみ搬入量内訳(飼料化)'!F32+'ごみ搬入量内訳(メタン化)'!F32+'ごみ搬入量内訳(燃料化)'!F32+'ごみ搬入量内訳(セメント)'!F32+'ごみ搬入量内訳(資源化等)'!F32+'ごみ搬入量内訳(その他)'!F32+'ごみ搬入量内訳(直接埋立)'!F32+'ごみ搬入量内訳(海洋投入)'!F32","v":0},{"$f":"'ごみ搬入量内訳(直接資源化)'!G32+'ごみ搬入量内訳(焼却)'!G32+'ごみ搬入量内訳(粗大)'!G32+'ごみ搬入量内訳(堆肥化)'!G32+'ごみ搬入量内訳(飼料化)'!G32+'ごみ搬入量内訳(メタン化)'!G32+'ごみ搬入量内訳(燃料化)'!G32+'ごみ搬入量内訳(セメント)'!G32+'ごみ搬入量内訳(資源化等)'!G32+'ごみ搬入量内訳(その他)'!G32+'ごみ搬入量内訳(直接埋立)'!G32+'ごみ搬入量内訳(海洋投入)'!G32","v":0},{"$f":"'ごみ搬入量内訳(直接資源化)'!H32+'ごみ搬入量内訳(焼却)'!H32+'ごみ搬入量内訳(粗大)'!H32+'ごみ搬入量内訳(堆肥化)'!H32+'ごみ搬入量内訳(飼料化)'!H32+'ごみ搬入量内訳(メタン化)'!H32+'ごみ搬入量内訳(燃料化)'!H32+'ごみ搬入量内訳(セメント)'!H32+'ごみ搬入量内訳(資源化等)'!H32+'ごみ搬入量内訳(その他)'!H32+'ごみ搬入量内訳(直接埋立)'!H32+'ごみ搬入量内訳(海洋投入)'!H32","v":0},{"$f":"'ごみ搬入量内訳(直接資源化)'!I32+'ごみ搬入量内訳(焼却)'!I32+'ごみ搬入量内訳(粗大)'!I32+'ごみ搬入量内訳(堆肥化)'!I32+'ごみ搬入量内訳(飼料化)'!I32+'ごみ搬入量内訳(メタン化)'!I32+'ごみ搬入量内訳(燃料化)'!I32+'ごみ搬入量内訳(セメント)'!I32+'ごみ搬入量内訳(資源化等)'!I32+'ごみ搬入量内訳(その他)'!I32+'ごみ搬入量内訳(直接埋立)'!I32+'ごみ搬入量内訳(海洋投入)'!I32","v":0},{"$f":"'ごみ搬入量内訳(直接資源化)'!J32+'ごみ搬入量内訳(焼却)'!J32+'ごみ搬入量内訳(粗大)'!J32+'ごみ搬入量内訳(堆肥化)'!J32+'ごみ搬入量内訳(飼料化)'!J32+'ごみ搬入量内訳(メタン化)'!J32+'ごみ搬入量内訳(燃料化)'!J32+'ごみ搬入量内訳(セメント)'!J32+'ごみ搬入量内訳(資源化等)'!J32+'ごみ搬入量内訳(その他)'!J32+'ごみ搬入量内訳(直接埋立)'!J32+'ごみ搬入量内訳(海洋投入)'!J32","v":0},{"$f":"'ごみ搬入量内訳(直接資源化)'!K32+'ごみ搬入量内訳(焼却)'!K32+'ごみ搬入量内訳(粗大)'!K32+'ごみ搬入量内訳(堆肥化)'!K32+'ごみ搬入量内訳(飼料化)'!K32+'ごみ搬入量内訳(メタン化)'!K32+'ごみ搬入量内訳(燃料化)'!K32+'ごみ搬入量内訳(セメント)'!K32+'ごみ搬入量内訳(資源化等)'!K32+'ごみ搬入量内訳(その他)'!K32+'ごみ搬入量内訳(直接埋立)'!K32+'ごみ搬入量内訳(海洋投入)'!K32","v":0},{"$f":"'ごみ搬入量内訳(直接資源化)'!L32+'ごみ搬入量内訳(焼却)'!L32+'ごみ搬入量内訳(粗大)'!L32+'ごみ搬入量内訳(堆肥化)'!L32+'ごみ搬入量内訳(飼料化)'!L32+'ごみ搬入量内訳(メタン化)'!L32+'ごみ搬入量内訳(燃料化)'!L32+'ごみ搬入量内訳(セメント)'!L32+'ごみ搬入量内訳(資源化等)'!L32+'ごみ搬入量内訳(その他)'!L32+'ごみ搬入量内訳(直接埋立)'!L32+'ごみ搬入量内訳(海洋投入)'!L32","v":0},{"$f":"'ごみ搬入量内訳(直接資源化)'!M32+'ごみ搬入量内訳(焼却)'!M32+'ごみ搬入量内訳(粗大)'!M32+'ごみ搬入量内訳(堆肥化)'!M32+'ごみ搬入量内訳(飼料化)'!M32+'ごみ搬入量内訳(メタン化)'!M32+'ごみ搬入量内訳(燃料化)'!M32+'ごみ搬入量内訳(セメント)'!M32+'ごみ搬入量内訳(資源化等)'!M32+'ごみ搬入量内訳(その他)'!M32+'ごみ搬入量内訳(直接埋立)'!M32+'ごみ搬入量内訳(海洋投入)'!M32","v":0},{"$f":"'ごみ搬入量内訳(直接資源化)'!N32+'ごみ搬入量内訳(焼却)'!N32+'ごみ搬入量内訳(粗大)'!N32+'ごみ搬入量内訳(堆肥化)'!N32+'ごみ搬入量内訳(飼料化)'!N32+'ごみ搬入量内訳(メタン化)'!N32+'ごみ搬入量内訳(燃料化)'!N32+'ごみ搬入量内訳(セメント)'!N32+'ごみ搬入量内訳(資源化等)'!N32+'ごみ搬入量内訳(その他)'!N32+'ごみ搬入量内訳(直接埋立)'!N32+'ごみ搬入量内訳(海洋投入)'!N32","v":0},{"$f":"'ごみ搬入量内訳(直接資源化)'!O32+'ごみ搬入量内訳(焼却)'!O32+'ごみ搬入量内訳(粗大)'!O32+'ごみ搬入量内訳(堆肥化)'!O32+'ごみ搬入量内訳(飼料化)'!O32+'ごみ搬入量内訳(メタン化)'!O32+'ごみ搬入量内訳(燃料化)'!O32+'ごみ搬入量内訳(セメント)'!O32+'ごみ搬入量内訳(資源化等)'!O32+'ごみ搬入量内訳(その他)'!O32+'ごみ搬入量内訳(直接埋立)'!O32+'ごみ搬入量内訳(海洋投入)'!O32","v":0},{"$f":"'ごみ搬入量内訳(直接資源化)'!P32+'ごみ搬入量内訳(焼却)'!P32+'ごみ搬入量内訳(粗大)'!P32+'ごみ搬入量内訳(堆肥化)'!P32+'ごみ搬入量内訳(飼料化)'!P32+'ごみ搬入量内訳(メタン化)'!P32+'ごみ搬入量内訳(燃料化)'!P32+'ごみ搬入量内訳(セメント)'!P32+'ごみ搬入量内訳(資源化等)'!P32+'ごみ搬入量内訳(その他)'!P32+'ごみ搬入量内訳(直接埋立)'!P32+'ごみ搬入量内訳(海洋投入)'!P32","v":0},{"$f":"'ごみ搬入量内訳(直接資源化)'!Q32+'ごみ搬入量内訳(焼却)'!Q32+'ごみ搬入量内訳(粗大)'!Q32+'ごみ搬入量内訳(堆肥化)'!Q32+'ごみ搬入量内訳(飼料化)'!Q32+'ごみ搬入量内訳(メタン化)'!Q32+'ごみ搬入量内訳(燃料化)'!Q32+'ごみ搬入量内訳(セメント)'!Q32+'ごみ搬入量内訳(資源化等)'!Q32+'ごみ搬入量内訳(その他)'!Q32+'ごみ搬入量内訳(直接埋立)'!Q32+'ごみ搬入量内訳(海洋投入)'!Q32","v":0},{"$f":"'ごみ搬入量内訳(直接資源化)'!R32+'ごみ搬入量内訳(焼却)'!R32+'ごみ搬入量内訳(粗大)'!R32+'ごみ搬入量内訳(堆肥化)'!R32+'ごみ搬入量内訳(飼料化)'!R32+'ごみ搬入量内訳(メタン化)'!R32+'ごみ搬入量内訳(燃料化)'!R32+'ごみ搬入量内訳(セメント)'!R32+'ごみ搬入量内訳(資源化等)'!R32+'ごみ搬入量内訳(その他)'!R32+'ごみ搬入量内訳(直接埋立)'!R32+'ごみ搬入量内訳(海洋投入)'!R32","v":0},{"$f":"'ごみ搬入量内訳(直接資源化)'!S32+'ごみ搬入量内訳(焼却)'!S32+'ごみ搬入量内訳(粗大)'!S32+'ごみ搬入量内訳(堆肥化)'!S32+'ごみ搬入量内訳(飼料化)'!S32+'ごみ搬入量内訳(メタン化)'!S32+'ごみ搬入量内訳(燃料化)'!S32+'ごみ搬入量内訳(セメント)'!S32+'ごみ搬入量内訳(資源化等)'!S32+'ごみ搬入量内訳(その他)'!S32+'ごみ搬入量内訳(直接埋立)'!S32+'ごみ搬入量内訳(海洋投入)'!S32","v":0},{"$f":"'ごみ搬入量内訳(直接資源化)'!T32+'ごみ搬入量内訳(焼却)'!T32+'ごみ搬入量内訳(粗大)'!T32+'ごみ搬入量内訳(堆肥化)'!T32+'ごみ搬入量内訳(飼料化)'!T32+'ごみ搬入量内訳(メタン化)'!T32+'ごみ搬入量内訳(燃料化)'!T32+'ごみ搬入量内訳(セメント)'!T32+'ごみ搬入量内訳(資源化等)'!T32+'ごみ搬入量内訳(その他)'!T32+'ごみ搬入量内訳(直接埋立)'!T32+'ごみ搬入量内訳(海洋投入)'!T32","v":0},{"$f":"'ごみ搬入量内訳(直接資源化)'!U32+'ごみ搬入量内訳(焼却)'!U32+'ごみ搬入量内訳(粗大)'!U32+'ごみ搬入量内訳(堆肥化)'!U32+'ごみ搬入量内訳(飼料化)'!U32+'ごみ搬入量内訳(メタン化)'!U32+'ごみ搬入量内訳(燃料化)'!U32+'ごみ搬入量内訳(セメント)'!U32+'ごみ搬入量内訳(資源化等)'!U32+'ごみ搬入量内訳(その他)'!U32+'ごみ搬入量内訳(直接埋立)'!U32+'ごみ搬入量内訳(海洋投入)'!U32","v":0},{"$f":"'ごみ搬入量内訳(直接資源化)'!V32+'ごみ搬入量内訳(焼却)'!V32+'ごみ搬入量内訳(粗大)'!V32+'ごみ搬入量内訳(堆肥化)'!V32+'ごみ搬入量内訳(飼料化)'!V32+'ごみ搬入量内訳(メタン化)'!V32+'ごみ搬入量内訳(燃料化)'!V32+'ごみ搬入量内訳(セメント)'!V32+'ごみ搬入量内訳(資源化等)'!V32+'ごみ搬入量内訳(その他)'!V32+'ごみ搬入量内訳(直接埋立)'!V32+'ごみ搬入量内訳(海洋投入)'!V32","v":0},{"$f":"'ごみ搬入量内訳(直接資源化)'!W32+'ごみ搬入量内訳(焼却)'!W32+'ごみ搬入量内訳(粗大)'!W32+'ごみ搬入量内訳(堆肥化)'!W32+'ごみ搬入量内訳(飼料化)'!W32+'ごみ搬入量内訳(メタン化)'!W32+'ごみ搬入量内訳(燃料化)'!W32+'ごみ搬入量内訳(セメント)'!W32+'ごみ搬入量内訳(資源化等)'!W32+'ごみ搬入量内訳(その他)'!W32+'ごみ搬入量内訳(直接埋立)'!W32+'ごみ搬入量内訳(海洋投入)'!W32","v":0},{"$f":"'ごみ搬入量内訳(直接資源化)'!X32+'ごみ搬入量内訳(焼却)'!X32+'ごみ搬入量内訳(粗大)'!X32+'ごみ搬入量内訳(堆肥化)'!X32+'ごみ搬入量内訳(飼料化)'!X32+'ごみ搬入量内訳(メタン化)'!X32+'ごみ搬入量内訳(燃料化)'!X32+'ごみ搬入量内訳(セメント)'!X32+'ごみ搬入量内訳(資源化等)'!X32+'ごみ搬入量内訳(その他)'!X32+'ごみ搬入量内訳(直接埋立)'!X32+'ごみ搬入量内訳(海洋投入)'!X32","v":0},{"$f":"'ごみ搬入量内訳(直接資源化)'!Y32+'ごみ搬入量内訳(焼却)'!Y32+'ごみ搬入量内訳(粗大)'!Y32+'ごみ搬入量内訳(堆肥化)'!Y32+'ごみ搬入量内訳(飼料化)'!Y32+'ごみ搬入量内訳(メタン化)'!Y32+'ごみ搬入量内訳(燃料化)'!Y32+'ごみ搬入量内訳(セメント)'!Y32+'ごみ搬入量内訳(資源化等)'!Y32+'ごみ搬入量内訳(その他)'!Y32+'ごみ搬入量内訳(直接埋立)'!Y32+'ごみ搬入量内訳(海洋投入)'!Y32","v":0},{"$f":"'ごみ搬入量内訳(直接資源化)'!Z32+'ごみ搬入量内訳(焼却)'!Z32+'ごみ搬入量内訳(粗大)'!Z32+'ごみ搬入量内訳(堆肥化)'!Z32+'ごみ搬入量内訳(飼料化)'!Z32+'ごみ搬入量内訳(メタン化)'!Z32+'ごみ搬入量内訳(燃料化)'!Z32+'ごみ搬入量内訳(セメント)'!Z32+'ごみ搬入量内訳(資源化等)'!Z32+'ごみ搬入量内訳(その他)'!Z32+'ごみ搬入量内訳(直接埋立)'!Z32+'ごみ搬入量内訳(海洋投入)'!Z32","v":0},{"$f":"'ごみ搬入量内訳(直接資源化)'!AA32+'ごみ搬入量内訳(焼却)'!AA32+'ごみ搬入量内訳(粗大)'!AA32+'ごみ搬入量内訳(堆肥化)'!AA32+'ごみ搬入量内訳(飼料化)'!AA32+'ごみ搬入量内訳(メタン化)'!AA32+'ごみ搬入量内訳(燃料化)'!AA32+'ごみ搬入量内訳(セメント)'!AA32+'ごみ搬入量内訳(資源化等)'!AA32+'ごみ搬入量内訳(その他)'!AA32+'ごみ搬入量内訳(直接埋立)'!AA32+'ごみ搬入量内訳(海洋投入)'!AA32","v":0},{"$f":"'ごみ搬入量内訳(直接資源化)'!AB32+'ごみ搬入量内訳(焼却)'!AB32+'ごみ搬入量内訳(粗大)'!AB32+'ごみ搬入量内訳(堆肥化)'!AB32+'ごみ搬入量内訳(飼料化)'!AB32+'ごみ搬入量内訳(メタン化)'!AB32+'ごみ搬入量内訳(燃料化)'!AB32+'ごみ搬入量内訳(セメント)'!AB32+'ごみ搬入量内訳(資源化等)'!AB32+'ごみ搬入量内訳(その他)'!AB32+'ごみ搬入量内訳(直接埋立)'!AB32+'ごみ搬入量内訳(海洋投入)'!AB32","v":0},{"$f":"'ごみ搬入量内訳(直接資源化)'!AC32+'ごみ搬入量内訳(焼却)'!AC32+'ごみ搬入量内訳(粗大)'!AC32+'ごみ搬入量内訳(堆肥化)'!AC32+'ごみ搬入量内訳(飼料化)'!AC32+'ごみ搬入量内訳(メタン化)'!AC32+'ごみ搬入量内訳(燃料化)'!AC32+'ごみ搬入量内訳(セメント)'!AC32+'ごみ搬入量内訳(資源化等)'!AC32+'ごみ搬入量内訳(その他)'!AC32+'ごみ搬入量内訳(直接埋立)'!AC32+'ごみ搬入量内訳(海洋投入)'!AC32","v":0},{"$f":"'ごみ搬入量内訳(直接資源化)'!AD32+'ごみ搬入量内訳(焼却)'!AD32+'ごみ搬入量内訳(粗大)'!AD32+'ごみ搬入量内訳(堆肥化)'!AD32+'ごみ搬入量内訳(飼料化)'!AD32+'ごみ搬入量内訳(メタン化)'!AD32+'ごみ搬入量内訳(燃料化)'!AD32+'ごみ搬入量内訳(セメント)'!AD32+'ごみ搬入量内訳(資源化等)'!AD32+'ごみ搬入量内訳(その他)'!AD32+'ごみ搬入量内訳(直接埋立)'!AD32+'ごみ搬入量内訳(海洋投入)'!AD32","v":0},{"$f":"'ごみ搬入量内訳(直接資源化)'!AE32+'ごみ搬入量内訳(焼却)'!AE32+'ごみ搬入量内訳(粗大)'!AE32+'ごみ搬入量内訳(堆肥化)'!AE32+'ごみ搬入量内訳(飼料化)'!AE32+'ごみ搬入量内訳(メタン化)'!AE32+'ごみ搬入量内訳(燃料化)'!AE32+'ごみ搬入量内訳(セメント)'!AE32+'ごみ搬入量内訳(資源化等)'!AE32+'ごみ搬入量内訳(その他)'!AE32+'ごみ搬入量内訳(直接埋立)'!AE32+'ごみ搬入量内訳(海洋投入)'!AE32","v":0},{"$f":"'ごみ搬入量内訳(直接資源化)'!AF32+'ごみ搬入量内訳(焼却)'!AF32+'ごみ搬入量内訳(粗大)'!AF32+'ごみ搬入量内訳(堆肥化)'!AF32+'ごみ搬入量内訳(飼料化)'!AF32+'ごみ搬入量内訳(メタン化)'!AF32+'ごみ搬入量内訳(燃料化)'!AF32+'ごみ搬入量内訳(セメント)'!AF32+'ごみ搬入量内訳(資源化等)'!AF32+'ごみ搬入量内訳(その他)'!AF32+'ごみ搬入量内訳(直接埋立)'!AF32+'ごみ搬入量内訳(海洋投入)'!AF32","v":0},{"$f":"'ごみ搬入量内訳(直接資源化)'!AG32+'ごみ搬入量内訳(焼却)'!AG32+'ごみ搬入量内訳(粗大)'!AG32+'ごみ搬入量内訳(堆肥化)'!AG32+'ごみ搬入量内訳(飼料化)'!AG32+'ごみ搬入量内訳(メタン化)'!AG32+'ごみ搬入量内訳(燃料化)'!AG32+'ごみ搬入量内訳(セメント)'!AG32+'ごみ搬入量内訳(資源化等)'!AG32+'ごみ搬入量内訳(その他)'!AG32+'ごみ搬入量内訳(直接埋立)'!AG32+'ごみ搬入量内訳(海洋投入)'!AG32","v":0},{"$f":"'ごみ搬入量内訳(直接資源化)'!AH32+'ごみ搬入量内訳(焼却)'!AH32+'ごみ搬入量内訳(粗大)'!AH32+'ごみ搬入量内訳(堆肥化)'!AH32+'ごみ搬入量内訳(飼料化)'!AH32+'ごみ搬入量内訳(メタン化)'!AH32+'ごみ搬入量内訳(燃料化)'!AH32+'ごみ搬入量内訳(セメント)'!AH32+'ごみ搬入量内訳(資源化等)'!AH32+'ごみ搬入量内訳(その他)'!AH32+'ごみ搬入量内訳(直接埋立)'!AH32+'ごみ搬入量内訳(海洋投入)'!AH32","v":0},{"$f":"'ごみ搬入量内訳(直接資源化)'!AI32+'ごみ搬入量内訳(焼却)'!AI32+'ごみ搬入量内訳(粗大)'!AI32+'ごみ搬入量内訳(堆肥化)'!AI32+'ごみ搬入量内訳(飼料化)'!AI32+'ごみ搬入量内訳(メタン化)'!AI32+'ごみ搬入量内訳(燃料化)'!AI32+'ごみ搬入量内訳(セメント)'!AI32+'ごみ搬入量内訳(資源化等)'!AI32+'ごみ搬入量内訳(その他)'!AI32+'ごみ搬入量内訳(直接埋立)'!AI32+'ごみ搬入量内訳(海洋投入)'!AI32","v":0}]

{"sheet":"ごみ搬入量内訳(直接資源化)","index":2,"n_rows":32,"n_cols":35,"rows_kept":32,"merged":[[1,0,5,0],[1,1,5,1],[1,2,5,2],[2,3,4,3],[2,4,4,4],[2,5,4,5],[2,6,4,6],[2,7,4,7],[2,8,4,8],[2,9,4,9],[2,10,4,10],[2,11,4,11],[2,12,4,12],[2,13,4,13],[2,14,4,14],[2,15,4,15],[2,16,4,16],[2,17,4,17],[2,18,4,18],[2,19,4,19],[2,20,4,20],[2,21,4,21],[2,22,4,22],[2,23,4,23],[2,24,4,24],[2,25,4,25],[2,26,4,26],[2,27,4,27],[2,28,4,28],[2,29,4,29],[2,30,4,30],[2,31,4,31],[2,33,4,33],[2,34,4,34]]}
["【災害】処理施設別ごみ搬入量の状況（令和3年度実績）"]
["都道府県名","地方公共団体コード","市区町村名","直接資源化"]
[{"$nulls":3},"合計","木くず","金属くず","コンクリートがら","その他がれき類","石綿含有廃棄物等","ＰＣＢ廃棄物","その他有害物、危険物","混合ごみ","可燃ごみ","不燃ごみ","資源ごみ","粗大ごみ","家電４品目","パソコン","自動車","ＦＲＰ船","鋼船","その他船舶","畳","漁網","タイヤ","その他家電","消火器","ガスボンベ","土石類","津波堆積物","その他","冷凍・冷蔵庫保管物\n（海洋投入）",null,"漂着ごみ","除染廃棄物"]
[{"$nulls":32},"石膏ボード"]
[]
[{"$nulls":3},"（ｔ）","（ｔ）","（ｔ）","（ｔ）","（ｔ）","（ｔ）","（ｔ）","（ｔ）","（ｔ）","（ｔ）","（ｔ）","（ｔ）","（ｔ）","（ｔ）","（ｔ）","（ｔ）","（ｔ）","（ｔ）","（ｔ）","（ｔ）","（ｔ）","（ｔ）","（ｔ）","（ｔ）","（ｔ）","（ｔ）","（ｔ）","（ｔ）","（ｔ）","（ｔ）","（ｔ）","（ｔ）"]
["秋田県","05000","合計",{"$f":"SUM($D$8:$D$32)","v":0},{"$f":"SUM($E$8:$E$32)","v":0},{"$f":"SUM($F$8:$F$32)","v":0},{"$f":"SUM($G$8:$G$32)","v":0},{"$f":"SUM($H$8:$H$32)","v":0},{"$f":"SUM($I$8:$I$32)","v":0},{"$f":"SUM($J$8:$J$32)","v":0},{"$f":"SUM($K$8:$K$32)","v":0},{"$f":"SUM($L$8:$L$32)","v":0},{"$f":"SUM($M$8:$M$32)","v":0},{"$f":"SUM($N$8:$N$32)","v":0},{"$f":"SUM($O$8:$O$32)","v":0},{"$f":"SUM($P$8:$P$32)","v":0},{"$f":"SUM($Q$8:$Q$32)","v":0},{"$f":"SUM($R$8:$R$32)","v":0},{"$f":"SUM($S$8:$S$32)","v":0},{"$f":"SUM($T$8:$T$32)","v":0},{"$f":"SUM($U$8:$U$32)","v":0},{"$f":"SUM($V$8:$V$32)","v":0},{"$f":"SUM($W$8:$W$32)","v":0},{"$f":"SUM($X$8:$X$32)","v":0},{"$f":"SUM($Y$8:$Y$32)","v":0},{"$f":"SUM($Z$8:$Z$32)","v":0},{"$f":"SUM($AA$8:$AA$32)","v":0},{"$f":"SUM($AB$8:$AB$32)","v":0},{"$f":"SUM($AC$8:$AC$32)","v":0},{"$f":"SUM($AD$8:$AD$32)","v":0},{"$f":"SUM($AE$8:$AE$32)","v":0},{"$f":"SUM($AF$8:$AF$32)","v":0},{"$f":"SUM($AG$8:$AG$32)","v":0},{"$f":"SUM($AH$8:$AH$32)","v":0},{"$f":"SUM($AI$8:$AI$32)","v":0}]
["秋田県","05201","秋田市",{"$f":"SUM(E8:AI8)","v":0},0,0,0,0,0,0,0,0,0,0,0,0,0,0,0,0,0,0,0,0,0,0,0,0,0,0,0,0,0,0,0]
["秋田県","05202","能代市",{"$f":"SUM(E9:AI9)","v":0},0,0,0,0,0,0,0,0,0,0,0,0,0,0,0,0,0,0,0,0,0,0,0,0,0,0,0,0,0,0,0]
["秋田県","05203","横手市",{"$f":"SUM(E10:AI10)","v":0},0,0,0,0,0,0,0,0,0,0,0,0,0,0,0,0,0,0,0,0,0,0,0,0,0,0,0,0,0,0,0]
["秋田県","05204","大館市",{"$f":"SUM(E11:AI11)","v":0},0,0,0,0,0,0,0,0,0,0,0,0,0,0,0,0,0,0,0,0,0,0,0,0,0,0,0,0,0,0,0]
["秋田県","05206","男鹿市",{"$f":"SUM(E12:AI12)","v":0},0,0,0,0,0,0,0,0,0,0,0,0,0,0,0,0,0,0,0,0,0,0,0,0,0,0,0,0,0,0,0]
["秋田県","05207","湯沢市",{"$f":"SUM(E13:AI13)","v":0},0,0,0,0,0,0,0,0,0,0,0,0,0,0,0,0,0,0,0,0,0,0,0,0,0,0,0,0,0,0,0]
["秋田県","05209","鹿角市",{"$f":"SUM(E14:AI14)","v":0},0,0,0,0,0,0,0,0,0,0,0,0,0,0,0,0,0,0,0,0,0,0,0,0,0,0,0,0,0,0,0]
["秋田県","05210","由利本荘市",{"$f":"SUM(E15:AI15)","v":0},0,0,0,0,0,0,0,0,0,0,0,0,0,0,0,0,0,0,0,0,0,0,0,0,0,0,0,0,0,0,0]
["秋田県","05211","潟上市",{"$f":"SUM(E16:AI16)","v":0},0,0,0,0,0,0,0,0,0,0,0,0,0,0,0,0,0,0,0,0,0,0,0,0,0,0,0,0,0,0,0]
["秋田県","05212","大仙市",{"$f":"SUM(E17:AI17)","v":0},0,0,0,0,0,0,0,0,0,0,0,0,0,0,0,0,0,0,0,0,0,0,0,0,0,0,0,0,0,0,0]
["秋田県","05213","北秋田市",{"$f":"SUM(E18:AI18)","v":0},0,0,0,0,0,0,0,0,0,0,0,0,0,0,0,0,0,0,0,0,0,0,0,0,0,0,0,0,0,0,0]
["秋田県","05214","にかほ市",{"$f":"SUM(E19:AI19)","v":0},0,0,0,0,0,0,0,0,0,0,0,0,0,0,0,0,0,0,0,0,0,0,0,0,0,0,0,0,0,0,0]
["秋田県","05215","仙北市",{"$f":"SUM(E20:AI20)","v":0},0,0,0,0,0,0,0,0,0,0,0,0,0,0,0,0,0,0,0,0,0,0,0,0,0,0,0,0,0,0,0]
["秋田県","05303","小坂町",{"$f":"SUM(E21:AI21)","v":0},0,0,0,0,0,0,0,0,0,0,0,0,0,0,0,0,0,0,0,0,0,0,0,0,0,0,0,0,0,0,0]
["秋田県","05327","上小阿仁村",{"$f":"SUM(E22:AI22)","v":0},0,0,0,0,0,0,0,0,0,0,0,0,0,0,0,0,0,0,0,0,0,0,0,0,0,0,0,0,0,0,0]
["秋田県","05346","藤里町",{"$f":"SUM(E23:AI23)","v":0},0,0,0,0,0,0,0,0,0,0,0,0,0,0,0,0,0,0,0,0,0,0,0,0,0,0,0,0,0,0,0]
["秋田県","05348","三種町",{"$f":"SUM(E24:AI24)","v":0},0,0,0,0,0,0,0,0,0,0,0,0,0,0,0,0,0,0,0,0,0,0,0,0,0,0,0,0,0,0,0]
["秋田県","05349","八峰町",{"$f":"SUM(E25:AI25)","v":0},0,0,0,0,0,0,0,0,0,0,0,0,0,0,0,0,0,0,0,0,0,0,0,0,0,0,0,0,0,0,0]
["秋田県","05361","五城目町",{"$f":"SUM(E26:AI26)","v":0},0,0,0,0,0,0,0,0,0,0,0,0,0,0,0,0,0,0,0,0,0,0,0,0,0,0,0,0,0,0,0]
["秋田県","05363","八郎潟町",{"$f":"SUM(E27:AI27)","v":0},0,0,0,0,0,0,0,0,0,0,0,0,0,0,0,0,0,0,0,0,0,0,0,0,0,0,0,0,0,0,0]
["秋田県","05366","井川町",{"$f":"SUM(E28:AI28)","v":0},0,0,0,0,0,0,0,0,0,0,0,0,0,0,0,0,0,0,0,0,0,0,0,0,0,0,0,0,0,0,0]
["秋田県","05368","大潟村",{"$f":"SUM(E29:AI29)","v":0},0,0,0,0,0,0,0,0,0,0,0,0,0,0,0,0,0,0,0,0,0,0,0,0,0,0,0,0,0,0,0]
["秋田県","05434","美郷町",{"$f":"SUM(E30:AI30)","v":0},0,0,0,0,0,0,0,0,0,0,0,0,0,0,0,0,0,0,0,0,0,0,0,0,0,0,0,0,0,0,0]
["秋田県","05463","羽後町",{"$f":"SUM(E31:AI31)","v":0},0,0,0,0,0,0,0,0,0,0,0,0,0,0,0,0,0,0,0,0,0,0,0,0,0,0,0,0,0,0,0]
["秋田県","05464","東成瀬村",{"$f":"SUM(E32:AI32)","v":0},0,0,0,0,0,0,0,0,0,0,0,0,0,0,0,0,0,0,0,0,0,0,0,0,0,0,0,0,0,0,0]

{"sheet":"ごみ搬入量内訳(焼却)","index":3,"n_rows":32,"n_cols":35,"rows_kept":32,"merged":[[1,0,5,0],[1,1,5,1],[1,2,5,2],[2,3,4,3],[2,4,4,4],[2,5,4,5],[2,6,4,6],[2,7,4,7],[2,8,4,8],[2,9,4,9],[2,10,4,10],[2,11,4,11],[2,12,4,12],[2,13,4,13],[2,14,4,14],[2,15,4,15],[2,16,4,16],[2,17,4,17],[2,18,4,18],[2,19,4,19],[2,20,4,20],[2,21,4,21],[2,22,4,22],[2,23,4,23],[2,24,4,24],[2,25,4,25],[2,26,4,26],[2,27,4,27],[2,28,4,28],[2,29,4,29],[2,30,4,30],[2,31,4,31],[2,33,4,33],[2,34,4,34]]}
["【災害】処理施設別ごみ搬入量の状況（令和3年度実績）"]
["都道府県名","地方公共団体コード","市区町村名","焼却施設（溶融・炭化含む）"]
[{"$nulls":3},"合計","木くず","金属くず","コンクリートがら","その他がれき類","石綿含有廃棄物等","ＰＣＢ廃棄物","その他有害物、危険物","混合ごみ","可燃ごみ","不燃ごみ","資源ごみ","粗大ごみ","家電４品目","パソコン","自動車","ＦＲＰ船","鋼船","その他船舶","畳","漁網","タイヤ","その他家電","消火器","ガスボンベ","土石類","津波堆積物","その他","冷凍・冷蔵庫保管物\n（海洋投入）",null,"漂着ごみ","除染廃棄物"]
[{"$nulls":32},"石膏ボード"]
[]
[{"$nulls":3},"（ｔ）","（ｔ）","（ｔ）","（ｔ）","（ｔ）","（ｔ）","（ｔ）","（ｔ）","（ｔ）","（ｔ）","（ｔ）","（ｔ）","（ｔ）","（ｔ）","（ｔ）","（ｔ）","（ｔ）","（ｔ）","（ｔ）","（ｔ）","（ｔ）","（ｔ）","（ｔ）","（ｔ）","（ｔ）","（ｔ）","（ｔ）","（ｔ）","（ｔ）","（ｔ）","（ｔ）","（ｔ）"]
["秋田県","05000","合計",{"$f":"SUM($D$8:$D$32)","v":0},{"$f":"SUM($E$8:$E$32)","v":0},{"$f":"SUM($F$8:$F$32)","v":0},{"$f":"SUM($G$8:$G$32)","v":0},{"$f":"SUM($H$8:$H$32)","v":0},{"$f":"SUM($I$8:$I$32)","v":0},{"$f":"SUM($J$8:$J$32)","v":0},{"$f":"SUM($K$8:$K$32)","v":0},{"$f":"SUM($L$8:$L$32)","v":0},{"$f":"SUM($M$8:$M$32)","v":0},{"$f":"SUM($N$8:$N$32)","v":0},{"$f":"SUM($O$8:$O$32)","v":0},{"$f":"SUM($P$8:$P$32)","v":0},{"$f":"SUM($Q$8:$Q$32)","v":0},{"$f":"SUM($R$8:$R$32)","v":0},{"$f":"SUM($S$8:$S$32)","v":0},{"$f":"SUM($T$8:$T$32)","v":0},{"$f":"SUM($U$8:$U$32)","v":0},{"$f":"SUM($V$8:$V$32)","v":0},{"$f":"SUM($W$8:$W$32)","v":0},{"$f":"SUM($X$8:$X$32)","v":0},{"$f":"SUM($Y$8:$Y$32)","v":0},{"$f":"SUM($Z$8:$Z$32)","v":0},{"$f":"SUM($AA$8:$AA$32)","v":0},{"$f":"SUM($AB$8:$AB$32)","v":0},{"$f":"SUM($AC$8:$AC$32)","v":0},{"$f":"SUM($AD$8:$AD$32)","v":0},{"$f":"SUM($AE$8:$AE$32)","v":0},{"$f":"SUM($AF$8:$AF$32)","v":0},{"$f":"SUM($AG$8:$AG$32)","v":0},{"$f":"SUM($AH$8:$AH$32)","v":0},{"$f":"SUM($AI$8:$AI$32)","v":0}]
["秋田県","05201","秋田市",{"$f":"SUM(E8:AI8)","v":0},0,0,0,0,0,0,0,0,0,0,0,0,0,0,0,0,0,0,0,0,0,0,0,0,0,0,0,0,0,0,0]
["秋田県","05202","能代市",{"$f":"SUM(E9:AI9)","v":0},0,0,0,0,0,0,0,0,0,0,0,0,0,0,0,0,0,0,0,0,0,0,0,0,0,0,0,0,0,0,0]
["秋田県","05203","横手市",{"$f":"SUM(E10:AI10)","v":0},0,0,0,0,0,0,0,0,0,0,0,0,0,0,0,0,0,0,0,0,0,0,0,0,0,0,0,0,0,0,0]
["秋田県","05204","大館市",{"$f":"SUM(E11:AI11)","v":0},0,0,0,0,0,0,0,0,0,0,0,0,0,0,0,0,0,0,0,0,0,0,0,0,0,0,0,0,0,0,0]
["秋田県","05206","男鹿市",{"$f":"SUM(E12:AI12)","v":0},0,0,0,0,0,0,0,0,0,0,0,0,0,0,0,0,0,0,0,0,0,0,0,0,0,0,0,0,0,0,0]
["秋田県","05207","湯沢市",{"$f":"SUM(E13:AI13)","v":0},0,0,0,0,0,0,0,0,0,0,0,0,0,0,0,0,0,0,0,0,0,0,0,0,0,0,0,0,0,0,0]
["秋田県","05209","鹿角市",{"$f":"SUM(E14:AI14)","v":0},0,0,0,0,0,0,0,0,0,0,0,0,0,0,0,0,0,0,0,0,0,0,0,0,0,0,0,0,0,0,0]
["秋田県","05210","由利本荘市",{"$f":"SUM(E15:AI15)","v":0},0,0,0,0,0,0,0,0,0,0,0,0,0,0,0,0,0,0,0,0,0,0,0,0,0,0,0,0,0,0,0]
["秋田県","05211","潟上市",{"$f":"SUM(E16:AI16)","v":0},0,0,0,0,0,0,0,0,0,0,0,0,0,0,0,0,0,0,0,0,0,0,0,0,0,0,0,0,0,0,0]
["秋田県","05212","大仙市",{"$f":"SUM(E17:AI17)","v":0},0,0,0,0,0,0,0,0,0,0,0,0,0,0,0,0,0,0,0,0,0,0,0,0,0,0,0,0,0,0,0]
["秋田県","05213","北秋田市",{"$f":"SUM(E18:AI18)","v":0},0,0,0,0,0,0,0,0,0,0,0,0,0,0,0,0,0,0,0,0,0,0,0,0,0,0,0,0,0,0,0]
["秋田県","05214","にかほ市",{"$f":"SUM(E19:AI19)","v":0},0,0,0,0,0,0,0,0,0,0,0,0,0,0,0,0,0,0,0,0,0,0,0,0,0,0,0,0,0,0,0]
["秋田県","05215","仙北市",{"$f":"SUM(E20:AI20)","v":0},0,0,0,0,0,0,0,0,0,0,0,0,0,0,0,0,0,0,0,0,0,0,0,0,0,0,0,0,0,0,0]
["秋田県","05303","小坂町",{"$f":"SUM(E21:AI21)","v":0},0,0,0,0,0,0,0,0,0,0,0,0,0,0,0,0,0,0,0,0,0,0,0,0,0,0,0,0,0,0,0]
["秋田県","05327","上小阿仁村",{"$f":"SUM(E22:AI22)","v":0},0,0,0,0,0,0,0,0,0,0,0,0,0,0,0,0,0,0,0,0,0,0,0,0,0,0,0,0,0,0,0]
["秋田県","05346","藤里町",{"$f":"SUM(E23:AI23)","v":0},0,0,0,0,0,0,0,0,0,0,0,0,0,0,0,0,0,0,0,0,0,0,0,0,0,0,0,0,0,0,0]
["秋田県","05348","三種町",{"$f":"SUM(E24:AI24)","v":0},0,0,0,0,0,0,0,0,0,0,0,0,0,0,0,0,0,0,0,0,0,0,0,0,0,0,0,0,0,0,0]
["秋田県","05349","八峰町",{"$f":"SUM(E25:AI25)","v":0},0,0,0,0,0,0,0,0,0,0,0,0,0,0,0,0,0,0,0,0,0,0,0,0,0,0,0,0,0,0,0]
["秋田県","05361","五城目町",{"$f":"SUM(E26:AI26)","v":0},0,0,0,0,0,0,0,0,0,0,0,0,0,0,0,0,0,0,0,0,0,0,0,0,0,0,0,0,0,0,0]
["秋田県","05363","八郎潟町",{"$f":"SUM(E27:AI27)","v":0},0,0,0,0,0,0,0,0,0,0,0,0,0,0,0,0,0,0,0,0,0,0,0,0,0,0,0,0,0,0,0]
["秋田県","05366","井川町",{"$f":"SUM(E28:AI28)","v":0},0,0,0,0,0,0,0,0,0,0,0,0,0,0,0,0,0,0,0,0,0,0,0,0,0,0,0,0,0,0,0]
["秋田県","05368","大潟村",{"$f":"SUM(E29:AI29)","v":0},0,0,0,0,0,0,0,0,0,0,0,0,0,0,0,0,0,0,0,0,0,0,0,0,0,0,0,0,0,0,0]
["秋田県","05434","美郷町",{"$f":"SUM(E30:AI30)","v":0},0,0,0,0,0,0,0,0,0,0,0,0,0,0,0,0,0,0,0,0,0,0,0,0,0,0,0,0,0,0,0]
["秋田県","05463","羽後町",{"$f":"SUM(E31:AI31)","v":0},0,0,0,0,0,0,0,0,0,0,0,0,0,0,0,0,0,0,0,0,0,0,0,0,0,0,0,0,0,0,0]
["秋田県","05464","東成瀬村",{"$f":"SUM(E32:AI32)","v":0},0,0,0,0,0,0,0,0,0,0,0,0,0,0,0,0,0,0,0,0,0,0,0,0,0,0,0,0,0,0,0]

{"sheet":"ごみ搬入量内訳(粗大)","index":4,"n_rows":32,"n_cols":35,"rows_kept":32,"merged":[[1,0,5,0],[1,1,5,1],[1,2,5,2],[2,3,4,3],[2,4,4,4],[2,5,4,5],[2,6,4,6],[2,7,4,7],[2,8,4,8],[2,9,4,9],[2,10,4,10],[2,11,4,11],[2,12,4,12],[2,13,4,13],[2,14,4,14],[2,15,4,15],[2,16,4,16],[2,17,4,17],[2,18,4,18],[2,19,4,19],[2,20,4,20],[2,21,4,21],[2,22,4,22],[2,23,4,23],[2,24,4,24],[2,25,4,25],[2,26,4,26],[2,27,4,27],[2,28,4,28],[2,29,4,29],[2,30,4,30],[2,31,4,31],[2,33,4,33],[2,34,4,34]]}
["【災害】処理施設別ごみ搬入量の状況（令和3年度実績）"]
["都道府県名","地方公共団体コード","市区町村名","粗大ごみ処理施設"]
[{"$nulls":3},"合計","木くず","金属くず","コンクリートがら","その他がれき類","石綿含有廃棄物等","ＰＣＢ廃棄物","その他有害物、危険物","混合ごみ","可燃ごみ","不燃ごみ","資源ごみ","粗大ごみ","家電４品目","パソコン","自動車","ＦＲＰ船","鋼船","その他船舶","畳","漁網","タイヤ","その他家電","消火器","ガスボンベ","土石類","津波堆積物","その他","冷凍・冷蔵庫保管物\n（海洋投入）",null,"漂着ごみ","除染廃棄物"]
[{"$nulls":32},"石膏ボード"]
[]
[{"$nulls":3},"（ｔ）","（ｔ）","（ｔ）","（ｔ）","（ｔ）","（ｔ）","（ｔ）","（ｔ）","（ｔ）","（ｔ）","（ｔ）","（ｔ）","（ｔ）","（ｔ）","（ｔ）","（ｔ）","（ｔ）","（ｔ）","（ｔ）","（ｔ）","（ｔ）","（ｔ）","（ｔ）","（ｔ）","（ｔ）","（ｔ）","（ｔ）","（ｔ）","（ｔ）","（ｔ）","（ｔ）","（ｔ）"]
["秋田県","05000","合計",{"$f":"SUM($D$8:$D$32)","v":0},{"$f":"SUM($E$8:$E$32)","v":0},{"$f":"SUM($F$8:$F$32)","v":0},{"$f":"SUM($G$8:$G$32)","v":0},{"$f":"SUM($H$8:$H$32)","v":0},{"$f":"SUM($I$8:$I$32)","v":0},{"$f":"SUM($J$8:$J$32)","v":0},{"$f":"SUM($K$8:$K$32)","v":0},{"$f":"SUM($L$8:$L$32)","v":0},{"$f":"SUM($M$8:$M$32)","v":0},{"$f":"SUM($N$8:$N$32)","v":0},{"$f":"SUM($O$8:$O$32)","v":0},{"$f":"SUM($P$8:$P$32)","v":0},{"$f":"SUM($Q$8:$Q$32)","v":0},{"$f":"SUM($R$8:$R$32)","v":0},{"$f":"SUM($S$8:$S$32)","v":0},{"$f":"SUM($T$8:$T$32)","v":0},{"$f":"SUM($U$8:$U$32)","v":0},{"$f":"SUM($V$8:$V$32)","v":0},{"$f":"SUM($W$8:$W$32)","v":0},{"$f":"SUM($X$8:$X$32)","v":0},{"$f":"SUM($Y$8:$Y$32)","v":0},{"$f":"SUM($Z$8:$Z$32)","v":0},{"$f":"SUM($AA$8:$AA$32)","v":0},{"$f":"SUM($AB$8:$AB$32)","v":0},{"$f":"SUM($AC$8:$AC$32)","v":0},{"$f":"SUM($AD$8:$AD$32)","v":0},{"$f":"SUM($AE$8:$AE$32)","v":0},{"$f":"SUM($AF$8:$AF$32)","v":0},{"$f":"SUM($AG$8:$AG$32)","v":0},{"$f":"SUM($AH$8:$AH$32)","v":0},{"$f":"SUM($AI$8:$AI$32)","v":0}]
["秋田県","05201","秋田市",{"$f":"SUM(E8:AI8)","v":0},0,0,0,0,0,0,0,0,0,0,0,0,0,0,0,0,0,0,0,0,0,0,0,0,0,0,0,0,0,0,0]
["秋田県","05202","能代市",{"$f":"SUM(E9:AI9)","v":0},0,0,0,0,0,0,0,0,0,0,0,0,0,0,0,0,0,0,0,0,0,0,0,0,0,0,0,0,0,0,0]
["秋田県","05203","横手市",{"$f":"SUM(E10:AI10)","v":0},0,0,0,0,0,0,0,0,0,0,0,0,0,0,0,0,0,0,0,0,0,0,0,0,0,0,0,0,0,0,0]
["秋田県","05204","大館市",{"$f":"SUM(E11:AI11)","v":0},0,0,0,0,0,0,0,0,0,0,0,0,0,0,0,0,0,0,0,0,0,0,0,0,0,0,0,0,0,0,0]
["秋田県","05206","男鹿市",{"$f":"SUM(E12:AI12)","v":0},0,0,0,0,0,0,0,0,0,0,0,0,0,0,0,0,0,0,0,0,0,0,0,0,0,0,0,0,0,0,0]
["秋田県","05207","湯沢市",{"$f":"SUM(E13:AI13)","v":0},0,0,0,0,0,0,0,0,0,0,0,0,0,0,0,0,0,0,0,0,0,0,0,0,0,0,0,0,0,0,0]
["秋田県","05209","鹿角市",{"$f":"SUM(E14:AI14)","v":0},0,0,0,0,0,0,0,0,0,0,0,0,0,0,0,0,0,0,0,0,0,0,0,0,0,0,0,0,0,0,0]
["秋田県","05210","由利本荘市",{"$f":"SUM(E15:AI15)","v":0},0,0,0,0,0,0,0,0,0,0,0,0,0,0,0,0,0,0,0,0,0,0,0,0,0,0,0,0,0,0,0]
["秋田県","05211","潟上市",{"$f":"SUM(E16:AI16)","v":0},0,0,0,0,0,0,0,0,0,0,0,0,0,0,0,0,0,0,0,0,0,0,0,0,0,0,0,0,0,0,0]
["秋田県","05212","大仙市",{"$f":"SUM(E17:AI17)","v":0},0,0,0,0,0,0,0,0,0,0,0,0,0,0,0,0,0,0,0,0,0,0,0,0,0,0,0,0,0,0,0]
["秋田県","05213","北秋田市",{"$f":"SUM(E18:AI18)","v":0},0,0,0,0,0,0,0,0,0,0,0,0,0,0,0,0,0,0,0,0,0,0,0,0,0,0,0,0,0,0,0]
["秋田県","05214","にかほ市",{"$f":"SUM(E19:AI19)","v":0},0,0,0,0,0,0,0,0,0,0,0,0,0,0,0,0,0,0,0,0,0,0,0,0,0,0,0,0,0,0,0]
["秋田県","05215","仙北市",{"$f":"SUM(E20:AI20)","v":0},0,0,0,0,0,0,0,0,0,0,0,0,0,0,0,0,0,0,0,0,0,0,0,0,0,0,0,0,0,0,0]
["秋田県","05303","小坂町",{"$f":"SUM(E21:AI21)","v":0},0,0,0,0,0,0,0,0,0,0,0,0,0,0,0,0,0,0,0,0,0,0,0,0,0,0,0,0,0,0,0]
["秋田県","05327","上小阿仁村",{"$f":"SUM(E22:AI22)","v":0},0,0,0,0,0,0,0,0,0,0,0,0,0,0,0,0,0,0,0,0,0,0,0,0,0,0,0,0,0,0,0]
["秋田県","05346","藤里町",{"$f":"SUM(E23:AI23)","v":0},0,0,0,0,0,0,0,0,0,0,0,0,0,0,0,0,0,0,0,0,0,0,0,0,0,0,0,0,0,0,0]
["秋田県","05348","三種町",{"$f":"SUM(E24:AI24)","v":0},0,0,0,0,0,0,0,0,0,0,0,0,0,0,0,0,0,0,0,0,0,0,0,0,0,0,0,0,0,0,0]
["秋田県","05349","八峰町",{"$f":"SUM(E25:AI25)","v":0},0,0,0,0,0,0,0,0,0,0,0,0,0,0,0,0,0,0,0,0,0,0,0,0,0,0,0,0,0,0,0]
["秋田県","05361","五城目町",{"$f":"SUM(E26:AI26)","v":0},0,0,0,0,0,0,0,0,0,0,0,0,0,0,0,0,0,0,0,0,0,0,0,0,0,0,0,0,0,0,0]
["秋田県","05363","八郎潟町",{"$f":"SUM(E27:AI27)","v":0},0,0,0,0,0,0,0,0,0,0,0,0,0,0,0,0,0,0,0,0,0,0,0,0,0,0,0,0,0,0,0]
["秋田県","05366","井川町",{"$f":"SUM(E28:AI28)","v":0},0,0,0,0,0,0,0,0,0,0,0,0,0,0,0,0,0,0,0,0,0,0,0,0,0,0,0,0,0,0,0]
["秋田県","05368","大潟村",{"$f":"SUM(E29:AI29)","v":0},0,0,0,0,0,0,0,0,0,0,0,0,0,0,0,0,0,0,0,0,0,0,0,0,0,0,0,0,0,0,0]
["秋田県","05434","美郷町",{"$f":"SUM(E30:AI30)","v":0},0,0,0,0,0,0,0,0,0,0,0,0,0,0,0,0,0,0,0,0,0,0,0,0,0,0,0,0,0,0,0]
["秋田県","05463","羽後町",{"$f":"SUM(E31:AI31)","v":0},0,0,0,0,0,0,0,0,0,0,0,0,0,0,0,0,0,0,0,0,0,0,0,0,0,0,0,0,0,0,0]
["秋田県","05464","東成瀬村",{"$f":"SUM(E32:AI32)","v":0},0,0,0,0,0,0,0,0,0,0,0,0,0,0,0,0,0,0,0,0,0,0,0,0,0,0,0,0,0,0,0]

{"sheet":"ごみ搬入量内訳(堆肥化)","index":5,"n_rows":32,"n_cols":35,"rows_kept":32,"merged":[[1,0,5,0],[1,1,5,1],[1,2,5,2],[2,3,4,3],[2,4,4,4],[2,5,4,5],[2,6,4,6],[2,7,4,7],[2,8,4,8],[2,9,4,9],[2,10,4,10],[2,11,4,11],[2,12,4,12],[2,13,4,13],[2,14,4,14],[2,15,4,15],[2,16,4,16],[2,17,4,17],[2,18,4,18],[2,19,4,19],[2,20,4,20],[2,21,4,21],[2,22,4,22],[2,23,4,23],[2,24,4,24],[2,25,4,25],[2,26,4,26],[2,27,4,27],[2,28,4,28],[2,29,4,29],[2,30,4,30],[2,31,4,31],[2,33,4,33],[2,34,4,34]]}
["【災害】処理施設別ごみ搬入量の状況（令和3年度実績）"]
["都道府県名","地方公共団体コード","市区町村名","ごみ堆肥化施設"]
[{"$nulls":3},"合計","木くず","金属くず","コンクリートがら","その他がれき類","石綿含有廃棄物等","ＰＣＢ廃棄物","その他有害物、危険物","混合ごみ","可燃ごみ","不燃ごみ","資源ごみ","粗大ごみ","家電４品目","パソコン","自動車","ＦＲＰ船","鋼船","その他船舶","畳","漁網","タイヤ","その他家電","消火器","ガスボンベ","土石類","津波堆積物","その他","冷凍・冷蔵庫保管物\n（海洋投入）",null,"漂着ごみ","除染廃棄物"]
[{"$nulls":32},"石膏ボード"]
[]
[{"$nulls":3},"（ｔ）","（ｔ）","（ｔ）","（ｔ）","（ｔ）","（ｔ）","（ｔ）","（ｔ）","（ｔ）","（ｔ）","（ｔ）","（ｔ）","（ｔ）","（ｔ）","（ｔ）","（ｔ）","（ｔ）","（ｔ）","（ｔ）","（ｔ）","（ｔ）","（ｔ）","（ｔ）","（ｔ）","（ｔ）","（ｔ）","（ｔ）","（ｔ）","（ｔ）","（ｔ）","（ｔ）","（ｔ）"]
["秋田県","05000","合計",{"$f":"SUM($D$8:$D$32)","v":0},{"$f":"SUM($E$8:$E$32)","v":0},{"$f":"SUM($F$8:$F$32)","v":0},{"$f":"SUM($G$8:$G$32)","v":0},{"$f":"SUM($H$8:$H$32)","v":0},{"$f":"SUM($I$8:$I$32)","v":0},{"$f":"SUM($J$8:$J$32)","v":0},{"$f":"SUM($K$8:$K$32)","v":0},{"$f":"SUM($L$8:$L$32)","v":0},{"$f":"SUM($M$8:$M$32)","v":0},{"$f":"SUM($N$8:$N$32)","v":0},{"$f":"SUM($O$8:$O$32)","v":0},{"$f":"SUM($P$8:$P$32)","v":0},{"$f":"SUM($Q$8:$Q$32)","v":0},{"$f":"SUM($R$8:$R$32)","v":0},{"$f":"SUM($S$8:$S$32)","v":0},{"$f":"SUM($T$8:$T$32)","v":0},{"$f":"SUM($U$8:$U$32)","v":0},{"$f":"SUM($V$8:$V$32)","v":0},{"$f":"SUM($W$8:$W$32)","v":0},{"$f":"SUM($X$8:$X$32)","v":0},{"$f":"SUM($Y$8:$Y$32)","v":0},{"$f":"SUM($Z$8:$Z$32)","v":0},{"$f":"SUM($AA$8:$AA$32)","v":0},{"$f":"SUM($AB$8:$AB$32)","v":0},{"$f":"SUM($AC$8:$AC$32)","v":0},{"$f":"SUM($AD$8:$AD$32)","v":0},{"$f":"SUM($AE$8:$AE$32)","v":0},{"$f":"SUM($AF$8:$AF$32)","v":0},{"$f":"SUM($AG$8:$AG$32)","v":0},{"$f":"SUM($AH$8:$AH$32)","v":0},{"$f":"SUM($AI$8:$AI$32)","v":0}]
["秋田県","05201","秋田市",{"$f":"SUM(E8:AI8)","v":0},0,0,0,0,0,0,0,0,0,0,0,0,0,0,0,0,0,0,0,0,0,0,0,0,0,0,0,0,0,0,0]
["秋田県","05202","能代市",{"$f":"SUM(E9:AI9)","v":0},0,0,0,0,0,0,0,0,0,0,0,0,0,0,0,0,0,0,0,0,0,0,0,0,0,0,0,0,0,0,0]
["秋田県","05203","横手市",{"$f":"SUM(E10:AI10)","v":0},0,0,0,0,0,0,0,0,0,0,0,0,0,0,0,0,0,0,0,0,0,0,0,0,0,0,0,0,0,0,0]
["秋田県","05204","大館市",{"$f":"SUM(E11:AI11)","v":0},0,0,0,0,0,0,0,0,0,0,0,0,0,0,0,0,0,0,0,0,0,0,0,0,0,0,0,0,0,0,0]
["秋田県","05206","男鹿市",{"$f":"SUM(E12:AI12)","v":0},0,0,0,0,0,0,0,0,0,0,0,0,0,0,0,0,0,0,0,0,0,0,0,0,0,0,0,0,0,0,0]
["秋田県","05207","湯沢市",{"$f":"SUM(E13:AI13)","v":0},0,0,0,0,0,0,0,0,0,0,0,0,0,0,0,0,0,0,0,0,0,0,0,0,0,0,0,0,0,0,0]
["秋田県","05209","鹿角市",{"$f":"SUM(E14:AI14)","v":0},0,0,0,0,0,0,0,0,0,0,0,0,0,0,0,0,0,0,0,0,0,0,0,0,0,0,0,0,0,0,0]
["秋田県","05210","由利本荘市",{"$f":"SUM(E15:AI15)","v":0},0,0,0,0,0,0,0,0,0,0,0,0,0,0,0,0,0,0,0,0,0,0,0,0,0,0,0,0,0,0,0]
["秋田県","05211","潟上市",{"$f":"SUM(E16:AI16)","v":0},0,0,0,0,0,0,0,0,0,0,0,0,0,0,0,0,0,0,0,0,0,0,0,0,0,0,0,0,0,0,0]
["秋田県","05212","大仙市",{"$f":"SUM(E17:AI17)","v":0},0,0,0,0,0,0,0,0,0,0,0,0,0,0,0,0,0,0,0,0,0,0,0,0,0,0,0,0,0,0,0]
["秋田県","05213","北秋田市",{"$f":"SUM(E18:AI18)","v":0},0,0,0,0,0,0,0,0,0,0,0,0,0,0,0,0,0,0,0,0,0,0,0,0,0,0,0,0,0,0,0]
["秋田県","05214","にかほ市",{"$f":"SUM(E19:AI19)","v":0},0,0,0,0,0,0,0,0,0,0,0,0,0,0,0,0,0,0,0,0,0,0,0,0,0,0,0,0,0,0,0]
["秋田県","05215","仙北市",{"$f":"SUM(E20:AI20)","v":0},0,0,0,0,0,0,0,0,0,0,0,0,0,0,0,0,0,0,0,0,0,0,0,0,0,0,0,0,0,0,0]
["秋田県","05303","小坂町",{"$f":"SUM(E21:AI21)","v":0},0,0,0,0,0,0,0,0,0,0,0,0,0,0,0,0,0,0,0,0,0,0,0,0,0,0,0,0,0,0,0]
["秋田県","05327","上小阿仁村",{"$f":"SUM(E22:AI22)","v":0},0,0,0,0,0,0,0,0,0,0,0,0,0,0,0,0,0,0,0,0,0,0,0,0,0,0,0,0,0,0,0]
["秋田県","05346","藤里町",{"$f":"SUM(E23:AI23)","v":0},0,0,0,0,0,0,0,0,0,0,0,0,0,0,0,0,0,0,0,0,0,0,0,0,0,0,0,0,0,0,0]
["秋田県","05348","三種町",{"$f":"SUM(E24:AI24)","v":0},0,0,0,0,0,0,0,0,0,0,0,0,0,0,0,0,0,0,0,0,0,0,0,0,0,0,0,0,0,0,0]
["秋田県","05349","八峰町",{"$f":"SUM(E25:AI25)","v":0},0,0,0,0,0,0,0,0,0,0,0,0,0,0,0,0,0,0,0,0,0,0,0,0,0,0,0,0,0,0,0]
["秋田県","05361","五城目町",{"$f":"SUM(E26:AI26)","v":0},0,0,0,0,0,0,0,0,0,0,0,0,0,0,0,0,0,0,0,0,0,0,0,0,0,0,0,0,0,0,0]
["秋田県","05363","八郎潟町",{"$f":"SUM(E27:AI27)","v":0},0,0,0,0,0,0,0,0,0,0,0,0,0,0,0,0,0,0,0,0,0,0,0,0,0,0,0,0,0,0,0]
["秋田県","05366","井川町",{"$f":"SUM(E28:AI28)","v":0},0,0,0,0,0,0,0,0,0,0,0,0,0,0,0,0,0,0,0,0,0,0,0,0,0,0,0,0,0,0,0]
["秋田県","05368","大潟村",{"$f":"SUM(E29:AI29)","v":0},0,0,0,0,0,0,0,0,0,0,0,0,0,0,0,0,0,0,0,0,0,0,0,0,0,0,0,0,0,0,0]
["秋田県","05434","美郷町",{"$f":"SUM(E30:AI30)","v":0},0,0,0,0,0,0,0,0,0,0,0,0,0,0,0,0,0,0,0,0,0,0,0,0,0,0,0,0,0,0,0]
["秋田県","05463","羽後町",{"$f":"SUM(E31:AI31)","v":0},0,0,0,0,0,0,0,0,0,0,0,0,0,0,0,0,0,0,0,0,0,0,0,0,0,0,0,0,0,0,0]
["秋田県","05464","東成瀬村",{"$f":"SUM(E32:AI32)","v":0},0,0,0,0,0,0,0,0,0,0,0,0,0,0,0,0,0,0,0,0,0,0,0,0,0,0,0,0,0,0,0]

{"sheet":"ごみ搬入量内訳(飼料化)","index":6,"n_rows":32,"n_cols":35,"rows_kept":32,"merged":[[1,0,5,0],[1,1,5,1],[1,2,5,2],[2,3,4,3],[2,4,4,4],[2,5,4,5],[2,6,4,6],[2,7,4,7],[2,8,4,8],[2,9,4,9],[2,10,4,10],[2,11,4,11],[2,12,4,12],[2,13,4,13],[2,14,4,14],[2,15,4,15],[2,16,4,16],[2,17,4,17],[2,18,4,18],[2,19,4,19],[2,20,4,20],[2,21,4,21],[2,22,4,22],[2,23,4,23],[2,24,4,24],[2,25,4,25],[2,26,4,26],[2,27,4,27],[2,28,4,28],[2,29,4,29],[2,30,4,30],[2,31,4,31],[2,33,4,33],[2,34,4,34]]}
["【災害】処理施設別ごみ搬入量の状況（令和3年度実績）"]
["都道府県名","地方公共団体コード","市区町村名","ごみ飼料化施設"]
[{"$nulls":3},"合計","木くず","金属くず","コンクリートがら","その他がれき類","石綿含有廃棄物等","ＰＣＢ廃棄物","その他有害物、危険物","混合ごみ","可燃ごみ","不燃ごみ","資源ごみ","粗大ごみ","家電４品目","パソコン","自動車","ＦＲＰ船","鋼船","その他船舶","畳","漁網","タイヤ","その他家電","消火器","ガスボンベ","土石類","津波堆積物","その他","冷凍・冷蔵庫保管物\n（海洋投入）",null,"漂着ごみ","除染廃棄物"]
[{"$nulls":32},"石膏ボード"]
[]
[{"$nulls":3},"（ｔ）","（ｔ）","（ｔ）","（ｔ）","（ｔ）","（ｔ）","（ｔ）","（ｔ）","（ｔ）","（ｔ）","（ｔ）","（ｔ）","（ｔ）","（ｔ）","（ｔ）","（ｔ）","（ｔ）","（ｔ）","（ｔ）","（ｔ）","（ｔ）","（ｔ）","（ｔ）","（ｔ）","（ｔ）","（ｔ）","（ｔ）","（ｔ）","（ｔ）","（ｔ）","（ｔ）","（ｔ）"]
["秋田県","05000","合計",{"$f":"SUM($D$8:$D$32)","v":0},{"$f":"SUM($E$8:$E$32)","v":0},{"$f":"SUM($F$8:$F$32)","v":0},{"$f":"SUM($G$8:$G$32)","v":0},{"$f":"SUM($H$8:$H$32)","v":0},{"$f":"SUM($I$8:$I$32)","v":0},{"$f":"SUM($J$8:$J$32)","v":0},{"$f":"SUM($K$8:$K$32)","v":0},{"$f":"SUM($L$8:$L$32)","v":0},{"$f":"SUM($M$8:$M$32)","v":0},{"$f":"SUM($N$8:$N$32)","v":0},{"$f":"SUM($O$8:$O$32)","v":0},{"$f":"SUM($P$8:$P$32)","v":0},{"$f":"SUM($Q$8:$Q$32)","v":0},{"$f":"SUM($R$8:$R$32)","v":0},{"$f":"SUM($S$8:$S$32)","v":0},{"$f":"SUM($T$8:$T$32)","v":0},{"$f":"SUM($U$8:$U$32)","v":0},{"$f":"SUM($V$8:$V$32)","v":0},{"$f":"SUM($W$8:$W$32)","v":0},{"$f":"SUM($X$8:$X$32)","v":0},{"$f":"SUM($Y$8:$Y$32)","v":0},{"$f":"SUM($Z$8:$Z$32)","v":0},{"$f":"SUM($AA$8:$AA$32)","v":0},{"$f":"SUM($AB$8:$AB$32)","v":0},{"$f":"SUM($AC$8:$AC$32)","v":0},{"$f":"SUM($AD$8:$AD$32)","v":0},{"$f":"SUM($AE$8:$AE$32)","v":0},{"$f":"SUM($AF$8:$AF$32)","v":0},{"$f":"SUM($AG$8:$AG$32)","v":0},{"$f":"SUM($AH$8:$AH$32)","v":0},{"$f":"SUM($AI$8:$AI$32)","v":0}]
["秋田県","05201","秋田市",{"$f":"SUM(E8:AI8)","v":0},0,0,0,0,0,0,0,0,0,0,0,0,0,0,0,0,0,0,0,0,0,0,0,0,0,0,0,0,0,0,0]
["秋田県","05202","能代市",{"$f":"SUM(E9:AI9)","v":0},0,0,0,0,0,0,0,0,0,0,0,0,0,0,0,0,0,0,0,0,0,0,0,0,0,0,0,0,0,0,0]
["秋田県","05203","横手市",{"$f":"SUM(E10:AI10)","v":0},0,0,0,0,0,0,0,0,0,0,0,0,0,0,0,0,0,0,0,0,0,0,0,0,0,0,0,0,0,0,0]
["秋田県","05204","大館市",{"$f":"SUM(E11:AI11)","v":0},0,0,0,0,0,0,0,0,0,0,0,0,0,0,0,0,0,0,0,0,0,0,0,0,0,0,0,0,0,0,0]
["秋田県","05206","男鹿市",{"$f":"SUM(E12:AI12)","v":0},0,0,0,0,0,0,0,0,0,0,0,0,0,0,0,0,0,0,0,0,0,0,0,0,0,0,0,0,0,0,0]
["秋田県","05207","湯沢市",{"$f":"SUM(E13:AI13)","v":0},0,0,0,0,0,0,0,0,0,0,0,0,0,0,0,0,0,0,0,0,0,0,0,0,0,0,0,0,0,0,0]
["秋田県","05209","鹿角市",{"$f":"SUM(E14:AI14)","v":0},0,0,0,0,0,0,0,0,0,0,0,0,0,0,0,0,0,0,0,0,0,0,0,0,0,0,0,0,0,0,0]
["秋田県","05210","由利本荘市",{"$f":"SUM(E15:AI15)","v":0},0,0,0,0,0,0,0,0,0,0,0,0,0,0,0,0,0,0,0,0,0,0,0,0,0,0,0,0,0,0,0]
["秋田県","05211","潟上市",{"$f":"SUM(E16:AI16)","v":0},0,0,0,0,0,0,0,0,0,0,0,0,0,0,0,0,0,0,0,0,0,0,0,0,0,0,0,0,0,0,0]
["秋田県","05212","大仙市",{"$f":"SUM(E17:AI17)","v":0},0,0,0,0,0,0,0,0,0,0,0,0,0,0,0,0,0,0,0,0,0,0,0,0,0,0,0,0,0,0,0]
["秋田県","05213","北秋田市",{"$f":"SUM(E18:AI18)","v":0},0,0,0,0,0,0,0,0,0,0,0,0,0,0,0,0,0,0,0,0,0,0,0,0,0,0,0,0,0,0,0]
["秋田県","05214","にかほ市",{"$f":"SUM(E19:AI19)","v":0},0,0,0,0,0,0,0,0,0,0,0,0,0,0,0,0,0,0,0,0,0,0,0,0,0,0,0,0,0,0,0]
["秋田県","05215","仙北市",{"$f":"SUM(E20:AI20)","v":0},0,0,0,0,0,0,0,0,0,0,0,0,0,0,0,0,0,0,0,0,0,0,0,0,0,0,0,0,0,0,0]
["秋田県","05303","小坂町",{"$f":"SUM(E21:AI21)","v":0},0,0,0,0,0,0,0,0,0,0,0,0,0,0,0,0,0,0,0,0,0,0,0,0,0,0,0,0,0,0,0]
["秋田県","05327","上小阿仁村",{"$f":"SUM(E22:AI22)","v":0},0,0,0,0,0,0,0,0,0,0,0,0,0,0,0,0,0,0,0,0,0,0,0,0,0,0,0,0,0,0,0]
["秋田県","05346","藤里町",{"$f":"SUM(E23:AI23)","v":0},0,0,0,0,0,0,0,0,0,0,0,0,0,0,0,0,0,0,0,0,0,0,0,0,0,0,0,0,0,0,0]
["秋田県","05348","三種町",{"$f":"SUM(E24:AI24)","v":0},0,0,0,0,0,0,0,0,0,0,0,0,0,0,0,0,0,0,0,0,0,0,0,0,0,0,0,0,0,0,0]
["秋田県","05349","八峰町",{"$f":"SUM(E25:AI25)","v":0},0,0,0,0,0,0,0,0,0,0,0,0,0,0,0,0,0,0,0,0,0,0,0,0,0,0,0,0,0,0,0]
["秋田県","05361","五城目町",{"$f":"SUM(E26:AI26)","v":0},0,0,0,0,0,0,0,0,0,0,0,0,0,0,0,0,0,0,0,0,0,0,0,0,0,0,0,0,0,0,0]
["秋田県","05363","八郎潟町",{"$f":"SUM(E27:AI27)","v":0},0,0,0,0,0,0,0,0,0,0,0,0,0,0,0,0,0,0,0,0,0,0,0,0,0,0,0,0,0,0,0]
["秋田県","05366","井川町",{"$f":"SUM(E28:AI28)","v":0},0,0,0,0,0,0,0,0,0,0,0,0,0,0,0,0,0,0,0,0,0,0,0,0,0,0,0,0,0,0,0]
["秋田県","05368","大潟村",{"$f":"SUM(E29:AI29)","v":0},0,0,0,0,0,0,0,0,0,0,0,0,0,0,0,0,0,0,0,0,0,0,0,0,0,0,0,0,0,0,0]
["秋田県","05434","美郷町",{"$f":"SUM(E30:AI30)","v":0},0,0,0,0,0,0,0,0,0,0,0,0,0,0,0,0,0,0,0,0,0,0,0,0,0,0,0,0,0,0,0]
["秋田県","05463","羽後町",{"$f":"SUM(E31:AI31)","v":0},0,0,0,0,0,0,0,0,0,0,0,0,0,0,0,0,0,0,0,0,0,0,0,0,0,0,0,0,0,0,0]
["秋田県","05464","東成瀬村",{"$f":"SUM(E32:AI32)","v":0},0,0,0,0,0,0,0,0,0,0,0,0,0,0,0,0,0,0,0,0,0,0,0,0,0,0,0,0,0,0,0]

{"sheet":"ごみ搬入量内訳(メタン化)","index":7,"n_rows":32,"n_cols":35,"rows_kept":32,"merged":[[1,0,5,0],[1,1,5,1],[1,2,5,2],[2,3,4,3],[2,4,4,4],[2,5,4,5],[2,6,4,6],[2,7,4,7],[2,8,4,8],[2,9,4,9],[2,10,4,10],[2,11,4,11],[2,12,4,12],[2,13,4,13],[2,14,4,14],[2,15,4,15],[2,16,4,16],[2,17,4,17],[2,18,4,18],[2,19,4,19],[2,20,4,20],[2,21,4,21],[2,22,4,22],[2,23,4,23],[2,24,4,24],[2,25,4,25],[2,26,4,26],[2,27,4,27],[2,28,4,28],[2,29,4,29],[2,30,4,30],[2,31,4,31],[2,33,4,33],[2,34,4,34]]}
["【災害】処理施設別ごみ搬入量の状況（令和3年度実績）"]
["都道府県名","地方公共団体コード","市区町村名","メタン化施設"]
[{"$nulls":3},"合計","木くず","金属くず","コンクリートがら","その他がれき類","石綿含有廃棄物等","ＰＣＢ廃棄物","その他有害物、危険物","混合ごみ","可燃ごみ","不燃ごみ","資源ごみ","粗大ごみ","家電４品目","パソコン","自動車","ＦＲＰ船","鋼船","その他船舶","畳","漁網","タイヤ","その他家電","消火器","ガスボンベ","土石類","津波堆積物","その他","冷凍・冷蔵庫保管物\n（海洋投入）",null,"漂着ごみ","除染廃棄物"]
[{"$nulls":32},"石膏ボード"]
[]
[{"$nulls":3},"（ｔ）","（ｔ）","（ｔ）","（ｔ）","（ｔ）","（ｔ）","（ｔ）","（ｔ）","（ｔ）","（ｔ）","（ｔ）","（ｔ）","（ｔ）","（ｔ）","（ｔ）","（ｔ）","（ｔ）","（ｔ）","（ｔ）","（ｔ）","（ｔ）","（ｔ）","（ｔ）","（ｔ）","（ｔ）","（ｔ）","（ｔ）","（ｔ）","（ｔ）","（ｔ）","（ｔ）","（ｔ）"]
["秋田県","05000","合計",{"$f":"SUM($D$8:$D$32)","v":0},{"$f":"SUM($E$8:$E$32)","v":0},{"$f":"SUM($F$8:$F$32)","v":0},{"$f":"SUM($G$8:$G$32)","v":0},{"$f":"SUM($H$8:$H$32)","v":0},{"$f":"SUM($I$8:$I$32)","v":0},{"$f":"SUM($J$8:$J$32)","v":0},{"$f":"SUM($K$8:$K$32)","v":0},{"$f":"SUM($L$8:$L$32)","v":0},{"$f":"SUM($M$8:$M$32)","v":0},{"$f":"SUM($N$8:$N$32)","v":0},{"$f":"SUM($O$8:$O$32)","v":0},{"$f":"SUM($P$8:$P$32)","v":0},{"$f":"SUM($Q$8:$Q$32)","v":0},{"$f":"SUM($R$8:$R$32)","v":0},{"$f":"SUM($S$8:$S$32)","v":0},{"$f":"SUM($T$8:$T$32)","v":0},{"$f":"SUM($U$8:$U$32)","v":0},{"$f":"SUM($V$8:$V$32)","v":0},{"$f":"SUM($W$8:$W$32)","v":0},{"$f":"SUM($X$8:$X$32)","v":0},{"$f":"SUM($Y$8:$Y$32)","v":0},{"$f":"SUM($Z$8:$Z$32)","v":0},{"$f":"SUM($AA$8:$AA$32)","v":0},{"$f":"SUM($AB$8:$AB$32)","v":0},{"$f":"SUM($AC$8:$AC$32)","v":0},{"$f":"SUM($AD$8:$AD$32)","v":0},{"$f":"SUM($AE$8:$AE$32)","v":0},{"$f":"SUM($AF$8:$AF$32)","v":0},{"$f":"SUM($AG$8:$AG$32)","v":0},{"$f":"SUM($AH$8:$AH$32)","v":0},{"$f":"SUM($AI$8:$AI$32)","v":0}]
["秋田県","05201","秋田市",{"$f":"SUM(E8:AI8)","v":0},0,0,0,0,0,0,0,0,0,0,0,0,0,0,0,0,0,0,0,0,0,0,0,0,0,0,0,0,0,0,0]
["秋田県","05202","能代市",{"$f":"SUM(E9:AI9)","v":0},0,0,0,0,0,0,0,0,0,0,0,0,0,0,0,0,0,0,0,0,0,0,0,0,0,0,0,0,0,0,0]
["秋田県","05203","横手市",{"$f":"SUM(E10:AI10)","v":0},0,0,0,0,0,0,0,0,0,0,0,0,0,0,0,0,0,0,0,0,0,0,0,0,0,0,0,0,0,0,0]
["秋田県","05204","大館市",{"$f":"SUM(E11:AI11)","v":0},0,0,0,0,0,0,0,0,0,0,0,0,0,0,0,0,0,0,0,0,0,0,0,0,0,0,0,0,0,0,0]
["秋田県","05206","男鹿市",{"$f":"SUM(E12:AI12)","v":0},0,0,0,0,0,0,0,0,0,0,0,0,0,0,0,0,0,0,0,0,0,0,0,0,0,0,0,0,0,0,0]
["秋田県","05207","湯沢市",{"$f":"SUM(E13:AI13)","v":0},0,0,0,0,0,0,0,0,0,0,0,0,0,0,0,0,0,0,0,0,0,0,0,0,0,0,0,0,0,0,0]
["秋田県","05209","鹿角市",{"$f":"SUM(E14:AI14)","v":0},0,0,0,0,0,0,0,0,0,0,0,0,0,0,0,0,0,0,0,0,0,0,0,0,0,0,0,0,0,0,0]
["秋田県","05210","由利本荘市",{"$f":"SUM(E15:AI15)","v":0},0,0,0,0,0,0,0,0,0,0,0,0,0,0,0,0,0,0,0,0,0,0,0,0,0,0,0,0,0,0,0]
["秋田県","05211","潟上市",{"$f":"SUM(E16:AI16)","v":0},0,0,0,0,0,0,0,0,0,0,0,0,0,0,0,0,0,0,0,0,0,0,0,0,0,0,0,0,0,0,0]
["秋田県","05212","大仙市",{"$f":"SUM(E17:AI17)","v":0},0,0,0,0,0,0,0,0,0,0,0,0,0,0,0,0,0,0,0,0,0,0,0,0,0,0,0,0,0,0,0]
["秋田県","05213","北秋田市",{"$f":"SUM(E18:AI18)","v":0},0,0,0,0,0,0,0,0,0,0,0,0,0,0,0,0,0,0,0,0,0,0,0,0,0,0,0,0,0,0,0]
["秋田県","05214","にかほ市",{"$f":"SUM(E19:AI19)","v":0},0,0,0,0,0,0,0,0,0,0,0,0,0,0,0,0,0,0,0,0,0,0,0,0,0,0,0,0,0,0,0]
["秋田県","05215","仙北市",{"$f":"SUM(E20:AI20)","v":0},0,0,0,0,0,0,0,0,0,0,0,0,0,0,0,0,0,0,0,0,0,0,0,0,0,0,0,0,0,0,0]
["秋田県","05303","小坂町",{"$f":"SUM(E21:AI21)","v":0},0,0,0,0,0,0,0,0,0,0,0,0,0,0,0,0,0,0,0,0,0,0,0,0,0,0,0,0,0,0,0]
["秋田県","05327","上小阿仁村",{"$f":"SUM(E22:AI22)","v":0},0,0,0,0,0,0,0,0,0,0,0,0,0,0,0,0,0,0,0,0,0,0,0,0,0,0,0,0,0,0,0]
["秋田県","05346","藤里町",{"$f":"SUM(E23:AI23)","v":0},0,0,0,0,0,0,0,0,0,0,0,0,0,0,0,0,0,0,0,0,0,0,0,0,0,0,0,0,0,0,0]
["秋田県","05348","三種町",{"$f":"SUM(E24:AI24)","v":0},0,0,0,0,0,0,0,0,0,0,0,0,0,0,0,0,0,0,0,0,0,0,0,0,0,0,0,0,0,0,0]
["秋田県","05349","八峰町",{"$f":"SUM(E25:AI25)","v":0},0,0,0,0,0,0,0,0,0,0,0,0,0,0,0,0,0,0,0,0,0,0,0,0,0,0,0,0,0,0,0]
["秋田県","05361","五城目町",{"$f":"SUM(E26:AI26)","v":0},0,0,0,0,0,0,0,0,0,0,0,0,0,0,0,0,0,0,0,0,0,0,0,0,0,0,0,0,0,0,0]
["秋田県","05363","八郎潟町",{"$f":"SUM(E27:AI27)","v":0},0,0,0,0,0,0,0,0,0,0,0,0,0,0,0,0,0,0,0,0,0,0,0,0,0,0,0,0,0,0,0]
["秋田県","05366","井川町",{"$f":"SUM(E28:AI28)","v":0},0,0,0,0,0,0,0,0,0,0,0,0,0,0,0,0,0,0,0,0,0,0,0,0,0,0,0,0,0,0,0]
["秋田県","05368","大潟村",{"$f":"SUM(E29:AI29)","v":0},0,0,0,0,0,0,0,0,0,0,0,0,0,0,0,0,0,0,0,0,0,0,0,0,0,0,0,0,0,0,0]
["秋田県","05434","美郷町",{"$f":"SUM(E30:AI30)","v":0},0,0,0,0,0,0,0,0,0,0,0,0,0,0,0,0,0,0,0,0,0,0,0,0,0,0,0,0,0,0,0]
["秋田県","05463","羽後町",{"$f":"SUM(E31:AI31)","v":0},0,0,0,0,0,0,0,0,0,0,0,0,0,0,0,0,0,0,0,0,0,0,0,0,0,0,0,0,0,0,0]
["秋田県","05464","東成瀬村",{"$f":"SUM(E32:AI32)","v":0},0,0,0,0,0,0,0,0,0,0,0,0,0,0,0,0,0,0,0,0,0,0,0,0,0,0,0,0,0,0,0]

{"sheet":"ごみ搬入量内訳(燃料化)","index":8,"n_rows":32,"n_cols":35,"rows_kept":32,"merged":[[1,0,5,0],[1,1,5,1],[1,2,5,2],[2,3,4,3],[2,4,4,4],[2,5,4,5],[2,6,4,6],[2,7,4,7],[2,8,4,8],[2,9,4,9],[2,10,4,10],[2,11,4,11],[2,12,4,12],[2,13,4,13],[2,14,4,14],[2,15,4,15],[2,16,4,16],[2,17,4,17],[2,18,4,18],[2,19,4,19],[2,20,4,20],[2,21,4,21],[2,22,4,22],[2,23,4,23],[2,24,4,24],[2,25,4,25],[2,26,4,26],[2,27,4,27],[2,28,4,28],[2,29,4,29],[2,30,4,30],[2,31,4,31],[2,33,4,33],[2,34,4,34]]}
["【災害】処理施設別ごみ搬入量の状況（令和3年度実績）"]
["都道府県名","地方公共団体コード","市区町村名","ごみ燃料化施設"]
[{"$nulls":3},"合計","木くず","金属くず","コンクリートがら","その他がれき類","石綿含有廃棄物等","ＰＣＢ廃棄物","その他有害物、危険物","混合ごみ","可燃ごみ","不燃ごみ","資源ごみ","粗大ごみ","家電４品目","パソコン","自動車","ＦＲＰ船","鋼船","その他船舶","畳","漁網","タイヤ","その他家電","消火器","ガスボンベ","土石類","津波堆積物","その他","冷凍・冷蔵庫保管物\n（海洋投入）",null,"漂着ごみ","除染廃棄物"]
[{"$nulls":32},"石膏ボード"]
[]
[{"$nulls":3},"（ｔ）","（ｔ）","（ｔ）","（ｔ）","（ｔ）","（ｔ）","（ｔ）","（ｔ）","（ｔ）","（ｔ）","（ｔ）","（ｔ）","（ｔ）","（ｔ）","（ｔ）","（ｔ）","（ｔ）","（ｔ）","（ｔ）","（ｔ）","（ｔ）","（ｔ）","（ｔ）","（ｔ）","（ｔ）","（ｔ）","（ｔ）","（ｔ）","（ｔ）","（ｔ）","（ｔ）","（ｔ）"]
["秋田県","05000","合計",{"$f":"SUM($D$8:$D$32)","v":0},{"$f":"SUM($E$8:$E$32)","v":0},{"$f":"SUM($F$8:$F$32)","v":0},{"$f":"SUM($G$8:$G$32)","v":0},{"$f":"SUM($H$8:$H$32)","v":0},{"$f":"SUM($I$8:$I$32)","v":0},{"$f":"SUM($J$8:$J$32)","v":0},{"$f":"SUM($K$8:$K$32)","v":0},{"$f":"SUM($L$8:$L$32)","v":0},{"$f":"SUM($M$8:$M$32)","v":0},{"$f":"SUM($N$8:$N$32)","v":0},{"$f":"SUM($O$8:$O$32)","v":0},{"$f":"SUM($P$8:$P$32)","v":0},{"$f":"SUM($Q$8:$Q$32)","v":0},{"$f":"SUM($R$8:$R$32)","v":0},{"$f":"SUM($S$8:$S$32)","v":0},{"$f":"SUM($T$8:$T$32)","v":0},{"$f":"SUM($U$8:$U$32)","v":0},{"$f":"SUM($V$8:$V$32)","v":0},{"$f":"SUM($W$8:$W$32)","v":0},{"$f":"SUM($X$8:$X$32)","v":0},{"$f":"SUM($Y$8:$Y$32)","v":0},{"$f":"SUM($Z$8:$Z$32)","v":0},{"$f":"SUM($AA$8:$AA$32)","v":0},{"$f":"SUM($AB$8:$AB$32)","v":0},{"$f":"SUM($AC$8:$AC$32)","v":0},{"$f":"SUM($AD$8:$AD$32)","v":0},{"$f":"SUM($AE$8:$AE$32)","v":0},{"$f":"SUM($AF$8:$AF$32)","v":0},{"$f":"SUM($AG$8:$AG$32)","v":0},{"$f":"SUM($AH$8:$AH$32)","v":0},{"$f":"SUM($AI$8:$AI$32)","v":0}]
["秋田県","05201","秋田市",{"$f":"SUM(E8:AI8)","v":0},0,0,0,0,0,0,0,0,0,0,0,0,0,0,0,0,0,0,0,0,0,0,0,0,0,0,0,0,0,0,0]
["秋田県","05202","能代市",{"$f":"SUM(E9:AI9)","v":0},0,0,0,0,0,0,0,0,0,0,0,0,0,0,0,0,0,0,0,0,0,0,0,0,0,0,0,0,0,0,0]
["秋田県","05203","横手市",{"$f":"SUM(E10:AI10)","v":0},0,0,0,0,0,0,0,0,0,0,0,0,0,0,0,0,0,0,0,0,0,0,0,0,0,0,0,0,0,0,0]
["秋田県","05204","大館市",{"$f":"SUM(E11:AI11)","v":0},0,0,0,0,0,0,0,0,0,0,0,0,0,0,0,0,0,0,0,0,0,0,0,0,0,0,0,0,0,0,0]
["秋田県","05206","男鹿市",{"$f":"SUM(E12:AI12)","v":0},0,0,0,0,0,0,0,0,0,0,0,0,0,0,0,0,0,0,0,0,0,0,0,0,0,0,0,0,0,0,0]
["秋田県","05207","湯沢市",{"$f":"SUM(E13:AI13)","v":0},0,0,0,0,0,0,0,0,0,0,0,0,0,0,0,0,0,0,0,0,0,0,0,0,0,0,0,0,0,0,0]
["秋田県","05209","鹿角市",{"$f":"SUM(E14:AI14)","v":0},0,0,0,0,0,0,0,0,0,0,0,0,0,0,0,0,0,0,0,0,0,0,0,0,0,0,0,0,0,0,0]
["秋田県","05210","由利本荘市",{"$f":"SUM(E15:AI15)","v":0},0,0,0,0,0,0,0,0,0,0,0,0,0,0,0,0,0,0,0,0,0,0,0,0,0,0,0,0,0,0,0]
["秋田県","05211","潟上市",{"$f":"SUM(E16:AI16)","v":0},0,0,0,0,0,0,0,0,0,0,0,0,0,0,0,0,0,0,0,0,0,0,0,0,0,0,0,0,0,0,0]
["秋田県","05212","大仙市",{"$f":"SUM(E17:AI17)","v":0},0,0,0,0,0,0,0,0,0,0,0,0,0,0,0,0,0,0,0,0,0,0,0,0,0,0,0,0,0,0,0]
["秋田県","05213","北秋田市",{"$f":"SUM(E18:AI18)","v":0},0,0,0,0,0,0,0,0,0,0,0,0,0,0,0,0,0,0,0,0,0,0,0,0,0,0,0,0,0,0,0]
["秋田県","05214","にかほ市",{"$f":"SUM(E19:AI19)","v":0},0,0,0,0,0,0,0,0,0,0,0,0,0,0,0,0,0,0,0,0,0,0,0,0,0,0,0,0,0,0,0]
["秋田県","05215","仙北市",{"$f":"SUM(E20:AI20)","v":0},0,0,0,0,0,0,0,0,0,0,0,0,0,0,0,0,0,0,0,0,0,0,0,0,0,0,0,0,0,0,0]
["秋田県","05303","小坂町",{"$f":"SUM(E21:AI21)","v":0},0,0,0,0,0,0,0,0,0,0,0,0,0,0,0,0,0,0,0,0,0,0,0,0,0,0,0,0,0,0,0]
["秋田県","05327","上小阿仁村",{"$f":"SUM(E22:AI22)","v":0},0,0,0,0,0,0,0,0,0,0,0,0,0,0,0,0,0,0,0,0,0,0,0,0,0,0,0,0,0,0,0]
["秋田県","05346","藤里町",{"$f":"SUM(E23:AI23)","v":0},0,0,0,0,0,0,0,0,0,0,0,0,0,0,0,0,0,0,0,0,0,0,0,0,0,0,0,0,0,0,0]
["秋田県","05348","三種町",{"$f":"SUM(E24:AI24)","v":0},0,0,0,0,0,0,0,0,0,0,0,0,0,0,0,0,0,0,0,0,0,0,0,0,0,0,0,0,0,0,0]
["秋田県","05349","八峰町",{"$f":"SUM(E25:AI25)","v":0},0,0,0,0,0,0,0,0,0,0,0,0,0,0,0,0,0,0,0,0,0,0,0,0,0,0,0,0,0,0,0]
["秋田県","05361","五城目町",{"$f":"SUM(E26:AI26)","v":0},0,0,0,0,0,0,0,0,0,0,0,0,0,0,0,0,0,0,0,0,0,0,0,0,0,0,0,0,0,0,0]
["秋田県","05363","八郎潟町",{"$f":"SUM(E27:AI27)","v":0},0,0,0,0,0,0,0,0,0,0,0,0,0,0,0,0,0,0,0,0,0,0,0,0,0,0,0,0,0,0,0]
["秋田県","05366","井川町",{"$f":"SUM(E28:AI28)","v":0},0,0,0,0,0,0,0,0,0,0,0,0,0,0,0,0,0,0,0,0,0,0,0,0,0,0,0,0,0,0,0]
["秋田県","05368","大潟村",{"$f":"SUM(E29:AI29)","v":0},0,0,0,0,0,0,0,0,0,0,0,0,0,0,0,0,0,0,0,0,0,0,0,0,0,0,0,0,0,0,0]
["秋田県","05434","美郷町",{"$f":"SUM(E30:AI30)","v":0},0,0,0,0,0,0,0,0,0,0,0,0,0,0,0,0,0,0,0,0,0,0,0,0,0,0,0,0,0,0,0]
["秋田県","05463","羽後町",{"$f":"SUM(E31:AI31)","v":0},0,0,0,0,0,0,0,0,0,0,0,0,0,0,0,0,0,0,0,0,0,0,0,0,0,0,0,0,0,0,0]
["秋田県","05464","東成瀬村",{"$f":"SUM(E32:AI32)","v":0},0,0,0,0,0,0,0,0,0,0,0,0,0,0,0,0,0,0,0,0,0,0,0,0,0,0,0,0,0,0,0]

{"sheet":"ごみ搬入量内訳(セメント)","index":9,"n_rows":32,"n_cols":35,"rows_kept":32,"merged":[[1,0,5,0],[1,1,5,1],[1,2,5,2],[2,3,4,3],[2,4,4,4],[2,5,4,5],[2,6,4,6],[2,7,4,7],[2,8,4,8],[2,9,4,9],[2,10,4,10],[2,11,4,11],[2,12,4,12],[2,13,4,13],[2,14,4,14],[2,15,4,15],[2,16,4,16],[2,17,4,17],[2,18,4,18],[2,19,4,19],[2,20,4,20],[2,21,4,21],[2,22,4,22],[2,23,4,23],[2,24,4,24],[2,25,4,25],[2,26,4,26],[2,27,4,27],[2,28,4,28],[2,29,4,29],[2,30,4,30],[2,31,4,31],[2,33,4,33],[2,34,4,34]]}
["【災害】処理施設別ごみ搬入量の状況（令和3年度実績）"]
["都道府県名","地方公共団体コード","市区町村名","セメント等への直接投入"]
[{"$nulls":3},"合計","木くず","金属くず","コンクリートがら","その他がれき類","石綿含有廃棄物等","ＰＣＢ廃棄物","その他有害物、危険物","混合ごみ","可燃ごみ","不燃ごみ","資源ごみ","粗大ごみ","家電４品目","パソコン","自動車","ＦＲＰ船","鋼船","その他船舶","畳","漁網","タイヤ","その他家電","消火器","ガスボンベ","土石類","津波堆積物","その他","冷凍・冷蔵庫保管物\n（海洋投入）",null,"漂着ごみ","除染廃棄物"]
[{"$nulls":32},"石膏ボード"]
[]
[{"$nulls":3},"（ｔ）","（ｔ）","（ｔ）","（ｔ）","（ｔ）","（ｔ）","（ｔ）","（ｔ）","（ｔ）","（ｔ）","（ｔ）","（ｔ）","（ｔ）","（ｔ）","（ｔ）","（ｔ）","（ｔ）","（ｔ）","（ｔ）","（ｔ）","（ｔ）","（ｔ）","（ｔ）","（ｔ）","（ｔ）","（ｔ）","（ｔ）","（ｔ）","（ｔ）","（ｔ）","（ｔ）","（ｔ）"]
["秋田県","05000","合計",{"$f":"SUM($D$8:$D$32)","v":0},{"$f":"SUM($E$8:$E$32)","v":0},{"$f":"SUM($F$8:$F$32)","v":0},{"$f":"SUM($G$8:$G$32)","v":0},{"$f":"SUM($H$8:$H$32)","v":0},{"$f":"SUM($I$8:$I$32)","v":0},{"$f":"SUM($J$8:$J$32)","v":0},{"$f":"SUM($K$8:$K$32)","v":0},{"$f":"SUM($L$8:$L$32)","v":0},{"$f":"SUM($M$8:$M$32)","v":0},{"$f":"SUM($N$8:$N$32)","v":0},{"$f":"SUM($O$8:$O$32)","v":0},{"$f":"SUM($P$8:$P$32)","v":0},{"$f":"SUM($Q$8:$Q$32)","v":0},{"$f":"SUM($R$8:$R$32)","v":0},{"$f":"SUM($S$8:$S$32)","v":0},{"$f":"SUM($T$8:$T$32)","v":0},{"$f":"SUM($U$8:$U$32)","v":0},{"$f":"SUM($V$8:$V$32)","v":0},{"$f":"SUM($W$8:$W$32)","v":0},{"$f":"SUM($X$8:$X$32)","v":0},{"$f":"SUM($Y$8:$Y$32)","v":0},{"$f":"SUM($Z$8:$Z$32)","v":0},{"$f":"SUM($AA$8:$AA$32)","v":0},{"$f":"SUM($AB$8:$AB$32)","v":0},{"$f":"SUM($AC$8:$AC$32)","v":0},{"$f":"SUM($AD$8:$AD$32)","v":0},{"$f":"SUM($AE$8:$AE$32)","v":0},{"$f":"SUM($AF$8:$AF$32)","v":0},{"$f":"SUM($AG$8:$AG$32)","v":0},{"$f":"SUM($AH$8:$AH$32)","v":0},{"$f":"SUM($AI$8:$AI$32)","v":0}]
["秋田県","05201","秋田市",{"$f":"SUM(E8:AI8)","v":0},0,0,0,0,0,0,0,0,0,0,0,0,0,0,0,0,0,0,0,0,0,0,0,0,0,0,0,0,0,0,0]
["秋田県","05202","能代市",{"$f":"SUM(E9:AI9)","v":0},0,0,0,0,0,0,0,0,0,0,0,0,0,0,0,0,0,0,0,0,0,0,0,0,0,0,0,0,0,0,0]
["秋田県","05203","横手市",{"$f":"SUM(E10:AI10)","v":0},0,0,0,0,0,0,0,0,0,0,0,0,0,0,0,0,0,0,0,0,0,0,0,0,0,0,0,0,0,0,0]
["秋田県","05204","大館市",{"$f":"SUM(E11:AI11)","v":0},0,0,0,0,0,0,0,0,0,0,0,0,0,0,0,0,0,0,0,0,0,0,0,0,0,0,0,0,0,0,0]
["秋田県","05206","男鹿市",{"$f":"SUM(E12:AI12)","v":0},0,0,0,0,0,0,0,0,0,0,0,0,0,0,0,0,0,0,0,0,0,0,0,0,0,0,0,0,0,0,0]
["秋田県","05207","湯沢市",{"$f":"SUM(E13:AI13)","v":0},0,0,0,0,0,0,0,0,0,0,0,0,0,0,0,0,0,0,0,0,0,0,0,0,0,0,0,0,0,0,0]
["秋田県","05209","鹿角市",{"$f":"SUM(E14:AI14)","v":0},0,0,0,0,0,0,0,0,0,0,0,0,0,0,0,0,0,0,0,0,0,0,0,0,0,0,0,0,0,0,0]
["秋田県","05210","由利本荘市",{"$f":"SUM(E15:AI15)","v":0},0,0,0,0,0,0,0,0,0,0,0,0,0,0,0,0,0,0,0,0,0,0,0,0,0,0,0,0,0,0,0]
["秋田県","05211","潟上市",{"$f":"SUM(E16:AI16)","v":0},0,0,0,0,0,0,0,0,0,0,0,0,0,0,0,0,0,0,0,0,0,0,0,0,0,0,0,0,0,0,0]
["秋田県","05212","大仙市",{"$f":"SUM(E17:AI17)","v":0},0,0,0,0,0,0,0,0,0,0,0,0,0,0,0,0,0,0,0,0,0,0,0,0,0,0,0,0,0,0,0]
["秋田県","05213","北秋田市",{"$f":"SUM(E18:AI18)","v":0},0,0,0,0,0,0,0,0,0,0,0,0,0,0,0,0,0,0,0,0,0,0,0,0,0,0,0,0,0,0,0]
["秋田県","05214","にかほ市",{"$f":"SUM(E19:AI19)","v":0},0,0,0,0,0,0,0,0,0,0,0,0,0,0,0,0,0,0,0,0,0,0,0,0,0,0,0,0,0,0,0]
["秋田県","05215","仙北市",{"$f":"SUM(E20:AI20)","v":0},0,0,0,0,0,0,0,0,0,0,0,0,0,0,0,0,0,0,0,0,0,0,0,0,0,0,0,0,0,0,0]
["秋田県","05303","小坂町",{"$f":"SUM(E21:AI21)","v":0},0,0,0,0,0,0,0,0,0,0,0,0,0,0,0,0,0,0,0,0,0,0,0,0,0,0,0,0,0,0,0]
["秋田県","05327","上小阿仁村",{"$f":"SUM(E22:AI22)","v":0},0,0,0,0,0,0,0,0,0,0,0,0,0,0,0,0,0,0,0,0,0,0,0,0,0,0,0,0,0,0,0]
["秋田県","05346","藤里町",{"$f":"SUM(E23:AI23)","v":0},0,0,0,0,0,0,0,0,0,0,0,0,0,0,0,0,0,0,0,0,0,0,0,0,0,0,0,0,0,0,0]
["秋田県","05348","三種町",{"$f":"SUM(E24:AI24)","v":0},0,0,0,0,0,0,0,0,0,0,0,0,0,0,0,0,0,0,0,0,0,0,0,0,0,0,0,0,0,0,0]
["秋田県","05349","八峰町",{"$f":"SUM(E25:AI25)","v":0},0,0,0,0,0,0,0,0,0,0,0,0,0,0,0,0,0,0,0,0,0,0,0,0,0,0,0,0,0,0,0]
["秋田県","05361","五城目町",{"$f":"SUM(E26:AI26)","v":0},0,0,0,0,0,0,0,0,0,0,0,0,0,0,0,0,0,0,0,0,0,0,0,0,0,0,0,0,0,0,0]
["秋田県","05363","八郎潟町",{"$f":"SUM(E27:AI27)","v":0},0,0,0,0,0,0,0,0,0,0,0,0,0,0,0,0,0,0,0,0,0,0,0,0,0,0,0,0,0,0,0]
["秋田県","05366","井川町",{"$f":"SUM(E28:AI28)","v":0},0,0,0,0,0,0,0,0,0,0,0,0,0,0,0,0,0,0,0,0,0,0,0,0,0,0,0,0,0,0,0]
["秋田県","05368","大潟村",{"$f":"SUM(E29:AI29)","v":0},0,0,0,0,0,0,0,0,0,0,0,0,0,0,0,0,0,0,0,0,0,0,0,0,0,0,0,0,0,0,0]
["秋田県","05434","美郷町",{"$f":"SUM(E30:AI30)","v":0},0,0,0,0,0,0,0,0,0,0,0,0,0,0,0,0,0,0,0,0,0,0,0,0,0,0,0,0,0,0,0]
["秋田県","05463","羽後町",{"$f":"SUM(E31:AI31)","v":0},0,0,0,0,0,0,0,0,0,0,0,0,0,0,0,0,0,0,0,0,0,0,0,0,0,0,0,0,0,0,0]
["秋田県","05464","東成瀬村",{"$f":"SUM(E32:AI32)","v":0},0,0,0,0,0,0,0,0,0,0,0,0,0,0,0,0,0,0,0,0,0,0,0,0,0,0,0,0,0,0,0]

{"sheet":"ごみ搬入量内訳(資源化等)","index":10,"n_rows":32,"n_cols":35,"rows_kept":32,"merged":[[1,0,5,0],[1,1,5,1],[1,2,5,2],[2,3,4,3],[2,4,4,4],[2,5,4,5],[2,6,4,6],[2,7,4,7],[2,8,4,8],[2,9,4,9],[2,10,4,10],[2,11,4,11],[2,12,4,12],[2,13,4,13],[2,14,4,14],[2,15,4,15],[2,16,4,16],[2,17,4,17],[2,18,4,18],[2,19,4,19],[2,20,4,20],[2,21,4,21],[2,22,4,22],[2,23,4,23],[2,24,4,24],[2,25,4,25],[2,26,4,26],[2,27,4,27],[2,28,4,28],[2,29,4,29],[2,30,4,30],[2,31,4,31],[2,33,4,33],[2,34,4,34]]}
["【災害】処理施設別ごみ搬入量の状況（令和3年度実績）"]
["都道府県名","地方公共団体コード","市区町村名","その他資源化等を行う施設"]
[{"$nulls":3},"合計","木くず","金属くず","コンクリートがら","その他がれき類","石綿含有廃棄物等","ＰＣＢ廃棄物","その他有害物、危険物","混合ごみ","可燃ごみ","不燃ごみ","資源ごみ","粗大ごみ","家電４品目","パソコン","自動車","ＦＲＰ船","鋼船","その他船舶","畳","漁網","タイヤ","その他家電","消火器","ガスボンベ","土石類","津波堆積物","その他","冷凍・冷蔵庫保管物\n（海洋投入）",null,"漂着ごみ","除染廃棄物"]
[{"$nulls":32},"石膏ボード"]
[]
[{"$nulls":3},"（ｔ）","（ｔ）","（ｔ）","（ｔ）","（ｔ）","（ｔ）","（ｔ）","（ｔ）","（ｔ）","（ｔ）","（ｔ）","（ｔ）","（ｔ）","（ｔ）","（ｔ）","（ｔ）","（ｔ）","（ｔ）","（ｔ）","（ｔ）","（ｔ）","（ｔ）","（ｔ）","（ｔ）","（ｔ）","（ｔ）","（ｔ）","（ｔ）","（ｔ）","（ｔ）","（ｔ）","（ｔ）"]
["秋田県","05000","合計",{"$f":"SUM($D$8:$D$32)","v":0},{"$f":"SUM($E$8:$E$32)","v":0},{"$f":"SUM($F$8:$F$32)","v":0},{"$f":"SUM($G$8:$G$32)","v":0},{"$f":"SUM($H$8:$H$32)","v":0},{"$f":"SUM($I$8:$I$32)","v":0},{"$f":"SUM($J$8:$J$32)","v":0},{"$f":"SUM($K$8:$K$32)","v":0},{"$f":"SUM($L$8:$L$32)","v":0},{"$f":"SUM($M$8:$M$32)","v":0},{"$f":"SUM($N$8:$N$32)","v":0},{"$f":"SUM($O$8:$O$32)","v":0},{"$f":"SUM($P$8:$P$32)","v":0},{"$f":"SUM($Q$8:$Q$32)","v":0},{"$f":"SUM($R$8:$R$32)","v":0},{"$f":"SUM($S$8:$S$32)","v":0},{"$f":"SUM($T$8:$T$32)","v":0},{"$f":"SUM($U$8:$U$32)","v":0},{"$f":"SUM($V$8:$V$32)","v":0},{"$f":"SUM($W$8:$W$32)","v":0},{"$f":"SUM($X$8:$X$32)","v":0},{"$f":"SUM($Y$8:$Y$32)","v":0},{"$f":"SUM($Z$8:$Z$32)","v":0},{"$f":"SUM($AA$8:$AA$32)","v":0},{"$f":"SUM($AB$8:$AB$32)","v":0},{"$f":"SUM($AC$8:$AC$32)","v":0},{"$f":"SUM($AD$8:$AD$32)","v":0},{"$f":"SUM($AE$8:$AE$32)","v":0},{"$f":"SUM($AF$8:$AF$32)","v":0},{"$f":"SUM($AG$8:$AG$32)","v":0},{"$f":"SUM($AH$8:$AH$32)","v":0},{"$f":"SUM($AI$8:$AI$32)","v":0}]
["秋田県","05201","秋田市",{"$f":"SUM(E8:AI8)","v":0},0,0,0,0,0,0,0,0,0,0,0,0,0,0,0,0,0,0,0,0,0,0,0,0,0,0,0,0,0,0,0]
["秋田県","05202","能代市",{"$f":"SUM(E9:AI9)","v":0},0,0,0,0,0,0,0,0,0,0,0,0,0,0,0,0,0,0,0,0,0,0,0,0,0,0,0,0,0,0,0]
["秋田県","05203","横手市",{"$f":"SUM(E10:AI10)","v":0},0,0,0,0,0,0,0,0,0,0,0,0,0,0,0,0,0,0,0,0,0,0,0,0,0,0,0,0,0,0,0]
["秋田県","05204","大館市",{"$f":"SUM(E11:AI11)","v":0},0,0,0,0,0,0,0,0,0,0,0,0,0,0,0,0,0,0,0,0,0,0,0,0,0,0,0,0,0,0,0]
["秋田県","05206","男鹿市",{"$f":"SUM(E12:AI12)","v":0},0,0,0,0,0,0,0,0,0,0,0,0,0,0,0,0,0,0,0,0,0,0,0,0,0,0,0,0,0,0,0]
["秋田県","05207","湯沢市",{"$f":"SUM(E13:AI13)","v":0},0,0,0,0,0,0,0,0,0,0,0,0,0,0,0,0,0,0,0,0,0,0,0,0,0,0,0,0,0,0,0]
["秋田県","05209","鹿角市",{"$f":"SUM(E14:AI14)","v":0},0,0,0,0,0,0,0,0,0,0,0,0,0,0,0,0,0,0,0,0,0,0,0,0,0,0,0,0,0,0,0]
["秋田県","05210","由利本荘市",{"$f":"SUM(E15:AI15)","v":0},0,0,0,0,0,0,0,0,0,0,0,0,0,0,0,0,0,0,0,0,0,0,0,0,0,0,0,0,0,0,0]
["秋田県","05211","潟上市",{"$f":"SUM(E16:AI16)","v":0},0,0,0,0,0,0,0,0,0,0,0,0,0,0,0,0,0,0,0,0,0,0,0,0,0,0,0,0,0,0,0]
["秋田県","05212","大仙市",{"$f":"SUM(E17:AI17)","v":0},0,0,0,0,0,0,0,0,0,0,0,0,0,0,0,0,0,0,0,0,0,0,0,0,0,0,0,0,0,0,0]
["秋田県","05213","北秋田市",{"$f":"SUM(E18:AI18)","v":0},0,0,0,0,0,0,0,0,0,0,0,0,0,0,0,0,0,0,0,0,0,0,0,0,0,0,0,0,0,0,0]
["秋田県","05214","にかほ市",{"$f":"SUM(E19:AI19)","v":0},0,0,0,0,0,0,0,0,0,0,0,0,0,0,0,0,0,0,0,0,0,0,0,0,0,0,0,0,0,0,0]
["秋田県","05215","仙北市",{"$f":"SUM(E20:AI20)","v":0},0,0,0,0,0,0,0,0,0,0,0,0,0,0,0,0,0,0,0,0,0,0,0,0,0,0,0,0,0,0,0]
["秋田県","05303","小坂町",{"$f":"SUM(E21:AI21)","v":0},0,0,0,0,0,0,0,0,0,0,0,0,0,0,0,0,0,0,0,0,0,0,0,0,0,0,0,0,0,0,0]
["秋田県","05327","上小阿仁村",{"$f":"SUM(E22:AI22)","v":0},0,0,0,0,0,0,0,0,0,0,0,0,0,0,0,0,0,0,0,0,0,0,0,0,0,0,0,0,0,0,0]
["秋田県","05346","藤里町",{"$f":"SUM(E23:AI23)","v":0},0,0,0,0,0,0,0,0,0,0,0,0,0,0,0,0,0,0,0,0,0,0,0,0,0,0,0,0,0,0,0]
["秋田県","05348","三種町",{"$f":"SUM(E24:AI24)","v":0},0,0,0,0,0,0,0,0,0,0,0,0,0,0,0,0,0,0,0,0,0,0,0,0,0,0,0,0,0,0,0]
["秋田県","05349","八峰町",{"$f":"SUM(E25:AI25)","v":0},0,0,0,0,0,0,0,0,0,0,0,0,0,0,0,0,0,0,0,0,0,0,0,0,0,0,0,0,0,0,0]
["秋田県","05361","五城目町",{"$f":"SUM(E26:AI26)","v":0},0,0,0,0,0,0,0,0,0,0,0,0,0,0,0,0,0,0,0,0,0,0,0,0,0,0,0,0,0,0,0]
["秋田県","05363","八郎潟町",{"$f":"SUM(E27:AI27)","v":0},0,0,0,0,0,0,0,0,0,0,0,0,0,0,0,0,0,0,0,0,0,0,0,0,0,0,0,0,0,0,0]
["秋田県","05366","井川町",{"$f":"SUM(E28:AI28)","v":0},0,0,0,0,0,0,0,0,0,0,0,0,0,0,0,0,0,0,0,0,0,0,0,0,0,0,0,0,0,0,0]
["秋田県","05368","大潟村",{"$f":"SUM(E29:AI29)","v":0},0,0,0,0,0,0,0,0,0,0,0,0,0,0,0,0,0,0,0,0,0,0,0,0,0,0,0,0,0,0,0]
["秋田県","05434","美郷町",{"$f":"SUM(E30:AI30)","v":0},0,0,0,0,0,0,0,0,0,0,0,0,0,0,0,0,0,0,0,0,0,0,0,0,0,0,0,0,0,0,0]
["秋田県","05463","羽後町",{"$f":"SUM(E31:AI31)","v":0},0,0,0,0,0,0,0,0,0,0,0,0,0,0,0,0,0,0,0,0,0,0,0,0,0,0,0,0,0,0,0]
["秋田県","05464","東成瀬村",{"$f":"SUM(E32:AI32)","v":0},0,0,0,0,0,0,0,0,0,0,0,0,0,0,0,0,0,0,0,0,0,0,0,0,0,0,0,0,0,0,0]

{"sheet":"ごみ搬入量内訳(その他)","index":11,"n_rows":32,"n_cols":35,"rows_kept":32,"merged":[[1,0,5,0],[1,1,5,1],[1,2,5,2],[2,3,4,3],[2,4,4,4],[2,5,4,5],[2,6,4,6],[2,7,4,7],[2,8,4,8],[2,9,4,9],[2,10,4,10],[2,11,4,11],[2,12,4,12],[2,13,4,13],[2,14,4,14],[2,15,4,15],[2,16,4,16],[2,17,4,17],[2,18,4,18],[2,19,4,19],[2,20,4,20],[2,21,4,21],[2,22,4,22],[2,23,4,23],[2,24,4,24],[2,25,4,25],[2,26,4,26],[2,27,4,27],[2,28,4,28],[2,29,4,29],[2,30,4,30],[2,31,4,31],[2,33,4,33],[2,34,4,34]]}
["【災害】処理施設別ごみ搬入量の状況（令和3年度実績）"]
["都道府県名","地方公共団体コード","市区町村名","その他の施設"]
[{"$nulls":3},"合計","木くず","金属くず","コンクリートがら","その他がれき類","石綿含有廃棄物等","ＰＣＢ廃棄物","その他有害物、危険物","混合ごみ","可燃ごみ","不燃ごみ","資源ごみ","粗大ごみ","家電４品目","パソコン","自動車","ＦＲＰ船","鋼船","その他船舶","畳","漁網","タイヤ","その他家電","消火器","ガスボンベ","土石類","津波堆積物","その他","冷凍・冷蔵庫保管物\n（海洋投入）",null,"漂着ごみ","除染廃棄物"]
[{"$nulls":32},"石膏ボード"]
[]
[{"$nulls":3},"（ｔ）","（ｔ）","（ｔ）","（ｔ）","（ｔ）","（ｔ）","（ｔ）","（ｔ）","（ｔ）","（ｔ）","（ｔ）","（ｔ）","（ｔ）","（ｔ）","（ｔ）","（ｔ）","（ｔ）","（ｔ）","（ｔ）","（ｔ）","（ｔ）","（ｔ）","（ｔ）","（ｔ）","（ｔ）","（ｔ）","（ｔ）","（ｔ）","（ｔ）","（ｔ）","（ｔ）","（ｔ）"]
["秋田県","05000","合計",{"$f":"SUM($D$8:$D$32)","v":0},{"$f":"SUM($E$8:$E$32)","v":0},{"$f":"SUM($F$8:$F$32)","v":0},{"$f":"SUM($G$8:$G$32)","v":0},{"$f":"SUM($H$8:$H$32)","v":0},{"$f":"SUM($I$8:$I$32)","v":0},{"$f":"SUM($J$8:$J$32)","v":0},{"$f":"SUM($K$8:$K$32)","v":0},{"$f":"SUM($L$8:$L$32)","v":0},{"$f":"SUM($M$8:$M$32)","v":0},{"$f":"SUM($N$8:$N$32)","v":0},{"$f":"SUM($O$8:$O$32)","v":0},{"$f":"SUM($P$8:$P$32)","v":0},{"$f":"SUM($Q$8:$Q$32)","v":0},{"$f":"SUM($R$8:$R$32)","v":0},{"$f":"SUM($S$8:$S$32)","v":0},{"$f":"SUM($T$8:$T$32)","v":0},{"$f":"SUM($U$8:$U$32)","v":0},{"$f":"SUM($V$8:$V$32)","v":0},{"$f":"SUM($W$8:$W$32)","v":0},{"$f":"SUM($X$8:$X$32)","v":0},{"$f":"SUM($Y$8:$Y$32)","v":0},{"$f":"SUM($Z$8:$Z$32)","v":0},{"$f":"SUM($AA$8:$AA$32)","v":0},{"$f":"SUM($AB$8:$AB$32)","v":0},{"$f":"SUM($AC$8:$AC$32)","v":0},{"$f":"SUM($AD$8:$AD$32)","v":0},{"$f":"SUM($AE$8:$AE$32)","v":0},{"$f":"SUM($AF$8:$AF$32)","v":0},{"$f":"SUM($AG$8:$AG$32)","v":0},{"$f":"SUM($AH$8:$AH$32)","v":0},{"$f":"SUM($AI$8:$AI$32)","v":0}]
["秋田県","05201","秋田市",{"$f":"SUM(E8:AI8)","v":0},0,0,0,0,0,0,0,0,0,0,0,0,0,0,0,0,0,0,0,0,0,0,0,0,0,0,0,0,0,0,0]
["秋田県","05202","能代市",{"$f":"SUM(E9:AI9)","v":0},0,0,0,0,0,0,0,0,0,0,0,0,0,0,0,0,0,0,0,0,0,0,0,0,0,0,0,0,0,0,0]
["秋田県","05203","横手市",{"$f":"SUM(E10:AI10)","v":0},0,0,0,0,0,0,0,0,0,0,0,0,0,0,0,0,0,0,0,0,0,0,0,0,0,0,0,0,0,0,0]
["秋田県","05204","大館市",{"$f":"SUM(E11:AI11)","v":0},0,0,0,0,0,0,0,0,0,0,0,0,0,0,0,0,0,0,0,0,0,0,0,0,0,0,0,0,0,0,0]
["秋田県","05206","男鹿市",{"$f":"SUM(E12:AI12)","v":0},0,0,0,0,0,0,0,0,0,0,0,0,0,0,0,0,0,0,0,0,0,0,0,0,0,0,0,0,0,0,0]
["秋田県","05207","湯沢市",{"$f":"SUM(E13:AI13)","v":0},0,0,0,0,0,0,0,0,0,0,0,0,0,0,0,0,0,0,0,0,0,0,0,0,0,0,0,0,0,0,0]
["秋田県","05209","鹿角市",{"$f":"SUM(E14:AI14)","v":0},0,0,0,0,0,0,0,0,0,0,0,0,0,0,0,0,0,0,0,0,0,0,0,0,0,0,0,0,0,0,0]
["秋田県","05210","由利本荘市",{"$f":"SUM(E15:AI15)","v":0},0,0,0,0,0,0,0,0,0,0,0,0,0,0,0,0,0,0,0,0,0,0,0,0,0,0,0,0,0,0,0]
["秋田県","05211","潟上市",{"$f":"SUM(E16:AI16)","v":0},0,0,0,0,0,0,0,0,0,0,0,0,0,0,0,0,0,0,0,0,0,0,0,0,0,0,0,0,0,0,0]
["秋田県","05212","大仙市",{"$f":"SUM(E17:AI17)","v":0},0,0,0,0,0,0,0,0,0,0,0,0,0,0,0,0,0,0,0,0,0,0,0,0,0,0,0,0,0,0,0]
["秋田県","05213","北秋田市",{"$f":"SUM(E18:AI18)","v":0},0,0,0,0,0,0,0,0,0,0,0,0,0,0,0,0,0,0,0,0,0,0,0,0,0,0,0,0,0,0,0]
["秋田県","05214","にかほ市",{"$f":"SUM(E19:AI19)","v":0},0,0,0,0,0,0,0,0,0,0,0,0,0,0,0,0,0,0,0,0,0,0,0,0,0,0,0,0,0,0,0]
["秋田県","05215","仙北市",{"$f":"SUM(E20:AI20)","v":0},0,0,0,0,0,0,0,0,0,0,0,0,0,0,0,0,0,0,0,0,0,0,0,0,0,0,0,0,0,0,0]
["秋田県","05303","小坂町",{"$f":"SUM(E21:AI21)","v":0},0,0,0,0,0,0,0,0,0,0,0,0,0,0,0,0,0,0,0,0,0,0,0,0,0,0,0,0,0,0,0]
["秋田県","05327","上小阿仁村",{"$f":"SUM(E22:AI22)","v":0},0,0,0,0,0,0,0,0,0,0,0,0,0,0,0,0,0,0,0,0,0,0,0,0,0,0,0,0,0,0,0]
["秋田県","05346","藤里町",{"$f":"SUM(E23:AI23)","v":0},0,0,0,0,0,0,0,0,0,0,0,0,0,0,0,0,0,0,0,0,0,0,0,0,0,0,0,0,0,0,0]
["秋田県","05348","三種町",{"$f":"SUM(E24:AI24)","v":0},0,0,0,0,0,0,0,0,0,0,0,0,0,0,0,0,0,0,0,0,0,0,0,0,0,0,0,0,0,0,0]
["秋田県","05349","八峰町",{"$f":"SUM(E25:AI25)","v":0},0,0,0,0,0,0,0,0,0,0,0,0,0,0,0,0,0,0,0,0,0,0,0,0,0,0,0,0,0,0,0]
["秋田県","05361","五城目町",{"$f":"SUM(E26:AI26)","v":0},0,0,0,0,0,0,0,0,0,0,0,0,0,0,0,0,0,0,0,0,0,0,0,0,0,0,0,0,0,0,0]
["秋田県","05363","八郎潟町",{"$f":"SUM(E27:AI27)","v":0},0,0,0,0,0,0,0,0,0,0,0,0,0,0,0,0,0,0,0,0,0,0,0,0,0,0,0,0,0,0,0]
["秋田県","05366","井川町",{"$f":"SUM(E28:AI28)","v":0},0,0,0,0,0,0,0,0,0,0,0,0,0,0,0,0,0,0,0,0,0,0,0,0,0,0,0,0,0,0,0]
["秋田県","05368","大潟村",{"$f":"SUM(E29:AI29)","v":0},0,0,0,0,0,0,0,0,0,0,0,0,0,0,0,0,0,0,0,0,0,0,0,0,0,0,0,0,0,0,0]
["秋田県","05434","美郷町",{"$f":"SUM(E30:AI30)","v":0},0,0,0,0,0,0,0,0,0,0,0,0,0,0,0,0,0,0,0,0,0,0,0,0,0,0,0,0,0,0,0]
["秋田県","05463","羽後町",{"$f":"SUM(E31:AI31)","v":0},0,0,0,0,0,0,0,0,0,0,0,0,0,0,0,0,0,0,0,0,0,0,0,0,0,0,0,0,0,0,0]
["秋田県","05464","東成瀬村",{"$f":"SUM(E32:AI32)","v":0},0,0,0,0,0,0,0,0,0,0,0,0,0,0,0,0,0,0,0,0,0,0,0,0,0,0,0,0,0,0,0]

{"sheet":"ごみ搬入量内訳(直接埋立)","index":12,"n_rows":32,"n_cols":35,"rows_kept":32,"merged":[[1,0,5,0],[1,1,5,1],[1,2,5,2],[2,3,4,3],[2,4,4,4],[2,5,4,5],[2,6,4,6],[2,7,4,7],[2,8,4,8],[2,9,4,9],[2,10,4,10],[2,11,4,11],[2,12,4,12],[2,13,4,13],[2,14,4,14],[2,15,4,15],[2,16,4,16],[2,17,4,17],[2,18,4,18],[2,19,4,19],[2,20,4,20],[2,21,4,21],[2,22,4,22],[2,23,4,23],[2,24,4,24],[2,25,4,25],[2,26,4,26],[2,27,4,27],[2,28,4,28],[2,29,4,29],[2,30,4,30],[2,31,4,31],[2,33,4,33],[2,34,4,34]]}
["【災害】処理施設別ごみ搬入量の状況（令和3年度実績）"]
["都道府県名","地方公共団体コード","市区町村名","直接埋立"]
[{"$nulls":3},"合計","木くず","金属くず","コンクリートがら","その他がれき類","石綿含有廃棄物等","ＰＣＢ廃棄物","その他有害物、危険物","混合ごみ","可燃ごみ","不燃ごみ","資源ごみ","粗大ごみ","家電４品目","パソコン","自動車","ＦＲＰ船","鋼船","その他船舶","畳","漁網","タイヤ","その他家電","消火器","ガスボンベ","土石類","津波堆積物","その他","冷凍・冷蔵庫保管物\n（海洋投入）",null,"漂着ごみ","除染廃棄物"]
[{"$nulls":32},"石膏ボード"]
[]
[{"$nulls":3},"（ｔ）","（ｔ）","（ｔ）","（ｔ）","（ｔ）","（ｔ）","（ｔ）","（ｔ）","（ｔ）","（ｔ）","（ｔ）","（ｔ）","（ｔ）","（ｔ）","（ｔ）","（ｔ）","（ｔ）","（ｔ）","（ｔ）","（ｔ）","（ｔ）","（ｔ）","（ｔ）","（ｔ）","（ｔ）","（ｔ）","（ｔ）","（ｔ）","（ｔ）","（ｔ）","（ｔ）","（ｔ）"]
["秋田県","05000","合計",{"$f":"SUM($D$8:$D$32)","v":0},{"$f":"SUM($E$8:$E$32)","v":0},{"$f":"SUM($F$8:$F$32)","v":0},{"$f":"SUM($G$8:$G$32)","v":0},{"$f":"SUM($H$8:$H$32)","v":0},{"$f":"SUM($I$8:$I$32)","v":0},{"$f":"SUM($J$8:$J$32)","v":0},{"$f":"SUM($K$8:$K$32)","v":0},{"$f":"SUM($L$8:$L$32)","v":0},{"$f":"SUM($M$8:$M$32)","v":0},{"$f":"SUM($N$8:$N$32)","v":0},{"$f":"SUM($O$8:$O$32)","v":0},{"$f":"SUM($P$8:$P$32)","v":0},{"$f":"SUM($Q$8:$Q$32)","v":0},{"$f":"SUM($R$8:$R$32)","v":0},{"$f":"SUM($S$8:$S$32)","v":0},{"$f":"SUM($T$8:$T$32)","v":0},{"$f":"SUM($U$8:$U$32)","v":0},{"$f":"SUM($V$8:$V$32)","v":0},{"$f":"SUM($W$8:$W$32)","v":0},{"$f":"SUM($X$8:$X$32)","v":0},{"$f":"SUM($Y$8:$Y$32)","v":0},{"$f":"SUM($Z$8:$Z$32)","v":0},{"$f":"SUM($AA$8:$AA$32)","v":0},{"$f":"SUM($AB$8:$AB$32)","v":0},{"$f":"SUM($AC$8:$AC$32)","v":0},{"$f":"SUM($AD$8:$AD$32)","v":0},{"$f":"SUM($AE$8:$AE$32)","v":0},{"$f":"SUM($AF$8:$AF$32)","v":0},{"$f":"SUM($AG$8:$AG$32)","v":0},{"$f":"SUM($AH$8:$AH$32)","v":0},{"$f":"SUM($AI$8:$AI$32)","v":0}]
["秋田県","05201","秋田市",{"$f":"SUM(E8:AI8)","v":0},0,0,0,0,0,0,0,0,0,0,0,0,0,0,0,0,0,0,0,0,0,0,0,0,0,0,0,0,0,0,0]
["秋田県","05202","能代市",{"$f":"SUM(E9:AI9)","v":0},0,0,0,0,0,0,0,0,0,0,0,0,0,0,0,0,0,0,0,0,0,0,0,0,0,0,0,0,0,0,0]
["秋田県","05203","横手市",{"$f":"SUM(E10:AI10)","v":0},0,0,0,0,0,0,0,0,0,0,0,0,0,0,0,0,0,0,0,0,0,0,0,0,0,0,0,0,0,0,0]
["秋田県","05204","大館市",{"$f":"SUM(E11:AI11)","v":0},0,0,0,0,0,0,0,0,0,0,0,0,0,0,0,0,0,0,0,0,0,0,0,0,0,0,0,0,0,0,0]
["秋田県","05206","男鹿市",{"$f":"SUM(E12:AI12)","v":0},0,0,0,0,0,0,0,0,0,0,0,0,0,0,0,0,0,0,0,0,0,0,0,0,0,0,0,0,0,0,0]
["秋田県","05207","湯沢市",{"$f":"SUM(E13:AI13)","v":0},0,0,0,0,0,0,0,0,0,0,0,0,0,0,0,0,0,0,0,0,0,0,0,0,0,0,0,0,0,0,0]
["秋田県","05209","鹿角市",{"$f":"SUM(E14:AI14)","v":0},0,0,0,0,0,0,0,0,0,0,0,0,0,0,0,0,0,0,0,0,0,0,0,0,0,0,0,0,0,0,0]
["秋田県","05210","由利本荘市",{"$f":"SUM(E15:AI15)","v":0},0,0,0,0,0,0,0,0,0,0,0,0,0,0,0,0,0,0,0,0,0,0,0,0,0,0,0,0,0,0,0]
["秋田県","05211","潟上市",{"$f":"SUM(E16:AI16)","v":0},0,0,0,0,0,0,0,0,0,0,0,0,0,0,0,0,0,0,0,0,0,0,0,0,0,0,0,0,0,0,0]
["秋田県","05212","大仙市",{"$f":"SUM(E17:AI17)","v":0},0,0,0,0,0,0,0,0,0,0,0,0,0,0,0,0,0,0,0,0,0,0,0,0,0,0,0,0,0,0,0]
["秋田県","05213","北秋田市",{"$f":"SUM(E18:AI18)","v":0},0,0,0,0,0,0,0,0,0,0,0,0,0,0,0,0,0,0,0,0,0,0,0,0,0,0,0,0,0,0,0]
["秋田県","05214","にかほ市",{"$f":"SUM(E19:AI19)","v":0},0,0,0,0,0,0,0,0,0,0,0,0,0,0,0,0,0,0,0,0,0,0,0,0,0,0,0,0,0,0,0]
["秋田県","05215","仙北市",{"$f":"SUM(E20:AI20)","v":0},0,0,0,0,0,0,0,0,0,0,0,0,0,0,0,0,0,0,0,0,0,0,0,0,0,0,0,0,0,0,0]
["秋田県","05303","小坂町",{"$f":"SUM(E21:AI21)","v":0},0,0,0,0,0,0,0,0,0,0,0,0,0,0,0,0,0,0,0,0,0,0,0,0,0,0,0,0,0,0,0]
["秋田県","05327","上小阿仁村",{"$f":"SUM(E22:AI22)","v":0},0,0,0,0,0,0,0,0,0,0,0,0,0,0,0,0,0,0,0,0,0,0,0,0,0,0,0,0,0,0,0]
["秋田県","05346","藤里町",{"$f":"SUM(E23:AI23)","v":0},0,0,0,0,0,0,0,0,0,0,0,0,0,0,0,0,0,0,0,0,0,0,0,0,0,0,0,0,0,0,0]
["秋田県","05348","三種町",{"$f":"SUM(E24:AI24)","v":0},0,0,0,0,0,0,0,0,0,0,0,0,0,0,0,0,0,0,0,0,0,0,0,0,0,0,0,0,0,0,0]
["秋田県","05349","八峰町",{"$f":"SUM(E25:AI25)","v":0},0,0,0,0,0,0,0,0,0,0,0,0,0,0,0,0,0,0,0,0,0,0,0,0,0,0,0,0,0,0,0]
["秋田県","05361","五城目町",{"$f":"SUM(E26:AI26)","v":0},0,0,0,0,0,0,0,0,0,0,0,0,0,0,0,0,0,0,0,0,0,0,0,0,0,0,0,0,0,0,0]
["秋田県","05363","八郎潟町",{"$f":"SUM(E27:AI27)","v":0},0,0,0,0,0,0,0,0,0,0,0,0,0,0,0,0,0,0,0,0,0,0,0,0,0,0,0,0,0,0,0]
["秋田県","05366","井川町",{"$f":"SUM(E28:AI28)","v":0},0,0,0,0,0,0,0,0,0,0,0,0,0,0,0,0,0,0,0,0,0,0,0,0,0,0,0,0,0,0,0]
["秋田県","05368","大潟村",{"$f":"SUM(E29:AI29)","v":0},0,0,0,0,0,0,0,0,0,0,0,0,0,0,0,0,0,0,0,0,0,0,0,0,0,0,0,0,0,0,0]
["秋田県","05434","美郷町",{"$f":"SUM(E30:AI30)","v":0},0,0,0,0,0,0,0,0,0,0,0,0,0,0,0,0,0,0,0,0,0,0,0,0,0,0,0,0,0,0,0]
["秋田県","05463","羽後町",{"$f":"SUM(E31:AI31)","v":0},0,0,0,0,0,0,0,0,0,0,0,0,0,0,0,0,0,0,0,0,0,0,0,0,0,0,0,0,0,0,0]
["秋田県","05464","東成瀬村",{"$f":"SUM(E32:AI32)","v":0},0,0,0,0,0,0,0,0,0,0,0,0,0,0,0,0,0,0,0,0,0,0,0,0,0,0,0,0,0,0,0]

{"sheet":"ごみ搬入量内訳(海洋投入)","index":13,"n_rows":32,"n_cols":35,"rows_kept":32,"merged":[[1,0,5,0],[1,1,5,1],[1,2,5,2],[2,3,4,3],[2,4,4,4],[2,5,4,5],[2,6,4,6],[2,7,4,7],[2,8,4,8],[2,9,4,9],[2,10,4,10],[2,11,4,11],[2,12,4,12],[2,13,4,13],[2,14,4,14],[2,15,4,15],[2,16,4,16],[2,17,4,17],[2,18,4,18],[2,19,4,19],[2,20,4,20],[2,21,4,21],[2,22,4,22],[2,23,4,23],[2,24,4,24],[2,25,4,25],[2,26,4,26],[2,27,4,27],[2,28,4,28],[2,29,4,29],[2,30,4,30],[2,31,4,31],[2,33,4,33],[2,34,4,34]]}
["【災害】処理施設別ごみ搬入量の状況（令和3年度実績）"]
["都道府県名","地方公共団体コード","市区町村名","海洋投入"]
[{"$nulls":3},"合計","木くず","金属くず","コンクリートがら","その他がれき類","石綿含有廃棄物等","ＰＣＢ廃棄物","その他有害物、危険物","混合ごみ","可燃ごみ","不燃ごみ","資源ごみ","粗大ごみ","家電４品目","パソコン","自動車","ＦＲＰ船","鋼船","その他船舶","畳","漁網","タイヤ","その他家電","消火器","ガスボンベ","土石類","津波堆積物","その他","冷凍・冷蔵庫保管物\n（海洋投入）",null,"漂着ごみ","除染廃棄物"]
[{"$nulls":32},"石膏ボード"]
[]
[{"$nulls":3},"（ｔ）","（ｔ）","（ｔ）","（ｔ）","（ｔ）","（ｔ）","（ｔ）","（ｔ）","（ｔ）","（ｔ）","（ｔ）","（ｔ）","（ｔ）","（ｔ）","（ｔ）","（ｔ）","（ｔ）","（ｔ）","（ｔ）","（ｔ）","（ｔ）","（ｔ）","（ｔ）","（ｔ）","（ｔ）","（ｔ）","（ｔ）","（ｔ）","（ｔ）","（ｔ）","（ｔ）","（ｔ）"]
["秋田県","05000","合計",{"$f":"SUM($D$8:$D$32)","v":0},0,0,0,0,0,0,0,0,0,0,0,0,0,0,0,0,0,0,0,0,0,0,0,0,0,0,0,{"$f":"SUM($AF$8:$AF$32)","v":0},0,0,{"$f":"SUM($AI$8:$AI$32)","v":0}]
["秋田県","05201","秋田市",{"$f":"SUM(E8:AI8)","v":0},{"$f":"E7","v":0},{"$f":"F7","v":0},0,0,0,0,0,0,0,0,0,0,0,0,0,0,0,0,0,0,0,0,0,0,0,0,0,0,{"$f":"AG7","v":0},{"$f":"AH7","v":0},0]
["秋田県","05202","能代市",{"$f":"SUM(E9:AI9)","v":0},{"$f":"E8","v":0},0,0,0,0,0,0,0,0,0,0,0,0,0,0,0,0,0,0,0,0,0,0,0,0,0,0,0,{"$f":"AG8","v":0},{"$f":"AH8","v":0},0]
["秋田県","05203","横手市",{"$f":"SUM(E10:AI10)","v":0},{"$f":"E9","v":0},0,0,0,0,0,0,0,0,0,0,0,0,0,0,0,0,0,0,0,0,0,0,0,0,0,0,0,{"$f":"AG9","v":0},{"$f":"AH9","v":0},0]
["秋田県","05204","大館市",{"$f":"SUM(E11:AI11)","v":0},{"$f":"E10","v":0},0,0,0,0,0,0,0,0,0,0,0,0,0,0,0,0,0,0,0,0,0,0,0,0,0,0,0,{"$f":"AG10","v":0},{"$f":"AH10","v":0},0]
["秋田県","05206","男鹿市",{"$f":"SUM(E12:AI12)","v":0},{"$f":"E11","v":0},0,0,0,0,0,0,0,0,0,0,0,0,0,0,0,0,0,0,0,0,0,0,0,0,0,0,0,{"$f":"AG11","v":0},{"$f":"AH11","v":0},0]
["秋田県","05207","湯沢市",{"$f":"SUM(E13:AI13)","v":0},{"$f":"E12","v":0},0,0,0,0,0,0,0,0,0,0,0,0,0,0,0,0,0,0,0,0,0,0,0,0,0,0,0,{"$f":"AG12","v":0},{"$f":"AH12","v":0},0]
["秋田県","05209","鹿角市",{"$f":"SUM(E14:AI14)","v":0},{"$f":"E13","v":0},0,0,0,0,0,0,0,0,0,0,0,0,0,0,0,0,0,0,0,0,0,0,0,0,0,0,0,{"$f":"AG13","v":0},{"$f":"AH13","v":0},0]
["秋田県","05210","由利本荘市",{"$f":"SUM(E15:AI15)","v":0},{"$f":"E14","v":0},0,0,0,0,0,0,0,0,0,0,0,0,0,0,0,0,0,0,0,0,0,0,0,0,0,0,0,{"$f":"AG14","v":0},{"$f":"AH14","v":0},0]
["秋田県","05211","潟上市",{"$f":"SUM(E16:AI16)","v":0},{"$f":"E15","v":0},0,0,0,0,0,0,0,0,0,0,0,0,0,0,0,0,0,0,0,0,0,0,0,0,0,0,0,{"$f":"AG15","v":0},{"$f":"AH15","v":0},0]
["秋田県","05212","大仙市",{"$f":"SUM(E17:AI17)","v":0},{"$f":"E16","v":0},0,0,0,0,0,0,0,0,0,0,0,0,0,0,0,0,0,0,0,0,0,{"$f":"AA16","v":0},0,0,0,0,0,{"$f":"AG16","v":0},{"$f":"AH16","v":0},0]
["秋田県","05213","北秋田市",{"$f":"SUM(E18:AI18)","v":0},{"$f":"E17","v":0},{"$f":"F17","v":0},0,0,0,0,0,0,0,0,0,0,0,0,0,0,0,0,0,0,0,0,0,0,0,0,0,0,{"$f":"AG17","v":0},{"$f":"AH17","v":0},0]
["秋田県","05214","にかほ市",{"$f":"SUM(E19:AI19)","v":0},{"$f":"E18","v":0},0,0,0,0,0,0,0,0,0,0,0,0,0,0,0,0,0,0,0,0,0,0,0,0,0,0,0,{"$f":"AG18","v":0},{"$f":"AH18","v":0},0]
["秋田県","05215","仙北市",{"$f":"SUM(E20:AI20)","v":0},{"$f":"E19","v":0},0,0,0,0,0,0,0,0,0,0,0,0,0,0,0,0,0,0,0,0,0,0,0,0,0,0,0,{"$f":"AG19","v":0},{"$f":"AH19","v":0},0]
["秋田県","05303","小坂町",{"$f":"SUM(E21:AI21)","v":0},{"$f":"E20","v":0},0,0,0,0,0,0,0,0,0,0,0,0,0,0,0,0,0,0,0,0,0,0,0,0,0,0,0,{"$f":"AG20","v":0},{"$f":"AH20","v":0},0]
["秋田県","05327","上小阿仁村",{"$f":"SUM(E22:AI22)","v":0},{"$f":"E21","v":0},0,0,0,0,0,0,0,0,0,0,0,0,0,0,0,0,0,0,0,0,0,0,0,0,0,0,0,{"$f":"AG21","v":0},{"$f":"AH21","v":0},0]
["秋田県","05346","藤里町",{"$f":"SUM(E23:AI23)","v":0},{"$f":"E22","v":0},0,0,0,0,0,0,0,0,0,0,0,0,0,0,0,0,0,0,0,0,0,0,0,0,0,0,0,{"$f":"AG22","v":0},{"$f":"AH22","v":0},0]
["秋田県","05348","三種町",{"$f":"SUM(E24:AI24)","v":0},{"$f":"E23","v":0},0,0,0,0,0,0,0,0,0,0,0,0,0,0,0,0,0,0,0,0,0,0,0,0,0,0,0,{"$f":"AG23","v":0},{"$f":"AH23","v":0},0]
["秋田県","05349","八峰町",{"$f":"SUM(E25:AI25)","v":0},{"$f":"E24","v":0},0,0,0,0,0,0,0,0,0,0,0,0,0,0,0,0,0,0,0,0,0,0,0,0,0,0,0,{"$f":"AG24","v":0},{"$f":"AH24","v":0},0]
["秋田県","05361","五城目町",{"$f":"SUM(E26:AI26)","v":0},{"$f":"E25","v":0},0,0,0,0,0,0,0,0,0,0,0,0,0,0,0,0,0,0,0,0,0,0,0,0,0,0,0,{"$f":"AG25","v":0},{"$f":"AH25","v":0},0]
["秋田県","05363","八郎潟町",{"$f":"SUM(E27:AI27)","v":0},{"$f":"E26","v":0},0,0,0,0,0,0,0,0,0,0,0,0,0,0,0,0,0,0,0,0,0,{"$f":"AA26","v":0},0,0,0,0,0,{"$f":"AG26","v":0},{"$f":"AH26","v":0},0]
["秋田県","05366","井川町",{"$f":"SUM(E28:AI28)","v":0},{"$f":"E27","v":0},{"$f":"F27","v":0},0,0,0,0,0,0,0,0,0,0,0,0,0,0,0,0,0,0,0,0,0,0,0,0,0,0,{"$f":"AG27","v":0},{"$f":"AH27","v":0},0]
["秋田県","05368","大潟村",{"$f":"SUM(E29:AI29)","v":0},{"$f":"E28","v":0},0,0,0,0,0,0,0,0,0,0,0,0,0,0,0,0,0,0,0,0,0,0,0,0,0,0,0,{"$f":"AG28","v":0},{"$f":"AH28","v":0},0]
["秋田県","05434","美郷町",{"$f":"SUM(E30:AI30)","v":0},{"$f":"E29","v":0},0,0,0,0,0,0,0,0,0,0,0,0,0,0,0,0,0,0,0,0,0,0,0,0,0,0,0,{"$f":"AG29","v":0},{"$f":"AH29","v":0},0]
["秋田県","05463","羽後町",{"$f":"SUM(E31:AI31)","v":0},{"$f":"E30","v":0},0,0,0,0,0,0,0,0,0,0,0,0,0,0,0,0,0,0,0,0,0,0,0,0,0,0,0,{"$f":"AG30","v":0},{"$f":"AH30","v":0},0]
["秋田県","05464","東成瀬村",{"$f":"SUM(E32:AI32)","v":0},{"$f":"E31","v":0},0,0,0,0,0,0,0,0,0,0,0,0,0,0,0,0,0,0,0,0,0,0,0,0,0,0,0,{"$f":"AG31","v":0},{"$f":"AH31","v":0},0]

{"sheet":"資源化量内訳","index":14,"n_rows":32,"n_cols":93,"rows_kept":32,"merged":[[1,0,5,0],[1,1,5,1],[1,2,5,2],[2,3,4,3],[2,4,4,4],[2,5,4,5],[2,6,4,6],[2,7,4,7],[2,8,4,8],[2,9,4,9],[2,10,4,10],[2,11,4,11],[2,12,4,12],[2,13,4,13],[2,14,4,14],[2,15,4,15],[2,16,4,16],[2,17,4,17],[2,18,4,18],[2,19,4,19],[2,20,4,20],[2,21,4,21],[2,22,4,22],[2,23,4,23],[2,24,4,24],[2,25,4,25],[2,26,4,26],[2,27,4,27],[2,28,4,28],[2,29,4,29],[2,30,4,30],[2,32,4,32],[2,33,4,33],[2,34,4,34],[2,35,4,35],[2,36,4,36],[2,37,4,37],[2,38,4,38],[2,39,4,39],[2,40,4,40],[2,41,4,41],[2,42,4,42],[2,43,4,43],[2,44,4,44],[2,45,4,45],[2,46,4,46],[2,47,4,47],[2,48,4,48],[2,49,4,49],[2,50,4,50],[2,51,4,51],[2,52,4,52],[2,53,4,53],[2,54,4,54],[2,55,4,55],[2,56,4,56],[2,57,4,57],[2,58,4,58],[2,59,4,59],[2,60,4,60],[2,62,4,62],[2,63,4,63],[2,64,4,64],[2,65,4,65],[2,66,4,66],[2,67,4,67],[2,68,4,68],[2,69,4,69],[2,70,4,70],[2,71,4,71],[2,72,4,72],[2,73,4,73],[2,74,4,74],[2,75,4,75],[2,76,4,76],[2,77,4,77],[2,78,4,78],[2,79,4,79],[2,80,4,80],[2,81,4,81],[2,82,4,82],[2,83,4,83],[2,84,4,84],[2,85,4,85],[2,86,4,86],[2,87,4,87],[2,88,4,88],[2,89,4,89],[2,90,4,90],[2,92,4,92]]}
["【災害】ごみ資源化の状況（令和3年度実績）"]
["都道府県名","地方公共団体コード","市区町村名","資源化量 (直接資源化量+中間処理後再生利用量）",{"$nulls":29},"直接資源化量",{"$nulls":29},"中間処理後再生利用量"]
[{"$nulls":3},"合計","木くず","金属くず","コンクリートがら","その他がれき類","石綿含有廃棄物等","ＰＣＢ廃棄物","その他有害物、危険物","混合ごみ","可燃ごみ","不燃ごみ","資源ごみ","粗大ごみ","家電４品目","パソコン","自動車","ＦＲＰ船","鋼船","その他船舶","畳","漁網","タイヤ","その他家電","消火器","ガスボンベ","土石類","津波堆積物","その他",null,"漂着ごみ","合計","木くず","金属くず","コンクリートがら","その他がれき類","石綿含有廃棄物等","ＰＣＢ廃棄物","その他有害物、危険物","混合ごみ","可燃ごみ","不燃ごみ","資源ごみ","粗大ごみ","家電４品目","パソコン","自動車","ＦＲＰ船","鋼船","その他船舶","畳","漁網","タイヤ","その他家電","消火器","ガスボンベ","土石類","津波堆積物","その他",null,"漂着ごみ","合計","木くず","金属くず","コンクリートがら","その他がれき類","石綿含有廃棄物等","ＰＣＢ廃棄物","その他有害物、危険物","混合ごみ","可燃ごみ","不燃ごみ","資源ごみ","粗大ごみ","家電４品目","パソコン","自動車","ＦＲＰ船","鋼船","その他船舶","畳","漁網","タイヤ","その他家電","消火器","ガスボンベ","土石類","津波堆積物","その他",null,"漂着ごみ"]
[{"$nulls":31},"石膏ボード",{"$nulls":29},"石膏ボード",{"$nulls":29},"石膏ボード"]
[]
[{"$nulls":3},"（ｔ）","（ｔ）","（ｔ）","（ｔ）","（ｔ）","（ｔ）","（ｔ）","（ｔ）","（ｔ）","（ｔ）","（ｔ）","（ｔ）","（ｔ）","（ｔ）","（ｔ）","（ｔ）","（ｔ）","（ｔ）","（ｔ）","（ｔ）","（ｔ）","（ｔ）","（ｔ）","（ｔ）","（ｔ）","（ｔ）","（ｔ）","（ｔ）","（ｔ）","（ｔ）","（ｔ）","（ｔ）","（ｔ）","（ｔ）","（ｔ）","（ｔ）","（ｔ）","（ｔ）","（ｔ）","（ｔ）","（ｔ）","（ｔ）","（ｔ）","（ｔ）","（ｔ）","（ｔ）","（ｔ）","（ｔ）","（ｔ）","（ｔ）","（ｔ）","（ｔ）","（ｔ）","（ｔ）","（ｔ）","（ｔ）","（ｔ）","（ｔ）","（ｔ）","（ｔ）","（ｔ）","（ｔ）","（ｔ）","（ｔ）","（ｔ）","（ｔ）","（ｔ）","（ｔ）","（ｔ）","（ｔ）","（ｔ）","（ｔ）","（ｔ）","（ｔ）","（ｔ）","（ｔ）","（ｔ）","（ｔ）","（ｔ）","（ｔ）","（ｔ）","（ｔ）","（ｔ）","（ｔ）","（ｔ）","（ｔ）","（ｔ）","（ｔ）","（ｔ）","（ｔ）"]
["秋田県","05000","合計",{"$f":"SUM($D$8:$D$32)","v":0},{"$f":"SUM($E$8:$E$32)","v":0},{"$f":"SUM($F$8:$F$32)","v":0},{"$f":"SUM($G$8:$G$32)","v":0},{"$f":"SUM($H$8:$H$32)","v":0},{"$f":"SUM($I$8:$I$32)","v":0},{"$f":"SUM($J$8:$J$32)","v":0},{"$f":"SUM($K$8:$K$32)","v":0},{"$f":"SUM($L$8:$L$32)","v":0},{"$f":"SUM($M$8:$M$32)","v":0},{"$f":"SUM($N$8:$N$32)","v":0},{"$f":"SUM($O$8:$O$32)","v":0},{"$f":"SUM($P$8:$P$32)","v":0},{"$f":"SUM($Q$8:$Q$32)","v":0},{"$f":"SUM($R$8:$R$32)","v":0},{"$f":"SUM($S$8:$S$32)","v":0},{"$f":"SUM($T$8:$T$32)","v":0},{"$f":"SUM($U$8:$U$32)","v":0},{"$f":"SUM($V$8:$V$32)","v":0},{"$f":"SUM($W$8:$W$32)","v":0},{"$f":"SUM($X$8:$X$32)","v":0},{"$f":"SUM($Y$8:$Y$32)","v":0},{"$f":"SUM($Z$8:$Z$32)","v":0},{"$f":"SUM($AA$8:$AA$32)","v":0},{"$f":"SUM($AB$8:$AB$32)","v":0},{"$f":"SUM($AC$8:$AC$32)","v":0},{"$f":"SUM($AD$8:$AD$32)","v":0},{"$f":"SUM($AE$8:$AE$32)","v":0},{"$f":"SUM($AF$8:$AF$32)","v":0},{"$f":"SUM($AG$8:$AG$32)","v":0},{"$f":"SUM($AH$8:$AH$32)","v":0},{"$f":"SUM($AI$8:$AI$32)","v":0},{"$f":"SUM($AJ$8:$AJ$32)","v":0},{"$f":"SUM($AK$8:$AK$32)","v":0},{"$f":"SUM($AL$8:$AL$32)","v":0},{"$f":"SUM($AM$8:$AM$32)","v":0},{"$f":"SUM($AN$8:$AN$32)","v":0},{"$f":"SUM($AO$8:$AO$32)","v":0},{"$f":"SUM($AP$8:$AP$32)","v":0},{"$f":"SUM($AQ$8:$AQ$32)","v":0},{"$f":"SUM($AR$8:$AR$32)","v":0},{"$f":"SUM($AS$8:$AS$32)","v":0},{"$f":"SUM($AT$8:$AT$32)","v":0},{"$f":"SUM($AU$8:$AU$32)","v":0},{"$f":"SUM($AV$8:$AV$32)","v":0},{"$f":"SUM($AW$8:$AW$32)","v":0},{"$f":"SUM($AX$8:$AX$32)","v":0},{"$f":"SUM($AY$8:$AY$32)","v":0},{"$f":"SUM($AZ$8:$AZ$32)","v":0},{"$f":"SUM($BA$8:$BA$32)","v":0},{"$f":"SUM($BB$8:$BB$32)","v":0},{"$f":"SUM($BC$8:$BC$32)","v":0},{"$f":"SUM($BD$8:$BD$32)","v":0},{"$f":"SUM($BE$8:$BE$32)","v":0},{"$f":"SUM($BF$8:$BF$32)","v":0},{"$f":"SUM($BG$8:$BG$32)","v":0},{"$f":"SUM($BH$8:$BH$32)","v":0},{"$f":"SUM($BI$8:$BI$32)","v":0},{"$f":"SUM($BJ$8:$BJ$32)","v":0},{"$f":"SUM($BK$8:$BK$32)","v":0},{"$f":"SUM($BL$8:$BL$32)","v":0},{"$f":"SUM($BM$8:$BM$32)","v":0},{"$f":"SUM($BN$8:$BN$32)","v":0},{"$f":"SUM($BO$8:$BO$32)","v":0},{"$f":"SUM($BP$8:$BP$32)","v":0},{"$f":"SUM($BQ$8:$BQ$32)","v":0},{"$f":"SUM($BR$8:$BR$32)","v":0},{"$f":"SUM($BS$8:$BS$32)","v":0},{"$f":"SUM($BT$8:$BT$32)","v":0},{"$f":"SUM($BU$8:$BU$32)","v":0},{"$f":"SUM($BV$8:$BV$32)","v":0},{"$f":"SUM($BW$8:$BW$32)","v":0},{"$f":"SUM($BX$8:$BX$32)","v":0},{"$f":"SUM($BY$8:$BY$32)","v":0},{"$f":"SUM($BZ$8:$BZ$32)","v":0},{"$f":"SUM($CA$8:$CA$32)","v":0},{"$f":"SUM($CB$8:$CB$32)","v":0},{"$f":"SUM($CC$8:$CC$32)","v":0},{"$f":"SUM($CD$8:$CD$32)","v":0},{"$f":"SUM($CE$8:$CE$32)","v":0},{"$f":"SUM($CF$8:$CF$32)","v":0},{"$f":"SUM($CG$8:$CG$32)","v":0},{"$f":"SUM($CH$8:$CH$32)","v":0},{"$f":"SUM($CI$8:$CI$32)","v":0},{"$f":"SUM($CJ$8:$CJ$32)","v":0},{"$f":"SUM($CK$8:$CK$32)","v":0},{"$f":"SUM($CL$8:$CL$32)","v":0},{"$f":"SUM($CM$8:$CM$32)","v":0},{"$f":"SUM($CN$8:$CN$32)","v":0},{"$f":"SUM($CO$8:$CO$32)","v":0}]
["秋田県","05201","秋田市",{"$f":"SUM(E8:AG8)","v":0},{"$f":"AI8+BM8","v":0},{"$f":"AJ8+BN8","v":0},{"$f":"AK8+BO8","v":0},{"$f":"AL8+BP8","v":0},{"$f":"AM8+BQ8","v":0},{"$f":"AN8+BR8","v":0},{"$f":"AO8+BS8","v":0},{"$f":"AP8+BT8","v":0},{"$f":"AQ8+BU8","v":0},{"$f":"AR8+BV8","v":0},{"$f":"AS8+BW8","v":0},{"$f":"AT8+BX8","v":0},{"$f":"AU8+BY8","v":0},{"$f":"AV8+BZ8","v":0},{"$f":"AW8+CA8","v":0},{"$f":"AX8+CB8","v":0},{"$f":"AY8+CC8","v":0},{"$f":"AZ8+CD8","v":0},{"$f":"BA8+CE8","v":0},{"$f":"BB8+CF8","v":0},{"$f":"BC8+CG8","v":0},{"$f":"BD8+CH8","v":0},{"$f":"BE8+CI8","v":0},{"$f":"BF8+CJ8","v":0},{"$f":"BG8+CK8","v":0},{"$f":"BH8+CL8","v":0},{"$f":"BI8+CM8","v":0},{"$f":"BJ8+CN8","v":0},{"$f":"BK8+CO8","v":0},{"$f":"SUM(AI8:BK8)","v":0},0,0,0,0,0,0,0,0,0,0,0,0,0,0,0,0,0,0,0,0,0,0,0,0,0,0,0,0,0,{"$f":"SUM(BM8:CO8)","v":0},{"$f":"'施設資源化量内訳(焼却)'!E8+'施設資源化量内訳(粗大)'!E8+'施設資源化量内訳(堆肥化)'!E8+'施設資源化量内訳(飼料化)'!E8+'施設資源化量内訳(メタン化)'!E8+'施設資源化量内訳(燃料化)'!E8+'施設資源化量内訳(セメント)'!E8+'施設資源化量内訳(資源化等)'!E8","v":0},{"$f":"'施設資源化量内訳(焼却)'!F8+'施設資源化量内訳(粗大)'!F8+'施設資源化量内訳(堆肥化)'!F8+'施設資源化量内訳(飼料化)'!F8+'施設資源化量内訳(メタン化)'!F8+'施設資源化量内訳(燃料化)'!F8+'施設資源化量内訳(セメント)'!F8+'施設資源化量内訳(資源化等)'!F8","v":0},{"$f":"'施設資源化量内訳(焼却)'!G8+'施設資源化量内訳(粗大)'!G8+'施設資源化量内訳(堆肥化)'!G8+'施設資源化量内訳(飼料化)'!G8+'施設資源化量内訳(メタン化)'!G8+'施設資源化量内訳(燃料化)'!G8+'施設資源化量内訳(セメント)'!G8+'施設資源化量内訳(資源化等)'!G8","v":0},{"$f":"'施設資源化量内訳(焼却)'!H8+'施設資源化量内訳(粗大)'!H8+'施設資源化量内訳(堆肥化)'!H8+'施設資源化量内訳(飼料化)'!H8+'施設資源化量内訳(メタン化)'!H8+'施設資源化量内訳(燃料化)'!H8+'施設資源化量内訳(セメント)'!H8+'施設資源化量内訳(資源化等)'!H8","v":0},{"$f":"'施設資源化量内訳(焼却)'!I8+'施設資源化量内訳(粗大)'!I8+'施設資源化量内訳(堆肥化)'!I8+'施設資源化量内訳(飼料化)'!I8+'施設資源化量内訳(メタン化)'!I8+'施設資源化量内訳(燃料化)'!I8+'施設資源化量内訳(セメント)'!I8+'施設資源化量内訳(資源化等)'!I8","v":0},{"$f":"'施設資源化量内訳(焼却)'!J8+'施設資源化量内訳(粗大)'!J8+'施設資源化量内訳(堆肥化)'!J8+'施設資源化量内訳(飼料化)'!J8+'施設資源化量内訳(メタン化)'!J8+'施設資源化量内訳(燃料化)'!J8+'施設資源化量内訳(セメント)'!J8+'施設資源化量内訳(資源化等)'!J8","v":0},{"$f":"'施設資源化量内訳(焼却)'!K8+'施設資源化量内訳(粗大)'!K8+'施設資源化量内訳(堆肥化)'!K8+'施設資源化量内訳(飼料化)'!K8+'施設資源化量内訳(メタン化)'!K8+'施設資源化量内訳(燃料化)'!K8+'施設資源化量内訳(セメント)'!K8+'施設資源化量内訳(資源化等)'!K8","v":0},{"$f":"'施設資源化量内訳(焼却)'!L8+'施設資源化量内訳(粗大)'!L8+'施設資源化量内訳(堆肥化)'!L8+'施設資源化量内訳(飼料化)'!L8+'施設資源化量内訳(メタン化)'!L8+'施設資源化量内訳(燃料化)'!L8+'施設資源化量内訳(セメント)'!L8+'施設資源化量内訳(資源化等)'!L8","v":0},{"$f":"'施設資源化量内訳(焼却)'!M8+'施設資源化量内訳(粗大)'!M8+'施設資源化量内訳(堆肥化)'!M8+'施設資源化量内訳(飼料化)'!M8+'施設資源化量内訳(メタン化)'!M8+'施設資源化量内訳(燃料化)'!M8+'施設資源化量内訳(セメント)'!M8+'施設資源化量内訳(資源化等)'!M8","v":0},{"$f":"'施設資源化量内訳(焼却)'!N8+'施設資源化量内訳(粗大)'!N8+'施設資源化量内訳(堆肥化)'!N8+'施設資源化量内訳(飼料化)'!N8+'施設資源化量内訳(メタン化)'!N8+'施設資源化量内訳(燃料化)'!N8+'施設資源化量内訳(セメント)'!N8+'施設資源化量内訳(資源化等)'!N8","v":0},{"$f":"'施設資源化量内訳(焼却)'!O8+'施設資源化量内訳(粗大)'!O8+'施設資源化量内訳(堆肥化)'!O8+'施設資源化量内訳(飼料化)'!O8+'施設資源化量内訳(メタン化)'!O8+'施設資源化量内訳(燃料化)'!O8+'施設資源化量内訳(セメント)'!O8+'施設資源化量内訳(資源化等)'!O8","v":0},{"$f":"'施設資源化量内訳(焼却)'!P8+'施設資源化量内訳(粗大)'!P8+'施設資源化量内訳(堆肥化)'!P8+'施設資源化量内訳(飼料化)'!P8+'施設資源化量内訳(メタン化)'!P8+'施設資源化量内訳(燃料化)'!P8+'施設資源化量内訳(セメント)'!P8+'施設資源化量内訳(資源化等)'!P8","v":0},{"$f":"'施設資源化量内訳(焼却)'!Q8+'施設資源化量内訳(粗大)'!Q8+'施設資源化量内訳(堆肥化)'!Q8+'施設資源化量内訳(飼料化)'!Q8+'施設資源化量内訳(メタン化)'!Q8+'施設資源化量内訳(燃料化)'!Q8+'施設資源化量内訳(セメント)'!Q8+'施設資源化量内訳(資源化等)'!Q8","v":0},{"$f":"'施設資源化量内訳(焼却)'!R8+'施設資源化量内訳(粗大)'!R8+'施設資源化量内訳(堆肥化)'!R8+'施設資源化量内訳(飼料化)'!R8+'施設資源化量内訳(メタン化)'!R8+'施設資源化量内訳(燃料化)'!R8+'施設資源化量内訳(セメント)'!R8+'施設資源化量内訳(資源化等)'!R8","v":0},{"$f":"'施設資源化量内訳(焼却)'!S8+'施設資源化量内訳(粗大)'!S8+'施設資源化量内訳(堆肥化)'!S8+'施設資源化量内訳(飼料化)'!S8+'施設資源化量内訳(メタン化)'!S8+'施設資源化量内訳(燃料化)'!S8+'施設資源化量内訳(セメント)'!S8+'施設資源化量内訳(資源化等)'!S8","v":0},{"$f":"'施設資源化量内訳(焼却)'!T8+'施設資源化量内訳(粗大)'!T8+'施設資源化量内訳(堆肥化)'!T8+'施設資源化量内訳(飼料化)'!T8+'施設資源化量内訳(メタン化)'!T8+'施設資源化量内訳(燃料化)'!T8+'施設資源化量内訳(セメント)'!T8+'施設資源化量内訳(資源化等)'!T8","v":0},{"$f":"'施設資源化量内訳(焼却)'!U8+'施設資源化量内訳(粗大)'!U8+'施設資源化量内訳(堆肥化)'!U8+'施設資源化量内訳(飼料化)'!U8+'施設資源化量内訳(メタン化)'!U8+'施設資源化量内訳(燃料化)'!U8+'施設資源化量内訳(セメント)'!U8+'施設資源化量内訳(資源化等)'!U8","v":0},{"$f":"'施設資源化量内訳(焼却)'!V8+'施設資源化量内訳(粗大)'!V8+'施設資源化量内訳(堆肥化)'!V8+'施設資源化量内訳(飼料化)'!V8+'施設資源化量内訳(メタン化)'!V8+'施設資源化量内訳(燃料化)'!V8+'施設資源化量内訳(セメント)'!V8+'施設資源化量内訳(資源化等)'!V8","v":0},{"$f":"'施設資源化量内訳(焼却)'!W8+'施設資源化量内訳(粗大)'!W8+'施設資源化量内訳(堆肥化)'!W8+'施設資源化量内訳(飼料化)'!W8+'施設資源化量内訳(メタン化)'!W8+'施設資源化量内訳(燃料化)'!W8+'施設資源化量内訳(セメント)'!W8+'施設資源化量内訳(資源化等)'!W8","v":0},{"$f":"'施設資源化量内訳(焼却)'!X8+'施設資源化量内訳(粗大)'!X8+'施設資源化量内訳(堆肥化)'!X8+'施設資源化量内訳(飼料化)'!X8+'施設資源化量内訳(メタン化)'!X8+'施設資源化量内訳(燃料化)'!X8+'施設資源化量内訳(セメント)'!X8+'施設資源化量内訳(資源化等)'!X8","v":0},{"$f":"'施設資源化量内訳(焼却)'!Y8+'施設資源化量内訳(粗大)'!Y8+'施設資源化量内訳(堆肥化)'!Y8+'施設資源化量内訳(飼料化)'!Y8+'施設資源化量内訳(メタン化)'!Y8+'施設資源化量内訳(燃料化)'!Y8+'施設資源化量内訳(セメント)'!Y8+'施設資源化量内訳(資源化等)'!Y8","v":0},{"$f":"'施設資源化量内訳(焼却)'!Z8+'施設資源化量内訳(粗大)'!Z8+'施設資源化量内訳(堆肥化)'!Z8+'施設資源化量内訳(飼料化)'!Z8+'施設資源化量内訳(メタン化)'!Z8+'施設資源化量内訳(燃料化)'!Z8+'施設資源化量内訳(セメント)'!Z8+'施設資源化量内訳(資源化等)'!Z8","v":0},{"$f":"'施設資源化量内訳(焼却)'!AA8+'施設資源化量内訳(粗大)'!AA8+'施設資源化量内訳(堆肥化)'!AA8+'施設資源化量内訳(飼料化)'!AA8+'施設資源化量内訳(メタン化)'!AA8+'施設資源化量内訳(燃料化)'!AA8+'施設資源化量内訳(セメント)'!AA8+'施設資源化量内訳(資源化等)'!AA8","v":0},{"$f":"'施設資源化量内訳(焼却)'!AB8+'施設資源化量内訳(粗大)'!AB8+'施設資源化量内訳(堆肥化)'!AB8+'施設資源化量内訳(飼料化)'!AB8+'施設資源化量内訳(メタン化)'!AB8+'施設資源化量内訳(燃料化)'!AB8+'施設資源化量内訳(セメント)'!AB8+'施設資源化量内訳(資源化等)'!AB8","v":0},{"$f":"'施設資源化量内訳(焼却)'!AC8+'施設資源化量内訳(粗大)'!AC8+'施設資源化量内訳(堆肥化)'!AC8+'施設資源化量内訳(飼料化)'!AC8+'施設資源化量内訳(メタン化)'!AC8+'施設資源化量内訳(燃料化)'!AC8+'施設資源化量内訳(セメント)'!AC8+'施設資源化量内訳(資源化等)'!AC8","v":0},{"$f":"'施設資源化量内訳(焼却)'!AD8+'施設資源化量内訳(粗大)'!AD8+'施設資源化量内訳(堆肥化)'!AD8+'施設資源化量内訳(飼料化)'!AD8+'施設資源化量内訳(メタン化)'!AD8+'施設資源化量内訳(燃料化)'!AD8+'施設資源化量内訳(セメント)'!AD8+'施設資源化量内訳(資源化等)'!AD8","v":0},{"$f":"'施設資源化量内訳(焼却)'!AE8+'施設資源化量内訳(粗大)'!AE8+'施設資源化量内訳(堆肥化)'!AE8+'施設資源化量内訳(飼料化)'!AE8+'施設資源化量内訳(メタン化)'!AE8+'施設資源化量内訳(燃料化)'!AE8+'施設資源化量内訳(セメント)'!AE8+'施設資源化量内訳(資源化等)'!AE8","v":0},{"$f":"'施設資源化量内訳(焼却)'!AF8+'施設資源化量内訳(粗大)'!AF8+'施設資源化量内訳(堆肥化)'!AF8+'施設資源化量内訳(飼料化)'!AF8+'施設資源化量内訳(メタン化)'!AF8+'施設資源化量内訳(燃料化)'!AF8+'施設資源化量内訳(セメント)'!AF8+'施設資源化量内訳(資源化等)'!AF8","v":0},{"$f":"'施設資源化量内訳(焼却)'!AG8+'施設資源化量内訳(粗大)'!AG8+'施設資源化量内訳(堆肥化)'!AG8+'施設資源化量内訳(飼料化)'!AG8+'施設資源化量内訳(メタン化)'!AG8+'施設資源化量内訳(燃料化)'!AG8+'施設資源化量内訳(セメント)'!AG8+'施設資源化量内訳(資源化等)'!AG8","v":0}]
["秋田県","05202","能代市",{"$f":"SUM(E9:AG9)","v":0},0,0,0,0,0,0,0,0,0,0,0,0,0,0,0,0,0,0,0,0,0,0,0,0,0,0,0,0,0,{"$f":"SUM(AI9:BK9)","v":0},0,0,0,0,0,0,0,0,0,0,0,0,0,0,0,0,0,0,0,0,0,0,0,0,0,0,0,0,0,{"$f":"SUM(BM9:CO9)","v":0},{"$f":"'施設資源化量内訳(焼却)'!E9+'施設資源化量内訳(粗大)'!E9+'施設資源化量内訳(堆肥化)'!E9+'施設資源化量内訳(飼料化)'!E9+'施設資源化量内訳(メタン化)'!E9+'施設資源化量内訳(燃料化)'!E9+'施設資源化量内訳(セメント)'!E9+'施設資源化量内訳(資源化等)'!E9","v":0},{"$f":"'施設資源化量内訳(焼却)'!F9+'施設資源化量内訳(粗大)'!F9+'施設資源化量内訳(堆肥化)'!F9+'施設資源化量内訳(飼料化)'!F9+'施設資源化量内訳(メタン化)'!F9+'施設資源化量内訳(燃料化)'!F9+'施設資源化量内訳(セメント)'!F9+'施設資源化量内訳(資源化等)'!F9","v":0},{"$f":"'施設資源化量内訳(焼却)'!G9+'施設資源化量内訳(粗大)'!G9+'施設資源化量内訳(堆肥化)'!G9+'施設資源化量内訳(飼料化)'!G9+'施設資源化量内訳(メタン化)'!G9+'施設資源化量内訳(燃料化)'!G9+'施設資源化量内訳(セメント)'!G9+'施設資源化量内訳(資源化等)'!G9","v":0},{"$f":"'施設資源化量内訳(焼却)'!H9+'施設資源化量内訳(粗大)'!H9+'施設資源化量内訳(堆肥化)'!H9+'施設資源化量内訳(飼料化)'!H9+'施設資源化量内訳(メタン化)'!H9+'施設資源化量内訳(燃料化)'!H9+'施設資源化量内訳(セメント)'!H9+'施設資源化量内訳(資源化等)'!H9","v":0},{"$f":"'施設資源化量内訳(焼却)'!I9+'施設資源化量内訳(粗大)'!I9+'施設資源化量内訳(堆肥化)'!I9+'施設資源化量内訳(飼料化)'!I9+'施設資源化量内訳(メタン化)'!I9+'施設資源化量内訳(燃料化)'!I9+'施設資源化量内訳(セメント)'!I9+'施設資源化量内訳(資源化等)'!I9","v":0},{"$f":"'施設資源化量内訳(焼却)'!J9+'施設資源化量内訳(粗大)'!J9+'施設資源化量内訳(堆肥化)'!J9+'施設資源化量内訳(飼料化)'!J9+'施設資源化量内訳(メタン化)'!J9+'施設資源化量内訳(燃料化)'!J9+'施設資源化量内訳(セメント)'!J9+'施設資源化量内訳(資源化等)'!J9","v":0},{"$f":"'施設資源化量内訳(焼却)'!K9+'施設資源化量内訳(粗大)'!K9+'施設資源化量内訳(堆肥化)'!K9+'施設資源化量内訳(飼料化)'!K9+'施設資源化量内訳(メタン化)'!K9+'施設資源化量内訳(燃料化)'!K9+'施設資源化量内訳(セメント)'!K9+'施設資源化量内訳(資源化等)'!K9","v":0},{"$f":"'施設資源化量内訳(焼却)'!L9+'施設資源化量内訳(粗大)'!L9+'施設資源化量内訳(堆肥化)'!L9+'施設資源化量内訳(飼料化)'!L9+'施設資源化量内訳(メタン化)'!L9+'施設資源化量内訳(燃料化)'!L9+'施設資源化量内訳(セメント)'!L9+'施設資源化量内訳(資源化等)'!L9","v":0},{"$f":"'施設資源化量内訳(焼却)'!M9+'施設資源化量内訳(粗大)'!M9+'施設資源化量内訳(堆肥化)'!M9+'施設資源化量内訳(飼料化)'!M9+'施設資源化量内訳(メタン化)'!M9+'施設資源化量内訳(燃料化)'!M9+'施設資源化量内訳(セメント)'!M9+'施設資源化量内訳(資源化等)'!M9","v":0},{"$f":"'施設資源化量内訳(焼却)'!N9+'施設資源化量内訳(粗大)'!N9+'施設資源化量内訳(堆肥化)'!N9+'施設資源化量内訳(飼料化)'!N9+'施設資源化量内訳(メタン化)'!N9+'施設資源化量内訳(燃料化)'!N9+'施設資源化量内訳(セメント)'!N9+'施設資源化量内訳(資源化等)'!N9","v":0},{"$f":"'施設資源化量内訳(焼却)'!O9+'施設資源化量内訳(粗大)'!O9+'施設資源化量内訳(堆肥化)'!O9+'施設資源化量内訳(飼料化)'!O9+'施設資源化量内訳(メタン化)'!O9+'施設資源化量内訳(燃料化)'!O9+'施設資源化量内訳(セメント)'!O9+'施設資源化量内訳(資源化等)'!O9","v":0},{"$f":"'施設資源化量内訳(焼却)'!P9+'施設資源化量内訳(粗大)'!P9+'施設資源化量内訳(堆肥化)'!P9+'施設資源化量内訳(飼料化)'!P9+'施設資源化量内訳(メタン化)'!P9+'施設資源化量内訳(燃料化)'!P9+'施設資源化量内訳(セメント)'!P9+'施設資源化量内訳(資源化等)'!P9","v":0},{"$f":"'施設資源化量内訳(焼却)'!Q9+'施設資源化量内訳(粗大)'!Q9+'施設資源化量内訳(堆肥化)'!Q9+'施設資源化量内訳(飼料化)'!Q9+'施設資源化量内訳(メタン化)'!Q9+'施設資源化量内訳(燃料化)'!Q9+'施設資源化量内訳(セメント)'!Q9+'施設資源化量内訳(資源化等)'!Q9","v":0},{"$f":"'施設資源化量内訳(焼却)'!R9+'施設資源化量内訳(粗大)'!R9+'施設資源化量内訳(堆肥化)'!R9+'施設資源化量内訳(飼料化)'!R9+'施設資源化量内訳(メタン化)'!R9+'施設資源化量内訳(燃料化)'!R9+'施設資源化量内訳(セメント)'!R9+'施設資源化量内訳(資源化等)'!R9","v":0},{"$f":"'施設資源化量内訳(焼却)'!S9+'施設資源化量内訳(粗大)'!S9+'施設資源化量内訳(堆肥化)'!S9+'施設資源化量内訳(飼料化)'!S9+'施設資源化量内訳(メタン化)'!S9+'施設資源化量内訳(燃料化)'!S9+'施設資源化量内訳(セメント)'!S9+'施設資源化量内訳(資源化等)'!S9","v":0},{"$f":"'施設資源化量内訳(焼却)'!T9+'施設資源化量内訳(粗大)'!T9+'施設資源化量内訳(堆肥化)'!T9+'施設資源化量内訳(飼料化)'!T9+'施設資源化量内訳(メタン化)'!T9+'施設資源化量内訳(燃料化)'!T9+'施設資源化量内訳(セメント)'!T9+'施設資源化量内訳(資源化等)'!T9","v":0},{"$f":"'施設資源化量内訳(焼却)'!U9+'施設資源化量内訳(粗大)'!U9+'施設資源化量内訳(堆肥化)'!U9+'施設資源化量内訳(飼料化)'!U9+'施設資源化量内訳(メタン化)'!U9+'施設資源化量内訳(燃料化)'!U9+'施設資源化量内訳(セメント)'!U9+'施設資源化量内訳(資源化等)'!U9","v":0},{"$f":"'施設資源化量内訳(焼却)'!V9+'施設資源化量内訳(粗大)'!V9+'施設資源化量内訳(堆肥化)'!V9+'施設資源化量内訳(飼料化)'!V9+'施設資源化量内訳(メタン化)'!V9+'施設資源化量内訳(燃料化)'!V9+'施設資源化量内訳(セメント)'!V9+'施設資源化量内訳(資源化等)'!V9","v":0},{"$f":"'施設資源化量内訳(焼却)'!W9+'施設資源化量内訳(粗大)'!W9+'施設資源化量内訳(堆肥化)'!W9+'施設資源化量内訳(飼料化)'!W9+'施設資源化量内訳(メタン化)'!W9+'施設資源化量内訳(燃料化)'!W9+'施設資源化量内訳(セメント)'!W9+'施設資源化量内訳(資源化等)'!W9","v":0},{"$f":"'施設資源化量内訳(焼却)'!X9+'施設資源化量内訳(粗大)'!X9+'施設資源化量内訳(堆肥化)'!X9+'施設資源化量内訳(飼料化)'!X9+'施設資源化量内訳(メタン化)'!X9+'施設資源化量内訳(燃料化)'!X9+'施設資源化量内訳(セメント)'!X9+'施設資源化量内訳(資源化等)'!X9","v":0},{"$f":"'施設資源化量内訳(焼却)'!Y9+'施設資源化量内訳(粗大)'!Y9+'施設資源化量内訳(堆肥化)'!Y9+'施設資源化量内訳(飼料化)'!Y9+'施設資源化量内訳(メタン化)'!Y9+'施設資源化量内訳(燃料化)'!Y9+'施設資源化量内訳(セメント)'!Y9+'施設資源化量内訳(資源化等)'!Y9","v":0},{"$f":"'施設資源化量内訳(焼却)'!Z9+'施設資源化量内訳(粗大)'!Z9+'施設資源化量内訳(堆肥化)'!Z9+'施設資源化量内訳(飼料化)'!Z9+'施設資源化量内訳(メタン化)'!Z9+'施設資源化量内訳(燃料化)'!Z9+'施設資源化量内訳(セメント)'!Z9+'施設資源化量内訳(資源化等)'!Z9","v":0},{"$f":"'施設資源化量内訳(焼却)'!AA9+'施設資源化量内訳(粗大)'!AA9+'施設資源化量内訳(堆肥化)'!AA9+'施設資源化量内訳(飼料化)'!AA9+'施設資源化量内訳(メタン化)'!AA9+'施設資源化量内訳(燃料化)'!AA9+'施設資源化量内訳(セメント)'!AA9+'施設資源化量内訳(資源化等)'!AA9","v":0},{"$f":"'施設資源化量内訳(焼却)'!AB9+'施設資源化量内訳(粗大)'!AB9+'施設資源化量内訳(堆肥化)'!AB9+'施設資源化量内訳(飼料化)'!AB9+'施設資源化量内訳(メタン化)'!AB9+'施設資源化量内訳(燃料化)'!AB9+'施設資源化量内訳(セメント)'!AB9+'施設資源化量内訳(資源化等)'!AB9","v":0},{"$f":"'施設資源化量内訳(焼却)'!AC9+'施設資源化量内訳(粗大)'!AC9+'施設資源化量内訳(堆肥化)'!AC9+'施設資源化量内訳(飼料化)'!AC9+'施設資源化量内訳(メタン化)'!AC9+'施設資源化量内訳(燃料化)'!AC9+'施設資源化量内訳(セメント)'!AC9+'施設資源化量内訳(資源化等)'!AC9","v":0},{"$f":"'施設資源化量内訳(焼却)'!AD9+'施設資源化量内訳(粗大)'!AD9+'施設資源化量内訳(堆肥化)'!AD9+'施設資源化量内訳(飼料化)'!AD9+'施設資源化量内訳(メタン化)'!AD9+'施設資源化量内訳(燃料化)'!AD9+'施設資源化量内訳(セメント)'!AD9+'施設資源化量内訳(資源化等)'!AD9","v":0},{"$f":"'施設資源化量内訳(焼却)'!AE9+'施設資源化量内訳(粗大)'!AE9+'施設資源化量内訳(堆肥化)'!AE9+'施設資源化量内訳(飼料化)'!AE9+'施設資源化量内訳(メタン化)'!AE9+'施設資源化量内訳(燃料化)'!AE9+'施設資源化量内訳(セメント)'!AE9+'施設資源化量内訳(資源化等)'!AE9","v":0},{"$f":"'施設資源化量内訳(焼却)'!AF9+'施設資源化量内訳(粗大)'!AF9+'施設資源化量内訳(堆肥化)'!AF9+'施設資源化量内訳(飼料化)'!AF9+'施設資源化量内訳(メタン化)'!AF9+'施設資源化量内訳(燃料化)'!AF9+'施設資源化量内訳(セメント)'!AF9+'施設資源化量内訳(資源化等)'!AF9","v":0},{"$f":"'施設資源化量内訳(焼却)'!AG9+'施設資源化量内訳(粗大)'!AG9+'施設資源化量内訳(堆肥化)'!AG9+'施設資源化量内訳(飼料化)'!AG9+'施設資源化量内訳(メタン化)'!AG9+'施設資源化量内訳(燃料化)'!AG9+'施設資源化量内訳(セメント)'!AG9+'施設資源化量内訳(資源化等)'!AG9","v":0}]
["秋田県","05203","横手市",{"$f":"SUM(E10:AG10)","v":0},0,0,0,0,0,0,0,0,0,0,0,0,0,0,0,0,0,0,0,0,0,0,0,0,0,0,0,0,0,{"$f":"SUM(AI10:BK10)","v":0},0,0,0,0,0,0,0,0,0,0,0,0,0,0,0,0,0,0,0,0,0,0,0,0,0,0,0,0,0,{"$f":"SUM(BM10:CO10)","v":0},{"$f":"'施設資源化量内訳(焼却)'!E10+'施設資源化量内訳(粗大)'!E10+'施設資源化量内訳(堆肥化)'!E10+'施設資源化量内訳(飼料化)'!E10+'施設資源化量内訳(メタン化)'!E10+'施設資源化量内訳(燃料化)'!E10+'施設資源化量内訳(セメント)'!E10+'施設資源化量内訳(資源化等)'!E10","v":0},{"$f":"'施設資源化量内訳(焼却)'!F10+'施設資源化量内訳(粗大)'!F10+'施設資源化量内訳(堆肥化)'!F10+'施設資源化量内訳(飼料化)'!F10+'施設資源化量内訳(メタン化)'!F10+'施設資源化量内訳(燃料化)'!F10+'施設資源化量内訳(セメント)'!F10+'施設資源化量内訳(資源化等)'!F10","v":0},{"$f":"'施設資源化量内訳(焼却)'!G10+'施設資源化量内訳(粗大)'!G10+'施設資源化量内訳(堆肥化)'!G10+'施設資源化量内訳(飼料化)'!G10+'施設資源化量内訳(メタン化)'!G10+'施設資源化量内訳(燃料化)'!G10+'施設資源化量内訳(セメント)'!G10+'施設資源化量内訳(資源化等)'!G10","v":0},{"$f":"'施設資源化量内訳(焼却)'!H10+'施設資源化量内訳(粗大)'!H10+'施設資源化量内訳(堆肥化)'!H10+'施設資源化量内訳(飼料化)'!H10+'施設資源化量内訳(メタン化)'!H10+'施設資源化量内訳(燃料化)'!H10+'施設資源化量内訳(セメント)'!H10+'施設資源化量内訳(資源化等)'!H10","v":0},{"$f":"'施設資源化量内訳(焼却)'!I10+'施設資源化量内訳(粗大)'!I10+'施設資源化量内訳(堆肥化)'!I10+'施設資源化量内訳(飼料化)'!I10+'施設資源化量内訳(メタン化)'!I10+'施設資源化量内訳(燃料化)'!I10+'施設資源化量内訳(セメント)'!I10+'施設資源化量内訳(資源化等)'!I10","v":0},{"$f":"'施設資源化量内訳(焼却)'!J10+'施設資源化量内訳(粗大)'!J10+'施設資源化量内訳(堆肥化)'!J10+'施設資源化量内訳(飼料化)'!J10+'施設資源化量内訳(メタン化)'!J10+'施設資源化量内訳(燃料化)'!J10+'施設資源化量内訳(セメント)'!J10+'施設資源化量内訳(資源化等)'!J10","v":0},{"$f":"'施設資源化量内訳(焼却)'!K10+'施設資源化量内訳(粗大)'!K10+'施設資源化量内訳(堆肥化)'!K10+'施設資源化量内訳(飼料化)'!K10+'施設資源化量内訳(メタン化)'!K10+'施設資源化量内訳(燃料化)'!K10+'施設資源化量内訳(セメント)'!K10+'施設資源化量内訳(資源化等)'!K10","v":0},{"$f":"'施設資源化量内訳(焼却)'!L10+'施設資源化量内訳(粗大)'!L10+'施設資源化量内訳(堆肥化)'!L10+'施設資源化量内訳(飼料化)'!L10+'施設資源化量内訳(メタン化)'!L10+'施設資源化量内訳(燃料化)'!L10+'施設資源化量内訳(セメント)'!L10+'施設資源化量内訳(資源化等)'!L10","v":0},{"$f":"'施設資源化量内訳(焼却)'!M10+'施設資源化量内訳(粗大)'!M10+'施設資源化量内訳(堆肥化)'!M10+'施設資源化量内訳(飼料化)'!M10+'施設資源化量内訳(メタン化)'!M10+'施設資源化量内訳(燃料化)'!M10+'施設資源化量内訳(セメント)'!M10+'施設資源化量内訳(資源化等)'!M10","v":0},{"$f":"'施設資源化量内訳(焼却)'!N10+'施設資源化量内訳(粗大)'!N10+'施設資源化量内訳(堆肥化)'!N10+'施設資源化量内訳(飼料化)'!N10+'施設資源化量内訳(メタン化)'!N10+'施設資源化量内訳(燃料化)'!N10+'施設資源化量内訳(セメント)'!N10+'施設資源化量内訳(資源化等)'!N10","v":0},{"$f":"'施設資源化量内訳(焼却)'!O10+'施設資源化量内訳(粗大)'!O10+'施設資源化量内訳(堆肥化)'!O10+'施設資源化量内訳(飼料化)'!O10+'施設資源化量内訳(メタン化)'!O10+'施設資源化量内訳(燃料化)'!O10+'施設資源化量内訳(セメント)'!O10+'施設資源化量内訳(資源化等)'!O10","v":0},{"$f":"'施設資源化量内訳(焼却)'!P10+'施設資源化量内訳(粗大)'!P10+'施設資源化量内訳(堆肥化)'!P10+'施設資源化量内訳(飼料化)'!P10+'施設資源化量内訳(メタン化)'!P10+'施設資源化量内訳(燃料化)'!P10+'施設資源化量内訳(セメント)'!P10+'施設資源化量内訳(資源化等)'!P10","v":0},{"$f":"'施設資源化量内訳(焼却)'!Q10+'施設資源化量内訳(粗大)'!Q10+'施設資源化量内訳(堆肥化)'!Q10+'施設資源化量内訳(飼料化)'!Q10+'施設資源化量内訳(メタン化)'!Q10+'施設資源化量内訳(燃料化)'!Q10+'施設資源化量内訳(セメント)'!Q10+'施設資源化量内訳(資源化等)'!Q10","v":0},{"$f":"'施設資源化量内訳(焼却)'!R10+'施設資源化量内訳(粗大)'!R10+'施設資源化量内訳(堆肥化)'!R10+'施設資源化量内訳(飼料化)'!R10+'施設資源化量内訳(メタン化)'!R10+'施設資源化量内訳(燃料化)'!R10+'施設資源化量内訳(セメント)'!R10+'施設資源化量内訳(資源化等)'!R10","v":0},{"$f":"'施設資源化量内訳(焼却)'!S10+'施設資源化量内訳(粗大)'!S10+'施設資源化量内訳(堆肥化)'!S10+'施設資源化量内訳(飼料化)'!S10+'施設資源化量内訳(メタン化)'!S10+'施設資源化量内訳(燃料化)'!S10+'施設資源化量内訳(セメント)'!S10+'施設資源化量内訳(資源化等)'!S10","v":0},{"$f":"'施設資源化量内訳(焼却)'!T10+'施設資源化量内訳(粗大)'!T10+'施設資源化量内訳(堆肥化)'!T10+'施設資源化量内訳(飼料化)'!T10+'施設資源化量内訳(メタン化)'!T10+'施設資源化量内訳(燃料化)'!T10+'施設資源化量内訳(セメント)'!T10+'施設資源化量内訳(資源化等)'!T10","v":0},{"$f":"'施設資源化量内訳(焼却)'!U10+'施設資源化量内訳(粗大)'!U10+'施設資源化量内訳(堆肥化)'!U10+'施設資源化量内訳(飼料化)'!U10+'施設資源化量内訳(メタン化)'!U10+'施設資源化量内訳(燃料化)'!U10+'施設資源化量内訳(セメント)'!U10+'施設資源化量内訳(資源化等)'!U10","v":0},{"$f":"'施設資源化量内訳(焼却)'!V10+'施設資源化量内訳(粗大)'!V10+'施設資源化量内訳(堆肥化)'!V10+'施設資源化量内訳(飼料化)'!V10+'施設資源化量内訳(メタン化)'!V10+'施設資源化量内訳(燃料化)'!V10+'施設資源化量内訳(セメント)'!V10+'施設資源化量内訳(資源化等)'!V10","v":0},{"$f":"'施設資源化量内訳(焼却)'!W10+'施設資源化量内訳(粗大)'!W10+'施設資源化量内訳(堆肥化)'!W10+'施設資源化量内訳(飼料化)'!W10+'施設資源化量内訳(メタン化)'!W10+'施設資源化量内訳(燃料化)'!W10+'施設資源化量内訳(セメント)'!W10+'施設資源化量内訳(資源化等)'!W10","v":0},{"$f":"'施設資源化量内訳(焼却)'!X10+'施設資源化量内訳(粗大)'!X10+'施設資源化量内訳(堆肥化)'!X10+'施設資源化量内訳(飼料化)'!X10+'施設資源化量内訳(メタン化)'!X10+'施設資源化量内訳(燃料化)'!X10+'施設資源化量内訳(セメント)'!X10+'施設資源化量内訳(資源化等)'!X10","v":0},{"$f":"'施設資源化量内訳(焼却)'!Y10+'施設資源化量内訳(粗大)'!Y10+'施設資源化量内訳(堆肥化)'!Y10+'施設資源化量内訳(飼料化)'!Y10+'施設資源化量内訳(メタン化)'!Y10+'施設資源化量内訳(燃料化)'!Y10+'施設資源化量内訳(セメント)'!Y10+'施設資源化量内訳(資源化等)'!Y10","v":0},{"$f":"'施設資源化量内訳(焼却)'!Z10+'施設資源化量内訳(粗大)'!Z10+'施設資源化量内訳(堆肥化)'!Z10+'施設資源化量内訳(飼料化)'!Z10+'施設資源化量内訳(メタン化)'!Z10+'施設資源化量内訳(燃料化)'!Z10+'施設資源化量内訳(セメント)'!Z10+'施設資源化量内訳(資源化等)'!Z10","v":0},{"$f":"'施設資源化量内訳(焼却)'!AA10+'施設資源化量内訳(粗大)'!AA10+'施設資源化量内訳(堆肥化)'!AA10+'施設資源化量内訳(飼料化)'!AA10+'施設資源化量内訳(メタン化)'!AA10+'施設資源化量内訳(燃料化)'!AA10+'施設資源化量内訳(セメント)'!AA10+'施設資源化量内訳(資源化等)'!AA10","v":0},{"$f":"'施設資源化量内訳(焼却)'!AB10+'施設資源化量内訳(粗大)'!AB10+'施設資源化量内訳(堆肥化)'!AB10+'施設資源化量内訳(飼料化)'!AB10+'施設資源化量内訳(メタン化)'!AB10+'施設資源化量内訳(燃料化)'!AB10+'施設資源化量内訳(セメント)'!AB10+'施設資源化量内訳(資源化等)'!AB10","v":0},{"$f":"'施設資源化量内訳(焼却)'!AC10+'施設資源化量内訳(粗大)'!AC10+'施設資源化量内訳(堆肥化)'!AC10+'施設資源化量内訳(飼料化)'!AC10+'施設資源化量内訳(メタン化)'!AC10+'施設資源化量内訳(燃料化)'!AC10+'施設資源化量内訳(セメント)'!AC10+'施設資源化量内訳(資源化等)'!AC10","v":0},{"$f":"'施設資源化量内訳(焼却)'!AD10+'施設資源化量内訳(粗大)'!AD10+'施設資源化量内訳(堆肥化)'!AD10+'施設資源化量内訳(飼料化)'!AD10+'施設資源化量内訳(メタン化)'!AD10+'施設資源化量内訳(燃料化)'!AD10+'施設資源化量内訳(セメント)'!AD10+'施設資源化量内訳(資源化等)'!AD10","v":0},{"$f":"'施設資源化量内訳(焼却)'!AE10+'施設資源化量内訳(粗大)'!AE10+'施設資源化量内訳(堆肥化)'!AE10+'施設資源化量内訳(飼料化)'!AE10+'施設資源化量内訳(メタン化)'!AE10+'施設資源化量内訳(燃料化)'!AE10+'施設資源化量内訳(セメント)'!AE10+'施設資源化量内訳(資源化等)'!AE10","v":0},{"$f":"'施設資源化量内訳(焼却)'!AF10+'施設資源化量内訳(粗大)'!AF10+'施設資源化量内訳(堆肥化)'!AF10+'施設資源化量内訳(飼料化)'!AF10+'施設資源化量内訳(メタン化)'!AF10+'施設資源化量内訳(燃料化)'!AF10+'施設資源化量内訳(セメント)'!AF10+'施設資源化量内訳(資源化等)'!AF10","v":0},{"$f":"'施設資源化量内訳(焼却)'!AG10+'施設資源化量内訳(粗大)'!AG10+'施設資源化量内訳(堆肥化)'!AG10+'施設資源化量内訳(飼料化)'!AG10+'施設資源化量内訳(メタン化)'!AG10+'施設資源化量内訳(燃料化)'!AG10+'施設資源化量内訳(セメント)'!AG10+'施設資源化量内訳(資源化等)'!AG10","v":0}]
["秋田県","05204","大館市",{"$f":"SUM(E11:AG11)","v":0},0,0,0,0,0,0,0,0,0,0,0,0,0,0,0,0,0,0,0,0,0,0,0,0,0,0,0,0,0,{"$f":"SUM(AI11:BK11)","v":0},0,0,0,0,0,0,0,0,0,0,0,0,0,0,0,0,0,0,0,0,0,0,0,0,0,0,0,0,0,{"$f":"SUM(BM11:CO11)","v":0},{"$f":"'施設資源化量内訳(焼却)'!E11+'施設資源化量内訳(粗大)'!E11+'施設資源化量内訳(堆肥化)'!E11+'施設資源化量内訳(飼料化)'!E11+'施設資源化量内訳(メタン化)'!E11+'施設資源化量内訳(燃料化)'!E11+'施設資源化量内訳(セメント)'!E11+'施設資源化量内訳(資源化等)'!E11","v":0},{"$f":"'施設資源化量内訳(焼却)'!F11+'施設資源化量内訳(粗大)'!F11+'施設資源化量内訳(堆肥化)'!F11+'施設資源化量内訳(飼料化)'!F11+'施設資源化量内訳(メタン化)'!F11+'施設資源化量内訳(燃料化)'!F11+'施設資源化量内訳(セメント)'!F11+'施設資源化量内訳(資源化等)'!F11","v":0},{"$f":"'施設資源化量内訳(焼却)'!G11+'施設資源化量内訳(粗大)'!G11+'施設資源化量内訳(堆肥化)'!G11+'施設資源化量内訳(飼料化)'!G11+'施設資源化量内訳(メタン化)'!G11+'施設資源化量内訳(燃料化)'!G11+'施設資源化量内訳(セメント)'!G11+'施設資源化量内訳(資源化等)'!G11","v":0},{"$f":"'施設資源化量内訳(焼却)'!H11+'施設資源化量内訳(粗大)'!H11+'施設資源化量内訳(堆肥化)'!H11+'施設資源化量内訳(飼料化)'!H11+'施設資源化量内訳(メタン化)'!H11+'施設資源化量内訳(燃料化)'!H11+'施設資源化量内訳(セメント)'!H11+'施設資源化量内訳(資源化等)'!H11","v":0},{"$f":"'施設資源化量内訳(焼却)'!I11+'施設資源化量内訳(粗大)'!I11+'施設資源化量内訳(堆肥化)'!I11+'施設資源化量内訳(飼料化)'!I11+'施設資源化量内訳(メタン化)'!I11+'施設資源化量内訳(燃料化)'!I11+'施設資源化量内訳(セメント)'!I11+'施設資源化量内訳(資源化等)'!I11","v":0},{"$f":"'施設資源化量内訳(焼却)'!J11+'施設資源化量内訳(粗大)'!J11+'施設資源化量内訳(堆肥化)'!J11+'施設資源化量内訳(飼料化)'!J11+'施設資源化量内訳(メタン化)'!J11+'施設資源化量内訳(燃料化)'!J11+'施設資源化量内訳(セメント)'!J11+'施設資源化量内訳(資源化等)'!J11","v":0},{"$f":"'施設資源化量内訳(焼却)'!K11+'施設資源化量内訳(粗大)'!K11+'施設資源化量内訳(堆肥化)'!K11+'施設資源化量内訳(飼料化)'!K11+'施設資源化量内訳(メタン化)'!K11+'施設資源化量内訳(燃料化)'!K11+'施設資源化量内訳(セメント)'!K11+'施設資源化量内訳(資源化等)'!K11","v":0},{"$f":"'施設資源化量内訳(焼却)'!L11+'施設資源化量内訳(粗大)'!L11+'施設資源化量内訳(堆肥化)'!L11+'施設資源化量内訳(飼料化)'!L11+'施設資源化量内訳(メタン化)'!L11+'施設資源化量内訳(燃料化)'!L11+'施設資源化量内訳(セメント)'!L11+'施設資源化量内訳(資源化等)'!L11","v":0},{"$f":"'施設資源化量内訳(焼却)'!M11+'施設資源化量内訳(粗大)'!M11+'施設資源化量内訳(堆肥化)'!M11+'施設資源化量内訳(飼料化)'!M11+'施設資源化量内訳(メタン化)'!M11+'施設資源化量内訳(燃料化)'!M11+'施設資源化量内訳(セメント)'!M11+'施設資源化量内訳(資源化等)'!M11","v":0},{"$f":"'施設資源化量内訳(焼却)'!N11+'施設資源化量内訳(粗大)'!N11+'施設資源化量内訳(堆肥化)'!N11+'施設資源化量内訳(飼料化)'!N11+'施設資源化量内訳(メタン化)'!N11+'施設資源化量内訳(燃料化)'!N11+'施設資源化量内訳(セメント)'!N11+'施設資源化量内訳(資源化等)'!N11","v":0},{"$f":"'施設資源化量内訳(焼却)'!O11+'施設資源化量内訳(粗大)'!O11+'施設資源化量内訳(堆肥化)'!O11+'施設資源化量内訳(飼料化)'!O11+'施設資源化量内訳(メタン化)'!O11+'施設資源化量内訳(燃料化)'!O11+'施設資源化量内訳(セメント)'!O11+'施設資源化量内訳(資源化等)'!O11","v":0},{"$f":"'施設資源化量内訳(焼却)'!P11+'施設資源化量内訳(粗大)'!P11+'施設資源化量内訳(堆肥化)'!P11+'施設資源化量内訳(飼料化)'!P11+'施設資源化量内訳(メタン化)'!P11+'施設資源化量内訳(燃料化)'!P11+'施設資源化量内訳(セメント)'!P11+'施設資源化量内訳(資源化等)'!P11","v":0},{"$f":"'施設資源化量内訳(焼却)'!Q11+'施設資源化量内訳(粗大)'!Q11+'施設資源化量内訳(堆肥化)'!Q11+'施設資源化量内訳(飼料化)'!Q11+'施設資源化量内訳(メタン化)'!Q11+'施設資源化量内訳(燃料化)'!Q11+'施設資源化量内訳(セメント)'!Q11+'施設資源化量内訳(資源化等)'!Q11","v":0},{"$f":"'施設資源化量内訳(焼却)'!R11+'施設資源化量内訳(粗大)'!R11+'施設資源化量内訳(堆肥化)'!R11+'施設資源化量内訳(飼料化)'!R11+'施設資源化量内訳(メタン化)'!R11+'施設資源化量内訳(燃料化)'!R11+'施設資源化量内訳(セメント)'!R11+'施設資源化量内訳(資源化等)'!R11","v":0},{"$f":"'施設資源化量内訳(焼却)'!S11+'施設資源化量内訳(粗大)'!S11+'施設資源化量内訳(堆肥化)'!S11+'施設資源化量内訳(飼料化)'!S11+'施設資源化量内訳(メタン化)'!S11+'施設資源化量内訳(燃料化)'!S11+'施設資源化量内訳(セメント)'!S11+'施設資源化量内訳(資源化等)'!S11","v":0},{"$f":"'施設資源化量内訳(焼却)'!T11+'施設資源化量内訳(粗大)'!T11+'施設資源化量内訳(堆肥化)'!T11+'施設資源化量内訳(飼料化)'!T11+'施設資源化量内訳(メタン化)'!T11+'施設資源化量内訳(燃料化)'!T11+'施設資源化量内訳(セメント)'!T11+'施設資源化量内訳(資源化等)'!T11","v":0},{"$f":"'施設資源化量内訳(焼却)'!U11+'施設資源化量内訳(粗大)'!U11+'施設資源化量内訳(堆肥化)'!U11+'施設資源化量内訳(飼料化)'!U11+'施設資源化量内訳(メタン化)'!U11+'施設資源化量内訳(燃料化)'!U11+'施設資源化量内訳(セメント)'!U11+'施設資源化量内訳(資源化等)'!U11","v":0},{"$f":"'施設資源化量内訳(焼却)'!V11+'施設資源化量内訳(粗大)'!V11+'施設資源化量内訳(堆肥化)'!V11+'施設資源化量内訳(飼料化)'!V11+'施設資源化量内訳(メタン化)'!V11+'施設資源化量内訳(燃料化)'!V11+'施設資源化量内訳(セメント)'!V11+'施設資源化量内訳(資源化等)'!V11","v":0},{"$f":"'施設資源化量内訳(焼却)'!W11+'施設資源化量内訳(粗大)'!W11+'施設資源化量内訳(堆肥化)'!W11+'施設資源化量内訳(飼料化)'!W11+'施設資源化量内訳(メタン化)'!W11+'施設資源化量内訳(燃料化)'!W11+'施設資源化量内訳(セメント)'!W11+'施設資源化量内訳(資源化等)'!W11","v":0},{"$f":"'施設資源化量内訳(焼却)'!X11+'施設資源化量内訳(粗大)'!X11+'施設資源化量内訳(堆肥化)'!X11+'施設資源化量内訳(飼料化)'!X11+'施設資源化量内訳(メタン化)'!X11+'施設資源化量内訳(燃料化)'!X11+'施設資源化量内訳(セメント)'!X11+'施設資源化量内訳(資源化等)'!X11","v":0},{"$f":"'施設資源化量内訳(焼却)'!Y11+'施設資源化量内訳(粗大)'!Y11+'施設資源化量内訳(堆肥化)'!Y11+'施設資源化量内訳(飼料化)'!Y11+'施設資源化量内訳(メタン化)'!Y11+'施設資源化量内訳(燃料化)'!Y11+'施設資源化量内訳(セメント)'!Y11+'施設資源化量内訳(資源化等)'!Y11","v":0},{"$f":"'施設資源化量内訳(焼却)'!Z11+'施設資源化量内訳(粗大)'!Z11+'施設資源化量内訳(堆肥化)'!Z11+'施設資源化量内訳(飼料化)'!Z11+'施設資源化量内訳(メタン化)'!Z11+'施設資源化量内訳(燃料化)'!Z11+'施設資源化量内訳(セメント)'!Z11+'施設資源化量内訳(資源化等)'!Z11","v":0},{"$f":"'施設資源化量内訳(焼却)'!AA11+'施設資源化量内訳(粗大)'!AA11+'施設資源化量内訳(堆肥化)'!AA11+'施設資源化量内訳(飼料化)'!AA11+'施設資源化量内訳(メタン化)'!AA11+'施設資源化量内訳(燃料化)'!AA11+'施設資源化量内訳(セメント)'!AA11+'施設資源化量内訳(資源化等)'!AA11","v":0},{"$f":"'施設資源化量内訳(焼却)'!AB11+'施設資源化量内訳(粗大)'!AB11+'施設資源化量内訳(堆肥化)'!AB11+'施設資源化量内訳(飼料化)'!AB11+'施設資源化量内訳(メタン化)'!AB11+'施設資源化量内訳(燃料化)'!AB11+'施設資源化量内訳(セメント)'!AB11+'施設資源化量内訳(資源化等)'!AB11","v":0},{"$f":"'施設資源化量内訳(焼却)'!AC11+'施設資源化量内訳(粗大)'!AC11+'施設資源化量内訳(堆肥化)'!AC11+'施設資源化量内訳(飼料化)'!AC11+'施設資源化量内訳(メタン化)'!AC11+'施設資源化量内訳(燃料化)'!AC11+'施設資源化量内訳(セメント)'!AC11+'施設資源化量内訳(資源化等)'!AC11","v":0},{"$f":"'施設資源化量内訳(焼却)'!AD11+'施設資源化量内訳(粗大)'!AD11+'施設資源化量内訳(堆肥化)'!AD11+'施設資源化量内訳(飼料化)'!AD11+'施設資源化量内訳(メタン化)'!AD11+'施設資源化量内訳(燃料化)'!AD11+'施設資源化量内訳(セメント)'!AD11+'施設資源化量内訳(資源化等)'!AD11","v":0},{"$f":"'施設資源化量内訳(焼却)'!AE11+'施設資源化量内訳(粗大)'!AE11+'施設資源化量内訳(堆肥化)'!AE11+'施設資源化量内訳(飼料化)'!AE11+'施設資源化量内訳(メタン化)'!AE11+'施設資源化量内訳(燃料化)'!AE11+'施設資源化量内訳(セメント)'!AE11+'施設資源化量内訳(資源化等)'!AE11","v":0},{"$f":"'施設資源化量内訳(焼却)'!AF11+'施設資源化量内訳(粗大)'!AF11+'施設資源化量内訳(堆肥化)'!AF11+'施設資源化量内訳(飼料化)'!AF11+'施設資源化量内訳(メタン化)'!AF11+'施設資源化量内訳(燃料化)'!AF11+'施設資源化量内訳(セメント)'!AF11+'施設資源化量内訳(資源化等)'!AF11","v":0},{"$f":"'施設資源化量内訳(焼却)'!AG11+'施設資源化量内訳(粗大)'!AG11+'施設資源化量内訳(堆肥化)'!AG11+'施設資源化量内訳(飼料化)'!AG11+'施設資源化量内訳(メタン化)'!AG11+'施設資源化量内訳(燃料化)'!AG11+'施設資源化量内訳(セメント)'!AG11+'施設資源化量内訳(資源化等)'!AG11","v":0}]
["秋田県","05206","男鹿市",{"$f":"SUM(E12:AG12)","v":0},0,0,0,0,0,0,0,0,0,0,0,0,0,0,0,0,0,0,0,0,0,0,0,0,0,0,0,0,0,{"$f":"SUM(AI12:BK12)","v":0},0,0,0,0,0,0,0,0,0,0,0,0,0,0,0,0,0,0,0,0,0,0,0,0,0,0,0,0,0,{"$f":"SUM(BM12:CO12)","v":0},{"$f":"'施設資源化量内訳(焼却)'!E12+'施設資源化量内訳(粗大)'!E12+'施設資源化量内訳(堆肥化)'!E12+'施設資源化量内訳(飼料化)'!E12+'施設資源化量内訳(メタン化)'!E12+'施設資源化量内訳(燃料化)'!E12+'施設資源化量内訳(セメント)'!E12+'施設資源化量内訳(資源化等)'!E12","v":0},{"$f":"'施設資源化量内訳(焼却)'!F12+'施設資源化量内訳(粗大)'!F12+'施設資源化量内訳(堆肥化)'!F12+'施設資源化量内訳(飼料化)'!F12+'施設資源化量内訳(メタン化)'!F12+'施設資源化量内訳(燃料化)'!F12+'施設資源化量内訳(セメント)'!F12+'施設資源化量内訳(資源化等)'!F12","v":0},{"$f":"'施設資源化量内訳(焼却)'!G12+'施設資源化量内訳(粗大)'!G12+'施設資源化量内訳(堆肥化)'!G12+'施設資源化量内訳(飼料化)'!G12+'施設資源化量内訳(メタン化)'!G12+'施設資源化量内訳(燃料化)'!G12+'施設資源化量内訳(セメント)'!G12+'施設資源化量内訳(資源化等)'!G12","v":0},{"$f":"'施設資源化量内訳(焼却)'!H12+'施設資源化量内訳(粗大)'!H12+'施設資源化量内訳(堆肥化)'!H12+'施設資源化量内訳(飼料化)'!H12+'施設資源化量内訳(メタン化)'!H12+'施設資源化量内訳(燃料化)'!H12+'施設資源化量内訳(セメント)'!H12+'施設資源化量内訳(資源化等)'!H12","v":0},{"$f":"'施設資源化量内訳(焼却)'!I12+'施設資源化量内訳(粗大)'!I12+'施設資源化量内訳(堆肥化)'!I12+'施設資源化量内訳(飼料化)'!I12+'施設資源化量内訳(メタン化)'!I12+'施設資源化量内訳(燃料化)'!I12+'施設資源化量内訳(セメント)'!I12+'施設資源化量内訳(資源化等)'!I12","v":0},{"$f":"'施設資源化量内訳(焼却)'!J12+'施設資源化量内訳(粗大)'!J12+'施設資源化量内訳(堆肥化)'!J12+'施設資源化量内訳(飼料化)'!J12+'施設資源化量内訳(メタン化)'!J12+'施設資源化量内訳(燃料化)'!J12+'施設資源化量内訳(セメント)'!J12+'施設資源化量内訳(資源化等)'!J12","v":0},{"$f":"'施設資源化量内訳(焼却)'!K12+'施設資源化量内訳(粗大)'!K12+'施設資源化量内訳(堆肥化)'!K12+'施設資源化量内訳(飼料化)'!K12+'施設資源化量内訳(メタン化)'!K12+'施設資源化量内訳(燃料化)'!K12+'施設資源化量内訳(セメント)'!K12+'施設資源化量内訳(資源化等)'!K12","v":0},{"$f":"'施設資源化量内訳(焼却)'!L12+'施設資源化量内訳(粗大)'!L12+'施設資源化量内訳(堆肥化)'!L12+'施設資源化量内訳(飼料化)'!L12+'施設資源化量内訳(メタン化)'!L12+'施設資源化量内訳(燃料化)'!L12+'施設資源化量内訳(セメント)'!L12+'施設資源化量内訳(資源化等)'!L12","v":0},{"$f":"'施設資源化量内訳(焼却)'!M12+'施設資源化量内訳(粗大)'!M12+'施設資源化量内訳(堆肥化)'!M12+'施設資源化量内訳(飼料化)'!M12+'施設資源化量内訳(メタン化)'!M12+'施設資源化量内訳(燃料化)'!M12+'施設資源化量内訳(セメント)'!M12+'施設資源化量内訳(資源化等)'!M12","v":0},{"$f":"'施設資源化量内訳(焼却)'!N12+'施設資源化量内訳(粗大)'!N12+'施設資源化量内訳(堆肥化)'!N12+'施設資源化量内訳(飼料化)'!N12+'施設資源化量内訳(メタン化)'!N12+'施設資源化量内訳(燃料化)'!N12+'施設資源化量内訳(セメント)'!N12+'施設資源化量内訳(資源化等)'!N12","v":0},{"$f":"'施設資源化量内訳(焼却)'!O12+'施設資源化量内訳(粗大)'!O12+'施設資源化量内訳(堆肥化)'!O12+'施設資源化量内訳(飼料化)'!O12+'施設資源化量内訳(メタン化)'!O12+'施設資源化量内訳(燃料化)'!O12+'施設資源化量内訳(セメント)'!O12+'施設資源化量内訳(資源化等)'!O12","v":0},{"$f":"'施設資源化量内訳(焼却)'!P12+'施設資源化量内訳(粗大)'!P12+'施設資源化量内訳(堆肥化)'!P12+'施設資源化量内訳(飼料化)'!P12+'施設資源化量内訳(メタン化)'!P12+'施設資源化量内訳(燃料化)'!P12+'施設資源化量内訳(セメント)'!P12+'施設資源化量内訳(資源化等)'!P12","v":0},{"$f":"'施設資源化量内訳(焼却)'!Q12+'施設資源化量内訳(粗大)'!Q12+'施設資源化量内訳(堆肥化)'!Q12+'施設資源化量内訳(飼料化)'!Q12+'施設資源化量内訳(メタン化)'!Q12+'施設資源化量内訳(燃料化)'!Q12+'施設資源化量内訳(セメント)'!Q12+'施設資源化量内訳(資源化等)'!Q12","v":0},{"$f":"'施設資源化量内訳(焼却)'!R12+'施設資源化量内訳(粗大)'!R12+'施設資源化量内訳(堆肥化)'!R12+'施設資源化量内訳(飼料化)'!R12+'施設資源化量内訳(メタン化)'!R12+'施設資源化量内訳(燃料化)'!R12+'施設資源化量内訳(セメント)'!R12+'施設資源化量内訳(資源化等)'!R12","v":0},{"$f":"'施設資源化量内訳(焼却)'!S12+'施設資源化量内訳(粗大)'!S12+'施設資源化量内訳(堆肥化)'!S12+'施設資源化量内訳(飼料化)'!S12+'施設資源化量内訳(メタン化)'!S12+'施設資源化量内訳(燃料化)'!S12+'施設資源化量内訳(セメント)'!S12+'施設資源化量内訳(資源化等)'!S12","v":0},{"$f":"'施設資源化量内訳(焼却)'!T12+'施設資源化量内訳(粗大)'!T12+'施設資源化量内訳(堆肥化)'!T12+'施設資源化量内訳(飼料化)'!T12+'施設資源化量内訳(メタン化)'!T12+'施設資源化量内訳(燃料化)'!T12+'施設資源化量内訳(セメント)'!T12+'施設資源化量内訳(資源化等)'!T12","v":0},{"$f":"'施設資源化量内訳(焼却)'!U12+'施設資源化量内訳(粗大)'!U12+'施設資源化量内訳(堆肥化)'!U12+'施設資源化量内訳(飼料化)'!U12+'施設資源化量内訳(メタン化)'!U12+'施設資源化量内訳(燃料化)'!U12+'施設資源化量内訳(セメント)'!U12+'施設資源化量内訳(資源化等)'!U12","v":0},{"$f":"'施設資源化量内訳(焼却)'!V12+'施設資源化量内訳(粗大)'!V12+'施設資源化量内訳(堆肥化)'!V12+'施設資源化量内訳(飼料化)'!V12+'施設資源化量内訳(メタン化)'!V12+'施設資源化量内訳(燃料化)'!V12+'施設資源化量内訳(セメント)'!V12+'施設資源化量内訳(資源化等)'!V12","v":0},{"$f":"'施設資源化量内訳(焼却)'!W12+'施設資源化量内訳(粗大)'!W12+'施設資源化量内訳(堆肥化)'!W12+'施設資源化量内訳(飼料化)'!W12+'施設資源化量内訳(メタン化)'!W12+'施設資源化量内訳(燃料化)'!W12+'施設資源化量内訳(セメント)'!W12+'施設資源化量内訳(資源化等)'!W12","v":0},{"$f":"'施設資源化量内訳(焼却)'!X12+'施設資源化量内訳(粗大)'!X12+'施設資源化量内訳(堆肥化)'!X12+'施設資源化量内訳(飼料化)'!X12+'施設資源化量内訳(メタン化)'!X12+'施設資源化量内訳(燃料化)'!X12+'施設資源化量内訳(セメント)'!X12+'施設資源化量内訳(資源化等)'!X12","v":0},{"$f":"'施設資源化量内訳(焼却)'!Y12+'施設資源化量内訳(粗大)'!Y12+'施設資源化量内訳(堆肥化)'!Y12+'施設資源化量内訳(飼料化)'!Y12+'施設資源化量内訳(メタン化)'!Y12+'施設資源化量内訳(燃料化)'!Y12+'施設資源化量内訳(セメント)'!Y12+'施設資源化量内訳(資源化等)'!Y12","v":0},{"$f":"'施設資源化量内訳(焼却)'!Z12+'施設資源化量内訳(粗大)'!Z12+'施設資源化量内訳(堆肥化)'!Z12+'施設資源化量内訳(飼料化)'!Z12+'施設資源化量内訳(メタン化)'!Z12+'施設資源化量内訳(燃料化)'!Z12+'施設資源化量内訳(セメント)'!Z12+'施設資源化量内訳(資源化等)'!Z12","v":0},{"$f":"'施設資源化量内訳(焼却)'!AA12+'施設資源化量内訳(粗大)'!AA12+'施設資源化量内訳(堆肥化)'!AA12+'施設資源化量内訳(飼料化)'!AA12+'施設資源化量内訳(メタン化)'!AA12+'施設資源化量内訳(燃料化)'!AA12+'施設資源化量内訳(セメント)'!AA12+'施設資源化量内訳(資源化等)'!AA12","v":0},{"$f":"'施設資源化量内訳(焼却)'!AB12+'施設資源化量内訳(粗大)'!AB12+'施設資源化量内訳(堆肥化)'!AB12+'施設資源化量内訳(飼料化)'!AB12+'施設資源化量内訳(メタン化)'!AB12+'施設資源化量内訳(燃料化)'!AB12+'施設資源化量内訳(セメント)'!AB12+'施設資源化量内訳(資源化等)'!AB12","v":0},{"$f":"'施設資源化量内訳(焼却)'!AC12+'施設資源化量内訳(粗大)'!AC12+'施設資源化量内訳(堆肥化)'!AC12+'施設資源化量内訳(飼料化)'!AC12+'施設資源化量内訳(メタン化)'!AC12+'施設資源化量内訳(燃料化)'!AC12+'施設資源化量内訳(セメント)'!AC12+'施設資源化量内訳(資源化等)'!AC12","v":0},{"$f":"'施設資源化量内訳(焼却)'!AD12+'施設資源化量内訳(粗大)'!AD12+'施設資源化量内訳(堆肥化)'!AD12+'施設資源化量内訳(飼料化)'!AD12+'施設資源化量内訳(メタン化)'!AD12+'施設資源化量内訳(燃料化)'!AD12+'施設資源化量内訳(セメント)'!AD12+'施設資源化量内訳(資源化等)'!AD12","v":0},{"$f":"'施設資源化量内訳(焼却)'!AE12+'施設資源化量内訳(粗大)'!AE12+'施設資源化量内訳(堆肥化)'!AE12+'施設資源化量内訳(飼料化)'!AE12+'施設資源化量内訳(メタン化)'!AE12+'施設資源化量内訳(燃料化)'!AE12+'施設資源化量内訳(セメント)'!AE12+'施設資源化量内訳(資源化等)'!AE12","v":0},{"$f":"'施設資源化量内訳(焼却)'!AF12+'施設資源化量内訳(粗大)'!AF12+'施設資源化量内訳(堆肥化)'!AF12+'施設資源化量内訳(飼料化)'!AF12+'施設資源化量内訳(メタン化)'!AF12+'施設資源化量内訳(燃料化)'!AF12+'施設資源化量内訳(セメント)'!AF12+'施設資源化量内訳(資源化等)'!AF12","v":0},{"$f":"'施設資源化量内訳(焼却)'!AG12+'施設資源化量内訳(粗大)'!AG12+'施設資源化量内訳(堆肥化)'!AG12+'施設資源化量内訳(飼料化)'!AG12+'施設資源化量内訳(メタン化)'!AG12+'施設資源化量内訳(燃料化)'!AG12+'施設資源化量内訳(セメント)'!AG12+'施設資源化量内訳(資源化等)'!AG12","v":0}]
["秋田県","05207","湯沢市",{"$f":"SUM(E13:AG13)","v":0},0,0,0,0,0,0,0,0,0,0,0,0,0,0,0,0,0,0,0,0,0,0,0,0,0,0,0,0,0,{"$f":"SUM(AI13:BK13)","v":0},0,0,0,0,0,0,0,0,0,0,0,0,0,0,0,0,0,0,0,0,0,0,0,0,0,0,0,0,0,{"$f":"SUM(BM13:CO13)","v":0},{"$f":"'施設資源化量内訳(焼却)'!E13+'施設資源化量内訳(粗大)'!E13+'施設資源化量内訳(堆肥化)'!E13+'施設資源化量内訳(飼料化)'!E13+'施設資源化量内訳(メタン化)'!E13+'施設資源化量内訳(燃料化)'!E13+'施設資源化量内訳(セメント)'!E13+'施設資源化量内訳(資源化等)'!E13","v":0},{"$f":"'施設資源化量内訳(焼却)'!F13+'施設資源化量内訳(粗大)'!F13+'施設資源化量内訳(堆肥化)'!F13+'施設資源化量内訳(飼料化)'!F13+'施設資源化量内訳(メタン化)'!F13+'施設資源化量内訳(燃料化)'!F13+'施設資源化量内訳(セメント)'!F13+'施設資源化量内訳(資源化等)'!F13","v":0},{"$f":"'施設資源化量内訳(焼却)'!G13+'施設資源化量内訳(粗大)'!G13+'施設資源化量内訳(堆肥化)'!G13+'施設資源化量内訳(飼料化)'!G13+'施設資源化量内訳(メタン化)'!G13+'施設資源化量内訳(燃料化)'!G13+'施設資源化量内訳(セメント)'!G13+'施設資源化量内訳(資源化等)'!G13","v":0},{"$f":"'施設資源化量内訳(焼却)'!H13+'施設資源化量内訳(粗大)'!H13+'施設資源化量内訳(堆肥化)'!H13+'施設資源化量内訳(飼料化)'!H13+'施設資源化量内訳(メタン化)'!H13+'施設資源化量内訳(燃料化)'!H13+'施設資源化量内訳(セメント)'!H13+'施設資源化量内訳(資源化等)'!H13","v":0},{"$f":"'施設資源化量内訳(焼却)'!I13+'施設資源化量内訳(粗大)'!I13+'施設資源化量内訳(堆肥化)'!I13+'施設資源化量内訳(飼料化)'!I13+'施設資源化量内訳(メタン化)'!I13+'施設資源化量内訳(燃料化)'!I13+'施設資源化量内訳(セメント)'!I13+'施設資源化量内訳(資源化等)'!I13","v":0},{"$f":"'施設資源化量内訳(焼却)'!J13+'施設資源化量内訳(粗大)'!J13+'施設資源化量内訳(堆肥化)'!J13+'施設資源化量内訳(飼料化)'!J13+'施設資源化量内訳(メタン化)'!J13+'施設資源化量内訳(燃料化)'!J13+'施設資源化量内訳(セメント)'!J13+'施設資源化量内訳(資源化等)'!J13","v":0},{"$f":"'施設資源化量内訳(焼却)'!K13+'施設資源化量内訳(粗大)'!K13+'施設資源化量内訳(堆肥化)'!K13+'施設資源化量内訳(飼料化)'!K13+'施設資源化量内訳(メタン化)'!K13+'施設資源化量内訳(燃料化)'!K13+'施設資源化量内訳(セメント)'!K13+'施設資源化量内訳(資源化等)'!K13","v":0},{"$f":"'施設資源化量内訳(焼却)'!L13+'施設資源化量内訳(粗大)'!L13+'施設資源化量内訳(堆肥化)'!L13+'施設資源化量内訳(飼料化)'!L13+'施設資源化量内訳(メタン化)'!L13+'施設資源化量内訳(燃料化)'!L13+'施設資源化量内訳(セメント)'!L13+'施設資源化量内訳(資源化等)'!L13","v":0},{"$f":"'施設資源化量内訳(焼却)'!M13+'施設資源化量内訳(粗大)'!M13+'施設資源化量内訳(堆肥化)'!M13+'施設資源化量内訳(飼料化)'!M13+'施設資源化量内訳(メタン化)'!M13+'施設資源化量内訳(燃料化)'!M13+'施設資源化量内訳(セメント)'!M13+'施設資源化量内訳(資源化等)'!M13","v":0},{"$f":"'施設資源化量内訳(焼却)'!N13+'施設資源化量内訳(粗大)'!N13+'施設資源化量内訳(堆肥化)'!N13+'施設資源化量内訳(飼料化)'!N13+'施設資源化量内訳(メタン化)'!N13+'施設資源化量内訳(燃料化)'!N13+'施設資源化量内訳(セメント)'!N13+'施設資源化量内訳(資源化等)'!N13","v":0},{"$f":"'施設資源化量内訳(焼却)'!O13+'施設資源化量内訳(粗大)'!O13+'施設資源化量内訳(堆肥化)'!O13+'施設資源化量内訳(飼料化)'!O13+'施設資源化量内訳(メタン化)'!O13+'施設資源化量内訳(燃料化)'!O13+'施設資源化量内訳(セメント)'!O13+'施設資源化量内訳(資源化等)'!O13","v":0},{"$f":"'施設資源化量内訳(焼却)'!P13+'施設資源化量内訳(粗大)'!P13+'施設資源化量内訳(堆肥化)'!P13+'施設資源化量内訳(飼料化)'!P13+'施設資源化量内訳(メタン化)'!P13+'施設資源化量内訳(燃料化)'!P13+'施設資源化量内訳(セメント)'!P13+'施設資源化量内訳(資源化等)'!P13","v":0},{"$f":"'施設資源化量内訳(焼却)'!Q13+'施設資源化量内訳(粗大)'!Q13+'施設資源化量内訳(堆肥化)'!Q13+'施設資源化量内訳(飼料化)'!Q13+'施設資源化量内訳(メタン化)'!Q13+'施設資源化量内訳(燃料化)'!Q13+'施設資源化量内訳(セメント)'!Q13+'施設資源化量内訳(資源化等)'!Q13","v":0},{"$f":"'施設資源化量内訳(焼却)'!R13+'施設資源化量内訳(粗大)'!R13+'施設資源化量内訳(堆肥化)'!R13+'施設資源化量内訳(飼料化)'!R13+'施設資源化量内訳(メタン化)'!R13+'施設資源化量内訳(燃料化)'!R13+'施設資源化量内訳(セメント)'!R13+'施設資源化量内訳(資源化等)'!R13","v":0},{"$f":"'施設資源化量内訳(焼却)'!S13+'施設資源化量内訳(粗大)'!S13+'施設資源化量内訳(堆肥化)'!S13+'施設資源化量内訳(飼料化)'!S13+'施設資源化量内訳(メタン化)'!S13+'施設資源化量内訳(燃料化)'!S13+'施設資源化量内訳(セメント)'!S13+'施設資源化量内訳(資源化等)'!S13","v":0},{"$f":"'施設資源化量内訳(焼却)'!T13+'施設資源化量内訳(粗大)'!T13+'施設資源化量内訳(堆肥化)'!T13+'施設資源化量内訳(飼料化)'!T13+'施設資源化量内訳(メタン化)'!T13+'施設資源化量内訳(燃料化)'!T13+'施設資源化量内訳(セメント)'!T13+'施設資源化量内訳(資源化等)'!T13","v":0},{"$f":"'施設資源化量内訳(焼却)'!U13+'施設資源化量内訳(粗大)'!U13+'施設資源化量内訳(堆肥化)'!U13+'施設資源化量内訳(飼料化)'!U13+'施設資源化量内訳(メタン化)'!U13+'施設資源化量内訳(燃料化)'!U13+'施設資源化量内訳(セメント)'!U13+'施設資源化量内訳(資源化等)'!U13","v":0},{"$f":"'施設資源化量内訳(焼却)'!V13+'施設資源化量内訳(粗大)'!V13+'施設資源化量内訳(堆肥化)'!V13+'施設資源化量内訳(飼料化)'!V13+'施設資源化量内訳(メタン化)'!V13+'施設資源化量内訳(燃料化)'!V13+'施設資源化量内訳(セメント)'!V13+'施設資源化量内訳(資源化等)'!V13","v":0},{"$f":"'施設資源化量内訳(焼却)'!W13+'施設資源化量内訳(粗大)'!W13+'施設資源化量内訳(堆肥化)'!W13+'施設資源化量内訳(飼料化)'!W13+'施設資源化量内訳(メタン化)'!W13+'施設資源化量内訳(燃料化)'!W13+'施設資源化量内訳(セメント)'!W13+'施設資源化量内訳(資源化等)'!W13","v":0},{"$f":"'施設資源化量内訳(焼却)'!X13+'施設資源化量内訳(粗大)'!X13+'施設資源化量内訳(堆肥化)'!X13+'施設資源化量内訳(飼料化)'!X13+'施設資源化量内訳(メタン化)'!X13+'施設資源化量内訳(燃料化)'!X13+'施設資源化量内訳(セメント)'!X13+'施設資源化量内訳(資源化等)'!X13","v":0},{"$f":"'施設資源化量内訳(焼却)'!Y13+'施設資源化量内訳(粗大)'!Y13+'施設資源化量内訳(堆肥化)'!Y13+'施設資源化量内訳(飼料化)'!Y13+'施設資源化量内訳(メタン化)'!Y13+'施設資源化量内訳(燃料化)'!Y13+'施設資源化量内訳(セメント)'!Y13+'施設資源化量内訳(資源化等)'!Y13","v":0},{"$f":"'施設資源化量内訳(焼却)'!Z13+'施設資源化量内訳(粗大)'!Z13+'施設資源化量内訳(堆肥化)'!Z13+'施設資源化量内訳(飼料化)'!Z13+'施設資源化量内訳(メタン化)'!Z13+'施設資源化量内訳(燃料化)'!Z13+'施設資源化量内訳(セメント)'!Z13+'施設資源化量内訳(資源化等)'!Z13","v":0},{"$f":"'施設資源化量内訳(焼却)'!AA13+'施設資源化量内訳(粗大)'!AA13+'施設資源化量内訳(堆肥化)'!AA13+'施設資源化量内訳(飼料化)'!AA13+'施設資源化量内訳(メタン化)'!AA13+'施設資源化量内訳(燃料化)'!AA13+'施設資源化量内訳(セメント)'!AA13+'施設資源化量内訳(資源化等)'!AA13","v":0},{"$f":"'施設資源化量内訳(焼却)'!AB13+'施設資源化量内訳(粗大)'!AB13+'施設資源化量内訳(堆肥化)'!AB13+'施設資源化量内訳(飼料化)'!AB13+'施設資源化量内訳(メタン化)'!AB13+'施設資源化量内訳(燃料化)'!AB13+'施設資源化量内訳(セメント)'!AB13+'施設資源化量内訳(資源化等)'!AB13","v":0},{"$f":"'施設資源化量内訳(焼却)'!AC13+'施設資源化量内訳(粗大)'!AC13+'施設資源化量内訳(堆肥化)'!AC13+'施設資源化量内訳(飼料化)'!AC13+'施設資源化量内訳(メタン化)'!AC13+'施設資源化量内訳(燃料化)'!AC13+'施設資源化量内訳(セメント)'!AC13+'施設資源化量内訳(資源化等)'!AC13","v":0},{"$f":"'施設資源化量内訳(焼却)'!AD13+'施設資源化量内訳(粗大)'!AD13+'施設資源化量内訳(堆肥化)'!AD13+'施設資源化量内訳(飼料化)'!AD13+'施設資源化量内訳(メタン化)'!AD13+'施設資源化量内訳(燃料化)'!AD13+'施設資源化量内訳(セメント)'!AD13+'施設資源化量内訳(資源化等)'!AD13","v":0},{"$f":"'施設資源化量内訳(焼却)'!AE13+'施設資源化量内訳(粗大)'!AE13+'施設資源化量内訳(堆肥化)'!AE13+'施設資源化量内訳(飼料化)'!AE13+'施設資源化量内訳(メタン化)'!AE13+'施設資源化量内訳(燃料化)'!AE13+'施設資源化量内訳(セメント)'!AE13+'施設資源化量内訳(資源化等)'!AE13","v":0},{"$f":"'施設資源化量内訳(焼却)'!AF13+'施設資源化量内訳(粗大)'!AF13+'施設資源化量内訳(堆肥化)'!AF13+'施設資源化量内訳(飼料化)'!AF13+'施設資源化量内訳(メタン化)'!AF13+'施設資源化量内訳(燃料化)'!AF13+'施設資源化量内訳(セメント)'!AF13+'施設資源化量内訳(資源化等)'!AF13","v":0},{"$f":"'施設資源化量内訳(焼却)'!AG13+'施設資源化量内訳(粗大)'!AG13+'施設資源化量内訳(堆肥化)'!AG13+'施設資源化量内訳(飼料化)'!AG13+'施設資源化量内訳(メタン化)'!AG13+'施設資源化量内訳(燃料化)'!AG13+'施設資源化量内訳(セメント)'!AG13+'施設資源化量内訳(資源化等)'!AG13","v":0}]
["秋田県","05209","鹿角市",{"$f":"SUM(E14:AG14)","v":0},0,0,0,0,0,0,0,0,0,0,0,0,0,0,0,0,0,0,0,0,0,0,0,0,0,0,0,0,0,{"$f":"SUM(AI14:BK14)","v":0},0,0,0,0,0,0,0,0,0,0,0,0,0,0,0,0,0,0,0,0,0,0,0,0,0,0,0,0,0,{"$f":"SUM(BM14:CO14)","v":0},{"$f":"'施設資源化量内訳(焼却)'!E14+'施設資源化量内訳(粗大)'!E14+'施設資源化量内訳(堆肥化)'!E14+'施設資源化量内訳(飼料化)'!E14+'施設資源化量内訳(メタン化)'!E14+'施設資源化量内訳(燃料化)'!E14+'施設資源化量内訳(セメント)'!E14+'施設資源化量内訳(資源化等)'!E14","v":0},{"$f":"'施設資源化量内訳(焼却)'!F14+'施設資源化量内訳(粗大)'!F14+'施設資源化量内訳(堆肥化)'!F14+'施設資源化量内訳(飼料化)'!F14+'施設資源化量内訳(メタン化)'!F14+'施設資源化量内訳(燃料化)'!F14+'施設資源化量内訳(セメント)'!F14+'施設資源化量内訳(資源化等)'!F14","v":0},{"$f":"'施設資源化量内訳(焼却)'!G14+'施設資源化量内訳(粗大)'!G14+'施設資源化量内訳(堆肥化)'!G14+'施設資源化量内訳(飼料化)'!G14+'施設資源化量内訳(メタン化)'!G14+'施設資源化量内訳(燃料化)'!G14+'施設資源化量内訳(セメント)'!G14+'施設資源化量内訳(資源化等)'!G14","v":0},{"$f":"'施設資源化量内訳(焼却)'!H14+'施設資源化量内訳(粗大)'!H14+'施設資源化量内訳(堆肥化)'!H14+'施設資源化量内訳(飼料化)'!H14+'施設資源化量内訳(メタン化)'!H14+'施設資源化量内訳(燃料化)'!H14+'施設資源化量内訳(セメント)'!H14+'施設資源化量内訳(資源化等)'!H14","v":0},{"$f":"'施設資源化量内訳(焼却)'!I14+'施設資源化量内訳(粗大)'!I14+'施設資源化量内訳(堆肥化)'!I14+'施設資源化量内訳(飼料化)'!I14+'施設資源化量内訳(メタン化)'!I14+'施設資源化量内訳(燃料化)'!I14+'施設資源化量内訳(セメント)'!I14+'施設資源化量内訳(資源化等)'!I14","v":0},{"$f":"'施設資源化量内訳(焼却)'!J14+'施設資源化量内訳(粗大)'!J14+'施設資源化量内訳(堆肥化)'!J14+'施設資源化量内訳(飼料化)'!J14+'施設資源化量内訳(メタン化)'!J14+'施設資源化量内訳(燃料化)'!J14+'施設資源化量内訳(セメント)'!J14+'施設資源化量内訳(資源化等)'!J14","v":0},{"$f":"'施設資源化量内訳(焼却)'!K14+'施設資源化量内訳(粗大)'!K14+'施設資源化量内訳(堆肥化)'!K14+'施設資源化量内訳(飼料化)'!K14+'施設資源化量内訳(メタン化)'!K14+'施設資源化量内訳(燃料化)'!K14+'施設資源化量内訳(セメント)'!K14+'施設資源化量内訳(資源化等)'!K14","v":0},{"$f":"'施設資源化量内訳(焼却)'!L14+'施設資源化量内訳(粗大)'!L14+'施設資源化量内訳(堆肥化)'!L14+'施設資源化量内訳(飼料化)'!L14+'施設資源化量内訳(メタン化)'!L14+'施設資源化量内訳(燃料化)'!L14+'施設資源化量内訳(セメント)'!L14+'施設資源化量内訳(資源化等)'!L14","v":0},{"$f":"'施設資源化量内訳(焼却)'!M14+'施設資源化量内訳(粗大)'!M14+'施設資源化量内訳(堆肥化)'!M14+'施設資源化量内訳(飼料化)'!M14+'施設資源化量内訳(メタン化)'!M14+'施設資源化量内訳(燃料化)'!M14+'施設資源化量内訳(セメント)'!M14+'施設資源化量内訳(資源化等)'!M14","v":0},{"$f":"'施設資源化量内訳(焼却)'!N14+'施設資源化量内訳(粗大)'!N14+'施設資源化量内訳(堆肥化)'!N14+'施設資源化量内訳(飼料化)'!N14+'施設資源化量内訳(メタン化)'!N14+'施設資源化量内訳(燃料化)'!N14+'施設資源化量内訳(セメント)'!N14+'施設資源化量内訳(資源化等)'!N14","v":0},{"$f":"'施設資源化量内訳(焼却)'!O14+'施設資源化量内訳(粗大)'!O14+'施設資源化量内訳(堆肥化)'!O14+'施設資源化量内訳(飼料化)'!O14+'施設資源化量内訳(メタン化)'!O14+'施設資源化量内訳(燃料化)'!O14+'施設資源化量内訳(セメント)'!O14+'施設資源化量内訳(資源化等)'!O14","v":0},{"$f":"'施設資源化量内訳(焼却)'!P14+'施設資源化量内訳(粗大)'!P14+'施設資源化量内訳(堆肥化)'!P14+'施設資源化量内訳(飼料化)'!P14+'施設資源化量内訳(メタン化)'!P14+'施設資源化量内訳(燃料化)'!P14+'施設資源化量内訳(セメント)'!P14+'施設資源化量内訳(資源化等)'!P14","v":0},{"$f":"'施設資源化量内訳(焼却)'!Q14+'施設資源化量内訳(粗大)'!Q14+'施設資源化量内訳(堆肥化)'!Q14+'施設資源化量内訳(飼料化)'!Q14+'施設資源化量内訳(メタン化)'!Q14+'施設資源化量内訳(燃料化)'!Q14+'施設資源化量内訳(セメント)'!Q14+'施設資源化量内訳(資源化等)'!Q14","v":0},{"$f":"'施設資源化量内訳(焼却)'!R14+'施設資源化量内訳(粗大)'!R14+'施設資源化量内訳(堆肥化)'!R14+'施設資源化量内訳(飼料化)'!R14+'施設資源化量内訳(メタン化)'!R14+'施設資源化量内訳(燃料化)'!R14+'施設資源化量内訳(セメント)'!R14+'施設資源化量内訳(資源化等)'!R14","v":0},{"$f":"'施設資源化量内訳(焼却)'!S14+'施設資源化量内訳(粗大)'!S14+'施設資源化量内訳(堆肥化)'!S14+'施設資源化量内訳(飼料化)'!S14+'施設資源化量内訳(メタン化)'!S14+'施設資源化量内訳(燃料化)'!S14+'施設資源化量内訳(セメント)'!S14+'施設資源化量内訳(資源化等)'!S14","v":0},{"$f":"'施設資源化量内訳(焼却)'!T14+'施設資源化量内訳(粗大)'!T14+'施設資源化量内訳(堆肥化)'!T14+'施設資源化量内訳(飼料化)'!T14+'施設資源化量内訳(メタン化)'!T14+'施設資源化量内訳(燃料化)'!T14+'施設資源化量内訳(セメント)'!T14+'施設資源化量内訳(資源化等)'!T14","v":0},{"$f":"'施設資源化量内訳(焼却)'!U14+'施設資源化量内訳(粗大)'!U14+'施設資源化量内訳(堆肥化)'!U14+'施設資源化量内訳(飼料化)'!U14+'施設資源化量内訳(メタン化)'!U14+'施設資源化量内訳(燃料化)'!U14+'施設資源化量内訳(セメント)'!U14+'施設資源化量内訳(資源化等)'!U14","v":0},{"$f":"'施設資源化量内訳(焼却)'!V14+'施設資源化量内訳(粗大)'!V14+'施設資源化量内訳(堆肥化)'!V14+'施設資源化量内訳(飼料化)'!V14+'施設資源化量内訳(メタン化)'!V14+'施設資源化量内訳(燃料化)'!V14+'施設資源化量内訳(セメント)'!V14+'施設資源化量内訳(資源化等)'!V14","v":0},{"$f":"'施設資源化量内訳(焼却)'!W14+'施設資源化量内訳(粗大)'!W14+'施設資源化量内訳(堆肥化)'!W14+'施設資源化量内訳(飼料化)'!W14+'施設資源化量内訳(メタン化)'!W14+'施設資源化量内訳(燃料化)'!W14+'施設資源化量内訳(セメント)'!W14+'施設資源化量内訳(資源化等)'!W14","v":0},{"$f":"'施設資源化量内訳(焼却)'!X14+'施設資源化量内訳(粗大)'!X14+'施設資源化量内訳(堆肥化)'!X14+'施設資源化量内訳(飼料化)'!X14+'施設資源化量内訳(メタン化)'!X14+'施設資源化量内訳(燃料化)'!X14+'施設資源化量内訳(セメント)'!X14+'施設資源化量内訳(資源化等)'!X14","v":0},{"$f":"'施設資源化量内訳(焼却)'!Y14+'施設資源化量内訳(粗大)'!Y14+'施設資源化量内訳(堆肥化)'!Y14+'施設資源化量内訳(飼料化)'!Y14+'施設資源化量内訳(メタン化)'!Y14+'施設資源化量内訳(燃料化)'!Y14+'施設資源化量内訳(セメント)'!Y14+'施設資源化量内訳(資源化等)'!Y14","v":0},{"$f":"'施設資源化量内訳(焼却)'!Z14+'施設資源化量内訳(粗大)'!Z14+'施設資源化量内訳(堆肥化)'!Z14+'施設資源化量内訳(飼料化)'!Z14+'施設資源化量内訳(メタン化)'!Z14+'施設資源化量内訳(燃料化)'!Z14+'施設資源化量内訳(セメント)'!Z14+'施設資源化量内訳(資源化等)'!Z14","v":0},{"$f":"'施設資源化量内訳(焼却)'!AA14+'施設資源化量内訳(粗大)'!AA14+'施設資源化量内訳(堆肥化)'!AA14+'施設資源化量内訳(飼料化)'!AA14+'施設資源化量内訳(メタン化)'!AA14+'施設資源化量内訳(燃料化)'!AA14+'施設資源化量内訳(セメント)'!AA14+'施設資源化量内訳(資源化等)'!AA14","v":0},{"$f":"'施設資源化量内訳(焼却)'!AB14+'施設資源化量内訳(粗大)'!AB14+'施設資源化量内訳(堆肥化)'!AB14+'施設資源化量内訳(飼料化)'!AB14+'施設資源化量内訳(メタン化)'!AB14+'施設資源化量内訳(燃料化)'!AB14+'施設資源化量内訳(セメント)'!AB14+'施設資源化量内訳(資源化等)'!AB14","v":0},{"$f":"'施設資源化量内訳(焼却)'!AC14+'施設資源化量内訳(粗大)'!AC14+'施設資源化量内訳(堆肥化)'!AC14+'施設資源化量内訳(飼料化)'!AC14+'施設資源化量内訳(メタン化)'!AC14+'施設資源化量内訳(燃料化)'!AC14+'施設資源化量内訳(セメント)'!AC14+'施設資源化量内訳(資源化等)'!AC14","v":0},{"$f":"'施設資源化量内訳(焼却)'!AD14+'施設資源化量内訳(粗大)'!AD14+'施設資源化量内訳(堆肥化)'!AD14+'施設資源化量内訳(飼料化)'!AD14+'施設資源化量内訳(メタン化)'!AD14+'施設資源化量内訳(燃料化)'!AD14+'施設資源化量内訳(セメント)'!AD14+'施設資源化量内訳(資源化等)'!AD14","v":0},{"$f":"'施設資源化量内訳(焼却)'!AE14+'施設資源化量内訳(粗大)'!AE14+'施設資源化量内訳(堆肥化)'!AE14+'施設資源化量内訳(飼料化)'!AE14+'施設資源化量内訳(メタン化)'!AE14+'施設資源化量内訳(燃料化)'!AE14+'施設資源化量内訳(セメント)'!AE14+'施設資源化量内訳(資源化等)'!AE14","v":0},{"$f":"'施設資源化量内訳(焼却)'!AF14+'施設資源化量内訳(粗大)'!AF14+'施設資源化量内訳(堆肥化)'!AF14+'施設資源化量内訳(飼料化)'!AF14+'施設資源化量内訳(メタン化)'!AF14+'施設資源化量内訳(燃料化)'!AF14+'施設資源化量内訳(セメント)'!AF14+'施設資源化量内訳(資源化等)'!AF14","v":0},{"$f":"'施設資源化量内訳(焼却)'!AG14+'施設資源化量内訳(粗大)'!AG14+'施設資源化量内訳(堆肥化)'!AG14+'施設資源化量内訳(飼料化)'!AG14+'施設資源化量内訳(メタン化)'!AG14+'施設資源化量内訳(燃料化)'!AG14+'施設資源化量内訳(セメント)'!AG14+'施設資源化量内訳(資源化等)'!AG14","v":0}]
["秋田県","05210","由利本荘市",{"$f":"SUM(E15:AG15)","v":0},0,0,0,0,0,0,0,0,0,0,0,0,0,0,0,0,0,0,0,0,0,0,0,0,0,0,0,0,0,{"$f":"SUM(AI15:BK15)","v":0},0,0,0,0,0,0,0,0,0,0,0,0,0,0,0,0,0,0,0,0,0,0,0,0,0,0,0,0,0,{"$f":"SUM(BM15:CO15)","v":0},{"$f":"'施設資源化量内訳(焼却)'!E15+'施設資源化量内訳(粗大)'!E15+'施設資源化量内訳(堆肥化)'!E15+'施設資源化量内訳(飼料化)'!E15+'施設資源化量内訳(メタン化)'!E15+'施設資源化量内訳(燃料化)'!E15+'施設資源化量内訳(セメント)'!E15+'施設資源化量内訳(資源化等)'!E15","v":0},{"$f":"'施設資源化量内訳(焼却)'!F15+'施設資源化量内訳(粗大)'!F15+'施設資源化量内訳(堆肥化)'!F15+'施設資源化量内訳(飼料化)'!F15+'施設資源化量内訳(メタン化)'!F15+'施設資源化量内訳(燃料化)'!F15+'施設資源化量内訳(セメント)'!F15+'施設資源化量内訳(資源化等)'!F15","v":0},{"$f":"'施設資源化量内訳(焼却)'!G15+'施設資源化量内訳(粗大)'!G15+'施設資源化量内訳(堆肥化)'!G15+'施設資源化量内訳(飼料化)'!G15+'施設資源化量内訳(メタン化)'!G15+'施設資源化量内訳(燃料化)'!G15+'施設資源化量内訳(セメント)'!G15+'施設資源化量内訳(資源化等)'!G15","v":0},{"$f":"'施設資源化量内訳(焼却)'!H15+'施設資源化量内訳(粗大)'!H15+'施設資源化量内訳(堆肥化)'!H15+'施設資源化量内訳(飼料化)'!H15+'施設資源化量内訳(メタン化)'!H15+'施設資源化量内訳(燃料化)'!H15+'施設資源化量内訳(セメント)'!H15+'施設資源化量内訳(資源化等)'!H15","v":0},{"$f":"'施設資源化量内訳(焼却)'!I15+'施設資源化量内訳(粗大)'!I15+'施設資源化量内訳(堆肥化)'!I15+'施設資源化量内訳(飼料化)'!I15+'施設資源化量内訳(メタン化)'!I15+'施設資源化量内訳(燃料化)'!I15+'施設資源化量内訳(セメント)'!I15+'施設資源化量内訳(資源化等)'!I15","v":0},{"$f":"'施設資源化量内訳(焼却)'!J15+'施設資源化量内訳(粗大)'!J15+'施設資源化量内訳(堆肥化)'!J15+'施設資源化量内訳(飼料化)'!J15+'施設資源化量内訳(メタン化)'!J15+'施設資源化量内訳(燃料化)'!J15+'施設資源化量内訳(セメント)'!J15+'施設資源化量内訳(資源化等)'!J15","v":0},{"$f":"'施設資源化量内訳(焼却)'!K15+'施設資源化量内訳(粗大)'!K15+'施設資源化量内訳(堆肥化)'!K15+'施設資源化量内訳(飼料化)'!K15+'施設資源化量内訳(メタン化)'!K15+'施設資源化量内訳(燃料化)'!K15+'施設資源化量内訳(セメント)'!K15+'施設資源化量内訳(資源化等)'!K15","v":0},{"$f":"'施設資源化量内訳(焼却)'!L15+'施設資源化量内訳(粗大)'!L15+'施設資源化量内訳(堆肥化)'!L15+'施設資源化量内訳(飼料化)'!L15+'施設資源化量内訳(メタン化)'!L15+'施設資源化量内訳(燃料化)'!L15+'施設資源化量内訳(セメント)'!L15+'施設資源化量内訳(資源化等)'!L15","v":0},{"$f":"'施設資源化量内訳(焼却)'!M15+'施設資源化量内訳(粗大)'!M15+'施設資源化量内訳(堆肥化)'!M15+'施設資源化量内訳(飼料化)'!M15+'施設資源化量内訳(メタン化)'!M15+'施設資源化量内訳(燃料化)'!M15+'施設資源化量内訳(セメント)'!M15+'施設資源化量内訳(資源化等)'!M15","v":0},{"$f":"'施設資源化量内訳(焼却)'!N15+'施設資源化量内訳(粗大)'!N15+'施設資源化量内訳(堆肥化)'!N15+'施設資源化量内訳(飼料化)'!N15+'施設資源化量内訳(メタン化)'!N15+'施設資源化量内訳(燃料化)'!N15+'施設資源化量内訳(セメント)'!N15+'施設資源化量内訳(資源化等)'!N15","v":0},{"$f":"'施設資源化量内訳(焼却)'!O15+'施設資源化量内訳(粗大)'!O15+'施設資源化量内訳(堆肥化)'!O15+'施設資源化量内訳(飼料化)'!O15+'施設資源化量内訳(メタン化)'!O15+'施設資源化量内訳(燃料化)'!O15+'施設資源化量内訳(セメント)'!O15+'施設資源化量内訳(資源化等)'!O15","v":0},{"$f":"'施設資源化量内訳(焼却)'!P15+'施設資源化量内訳(粗大)'!P15+'施設資源化量内訳(堆肥化)'!P15+'施設資源化量内訳(飼料化)'!P15+'施設資源化量内訳(メタン化)'!P15+'施設資源化量内訳(燃料化)'!P15+'施設資源化量内訳(セメント)'!P15+'施設資源化量内訳(資源化等)'!P15","v":0},{"$f":"'施設資源化量内訳(焼却)'!Q15+'施設資源化量内訳(粗大)'!Q15+'施設資源化量内訳(堆肥化)'!Q15+'施設資源化量内訳(飼料化)'!Q15+'施設資源化量内訳(メタン化)'!Q15+'施設資源化量内訳(燃料化)'!Q15+'施設資源化量内訳(セメント)'!Q15+'施設資源化量内訳(資源化等)'!Q15","v":0},{"$f":"'施設資源化量内訳(焼却)'!R15+'施設資源化量内訳(粗大)'!R15+'施設資源化量内訳(堆肥化)'!R15+'施設資源化量内訳(飼料化)'!R15+'施設資源化量内訳(メタン化)'!R15+'施設資源化量内訳(燃料化)'!R15+'施設資源化量内訳(セメント)'!R15+'施設資源化量内訳(資源化等)'!R15","v":0},{"$f":"'施設資源化量内訳(焼却)'!S15+'施設資源化量内訳(粗大)'!S15+'施設資源化量内訳(堆肥化)'!S15+'施設資源化量内訳(飼料化)'!S15+'施設資源化量内訳(メタン化)'!S15+'施設資源化量内訳(燃料化)'!S15+'施設資源化量内訳(セメント)'!S15+'施設資源化量内訳(資源化等)'!S15","v":0},{"$f":"'施設資源化量内訳(焼却)'!T15+'施設資源化量内訳(粗大)'!T15+'施設資源化量内訳(堆肥化)'!T15+'施設資源化量内訳(飼料化)'!T15+'施設資源化量内訳(メタン化)'!T15+'施設資源化量内訳(燃料化)'!T15+'施設資源化量内訳(セメント)'!T15+'施設資源化量内訳(資源化等)'!T15","v":0},{"$f":"'施設資源化量内訳(焼却)'!U15+'施設資源化量内訳(粗大)'!U15+'施設資源化量内訳(堆肥化)'!U15+'施設資源化量内訳(飼料化)'!U15+'施設資源化量内訳(メタン化)'!U15+'施設資源化量内訳(燃料化)'!U15+'施設資源化量内訳(セメント)'!U15+'施設資源化量内訳(資源化等)'!U15","v":0},{"$f":"'施設資源化量内訳(焼却)'!V15+'施設資源化量内訳(粗大)'!V15+'施設資源化量内訳(堆肥化)'!V15+'施設資源化量内訳(飼料化)'!V15+'施設資源化量内訳(メタン化)'!V15+'施設資源化量内訳(燃料化)'!V15+'施設資源化量内訳(セメント)'!V15+'施設資源化量内訳(資源化等)'!V15","v":0},{"$f":"'施設資源化量内訳(焼却)'!W15+'施設資源化量内訳(粗大)'!W15+'施設資源化量内訳(堆肥化)'!W15+'施設資源化量内訳(飼料化)'!W15+'施設資源化量内訳(メタン化)'!W15+'施設資源化量内訳(燃料化)'!W15+'施設資源化量内訳(セメント)'!W15+'施設資源化量内訳(資源化等)'!W15","v":0},{"$f":"'施設資源化量内訳(焼却)'!X15+'施設資源化量内訳(粗大)'!X15+'施設資源化量内訳(堆肥化)'!X15+'施設資源化量内訳(飼料化)'!X15+'施設資源化量内訳(メタン化)'!X15+'施設資源化量内訳(燃料化)'!X15+'施設資源化量内訳(セメント)'!X15+'施設資源化量内訳(資源化等)'!X15","v":0},{"$f":"'施設資源化量内訳(焼却)'!Y15+'施設資源化量内訳(粗大)'!Y15+'施設資源化量内訳(堆肥化)'!Y15+'施設資源化量内訳(飼料化)'!Y15+'施設資源化量内訳(メタン化)'!Y15+'施設資源化量内訳(燃料化)'!Y15+'施設資源化量内訳(セメント)'!Y15+'施設資源化量内訳(資源化等)'!Y15","v":0},{"$f":"'施設資源化量内訳(焼却)'!Z15+'施設資源化量内訳(粗大)'!Z15+'施設資源化量内訳(堆肥化)'!Z15+'施設資源化量内訳(飼料化)'!Z15+'施設資源化量内訳(メタン化)'!Z15+'施設資源化量内訳(燃料化)'!Z15+'施設資源化量内訳(セメント)'!Z15+'施設資源化量内訳(資源化等)'!Z15","v":0},{"$f":"'施設資源化量内訳(焼却)'!AA15+'施設資源化量内訳(粗大)'!AA15+'施設資源化量内訳(堆肥化)'!AA15+'施設資源化量内訳(飼料化)'!AA15+'施設資源化量内訳(メタン化)'!AA15+'施設資源化量内訳(燃料化)'!AA15+'施設資源化量内訳(セメント)'!AA15+'施設資源化量内訳(資源化等)'!AA15","v":0},{"$f":"'施設資源化量内訳(焼却)'!AB15+'施設資源化量内訳(粗大)'!AB15+'施設資源化量内訳(堆肥化)'!AB15+'施設資源化量内訳(飼料化)'!AB15+'施設資源化量内訳(メタン化)'!AB15+'施設資源化量内訳(燃料化)'!AB15+'施設資源化量内訳(セメント)'!AB15+'施設資源化量内訳(資源化等)'!AB15","v":0},{"$f":"'施設資源化量内訳(焼却)'!AC15+'施設資源化量内訳(粗大)'!AC15+'施設資源化量内訳(堆肥化)'!AC15+'施設資源化量内訳(飼料化)'!AC15+'施設資源化量内訳(メタン化)'!AC15+'施設資源化量内訳(燃料化)'!AC15+'施設資源化量内訳(セメント)'!AC15+'施設資源化量内訳(資源化等)'!AC15","v":0},{"$f":"'施設資源化量内訳(焼却)'!AD15+'施設資源化量内訳(粗大)'!AD15+'施設資源化量内訳(堆肥化)'!AD15+'施設資源化量内訳(飼料化)'!AD15+'施設資源化量内訳(メタン化)'!AD15+'施設資源化量内訳(燃料化)'!AD15+'施設資源化量内訳(セメント)'!AD15+'施設資源化量内訳(資源化等)'!AD15","v":0},{"$f":"'施設資源化量内訳(焼却)'!AE15+'施設資源化量内訳(粗大)'!AE15+'施設資源化量内訳(堆肥化)'!AE15+'施設資源化量内訳(飼料化)'!AE15+'施設資源化量内訳(メタン化)'!AE15+'施設資源化量内訳(燃料化)'!AE15+'施設資源化量内訳(セメント)'!AE15+'施設資源化量内訳(資源化等)'!AE15","v":0},{"$f":"'施設資源化量内訳(焼却)'!AF15+'施設資源化量内訳(粗大)'!AF15+'施設資源化量内訳(堆肥化)'!AF15+'施設資源化量内訳(飼料化)'!AF15+'施設資源化量内訳(メタン化)'!AF15+'施設資源化量内訳(燃料化)'!AF15+'施設資源化量内訳(セメント)'!AF15+'施設資源化量内訳(資源化等)'!AF15","v":0},{"$f":"'施設資源化量内訳(焼却)'!AG15+'施設資源化量内訳(粗大)'!AG15+'施設資源化量内訳(堆肥化)'!AG15+'施設資源化量内訳(飼料化)'!AG15+'施設資源化量内訳(メタン化)'!AG15+'施設資源化量内訳(燃料化)'!AG15+'施設資源化量内訳(セメント)'!AG15+'施設資源化量内訳(資源化等)'!AG15","v":0}]
["秋田県","05211","潟上市",{"$f":"SUM(E16:AG16)","v":0},0,0,0,0,0,0,0,0,0,0,0,0,0,0,0,0,0,0,0,0,0,0,0,0,0,0,0,0,0,{"$f":"SUM(AI16:BK16)","v":0},0,0,0,0,0,0,0,0,0,0,0,0,0,0,0,0,0,0,0,0,0,0,0,0,0,0,0,0,0,{"$f":"SUM(BM16:CO16)","v":0},{"$f":"'施設資源化量内訳(焼却)'!E16+'施設資源化量内訳(粗大)'!E16+'施設資源化量内訳(堆肥化)'!E16+'施設資源化量内訳(飼料化)'!E16+'施設資源化量内訳(メタン化)'!E16+'施設資源化量内訳(燃料化)'!E16+'施設資源化量内訳(セメント)'!E16+'施設資源化量内訳(資源化等)'!E16","v":0},{"$f":"'施設資源化量内訳(焼却)'!F16+'施設資源化量内訳(粗大)'!F16+'施設資源化量内訳(堆肥化)'!F16+'施設資源化量内訳(飼料化)'!F16+'施設資源化量内訳(メタン化)'!F16+'施設資源化量内訳(燃料化)'!F16+'施設資源化量内訳(セメント)'!F16+'施設資源化量内訳(資源化等)'!F16","v":0},{"$f":"'施設資源化量内訳(焼却)'!G16+'施設資源化量内訳(粗大)'!G16+'施設資源化量内訳(堆肥化)'!G16+'施設資源化量内訳(飼料化)'!G16+'施設資源化量内訳(メタン化)'!G16+'施設資源化量内訳(燃料化)'!G16+'施設資源化量内訳(セメント)'!G16+'施設資源化量内訳(資源化等)'!G16","v":0},{"$f":"'施設資源化量内訳(焼却)'!H16+'施設資源化量内訳(粗大)'!H16+'施設資源化量内訳(堆肥化)'!H16+'施設資源化量内訳(飼料化)'!H16+'施設資源化量内訳(メタン化)'!H16+'施設資源化量内訳(燃料化)'!H16+'施設資源化量内訳(セメント)'!H16+'施設資源化量内訳(資源化等)'!H16","v":0},{"$f":"'施設資源化量内訳(焼却)'!I16+'施設資源化量内訳(粗大)'!I16+'施設資源化量内訳(堆肥化)'!I16+'施設資源化量内訳(飼料化)'!I16+'施設資源化量内訳(メタン化)'!I16+'施設資源化量内訳(燃料化)'!I16+'施設資源化量内訳(セメント)'!I16+'施設資源化量内訳(資源化等)'!I16","v":0},{"$f":"'施設資源化量内訳(焼却)'!J16+'施設資源化量内訳(粗大)'!J16+'施設資源化量内訳(堆肥化)'!J16+'施設資源化量内訳(飼料化)'!J16+'施設資源化量内訳(メタン化)'!J16+'施設資源化量内訳(燃料化)'!J16+'施設資源化量内訳(セメント)'!J16+'施設資源化量内訳(資源化等)'!J16","v":0},{"$f":"'施設資源化量内訳(焼却)'!K16+'施設資源化量内訳(粗大)'!K16+'施設資源化量内訳(堆肥化)'!K16+'施設資源化量内訳(飼料化)'!K16+'施設資源化量内訳(メタン化)'!K16+'施設資源化量内訳(燃料化)'!K16+'施設資源化量内訳(セメント)'!K16+'施設資源化量内訳(資源化等)'!K16","v":0},{"$f":"'施設資源化量内訳(焼却)'!L16+'施設資源化量内訳(粗大)'!L16+'施設資源化量内訳(堆肥化)'!L16+'施設資源化量内訳(飼料化)'!L16+'施設資源化量内訳(メタン化)'!L16+'施設資源化量内訳(燃料化)'!L16+'施設資源化量内訳(セメント)'!L16+'施設資源化量内訳(資源化等)'!L16","v":0},{"$f":"'施設資源化量内訳(焼却)'!M16+'施設資源化量内訳(粗大)'!M16+'施設資源化量内訳(堆肥化)'!M16+'施設資源化量内訳(飼料化)'!M16+'施設資源化量内訳(メタン化)'!M16+'施設資源化量内訳(燃料化)'!M16+'施設資源化量内訳(セメント)'!M16+'施設資源化量内訳(資源化等)'!M16","v":0},{"$f":"'施設資源化量内訳(焼却)'!N16+'施設資源化量内訳(粗大)'!N16+'施設資源化量内訳(堆肥化)'!N16+'施設資源化量内訳(飼料化)'!N16+'施設資源化量内訳(メタン化)'!N16+'施設資源化量内訳(燃料化)'!N16+'施設資源化量内訳(セメント)'!N16+'施設資源化量内訳(資源化等)'!N16","v":0},{"$f":"'施設資源化量内訳(焼却)'!O16+'施設資源化量内訳(粗大)'!O16+'施設資源化量内訳(堆肥化)'!O16+'施設資源化量内訳(飼料化)'!O16+'施設資源化量内訳(メタン化)'!O16+'施設資源化量内訳(燃料化)'!O16+'施設資源化量内訳(セメント)'!O16+'施設資源化量内訳(資源化等)'!O16","v":0},{"$f":"'施設資源化量内訳(焼却)'!P16+'施設資源化量内訳(粗大)'!P16+'施設資源化量内訳(堆肥化)'!P16+'施設資源化量内訳(飼料化)'!P16+'施設資源化量内訳(メタン化)'!P16+'施設資源化量内訳(燃料化)'!P16+'施設資源化量内訳(セメント)'!P16+'施設資源化量内訳(資源化等)'!P16","v":0},{"$f":"'施設資源化量内訳(焼却)'!Q16+'施設資源化量内訳(粗大)'!Q16+'施設資源化量内訳(堆肥化)'!Q16+'施設資源化量内訳(飼料化)'!Q16+'施設資源化量内訳(メタン化)'!Q16+'施設資源化量内訳(燃料化)'!Q16+'施設資源化量内訳(セメント)'!Q16+'施設資源化量内訳(資源化等)'!Q16","v":0},{"$f":"'施設資源化量内訳(焼却)'!R16+'施設資源化量内訳(粗大)'!R16+'施設資源化量内訳(堆肥化)'!R16+'施設資源化量内訳(飼料化)'!R16+'施設資源化量内訳(メタン化)'!R16+'施設資源化量内訳(燃料化)'!R16+'施設資源化量内訳(セメント)'!R16+'施設資源化量内訳(資源化等)'!R16","v":0},{"$f":"'施設資源化量内訳(焼却)'!S16+'施設資源化量内訳(粗大)'!S16+'施設資源化量内訳(堆肥化)'!S16+'施設資源化量内訳(飼料化)'!S16+'施設資源化量内訳(メタン化)'!S16+'施設資源化量内訳(燃料化)'!S16+'施設資源化量内訳(セメント)'!S16+'施設資源化量内訳(資源化等)'!S16","v":0},{"$f":"'施設資源化量内訳(焼却)'!T16+'施設資源化量内訳(粗大)'!T16+'施設資源化量内訳(堆肥化)'!T16+'施設資源化量内訳(飼料化)'!T16+'施設資源化量内訳(メタン化)'!T16+'施設資源化量内訳(燃料化)'!T16+'施設資源化量内訳(セメント)'!T16+'施設資源化量内訳(資源化等)'!T16","v":0},{"$f":"'施設資源化量内訳(焼却)'!U16+'施設資源化量内訳(粗大)'!U16+'施設資源化量内訳(堆肥化)'!U16+'施設資源化量内訳(飼料化)'!U16+'施設資源化量内訳(メタン化)'!U16+'施設資源化量内訳(燃料化)'!U16+'施設資源化量内訳(セメント)'!U16+'施設資源化量内訳(資源化等)'!U16","v":0},{"$f":"'施設資源化量内訳(焼却)'!V16+'施設資源化量内訳(粗大)'!V16+'施設資源化量内訳(堆肥化)'!V16+'施設資源化量内訳(飼料化)'!V16+'施設資源化量内訳(メタン化)'!V16+'施設資源化量内訳(燃料化)'!V16+'施設資源化量内訳(セメント)'!V16+'施設資源化量内訳(資源化等)'!V16","v":0},{"$f":"'施設資源化量内訳(焼却)'!W16+'施設資源化量内訳(粗大)'!W16+'施設資源化量内訳(堆肥化)'!W16+'施設資源化量内訳(飼料化)'!W16+'施設資源化量内訳(メタン化)'!W16+'施設資源化量内訳(燃料化)'!W16+'施設資源化量内訳(セメント)'!W16+'施設資源化量内訳(資源化等)'!W16","v":0},{"$f":"'施設資源化量内訳(焼却)'!X16+'施設資源化量内訳(粗大)'!X16+'施設資源化量内訳(堆肥化)'!X16+'施設資源化量内訳(飼料化)'!X16+'施設資源化量内訳(メタン化)'!X16+'施設資源化量内訳(燃料化)'!X16+'施設資源化量内訳(セメント)'!X16+'施設資源化量内訳(資源化等)'!X16","v":0},{"$f":"'施設資源化量内訳(焼却)'!Y16+'施設資源化量内訳(粗大)'!Y16+'施設資源化量内訳(堆肥化)'!Y16+'施設資源化量内訳(飼料化)'!Y16+'施設資源化量内訳(メタン化)'!Y16+'施設資源化量内訳(燃料化)'!Y16+'施設資源化量内訳(セメント)'!Y16+'施設資源化量内訳(資源化等)'!Y16","v":0},{"$f":"'施設資源化量内訳(焼却)'!Z16+'施設資源化量内訳(粗大)'!Z16+'施設資源化量内訳(堆肥化)'!Z16+'施設資源化量内訳(飼料化)'!Z16+'施設資源化量内訳(メタン化)'!Z16+'施設資源化量内訳(燃料化)'!Z16+'施設資源化量内訳(セメント)'!Z16+'施設資源化量内訳(資源化等)'!Z16","v":0},{"$f":"'施設資源化量内訳(焼却)'!AA16+'施設資源化量内訳(粗大)'!AA16+'施設資源化量内訳(堆肥化)'!AA16+'施設資源化量内訳(飼料化)'!AA16+'施設資源化量内訳(メタン化)'!AA16+'施設資源化量内訳(燃料化)'!AA16+'施設資源化量内訳(セメント)'!AA16+'施設資源化量内訳(資源化等)'!AA16","v":0},{"$f":"'施設資源化量内訳(焼却)'!AB16+'施設資源化量内訳(粗大)'!AB16+'施設資源化量内訳(堆肥化)'!AB16+'施設資源化量内訳(飼料化)'!AB16+'施設資源化量内訳(メタン化)'!AB16+'施設資源化量内訳(燃料化)'!AB16+'施設資源化量内訳(セメント)'!AB16+'施設資源化量内訳(資源化等)'!AB16","v":0},{"$f":"'施設資源化量内訳(焼却)'!AC16+'施設資源化量内訳(粗大)'!AC16+'施設資源化量内訳(堆肥化)'!AC16+'施設資源化量内訳(飼料化)'!AC16+'施設資源化量内訳(メタン化)'!AC16+'施設資源化量内訳(燃料化)'!AC16+'施設資源化量内訳(セメント)'!AC16+'施設資源化量内訳(資源化等)'!AC16","v":0},{"$f":"'施設資源化量内訳(焼却)'!AD16+'施設資源化量内訳(粗大)'!AD16+'施設資源化量内訳(堆肥化)'!AD16+'施設資源化量内訳(飼料化)'!AD16+'施設資源化量内訳(メタン化)'!AD16+'施設資源化量内訳(燃料化)'!AD16+'施設資源化量内訳(セメント)'!AD16+'施設資源化量内訳(資源化等)'!AD16","v":0},{"$f":"'施設資源化量内訳(焼却)'!AE16+'施設資源化量内訳(粗大)'!AE16+'施設資源化量内訳(堆肥化)'!AE16+'施設資源化量内訳(飼料化)'!AE16+'施設資源化量内訳(メタン化)'!AE16+'施設資源化量内訳(燃料化)'!AE16+'施設資源化量内訳(セメント)'!AE16+'施設資源化量内訳(資源化等)'!AE16","v":0},{"$f":"'施設資源化量内訳(焼却)'!AF16+'施設資源化量内訳(粗大)'!AF16+'施設資源化量内訳(堆肥化)'!AF16+'施設資源化量内訳(飼料化)'!AF16+'施設資源化量内訳(メタン化)'!AF16+'施設資源化量内訳(燃料化)'!AF16+'施設資源化量内訳(セメント)'!AF16+'施設資源化量内訳(資源化等)'!AF16","v":0},{"$f":"'施設資源化量内訳(焼却)'!AG16+'施設資源化量内訳(粗大)'!AG16+'施設資源化量内訳(堆肥化)'!AG16+'施設資源化量内訳(飼料化)'!AG16+'施設資源化量内訳(メタン化)'!AG16+'施設資源化量内訳(燃料化)'!AG16+'施設資源化量内訳(セメント)'!AG16+'施設資源化量内訳(資源化等)'!AG16","v":0}]
["秋田県","05212","大仙市",{"$f":"SUM(E17:AG17)","v":0},0,0,0,0,0,0,0,0,0,0,0,0,0,0,0,0,0,0,0,0,0,0,0,0,0,0,0,0,0,{"$f":"SUM(AI17:BK17)","v":0},0,0,0,0,0,0,0,0,0,0,0,0,0,0,0,0,0,0,0,0,0,0,0,0,0,0,0,0,0,{"$f":"SUM(BM17:CO17)","v":0},{"$f":"'施設資源化量内訳(焼却)'!E17+'施設資源化量内訳(粗大)'!E17+'施設資源化量内訳(堆肥化)'!E17+'施設資源化量内訳(飼料化)'!E17+'施設資源化量内訳(メタン化)'!E17+'施設資源化量内訳(燃料化)'!E17+'施設資源化量内訳(セメント)'!E17+'施設資源化量内訳(資源化等)'!E17","v":0},{"$f":"'施設資源化量内訳(焼却)'!F17+'施設資源化量内訳(粗大)'!F17+'施設資源化量内訳(堆肥化)'!F17+'施設資源化量内訳(飼料化)'!F17+'施設資源化量内訳(メタン化)'!F17+'施設資源化量内訳(燃料化)'!F17+'施設資源化量内訳(セメント)'!F17+'施設資源化量内訳(資源化等)'!F17","v":0},{"$f":"'施設資源化量内訳(焼却)'!G17+'施設資源化量内訳(粗大)'!G17+'施設資源化量内訳(堆肥化)'!G17+'施設資源化量内訳(飼料化)'!G17+'施設資源化量内訳(メタン化)'!G17+'施設資源化量内訳(燃料化)'!G17+'施設資源化量内訳(セメント)'!G17+'施設資源化量内訳(資源化等)'!G17","v":0},{"$f":"'施設資源化量内訳(焼却)'!H17+'施設資源化量内訳(粗大)'!H17+'施設資源化量内訳(堆肥化)'!H17+'施設資源化量内訳(飼料化)'!H17+'施設資源化量内訳(メタン化)'!H17+'施設資源化量内訳(燃料化)'!H17+'施設資源化量内訳(セメント)'!H17+'施設資源化量内訳(資源化等)'!H17","v":0},{"$f":"'施設資源化量内訳(焼却)'!I17+'施設資源化量内訳(粗大)'!I17+'施設資源化量内訳(堆肥化)'!I17+'施設資源化量内訳(飼料化)'!I17+'施設資源化量内訳(メタン化)'!I17+'施設資源化量内訳(燃料化)'!I17+'施設資源化量内訳(セメント)'!I17+'施設資源化量内訳(資源化等)'!I17","v":0},{"$f":"'施設資源化量内訳(焼却)'!J17+'施設資源化量内訳(粗大)'!J17+'施設資源化量内訳(堆肥化)'!J17+'施設資源化量内訳(飼料化)'!J17+'施設資源化量内訳(メタン化)'!J17+'施設資源化量内訳(燃料化)'!J17+'施設資源化量内訳(セメント)'!J17+'施設資源化量内訳(資源化等)'!J17","v":0},{"$f":"'施設資源化量内訳(焼却)'!K17+'施設資源化量内訳(粗大)'!K17+'施設資源化量内訳(堆肥化)'!K17+'施設資源化量内訳(飼料化)'!K17+'施設資源化量内訳(メタン化)'!K17+'施設資源化量内訳(燃料化)'!K17+'施設資源化量内訳(セメント)'!K17+'施設資源化量内訳(資源化等)'!K17","v":0},{"$f":"'施設資源化量内訳(焼却)'!L17+'施設資源化量内訳(粗大)'!L17+'施設資源化量内訳(堆肥化)'!L17+'施設資源化量内訳(飼料化)'!L17+'施設資源化量内訳(メタン化)'!L17+'施設資源化量内訳(燃料化)'!L17+'施設資源化量内訳(セメント)'!L17+'施設資源化量内訳(資源化等)'!L17","v":0},{"$f":"'施設資源化量内訳(焼却)'!M17+'施設資源化量内訳(粗大)'!M17+'施設資源化量内訳(堆肥化)'!M17+'施設資源化量内訳(飼料化)'!M17+'施設資源化量内訳(メタン化)'!M17+'施設資源化量内訳(燃料化)'!M17+'施設資源化量内訳(セメント)'!M17+'施設資源化量内訳(資源化等)'!M17","v":0},{"$f":"'施設資源化量内訳(焼却)'!N17+'施設資源化量内訳(粗大)'!N17+'施設資源化量内訳(堆肥化)'!N17+'施設資源化量内訳(飼料化)'!N17+'施設資源化量内訳(メタン化)'!N17+'施設資源化量内訳(燃料化)'!N17+'施設資源化量内訳(セメント)'!N17+'施設資源化量内訳(資源化等)'!N17","v":0},{"$f":"'施設資源化量内訳(焼却)'!O17+'施設資源化量内訳(粗大)'!O17+'施設資源化量内訳(堆肥化)'!O17+'施設資源化量内訳(飼料化)'!O17+'施設資源化量内訳(メタン化)'!O17+'施設資源化量内訳(燃料化)'!O17+'施設資源化量内訳(セメント)'!O17+'施設資源化量内訳(資源化等)'!O17","v":0},{"$f":"'施設資源化量内訳(焼却)'!P17+'施設資源化量内訳(粗大)'!P17+'施設資源化量内訳(堆肥化)'!P17+'施設資源化量内訳(飼料化)'!P17+'施設資源化量内訳(メタン化)'!P17+'施設資源化量内訳(燃料化)'!P17+'施設資源化量内訳(セメント)'!P17+'施設資源化量内訳(資源化等)'!P17","v":0},{"$f":"'施設資源化量内訳(焼却)'!Q17+'施設資源化量内訳(粗大)'!Q17+'施設資源化量内訳(堆肥化)'!Q17+'施設資源化量内訳(飼料化)'!Q17+'施設資源化量内訳(メタン化)'!Q17+'施設資源化量内訳(燃料化)'!Q17+'施設資源化量内訳(セメント)'!Q17+'施設資源化量内訳(資源化等)'!Q17","v":0},{"$f":"'施設資源化量内訳(焼却)'!R17+'施設資源化量内訳(粗大)'!R17+'施設資源化量内訳(堆肥化)'!R17+'施設資源化量内訳(飼料化)'!R17+'施設資源化量内訳(メタン化)'!R17+'施設資源化量内訳(燃料化)'!R17+'施設資源化量内訳(セメント)'!R17+'施設資源化量内訳(資源化等)'!R17","v":0},{"$f":"'施設資源化量内訳(焼却)'!S17+'施設資源化量内訳(粗大)'!S17+'施設資源化量内訳(堆肥化)'!S17+'施設資源化量内訳(飼料化)'!S17+'施設資源化量内訳(メタン化)'!S17+'施設資源化量内訳(燃料化)'!S17+'施設資源化量内訳(セメント)'!S17+'施設資源化量内訳(資源化等)'!S17","v":0},{"$f":"'施設資源化量内訳(焼却)'!T17+'施設資源化量内訳(粗大)'!T17+'施設資源化量内訳(堆肥化)'!T17+'施設資源化量内訳(飼料化)'!T17+'施設資源化量内訳(メタン化)'!T17+'施設資源化量内訳(燃料化)'!T17+'施設資源化量内訳(セメント)'!T17+'施設資源化量内訳(資源化等)'!T17","v":0},{"$f":"'施設資源化量内訳(焼却)'!U17+'施設資源化量内訳(粗大)'!U17+'施設資源化量内訳(堆肥化)'!U17+'施設資源化量内訳(飼料化)'!U17+'施設資源化量内訳(メタン化)'!U17+'施設資源化量内訳(燃料化)'!U17+'施設資源化量内訳(セメント)'!U17+'施設資源化量内訳(資源化等)'!U17","v":0},{"$f":"'施設資源化量内訳(焼却)'!V17+'施設資源化量内訳(粗大)'!V17+'施設資源化量内訳(堆肥化)'!V17+'施設資源化量内訳(飼料化)'!V17+'施設資源化量内訳(メタン化)'!V17+'施設資源化量内訳(燃料化)'!V17+'施設資源化量内訳(セメント)'!V17+'施設資源化量内訳(資源化等)'!V17","v":0},{"$f":"'施設資源化量内訳(焼却)'!W17+'施設資源化量内訳(粗大)'!W17+'施設資源化量内訳(堆肥化)'!W17+'施設資源化量内訳(飼料化)'!W17+'施設資源化量内訳(メタン化)'!W17+'施設資源化量内訳(燃料化)'!W17+'施設資源化量内訳(セメント)'!W17+'施設資源化量内訳(資源化等)'!W17","v":0},{"$f":"'施設資源化量内訳(焼却)'!X17+'施設資源化量内訳(粗大)'!X17+'施設資源化量内訳(堆肥化)'!X17+'施設資源化量内訳(飼料化)'!X17+'施設資源化量内訳(メタン化)'!X17+'施設資源化量内訳(燃料化)'!X17+'施設資源化量内訳(セメント)'!X17+'施設資源化量内訳(資源化等)'!X17","v":0},{"$f":"'施設資源化量内訳(焼却)'!Y17+'施設資源化量内訳(粗大)'!Y17+'施設資源化量内訳(堆肥化)'!Y17+'施設資源化量内訳(飼料化)'!Y17+'施設資源化量内訳(メタン化)'!Y17+'施設資源化量内訳(燃料化)'!Y17+'施設資源化量内訳(セメント)'!Y17+'施設資源化量内訳(資源化等)'!Y17","v":0},{"$f":"'施設資源化量内訳(焼却)'!Z17+'施設資源化量内訳(粗大)'!Z17+'施設資源化量内訳(堆肥化)'!Z17+'施設資源化量内訳(飼料化)'!Z17+'施設資源化量内訳(メタン化)'!Z17+'施設資源化量内訳(燃料化)'!Z17+'施設資源化量内訳(セメント)'!Z17+'施設資源化量内訳(資源化等)'!Z17","v":0},{"$f":"'施設資源化量内訳(焼却)'!AA17+'施設資源化量内訳(粗大)'!AA17+'施設資源化量内訳(堆肥化)'!AA17+'施設資源化量内訳(飼料化)'!AA17+'施設資源化量内訳(メタン化)'!AA17+'施設資源化量内訳(燃料化)'!AA17+'施設資源化量内訳(セメント)'!AA17+'施設資源化量内訳(資源化等)'!AA17","v":0},{"$f":"'施設資源化量内訳(焼却)'!AB17+'施設資源化量内訳(粗大)'!AB17+'施設資源化量内訳(堆肥化)'!AB17+'施設資源化量内訳(飼料化)'!AB17+'施設資源化量内訳(メタン化)'!AB17+'施設資源化量内訳(燃料化)'!AB17+'施設資源化量内訳(セメント)'!AB17+'施設資源化量内訳(資源化等)'!AB17","v":0},{"$f":"'施設資源化量内訳(焼却)'!AC17+'施設資源化量内訳(粗大)'!AC17+'施設資源化量内訳(堆肥化)'!AC17+'施設資源化量内訳(飼料化)'!AC17+'施設資源化量内訳(メタン化)'!AC17+'施設資源化量内訳(燃料化)'!AC17+'施設資源化量内訳(セメント)'!AC17+'施設資源化量内訳(資源化等)'!AC17","v":0},{"$f":"'施設資源化量内訳(焼却)'!AD17+'施設資源化量内訳(粗大)'!AD17+'施設資源化量内訳(堆肥化)'!AD17+'施設資源化量内訳(飼料化)'!AD17+'施設資源化量内訳(メタン化)'!AD17+'施設資源化量内訳(燃料化)'!AD17+'施設資源化量内訳(セメント)'!AD17+'施設資源化量内訳(資源化等)'!AD17","v":0},{"$f":"'施設資源化量内訳(焼却)'!AE17+'施設資源化量内訳(粗大)'!AE17+'施設資源化量内訳(堆肥化)'!AE17+'施設資源化量内訳(飼料化)'!AE17+'施設資源化量内訳(メタン化)'!AE17+'施設資源化量内訳(燃料化)'!AE17+'施設資源化量内訳(セメント)'!AE17+'施設資源化量内訳(資源化等)'!AE17","v":0},{"$f":"'施設資源化量内訳(焼却)'!AF17+'施設資源化量内訳(粗大)'!AF17+'施設資源化量内訳(堆肥化)'!AF17+'施設資源化量内訳(飼料化)'!AF17+'施設資源化量内訳(メタン化)'!AF17+'施設資源化量内訳(燃料化)'!AF17+'施設資源化量内訳(セメント)'!AF17+'施設資源化量内訳(資源化等)'!AF17","v":0},{"$f":"'施設資源化量内訳(焼却)'!AG17+'施設資源化量内訳(粗大)'!AG17+'施設資源化量内訳(堆肥化)'!AG17+'施設資源化量内訳(飼料化)'!AG17+'施設資源化量内訳(メタン化)'!AG17+'施設資源化量内訳(燃料化)'!AG17+'施設資源化量内訳(セメント)'!AG17+'施設資源化量内訳(資源化等)'!AG17","v":0}]
["秋田県","05213","北秋田市",{"$f":"SUM(E18:AG18)","v":0},0,0,0,0,0,0,0,0,0,0,0,0,0,0,0,0,0,0,0,0,0,0,0,0,0,0,0,0,0,{"$f":"SUM(AI18:BK18)","v":0},0,0,0,0,0,0,0,0,0,0,0,0,0,0,0,0,0,0,0,0,0,0,0,0,0,0,0,0,0,{"$f":"SUM(BM18:CO18)","v":0},{"$f":"'施設資源化量内訳(焼却)'!E18+'施設資源化量内訳(粗大)'!E18+'施設資源化量内訳(堆肥化)'!E18+'施設資源化量内訳(飼料化)'!E18+'施設資源化量内訳(メタン化)'!E18+'施設資源化量内訳(燃料化)'!E18+'施設資源化量内訳(セメント)'!E18+'施設資源化量内訳(資源化等)'!E18","v":0},{"$f":"'施設資源化量内訳(焼却)'!F18+'施設資源化量内訳(粗大)'!F18+'施設資源化量内訳(堆肥化)'!F18+'施設資源化量内訳(飼料化)'!F18+'施設資源化量内訳(メタン化)'!F18+'施設資源化量内訳(燃料化)'!F18+'施設資源化量内訳(セメント)'!F18+'施設資源化量内訳(資源化等)'!F18","v":0},{"$f":"'施設資源化量内訳(焼却)'!G18+'施設資源化量内訳(粗大)'!G18+'施設資源化量内訳(堆肥化)'!G18+'施設資源化量内訳(飼料化)'!G18+'施設資源化量内訳(メタン化)'!G18+'施設資源化量内訳(燃料化)'!G18+'施設資源化量内訳(セメント)'!G18+'施設資源化量内訳(資源化等)'!G18","v":0},{"$f":"'施設資源化量内訳(焼却)'!H18+'施設資源化量内訳(粗大)'!H18+'施設資源化量内訳(堆肥化)'!H18+'施設資源化量内訳(飼料化)'!H18+'施設資源化量内訳(メタン化)'!H18+'施設資源化量内訳(燃料化)'!H18+'施設資源化量内訳(セメント)'!H18+'施設資源化量内訳(資源化等)'!H18","v":0},{"$f":"'施設資源化量内訳(焼却)'!I18+'施設資源化量内訳(粗大)'!I18+'施設資源化量内訳(堆肥化)'!I18+'施設資源化量内訳(飼料化)'!I18+'施設資源化量内訳(メタン化)'!I18+'施設資源化量内訳(燃料化)'!I18+'施設資源化量内訳(セメント)'!I18+'施設資源化量内訳(資源化等)'!I18","v":0},{"$f":"'施設資源化量内訳(焼却)'!J18+'施設資源化量内訳(粗大)'!J18+'施設資源化量内訳(堆肥化)'!J18+'施設資源化量内訳(飼料化)'!J18+'施設資源化量内訳(メタン化)'!J18+'施設資源化量内訳(燃料化)'!J18+'施設資源化量内訳(セメント)'!J18+'施設資源化量内訳(資源化等)'!J18","v":0},{"$f":"'施設資源化量内訳(焼却)'!K18+'施設資源化量内訳(粗大)'!K18+'施設資源化量内訳(堆肥化)'!K18+'施設資源化量内訳(飼料化)'!K18+'施設資源化量内訳(メタン化)'!K18+'施設資源化量内訳(燃料化)'!K18+'施設資源化量内訳(セメント)'!K18+'施設資源化量内訳(資源化等)'!K18","v":0},{"$f":"'施設資源化量内訳(焼却)'!L18+'施設資源化量内訳(粗大)'!L18+'施設資源化量内訳(堆肥化)'!L18+'施設資源化量内訳(飼料化)'!L18+'施設資源化量内訳(メタン化)'!L18+'施設資源化量内訳(燃料化)'!L18+'施設資源化量内訳(セメント)'!L18+'施設資源化量内訳(資源化等)'!L18","v":0},{"$f":"'施設資源化量内訳(焼却)'!M18+'施設資源化量内訳(粗大)'!M18+'施設資源化量内訳(堆肥化)'!M18+'施設資源化量内訳(飼料化)'!M18+'施設資源化量内訳(メタン化)'!M18+'施設資源化量内訳(燃料化)'!M18+'施設資源化量内訳(セメント)'!M18+'施設資源化量内訳(資源化等)'!M18","v":0},{"$f":"'施設資源化量内訳(焼却)'!N18+'施設資源化量内訳(粗大)'!N18+'施設資源化量内訳(堆肥化)'!N18+'施設資源化量内訳(飼料化)'!N18+'施設資源化量内訳(メタン化)'!N18+'施設資源化量内訳(燃料化)'!N18+'施設資源化量内訳(セメント)'!N18+'施設資源化量内訳(資源化等)'!N18","v":0},{"$f":"'施設資源化量内訳(焼却)'!O18+'施設資源化量内訳(粗大)'!O18+'施設資源化量内訳(堆肥化)'!O18+'施設資源化量内訳(飼料化)'!O18+'施設資源化量内訳(メタン化)'!O18+'施設資源化量内訳(燃料化)'!O18+'施設資源化量内訳(セメント)'!O18+'施設資源化量内訳(資源化等)'!O18","v":0},{"$f":"'施設資源化量内訳(焼却)'!P18+'施設資源化量内訳(粗大)'!P18+'施設資源化量内訳(堆肥化)'!P18+'施設資源化量内訳(飼料化)'!P18+'施設資源化量内訳(メタン化)'!P18+'施設資源化量内訳(燃料化)'!P18+'施設資源化量内訳(セメント)'!P18+'施設資源化量内訳(資源化等)'!P18","v":0},{"$f":"'施設資源化量内訳(焼却)'!Q18+'施設資源化量内訳(粗大)'!Q18+'施設資源化量内訳(堆肥化)'!Q18+'施設資源化量内訳(飼料化)'!Q18+'施設資源化量内訳(メタン化)'!Q18+'施設資源化量内訳(燃料化)'!Q18+'施設資源化量内訳(セメント)'!Q18+'施設資源化量内訳(資源化等)'!Q18","v":0},{"$f":"'施設資源化量内訳(焼却)'!R18+'施設資源化量内訳(粗大)'!R18+'施設資源化量内訳(堆肥化)'!R18+'施設資源化量内訳(飼料化)'!R18+'施設資源化量内訳(メタン化)'!R18+'施設資源化量内訳(燃料化)'!R18+'施設資源化量内訳(セメント)'!R18+'施設資源化量内訳(資源化等)'!R18","v":0},{"$f":"'施設資源化量内訳(焼却)'!S18+'施設資源化量内訳(粗大)'!S18+'施設資源化量内訳(堆肥化)'!S18+'施設資源化量内訳(飼料化)'!S18+'施設資源化量内訳(メタン化)'!S18+'施設資源化量内訳(燃料化)'!S18+'施設資源化量内訳(セメント)'!S18+'施設資源化量内訳(資源化等)'!S18","v":0},{"$f":"'施設資源化量内訳(焼却)'!T18+'施設資源化量内訳(粗大)'!T18+'施設資源化量内訳(堆肥化)'!T18+'施設資源化量内訳(飼料化)'!T18+'施設資源化量内訳(メタン化)'!T18+'施設資源化量内訳(燃料化)'!T18+'施設資源化量内訳(セメント)'!T18+'施設資源化量内訳(資源化等)'!T18","v":0},{"$f":"'施設資源化量内訳(焼却)'!U18+'施設資源化量内訳(粗大)'!U18+'施設資源化量内訳(堆肥化)'!U18+'施設資源化量内訳(飼料化)'!U18+'施設資源化量内訳(メタン化)'!U18+'施設資源化量内訳(燃料化)'!U18+'施設資源化量内訳(セメント)'!U18+'施設資源化量内訳(資源化等)'!U18","v":0},{"$f":"'施設資源化量内訳(焼却)'!V18+'施設資源化量内訳(粗大)'!V18+'施設資源化量内訳(堆肥化)'!V18+'施設資源化量内訳(飼料化)'!V18+'施設資源化量内訳(メタン化)'!V18+'施設資源化量内訳(燃料化)'!V18+'施設資源化量内訳(セメント)'!V18+'施設資源化量内訳(資源化等)'!V18","v":0},{"$f":"'施設資源化量内訳(焼却)'!W18+'施設資源化量内訳(粗大)'!W18+'施設資源化量内訳(堆肥化)'!W18+'施設資源化量内訳(飼料化)'!W18+'施設資源化量内訳(メタン化)'!W18+'施設資源化量内訳(燃料化)'!W18+'施設資源化量内訳(セメント)'!W18+'施設資源化量内訳(資源化等)'!W18","v":0},{"$f":"'施設資源化量内訳(焼却)'!X18+'施設資源化量内訳(粗大)'!X18+'施設資源化量内訳(堆肥化)'!X18+'施設資源化量内訳(飼料化)'!X18+'施設資源化量内訳(メタン化)'!X18+'施設資源化量内訳(燃料化)'!X18+'施設資源化量内訳(セメント)'!X18+'施設資源化量内訳(資源化等)'!X18","v":0},{"$f":"'施設資源化量内訳(焼却)'!Y18+'施設資源化量内訳(粗大)'!Y18+'施設資源化量内訳(堆肥化)'!Y18+'施設資源化量内訳(飼料化)'!Y18+'施設資源化量内訳(メタン化)'!Y18+'施設資源化量内訳(燃料化)'!Y18+'施設資源化量内訳(セメント)'!Y18+'施設資源化量内訳(資源化等)'!Y18","v":0},{"$f":"'施設資源化量内訳(焼却)'!Z18+'施設資源化量内訳(粗大)'!Z18+'施設資源化量内訳(堆肥化)'!Z18+'施設資源化量内訳(飼料化)'!Z18+'施設資源化量内訳(メタン化)'!Z18+'施設資源化量内訳(燃料化)'!Z18+'施設資源化量内訳(セメント)'!Z18+'施設資源化量内訳(資源化等)'!Z18","v":0},{"$f":"'施設資源化量内訳(焼却)'!AA18+'施設資源化量内訳(粗大)'!AA18+'施設資源化量内訳(堆肥化)'!AA18+'施設資源化量内訳(飼料化)'!AA18+'施設資源化量内訳(メタン化)'!AA18+'施設資源化量内訳(燃料化)'!AA18+'施設資源化量内訳(セメント)'!AA18+'施設資源化量内訳(資源化等)'!AA18","v":0},{"$f":"'施設資源化量内訳(焼却)'!AB18+'施設資源化量内訳(粗大)'!AB18+'施設資源化量内訳(堆肥化)'!AB18+'施設資源化量内訳(飼料化)'!AB18+'施設資源化量内訳(メタン化)'!AB18+'施設資源化量内訳(燃料化)'!AB18+'施設資源化量内訳(セメント)'!AB18+'施設資源化量内訳(資源化等)'!AB18","v":0},{"$f":"'施設資源化量内訳(焼却)'!AC18+'施設資源化量内訳(粗大)'!AC18+'施設資源化量内訳(堆肥化)'!AC18+'施設資源化量内訳(飼料化)'!AC18+'施設資源化量内訳(メタン化)'!AC18+'施設資源化量内訳(燃料化)'!AC18+'施設資源化量内訳(セメント)'!AC18+'施設資源化量内訳(資源化等)'!AC18","v":0},{"$f":"'施設資源化量内訳(焼却)'!AD18+'施設資源化量内訳(粗大)'!AD18+'施設資源化量内訳(堆肥化)'!AD18+'施設資源化量内訳(飼料化)'!AD18+'施設資源化量内訳(メタン化)'!AD18+'施設資源化量内訳(燃料化)'!AD18+'施設資源化量内訳(セメント)'!AD18+'施設資源化量内訳(資源化等)'!AD18","v":0},{"$f":"'施設資源化量内訳(焼却)'!AE18+'施設資源化量内訳(粗大)'!AE18+'施設資源化量内訳(堆肥化)'!AE18+'施設資源化量内訳(飼料化)'!AE18+'施設資源化量内訳(メタン化)'!AE18+'施設資源化量内訳(燃料化)'!AE18+'施設資源化量内訳(セメント)'!AE18+'施設資源化量内訳(資源化等)'!AE18","v":0},{"$f":"'施設資源化量内訳(焼却)'!AF18+'施設資源化量内訳(粗大)'!AF18+'施設資源化量内訳(堆肥化)'!AF18+'施設資源化量内訳(飼料化)'!AF18+'施設資源化量内訳(メタン化)'!AF18+'施設資源化量内訳(燃料化)'!AF18+'施設資源化量内訳(セメント)'!AF18+'施設資源化量内訳(資源化等)'!AF18","v":0},{"$f":"'施設資源化量内訳(焼却)'!AG18+'施設資源化量内訳(粗大)'!AG18+'施設資源化量内訳(堆肥化)'!AG18+'施設資源化量内訳(飼料化)'!AG18+'施設資源化量内訳(メタン化)'!AG18+'施設資源化量内訳(燃料化)'!AG18+'施設資源化量内訳(セメント)'!AG18+'施設資源化量内訳(資源化等)'!AG18","v":0}]
["秋田県","05214","にかほ市",{"$f":"SUM(E19:AG19)","v":0},0,0,0,0,0,0,0,0,0,0,0,0,0,0,0,0,0,0,0,0,0,0,0,0,0,0,0,0,0,{"$f":"SUM(AI19:BK19)","v":0},0,0,0,0,0,0,0,0,0,0,0,0,0,0,0,0,0,0,0,0,0,0,0,0,0,0,0,0,0,{"$f":"SUM(BM19:CO19)","v":0},{"$f":"'施設資源化量内訳(焼却)'!E19+'施設資源化量内訳(粗大)'!E19+'施設資源化量内訳(堆肥化)'!E19+'施設資源化量内訳(飼料化)'!E19+'施設資源化量内訳(メタン化)'!E19+'施設資源化量内訳(燃料化)'!E19+'施設資源化量内訳(セメント)'!E19+'施設資源化量内訳(資源化等)'!E19","v":0},{"$f":"'施設資源化量内訳(焼却)'!F19+'施設資源化量内訳(粗大)'!F19+'施設資源化量内訳(堆肥化)'!F19+'施設資源化量内訳(飼料化)'!F19+'施設資源化量内訳(メタン化)'!F19+'施設資源化量内訳(燃料化)'!F19+'施設資源化量内訳(セメント)'!F19+'施設資源化量内訳(資源化等)'!F19","v":0},{"$f":"'施設資源化量内訳(焼却)'!G19+'施設資源化量内訳(粗大)'!G19+'施設資源化量内訳(堆肥化)'!G19+'施設資源化量内訳(飼料化)'!G19+'施設資源化量内訳(メタン化)'!G19+'施設資源化量内訳(燃料化)'!G19+'施設資源化量内訳(セメント)'!G19+'施設資源化量内訳(資源化等)'!G19","v":0},{"$f":"'施設資源化量内訳(焼却)'!H19+'施設資源化量内訳(粗大)'!H19+'施設資源化量内訳(堆肥化)'!H19+'施設資源化量内訳(飼料化)'!H19+'施設資源化量内訳(メタン化)'!H19+'施設資源化量内訳(燃料化)'!H19+'施設資源化量内訳(セメント)'!H19+'施設資源化量内訳(資源化等)'!H19","v":0},{"$f":"'施設資源化量内訳(焼却)'!I19+'施設資源化量内訳(粗大)'!I19+'施設資源化量内訳(堆肥化)'!I19+'施設資源化量内訳(飼料化)'!I19+'施設資源化量内訳(メタン化)'!I19+'施設資源化量内訳(燃料化)'!I19+'施設資源化量内訳(セメント)'!I19+'施設資源化量内訳(資源化等)'!I19","v":0},{"$f":"'施設資源化量内訳(焼却)'!J19+'施設資源化量内訳(粗大)'!J19+'施設資源化量内訳(堆肥化)'!J19+'施設資源化量内訳(飼料化)'!J19+'施設資源化量内訳(メタン化)'!J19+'施設資源化量内訳(燃料化)'!J19+'施設資源化量内訳(セメント)'!J19+'施設資源化量内訳(資源化等)'!J19","v":0},{"$f":"'施設資源化量内訳(焼却)'!K19+'施設資源化量内訳(粗大)'!K19+'施設資源化量内訳(堆肥化)'!K19+'施設資源化量内訳(飼料化)'!K19+'施設資源化量内訳(メタン化)'!K19+'施設資源化量内訳(燃料化)'!K19+'施設資源化量内訳(セメント)'!K19+'施設資源化量内訳(資源化等)'!K19","v":0},{"$f":"'施設資源化量内訳(焼却)'!L19+'施設資源化量内訳(粗大)'!L19+'施設資源化量内訳(堆肥化)'!L19+'施設資源化量内訳(飼料化)'!L19+'施設資源化量内訳(メタン化)'!L19+'施設資源化量内訳(燃料化)'!L19+'施設資源化量内訳(セメント)'!L19+'施設資源化量内訳(資源化等)'!L19","v":0},{"$f":"'施設資源化量内訳(焼却)'!M19+'施設資源化量内訳(粗大)'!M19+'施設資源化量内訳(堆肥化)'!M19+'施設資源化量内訳(飼料化)'!M19+'施設資源化量内訳(メタン化)'!M19+'施設資源化量内訳(燃料化)'!M19+'施設資源化量内訳(セメント)'!M19+'施設資源化量内訳(資源化等)'!M19","v":0},{"$f":"'施設資源化量内訳(焼却)'!N19+'施設資源化量内訳(粗大)'!N19+'施設資源化量内訳(堆肥化)'!N19+'施設資源化量内訳(飼料化)'!N19+'施設資源化量内訳(メタン化)'!N19+'施設資源化量内訳(燃料化)'!N19+'施設資源化量内訳(セメント)'!N19+'施設資源化量内訳(資源化等)'!N19","v":0},{"$f":"'施設資源化量内訳(焼却)'!O19+'施設資源化量内訳(粗大)'!O19+'施設資源化量内訳(堆肥化)'!O19+'施設資源化量内訳(飼料化)'!O19+'施設資源化量内訳(メタン化)'!O19+'施設資源化量内訳(燃料化)'!O19+'施設資源化量内訳(セメント)'!O19+'施設資源化量内訳(資源化等)'!O19","v":0},{"$f":"'施設資源化量内訳(焼却)'!P19+'施設資源化量内訳(粗大)'!P19+'施設資源化量内訳(堆肥化)'!P19+'施設資源化量内訳(飼料化)'!P19+'施設資源化量内訳(メタン化)'!P19+'施設資源化量内訳(燃料化)'!P19+'施設資源化量内訳(セメント)'!P19+'施設資源化量内訳(資源化等)'!P19","v":0},{"$f":"'施設資源化量内訳(焼却)'!Q19+'施設資源化量内訳(粗大)'!Q19+'施設資源化量内訳(堆肥化)'!Q19+'施設資源化量内訳(飼料化)'!Q19+'施設資源化量内訳(メタン化)'!Q19+'施設資源化量内訳(燃料化)'!Q19+'施設資源化量内訳(セメント)'!Q19+'施設資源化量内訳(資源化等)'!Q19","v":0},{"$f":"'施設資源化量内訳(焼却)'!R19+'施設資源化量内訳(粗大)'!R19+'施設資源化量内訳(堆肥化)'!R19+'施設資源化量内訳(飼料化)'!R19+'施設資源化量内訳(メタン化)'!R19+'施設資源化量内訳(燃料化)'!R19+'施設資源化量内訳(セメント)'!R19+'施設資源化量内訳(資源化等)'!R19","v":0},{"$f":"'施設資源化量内訳(焼却)'!S19+'施設資源化量内訳(粗大)'!S19+'施設資源化量内訳(堆肥化)'!S19+'施設資源化量内訳(飼料化)'!S19+'施設資源化量内訳(メタン化)'!S19+'施設資源化量内訳(燃料化)'!S19+'施設資源化量内訳(セメント)'!S19+'施設資源化量内訳(資源化等)'!S19","v":0},{"$f":"'施設資源化量内訳(焼却)'!T19+'施設資源化量内訳(粗大)'!T19+'施設資源化量内訳(堆肥化)'!T19+'施設資源化量内訳(飼料化)'!T19+'施設資源化量内訳(メタン化)'!T19+'施設資源化量内訳(燃料化)'!T19+'施設資源化量内訳(セメント)'!T19+'施設資源化量内訳(資源化等)'!T19","v":0},{"$f":"'施設資源化量内訳(焼却)'!U19+'施設資源化量内訳(粗大)'!U19+'施設資源化量内訳(堆肥化)'!U19+'施設資源化量内訳(飼料化)'!U19+'施設資源化量内訳(メタン化)'!U19+'施設資源化量内訳(燃料化)'!U19+'施設資源化量内訳(セメント)'!U19+'施設資源化量内訳(資源化等)'!U19","v":0},{"$f":"'施設資源化量内訳(焼却)'!V19+'施設資源化量内訳(粗大)'!V19+'施設資源化量内訳(堆肥化)'!V19+'施設資源化量内訳(飼料化)'!V19+'施設資源化量内訳(メタン化)'!V19+'施設資源化量内訳(燃料化)'!V19+'施設資源化量内訳(セメント)'!V19+'施設資源化量内訳(資源化等)'!V19","v":0},{"$f":"'施設資源化量内訳(焼却)'!W19+'施設資源化量内訳(粗大)'!W19+'施設資源化量内訳(堆肥化)'!W19+'施設資源化量内訳(飼料化)'!W19+'施設資源化量内訳(メタン化)'!W19+'施設資源化量内訳(燃料化)'!W19+'施設資源化量内訳(セメント)'!W19+'施設資源化量内訳(資源化等)'!W19","v":0},{"$f":"'施設資源化量内訳(焼却)'!X19+'施設資源化量内訳(粗大)'!X19+'施設資源化量内訳(堆肥化)'!X19+'施設資源化量内訳(飼料化)'!X19+'施設資源化量内訳(メタン化)'!X19+'施設資源化量内訳(燃料化)'!X19+'施設資源化量内訳(セメント)'!X19+'施設資源化量内訳(資源化等)'!X19","v":0},{"$f":"'施設資源化量内訳(焼却)'!Y19+'施設資源化量内訳(粗大)'!Y19+'施設資源化量内訳(堆肥化)'!Y19+'施設資源化量内訳(飼料化)'!Y19+'施設資源化量内訳(メタン化)'!Y19+'施設資源化量内訳(燃料化)'!Y19+'施設資源化量内訳(セメント)'!Y19+'施設資源化量内訳(資源化等)'!Y19","v":0},{"$f":"'施設資源化量内訳(焼却)'!Z19+'施設資源化量内訳(粗大)'!Z19+'施設資源化量内訳(堆肥化)'!Z19+'施設資源化量内訳(飼料化)'!Z19+'施設資源化量内訳(メタン化)'!Z19+'施設資源化量内訳(燃料化)'!Z19+'施設資源化量内訳(セメント)'!Z19+'施設資源化量内訳(資源化等)'!Z19","v":0},{"$f":"'施設資源化量内訳(焼却)'!AA19+'施設資源化量内訳(粗大)'!AA19+'施設資源化量内訳(堆肥化)'!AA19+'施設資源化量内訳(飼料化)'!AA19+'施設資源化量内訳(メタン化)'!AA19+'施設資源化量内訳(燃料化)'!AA19+'施設資源化量内訳(セメント)'!AA19+'施設資源化量内訳(資源化等)'!AA19","v":0},{"$f":"'施設資源化量内訳(焼却)'!AB19+'施設資源化量内訳(粗大)'!AB19+'施設資源化量内訳(堆肥化)'!AB19+'施設資源化量内訳(飼料化)'!AB19+'施設資源化量内訳(メタン化)'!AB19+'施設資源化量内訳(燃料化)'!AB19+'施設資源化量内訳(セメント)'!AB19+'施設資源化量内訳(資源化等)'!AB19","v":0},{"$f":"'施設資源化量内訳(焼却)'!AC19+'施設資源化量内訳(粗大)'!AC19+'施設資源化量内訳(堆肥化)'!AC19+'施設資源化量内訳(飼料化)'!AC19+'施設資源化量内訳(メタン化)'!AC19+'施設資源化量内訳(燃料化)'!AC19+'施設資源化量内訳(セメント)'!AC19+'施設資源化量内訳(資源化等)'!AC19","v":0},{"$f":"'施設資源化量内訳(焼却)'!AD19+'施設資源化量内訳(粗大)'!AD19+'施設資源化量内訳(堆肥化)'!AD19+'施設資源化量内訳(飼料化)'!AD19+'施設資源化量内訳(メタン化)'!AD19+'施設資源化量内訳(燃料化)'!AD19+'施設資源化量内訳(セメント)'!AD19+'施設資源化量内訳(資源化等)'!AD19","v":0},{"$f":"'施設資源化量内訳(焼却)'!AE19+'施設資源化量内訳(粗大)'!AE19+'施設資源化量内訳(堆肥化)'!AE19+'施設資源化量内訳(飼料化)'!AE19+'施設資源化量内訳(メタン化)'!AE19+'施設資源化量内訳(燃料化)'!AE19+'施設資源化量内訳(セメント)'!AE19+'施設資源化量内訳(資源化等)'!AE19","v":0},{"$f":"'施設資源化量内訳(焼却)'!AF19+'施設資源化量内訳(粗大)'!AF19+'施設資源化量内訳(堆肥化)'!AF19+'施設資源化量内訳(飼料化)'!AF19+'施設資源化量内訳(メタン化)'!AF19+'施設資源化量内訳(燃料化)'!AF19+'施設資源化量内訳(セメント)'!AF19+'施設資源化量内訳(資源化等)'!AF19","v":0},{"$f":"'施設資源化量内訳(焼却)'!AG19+'施設資源化量内訳(粗大)'!AG19+'施設資源化量内訳(堆肥化)'!AG19+'施設資源化量内訳(飼料化)'!AG19+'施設資源化量内訳(メタン化)'!AG19+'施設資源化量内訳(燃料化)'!AG19+'施設資源化量内訳(セメント)'!AG19+'施設資源化量内訳(資源化等)'!AG19","v":0}]
["秋田県","05215","仙北市",{"$f":"SUM(E20:AG20)","v":0},0,0,0,0,0,0,0,0,0,0,0,0,0,0,0,0,0,0,0,0,0,0,0,0,0,0,0,0,0,{"$f":"SUM(AI20:BK20)","v":0},0,0,0,0,0,0,0,0,0,0,0,0,0,0,0,0,0,0,0,0,0,0,0,0,0,0,0,0,0,{"$f":"SUM(BM20:CO20)","v":0},{"$f":"'施設資源化量内訳(焼却)'!E20+'施設資源化量内訳(粗大)'!E20+'施設資源化量内訳(堆肥化)'!E20+'施設資源化量内訳(飼料化)'!E20+'施設資源化量内訳(メタン化)'!E20+'施設資源化量内訳(燃料化)'!E20+'施設資源化量内訳(セメント)'!E20+'施設資源化量内訳(資源化等)'!E20","v":0},{"$f":"'施設資源化量内訳(焼却)'!F20+'施設資源化量内訳(粗大)'!F20+'施設資源化量内訳(堆肥化)'!F20+'施設資源化量内訳(飼料化)'!F20+'施設資源化量内訳(メタン化)'!F20+'施設資源化量内訳(燃料化)'!F20+'施設資源化量内訳(セメント)'!F20+'施設資源化量内訳(資源化等)'!F20","v":0},{"$f":"'施設資源化量内訳(焼却)'!G20+'施設資源化量内訳(粗大)'!G20+'施設資源化量内訳(堆肥化)'!G20+'施設資源化量内訳(飼料化)'!G20+'施設資源化量内訳(メタン化)'!G20+'施設資源化量内訳(燃料化)'!G20+'施設資源化量内訳(セメント)'!G20+'施設資源化量内訳(資源化等)'!G20","v":0},{"$f":"'施設資源化量内訳(焼却)'!H20+'施設資源化量内訳(粗大)'!H20+'施設資源化量内訳(堆肥化)'!H20+'施設資源化量内訳(飼料化)'!H20+'施設資源化量内訳(メタン化)'!H20+'施設資源化量内訳(燃料化)'!H20+'施設資源化量内訳(セメント)'!H20+'施設資源化量内訳(資源化等)'!H20","v":0},{"$f":"'施設資源化量内訳(焼却)'!I20+'施設資源化量内訳(粗大)'!I20+'施設資源化量内訳(堆肥化)'!I20+'施設資源化量内訳(飼料化)'!I20+'施設資源化量内訳(メタン化)'!I20+'施設資源化量内訳(燃料化)'!I20+'施設資源化量内訳(セメント)'!I20+'施設資源化量内訳(資源化等)'!I20","v":0},{"$f":"'施設資源化量内訳(焼却)'!J20+'施設資源化量内訳(粗大)'!J20+'施設資源化量内訳(堆肥化)'!J20+'施設資源化量内訳(飼料化)'!J20+'施設資源化量内訳(メタン化)'!J20+'施設資源化量内訳(燃料化)'!J20+'施設資源化量内訳(セメント)'!J20+'施設資源化量内訳(資源化等)'!J20","v":0},{"$f":"'施設資源化量内訳(焼却)'!K20+'施設資源化量内訳(粗大)'!K20+'施設資源化量内訳(堆肥化)'!K20+'施設資源化量内訳(飼料化)'!K20+'施設資源化量内訳(メタン化)'!K20+'施設資源化量内訳(燃料化)'!K20+'施設資源化量内訳(セメント)'!K20+'施設資源化量内訳(資源化等)'!K20","v":0},{"$f":"'施設資源化量内訳(焼却)'!L20+'施設資源化量内訳(粗大)'!L20+'施設資源化量内訳(堆肥化)'!L20+'施設資源化量内訳(飼料化)'!L20+'施設資源化量内訳(メタン化)'!L20+'施設資源化量内訳(燃料化)'!L20+'施設資源化量内訳(セメント)'!L20+'施設資源化量内訳(資源化等)'!L20","v":0},{"$f":"'施設資源化量内訳(焼却)'!M20+'施設資源化量内訳(粗大)'!M20+'施設資源化量内訳(堆肥化)'!M20+'施設資源化量内訳(飼料化)'!M20+'施設資源化量内訳(メタン化)'!M20+'施設資源化量内訳(燃料化)'!M20+'施設資源化量内訳(セメント)'!M20+'施設資源化量内訳(資源化等)'!M20","v":0},{"$f":"'施設資源化量内訳(焼却)'!N20+'施設資源化量内訳(粗大)'!N20+'施設資源化量内訳(堆肥化)'!N20+'施設資源化量内訳(飼料化)'!N20+'施設資源化量内訳(メタン化)'!N20+'施設資源化量内訳(燃料化)'!N20+'施設資源化量内訳(セメント)'!N20+'施設資源化量内訳(資源化等)'!N20","v":0},{"$f":"'施設資源化量内訳(焼却)'!O20+'施設資源化量内訳(粗大)'!O20+'施設資源化量内訳(堆肥化)'!O20+'施設資源化量内訳(飼料化)'!O20+'施設資源化量内訳(メタン化)'!O20+'施設資源化量内訳(燃料化)'!O20+'施設資源化量内訳(セメント)'!O20+'施設資源化量内訳(資源化等)'!O20","v":0},{"$f":"'施設資源化量内訳(焼却)'!P20+'施設資源化量内訳(粗大)'!P20+'施設資源化量内訳(堆肥化)'!P20+'施設資源化量内訳(飼料化)'!P20+'施設資源化量内訳(メタン化)'!P20+'施設資源化量内訳(燃料化)'!P20+'施設資源化量内訳(セメント)'!P20+'施設資源化量内訳(資源化等)'!P20","v":0},{"$f":"'施設資源化量内訳(焼却)'!Q20+'施設資源化量内訳(粗大)'!Q20+'施設資源化量内訳(堆肥化)'!Q20+'施設資源化量内訳(飼料化)'!Q20+'施設資源化量内訳(メタン化)'!Q20+'施設資源化量内訳(燃料化)'!Q20+'施設資源化量内訳(セメント)'!Q20+'施設資源化量内訳(資源化等)'!Q20","v":0},{"$f":"'施設資源化量内訳(焼却)'!R20+'施設資源化量内訳(粗大)'!R20+'施設資源化量内訳(堆肥化)'!R20+'施設資源化量内訳(飼料化)'!R20+'施設資源化量内訳(メタン化)'!R20+'施設資源化量内訳(燃料化)'!R20+'施設資源化量内訳(セメント)'!R20+'施設資源化量内訳(資源化等)'!R20","v":0},{"$f":"'施設資源化量内訳(焼却)'!S20+'施設資源化量内訳(粗大)'!S20+'施設資源化量内訳(堆肥化)'!S20+'施設資源化量内訳(飼料化)'!S20+'施設資源化量内訳(メタン化)'!S20+'施設資源化量内訳(燃料化)'!S20+'施設資源化量内訳(セメント)'!S20+'施設資源化量内訳(資源化等)'!S20","v":0},{"$f":"'施設資源化量内訳(焼却)'!T20+'施設資源化量内訳(粗大)'!T20+'施設資源化量内訳(堆肥化)'!T20+'施設資源化量内訳(飼料化)'!T20+'施設資源化量内訳(メタン化)'!T20+'施設資源化量内訳(燃料化)'!T20+'施設資源化量内訳(セメント)'!T20+'施設資源化量内訳(資源化等)'!T20","v":0},{"$f":"'施設資源化量内訳(焼却)'!U20+'施設資源化量内訳(粗大)'!U20+'施設資源化量内訳(堆肥化)'!U20+'施設資源化量内訳(飼料化)'!U20+'施設資源化量内訳(メタン化)'!U20+'施設資源化量内訳(燃料化)'!U20+'施設資源化量内訳(セメント)'!U20+'施設資源化量内訳(資源化等)'!U20","v":0},{"$f":"'施設資源化量内訳(焼却)'!V20+'施設資源化量内訳(粗大)'!V20+'施設資源化量内訳(堆肥化)'!V20+'施設資源化量内訳(飼料化)'!V20+'施設資源化量内訳(メタン化)'!V20+'施設資源化量内訳(燃料化)'!V20+'施設資源化量内訳(セメント)'!V20+'施設資源化量内訳(資源化等)'!V20","v":0},{"$f":"'施設資源化量内訳(焼却)'!W20+'施設資源化量内訳(粗大)'!W20+'施設資源化量内訳(堆肥化)'!W20+'施設資源化量内訳(飼料化)'!W20+'施設資源化量内訳(メタン化)'!W20+'施設資源化量内訳(燃料化)'!W20+'施設資源化量内訳(セメント)'!W20+'施設資源化量内訳(資源化等)'!W20","v":0},{"$f":"'施設資源化量内訳(焼却)'!X20+'施設資源化量内訳(粗大)'!X20+'施設資源化量内訳(堆肥化)'!X20+'施設資源化量内訳(飼料化)'!X20+'施設資源化量内訳(メタン化)'!X20+'施設資源化量内訳(燃料化)'!X20+'施設資源化量内訳(セメント)'!X20+'施設資源化量内訳(資源化等)'!X20","v":0},{"$f":"'施設資源化量内訳(焼却)'!Y20+'施設資源化量内訳(粗大)'!Y20+'施設資源化量内訳(堆肥化)'!Y20+'施設資源化量内訳(飼料化)'!Y20+'施設資源化量内訳(メタン化)'!Y20+'施設資源化量内訳(燃料化)'!Y20+'施設資源化量内訳(セメント)'!Y20+'施設資源化量内訳(資源化等)'!Y20","v":0},{"$f":"'施設資源化量内訳(焼却)'!Z20+'施設資源化量内訳(粗大)'!Z20+'施設資源化量内訳(堆肥化)'!Z20+'施設資源化量内訳(飼料化)'!Z20+'施設資源化量内訳(メタン化)'!Z20+'施設資源化量内訳(燃料化)'!Z20+'施設資源化量内訳(セメント)'!Z20+'施設資源化量内訳(資源化等)'!Z20","v":0},{"$f":"'施設資源化量内訳(焼却)'!AA20+'施設資源化量内訳(粗大)'!AA20+'施設資源化量内訳(堆肥化)'!AA20+'施設資源化量内訳(飼料化)'!AA20+'施設資源化量内訳(メタン化)'!AA20+'施設資源化量内訳(燃料化)'!AA20+'施設資源化量内訳(セメント)'!AA20+'施設資源化量内訳(資源化等)'!AA20","v":0},{"$f":"'施設資源化量内訳(焼却)'!AB20+'施設資源化量内訳(粗大)'!AB20+'施設資源化量内訳(堆肥化)'!AB20+'施設資源化量内訳(飼料化)'!AB20+'施設資源化量内訳(メタン化)'!AB20+'施設資源化量内訳(燃料化)'!AB20+'施設資源化量内訳(セメント)'!AB20+'施設資源化量内訳(資源化等)'!AB20","v":0},{"$f":"'施設資源化量内訳(焼却)'!AC20+'施設資源化量内訳(粗大)'!AC20+'施設資源化量内訳(堆肥化)'!AC20+'施設資源化量内訳(飼料化)'!AC20+'施設資源化量内訳(メタン化)'!AC20+'施設資源化量内訳(燃料化)'!AC20+'施設資源化量内訳(セメント)'!AC20+'施設資源化量内訳(資源化等)'!AC20","v":0},{"$f":"'施設資源化量内訳(焼却)'!AD20+'施設資源化量内訳(粗大)'!AD20+'施設資源化量内訳(堆肥化)'!AD20+'施設資源化量内訳(飼料化)'!AD20+'施設資源化量内訳(メタン化)'!AD20+'施設資源化量内訳(燃料化)'!AD20+'施設資源化量内訳(セメント)'!AD20+'施設資源化量内訳(資源化等)'!AD20","v":0},{"$f":"'施設資源化量内訳(焼却)'!AE20+'施設資源化量内訳(粗大)'!AE20+'施設資源化量内訳(堆肥化)'!AE20+'施設資源化量内訳(飼料化)'!AE20+'施設資源化量内訳(メタン化)'!AE20+'施設資源化量内訳(燃料化)'!AE20+'施設資源化量内訳(セメント)'!AE20+'施設資源化量内訳(資源化等)'!AE20","v":0},{"$f":"'施設資源化量内訳(焼却)'!AF20+'施設資源化量内訳(粗大)'!AF20+'施設資源化量内訳(堆肥化)'!AF20+'施設資源化量内訳(飼料化)'!AF20+'施設資源化量内訳(メタン化)'!AF20+'施設資源化量内訳(燃料化)'!AF20+'施設資源化量内訳(セメント)'!AF20+'施設資源化量内訳(資源化等)'!AF20","v":0},{"$f":"'施設資源化量内訳(焼却)'!AG20+'施設資源化量内訳(粗大)'!AG20+'施設資源化量内訳(堆肥化)'!AG20+'施設資源化量内訳(飼料化)'!AG20+'施設資源化量内訳(メタン化)'!AG20+'施設資源化量内訳(燃料化)'!AG20+'施設資源化量内訳(セメント)'!AG20+'施設資源化量内訳(資源化等)'!AG20","v":0}]
["秋田県","05303","小坂町",{"$f":"SUM(E21:AG21)","v":0},0,0,0,0,0,0,0,0,0,0,0,0,0,0,0,0,0,0,0,0,0,0,0,0,0,0,0,0,0,{"$f":"SUM(AI21:BK21)","v":0},0,0,0,0,0,0,0,0,0,0,0,0,0,0,0,0,0,0,0,0,0,0,0,0,0,0,0,0,0,{"$f":"SUM(BM21:CO21)","v":0},{"$f":"'施設資源化量内訳(焼却)'!E21+'施設資源化量内訳(粗大)'!E21+'施設資源化量内訳(堆肥化)'!E21+'施設資源化量内訳(飼料化)'!E21+'施設資源化量内訳(メタン化)'!E21+'施設資源化量内訳(燃料化)'!E21+'施設資源化量内訳(セメント)'!E21+'施設資源化量内訳(資源化等)'!E21","v":0},{"$f":"'施設資源化量内訳(焼却)'!F21+'施設資源化量内訳(粗大)'!F21+'施設資源化量内訳(堆肥化)'!F21+'施設資源化量内訳(飼料化)'!F21+'施設資源化量内訳(メタン化)'!F21+'施設資源化量内訳(燃料化)'!F21+'施設資源化量内訳(セメント)'!F21+'施設資源化量内訳(資源化等)'!F21","v":0},{"$f":"'施設資源化量内訳(焼却)'!G21+'施設資源化量内訳(粗大)'!G21+'施設資源化量内訳(堆肥化)'!G21+'施設資源化量内訳(飼料化)'!G21+'施設資源化量内訳(メタン化)'!G21+'施設資源化量内訳(燃料化)'!G21+'施設資源化量内訳(セメント)'!G21+'施設資源化量内訳(資源化等)'!G21","v":0},{"$f":"'施設資源化量内訳(焼却)'!H21+'施設資源化量内訳(粗大)'!H21+'施設資源化量内訳(堆肥化)'!H21+'施設資源化量内訳(飼料化)'!H21+'施設資源化量内訳(メタン化)'!H21+'施設資源化量内訳(燃料化)'!H21+'施設資源化量内訳(セメント)'!H21+'施設資源化量内訳(資源化等)'!H21","v":0},{"$f":"'施設資源化量内訳(焼却)'!I21+'施設資源化量内訳(粗大)'!I21+'施設資源化量内訳(堆肥化)'!I21+'施設資源化量内訳(飼料化)'!I21+'施設資源化量内訳(メタン化)'!I21+'施設資源化量内訳(燃料化)'!I21+'施設資源化量内訳(セメント)'!I21+'施設資源化量内訳(資源化等)'!I21","v":0},{"$f":"'施設資源化量内訳(焼却)'!J21+'施設資源化量内訳(粗大)'!J21+'施設資源化量内訳(堆肥化)'!J21+'施設資源化量内訳(飼料化)'!J21+'施設資源化量内訳(メタン化)'!J21+'施設資源化量内訳(燃料化)'!J21+'施設資源化量内訳(セメント)'!J21+'施設資源化量内訳(資源化等)'!J21","v":0},{"$f":"'施設資源化量内訳(焼却)'!K21+'施設資源化量内訳(粗大)'!K21+'施設資源化量内訳(堆肥化)'!K21+'施設資源化量内訳(飼料化)'!K21+'施設資源化量内訳(メタン化)'!K21+'施設資源化量内訳(燃料化)'!K21+'施設資源化量内訳(セメント)'!K21+'施設資源化量内訳(資源化等)'!K21","v":0},{"$f":"'施設資源化量内訳(焼却)'!L21+'施設資源化量内訳(粗大)'!L21+'施設資源化量内訳(堆肥化)'!L21+'施設資源化量内訳(飼料化)'!L21+'施設資源化量内訳(メタン化)'!L21+'施設資源化量内訳(燃料化)'!L21+'施設資源化量内訳(セメント)'!L21+'施設資源化量内訳(資源化等)'!L21","v":0},{"$f":"'施設資源化量内訳(焼却)'!M21+'施設資源化量内訳(粗大)'!M21+'施設資源化量内訳(堆肥化)'!M21+'施設資源化量内訳(飼料化)'!M21+'施設資源化量内訳(メタン化)'!M21+'施設資源化量内訳(燃料化)'!M21+'施設資源化量内訳(セメント)'!M21+'施設資源化量内訳(資源化等)'!M21","v":0},{"$f":"'施設資源化量内訳(焼却)'!N21+'施設資源化量内訳(粗大)'!N21+'施設資源化量内訳(堆肥化)'!N21+'施設資源化量内訳(飼料化)'!N21+'施設資源化量内訳(メタン化)'!N21+'施設資源化量内訳(燃料化)'!N21+'施設資源化量内訳(セメント)'!N21+'施設資源化量内訳(資源化等)'!N21","v":0},{"$f":"'施設資源化量内訳(焼却)'!O21+'施設資源化量内訳(粗大)'!O21+'施設資源化量内訳(堆肥化)'!O21+'施設資源化量内訳(飼料化)'!O21+'施設資源化量内訳(メタン化)'!O21+'施設資源化量内訳(燃料化)'!O21+'施設資源化量内訳(セメント)'!O21+'施設資源化量内訳(資源化等)'!O21","v":0},{"$f":"'施設資源化量内訳(焼却)'!P21+'施設資源化量内訳(粗大)'!P21+'施設資源化量内訳(堆肥化)'!P21+'施設資源化量内訳(飼料化)'!P21+'施設資源化量内訳(メタン化)'!P21+'施設資源化量内訳(燃料化)'!P21+'施設資源化量内訳(セメント)'!P21+'施設資源化量内訳(資源化等)'!P21","v":0},{"$f":"'施設資源化量内訳(焼却)'!Q21+'施設資源化量内訳(粗大)'!Q21+'施設資源化量内訳(堆肥化)'!Q21+'施設資源化量内訳(飼料化)'!Q21+'施設資源化量内訳(メタン化)'!Q21+'施設資源化量内訳(燃料化)'!Q21+'施設資源化量内訳(セメント)'!Q21+'施設資源化量内訳(資源化等)'!Q21","v":0},{"$f":"'施設資源化量内訳(焼却)'!R21+'施設資源化量内訳(粗大)'!R21+'施設資源化量内訳(堆肥化)'!R21+'施設資源化量内訳(飼料化)'!R21+'施設資源化量内訳(メタン化)'!R21+'施設資源化量内訳(燃料化)'!R21+'施設資源化量内訳(セメント)'!R21+'施設資源化量内訳(資源化等)'!R21","v":0},{"$f":"'施設資源化量内訳(焼却)'!S21+'施設資源化量内訳(粗大)'!S21+'施設資源化量内訳(堆肥化)'!S21+'施設資源化量内訳(飼料化)'!S21+'施設資源化量内訳(メタン化)'!S21+'施設資源化量内訳(燃料化)'!S21+'施設資源化量内訳(セメント)'!S21+'施設資源化量内訳(資源化等)'!S21","v":0},{"$f":"'施設資源化量内訳(焼却)'!T21+'施設資源化量内訳(粗大)'!T21+'施設資源化量内訳(堆肥化)'!T21+'施設資源化量内訳(飼料化)'!T21+'施設資源化量内訳(メタン化)'!T21+'施設資源化量内訳(燃料化)'!T21+'施設資源化量内訳(セメント)'!T21+'施設資源化量内訳(資源化等)'!T21","v":0},{"$f":"'施設資源化量内訳(焼却)'!U21+'施設資源化量内訳(粗大)'!U21+'施設資源化量内訳(堆肥化)'!U21+'施設資源化量内訳(飼料化)'!U21+'施設資源化量内訳(メタン化)'!U21+'施設資源化量内訳(燃料化)'!U21+'施設資源化量内訳(セメント)'!U21+'施設資源化量内訳(資源化等)'!U21","v":0},{"$f":"'施設資源化量内訳(焼却)'!V21+'施設資源化量内訳(粗大)'!V21+'施設資源化量内訳(堆肥化)'!V21+'施設資源化量内訳(飼料化)'!V21+'施設資源化量内訳(メタン化)'!V21+'施設資源化量内訳(燃料化)'!V21+'施設資源化量内訳(セメント)'!V21+'施設資源化量内訳(資源化等)'!V21","v":0},{"$f":"'施設資源化量内訳(焼却)'!W21+'施設資源化量内訳(粗大)'!W21+'施設資源化量内訳(堆肥化)'!W21+'施設資源化量内訳(飼料化)'!W21+'施設資源化量内訳(メタン化)'!W21+'施設資源化量内訳(燃料化)'!W21+'施設資源化量内訳(セメント)'!W21+'施設資源化量内訳(資源化等)'!W21","v":0},{"$f":"'施設資源化量内訳(焼却)'!X21+'施設資源化量内訳(粗大)'!X21+'施設資源化量内訳(堆肥化)'!X21+'施設資源化量内訳(飼料化)'!X21+'施設資源化量内訳(メタン化)'!X21+'施設資源化量内訳(燃料化)'!X21+'施設資源化量内訳(セメント)'!X21+'施設資源化量内訳(資源化等)'!X21","v":0},{"$f":"'施設資源化量内訳(焼却)'!Y21+'施設資源化量内訳(粗大)'!Y21+'施設資源化量内訳(堆肥化)'!Y21+'施設資源化量内訳(飼料化)'!Y21+'施設資源化量内訳(メタン化)'!Y21+'施設資源化量内訳(燃料化)'!Y21+'施設資源化量内訳(セメント)'!Y21+'施設資源化量内訳(資源化等)'!Y21","v":0},{"$f":"'施設資源化量内訳(焼却)'!Z21+'施設資源化量内訳(粗大)'!Z21+'施設資源化量内訳(堆肥化)'!Z21+'施設資源化量内訳(飼料化)'!Z21+'施設資源化量内訳(メタン化)'!Z21+'施設資源化量内訳(燃料化)'!Z21+'施設資源化量内訳(セメント)'!Z21+'施設資源化量内訳(資源化等)'!Z21","v":0},{"$f":"'施設資源化量内訳(焼却)'!AA21+'施設資源化量内訳(粗大)'!AA21+'施設資源化量内訳(堆肥化)'!AA21+'施設資源化量内訳(飼料化)'!AA21+'施設資源化量内訳(メタン化)'!AA21+'施設資源化量内訳(燃料化)'!AA21+'施設資源化量内訳(セメント)'!AA21+'施設資源化量内訳(資源化等)'!AA21","v":0},{"$f":"'施設資源化量内訳(焼却)'!AB21+'施設資源化量内訳(粗大)'!AB21+'施設資源化量内訳(堆肥化)'!AB21+'施設資源化量内訳(飼料化)'!AB21+'施設資源化量内訳(メタン化)'!AB21+'施設資源化量内訳(燃料化)'!AB21+'施設資源化量内訳(セメント)'!AB21+'施設資源化量内訳(資源化等)'!AB21","v":0},{"$f":"'施設資源化量内訳(焼却)'!AC21+'施設資源化量内訳(粗大)'!AC21+'施設資源化量内訳(堆肥化)'!AC21+'施設資源化量内訳(飼料化)'!AC21+'施設資源化量内訳(メタン化)'!AC21+'施設資源化量内訳(燃料化)'!AC21+'施設資源化量内訳(セメント)'!AC21+'施設資源化量内訳(資源化等)'!AC21","v":0},{"$f":"'施設資源化量内訳(焼却)'!AD21+'施設資源化量内訳(粗大)'!AD21+'施設資源化量内訳(堆肥化)'!AD21+'施設資源化量内訳(飼料化)'!AD21+'施設資源化量内訳(メタン化)'!AD21+'施設資源化量内訳(燃料化)'!AD21+'施設資源化量内訳(セメント)'!AD21+'施設資源化量内訳(資源化等)'!AD21","v":0},{"$f":"'施設資源化量内訳(焼却)'!AE21+'施設資源化量内訳(粗大)'!AE21+'施設資源化量内訳(堆肥化)'!AE21+'施設資源化量内訳(飼料化)'!AE21+'施設資源化量内訳(メタン化)'!AE21+'施設資源化量内訳(燃料化)'!AE21+'施設資源化量内訳(セメント)'!AE21+'施設資源化量内訳(資源化等)'!AE21","v":0},{"$f":"'施設資源化量内訳(焼却)'!AF21+'施設資源化量内訳(粗大)'!AF21+'施設資源化量内訳(堆肥化)'!AF21+'施設資源化量内訳(飼料化)'!AF21+'施設資源化量内訳(メタン化)'!AF21+'施設資源化量内訳(燃料化)'!AF21+'施設資源化量内訳(セメント)'!AF21+'施設資源化量内訳(資源化等)'!AF21","v":0},{"$f":"'施設資源化量内訳(焼却)'!AG21+'施設資源化量内訳(粗大)'!AG21+'施設資源化量内訳(堆肥化)'!AG21+'施設資源化量内訳(飼料化)'!AG21+'施設資源化量内訳(メタン化)'!AG21+'施設資源化量内訳(燃料化)'!AG21+'施設資源化量内訳(セメント)'!AG21+'施設資源化量内訳(資源化等)'!AG21","v":0}]
["秋田県","05327","上小阿仁村",{"$f":"SUM(E22:AG22)","v":0},0,0,0,0,0,0,0,0,0,0,0,0,0,0,0,0,0,0,0,0,0,0,0,0,0,0,0,0,0,{"$f":"SUM(AI22:BK22)","v":0},0,0,0,0,0,0,0,0,0,0,0,0,0,0,0,0,0,0,0,0,0,0,0,0,0,0,0,0,0,{"$f":"SUM(BM22:CO22)","v":0},{"$f":"'施設資源化量内訳(焼却)'!E22+'施設資源化量内訳(粗大)'!E22+'施設資源化量内訳(堆肥化)'!E22+'施設資源化量内訳(飼料化)'!E22+'施設資源化量内訳(メタン化)'!E22+'施設資源化量内訳(燃料化)'!E22+'施設資源化量内訳(セメント)'!E22+'施設資源化量内訳(資源化等)'!E22","v":0},{"$f":"'施設資源化量内訳(焼却)'!F22+'施設資源化量内訳(粗大)'!F22+'施設資源化量内訳(堆肥化)'!F22+'施設資源化量内訳(飼料化)'!F22+'施設資源化量内訳(メタン化)'!F22+'施設資源化量内訳(燃料化)'!F22+'施設資源化量内訳(セメント)'!F22+'施設資源化量内訳(資源化等)'!F22","v":0},{"$f":"'施設資源化量内訳(焼却)'!G22+'施設資源化量内訳(粗大)'!G22+'施設資源化量内訳(堆肥化)'!G22+'施設資源化量内訳(飼料化)'!G22+'施設資源化量内訳(メタン化)'!G22+'施設資源化量内訳(燃料化)'!G22+'施設資源化量内訳(セメント)'!G22+'施設資源化量内訳(資源化等)'!G22","v":0},{"$f":"'施設資源化量内訳(焼却)'!H22+'施設資源化量内訳(粗大)'!H22+'施設資源化量内訳(堆肥化)'!H22+'施設資源化量内訳(飼料化)'!H22+'施設資源化量内訳(メタン化)'!H22+'施設資源化量内訳(燃料化)'!H22+'施設資源化量内訳(セメント)'!H22+'施設資源化量内訳(資源化等)'!H22","v":0},{"$f":"'施設資源化量内訳(焼却)'!I22+'施設資源化量内訳(粗大)'!I22+'施設資源化量内訳(堆肥化)'!I22+'施設資源化量内訳(飼料化)'!I22+'施設資源化量内訳(メタン化)'!I22+'施設資源化量内訳(燃料化)'!I22+'施設資源化量内訳(セメント)'!I22+'施設資源化量内訳(資源化等)'!I22","v":0},{"$f":"'施設資源化量内訳(焼却)'!J22+'施設資源化量内訳(粗大)'!J22+'施設資源化量内訳(堆肥化)'!J22+'施設資源化量内訳(飼料化)'!J22+'施設資源化量内訳(メタン化)'!J22+'施設資源化量内訳(燃料化)'!J22+'施設資源化量内訳(セメント)'!J22+'施設資源化量内訳(資源化等)'!J22","v":0},{"$f":"'施設資源化量内訳(焼却)'!K22+'施設資源化量内訳(粗大)'!K22+'施設資源化量内訳(堆肥化)'!K22+'施設資源化量内訳(飼料化)'!K22+'施設資源化量内訳(メタン化)'!K22+'施設資源化量内訳(燃料化)'!K22+'施設資源化量内訳(セメント)'!K22+'施設資源化量内訳(資源化等)'!K22","v":0},{"$f":"'施設資源化量内訳(焼却)'!L22+'施設資源化量内訳(粗大)'!L22+'施設資源化量内訳(堆肥化)'!L22+'施設資源化量内訳(飼料化)'!L22+'施設資源化量内訳(メタン化)'!L22+'施設資源化量内訳(燃料化)'!L22+'施設資源化量内訳(セメント)'!L22+'施設資源化量内訳(資源化等)'!L22","v":0},{"$f":"'施設資源化量内訳(焼却)'!M22+'施設資源化量内訳(粗大)'!M22+'施設資源化量内訳(堆肥化)'!M22+'施設資源化量内訳(飼料化)'!M22+'施設資源化量内訳(メタン化)'!M22+'施設資源化量内訳(燃料化)'!M22+'施設資源化量内訳(セメント)'!M22+'施設資源化量内訳(資源化等)'!M22","v":0},{"$f":"'施設資源化量内訳(焼却)'!N22+'施設資源化量内訳(粗大)'!N22+'施設資源化量内訳(堆肥化)'!N22+'施設資源化量内訳(飼料化)'!N22+'施設資源化量内訳(メタン化)'!N22+'施設資源化量内訳(燃料化)'!N22+'施設資源化量内訳(セメント)'!N22+'施設資源化量内訳(資源化等)'!N22","v":0},{"$f":"'施設資源化量内訳(焼却)'!O22+'施設資源化量内訳(粗大)'!O22+'施設資源化量内訳(堆肥化)'!O22+'施設資源化量内訳(飼料化)'!O22+'施設資源化量内訳(メタン化)'!O22+'施設資源化量内訳(燃料化)'!O22+'施設資源化量内訳(セメント)'!O22+'施設資源化量内訳(資源化等)'!O22","v":0},{"$f":"'施設資源化量内訳(焼却)'!P22+'施設資源化量内訳(粗大)'!P22+'施設資源化量内訳(堆肥化)'!P22+'施設資源化量内訳(飼料化)'!P22+'施設資源化量内訳(メタン化)'!P22+'施設資源化量内訳(燃料化)'!P22+'施設資源化量内訳(セメント)'!P22+'施設資源化量内訳(資源化等)'!P22","v":0},{"$f":"'施設資源化量内訳(焼却)'!Q22+'施設資源化量内訳(粗大)'!Q22+'施設資源化量内訳(堆肥化)'!Q22+'施設資源化量内訳(飼料化)'!Q22+'施設資源化量内訳(メタン化)'!Q22+'施設資源化量内訳(燃料化)'!Q22+'施設資源化量内訳(セメント)'!Q22+'施設資源化量内訳(資源化等)'!Q22","v":0},{"$f":"'施設資源化量内訳(焼却)'!R22+'施設資源化量内訳(粗大)'!R22+'施設資源化量内訳(堆肥化)'!R22+'施設資源化量内訳(飼料化)'!R22+'施設資源化量内訳(メタン化)'!R22+'施設資源化量内訳(燃料化)'!R22+'施設資源化量内訳(セメント)'!R22+'施設資源化量内訳(資源化等)'!R22","v":0},{"$f":"'施設資源化量内訳(焼却)'!S22+'施設資源化量内訳(粗大)'!S22+'施設資源化量内訳(堆肥化)'!S22+'施設資源化量内訳(飼料化)'!S22+'施設資源化量内訳(メタン化)'!S22+'施設資源化量内訳(燃料化)'!S22+'施設資源化量内訳(セメント)'!S22+'施設資源化量内訳(資源化等)'!S22","v":0},{"$f":"'施設資源化量内訳(焼却)'!T22+'施設資源化量内訳(粗大)'!T22+'施設資源化量内訳(堆肥化)'!T22+'施設資源化量内訳(飼料化)'!T22+'施設資源化量内訳(メタン化)'!T22+'施設資源化量内訳(燃料化)'!T22+'施設資源化量内訳(セメント)'!T22+'施設資源化量内訳(資源化等)'!T22","v":0},{"$f":"'施設資源化量内訳(焼却)'!U22+'施設資源化量内訳(粗大)'!U22+'施設資源化量内訳(堆肥化)'!U22+'施設資源化量内訳(飼料化)'!U22+'施設資源化量内訳(メタン化)'!U22+'施設資源化量内訳(燃料化)'!U22+'施設資源化量内訳(セメント)'!U22+'施設資源化量内訳(資源化等)'!U22","v":0},{"$f":"'施設資源化量内訳(焼却)'!V22+'施設資源化量内訳(粗大)'!V22+'施設資源化量内訳(堆肥化)'!V22+'施設資源化量内訳(飼料化)'!V22+'施設資源化量内訳(メタン化)'!V22+'施設資源化量内訳(燃料化)'!V22+'施設資源化量内訳(セメント)'!V22+'施設資源化量内訳(資源化等)'!V22","v":0},{"$f":"'施設資源化量内訳(焼却)'!W22+'施設資源化量内訳(粗大)'!W22+'施設資源化量内訳(堆肥化)'!W22+'施設資源化量内訳(飼料化)'!W22+'施設資源化量内訳(メタン化)'!W22+'施設資源化量内訳(燃料化)'!W22+'施設資源化量内訳(セメント)'!W22+'施設資源化量内訳(資源化等)'!W22","v":0},{"$f":"'施設資源化量内訳(焼却)'!X22+'施設資源化量内訳(粗大)'!X22+'施設資源化量内訳(堆肥化)'!X22+'施設資源化量内訳(飼料化)'!X22+'施設資源化量内訳(メタン化)'!X22+'施設資源化量内訳(燃料化)'!X22+'施設資源化量内訳(セメント)'!X22+'施設資源化量内訳(資源化等)'!X22","v":0},{"$f":"'施設資源化量内訳(焼却)'!Y22+'施設資源化量内訳(粗大)'!Y22+'施設資源化量内訳(堆肥化)'!Y22+'施設資源化量内訳(飼料化)'!Y22+'施設資源化量内訳(メタン化)'!Y22+'施設資源化量内訳(燃料化)'!Y22+'施設資源化量内訳(セメント)'!Y22+'施設資源化量内訳(資源化等)'!Y22","v":0},{"$f":"'施設資源化量内訳(焼却)'!Z22+'施設資源化量内訳(粗大)'!Z22+'施設資源化量内訳(堆肥化)'!Z22+'施設資源化量内訳(飼料化)'!Z22+'施設資源化量内訳(メタン化)'!Z22+'施設資源化量内訳(燃料化)'!Z22+'施設資源化量内訳(セメント)'!Z22+'施設資源化量内訳(資源化等)'!Z22","v":0},{"$f":"'施設資源化量内訳(焼却)'!AA22+'施設資源化量内訳(粗大)'!AA22+'施設資源化量内訳(堆肥化)'!AA22+'施設資源化量内訳(飼料化)'!AA22+'施設資源化量内訳(メタン化)'!AA22+'施設資源化量内訳(燃料化)'!AA22+'施設資源化量内訳(セメント)'!AA22+'施設資源化量内訳(資源化等)'!AA22","v":0},{"$f":"'施設資源化量内訳(焼却)'!AB22+'施設資源化量内訳(粗大)'!AB22+'施設資源化量内訳(堆肥化)'!AB22+'施設資源化量内訳(飼料化)'!AB22+'施設資源化量内訳(メタン化)'!AB22+'施設資源化量内訳(燃料化)'!AB22+'施設資源化量内訳(セメント)'!AB22+'施設資源化量内訳(資源化等)'!AB22","v":0},{"$f":"'施設資源化量内訳(焼却)'!AC22+'施設資源化量内訳(粗大)'!AC22+'施設資源化量内訳(堆肥化)'!AC22+'施設資源化量内訳(飼料化)'!AC22+'施設資源化量内訳(メタン化)'!AC22+'施設資源化量内訳(燃料化)'!AC22+'施設資源化量内訳(セメント)'!AC22+'施設資源化量内訳(資源化等)'!AC22","v":0},{"$f":"'施設資源化量内訳(焼却)'!AD22+'施設資源化量内訳(粗大)'!AD22+'施設資源化量内訳(堆肥化)'!AD22+'施設資源化量内訳(飼料化)'!AD22+'施設資源化量内訳(メタン化)'!AD22+'施設資源化量内訳(燃料化)'!AD22+'施設資源化量内訳(セメント)'!AD22+'施設資源化量内訳(資源化等)'!AD22","v":0},{"$f":"'施設資源化量内訳(焼却)'!AE22+'施設資源化量内訳(粗大)'!AE22+'施設資源化量内訳(堆肥化)'!AE22+'施設資源化量内訳(飼料化)'!AE22+'施設資源化量内訳(メタン化)'!AE22+'施設資源化量内訳(燃料化)'!AE22+'施設資源化量内訳(セメント)'!AE22+'施設資源化量内訳(資源化等)'!AE22","v":0},{"$f":"'施設資源化量内訳(焼却)'!AF22+'施設資源化量内訳(粗大)'!AF22+'施設資源化量内訳(堆肥化)'!AF22+'施設資源化量内訳(飼料化)'!AF22+'施設資源化量内訳(メタン化)'!AF22+'施設資源化量内訳(燃料化)'!AF22+'施設資源化量内訳(セメント)'!AF22+'施設資源化量内訳(資源化等)'!AF22","v":0},{"$f":"'施設資源化量内訳(焼却)'!AG22+'施設資源化量内訳(粗大)'!AG22+'施設資源化量内訳(堆肥化)'!AG22+'施設資源化量内訳(飼料化)'!AG22+'施設資源化量内訳(メタン化)'!AG22+'施設資源化量内訳(燃料化)'!AG22+'施設資源化量内訳(セメント)'!AG22+'施設資源化量内訳(資源化等)'!AG22","v":0}]
["秋田県","05346","藤里町",{"$f":"SUM(E23:AG23)","v":0},0,0,0,0,0,0,0,0,0,0,0,0,0,0,0,0,0,0,0,0,0,0,0,0,0,0,0,0,0,{"$f":"SUM(AI23:BK23)","v":0},0,0,0,0,0,0,0,0,0,0,0,0,0,0,0,0,0,0,0,0,0,0,0,0,0,0,0,0,0,{"$f":"SUM(BM23:CO23)","v":0},{"$f":"'施設資源化量内訳(焼却)'!E23+'施設資源化量内訳(粗大)'!E23+'施設資源化量内訳(堆肥化)'!E23+'施設資源化量内訳(飼料化)'!E23+'施設資源化量内訳(メタン化)'!E23+'施設資源化量内訳(燃料化)'!E23+'施設資源化量内訳(セメント)'!E23+'施設資源化量内訳(資源化等)'!E23","v":0},{"$f":"'施設資源化量内訳(焼却)'!F23+'施設資源化量内訳(粗大)'!F23+'施設資源化量内訳(堆肥化)'!F23+'施設資源化量内訳(飼料化)'!F23+'施設資源化量内訳(メタン化)'!F23+'施設資源化量内訳(燃料化)'!F23+'施設資源化量内訳(セメント)'!F23+'施設資源化量内訳(資源化等)'!F23","v":0},{"$f":"'施設資源化量内訳(焼却)'!G23+'施設資源化量内訳(粗大)'!G23+'施設資源化量内訳(堆肥化)'!G23+'施設資源化量内訳(飼料化)'!G23+'施設資源化量内訳(メタン化)'!G23+'施設資源化量内訳(燃料化)'!G23+'施設資源化量内訳(セメント)'!G23+'施設資源化量内訳(資源化等)'!G23","v":0},{"$f":"'施設資源化量内訳(焼却)'!H23+'施設資源化量内訳(粗大)'!H23+'施設資源化量内訳(堆肥化)'!H23+'施設資源化量内訳(飼料化)'!H23+'施設資源化量内訳(メタン化)'!H23+'施設資源化量内訳(燃料化)'!H23+'施設資源化量内訳(セメント)'!H23+'施設資源化量内訳(資源化等)'!H23","v":0},{"$f":"'施設資源化量内訳(焼却)'!I23+'施設資源化量内訳(粗大)'!I23+'施設資源化量内訳(堆肥化)'!I23+'施設資源化量内訳(飼料化)'!I23+'施設資源化量内訳(メタン化)'!I23+'施設資源化量内訳(燃料化)'!I23+'施設資源化量内訳(セメント)'!I23+'施設資源化量内訳(資源化等)'!I23","v":0},{"$f":"'施設資源化量内訳(焼却)'!J23+'施設資源化量内訳(粗大)'!J23+'施設資源化量内訳(堆肥化)'!J23+'施設資源化量内訳(飼料化)'!J23+'施設資源化量内訳(メタン化)'!J23+'施設資源化量内訳(燃料化)'!J23+'施設資源化量内訳(セメント)'!J23+'施設資源化量内訳(資源化等)'!J23","v":0},{"$f":"'施設資源化量内訳(焼却)'!K23+'施設資源化量内訳(粗大)'!K23+'施設資源化量内訳(堆肥化)'!K23+'施設資源化量内訳(飼料化)'!K23+'施設資源化量内訳(メタン化)'!K23+'施設資源化量内訳(燃料化)'!K23+'施設資源化量内訳(セメント)'!K23+'施設資源化量内訳(資源化等)'!K23","v":0},{"$f":"'施設資源化量内訳(焼却)'!L23+'施設資源化量内訳(粗大)'!L23+'施設資源化量内訳(堆肥化)'!L23+'施設資源化量内訳(飼料化)'!L23+'施設資源化量内訳(メタン化)'!L23+'施設資源化量内訳(燃料化)'!L23+'施設資源化量内訳(セメント)'!L23+'施設資源化量内訳(資源化等)'!L23","v":0},{"$f":"'施設資源化量内訳(焼却)'!M23+'施設資源化量内訳(粗大)'!M23+'施設資源化量内訳(堆肥化)'!M23+'施設資源化量内訳(飼料化)'!M23+'施設資源化量内訳(メタン化)'!M23+'施設資源化量内訳(燃料化)'!M23+'施設資源化量内訳(セメント)'!M23+'施設資源化量内訳(資源化等)'!M23","v":0},{"$f":"'施設資源化量内訳(焼却)'!N23+'施設資源化量内訳(粗大)'!N23+'施設資源化量内訳(堆肥化)'!N23+'施設資源化量内訳(飼料化)'!N23+'施設資源化量内訳(メタン化)'!N23+'施設資源化量内訳(燃料化)'!N23+'施設資源化量内訳(セメント)'!N23+'施設資源化量内訳(資源化等)'!N23","v":0},{"$f":"'施設資源化量内訳(焼却)'!O23+'施設資源化量内訳(粗大)'!O23+'施設資源化量内訳(堆肥化)'!O23+'施設資源化量内訳(飼料化)'!O23+'施設資源化量内訳(メタン化)'!O23+'施設資源化量内訳(燃料化)'!O23+'施設資源化量内訳(セメント)'!O23+'施設資源化量内訳(資源化等)'!O23","v":0},{"$f":"'施設資源化量内訳(焼却)'!P23+'施設資源化量内訳(粗大)'!P23+'施設資源化量内訳(堆肥化)'!P23+'施設資源化量内訳(飼料化)'!P23+'施設資源化量内訳(メタン化)'!P23+'施設資源化量内訳(燃料化)'!P23+'施設資源化量内訳(セメント)'!P23+'施設資源化量内訳(資源化等)'!P23","v":0},{"$f":"'施設資源化量内訳(焼却)'!Q23+'施設資源化量内訳(粗大)'!Q23+'施設資源化量内訳(堆肥化)'!Q23+'施設資源化量内訳(飼料化)'!Q23+'施設資源化量内訳(メタン化)'!Q23+'施設資源化量内訳(燃料化)'!Q23+'施設資源化量内訳(セメント)'!Q23+'施設資源化量内訳(資源化等)'!Q23","v":0},{"$f":"'施設資源化量内訳(焼却)'!R23+'施設資源化量内訳(粗大)'!R23+'施設資源化量内訳(堆肥化)'!R23+'施設資源化量内訳(飼料化)'!R23+'施設資源化量内訳(メタン化)'!R23+'施設資源化量内訳(燃料化)'!R23+'施設資源化量内訳(セメント)'!R23+'施設資源化量内訳(資源化等)'!R23","v":0},{"$f":"'施設資源化量内訳(焼却)'!S23+'施設資源化量内訳(粗大)'!S23+'施設資源化量内訳(堆肥化)'!S23+'施設資源化量内訳(飼料化)'!S23+'施設資源化量内訳(メタン化)'!S23+'施設資源化量内訳(燃料化)'!S23+'施設資源化量内訳(セメント)'!S23+'施設資源化量内訳(資源化等)'!S23","v":0},{"$f":"'施設資源化量内訳(焼却)'!T23+'施設資源化量内訳(粗大)'!T23+'施設資源化量内訳(堆肥化)'!T23+'施設資源化量内訳(飼料化)'!T23+'施設資源化量内訳(メタン化)'!T23+'施設資源化量内訳(燃料化)'!T23+'施設資源化量内訳(セメント)'!T23+'施設資源化量内訳(資源化等)'!T23","v":0},{"$f":"'施設資源化量内訳(焼却)'!U23+'施設資源化量内訳(粗大)'!U23+'施設資源化量内訳(堆肥化)'!U23+'施設資源化量内訳(飼料化)'!U23+'施設資源化量内訳(メタン化)'!U23+'施設資源化量内訳(燃料化)'!U23+'施設資源化量内訳(セメント)'!U23+'施設資源化量内訳(資源化等)'!U23","v":0},{"$f":"'施設資源化量内訳(焼却)'!V23+'施設資源化量内訳(粗大)'!V23+'施設資源化量内訳(堆肥化)'!V23+'施設資源化量内訳(飼料化)'!V23+'施設資源化量内訳(メタン化)'!V23+'施設資源化量内訳(燃料化)'!V23+'施設資源化量内訳(セメント)'!V23+'施設資源化量内訳(資源化等)'!V23","v":0},{"$f":"'施設資源化量内訳(焼却)'!W23+'施設資源化量内訳(粗大)'!W23+'施設資源化量内訳(堆肥化)'!W23+'施設資源化量内訳(飼料化)'!W23+'施設資源化量内訳(メタン化)'!W23+'施設資源化量内訳(燃料化)'!W23+'施設資源化量内訳(セメント)'!W23+'施設資源化量内訳(資源化等)'!W23","v":0},{"$f":"'施設資源化量内訳(焼却)'!X23+'施設資源化量内訳(粗大)'!X23+'施設資源化量内訳(堆肥化)'!X23+'施設資源化量内訳(飼料化)'!X23+'施設資源化量内訳(メタン化)'!X23+'施設資源化量内訳(燃料化)'!X23+'施設資源化量内訳(セメント)'!X23+'施設資源化量内訳(資源化等)'!X23","v":0},{"$f":"'施設資源化量内訳(焼却)'!Y23+'施設資源化量内訳(粗大)'!Y23+'施設資源化量内訳(堆肥化)'!Y23+'施設資源化量内訳(飼料化)'!Y23+'施設資源化量内訳(メタン化)'!Y23+'施設資源化量内訳(燃料化)'!Y23+'施設資源化量内訳(セメント)'!Y23+'施設資源化量内訳(資源化等)'!Y23","v":0},{"$f":"'施設資源化量内訳(焼却)'!Z23+'施設資源化量内訳(粗大)'!Z23+'施設資源化量内訳(堆肥化)'!Z23+'施設資源化量内訳(飼料化)'!Z23+'施設資源化量内訳(メタン化)'!Z23+'施設資源化量内訳(燃料化)'!Z23+'施設資源化量内訳(セメント)'!Z23+'施設資源化量内訳(資源化等)'!Z23","v":0},{"$f":"'施設資源化量内訳(焼却)'!AA23+'施設資源化量内訳(粗大)'!AA23+'施設資源化量内訳(堆肥化)'!AA23+'施設資源化量内訳(飼料化)'!AA23+'施設資源化量内訳(メタン化)'!AA23+'施設資源化量内訳(燃料化)'!AA23+'施設資源化量内訳(セメント)'!AA23+'施設資源化量内訳(資源化等)'!AA23","v":0},{"$f":"'施設資源化量内訳(焼却)'!AB23+'施設資源化量内訳(粗大)'!AB23+'施設資源化量内訳(堆肥化)'!AB23+'施設資源化量内訳(飼料化)'!AB23+'施設資源化量内訳(メタン化)'!AB23+'施設資源化量内訳(燃料化)'!AB23+'施設資源化量内訳(セメント)'!AB23+'施設資源化量内訳(資源化等)'!AB23","v":0},{"$f":"'施設資源化量内訳(焼却)'!AC23+'施設資源化量内訳(粗大)'!AC23+'施設資源化量内訳(堆肥化)'!AC23+'施設資源化量内訳(飼料化)'!AC23+'施設資源化量内訳(メタン化)'!AC23+'施設資源化量内訳(燃料化)'!AC23+'施設資源化量内訳(セメント)'!AC23+'施設資源化量内訳(資源化等)'!AC23","v":0},{"$f":"'施設資源化量内訳(焼却)'!AD23+'施設資源化量内訳(粗大)'!AD23+'施設資源化量内訳(堆肥化)'!AD23+'施設資源化量内訳(飼料化)'!AD23+'施設資源化量内訳(メタン化)'!AD23+'施設資源化量内訳(燃料化)'!AD23+'施設資源化量内訳(セメント)'!AD23+'施設資源化量内訳(資源化等)'!AD23","v":0},{"$f":"'施設資源化量内訳(焼却)'!AE23+'施設資源化量内訳(粗大)'!AE23+'施設資源化量内訳(堆肥化)'!AE23+'施設資源化量内訳(飼料化)'!AE23+'施設資源化量内訳(メタン化)'!AE23+'施設資源化量内訳(燃料化)'!AE23+'施設資源化量内訳(セメント)'!AE23+'施設資源化量内訳(資源化等)'!AE23","v":0},{"$f":"'施設資源化量内訳(焼却)'!AF23+'施設資源化量内訳(粗大)'!AF23+'施設資源化量内訳(堆肥化)'!AF23+'施設資源化量内訳(飼料化)'!AF23+'施設資源化量内訳(メタン化)'!AF23+'施設資源化量内訳(燃料化)'!AF23+'施設資源化量内訳(セメント)'!AF23+'施設資源化量内訳(資源化等)'!AF23","v":0},{"$f":"'施設資源化量内訳(焼却)'!AG23+'施設資源化量内訳(粗大)'!AG23+'施設資源化量内訳(堆肥化)'!AG23+'施設資源化量内訳(飼料化)'!AG23+'施設資源化量内訳(メタン化)'!AG23+'施設資源化量内訳(燃料化)'!AG23+'施設資源化量内訳(セメント)'!AG23+'施設資源化量内訳(資源化等)'!AG23","v":0}]
["秋田県","05348","三種町",{"$f":"SUM(E24:AG24)","v":0},0,0,0,0,0,0,0,0,0,0,0,0,0,0,0,0,0,0,0,0,0,0,0,0,0,0,0,0,0,{"$f":"SUM(AI24:BK24)","v":0},0,0,0,0,0,0,0,0,0,0,0,0,0,0,0,0,0,0,0,0,0,0,0,0,0,0,0,0,0,{"$f":"SUM(BM24:CO24)","v":0},{"$f":"'施設資源化量内訳(焼却)'!E24+'施設資源化量内訳(粗大)'!E24+'施設資源化量内訳(堆肥化)'!E24+'施設資源化量内訳(飼料化)'!E24+'施設資源化量内訳(メタン化)'!E24+'施設資源化量内訳(燃料化)'!E24+'施設資源化量内訳(セメント)'!E24+'施設資源化量内訳(資源化等)'!E24","v":0},{"$f":"'施設資源化量内訳(焼却)'!F24+'施設資源化量内訳(粗大)'!F24+'施設資源化量内訳(堆肥化)'!F24+'施設資源化量内訳(飼料化)'!F24+'施設資源化量内訳(メタン化)'!F24+'施設資源化量内訳(燃料化)'!F24+'施設資源化量内訳(セメント)'!F24+'施設資源化量内訳(資源化等)'!F24","v":0},{"$f":"'施設資源化量内訳(焼却)'!G24+'施設資源化量内訳(粗大)'!G24+'施設資源化量内訳(堆肥化)'!G24+'施設資源化量内訳(飼料化)'!G24+'施設資源化量内訳(メタン化)'!G24+'施設資源化量内訳(燃料化)'!G24+'施設資源化量内訳(セメント)'!G24+'施設資源化量内訳(資源化等)'!G24","v":0},{"$f":"'施設資源化量内訳(焼却)'!H24+'施設資源化量内訳(粗大)'!H24+'施設資源化量内訳(堆肥化)'!H24+'施設資源化量内訳(飼料化)'!H24+'施設資源化量内訳(メタン化)'!H24+'施設資源化量内訳(燃料化)'!H24+'施設資源化量内訳(セメント)'!H24+'施設資源化量内訳(資源化等)'!H24","v":0},{"$f":"'施設資源化量内訳(焼却)'!I24+'施設資源化量内訳(粗大)'!I24+'施設資源化量内訳(堆肥化)'!I24+'施設資源化量内訳(飼料化)'!I24+'施設資源化量内訳(メタン化)'!I24+'施設資源化量内訳(燃料化)'!I24+'施設資源化量内訳(セメント)'!I24+'施設資源化量内訳(資源化等)'!I24","v":0},{"$f":"'施設資源化量内訳(焼却)'!J24+'施設資源化量内訳(粗大)'!J24+'施設資源化量内訳(堆肥化)'!J24+'施設資源化量内訳(飼料化)'!J24+'施設資源化量内訳(メタン化)'!J24+'施設資源化量内訳(燃料化)'!J24+'施設資源化量内訳(セメント)'!J24+'施設資源化量内訳(資源化等)'!J24","v":0},{"$f":"'施設資源化量内訳(焼却)'!K24+'施設資源化量内訳(粗大)'!K24+'施設資源化量内訳(堆肥化)'!K24+'施設資源化量内訳(飼料化)'!K24+'施設資源化量内訳(メタン化)'!K24+'施設資源化量内訳(燃料化)'!K24+'施設資源化量内訳(セメント)'!K24+'施設資源化量内訳(資源化等)'!K24","v":0},{"$f":"'施設資源化量内訳(焼却)'!L24+'施設資源化量内訳(粗大)'!L24+'施設資源化量内訳(堆肥化)'!L24+'施設資源化量内訳(飼料化)'!L24+'施設資源化量内訳(メタン化)'!L24+'施設資源化量内訳(燃料化)'!L24+'施設資源化量内訳(セメント)'!L24+'施設資源化量内訳(資源化等)'!L24","v":0},{"$f":"'施設資源化量内訳(焼却)'!M24+'施設資源化量内訳(粗大)'!M24+'施設資源化量内訳(堆肥化)'!M24+'施設資源化量内訳(飼料化)'!M24+'施設資源化量内訳(メタン化)'!M24+'施設資源化量内訳(燃料化)'!M24+'施設資源化量内訳(セメント)'!M24+'施設資源化量内訳(資源化等)'!M24","v":0},{"$f":"'施設資源化量内訳(焼却)'!N24+'施設資源化量内訳(粗大)'!N24+'施設資源化量内訳(堆肥化)'!N24+'施設資源化量内訳(飼料化)'!N24+'施設資源化量内訳(メタン化)'!N24+'施設資源化量内訳(燃料化)'!N24+'施設資源化量内訳(セメント)'!N24+'施設資源化量内訳(資源化等)'!N24","v":0},{"$f":"'施設資源化量内訳(焼却)'!O24+'施設資源化量内訳(粗大)'!O24+'施設資源化量内訳(堆肥化)'!O24+'施設資源化量内訳(飼料化)'!O24+'施設資源化量内訳(メタン化)'!O24+'施設資源化量内訳(燃料化)'!O24+'施設資源化量内訳(セメント)'!O24+'施設資源化量内訳(資源化等)'!O24","v":0},{"$f":"'施設資源化量内訳(焼却)'!P24+'施設資源化量内訳(粗大)'!P24+'施設資源化量内訳(堆肥化)'!P24+'施設資源化量内訳(飼料化)'!P24+'施設資源化量内訳(メタン化)'!P24+'施設資源化量内訳(燃料化)'!P24+'施設資源化量内訳(セメント)'!P24+'施設資源化量内訳(資源化等)'!P24","v":0},{"$f":"'施設資源化量内訳(焼却)'!Q24+'施設資源化量内訳(粗大)'!Q24+'施設資源化量内訳(堆肥化)'!Q24+'施設資源化量内訳(飼料化)'!Q24+'施設資源化量内訳(メタン化)'!Q24+'施設資源化量内訳(燃料化)'!Q24+'施設資源化量内訳(セメント)'!Q24+'施設資源化量内訳(資源化等)'!Q24","v":0},{"$f":"'施設資源化量内訳(焼却)'!R24+'施設資源化量内訳(粗大)'!R24+'施設資源化量内訳(堆肥化)'!R24+'施設資源化量内訳(飼料化)'!R24+'施設資源化量内訳(メタン化)'!R24+'施設資源化量内訳(燃料化)'!R24+'施設資源化量内訳(セメント)'!R24+'施設資源化量内訳(資源化等)'!R24","v":0},{"$f":"'施設資源化量内訳(焼却)'!S24+'施設資源化量内訳(粗大)'!S24+'施設資源化量内訳(堆肥化)'!S24+'施設資源化量内訳(飼料化)'!S24+'施設資源化量内訳(メタン化)'!S24+'施設資源化量内訳(燃料化)'!S24+'施設資源化量内訳(セメント)'!S24+'施設資源化量内訳(資源化等)'!S24","v":0},{"$f":"'施設資源化量内訳(焼却)'!T24+'施設資源化量内訳(粗大)'!T24+'施設資源化量内訳(堆肥化)'!T24+'施設資源化量内訳(飼料化)'!T24+'施設資源化量内訳(メタン化)'!T24+'施設資源化量内訳(燃料化)'!T24+'施設資源化量内訳(セメント)'!T24+'施設資源化量内訳(資源化等)'!T24","v":0},{"$f":"'施設資源化量内訳(焼却)'!U24+'施設資源化量内訳(粗大)'!U24+'施設資源化量内訳(堆肥化)'!U24+'施設資源化量内訳(飼料化)'!U24+'施設資源化量内訳(メタン化)'!U24+'施設資源化量内訳(燃料化)'!U24+'施設資源化量内訳(セメント)'!U24+'施設資源化量内訳(資源化等)'!U24","v":0},{"$f":"'施設資源化量内訳(焼却)'!V24+'施設資源化量内訳(粗大)'!V24+'施設資源化量内訳(堆肥化)'!V24+'施設資源化量内訳(飼料化)'!V24+'施設資源化量内訳(メタン化)'!V24+'施設資源化量内訳(燃料化)'!V24+'施設資源化量内訳(セメント)'!V24+'施設資源化量内訳(資源化等)'!V24","v":0},{"$f":"'施設資源化量内訳(焼却)'!W24+'施設資源化量内訳(粗大)'!W24+'施設資源化量内訳(堆肥化)'!W24+'施設資源化量内訳(飼料化)'!W24+'施設資源化量内訳(メタン化)'!W24+'施設資源化量内訳(燃料化)'!W24+'施設資源化量内訳(セメント)'!W24+'施設資源化量内訳(資源化等)'!W24","v":0},{"$f":"'施設資源化量内訳(焼却)'!X24+'施設資源化量内訳(粗大)'!X24+'施設資源化量内訳(堆肥化)'!X24+'施設資源化量内訳(飼料化)'!X24+'施設資源化量内訳(メタン化)'!X24+'施設資源化量内訳(燃料化)'!X24+'施設資源化量内訳(セメント)'!X24+'施設資源化量内訳(資源化等)'!X24","v":0},{"$f":"'施設資源化量内訳(焼却)'!Y24+'施設資源化量内訳(粗大)'!Y24+'施設資源化量内訳(堆肥化)'!Y24+'施設資源化量内訳(飼料化)'!Y24+'施設資源化量内訳(メタン化)'!Y24+'施設資源化量内訳(燃料化)'!Y24+'施設資源化量内訳(セメント)'!Y24+'施設資源化量内訳(資源化等)'!Y24","v":0},{"$f":"'施設資源化量内訳(焼却)'!Z24+'施設資源化量内訳(粗大)'!Z24+'施設資源化量内訳(堆肥化)'!Z24+'施設資源化量内訳(飼料化)'!Z24+'施設資源化量内訳(メタン化)'!Z24+'施設資源化量内訳(燃料化)'!Z24+'施設資源化量内訳(セメント)'!Z24+'施設資源化量内訳(資源化等)'!Z24","v":0},{"$f":"'施設資源化量内訳(焼却)'!AA24+'施設資源化量内訳(粗大)'!AA24+'施設資源化量内訳(堆肥化)'!AA24+'施設資源化量内訳(飼料化)'!AA24+'施設資源化量内訳(メタン化)'!AA24+'施設資源化量内訳(燃料化)'!AA24+'施設資源化量内訳(セメント)'!AA24+'施設資源化量内訳(資源化等)'!AA24","v":0},{"$f":"'施設資源化量内訳(焼却)'!AB24+'施設資源化量内訳(粗大)'!AB24+'施設資源化量内訳(堆肥化)'!AB24+'施設資源化量内訳(飼料化)'!AB24+'施設資源化量内訳(メタン化)'!AB24+'施設資源化量内訳(燃料化)'!AB24+'施設資源化量内訳(セメント)'!AB24+'施設資源化量内訳(資源化等)'!AB24","v":0},{"$f":"'施設資源化量内訳(焼却)'!AC24+'施設資源化量内訳(粗大)'!AC24+'施設資源化量内訳(堆肥化)'!AC24+'施設資源化量内訳(飼料化)'!AC24+'施設資源化量内訳(メタン化)'!AC24+'施設資源化量内訳(燃料化)'!AC24+'施設資源化量内訳(セメント)'!AC24+'施設資源化量内訳(資源化等)'!AC24","v":0},{"$f":"'施設資源化量内訳(焼却)'!AD24+'施設資源化量内訳(粗大)'!AD24+'施設資源化量内訳(堆肥化)'!AD24+'施設資源化量内訳(飼料化)'!AD24+'施設資源化量内訳(メタン化)'!AD24+'施設資源化量内訳(燃料化)'!AD24+'施設資源化量内訳(セメント)'!AD24+'施設資源化量内訳(資源化等)'!AD24","v":0},{"$f":"'施設資源化量内訳(焼却)'!AE24+'施設資源化量内訳(粗大)'!AE24+'施設資源化量内訳(堆肥化)'!AE24+'施設資源化量内訳(飼料化)'!AE24+'施設資源化量内訳(メタン化)'!AE24+'施設資源化量内訳(燃料化)'!AE24+'施設資源化量内訳(セメント)'!AE24+'施設資源化量内訳(資源化等)'!AE24","v":0},{"$f":"'施設資源化量内訳(焼却)'!AF24+'施設資源化量内訳(粗大)'!AF24+'施設資源化量内訳(堆肥化)'!AF24+'施設資源化量内訳(飼料化)'!AF24+'施設資源化量内訳(メタン化)'!AF24+'施設資源化量内訳(燃料化)'!AF24+'施設資源化量内訳(セメント)'!AF24+'施設資源化量内訳(資源化等)'!AF24","v":0},{"$f":"'施設資源化量内訳(焼却)'!AG24+'施設資源化量内訳(粗大)'!AG24+'施設資源化量内訳(堆肥化)'!AG24+'施設資源化量内訳(飼料化)'!AG24+'施設資源化量内訳(メタン化)'!AG24+'施設資源化量内訳(燃料化)'!AG24+'施設資源化量内訳(セメント)'!AG24+'施設資源化量内訳(資源化等)'!AG24","v":0}]
["秋田県","05349","八峰町",{"$f":"SUM(E25:AG25)","v":0},0,0,0,0,0,0,0,0,0,0,0,0,0,0,0,0,0,0,0,0,0,0,0,0,0,0,0,0,0,{"$f":"SUM(AI25:BK25)","v":0},0,0,0,0,0,0,0,0,0,0,0,0,0,0,0,0,0,0,0,0,0,0,0,0,0,0,0,0,0,{"$f":"SUM(BM25:CO25)","v":0},{"$f":"'施設資源化量内訳(焼却)'!E25+'施設資源化量内訳(粗大)'!E25+'施設資源化量内訳(堆肥化)'!E25+'施設資源化量内訳(飼料化)'!E25+'施設資源化量内訳(メタン化)'!E25+'施設資源化量内訳(燃料化)'!E25+'施設資源化量内訳(セメント)'!E25+'施設資源化量内訳(資源化等)'!E25","v":0},{"$f":"'施設資源化量内訳(焼却)'!F25+'施設資源化量内訳(粗大)'!F25+'施設資源化量内訳(堆肥化)'!F25+'施設資源化量内訳(飼料化)'!F25+'施設資源化量内訳(メタン化)'!F25+'施設資源化量内訳(燃料化)'!F25+'施設資源化量内訳(セメント)'!F25+'施設資源化量内訳(資源化等)'!F25","v":0},{"$f":"'施設資源化量内訳(焼却)'!G25+'施設資源化量内訳(粗大)'!G25+'施設資源化量内訳(堆肥化)'!G25+'施設資源化量内訳(飼料化)'!G25+'施設資源化量内訳(メタン化)'!G25+'施設資源化量内訳(燃料化)'!G25+'施設資源化量内訳(セメント)'!G25+'施設資源化量内訳(資源化等)'!G25","v":0},{"$f":"'施設資源化量内訳(焼却)'!H25+'施設資源化量内訳(粗大)'!H25+'施設資源化量内訳(堆肥化)'!H25+'施設資源化量内訳(飼料化)'!H25+'施設資源化量内訳(メタン化)'!H25+'施設資源化量内訳(燃料化)'!H25+'施設資源化量内訳(セメント)'!H25+'施設資源化量内訳(資源化等)'!H25","v":0},{"$f":"'施設資源化量内訳(焼却)'!I25+'施設資源化量内訳(粗大)'!I25+'施設資源化量内訳(堆肥化)'!I25+'施設資源化量内訳(飼料化)'!I25+'施設資源化量内訳(メタン化)'!I25+'施設資源化量内訳(燃料化)'!I25+'施設資源化量内訳(セメント)'!I25+'施設資源化量内訳(資源化等)'!I25","v":0},{"$f":"'施設資源化量内訳(焼却)'!J25+'施設資源化量内訳(粗大)'!J25+'施設資源化量内訳(堆肥化)'!J25+'施設資源化量内訳(飼料化)'!J25+'施設資源化量内訳(メタン化)'!J25+'施設資源化量内訳(燃料化)'!J25+'施設資源化量内訳(セメント)'!J25+'施設資源化量内訳(資源化等)'!J25","v":0},{"$f":"'施設資源化量内訳(焼却)'!K25+'施設資源化量内訳(粗大)'!K25+'施設資源化量内訳(堆肥化)'!K25+'施設資源化量内訳(飼料化)'!K25+'施設資源化量内訳(メタン化)'!K25+'施設資源化量内訳(燃料化)'!K25+'施設資源化量内訳(セメント)'!K25+'施設資源化量内訳(資源化等)'!K25","v":0},{"$f":"'施設資源化量内訳(焼却)'!L25+'施設資源化量内訳(粗大)'!L25+'施設資源化量内訳(堆肥化)'!L25+'施設資源化量内訳(飼料化)'!L25+'施設資源化量内訳(メタン化)'!L25+'施設資源化量内訳(燃料化)'!L25+'施設資源化量内訳(セメント)'!L25+'施設資源化量内訳(資源化等)'!L25","v":0},{"$f":"'施設資源化量内訳(焼却)'!M25+'施設資源化量内訳(粗大)'!M25+'施設資源化量内訳(堆肥化)'!M25+'施設資源化量内訳(飼料化)'!M25+'施設資源化量内訳(メタン化)'!M25+'施設資源化量内訳(燃料化)'!M25+'施設資源化量内訳(セメント)'!M25+'施設資源化量内訳(資源化等)'!M25","v":0},{"$f":"'施設資源化量内訳(焼却)'!N25+'施設資源化量内訳(粗大)'!N25+'施設資源化量内訳(堆肥化)'!N25+'施設資源化量内訳(飼料化)'!N25+'施設資源化量内訳(メタン化)'!N25+'施設資源化量内訳(燃料化)'!N25+'施設資源化量内訳(セメント)'!N25+'施設資源化量内訳(資源化等)'!N25","v":0},{"$f":"'施設資源化量内訳(焼却)'!O25+'施設資源化量内訳(粗大)'!O25+'施設資源化量内訳(堆肥化)'!O25+'施設資源化量内訳(飼料化)'!O25+'施設資源化量内訳(メタン化)'!O25+'施設資源化量内訳(燃料化)'!O25+'施設資源化量内訳(セメント)'!O25+'施設資源化量内訳(資源化等)'!O25","v":0},{"$f":"'施設資源化量内訳(焼却)'!P25+'施設資源化量内訳(粗大)'!P25+'施設資源化量内訳(堆肥化)'!P25+'施設資源化量内訳(飼料化)'!P25+'施設資源化量内訳(メタン化)'!P25+'施設資源化量内訳(燃料化)'!P25+'施設資源化量内訳(セメント)'!P25+'施設資源化量内訳(資源化等)'!P25","v":0},{"$f":"'施設資源化量内訳(焼却)'!Q25+'施設資源化量内訳(粗大)'!Q25+'施設資源化量内訳(堆肥化)'!Q25+'施設資源化量内訳(飼料化)'!Q25+'施設資源化量内訳(メタン化)'!Q25+'施設資源化量内訳(燃料化)'!Q25+'施設資源化量内訳(セメント)'!Q25+'施設資源化量内訳(資源化等)'!Q25","v":0},{"$f":"'施設資源化量内訳(焼却)'!R25+'施設資源化量内訳(粗大)'!R25+'施設資源化量内訳(堆肥化)'!R25+'施設資源化量内訳(飼料化)'!R25+'施設資源化量内訳(メタン化)'!R25+'施設資源化量内訳(燃料化)'!R25+'施設資源化量内訳(セメント)'!R25+'施設資源化量内訳(資源化等)'!R25","v":0},{"$f":"'施設資源化量内訳(焼却)'!S25+'施設資源化量内訳(粗大)'!S25+'施設資源化量内訳(堆肥化)'!S25+'施設資源化量内訳(飼料化)'!S25+'施設資源化量内訳(メタン化)'!S25+'施設資源化量内訳(燃料化)'!S25+'施設資源化量内訳(セメント)'!S25+'施設資源化量内訳(資源化等)'!S25","v":0},{"$f":"'施設資源化量内訳(焼却)'!T25+'施設資源化量内訳(粗大)'!T25+'施設資源化量内訳(堆肥化)'!T25+'施設資源化量内訳(飼料化)'!T25+'施設資源化量内訳(メタン化)'!T25+'施設資源化量内訳(燃料化)'!T25+'施設資源化量内訳(セメント)'!T25+'施設資源化量内訳(資源化等)'!T25","v":0},{"$f":"'施設資源化量内訳(焼却)'!U25+'施設資源化量内訳(粗大)'!U25+'施設資源化量内訳(堆肥化)'!U25+'施設資源化量内訳(飼料化)'!U25+'施設資源化量内訳(メタン化)'!U25+'施設資源化量内訳(燃料化)'!U25+'施設資源化量内訳(セメント)'!U25+'施設資源化量内訳(資源化等)'!U25","v":0},{"$f":"'施設資源化量内訳(焼却)'!V25+'施設資源化量内訳(粗大)'!V25+'施設資源化量内訳(堆肥化)'!V25+'施設資源化量内訳(飼料化)'!V25+'施設資源化量内訳(メタン化)'!V25+'施設資源化量内訳(燃料化)'!V25+'施設資源化量内訳(セメント)'!V25+'施設資源化量内訳(資源化等)'!V25","v":0},{"$f":"'施設資源化量内訳(焼却)'!W25+'施設資源化量内訳(粗大)'!W25+'施設資源化量内訳(堆肥化)'!W25+'施設資源化量内訳(飼料化)'!W25+'施設資源化量内訳(メタン化)'!W25+'施設資源化量内訳(燃料化)'!W25+'施設資源化量内訳(セメント)'!W25+'施設資源化量内訳(資源化等)'!W25","v":0},{"$f":"'施設資源化量内訳(焼却)'!X25+'施設資源化量内訳(粗大)'!X25+'施設資源化量内訳(堆肥化)'!X25+'施設資源化量内訳(飼料化)'!X25+'施設資源化量内訳(メタン化)'!X25+'施設資源化量内訳(燃料化)'!X25+'施設資源化量内訳(セメント)'!X25+'施設資源化量内訳(資源化等)'!X25","v":0},{"$f":"'施設資源化量内訳(焼却)'!Y25+'施設資源化量内訳(粗大)'!Y25+'施設資源化量内訳(堆肥化)'!Y25+'施設資源化量内訳(飼料化)'!Y25+'施設資源化量内訳(メタン化)'!Y25+'施設資源化量内訳(燃料化)'!Y25+'施設資源化量内訳(セメント)'!Y25+'施設資源化量内訳(資源化等)'!Y25","v":0},{"$f":"'施設資源化量内訳(焼却)'!Z25+'施設資源化量内訳(粗大)'!Z25+'施設資源化量内訳(堆肥化)'!Z25+'施設資源化量内訳(飼料化)'!Z25+'施設資源化量内訳(メタン化)'!Z25+'施設資源化量内訳(燃料化)'!Z25+'施設資源化量内訳(セメント)'!Z25+'施設資源化量内訳(資源化等)'!Z25","v":0},{"$f":"'施設資源化量内訳(焼却)'!AA25+'施設資源化量内訳(粗大)'!AA25+'施設資源化量内訳(堆肥化)'!AA25+'施設資源化量内訳(飼料化)'!AA25+'施設資源化量内訳(メタン化)'!AA25+'施設資源化量内訳(燃料化)'!AA25+'施設資源化量内訳(セメント)'!AA25+'施設資源化量内訳(資源化等)'!AA25","v":0},{"$f":"'施設資源化量内訳(焼却)'!AB25+'施設資源化量内訳(粗大)'!AB25+'施設資源化量内訳(堆肥化)'!AB25+'施設資源化量内訳(飼料化)'!AB25+'施設資源化量内訳(メタン化)'!AB25+'施設資源化量内訳(燃料化)'!AB25+'施設資源化量内訳(セメント)'!AB25+'施設資源化量内訳(資源化等)'!AB25","v":0},{"$f":"'施設資源化量内訳(焼却)'!AC25+'施設資源化量内訳(粗大)'!AC25+'施設資源化量内訳(堆肥化)'!AC25+'施設資源化量内訳(飼料化)'!AC25+'施設資源化量内訳(メタン化)'!AC25+'施設資源化量内訳(燃料化)'!AC25+'施設資源化量内訳(セメント)'!AC25+'施設資源化量内訳(資源化等)'!AC25","v":0},{"$f":"'施設資源化量内訳(焼却)'!AD25+'施設資源化量内訳(粗大)'!AD25+'施設資源化量内訳(堆肥化)'!AD25+'施設資源化量内訳(飼料化)'!AD25+'施設資源化量内訳(メタン化)'!AD25+'施設資源化量内訳(燃料化)'!AD25+'施設資源化量内訳(セメント)'!AD25+'施設資源化量内訳(資源化等)'!AD25","v":0},{"$f":"'施設資源化量内訳(焼却)'!AE25+'施設資源化量内訳(粗大)'!AE25+'施設資源化量内訳(堆肥化)'!AE25+'施設資源化量内訳(飼料化)'!AE25+'施設資源化量内訳(メタン化)'!AE25+'施設資源化量内訳(燃料化)'!AE25+'施設資源化量内訳(セメント)'!AE25+'施設資源化量内訳(資源化等)'!AE25","v":0},{"$f":"'施設資源化量内訳(焼却)'!AF25+'施設資源化量内訳(粗大)'!AF25+'施設資源化量内訳(堆肥化)'!AF25+'施設資源化量内訳(飼料化)'!AF25+'施設資源化量内訳(メタン化)'!AF25+'施設資源化量内訳(燃料化)'!AF25+'施設資源化量内訳(セメント)'!AF25+'施設資源化量内訳(資源化等)'!AF25","v":0},{"$f":"'施設資源化量内訳(焼却)'!AG25+'施設資源化量内訳(粗大)'!AG25+'施設資源化量内訳(堆肥化)'!AG25+'施設資源化量内訳(飼料化)'!AG25+'施設資源化量内訳(メタン化)'!AG25+'施設資源化量内訳(燃料化)'!AG25+'施設資源化量内訳(セメント)'!AG25+'施設資源化量内訳(資源化等)'!AG25","v":0}]
["秋田県","05361","五城目町",{"$f":"SUM(E26:AG26)","v":0},0,0,0,0,0,0,0,0,0,0,0,0,0,0,0,0,0,0,0,0,0,0,0,0,0,0,0,0,0,{"$f":"SUM(AI26:BK26)","v":0},0,0,0,0,0,0,0,0,0,0,0,0,0,0,0,0,0,0,0,0,0,0,0,0,0,0,0,0,0,{"$f":"SUM(BM26:CO26)","v":0},{"$f":"'施設資源化量内訳(焼却)'!E26+'施設資源化量内訳(粗大)'!E26+'施設資源化量内訳(堆肥化)'!E26+'施設資源化量内訳(飼料化)'!E26+'施設資源化量内訳(メタン化)'!E26+'施設資源化量内訳(燃料化)'!E26+'施設資源化量内訳(セメント)'!E26+'施設資源化量内訳(資源化等)'!E26","v":0},{"$f":"'施設資源化量内訳(焼却)'!F26+'施設資源化量内訳(粗大)'!F26+'施設資源化量内訳(堆肥化)'!F26+'施設資源化量内訳(飼料化)'!F26+'施設資源化量内訳(メタン化)'!F26+'施設資源化量内訳(燃料化)'!F26+'施設資源化量内訳(セメント)'!F26+'施設資源化量内訳(資源化等)'!F26","v":0},{"$f":"'施設資源化量内訳(焼却)'!G26+'施設資源化量内訳(粗大)'!G26+'施設資源化量内訳(堆肥化)'!G26+'施設資源化量内訳(飼料化)'!G26+'施設資源化量内訳(メタン化)'!G26+'施設資源化量内訳(燃料化)'!G26+'施設資源化量内訳(セメント)'!G26+'施設資源化量内訳(資源化等)'!G26","v":0},{"$f":"'施設資源化量内訳(焼却)'!H26+'施設資源化量内訳(粗大)'!H26+'施設資源化量内訳(堆肥化)'!H26+'施設資源化量内訳(飼料化)'!H26+'施設資源化量内訳(メタン化)'!H26+'施設資源化量内訳(燃料化)'!H26+'施設資源化量内訳(セメント)'!H26+'施設資源化量内訳(資源化等)'!H26","v":0},{"$f":"'施設資源化量内訳(焼却)'!I26+'施設資源化量内訳(粗大)'!I26+'施設資源化量内訳(堆肥化)'!I26+'施設資源化量内訳(飼料化)'!I26+'施設資源化量内訳(メタン化)'!I26+'施設資源化量内訳(燃料化)'!I26+'施設資源化量内訳(セメント)'!I26+'施設資源化量内訳(資源化等)'!I26","v":0},{"$f":"'施設資源化量内訳(焼却)'!J26+'施設資源化量内訳(粗大)'!J26+'施設資源化量内訳(堆肥化)'!J26+'施設資源化量内訳(飼料化)'!J26+'施設資源化量内訳(メタン化)'!J26+'施設資源化量内訳(燃料化)'!J26+'施設資源化量内訳(セメント)'!J26+'施設資源化量内訳(資源化等)'!J26","v":0},{"$f":"'施設資源化量内訳(焼却)'!K26+'施設資源化量内訳(粗大)'!K26+'施設資源化量内訳(堆肥化)'!K26+'施設資源化量内訳(飼料化)'!K26+'施設資源化量内訳(メタン化)'!K26+'施設資源化量内訳(燃料化)'!K26+'施設資源化量内訳(セメント)'!K26+'施設資源化量内訳(資源化等)'!K26","v":0},{"$f":"'施設資源化量内訳(焼却)'!L26+'施設資源化量内訳(粗大)'!L26+'施設資源化量内訳(堆肥化)'!L26+'施設資源化量内訳(飼料化)'!L26+'施設資源化量内訳(メタン化)'!L26+'施設資源化量内訳(燃料化)'!L26+'施設資源化量内訳(セメント)'!L26+'施設資源化量内訳(資源化等)'!L26","v":0},{"$f":"'施設資源化量内訳(焼却)'!M26+'施設資源化量内訳(粗大)'!M26+'施設資源化量内訳(堆肥化)'!M26+'施設資源化量内訳(飼料化)'!M26+'施設資源化量内訳(メタン化)'!M26+'施設資源化量内訳(燃料化)'!M26+'施設資源化量内訳(セメント)'!M26+'施設資源化量内訳(資源化等)'!M26","v":0},{"$f":"'施設資源化量内訳(焼却)'!N26+'施設資源化量内訳(粗大)'!N26+'施設資源化量内訳(堆肥化)'!N26+'施設資源化量内訳(飼料化)'!N26+'施設資源化量内訳(メタン化)'!N26+'施設資源化量内訳(燃料化)'!N26+'施設資源化量内訳(セメント)'!N26+'施設資源化量内訳(資源化等)'!N26","v":0},{"$f":"'施設資源化量内訳(焼却)'!O26+'施設資源化量内訳(粗大)'!O26+'施設資源化量内訳(堆肥化)'!O26+'施設資源化量内訳(飼料化)'!O26+'施設資源化量内訳(メタン化)'!O26+'施設資源化量内訳(燃料化)'!O26+'施設資源化量内訳(セメント)'!O26+'施設資源化量内訳(資源化等)'!O26","v":0},{"$f":"'施設資源化量内訳(焼却)'!P26+'施設資源化量内訳(粗大)'!P26+'施設資源化量内訳(堆肥化)'!P26+'施設資源化量内訳(飼料化)'!P26+'施設資源化量内訳(メタン化)'!P26+'施設資源化量内訳(燃料化)'!P26+'施設資源化量内訳(セメント)'!P26+'施設資源化量内訳(資源化等)'!P26","v":0},{"$f":"'施設資源化量内訳(焼却)'!Q26+'施設資源化量内訳(粗大)'!Q26+'施設資源化量内訳(堆肥化)'!Q26+'施設資源化量内訳(飼料化)'!Q26+'施設資源化量内訳(メタン化)'!Q26+'施設資源化量内訳(燃料化)'!Q26+'施設資源化量内訳(セメント)'!Q26+'施設資源化量内訳(資源化等)'!Q26","v":0},{"$f":"'施設資源化量内訳(焼却)'!R26+'施設資源化量内訳(粗大)'!R26+'施設資源化量内訳(堆肥化)'!R26+'施設資源化量内訳(飼料化)'!R26+'施設資源化量内訳(メタン化)'!R26+'施設資源化量内訳(燃料化)'!R26+'施設資源化量内訳(セメント)'!R26+'施設資源化量内訳(資源化等)'!R26","v":0},{"$f":"'施設資源化量内訳(焼却)'!S26+'施設資源化量内訳(粗大)'!S26+'施設資源化量内訳(堆肥化)'!S26+'施設資源化量内訳(飼料化)'!S26+'施設資源化量内訳(メタン化)'!S26+'施設資源化量内訳(燃料化)'!S26+'施設資源化量内訳(セメント)'!S26+'施設資源化量内訳(資源化等)'!S26","v":0},{"$f":"'施設資源化量内訳(焼却)'!T26+'施設資源化量内訳(粗大)'!T26+'施設資源化量内訳(堆肥化)'!T26+'施設資源化量内訳(飼料化)'!T26+'施設資源化量内訳(メタン化)'!T26+'施設資源化量内訳(燃料化)'!T26+'施設資源化量内訳(セメント)'!T26+'施設資源化量内訳(資源化等)'!T26","v":0},{"$f":"'施設資源化量内訳(焼却)'!U26+'施設資源化量内訳(粗大)'!U26+'施設資源化量内訳(堆肥化)'!U26+'施設資源化量内訳(飼料化)'!U26+'施設資源化量内訳(メタン化)'!U26+'施設資源化量内訳(燃料化)'!U26+'施設資源化量内訳(セメント)'!U26+'施設資源化量内訳(資源化等)'!U26","v":0},{"$f":"'施設資源化量内訳(焼却)'!V26+'施設資源化量内訳(粗大)'!V26+'施設資源化量内訳(堆肥化)'!V26+'施設資源化量内訳(飼料化)'!V26+'施設資源化量内訳(メタン化)'!V26+'施設資源化量内訳(燃料化)'!V26+'施設資源化量内訳(セメント)'!V26+'施設資源化量内訳(資源化等)'!V26","v":0},{"$f":"'施設資源化量内訳(焼却)'!W26+'施設資源化量内訳(粗大)'!W26+'施設資源化量内訳(堆肥化)'!W26+'施設資源化量内訳(飼料化)'!W26+'施設資源化量内訳(メタン化)'!W26+'施設資源化量内訳(燃料化)'!W26+'施設資源化量内訳(セメント)'!W26+'施設資源化量内訳(資源化等)'!W26","v":0},{"$f":"'施設資源化量内訳(焼却)'!X26+'施設資源化量内訳(粗大)'!X26+'施設資源化量内訳(堆肥化)'!X26+'施設資源化量内訳(飼料化)'!X26+'施設資源化量内訳(メタン化)'!X26+'施設資源化量内訳(燃料化)'!X26+'施設資源化量内訳(セメント)'!X26+'施設資源化量内訳(資源化等)'!X26","v":0},{"$f":"'施設資源化量内訳(焼却)'!Y26+'施設資源化量内訳(粗大)'!Y26+'施設資源化量内訳(堆肥化)'!Y26+'施設資源化量内訳(飼料化)'!Y26+'施設資源化量内訳(メタン化)'!Y26+'施設資源化量内訳(燃料化)'!Y26+'施設資源化量内訳(セメント)'!Y26+'施設資源化量内訳(資源化等)'!Y26","v":0},{"$f":"'施設資源化量内訳(焼却)'!Z26+'施設資源化量内訳(粗大)'!Z26+'施設資源化量内訳(堆肥化)'!Z26+'施設資源化量内訳(飼料化)'!Z26+'施設資源化量内訳(メタン化)'!Z26+'施設資源化量内訳(燃料化)'!Z26+'施設資源化量内訳(セメント)'!Z26+'施設資源化量内訳(資源化等)'!Z26","v":0},{"$f":"'施設資源化量内訳(焼却)'!AA26+'施設資源化量内訳(粗大)'!AA26+'施設資源化量内訳(堆肥化)'!AA26+'施設資源化量内訳(飼料化)'!AA26+'施設資源化量内訳(メタン化)'!AA26+'施設資源化量内訳(燃料化)'!AA26+'施設資源化量内訳(セメント)'!AA26+'施設資源化量内訳(資源化等)'!AA26","v":0},{"$f":"'施設資源化量内訳(焼却)'!AB26+'施設資源化量内訳(粗大)'!AB26+'施設資源化量内訳(堆肥化)'!AB26+'施設資源化量内訳(飼料化)'!AB26+'施設資源化量内訳(メタン化)'!AB26+'施設資源化量内訳(燃料化)'!AB26+'施設資源化量内訳(セメント)'!AB26+'施設資源化量内訳(資源化等)'!AB26","v":0},{"$f":"'施設資源化量内訳(焼却)'!AC26+'施設資源化量内訳(粗大)'!AC26+'施設資源化量内訳(堆肥化)'!AC26+'施設資源化量内訳(飼料化)'!AC26+'施設資源化量内訳(メタン化)'!AC26+'施設資源化量内訳(燃料化)'!AC26+'施設資源化量内訳(セメント)'!AC26+'施設資源化量内訳(資源化等)'!AC26","v":0},{"$f":"'施設資源化量内訳(焼却)'!AD26+'施設資源化量内訳(粗大)'!AD26+'施設資源化量内訳(堆肥化)'!AD26+'施設資源化量内訳(飼料化)'!AD26+'施設資源化量内訳(メタン化)'!AD26+'施設資源化量内訳(燃料化)'!AD26+'施設資源化量内訳(セメント)'!AD26+'施設資源化量内訳(資源化等)'!AD26","v":0},{"$f":"'施設資源化量内訳(焼却)'!AE26+'施設資源化量内訳(粗大)'!AE26+'施設資源化量内訳(堆肥化)'!AE26+'施設資源化量内訳(飼料化)'!AE26+'施設資源化量内訳(メタン化)'!AE26+'施設資源化量内訳(燃料化)'!AE26+'施設資源化量内訳(セメント)'!AE26+'施設資源化量内訳(資源化等)'!AE26","v":0},{"$f":"'施設資源化量内訳(焼却)'!AF26+'施設資源化量内訳(粗大)'!AF26+'施設資源化量内訳(堆肥化)'!AF26+'施設資源化量内訳(飼料化)'!AF26+'施設資源化量内訳(メタン化)'!AF26+'施設資源化量内訳(燃料化)'!AF26+'施設資源化量内訳(セメント)'!AF26+'施設資源化量内訳(資源化等)'!AF26","v":0},{"$f":"'施設資源化量内訳(焼却)'!AG26+'施設資源化量内訳(粗大)'!AG26+'施設資源化量内訳(堆肥化)'!AG26+'施設資源化量内訳(飼料化)'!AG26+'施設資源化量内訳(メタン化)'!AG26+'施設資源化量内訳(燃料化)'!AG26+'施設資源化量内訳(セメント)'!AG26+'施設資源化量内訳(資源化等)'!AG26","v":0}]
["秋田県","05363","八郎潟町",{"$f":"SUM(E27:AG27)","v":0},0,0,0,0,0,0,0,0,0,0,0,0,0,0,0,0,0,0,0,0,0,0,0,0,0,0,0,0,0,{"$f":"SUM(AI27:BK27)","v":0},0,0,0,0,0,0,0,0,0,0,0,0,0,0,0,0,0,0,0,0,0,0,0,0,0,0,0,0,0,{"$f":"SUM(BM27:CO27)","v":0},{"$f":"'施設資源化量内訳(焼却)'!E27+'施設資源化量内訳(粗大)'!E27+'施設資源化量内訳(堆肥化)'!E27+'施設資源化量内訳(飼料化)'!E27+'施設資源化量内訳(メタン化)'!E27+'施設資源化量内訳(燃料化)'!E27+'施設資源化量内訳(セメント)'!E27+'施設資源化量内訳(資源化等)'!E27","v":0},{"$f":"'施設資源化量内訳(焼却)'!F27+'施設資源化量内訳(粗大)'!F27+'施設資源化量内訳(堆肥化)'!F27+'施設資源化量内訳(飼料化)'!F27+'施設資源化量内訳(メタン化)'!F27+'施設資源化量内訳(燃料化)'!F27+'施設資源化量内訳(セメント)'!F27+'施設資源化量内訳(資源化等)'!F27","v":0},{"$f":"'施設資源化量内訳(焼却)'!G27+'施設資源化量内訳(粗大)'!G27+'施設資源化量内訳(堆肥化)'!G27+'施設資源化量内訳(飼料化)'!G27+'施設資源化量内訳(メタン化)'!G27+'施設資源化量内訳(燃料化)'!G27+'施設資源化量内訳(セメント)'!G27+'施設資源化量内訳(資源化等)'!G27","v":0},{"$f":"'施設資源化量内訳(焼却)'!H27+'施設資源化量内訳(粗大)'!H27+'施設資源化量内訳(堆肥化)'!H27+'施設資源化量内訳(飼料化)'!H27+'施設資源化量内訳(メタン化)'!H27+'施設資源化量内訳(燃料化)'!H27+'施設資源化量内訳(セメント)'!H27+'施設資源化量内訳(資源化等)'!H27","v":0},{"$f":"'施設資源化量内訳(焼却)'!I27+'施設資源化量内訳(粗大)'!I27+'施設資源化量内訳(堆肥化)'!I27+'施設資源化量内訳(飼料化)'!I27+'施設資源化量内訳(メタン化)'!I27+'施設資源化量内訳(燃料化)'!I27+'施設資源化量内訳(セメント)'!I27+'施設資源化量内訳(資源化等)'!I27","v":0},{"$f":"'施設資源化量内訳(焼却)'!J27+'施設資源化量内訳(粗大)'!J27+'施設資源化量内訳(堆肥化)'!J27+'施設資源化量内訳(飼料化)'!J27+'施設資源化量内訳(メタン化)'!J27+'施設資源化量内訳(燃料化)'!J27+'施設資源化量内訳(セメント)'!J27+'施設資源化量内訳(資源化等)'!J27","v":0},{"$f":"'施設資源化量内訳(焼却)'!K27+'施設資源化量内訳(粗大)'!K27+'施設資源化量内訳(堆肥化)'!K27+'施設資源化量内訳(飼料化)'!K27+'施設資源化量内訳(メタン化)'!K27+'施設資源化量内訳(燃料化)'!K27+'施設資源化量内訳(セメント)'!K27+'施設資源化量内訳(資源化等)'!K27","v":0},{"$f":"'施設資源化量内訳(焼却)'!L27+'施設資源化量内訳(粗大)'!L27+'施設資源化量内訳(堆肥化)'!L27+'施設資源化量内訳(飼料化)'!L27+'施設資源化量内訳(メタン化)'!L27+'施設資源化量内訳(燃料化)'!L27+'施設資源化量内訳(セメント)'!L27+'施設資源化量内訳(資源化等)'!L27","v":0},{"$f":"'施設資源化量内訳(焼却)'!M27+'施設資源化量内訳(粗大)'!M27+'施設資源化量内訳(堆肥化)'!M27+'施設資源化量内訳(飼料化)'!M27+'施設資源化量内訳(メタン化)'!M27+'施設資源化量内訳(燃料化)'!M27+'施設資源化量内訳(セメント)'!M27+'施設資源化量内訳(資源化等)'!M27","v":0},{"$f":"'施設資源化量内訳(焼却)'!N27+'施設資源化量内訳(粗大)'!N27+'施設資源化量内訳(堆肥化)'!N27+'施設資源化量内訳(飼料化)'!N27+'施設資源化量内訳(メタン化)'!N27+'施設資源化量内訳(燃料化)'!N27+'施設資源化量内訳(セメント)'!N27+'施設資源化量内訳(資源化等)'!N27","v":0},{"$f":"'施設資源化量内訳(焼却)'!O27+'施設資源化量内訳(粗大)'!O27+'施設資源化量内訳(堆肥化)'!O27+'施設資源化量内訳(飼料化)'!O27+'施設資源化量内訳(メタン化)'!O27+'施設資源化量内訳(燃料化)'!O27+'施設資源化量内訳(セメント)'!O27+'施設資源化量内訳(資源化等)'!O27","v":0},{"$f":"'施設資源化量内訳(焼却)'!P27+'施設資源化量内訳(粗大)'!P27+'施設資源化量内訳(堆肥化)'!P27+'施設資源化量内訳(飼料化)'!P27+'施設資源化量内訳(メタン化)'!P27+'施設資源化量内訳(燃料化)'!P27+'施設資源化量内訳(セメント)'!P27+'施設資源化量内訳(資源化等)'!P27","v":0},{"$f":"'施設資源化量内訳(焼却)'!Q27+'施設資源化量内訳(粗大)'!Q27+'施設資源化量内訳(堆肥化)'!Q27+'施設資源化量内訳(飼料化)'!Q27+'施設資源化量内訳(メタン化)'!Q27+'施設資源化量内訳(燃料化)'!Q27+'施設資源化量内訳(セメント)'!Q27+'施設資源化量内訳(資源化等)'!Q27","v":0},{"$f":"'施設資源化量内訳(焼却)'!R27+'施設資源化量内訳(粗大)'!R27+'施設資源化量内訳(堆肥化)'!R27+'施設資源化量内訳(飼料化)'!R27+'施設資源化量内訳(メタン化)'!R27+'施設資源化量内訳(燃料化)'!R27+'施設資源化量内訳(セメント)'!R27+'施設資源化量内訳(資源化等)'!R27","v":0},{"$f":"'施設資源化量内訳(焼却)'!S27+'施設資源化量内訳(粗大)'!S27+'施設資源化量内訳(堆肥化)'!S27+'施設資源化量内訳(飼料化)'!S27+'施設資源化量内訳(メタン化)'!S27+'施設資源化量内訳(燃料化)'!S27+'施設資源化量内訳(セメント)'!S27+'施設資源化量内訳(資源化等)'!S27","v":0},{"$f":"'施設資源化量内訳(焼却)'!T27+'施設資源化量内訳(粗大)'!T27+'施設資源化量内訳(堆肥化)'!T27+'施設資源化量内訳(飼料化)'!T27+'施設資源化量内訳(メタン化)'!T27+'施設資源化量内訳(燃料化)'!T27+'施設資源化量内訳(セメント)'!T27+'施設資源化量内訳(資源化等)'!T27","v":0},{"$f":"'施設資源化量内訳(焼却)'!U27+'施設資源化量内訳(粗大)'!U27+'施設資源化量内訳(堆肥化)'!U27+'施設資源化量内訳(飼料化)'!U27+'施設資源化量内訳(メタン化)'!U27+'施設資源化量内訳(燃料化)'!U27+'施設資源化量内訳(セメント)'!U27+'施設資源化量内訳(資源化等)'!U27","v":0},{"$f":"'施設資源化量内訳(焼却)'!V27+'施設資源化量内訳(粗大)'!V27+'施設資源化量内訳(堆肥化)'!V27+'施設資源化量内訳(飼料化)'!V27+'施設資源化量内訳(メタン化)'!V27+'施設資源化量内訳(燃料化)'!V27+'施設資源化量内訳(セメント)'!V27+'施設資源化量内訳(資源化等)'!V27","v":0},{"$f":"'施設資源化量内訳(焼却)'!W27+'施設資源化量内訳(粗大)'!W27+'施設資源化量内訳(堆肥化)'!W27+'施設資源化量内訳(飼料化)'!W27+'施設資源化量内訳(メタン化)'!W27+'施設資源化量内訳(燃料化)'!W27+'施設資源化量内訳(セメント)'!W27+'施設資源化量内訳(資源化等)'!W27","v":0},{"$f":"'施設資源化量内訳(焼却)'!X27+'施設資源化量内訳(粗大)'!X27+'施設資源化量内訳(堆肥化)'!X27+'施設資源化量内訳(飼料化)'!X27+'施設資源化量内訳(メタン化)'!X27+'施設資源化量内訳(燃料化)'!X27+'施設資源化量内訳(セメント)'!X27+'施設資源化量内訳(資源化等)'!X27","v":0},{"$f":"'施設資源化量内訳(焼却)'!Y27+'施設資源化量内訳(粗大)'!Y27+'施設資源化量内訳(堆肥化)'!Y27+'施設資源化量内訳(飼料化)'!Y27+'施設資源化量内訳(メタン化)'!Y27+'施設資源化量内訳(燃料化)'!Y27+'施設資源化量内訳(セメント)'!Y27+'施設資源化量内訳(資源化等)'!Y27","v":0},{"$f":"'施設資源化量内訳(焼却)'!Z27+'施設資源化量内訳(粗大)'!Z27+'施設資源化量内訳(堆肥化)'!Z27+'施設資源化量内訳(飼料化)'!Z27+'施設資源化量内訳(メタン化)'!Z27+'施設資源化量内訳(燃料化)'!Z27+'施設資源化量内訳(セメント)'!Z27+'施設資源化量内訳(資源化等)'!Z27","v":0},{"$f":"'施設資源化量内訳(焼却)'!AA27+'施設資源化量内訳(粗大)'!AA27+'施設資源化量内訳(堆肥化)'!AA27+'施設資源化量内訳(飼料化)'!AA27+'施設資源化量内訳(メタン化)'!AA27+'施設資源化量内訳(燃料化)'!AA27+'施設資源化量内訳(セメント)'!AA27+'施設資源化量内訳(資源化等)'!AA27","v":0},{"$f":"'施設資源化量内訳(焼却)'!AB27+'施設資源化量内訳(粗大)'!AB27+'施設資源化量内訳(堆肥化)'!AB27+'施設資源化量内訳(飼料化)'!AB27+'施設資源化量内訳(メタン化)'!AB27+'施設資源化量内訳(燃料化)'!AB27+'施設資源化量内訳(セメント)'!AB27+'施設資源化量内訳(資源化等)'!AB27","v":0},{"$f":"'施設資源化量内訳(焼却)'!AC27+'施設資源化量内訳(粗大)'!AC27+'施設資源化量内訳(堆肥化)'!AC27+'施設資源化量内訳(飼料化)'!AC27+'施設資源化量内訳(メタン化)'!AC27+'施設資源化量内訳(燃料化)'!AC27+'施設資源化量内訳(セメント)'!AC27+'施設資源化量内訳(資源化等)'!AC27","v":0},{"$f":"'施設資源化量内訳(焼却)'!AD27+'施設資源化量内訳(粗大)'!AD27+'施設資源化量内訳(堆肥化)'!AD27+'施設資源化量内訳(飼料化)'!AD27+'施設資源化量内訳(メタン化)'!AD27+'施設資源化量内訳(燃料化)'!AD27+'施設資源化量内訳(セメント)'!AD27+'施設資源化量内訳(資源化等)'!AD27","v":0},{"$f":"'施設資源化量内訳(焼却)'!AE27+'施設資源化量内訳(粗大)'!AE27+'施設資源化量内訳(堆肥化)'!AE27+'施設資源化量内訳(飼料化)'!AE27+'施設資源化量内訳(メタン化)'!AE27+'施設資源化量内訳(燃料化)'!AE27+'施設資源化量内訳(セメント)'!AE27+'施設資源化量内訳(資源化等)'!AE27","v":0},{"$f":"'施設資源化量内訳(焼却)'!AF27+'施設資源化量内訳(粗大)'!AF27+'施設資源化量内訳(堆肥化)'!AF27+'施設資源化量内訳(飼料化)'!AF27+'施設資源化量内訳(メタン化)'!AF27+'施設資源化量内訳(燃料化)'!AF27+'施設資源化量内訳(セメント)'!AF27+'施設資源化量内訳(資源化等)'!AF27","v":0},{"$f":"'施設資源化量内訳(焼却)'!AG27+'施設資源化量内訳(粗大)'!AG27+'施設資源化量内訳(堆肥化)'!AG27+'施設資源化量内訳(飼料化)'!AG27+'施設資源化量内訳(メタン化)'!AG27+'施設資源化量内訳(燃料化)'!AG27+'施設資源化量内訳(セメント)'!AG27+'施設資源化量内訳(資源化等)'!AG27","v":0}]
["秋田県","05366","井川町",{"$f":"SUM(E28:AG28)","v":0},0,0,0,0,0,0,0,0,0,0,0,0,0,0,0,0,0,0,0,0,0,0,0,0,0,0,0,0,0,{"$f":"SUM(AI28:BK28)","v":0},0,0,0,0,0,0,0,0,0,0,0,0,0,0,0,0,0,0,0,0,0,0,0,0,0,0,0,0,0,{"$f":"SUM(BM28:CO28)","v":0},{"$f":"'施設資源化量内訳(焼却)'!E28+'施設資源化量内訳(粗大)'!E28+'施設資源化量内訳(堆肥化)'!E28+'施設資源化量内訳(飼料化)'!E28+'施設資源化量内訳(メタン化)'!E28+'施設資源化量内訳(燃料化)'!E28+'施設資源化量内訳(セメント)'!E28+'施設資源化量内訳(資源化等)'!E28","v":0},{"$f":"'施設資源化量内訳(焼却)'!F28+'施設資源化量内訳(粗大)'!F28+'施設資源化量内訳(堆肥化)'!F28+'施設資源化量内訳(飼料化)'!F28+'施設資源化量内訳(メタン化)'!F28+'施設資源化量内訳(燃料化)'!F28+'施設資源化量内訳(セメント)'!F28+'施設資源化量内訳(資源化等)'!F28","v":0},{"$f":"'施設資源化量内訳(焼却)'!G28+'施設資源化量内訳(粗大)'!G28+'施設資源化量内訳(堆肥化)'!G28+'施設資源化量内訳(飼料化)'!G28+'施設資源化量内訳(メタン化)'!G28+'施設資源化量内訳(燃料化)'!G28+'施設資源化量内訳(セメント)'!G28+'施設資源化量内訳(資源化等)'!G28","v":0},{"$f":"'施設資源化量内訳(焼却)'!H28+'施設資源化量内訳(粗大)'!H28+'施設資源化量内訳(堆肥化)'!H28+'施設資源化量内訳(飼料化)'!H28+'施設資源化量内訳(メタン化)'!H28+'施設資源化量内訳(燃料化)'!H28+'施設資源化量内訳(セメント)'!H28+'施設資源化量内訳(資源化等)'!H28","v":0},{"$f":"'施設資源化量内訳(焼却)'!I28+'施設資源化量内訳(粗大)'!I28+'施設資源化量内訳(堆肥化)'!I28+'施設資源化量内訳(飼料化)'!I28+'施設資源化量内訳(メタン化)'!I28+'施設資源化量内訳(燃料化)'!I28+'施設資源化量内訳(セメント)'!I28+'施設資源化量内訳(資源化等)'!I28","v":0},{"$f":"'施設資源化量内訳(焼却)'!J28+'施設資源化量内訳(粗大)'!J28+'施設資源化量内訳(堆肥化)'!J28+'施設資源化量内訳(飼料化)'!J28+'施設資源化量内訳(メタン化)'!J28+'施設資源化量内訳(燃料化)'!J28+'施設資源化量内訳(セメント)'!J28+'施設資源化量内訳(資源化等)'!J28","v":0},{"$f":"'施設資源化量内訳(焼却)'!K28+'施設資源化量内訳(粗大)'!K28+'施設資源化量内訳(堆肥化)'!K28+'施設資源化量内訳(飼料化)'!K28+'施設資源化量内訳(メタン化)'!K28+'施設資源化量内訳(燃料化)'!K28+'施設資源化量内訳(セメント)'!K28+'施設資源化量内訳(資源化等)'!K28","v":0},{"$f":"'施設資源化量内訳(焼却)'!L28+'施設資源化量内訳(粗大)'!L28+'施設資源化量内訳(堆肥化)'!L28+'施設資源化量内訳(飼料化)'!L28+'施設資源化量内訳(メタン化)'!L28+'施設資源化量内訳(燃料化)'!L28+'施設資源化量内訳(セメント)'!L28+'施設資源化量内訳(資源化等)'!L28","v":0},{"$f":"'施設資源化量内訳(焼却)'!M28+'施設資源化量内訳(粗大)'!M28+'施設資源化量内訳(堆肥化)'!M28+'施設資源化量内訳(飼料化)'!M28+'施設資源化量内訳(メタン化)'!M28+'施設資源化量内訳(燃料化)'!M28+'施設資源化量内訳(セメント)'!M28+'施設資源化量内訳(資源化等)'!M28","v":0},{"$f":"'施設資源化量内訳(焼却)'!N28+'施設資源化量内訳(粗大)'!N28+'施設資源化量内訳(堆肥化)'!N28+'施設資源化量内訳(飼料化)'!N28+'施設資源化量内訳(メタン化)'!N28+'施設資源化量内訳(燃料化)'!N28+'施設資源化量内訳(セメント)'!N28+'施設資源化量内訳(資源化等)'!N28","v":0},{"$f":"'施設資源化量内訳(焼却)'!O28+'施設資源化量内訳(粗大)'!O28+'施設資源化量内訳(堆肥化)'!O28+'施設資源化量内訳(飼料化)'!O28+'施設資源化量内訳(メタン化)'!O28+'施設資源化量内訳(燃料化)'!O28+'施設資源化量内訳(セメント)'!O28+'施設資源化量内訳(資源化等)'!O28","v":0},{"$f":"'施設資源化量内訳(焼却)'!P28+'施設資源化量内訳(粗大)'!P28+'施設資源化量内訳(堆肥化)'!P28+'施設資源化量内訳(飼料化)'!P28+'施設資源化量内訳(メタン化)'!P28+'施設資源化量内訳(燃料化)'!P28+'施設資源化量内訳(セメント)'!P28+'施設資源化量内訳(資源化等)'!P28","v":0},{"$f":"'施設資源化量内訳(焼却)'!Q28+'施設資源化量内訳(粗大)'!Q28+'施設資源化量内訳(堆肥化)'!Q28+'施設資源化量内訳(飼料化)'!Q28+'施設資源化量内訳(メタン化)'!Q28+'施設資源化量内訳(燃料化)'!Q28+'施設資源化量内訳(セメント)'!Q28+'施設資源化量内訳(資源化等)'!Q28","v":0},{"$f":"'施設資源化量内訳(焼却)'!R28+'施設資源化量内訳(粗大)'!R28+'施設資源化量内訳(堆肥化)'!R28+'施設資源化量内訳(飼料化)'!R28+'施設資源化量内訳(メタン化)'!R28+'施設資源化量内訳(燃料化)'!R28+'施設資源化量内訳(セメント)'!R28+'施設資源化量内訳(資源化等)'!R28","v":0},{"$f":"'施設資源化量内訳(焼却)'!S28+'施設資源化量内訳(粗大)'!S28+'施設資源化量内訳(堆肥化)'!S28+'施設資源化量内訳(飼料化)'!S28+'施設資源化量内訳(メタン化)'!S28+'施設資源化量内訳(燃料化)'!S28+'施設資源化量内訳(セメント)'!S28+'施設資源化量内訳(資源化等)'!S28","v":0},{"$f":"'施設資源化量内訳(焼却)'!T28+'施設資源化量内訳(粗大)'!T28+'施設資源化量内訳(堆肥化)'!T28+'施設資源化量内訳(飼料化)'!T28+'施設資源化量内訳(メタン化)'!T28+'施設資源化量内訳(燃料化)'!T28+'施設資源化量内訳(セメント)'!T28+'施設資源化量内訳(資源化等)'!T28","v":0},{"$f":"'施設資源化量内訳(焼却)'!U28+'施設資源化量内訳(粗大)'!U28+'施設資源化量内訳(堆肥化)'!U28+'施設資源化量内訳(飼料化)'!U28+'施設資源化量内訳(メタン化)'!U28+'施設資源化量内訳(燃料化)'!U28+'施設資源化量内訳(セメント)'!U28+'施設資源化量内訳(資源化等)'!U28","v":0},{"$f":"'施設資源化量内訳(焼却)'!V28+'施設資源化量内訳(粗大)'!V28+'施設資源化量内訳(堆肥化)'!V28+'施設資源化量内訳(飼料化)'!V28+'施設資源化量内訳(メタン化)'!V28+'施設資源化量内訳(燃料化)'!V28+'施設資源化量内訳(セメント)'!V28+'施設資源化量内訳(資源化等)'!V28","v":0},{"$f":"'施設資源化量内訳(焼却)'!W28+'施設資源化量内訳(粗大)'!W28+'施設資源化量内訳(堆肥化)'!W28+'施設資源化量内訳(飼料化)'!W28+'施設資源化量内訳(メタン化)'!W28+'施設資源化量内訳(燃料化)'!W28+'施設資源化量内訳(セメント)'!W28+'施設資源化量内訳(資源化等)'!W28","v":0},{"$f":"'施設資源化量内訳(焼却)'!X28+'施設資源化量内訳(粗大)'!X28+'施設資源化量内訳(堆肥化)'!X28+'施設資源化量内訳(飼料化)'!X28+'施設資源化量内訳(メタン化)'!X28+'施設資源化量内訳(燃料化)'!X28+'施設資源化量内訳(セメント)'!X28+'施設資源化量内訳(資源化等)'!X28","v":0},{"$f":"'施設資源化量内訳(焼却)'!Y28+'施設資源化量内訳(粗大)'!Y28+'施設資源化量内訳(堆肥化)'!Y28+'施設資源化量内訳(飼料化)'!Y28+'施設資源化量内訳(メタン化)'!Y28+'施設資源化量内訳(燃料化)'!Y28+'施設資源化量内訳(セメント)'!Y28+'施設資源化量内訳(資源化等)'!Y28","v":0},{"$f":"'施設資源化量内訳(焼却)'!Z28+'施設資源化量内訳(粗大)'!Z28+'施設資源化量内訳(堆肥化)'!Z28+'施設資源化量内訳(飼料化)'!Z28+'施設資源化量内訳(メタン化)'!Z28+'施設資源化量内訳(燃料化)'!Z28+'施設資源化量内訳(セメント)'!Z28+'施設資源化量内訳(資源化等)'!Z28","v":0},{"$f":"'施設資源化量内訳(焼却)'!AA28+'施設資源化量内訳(粗大)'!AA28+'施設資源化量内訳(堆肥化)'!AA28+'施設資源化量内訳(飼料化)'!AA28+'施設資源化量内訳(メタン化)'!AA28+'施設資源化量内訳(燃料化)'!AA28+'施設資源化量内訳(セメント)'!AA28+'施設資源化量内訳(資源化等)'!AA28","v":0},{"$f":"'施設資源化量内訳(焼却)'!AB28+'施設資源化量内訳(粗大)'!AB28+'施設資源化量内訳(堆肥化)'!AB28+'施設資源化量内訳(飼料化)'!AB28+'施設資源化量内訳(メタン化)'!AB28+'施設資源化量内訳(燃料化)'!AB28+'施設資源化量内訳(セメント)'!AB28+'施設資源化量内訳(資源化等)'!AB28","v":0},{"$f":"'施設資源化量内訳(焼却)'!AC28+'施設資源化量内訳(粗大)'!AC28+'施設資源化量内訳(堆肥化)'!AC28+'施設資源化量内訳(飼料化)'!AC28+'施設資源化量内訳(メタン化)'!AC28+'施設資源化量内訳(燃料化)'!AC28+'施設資源化量内訳(セメント)'!AC28+'施設資源化量内訳(資源化等)'!AC28","v":0},{"$f":"'施設資源化量内訳(焼却)'!AD28+'施設資源化量内訳(粗大)'!AD28+'施設資源化量内訳(堆肥化)'!AD28+'施設資源化量内訳(飼料化)'!AD28+'施設資源化量内訳(メタン化)'!AD28+'施設資源化量内訳(燃料化)'!AD28+'施設資源化量内訳(セメント)'!AD28+'施設資源化量内訳(資源化等)'!AD28","v":0},{"$f":"'施設資源化量内訳(焼却)'!AE28+'施設資源化量内訳(粗大)'!AE28+'施設資源化量内訳(堆肥化)'!AE28+'施設資源化量内訳(飼料化)'!AE28+'施設資源化量内訳(メタン化)'!AE28+'施設資源化量内訳(燃料化)'!AE28+'施設資源化量内訳(セメント)'!AE28+'施設資源化量内訳(資源化等)'!AE28","v":0},{"$f":"'施設資源化量内訳(焼却)'!AF28+'施設資源化量内訳(粗大)'!AF28+'施設資源化量内訳(堆肥化)'!AF28+'施設資源化量内訳(飼料化)'!AF28+'施設資源化量内訳(メタン化)'!AF28+'施設資源化量内訳(燃料化)'!AF28+'施設資源化量内訳(セメント)'!AF28+'施設資源化量内訳(資源化等)'!AF28","v":0},{"$f":"'施設資源化量内訳(焼却)'!AG28+'施設資源化量内訳(粗大)'!AG28+'施設資源化量内訳(堆肥化)'!AG28+'施設資源化量内訳(飼料化)'!AG28+'施設資源化量内訳(メタン化)'!AG28+'施設資源化量内訳(燃料化)'!AG28+'施設資源化量内訳(セメント)'!AG28+'施設資源化量内訳(資源化等)'!AG28","v":0}]
["秋田県","05368","大潟村",{"$f":"SUM(E29:AG29)","v":0},0,0,0,0,0,0,0,0,0,0,0,0,0,0,0,0,0,0,0,0,0,0,0,0,0,0,0,0,0,{"$f":"SUM(AI29:BK29)","v":0},0,0,0,0,0,0,0,0,0,0,0,0,0,0,0,0,0,0,0,0,0,0,0,0,0,0,0,0,0,{"$f":"SUM(BM29:CO29)","v":0},{"$f":"'施設資源化量内訳(焼却)'!E29+'施設資源化量内訳(粗大)'!E29+'施設資源化量内訳(堆肥化)'!E29+'施設資源化量内訳(飼料化)'!E29+'施設資源化量内訳(メタン化)'!E29+'施設資源化量内訳(燃料化)'!E29+'施設資源化量内訳(セメント)'!E29+'施設資源化量内訳(資源化等)'!E29","v":0},{"$f":"'施設資源化量内訳(焼却)'!F29+'施設資源化量内訳(粗大)'!F29+'施設資源化量内訳(堆肥化)'!F29+'施設資源化量内訳(飼料化)'!F29+'施設資源化量内訳(メタン化)'!F29+'施設資源化量内訳(燃料化)'!F29+'施設資源化量内訳(セメント)'!F29+'施設資源化量内訳(資源化等)'!F29","v":0},{"$f":"'施設資源化量内訳(焼却)'!G29+'施設資源化量内訳(粗大)'!G29+'施設資源化量内訳(堆肥化)'!G29+'施設資源化量内訳(飼料化)'!G29+'施設資源化量内訳(メタン化)'!G29+'施設資源化量内訳(燃料化)'!G29+'施設資源化量内訳(セメント)'!G29+'施設資源化量内訳(資源化等)'!G29","v":0},{"$f":"'施設資源化量内訳(焼却)'!H29+'施設資源化量内訳(粗大)'!H29+'施設資源化量内訳(堆肥化)'!H29+'施設資源化量内訳(飼料化)'!H29+'施設資源化量内訳(メタン化)'!H29+'施設資源化量内訳(燃料化)'!H29+'施設資源化量内訳(セメント)'!H29+'施設資源化量内訳(資源化等)'!H29","v":0},{"$f":"'施設資源化量内訳(焼却)'!I29+'施設資源化量内訳(粗大)'!I29+'施設資源化量内訳(堆肥化)'!I29+'施設資源化量内訳(飼料化)'!I29+'施設資源化量内訳(メタン化)'!I29+'施設資源化量内訳(燃料化)'!I29+'施設資源化量内訳(セメント)'!I29+'施設資源化量内訳(資源化等)'!I29","v":0},{"$f":"'施設資源化量内訳(焼却)'!J29+'施設資源化量内訳(粗大)'!J29+'施設資源化量内訳(堆肥化)'!J29+'施設資源化量内訳(飼料化)'!J29+'施設資源化量内訳(メタン化)'!J29+'施設資源化量内訳(燃料化)'!J29+'施設資源化量内訳(セメント)'!J29+'施設資源化量内訳(資源化等)'!J29","v":0},{"$f":"'施設資源化量内訳(焼却)'!K29+'施設資源化量内訳(粗大)'!K29+'施設資源化量内訳(堆肥化)'!K29+'施設資源化量内訳(飼料化)'!K29+'施設資源化量内訳(メタン化)'!K29+'施設資源化量内訳(燃料化)'!K29+'施設資源化量内訳(セメント)'!K29+'施設資源化量内訳(資源化等)'!K29","v":0},{"$f":"'施設資源化量内訳(焼却)'!L29+'施設資源化量内訳(粗大)'!L29+'施設資源化量内訳(堆肥化)'!L29+'施設資源化量内訳(飼料化)'!L29+'施設資源化量内訳(メタン化)'!L29+'施設資源化量内訳(燃料化)'!L29+'施設資源化量内訳(セメント)'!L29+'施設資源化量内訳(資源化等)'!L29","v":0},{"$f":"'施設資源化量内訳(焼却)'!M29+'施設資源化量内訳(粗大)'!M29+'施設資源化量内訳(堆肥化)'!M29+'施設資源化量内訳(飼料化)'!M29+'施設資源化量内訳(メタン化)'!M29+'施設資源化量内訳(燃料化)'!M29+'施設資源化量内訳(セメント)'!M29+'施設資源化量内訳(資源化等)'!M29","v":0},{"$f":"'施設資源化量内訳(焼却)'!N29+'施設資源化量内訳(粗大)'!N29+'施設資源化量内訳(堆肥化)'!N29+'施設資源化量内訳(飼料化)'!N29+'施設資源化量内訳(メタン化)'!N29+'施設資源化量内訳(燃料化)'!N29+'施設資源化量内訳(セメント)'!N29+'施設資源化量内訳(資源化等)'!N29","v":0},{"$f":"'施設資源化量内訳(焼却)'!O29+'施設資源化量内訳(粗大)'!O29+'施設資源化量内訳(堆肥化)'!O29+'施設資源化量内訳(飼料化)'!O29+'施設資源化量内訳(メタン化)'!O29+'施設資源化量内訳(燃料化)'!O29+'施設資源化量内訳(セメント)'!O29+'施設資源化量内訳(資源化等)'!O29","v":0},{"$f":"'施設資源化量内訳(焼却)'!P29+'施設資源化量内訳(粗大)'!P29+'施設資源化量内訳(堆肥化)'!P29+'施設資源化量内訳(飼料化)'!P29+'施設資源化量内訳(メタン化)'!P29+'施設資源化量内訳(燃料化)'!P29+'施設資源化量内訳(セメント)'!P29+'施設資源化量内訳(資源化等)'!P29","v":0},{"$f":"'施設資源化量内訳(焼却)'!Q29+'施設資源化量内訳(粗大)'!Q29+'施設資源化量内訳(堆肥化)'!Q29+'施設資源化量内訳(飼料化)'!Q29+'施設資源化量内訳(メタン化)'!Q29+'施設資源化量内訳(燃料化)'!Q29+'施設資源化量内訳(セメント)'!Q29+'施設資源化量内訳(資源化等)'!Q29","v":0},{"$f":"'施設資源化量内訳(焼却)'!R29+'施設資源化量内訳(粗大)'!R29+'施設資源化量内訳(堆肥化)'!R29+'施設資源化量内訳(飼料化)'!R29+'施設資源化量内訳(メタン化)'!R29+'施設資源化量内訳(燃料化)'!R29+'施設資源化量内訳(セメント)'!R29+'施設資源化量内訳(資源化等)'!R29","v":0},{"$f":"'施設資源化量内訳(焼却)'!S29+'施設資源化量内訳(粗大)'!S29+'施設資源化量内訳(堆肥化)'!S29+'施設資源化量内訳(飼料化)'!S29+'施設資源化量内訳(メタン化)'!S29+'施設資源化量内訳(燃料化)'!S29+'施設資源化量内訳(セメント)'!S29+'施設資源化量内訳(資源化等)'!S29","v":0},{"$f":"'施設資源化量内訳(焼却)'!T29+'施設資源化量内訳(粗大)'!T29+'施設資源化量内訳(堆肥化)'!T29+'施設資源化量内訳(飼料化)'!T29+'施設資源化量内訳(メタン化)'!T29+'施設資源化量内訳(燃料化)'!T29+'施設資源化量内訳(セメント)'!T29+'施設資源化量内訳(資源化等)'!T29","v":0},{"$f":"'施設資源化量内訳(焼却)'!U29+'施設資源化量内訳(粗大)'!U29+'施設資源化量内訳(堆肥化)'!U29+'施設資源化量内訳(飼料化)'!U29+'施設資源化量内訳(メタン化)'!U29+'施設資源化量内訳(燃料化)'!U29+'施設資源化量内訳(セメント)'!U29+'施設資源化量内訳(資源化等)'!U29","v":0},{"$f":"'施設資源化量内訳(焼却)'!V29+'施設資源化量内訳(粗大)'!V29+'施設資源化量内訳(堆肥化)'!V29+'施設資源化量内訳(飼料化)'!V29+'施設資源化量内訳(メタン化)'!V29+'施設資源化量内訳(燃料化)'!V29+'施設資源化量内訳(セメント)'!V29+'施設資源化量内訳(資源化等)'!V29","v":0},{"$f":"'施設資源化量内訳(焼却)'!W29+'施設資源化量内訳(粗大)'!W29+'施設資源化量内訳(堆肥化)'!W29+'施設資源化量内訳(飼料化)'!W29+'施設資源化量内訳(メタン化)'!W29+'施設資源化量内訳(燃料化)'!W29+'施設資源化量内訳(セメント)'!W29+'施設資源化量内訳(資源化等)'!W29","v":0},{"$f":"'施設資源化量内訳(焼却)'!X29+'施設資源化量内訳(粗大)'!X29+'施設資源化量内訳(堆肥化)'!X29+'施設資源化量内訳(飼料化)'!X29+'施設資源化量内訳(メタン化)'!X29+'施設資源化量内訳(燃料化)'!X29+'施設資源化量内訳(セメント)'!X29+'施設資源化量内訳(資源化等)'!X29","v":0},{"$f":"'施設資源化量内訳(焼却)'!Y29+'施設資源化量内訳(粗大)'!Y29+'施設資源化量内訳(堆肥化)'!Y29+'施設資源化量内訳(飼料化)'!Y29+'施設資源化量内訳(メタン化)'!Y29+'施設資源化量内訳(燃料化)'!Y29+'施設資源化量内訳(セメント)'!Y29+'施設資源化量内訳(資源化等)'!Y29","v":0},{"$f":"'施設資源化量内訳(焼却)'!Z29+'施設資源化量内訳(粗大)'!Z29+'施設資源化量内訳(堆肥化)'!Z29+'施設資源化量内訳(飼料化)'!Z29+'施設資源化量内訳(メタン化)'!Z29+'施設資源化量内訳(燃料化)'!Z29+'施設資源化量内訳(セメント)'!Z29+'施設資源化量内訳(資源化等)'!Z29","v":0},{"$f":"'施設資源化量内訳(焼却)'!AA29+'施設資源化量内訳(粗大)'!AA29+'施設資源化量内訳(堆肥化)'!AA29+'施設資源化量内訳(飼料化)'!AA29+'施設資源化量内訳(メタン化)'!AA29+'施設資源化量内訳(燃料化)'!AA29+'施設資源化量内訳(セメント)'!AA29+'施設資源化量内訳(資源化等)'!AA29","v":0},{"$f":"'施設資源化量内訳(焼却)'!AB29+'施設資源化量内訳(粗大)'!AB29+'施設資源化量内訳(堆肥化)'!AB29+'施設資源化量内訳(飼料化)'!AB29+'施設資源化量内訳(メタン化)'!AB29+'施設資源化量内訳(燃料化)'!AB29+'施設資源化量内訳(セメント)'!AB29+'施設資源化量内訳(資源化等)'!AB29","v":0},{"$f":"'施設資源化量内訳(焼却)'!AC29+'施設資源化量内訳(粗大)'!AC29+'施設資源化量内訳(堆肥化)'!AC29+'施設資源化量内訳(飼料化)'!AC29+'施設資源化量内訳(メタン化)'!AC29+'施設資源化量内訳(燃料化)'!AC29+'施設資源化量内訳(セメント)'!AC29+'施設資源化量内訳(資源化等)'!AC29","v":0},{"$f":"'施設資源化量内訳(焼却)'!AD29+'施設資源化量内訳(粗大)'!AD29+'施設資源化量内訳(堆肥化)'!AD29+'施設資源化量内訳(飼料化)'!AD29+'施設資源化量内訳(メタン化)'!AD29+'施設資源化量内訳(燃料化)'!AD29+'施設資源化量内訳(セメント)'!AD29+'施設資源化量内訳(資源化等)'!AD29","v":0},{"$f":"'施設資源化量内訳(焼却)'!AE29+'施設資源化量内訳(粗大)'!AE29+'施設資源化量内訳(堆肥化)'!AE29+'施設資源化量内訳(飼料化)'!AE29+'施設資源化量内訳(メタン化)'!AE29+'施設資源化量内訳(燃料化)'!AE29+'施設資源化量内訳(セメント)'!AE29+'施設資源化量内訳(資源化等)'!AE29","v":0},{"$f":"'施設資源化量内訳(焼却)'!AF29+'施設資源化量内訳(粗大)'!AF29+'施設資源化量内訳(堆肥化)'!AF29+'施設資源化量内訳(飼料化)'!AF29+'施設資源化量内訳(メタン化)'!AF29+'施設資源化量内訳(燃料化)'!AF29+'施設資源化量内訳(セメント)'!AF29+'施設資源化量内訳(資源化等)'!AF29","v":0},{"$f":"'施設資源化量内訳(焼却)'!AG29+'施設資源化量内訳(粗大)'!AG29+'施設資源化量内訳(堆肥化)'!AG29+'施設資源化量内訳(飼料化)'!AG29+'施設資源化量内訳(メタン化)'!AG29+'施設資源化量内訳(燃料化)'!AG29+'施設資源化量内訳(セメント)'!AG29+'施設資源化量内訳(資源化等)'!AG29","v":0}]
["秋田県","05434","美郷町",{"$f":"SUM(E30:AG30)","v":0},0,0,0,0,0,0,0,0,0,0,0,0,0,0,0,0,0,0,0,0,0,0,0,0,0,0,0,0,0,{"$f":"SUM(AI30:BK30)","v":0},0,0,0,0,0,0,0,0,0,0,0,0,0,0,0,0,0,0,0,0,0,0,0,0,0,0,0,0,0,{"$f":"SUM(BM30:CO30)","v":0},{"$f":"'施設資源化量内訳(焼却)'!E30+'施設資源化量内訳(粗大)'!E30+'施設資源化量内訳(堆肥化)'!E30+'施設資源化量内訳(飼料化)'!E30+'施設資源化量内訳(メタン化)'!E30+'施設資源化量内訳(燃料化)'!E30+'施設資源化量内訳(セメント)'!E30+'施設資源化量内訳(資源化等)'!E30","v":0},{"$f":"'施設資源化量内訳(焼却)'!F30+'施設資源化量内訳(粗大)'!F30+'施設資源化量内訳(堆肥化)'!F30+'施設資源化量内訳(飼料化)'!F30+'施設資源化量内訳(メタン化)'!F30+'施設資源化量内訳(燃料化)'!F30+'施設資源化量内訳(セメント)'!F30+'施設資源化量内訳(資源化等)'!F30","v":0},{"$f":"'施設資源化量内訳(焼却)'!G30+'施設資源化量内訳(粗大)'!G30+'施設資源化量内訳(堆肥化)'!G30+'施設資源化量内訳(飼料化)'!G30+'施設資源化量内訳(メタン化)'!G30+'施設資源化量内訳(燃料化)'!G30+'施設資源化量内訳(セメント)'!G30+'施設資源化量内訳(資源化等)'!G30","v":0},{"$f":"'施設資源化量内訳(焼却)'!H30+'施設資源化量内訳(粗大)'!H30+'施設資源化量内訳(堆肥化)'!H30+'施設資源化量内訳(飼料化)'!H30+'施設資源化量内訳(メタン化)'!H30+'施設資源化量内訳(燃料化)'!H30+'施設資源化量内訳(セメント)'!H30+'施設資源化量内訳(資源化等)'!H30","v":0},{"$f":"'施設資源化量内訳(焼却)'!I30+'施設資源化量内訳(粗大)'!I30+'施設資源化量内訳(堆肥化)'!I30+'施設資源化量内訳(飼料化)'!I30+'施設資源化量内訳(メタン化)'!I30+'施設資源化量内訳(燃料化)'!I30+'施設資源化量内訳(セメント)'!I30+'施設資源化量内訳(資源化等)'!I30","v":0},{"$f":"'施設資源化量内訳(焼却)'!J30+'施設資源化量内訳(粗大)'!J30+'施設資源化量内訳(堆肥化)'!J30+'施設資源化量内訳(飼料化)'!J30+'施設資源化量内訳(メタン化)'!J30+'施設資源化量内訳(燃料化)'!J30+'施設資源化量内訳(セメント)'!J30+'施設資源化量内訳(資源化等)'!J30","v":0},{"$f":"'施設資源化量内訳(焼却)'!K30+'施設資源化量内訳(粗大)'!K30+'施設資源化量内訳(堆肥化)'!K30+'施設資源化量内訳(飼料化)'!K30+'施設資源化量内訳(メタン化)'!K30+'施設資源化量内訳(燃料化)'!K30+'施設資源化量内訳(セメント)'!K30+'施設資源化量内訳(資源化等)'!K30","v":0},{"$f":"'施設資源化量内訳(焼却)'!L30+'施設資源化量内訳(粗大)'!L30+'施設資源化量内訳(堆肥化)'!L30+'施設資源化量内訳(飼料化)'!L30+'施設資源化量内訳(メタン化)'!L30+'施設資源化量内訳(燃料化)'!L30+'施設資源化量内訳(セメント)'!L30+'施設資源化量内訳(資源化等)'!L30","v":0},{"$f":"'施設資源化量内訳(焼却)'!M30+'施設資源化量内訳(粗大)'!M30+'施設資源化量内訳(堆肥化)'!M30+'施設資源化量内訳(飼料化)'!M30+'施設資源化量内訳(メタン化)'!M30+'施設資源化量内訳(燃料化)'!M30+'施設資源化量内訳(セメント)'!M30+'施設資源化量内訳(資源化等)'!M30","v":0},{"$f":"'施設資源化量内訳(焼却)'!N30+'施設資源化量内訳(粗大)'!N30+'施設資源化量内訳(堆肥化)'!N30+'施設資源化量内訳(飼料化)'!N30+'施設資源化量内訳(メタン化)'!N30+'施設資源化量内訳(燃料化)'!N30+'施設資源化量内訳(セメント)'!N30+'施設資源化量内訳(資源化等)'!N30","v":0},{"$f":"'施設資源化量内訳(焼却)'!O30+'施設資源化量内訳(粗大)'!O30+'施設資源化量内訳(堆肥化)'!O30+'施設資源化量内訳(飼料化)'!O30+'施設資源化量内訳(メタン化)'!O30+'施設資源化量内訳(燃料化)'!O30+'施設資源化量内訳(セメント)'!O30+'施設資源化量内訳(資源化等)'!O30","v":0},{"$f":"'施設資源化量内訳(焼却)'!P30+'施設資源化量内訳(粗大)'!P30+'施設資源化量内訳(堆肥化)'!P30+'施設資源化量内訳(飼料化)'!P30+'施設資源化量内訳(メタン化)'!P30+'施設資源化量内訳(燃料化)'!P30+'施設資源化量内訳(セメント)'!P30+'施設資源化量内訳(資源化等)'!P30","v":0},{"$f":"'施設資源化量内訳(焼却)'!Q30+'施設資源化量内訳(粗大)'!Q30+'施設資源化量内訳(堆肥化)'!Q30+'施設資源化量内訳(飼料化)'!Q30+'施設資源化量内訳(メタン化)'!Q30+'施設資源化量内訳(燃料化)'!Q30+'施設資源化量内訳(セメント)'!Q30+'施設資源化量内訳(資源化等)'!Q30","v":0},{"$f":"'施設資源化量内訳(焼却)'!R30+'施設資源化量内訳(粗大)'!R30+'施設資源化量内訳(堆肥化)'!R30+'施設資源化量内訳(飼料化)'!R30+'施設資源化量内訳(メタン化)'!R30+'施設資源化量内訳(燃料化)'!R30+'施設資源化量内訳(セメント)'!R30+'施設資源化量内訳(資源化等)'!R30","v":0},{"$f":"'施設資源化量内訳(焼却)'!S30+'施設資源化量内訳(粗大)'!S30+'施設資源化量内訳(堆肥化)'!S30+'施設資源化量内訳(飼料化)'!S30+'施設資源化量内訳(メタン化)'!S30+'施設資源化量内訳(燃料化)'!S30+'施設資源化量内訳(セメント)'!S30+'施設資源化量内訳(資源化等)'!S30","v":0},{"$f":"'施設資源化量内訳(焼却)'!T30+'施設資源化量内訳(粗大)'!T30+'施設資源化量内訳(堆肥化)'!T30+'施設資源化量内訳(飼料化)'!T30+'施設資源化量内訳(メタン化)'!T30+'施設資源化量内訳(燃料化)'!T30+'施設資源化量内訳(セメント)'!T30+'施設資源化量内訳(資源化等)'!T30","v":0},{"$f":"'施設資源化量内訳(焼却)'!U30+'施設資源化量内訳(粗大)'!U30+'施設資源化量内訳(堆肥化)'!U30+'施設資源化量内訳(飼料化)'!U30+'施設資源化量内訳(メタン化)'!U30+'施設資源化量内訳(燃料化)'!U30+'施設資源化量内訳(セメント)'!U30+'施設資源化量内訳(資源化等)'!U30","v":0},{"$f":"'施設資源化量内訳(焼却)'!V30+'施設資源化量内訳(粗大)'!V30+'施設資源化量内訳(堆肥化)'!V30+'施設資源化量内訳(飼料化)'!V30+'施設資源化量内訳(メタン化)'!V30+'施設資源化量内訳(燃料化)'!V30+'施設資源化量内訳(セメント)'!V30+'施設資源化量内訳(資源化等)'!V30","v":0},{"$f":"'施設資源化量内訳(焼却)'!W30+'施設資源化量内訳(粗大)'!W30+'施設資源化量内訳(堆肥化)'!W30+'施設資源化量内訳(飼料化)'!W30+'施設資源化量内訳(メタン化)'!W30+'施設資源化量内訳(燃料化)'!W30+'施設資源化量内訳(セメント)'!W30+'施設資源化量内訳(資源化等)'!W30","v":0},{"$f":"'施設資源化量内訳(焼却)'!X30+'施設資源化量内訳(粗大)'!X30+'施設資源化量内訳(堆肥化)'!X30+'施設資源化量内訳(飼料化)'!X30+'施設資源化量内訳(メタン化)'!X30+'施設資源化量内訳(燃料化)'!X30+'施設資源化量内訳(セメント)'!X30+'施設資源化量内訳(資源化等)'!X30","v":0},{"$f":"'施設資源化量内訳(焼却)'!Y30+'施設資源化量内訳(粗大)'!Y30+'施設資源化量内訳(堆肥化)'!Y30+'施設資源化量内訳(飼料化)'!Y30+'施設資源化量内訳(メタン化)'!Y30+'施設資源化量内訳(燃料化)'!Y30+'施設資源化量内訳(セメント)'!Y30+'施設資源化量内訳(資源化等)'!Y30","v":0},{"$f":"'施設資源化量内訳(焼却)'!Z30+'施設資源化量内訳(粗大)'!Z30+'施設資源化量内訳(堆肥化)'!Z30+'施設資源化量内訳(飼料化)'!Z30+'施設資源化量内訳(メタン化)'!Z30+'施設資源化量内訳(燃料化)'!Z30+'施設資源化量内訳(セメント)'!Z30+'施設資源化量内訳(資源化等)'!Z30","v":0},{"$f":"'施設資源化量内訳(焼却)'!AA30+'施設資源化量内訳(粗大)'!AA30+'施設資源化量内訳(堆肥化)'!AA30+'施設資源化量内訳(飼料化)'!AA30+'施設資源化量内訳(メタン化)'!AA30+'施設資源化量内訳(燃料化)'!AA30+'施設資源化量内訳(セメント)'!AA30+'施設資源化量内訳(資源化等)'!AA30","v":0},{"$f":"'施設資源化量内訳(焼却)'!AB30+'施設資源化量内訳(粗大)'!AB30+'施設資源化量内訳(堆肥化)'!AB30+'施設資源化量内訳(飼料化)'!AB30+'施設資源化量内訳(メタン化)'!AB30+'施設資源化量内訳(燃料化)'!AB30+'施設資源化量内訳(セメント)'!AB30+'施設資源化量内訳(資源化等)'!AB30","v":0},{"$f":"'施設資源化量内訳(焼却)'!AC30+'施設資源化量内訳(粗大)'!AC30+'施設資源化量内訳(堆肥化)'!AC30+'施設資源化量内訳(飼料化)'!AC30+'施設資源化量内訳(メタン化)'!AC30+'施設資源化量内訳(燃料化)'!AC30+'施設資源化量内訳(セメント)'!AC30+'施設資源化量内訳(資源化等)'!AC30","v":0},{"$f":"'施設資源化量内訳(焼却)'!AD30+'施設資源化量内訳(粗大)'!AD30+'施設資源化量内訳(堆肥化)'!AD30+'施設資源化量内訳(飼料化)'!AD30+'施設資源化量内訳(メタン化)'!AD30+'施設資源化量内訳(燃料化)'!AD30+'施設資源化量内訳(セメント)'!AD30+'施設資源化量内訳(資源化等)'!AD30","v":0},{"$f":"'施設資源化量内訳(焼却)'!AE30+'施設資源化量内訳(粗大)'!AE30+'施設資源化量内訳(堆肥化)'!AE30+'施設資源化量内訳(飼料化)'!AE30+'施設資源化量内訳(メタン化)'!AE30+'施設資源化量内訳(燃料化)'!AE30+'施設資源化量内訳(セメント)'!AE30+'施設資源化量内訳(資源化等)'!AE30","v":0},{"$f":"'施設資源化量内訳(焼却)'!AF30+'施設資源化量内訳(粗大)'!AF30+'施設資源化量内訳(堆肥化)'!AF30+'施設資源化量内訳(飼料化)'!AF30+'施設資源化量内訳(メタン化)'!AF30+'施設資源化量内訳(燃料化)'!AF30+'施設資源化量内訳(セメント)'!AF30+'施設資源化量内訳(資源化等)'!AF30","v":0},{"$f":"'施設資源化量内訳(焼却)'!AG30+'施設資源化量内訳(粗大)'!AG30+'施設資源化量内訳(堆肥化)'!AG30+'施設資源化量内訳(飼料化)'!AG30+'施設資源化量内訳(メタン化)'!AG30+'施設資源化量内訳(燃料化)'!AG30+'施設資源化量内訳(セメント)'!AG30+'施設資源化量内訳(資源化等)'!AG30","v":0}]
["秋田県","05463","羽後町",{"$f":"SUM(E31:AG31)","v":0},0,0,0,0,0,0,0,0,0,0,0,0,0,0,0,0,0,0,0,0,0,0,0,0,0,0,0,0,0,{"$f":"SUM(AI31:BK31)","v":0},0,0,0,0,0,0,0,0,0,0,0,0,0,0,0,0,0,0,0,0,0,0,0,0,0,0,0,0,0,{"$f":"SUM(BM31:CO31)","v":0},{"$f":"'施設資源化量内訳(焼却)'!E31+'施設資源化量内訳(粗大)'!E31+'施設資源化量内訳(堆肥化)'!E31+'施設資源化量内訳(飼料化)'!E31+'施設資源化量内訳(メタン化)'!E31+'施設資源化量内訳(燃料化)'!E31+'施設資源化量内訳(セメント)'!E31+'施設資源化量内訳(資源化等)'!E31","v":0},{"$f":"'施設資源化量内訳(焼却)'!F31+'施設資源化量内訳(粗大)'!F31+'施設資源化量内訳(堆肥化)'!F31+'施設資源化量内訳(飼料化)'!F31+'施設資源化量内訳(メタン化)'!F31+'施設資源化量内訳(燃料化)'!F31+'施設資源化量内訳(セメント)'!F31+'施設資源化量内訳(資源化等)'!F31","v":0},{"$f":"'施設資源化量内訳(焼却)'!G31+'施設資源化量内訳(粗大)'!G31+'施設資源化量内訳(堆肥化)'!G31+'施設資源化量内訳(飼料化)'!G31+'施設資源化量内訳(メタン化)'!G31+'施設資源化量内訳(燃料化)'!G31+'施設資源化量内訳(セメント)'!G31+'施設資源化量内訳(資源化等)'!G31","v":0},{"$f":"'施設資源化量内訳(焼却)'!H31+'施設資源化量内訳(粗大)'!H31+'施設資源化量内訳(堆肥化)'!H31+'施設資源化量内訳(飼料化)'!H31+'施設資源化量内訳(メタン化)'!H31+'施設資源化量内訳(燃料化)'!H31+'施設資源化量内訳(セメント)'!H31+'施設資源化量内訳(資源化等)'!H31","v":0},{"$f":"'施設資源化量内訳(焼却)'!I31+'施設資源化量内訳(粗大)'!I31+'施設資源化量内訳(堆肥化)'!I31+'施設資源化量内訳(飼料化)'!I31+'施設資源化量内訳(メタン化)'!I31+'施設資源化量内訳(燃料化)'!I31+'施設資源化量内訳(セメント)'!I31+'施設資源化量内訳(資源化等)'!I31","v":0},{"$f":"'施設資源化量内訳(焼却)'!J31+'施設資源化量内訳(粗大)'!J31+'施設資源化量内訳(堆肥化)'!J31+'施設資源化量内訳(飼料化)'!J31+'施設資源化量内訳(メタン化)'!J31+'施設資源化量内訳(燃料化)'!J31+'施設資源化量内訳(セメント)'!J31+'施設資源化量内訳(資源化等)'!J31","v":0},{"$f":"'施設資源化量内訳(焼却)'!K31+'施設資源化量内訳(粗大)'!K31+'施設資源化量内訳(堆肥化)'!K31+'施設資源化量内訳(飼料化)'!K31+'施設資源化量内訳(メタン化)'!K31+'施設資源化量内訳(燃料化)'!K31+'施設資源化量内訳(セメント)'!K31+'施設資源化量内訳(資源化等)'!K31","v":0},{"$f":"'施設資源化量内訳(焼却)'!L31+'施設資源化量内訳(粗大)'!L31+'施設資源化量内訳(堆肥化)'!L31+'施設資源化量内訳(飼料化)'!L31+'施設資源化量内訳(メタン化)'!L31+'施設資源化量内訳(燃料化)'!L31+'施設資源化量内訳(セメント)'!L31+'施設資源化量内訳(資源化等)'!L31","v":0},{"$f":"'施設資源化量内訳(焼却)'!M31+'施設資源化量内訳(粗大)'!M31+'施設資源化量内訳(堆肥化)'!M31+'施設資源化量内訳(飼料化)'!M31+'施設資源化量内訳(メタン化)'!M31+'施設資源化量内訳(燃料化)'!M31+'施設資源化量内訳(セメント)'!M31+'施設資源化量内訳(資源化等)'!M31","v":0},{"$f":"'施設資源化量内訳(焼却)'!N31+'施設資源化量内訳(粗大)'!N31+'施設資源化量内訳(堆肥化)'!N31+'施設資源化量内訳(飼料化)'!N31+'施設資源化量内訳(メタン化)'!N31+'施設資源化量内訳(燃料化)'!N31+'施設資源化量内訳(セメント)'!N31+'施設資源化量内訳(資源化等)'!N31","v":0},{"$f":"'施設資源化量内訳(焼却)'!O31+'施設資源化量内訳(粗大)'!O31+'施設資源化量内訳(堆肥化)'!O31+'施設資源化量内訳(飼料化)'!O31+'施設資源化量内訳(メタン化)'!O31+'施設資源化量内訳(燃料化)'!O31+'施設資源化量内訳(セメント)'!O31+'施設資源化量内訳(資源化等)'!O31","v":0},{"$f":"'施設資源化量内訳(焼却)'!P31+'施設資源化量内訳(粗大)'!P31+'施設資源化量内訳(堆肥化)'!P31+'施設資源化量内訳(飼料化)'!P31+'施設資源化量内訳(メタン化)'!P31+'施設資源化量内訳(燃料化)'!P31+'施設資源化量内訳(セメント)'!P31+'施設資源化量内訳(資源化等)'!P31","v":0},{"$f":"'施設資源化量内訳(焼却)'!Q31+'施設資源化量内訳(粗大)'!Q31+'施設資源化量内訳(堆肥化)'!Q31+'施設資源化量内訳(飼料化)'!Q31+'施設資源化量内訳(メタン化)'!Q31+'施設資源化量内訳(燃料化)'!Q31+'施設資源化量内訳(セメント)'!Q31+'施設資源化量内訳(資源化等)'!Q31","v":0},{"$f":"'施設資源化量内訳(焼却)'!R31+'施設資源化量内訳(粗大)'!R31+'施設資源化量内訳(堆肥化)'!R31+'施設資源化量内訳(飼料化)'!R31+'施設資源化量内訳(メタン化)'!R31+'施設資源化量内訳(燃料化)'!R31+'施設資源化量内訳(セメント)'!R31+'施設資源化量内訳(資源化等)'!R31","v":0},{"$f":"'施設資源化量内訳(焼却)'!S31+'施設資源化量内訳(粗大)'!S31+'施設資源化量内訳(堆肥化)'!S31+'施設資源化量内訳(飼料化)'!S31+'施設資源化量内訳(メタン化)'!S31+'施設資源化量内訳(燃料化)'!S31+'施設資源化量内訳(セメント)'!S31+'施設資源化量内訳(資源化等)'!S31","v":0},{"$f":"'施設資源化量内訳(焼却)'!T31+'施設資源化量内訳(粗大)'!T31+'施設資源化量内訳(堆肥化)'!T31+'施設資源化量内訳(飼料化)'!T31+'施設資源化量内訳(メタン化)'!T31+'施設資源化量内訳(燃料化)'!T31+'施設資源化量内訳(セメント)'!T31+'施設資源化量内訳(資源化等)'!T31","v":0},{"$f":"'施設資源化量内訳(焼却)'!U31+'施設資源化量内訳(粗大)'!U31+'施設資源化量内訳(堆肥化)'!U31+'施設資源化量内訳(飼料化)'!U31+'施設資源化量内訳(メタン化)'!U31+'施設資源化量内訳(燃料化)'!U31+'施設資源化量内訳(セメント)'!U31+'施設資源化量内訳(資源化等)'!U31","v":0},{"$f":"'施設資源化量内訳(焼却)'!V31+'施設資源化量内訳(粗大)'!V31+'施設資源化量内訳(堆肥化)'!V31+'施設資源化量内訳(飼料化)'!V31+'施設資源化量内訳(メタン化)'!V31+'施設資源化量内訳(燃料化)'!V31+'施設資源化量内訳(セメント)'!V31+'施設資源化量内訳(資源化等)'!V31","v":0},{"$f":"'施設資源化量内訳(焼却)'!W31+'施設資源化量内訳(粗大)'!W31+'施設資源化量内訳(堆肥化)'!W31+'施設資源化量内訳(飼料化)'!W31+'施設資源化量内訳(メタン化)'!W31+'施設資源化量内訳(燃料化)'!W31+'施設資源化量内訳(セメント)'!W31+'施設資源化量内訳(資源化等)'!W31","v":0},{"$f":"'施設資源化量内訳(焼却)'!X31+'施設資源化量内訳(粗大)'!X31+'施設資源化量内訳(堆肥化)'!X31+'施設資源化量内訳(飼料化)'!X31+'施設資源化量内訳(メタン化)'!X31+'施設資源化量内訳(燃料化)'!X31+'施設資源化量内訳(セメント)'!X31+'施設資源化量内訳(資源化等)'!X31","v":0},{"$f":"'施設資源化量内訳(焼却)'!Y31+'施設資源化量内訳(粗大)'!Y31+'施設資源化量内訳(堆肥化)'!Y31+'施設資源化量内訳(飼料化)'!Y31+'施設資源化量内訳(メタン化)'!Y31+'施設資源化量内訳(燃料化)'!Y31+'施設資源化量内訳(セメント)'!Y31+'施設資源化量内訳(資源化等)'!Y31","v":0},{"$f":"'施設資源化量内訳(焼却)'!Z31+'施設資源化量内訳(粗大)'!Z31+'施設資源化量内訳(堆肥化)'!Z31+'施設資源化量内訳(飼料化)'!Z31+'施設資源化量内訳(メタン化)'!Z31+'施設資源化量内訳(燃料化)'!Z31+'施設資源化量内訳(セメント)'!Z31+'施設資源化量内訳(資源化等)'!Z31","v":0},{"$f":"'施設資源化量内訳(焼却)'!AA31+'施設資源化量内訳(粗大)'!AA31+'施設資源化量内訳(堆肥化)'!AA31+'施設資源化量内訳(飼料化)'!AA31+'施設資源化量内訳(メタン化)'!AA31+'施設資源化量内訳(燃料化)'!AA31+'施設資源化量内訳(セメント)'!AA31+'施設資源化量内訳(資源化等)'!AA31","v":0},{"$f":"'施設資源化量内訳(焼却)'!AB31+'施設資源化量内訳(粗大)'!AB31+'施設資源化量内訳(堆肥化)'!AB31+'施設資源化量内訳(飼料化)'!AB31+'施設資源化量内訳(メタン化)'!AB31+'施設資源化量内訳(燃料化)'!AB31+'施設資源化量内訳(セメント)'!AB31+'施設資源化量内訳(資源化等)'!AB31","v":0},{"$f":"'施設資源化量内訳(焼却)'!AC31+'施設資源化量内訳(粗大)'!AC31+'施設資源化量内訳(堆肥化)'!AC31+'施設資源化量内訳(飼料化)'!AC31+'施設資源化量内訳(メタン化)'!AC31+'施設資源化量内訳(燃料化)'!AC31+'施設資源化量内訳(セメント)'!AC31+'施設資源化量内訳(資源化等)'!AC31","v":0},{"$f":"'施設資源化量内訳(焼却)'!AD31+'施設資源化量内訳(粗大)'!AD31+'施設資源化量内訳(堆肥化)'!AD31+'施設資源化量内訳(飼料化)'!AD31+'施設資源化量内訳(メタン化)'!AD31+'施設資源化量内訳(燃料化)'!AD31+'施設資源化量内訳(セメント)'!AD31+'施設資源化量内訳(資源化等)'!AD31","v":0},{"$f":"'施設資源化量内訳(焼却)'!AE31+'施設資源化量内訳(粗大)'!AE31+'施設資源化量内訳(堆肥化)'!AE31+'施設資源化量内訳(飼料化)'!AE31+'施設資源化量内訳(メタン化)'!AE31+'施設資源化量内訳(燃料化)'!AE31+'施設資源化量内訳(セメント)'!AE31+'施設資源化量内訳(資源化等)'!AE31","v":0},{"$f":"'施設資源化量内訳(焼却)'!AF31+'施設資源化量内訳(粗大)'!AF31+'施設資源化量内訳(堆肥化)'!AF31+'施設資源化量内訳(飼料化)'!AF31+'施設資源化量内訳(メタン化)'!AF31+'施設資源化量内訳(燃料化)'!AF31+'施設資源化量内訳(セメント)'!AF31+'施設資源化量内訳(資源化等)'!AF31","v":0},{"$f":"'施設資源化量内訳(焼却)'!AG31+'施設資源化量内訳(粗大)'!AG31+'施設資源化量内訳(堆肥化)'!AG31+'施設資源化量内訳(飼料化)'!AG31+'施設資源化量内訳(メタン化)'!AG31+'施設資源化量内訳(燃料化)'!AG31+'施設資源化量内訳(セメント)'!AG31+'施設資源化量内訳(資源化等)'!AG31","v":0}]
["秋田県","05464","東成瀬村",{"$f":"SUM(E32:AG32)","v":0},0,0,0,0,0,0,0,0,0,0,0,0,0,0,0,0,0,0,0,0,0,0,0,0,0,0,0,0,0,{"$f":"SUM(AI32:BK32)","v":0},0,0,0,0,0,0,0,0,0,0,0,0,0,0,0,0,0,0,0,0,0,0,0,0,0,0,0,0,0,{"$f":"SUM(BM32:CO32)","v":0},{"$f":"'施設資源化量内訳(焼却)'!E32+'施設資源化量内訳(粗大)'!E32+'施設資源化量内訳(堆肥化)'!E32+'施設資源化量内訳(飼料化)'!E32+'施設資源化量内訳(メタン化)'!E32+'施設資源化量内訳(燃料化)'!E32+'施設資源化量内訳(セメント)'!E32+'施設資源化量内訳(資源化等)'!E32","v":0},{"$f":"'施設資源化量内訳(焼却)'!F32+'施設資源化量内訳(粗大)'!F32+'施設資源化量内訳(堆肥化)'!F32+'施設資源化量内訳(飼料化)'!F32+'施設資源化量内訳(メタン化)'!F32+'施設資源化量内訳(燃料化)'!F32+'施設資源化量内訳(セメント)'!F32+'施設資源化量内訳(資源化等)'!F32","v":0},{"$f":"'施設資源化量内訳(焼却)'!G32+'施設資源化量内訳(粗大)'!G32+'施設資源化量内訳(堆肥化)'!G32+'施設資源化量内訳(飼料化)'!G32+'施設資源化量内訳(メタン化)'!G32+'施設資源化量内訳(燃料化)'!G32+'施設資源化量内訳(セメント)'!G32+'施設資源化量内訳(資源化等)'!G32","v":0},{"$f":"'施設資源化量内訳(焼却)'!H32+'施設資源化量内訳(粗大)'!H32+'施設資源化量内訳(堆肥化)'!H32+'施設資源化量内訳(飼料化)'!H32+'施設資源化量内訳(メタン化)'!H32+'施設資源化量内訳(燃料化)'!H32+'施設資源化量内訳(セメント)'!H32+'施設資源化量内訳(資源化等)'!H32","v":0},{"$f":"'施設資源化量内訳(焼却)'!I32+'施設資源化量内訳(粗大)'!I32+'施設資源化量内訳(堆肥化)'!I32+'施設資源化量内訳(飼料化)'!I32+'施設資源化量内訳(メタン化)'!I32+'施設資源化量内訳(燃料化)'!I32+'施設資源化量内訳(セメント)'!I32+'施設資源化量内訳(資源化等)'!I32","v":0},{"$f":"'施設資源化量内訳(焼却)'!J32+'施設資源化量内訳(粗大)'!J32+'施設資源化量内訳(堆肥化)'!J32+'施設資源化量内訳(飼料化)'!J32+'施設資源化量内訳(メタン化)'!J32+'施設資源化量内訳(燃料化)'!J32+'施設資源化量内訳(セメント)'!J32+'施設資源化量内訳(資源化等)'!J32","v":0},{"$f":"'施設資源化量内訳(焼却)'!K32+'施設資源化量内訳(粗大)'!K32+'施設資源化量内訳(堆肥化)'!K32+'施設資源化量内訳(飼料化)'!K32+'施設資源化量内訳(メタン化)'!K32+'施設資源化量内訳(燃料化)'!K32+'施設資源化量内訳(セメント)'!K32+'施設資源化量内訳(資源化等)'!K32","v":0},{"$f":"'施設資源化量内訳(焼却)'!L32+'施設資源化量内訳(粗大)'!L32+'施設資源化量内訳(堆肥化)'!L32+'施設資源化量内訳(飼料化)'!L32+'施設資源化量内訳(メタン化)'!L32+'施設資源化量内訳(燃料化)'!L32+'施設資源化量内訳(セメント)'!L32+'施設資源化量内訳(資源化等)'!L32","v":0},{"$f":"'施設資源化量内訳(焼却)'!M32+'施設資源化量内訳(粗大)'!M32+'施設資源化量内訳(堆肥化)'!M32+'施設資源化量内訳(飼料化)'!M32+'施設資源化量内訳(メタン化)'!M32+'施設資源化量内訳(燃料化)'!M32+'施設資源化量内訳(セメント)'!M32+'施設資源化量内訳(資源化等)'!M32","v":0},{"$f":"'施設資源化量内訳(焼却)'!N32+'施設資源化量内訳(粗大)'!N32+'施設資源化量内訳(堆肥化)'!N32+'施設資源化量内訳(飼料化)'!N32+'施設資源化量内訳(メタン化)'!N32+'施設資源化量内訳(燃料化)'!N32+'施設資源化量内訳(セメント)'!N32+'施設資源化量内訳(資源化等)'!N32","v":0},{"$f":"'施設資源化量内訳(焼却)'!O32+'施設資源化量内訳(粗大)'!O32+'施設資源化量内訳(堆肥化)'!O32+'施設資源化量内訳(飼料化)'!O32+'施設資源化量内訳(メタン化)'!O32+'施設資源化量内訳(燃料化)'!O32+'施設資源化量内訳(セメント)'!O32+'施設資源化量内訳(資源化等)'!O32","v":0},{"$f":"'施設資源化量内訳(焼却)'!P32+'施設資源化量内訳(粗大)'!P32+'施設資源化量内訳(堆肥化)'!P32+'施設資源化量内訳(飼料化)'!P32+'施設資源化量内訳(メタン化)'!P32+'施設資源化量内訳(燃料化)'!P32+'施設資源化量内訳(セメント)'!P32+'施設資源化量内訳(資源化等)'!P32","v":0},{"$f":"'施設資源化量内訳(焼却)'!Q32+'施設資源化量内訳(粗大)'!Q32+'施設資源化量内訳(堆肥化)'!Q32+'施設資源化量内訳(飼料化)'!Q32+'施設資源化量内訳(メタン化)'!Q32+'施設資源化量内訳(燃料化)'!Q32+'施設資源化量内訳(セメント)'!Q32+'施設資源化量内訳(資源化等)'!Q32","v":0},{"$f":"'施設資源化量内訳(焼却)'!R32+'施設資源化量内訳(粗大)'!R32+'施設資源化量内訳(堆肥化)'!R32+'施設資源化量内訳(飼料化)'!R32+'施設資源化量内訳(メタン化)'!R32+'施設資源化量内訳(燃料化)'!R32+'施設資源化量内訳(セメント)'!R32+'施設資源化量内訳(資源化等)'!R32","v":0},{"$f":"'施設資源化量内訳(焼却)'!S32+'施設資源化量内訳(粗大)'!S32+'施設資源化量内訳(堆肥化)'!S32+'施設資源化量内訳(飼料化)'!S32+'施設資源化量内訳(メタン化)'!S32+'施設資源化量内訳(燃料化)'!S32+'施設資源化量内訳(セメント)'!S32+'施設資源化量内訳(資源化等)'!S32","v":0},{"$f":"'施設資源化量内訳(焼却)'!T32+'施設資源化量内訳(粗大)'!T32+'施設資源化量内訳(堆肥化)'!T32+'施設資源化量内訳(飼料化)'!T32+'施設資源化量内訳(メタン化)'!T32+'施設資源化量内訳(燃料化)'!T32+'施設資源化量内訳(セメント)'!T32+'施設資源化量内訳(資源化等)'!T32","v":0},{"$f":"'施設資源化量内訳(焼却)'!U32+'施設資源化量内訳(粗大)'!U32+'施設資源化量内訳(堆肥化)'!U32+'施設資源化量内訳(飼料化)'!U32+'施設資源化量内訳(メタン化)'!U32+'施設資源化量内訳(燃料化)'!U32+'施設資源化量内訳(セメント)'!U32+'施設資源化量内訳(資源化等)'!U32","v":0},{"$f":"'施設資源化量内訳(焼却)'!V32+'施設資源化量内訳(粗大)'!V32+'施設資源化量内訳(堆肥化)'!V32+'施設資源化量内訳(飼料化)'!V32+'施設資源化量内訳(メタン化)'!V32+'施設資源化量内訳(燃料化)'!V32+'施設資源化量内訳(セメント)'!V32+'施設資源化量内訳(資源化等)'!V32","v":0},{"$f":"'施設資源化量内訳(焼却)'!W32+'施設資源化量内訳(粗大)'!W32+'施設資源化量内訳(堆肥化)'!W32+'施設資源化量内訳(飼料化)'!W32+'施設資源化量内訳(メタン化)'!W32+'施設資源化量内訳(燃料化)'!W32+'施設資源化量内訳(セメント)'!W32+'施設資源化量内訳(資源化等)'!W32","v":0},{"$f":"'施設資源化量内訳(焼却)'!X32+'施設資源化量内訳(粗大)'!X32+'施設資源化量内訳(堆肥化)'!X32+'施設資源化量内訳(飼料化)'!X32+'施設資源化量内訳(メタン化)'!X32+'施設資源化量内訳(燃料化)'!X32+'施設資源化量内訳(セメント)'!X32+'施設資源化量内訳(資源化等)'!X32","v":0},{"$f":"'施設資源化量内訳(焼却)'!Y32+'施設資源化量内訳(粗大)'!Y32+'施設資源化量内訳(堆肥化)'!Y32+'施設資源化量内訳(飼料化)'!Y32+'施設資源化量内訳(メタン化)'!Y32+'施設資源化量内訳(燃料化)'!Y32+'施設資源化量内訳(セメント)'!Y32+'施設資源化量内訳(資源化等)'!Y32","v":0},{"$f":"'施設資源化量内訳(焼却)'!Z32+'施設資源化量内訳(粗大)'!Z32+'施設資源化量内訳(堆肥化)'!Z32+'施設資源化量内訳(飼料化)'!Z32+'施設資源化量内訳(メタン化)'!Z32+'施設資源化量内訳(燃料化)'!Z32+'施設資源化量内訳(セメント)'!Z32+'施設資源化量内訳(資源化等)'!Z32","v":0},{"$f":"'施設資源化量内訳(焼却)'!AA32+'施設資源化量内訳(粗大)'!AA32+'施設資源化量内訳(堆肥化)'!AA32+'施設資源化量内訳(飼料化)'!AA32+'施設資源化量内訳(メタン化)'!AA32+'施設資源化量内訳(燃料化)'!AA32+'施設資源化量内訳(セメント)'!AA32+'施設資源化量内訳(資源化等)'!AA32","v":0},{"$f":"'施設資源化量内訳(焼却)'!AB32+'施設資源化量内訳(粗大)'!AB32+'施設資源化量内訳(堆肥化)'!AB32+'施設資源化量内訳(飼料化)'!AB32+'施設資源化量内訳(メタン化)'!AB32+'施設資源化量内訳(燃料化)'!AB32+'施設資源化量内訳(セメント)'!AB32+'施設資源化量内訳(資源化等)'!AB32","v":0},{"$f":"'施設資源化量内訳(焼却)'!AC32+'施設資源化量内訳(粗大)'!AC32+'施設資源化量内訳(堆肥化)'!AC32+'施設資源化量内訳(飼料化)'!AC32+'施設資源化量内訳(メタン化)'!AC32+'施設資源化量内訳(燃料化)'!AC32+'施設資源化量内訳(セメント)'!AC32+'施設資源化量内訳(資源化等)'!AC32","v":0},{"$f":"'施設資源化量内訳(焼却)'!AD32+'施設資源化量内訳(粗大)'!AD32+'施設資源化量内訳(堆肥化)'!AD32+'施設資源化量内訳(飼料化)'!AD32+'施設資源化量内訳(メタン化)'!AD32+'施設資源化量内訳(燃料化)'!AD32+'施設資源化量内訳(セメント)'!AD32+'施設資源化量内訳(資源化等)'!AD32","v":0},{"$f":"'施設資源化量内訳(焼却)'!AE32+'施設資源化量内訳(粗大)'!AE32+'施設資源化量内訳(堆肥化)'!AE32+'施設資源化量内訳(飼料化)'!AE32+'施設資源化量内訳(メタン化)'!AE32+'施設資源化量内訳(燃料化)'!AE32+'施設資源化量内訳(セメント)'!AE32+'施設資源化量内訳(資源化等)'!AE32","v":0},{"$f":"'施設資源化量内訳(焼却)'!AF32+'施設資源化量内訳(粗大)'!AF32+'施設資源化量内訳(堆肥化)'!AF32+'施設資源化量内訳(飼料化)'!AF32+'施設資源化量内訳(メタン化)'!AF32+'施設資源化量内訳(燃料化)'!AF32+'施設資源化量内訳(セメント)'!AF32+'施設資源化量内訳(資源化等)'!AF32","v":0},{"$f":"'施設資源化量内訳(焼却)'!AG32+'施設資源化量内訳(粗大)'!AG32+'施設資源化量内訳(堆肥化)'!AG32+'施設資源化量内訳(飼料化)'!AG32+'施設資源化量内訳(メタン化)'!AG32+'施設資源化量内訳(燃料化)'!AG32+'施設資源化量内訳(セメント)'!AG32+'施設資源化量内訳(資源化等)'!AG32","v":0}]

{"sheet":"施設資源化量内訳(焼却)","index":15,"n_rows":32,"n_cols":33,"rows_kept":32,"merged":[[1,0,5,0],[1,1,5,1],[1,2,5,2],[2,3,4,3],[2,4,4,4],[2,5,4,5],[2,6,4,6],[2,7,4,7],[2,8,4,8],[2,9,4,9],[2,10,4,10],[2,11,4,11],[2,12,4,12],[2,13,4,13],[2,14,4,14],[2,15,4,15],[2,16,4,16],[2,17,4,17],[2,18,4,18],[2,19,4,19],[2,20,4,20],[2,21,4,21],[2,22,4,22],[2,23,4,23],[2,24,4,24],[2,25,4,25],[2,26,4,26],[2,27,4,27],[2,28,4,28],[2,29,4,29],[2,30,4,30],[2,32,4,32]]}
["【災害】中間処理後の再生利用量の状況（令和3年度実績）"]
["都道府県名","地方公共団体コード","市区町村名","焼却施設（溶融・炭化含む）"]
[{"$nulls":3},"合計","木くず","金属くず","コンクリートがら","その他がれき類","石綿含有廃棄物等","ＰＣＢ廃棄物","その他有害物、危険物","混合ごみ","可燃ごみ","不燃ごみ","資源ごみ","粗大ごみ","家電４品目","パソコン","自動車","ＦＲＰ船","鋼船","その他船舶","畳","漁網","タイヤ","その他家電","消火器","ガスボンベ","土石類","津波堆積物","その他",null,"漂着ごみ"]
[{"$nulls":31},"石膏ボード"]
[]
[{"$nulls":3},"（ｔ）","（ｔ）","（ｔ）","（ｔ）","（ｔ）","（ｔ）","（ｔ）","（ｔ）","（ｔ）","（ｔ）","（ｔ）","（ｔ）","（ｔ）","（ｔ）","（ｔ）","（ｔ）","（ｔ）","（ｔ）","（ｔ）","（ｔ）","（ｔ）","（ｔ）","（ｔ）","（ｔ）","（ｔ）","（ｔ）","（ｔ）","（ｔ）","（ｔ）","（ｔ）"]
["秋田県","05000","合計",{"$f":"SUM($D$8:$D$32)","v":0},{"$f":"SUM($E$8:$E$32)","v":0},{"$f":"SUM($F$8:$F$32)","v":0},{"$f":"SUM($G$8:$G$32)","v":0},{"$f":"SUM($H$8:$H$32)","v":0},{"$f":"SUM($I$8:$I$32)","v":0},{"$f":"SUM($J$8:$J$32)","v":0},{"$f":"SUM($K$8:$K$32)","v":0},{"$f":"SUM($L$8:$L$32)","v":0},{"$f":"SUM($M$8:$M$32)","v":0},{"$f":"SUM($N$8:$N$32)","v":0},{"$f":"SUM($O$8:$O$32)","v":0},{"$f":"SUM($P$8:$P$32)","v":0},{"$f":"SUM($Q$8:$Q$32)","v":0},{"$f":"SUM($R$8:$R$32)","v":0},{"$f":"SUM($S$8:$S$32)","v":0},{"$f":"SUM($T$8:$T$32)","v":0},{"$f":"SUM($U$8:$U$32)","v":0},{"$f":"SUM($V$8:$V$32)","v":0},{"$f":"SUM($W$8:$W$32)","v":0},{"$f":"SUM($X$8:$X$32)","v":0},{"$f":"SUM($Y$8:$Y$32)","v":0},{"$f":"SUM($Z$8:$Z$32)","v":0},{"$f":"SUM($AA$8:$AA$32)","v":0},{"$f":"SUM($AB$8:$AB$32)","v":0},{"$f":"SUM($AC$8:$AC$32)","v":0},{"$f":"SUM($AD$8:$AD$32)","v":0},{"$f":"SUM($AE$8:$AE$32)","v":0},{"$f":"SUM($AF$8:$AF$32)","v":0},{"$f":"SUM($AG$8:$AG$32)","v":0}]
["秋田県","05201","秋田市",{"$f":"SUM(E8:AG8)","v":0},0,0,0,0,0,0,0,0,0,0,0,0,0,0,0,0,0,0,0,0,0,0,0,0,0,0,0,0,0]
["秋田県","05202","能代市",{"$f":"SUM(E9:AG9)","v":0},0,0,0,0,0,0,0,0,0,0,0,0,0,0,0,0,0,0,0,0,0,0,0,0,0,0,0,0,0]
["秋田県","05203","横手市",{"$f":"SUM(E10:AG10)","v":0},0,0,0,0,0,0,0,0,0,0,0,0,0,0,0,0,0,0,0,0,0,0,0,0,0,0,0,0,0]
["秋田県","05204","大館市",{"$f":"SUM(E11:AG11)","v":0},0,0,0,0,0,0,0,0,0,0,0,0,0,0,0,0,0,0,0,0,0,0,0,0,0,0,0,0,0]
["秋田県","05206","男鹿市",{"$f":"SUM(E12:AG12)","v":0},0,0,0,0,0,0,0,0,0,0,0,0,0,0,0,0,0,0,0,0,0,0,0,0,0,0,0,0,0]
["秋田県","05207","湯沢市",{"$f":"SUM(E13:AG13)","v":0},0,0,0,0,0,0,0,0,0,0,0,0,0,0,0,0,0,0,0,0,0,0,0,0,0,0,0,0,0]
["秋田県","05209","鹿角市",{"$f":"SUM(E14:AG14)","v":0},0,0,0,0,0,0,0,0,0,0,0,0,0,0,0,0,0,0,0,0,0,0,0,0,0,0,0,0,0]
["秋田県","05210","由利本荘市",{"$f":"SUM(E15:AG15)","v":0},0,0,0,0,0,0,0,0,0,0,0,0,0,0,0,0,0,0,0,0,0,0,0,0,0,0,0,0,0]
["秋田県","05211","潟上市",{"$f":"SUM(E16:AG16)","v":0},0,0,0,0,0,0,0,0,0,0,0,0,0,0,0,0,0,0,0,0,0,0,0,0,0,0,0,0,0]
["秋田県","05212","大仙市",{"$f":"SUM(E17:AG17)","v":0},0,0,0,0,0,0,0,0,0,0,0,0,0,0,0,0,0,0,0,0,0,0,0,0,0,0,0,0,0]
["秋田県","05213","北秋田市",{"$f":"SUM(E18:AG18)","v":0},0,0,0,0,0,0,0,0,0,0,0,0,0,0,0,0,0,0,0,0,0,0,0,0,0,0,0,0,0]
["秋田県","05214","にかほ市",{"$f":"SUM(E19:AG19)","v":0},0,0,0,0,0,0,0,0,0,0,0,0,0,0,0,0,0,0,0,0,0,0,0,0,0,0,0,0,0]
["秋田県","05215","仙北市",{"$f":"SUM(E20:AG20)","v":0},0,0,0,0,0,0,0,0,0,0,0,0,0,0,0,0,0,0,0,0,0,0,0,0,0,0,0,0,0]
["秋田県","05303","小坂町",{"$f":"SUM(E21:AG21)","v":0},0,0,0,0,0,0,0,0,0,0,0,0,0,0,0,0,0,0,0,0,0,0,0,0,0,0,0,0,0]
["秋田県","05327","上小阿仁村",{"$f":"SUM(E22:AG22)","v":0},0,0,0,0,0,0,0,0,0,0,0,0,0,0,0,0,0,0,0,0,0,0,0,0,0,0,0,0,0]
["秋田県","05346","藤里町",{"$f":"SUM(E23:AG23)","v":0},0,0,0,0,0,0,0,0,0,0,0,0,0,0,0,0,0,0,0,0,0,0,0,0,0,0,0,0,0]
["秋田県","05348","三種町",{"$f":"SUM(E24:AG24)","v":0},0,0,0,0,0,0,0,0,0,0,0,0,0,0,0,0,0,0,0,0,0,0,0,0,0,0,0,0,0]
["秋田県","05349","八峰町",{"$f":"SUM(E25:AG25)","v":0},0,0,0,0,0,0,0,0,0,0,0,0,0,0,0,0,0,0,0,0,0,0,0,0,0,0,0,0,0]
["秋田県","05361","五城目町",{"$f":"SUM(E26:AG26)","v":0},0,0,0,0,0,0,0,0,0,0,0,0,0,0,0,0,0,0,0,0,0,0,0,0,0,0,0,0,0]
["秋田県","05363","八郎潟町",{"$f":"SUM(E27:AG27)","v":0},0,0,0,0,0,0,0,0,0,0,0,0,0,0,0,0,0,0,0,0,0,0,0,0,0,0,0,0,0]
["秋田県","05366","井川町",{"$f":"SUM(E28:AG28)","v":0},0,0,0,0,0,0,0,0,0,0,0,0,0,0,0,0,0,0,0,0,0,0,0,0,0,0,0,0,0]
["秋田県","05368","大潟村",{"$f":"SUM(E29:AG29)","v":0},0,0,0,0,0,0,0,0,0,0,0,0,0,0,0,0,0,0,0,0,0,0,0,0,0,0,0,0,0]
["秋田県","05434","美郷町",{"$f":"SUM(E30:AG30)","v":0},0,0,0,0,0,0,0,0,0,0,0,0,0,0,0,0,0,0,0,0,0,0,0,0,0,0,0,0,0]
["秋田県","05463","羽後町",{"$f":"SUM(E31:AG31)","v":0},0,0,0,0,0,0,0,0,0,0,0,0,0,0,0,0,0,0,0,0,0,0,0,0,0,0,0,0,0]
["秋田県","05464","東成瀬村",{"$f":"SUM(E32:AG32)","v":0},0,0,0,0,0,0,0,0,0,0,0,0,0,0,0,0,0,0,0,0,0,0,0,0,0,0,0,0,0]

{"sheet":"施設資源化量内訳(粗大)","index":16,"n_rows":32,"n_cols":33,"rows_kept":32,"merged":[[1,0,5,0],[1,1,5,1],[1,2,5,2],[2,3,4,3],[2,4,4,4],[2,5,4,5],[2,6,4,6],[2,7,4,7],[2,8,4,8],[2,9,4,9],[2,10,4,10],[2,11,4,11],[2,12,4,12],[2,13,4,13],[2,14,4,14],[2,15,4,15],[2,16,4,16],[2,17,4,17],[2,18,4,18],[2,19,4,19],[2,20,4,20],[2,21,4,21],[2,22,4,22],[2,23,4,23],[2,24,4,24],[2,25,4,25],[2,26,4,26],[2,27,4,27],[2,28,4,28],[2,29,4,29],[2,30,4,30],[2,32,4,32]]}
["【災害】中間処理後の再生利用量の状況（令和3年度実績）"]
["都道府県名","地方公共団体コード","市区町村名","粗大ごみ処理施設"]
[{"$nulls":3},"合計","木くず","金属くず","コンクリートがら","その他がれき類","石綿含有廃棄物等","ＰＣＢ廃棄物","その他有害物、危険物","混合ごみ","可燃ごみ","不燃ごみ","資源ごみ","粗大ごみ","家電４品目","パソコン","自動車","ＦＲＰ船","鋼船","その他船舶","畳","漁網","タイヤ","その他家電","消火器","ガスボンベ","土石類","津波堆積物","その他",null,"漂着ごみ"]
[{"$nulls":31},"石膏ボード"]
[]
[{"$nulls":3},"（ｔ）","（ｔ）","（ｔ）","（ｔ）","（ｔ）","（ｔ）","（ｔ）","（ｔ）","（ｔ）","（ｔ）","（ｔ）","（ｔ）","（ｔ）","（ｔ）","（ｔ）","（ｔ）","（ｔ）","（ｔ）","（ｔ）","（ｔ）","（ｔ）","（ｔ）","（ｔ）","（ｔ）","（ｔ）","（ｔ）","（ｔ）","（ｔ）","（ｔ）","（ｔ）"]
["秋田県","05000","合計",{"$f":"SUM($D$8:$D$32)","v":0},{"$f":"SUM($E$8:$E$32)","v":0},{"$f":"SUM($F$8:$F$32)","v":0},{"$f":"SUM($G$8:$G$32)","v":0},{"$f":"SUM($H$8:$H$32)","v":0},{"$f":"SUM($I$8:$I$32)","v":0},{"$f":"SUM($J$8:$J$32)","v":0},{"$f":"SUM($K$8:$K$32)","v":0},{"$f":"SUM($L$8:$L$32)","v":0},{"$f":"SUM($M$8:$M$32)","v":0},{"$f":"SUM($N$8:$N$32)","v":0},{"$f":"SUM($O$8:$O$32)","v":0},{"$f":"SUM($P$8:$P$32)","v":0},{"$f":"SUM($Q$8:$Q$32)","v":0},{"$f":"SUM($R$8:$R$32)","v":0},{"$f":"SUM($S$8:$S$32)","v":0},{"$f":"SUM($T$8:$T$32)","v":0},{"$f":"SUM($U$8:$U$32)","v":0},{"$f":"SUM($V$8:$V$32)","v":0},{"$f":"SUM($W$8:$W$32)","v":0},{"$f":"SUM($X$8:$X$32)","v":0},{"$f":"SUM($Y$8:$Y$32)","v":0},{"$f":"SUM($Z$8:$Z$32)","v":0},{"$f":"SUM($AA$8:$AA$32)","v":0},{"$f":"SUM($AB$8:$AB$32)","v":0},{"$f":"SUM($AC$8:$AC$32)","v":0},{"$f":"SUM($AD$8:$AD$32)","v":0},{"$f":"SUM($AE$8:$AE$32)","v":0},{"$f":"SUM($AF$8:$AF$32)","v":0},{"$f":"SUM($AG$8:$AG$32)","v":0}]
["秋田県","05201","秋田市",{"$f":"SUM(E8:AG8)","v":0},0,0,0,0,0,0,0,0,0,0,0,0,0,0,0,0,0,0,0,0,0,0,0,0,0,0,0,0,0]
["秋田県","05202","能代市",{"$f":"SUM(E9:AG9)","v":0},0,0,0,0,0,0,0,0,0,0,0,0,0,0,0,0,0,0,0,0,0,0,0,0,0,0,0,0,0]
["秋田県","05203","横手市",{"$f":"SUM(E10:AG10)","v":0},0,0,0,0,0,0,0,0,0,0,0,0,0,0,0,0,0,0,0,0,0,0,0,0,0,0,0,0,0]
["秋田県","05204","大館市",{"$f":"SUM(E11:AG11)","v":0},0,0,0,0,0,0,0,0,0,0,0,0,0,0,0,0,0,0,0,0,0,0,0,0,0,0,0,0,0]
["秋田県","05206","男鹿市",{"$f":"SUM(E12:AG12)","v":0},0,0,0,0,0,0,0,0,0,0,0,0,0,0,0,0,0,0,0,0,0,0,0,0,0,0,0,0,0]
["秋田県","05207","湯沢市",{"$f":"SUM(E13:AG13)","v":0},0,0,0,0,0,0,0,0,0,0,0,0,0,0,0,0,0,0,0,0,0,0,0,0,0,0,0,0,0]
["秋田県","05209","鹿角市",{"$f":"SUM(E14:AG14)","v":0},0,0,0,0,0,0,0,0,0,0,0,0,0,0,0,0,0,0,0,0,0,0,0,0,0,0,0,0,0]
["秋田県","05210","由利本荘市",{"$f":"SUM(E15:AG15)","v":0},0,0,0,0,0,0,0,0,0,0,0,0,0,0,0,0,0,0,0,0,0,0,0,0,0,0,0,0,0]
["秋田県","05211","潟上市",{"$f":"SUM(E16:AG16)","v":0},0,0,0,0,0,0,0,0,0,0,0,0,0,0,0,0,0,0,0,0,0,0,0,0,0,0,0,0,0]
["秋田県","05212","大仙市",{"$f":"SUM(E17:AG17)","v":0},0,0,0,0,0,0,0,0,0,0,0,0,0,0,0,0,0,0,0,0,0,0,0,0,0,0,0,0,0]
["秋田県","05213","北秋田市",{"$f":"SUM(E18:AG18)","v":0},0,0,0,0,0,0,0,0,0,0,0,0,0,0,0,0,0,0,0,0,0,0,0,0,0,0,0,0,0]
["秋田県","05214","にかほ市",{"$f":"SUM(E19:AG19)","v":0},0,0,0,0,0,0,0,0,0,0,0,0,0,0,0,0,0,0,0,0,0,0,0,0,0,0,0,0,0]
["秋田県","05215","仙北市",{"$f":"SUM(E20:AG20)","v":0},0,0,0,0,0,0,0,0,0,0,0,0,0,0,0,0,0,0,0,0,0,0,0,0,0,0,0,0,0]
["秋田県","05303","小坂町",{"$f":"SUM(E21:AG21)","v":0},0,0,0,0,0,0,0,0,0,0,0,0,0,0,0,0,0,0,0,0,0,0,0,0,0,0,0,0,0]
["秋田県","05327","上小阿仁村",{"$f":"SUM(E22:AG22)","v":0},0,0,0,0,0,0,0,0,0,0,0,0,0,0,0,0,0,0,0,0,0,0,0,0,0,0,0,0,0]
["秋田県","05346","藤里町",{"$f":"SUM(E23:AG23)","v":0},0,0,0,0,0,0,0,0,0,0,0,0,0,0,0,0,0,0,0,0,0,0,0,0,0,0,0,0,0]
["秋田県","05348","三種町",{"$f":"SUM(E24:AG24)","v":0},0,0,0,0,0,0,0,0,0,0,0,0,0,0,0,0,0,0,0,0,0,0,0,0,0,0,0,0,0]
["秋田県","05349","八峰町",{"$f":"SUM(E25:AG25)","v":0},0,0,0,0,0,0,0,0,0,0,0,0,0,0,0,0,0,0,0,0,0,0,0,0,0,0,0,0,0]
["秋田県","05361","五城目町",{"$f":"SUM(E26:AG26)","v":0},0,0,0,0,0,0,0,0,0,0,0,0,0,0,0,0,0,0,0,0,0,0,0,0,0,0,0,0,0]
["秋田県","05363","八郎潟町",{"$f":"SUM(E27:AG27)","v":0},0,0,0,0,0,0,0,0,0,0,0,0,0,0,0,0,0,0,0,0,0,0,0,0,0,0,0,0,0]
["秋田県","05366","井川町",{"$f":"SUM(E28:AG28)","v":0},0,0,0,0,0,0,0,0,0,0,0,0,0,0,0,0,0,0,0,0,0,0,0,0,0,0,0,0,0]
["秋田県","05368","大潟村",{"$f":"SUM(E29:AG29)","v":0},0,0,0,0,0,0,0,0,0,0,0,0,0,0,0,0,0,0,0,0,0,0,0,0,0,0,0,0,0]
["秋田県","05434","美郷町",{"$f":"SUM(E30:AG30)","v":0},0,0,0,0,0,0,0,0,0,0,0,0,0,0,0,0,0,0,0,0,0,0,0,0,0,0,0,0,0]
["秋田県","05463","羽後町",{"$f":"SUM(E31:AG31)","v":0},0,0,0,0,0,0,0,0,0,0,0,0,0,0,0,0,0,0,0,0,0,0,0,0,0,0,0,0,0]
["秋田県","05464","東成瀬村",{"$f":"SUM(E32:AG32)","v":0},0,0,0,0,0,0,0,0,0,0,0,0,0,0,0,0,0,0,0,0,0,0,0,0,0,0,0,0,0]

{"sheet":"施設資源化量内訳(堆肥化)","index":17,"n_rows":32,"n_cols":33,"rows_kept":32,"merged":[[1,0,5,0],[1,1,5,1],[1,2,5,2],[2,3,4,3],[2,4,4,4],[2,5,4,5],[2,6,4,6],[2,7,4,7],[2,8,4,8],[2,9,4,9],[2,10,4,10],[2,11,4,11],[2,12,4,12],[2,13,4,13],[2,14,4,14],[2,15,4,15],[2,16,4,16],[2,17,4,17],[2,18,4,18],[2,19,4,19],[2,20,4,20],[2,21,4,21],[2,22,4,22],[2,23,4,23],[2,24,4,24],[2,25,4,25],[2,26,4,26],[2,27,4,27],[2,28,4,28],[2,29,4,29],[2,30,4,30],[2,32,4,32]]}
["【災害】中間処理後の再生利用量の状況（令和3年度実績）"]
["都道府県名","地方公共団体コード","市区町村名","ごみ堆肥化施設"]
[{"$nulls":3},"合計","木くず","金属くず","コンクリートがら","その他がれき類","石綿含有廃棄物等","ＰＣＢ廃棄物","その他有害物、危険物","混合ごみ","可燃ごみ","不燃ごみ","資源ごみ","粗大ごみ","家電４品目","パソコン","自動車","ＦＲＰ船","鋼船","その他船舶","畳","漁網","タイヤ","その他家電","消火器","ガスボンベ","土石類","津波堆積物","その他",null,"漂着ごみ"]
[{"$nulls":31},"石膏ボード"]
[]
[{"$nulls":3},"（ｔ）","（ｔ）","（ｔ）","（ｔ）","（ｔ）","（ｔ）","（ｔ）","（ｔ）","（ｔ）","（ｔ）","（ｔ）","（ｔ）","（ｔ）","（ｔ）","（ｔ）","（ｔ）","（ｔ）","（ｔ）","（ｔ）","（ｔ）","（ｔ）","（ｔ）","（ｔ）","（ｔ）","（ｔ）","（ｔ）","（ｔ）","（ｔ）","（ｔ）","（ｔ）"]
["秋田県","05000","合計",{"$f":"SUM($D$8:$D$32)","v":0},{"$f":"SUM($E$8:$E$32)","v":0},{"$f":"SUM($F$8:$F$32)","v":0},{"$f":"SUM($G$8:$G$32)","v":0},{"$f":"SUM($H$8:$H$32)","v":0},{"$f":"SUM($I$8:$I$32)","v":0},{"$f":"SUM($J$8:$J$32)","v":0},{"$f":"SUM($K$8:$K$32)","v":0},{"$f":"SUM($L$8:$L$32)","v":0},{"$f":"SUM($M$8:$M$32)","v":0},{"$f":"SUM($N$8:$N$32)","v":0},{"$f":"SUM($O$8:$O$32)","v":0},{"$f":"SUM($P$8:$P$32)","v":0},{"$f":"SUM($Q$8:$Q$32)","v":0},{"$f":"SUM($R$8:$R$32)","v":0},{"$f":"SUM($S$8:$S$32)","v":0},{"$f":"SUM($T$8:$T$32)","v":0},{"$f":"SUM($U$8:$U$32)","v":0},{"$f":"SUM($V$8:$V$32)","v":0},{"$f":"SUM($W$8:$W$32)","v":0},{"$f":"SUM($X$8:$X$32)","v":0},{"$f":"SUM($Y$8:$Y$32)","v":0},{"$f":"SUM($Z$8:$Z$32)","v":0},{"$f":"SUM($AA$8:$AA$32)","v":0},{"$f":"SUM($AB$8:$AB$32)","v":0},{"$f":"SUM($AC$8:$AC$32)","v":0},{"$f":"SUM($AD$8:$AD$32)","v":0},{"$f":"SUM($AE$8:$AE$32)","v":0},{"$f":"SUM($AF$8:$AF$32)","v":0},{"$f":"SUM($AG$8:$AG$32)","v":0}]
["秋田県","05201","秋田市",{"$f":"SUM(E8:AG8)","v":0},0,0,0,0,0,0,0,0,0,0,0,0,0,0,0,0,0,0,0,0,0,0,0,0,0,0,0,0,0]
["秋田県","05202","能代市",{"$f":"SUM(E9:AG9)","v":0},0,0,0,0,0,0,0,0,0,0,0,0,0,0,0,0,0,0,0,0,0,0,0,0,0,0,0,0,0]
["秋田県","05203","横手市",{"$f":"SUM(E10:AG10)","v":0},0,0,0,0,0,0,0,0,0,0,0,0,0,0,0,0,0,0,0,0,0,0,0,0,0,0,0,0,0]
["秋田県","05204","大館市",{"$f":"SUM(E11:AG11)","v":0},0,0,0,0,0,0,0,0,0,0,0,0,0,0,0,0,0,0,0,0,0,0,0,0,0,0,0,0,0]
["秋田県","05206","男鹿市",{"$f":"SUM(E12:AG12)","v":0},0,0,0,0,0,0,0,0,0,0,0,0,0,0,0,0,0,0,0,0,0,0,0,0,0,0,0,0,0]
["秋田県","05207","湯沢市",{"$f":"SUM(E13:AG13)","v":0},0,0,0,0,0,0,0,0,0,0,0,0,0,0,0,0,0,0,0,0,0,0,0,0,0,0,0,0,0]
["秋田県","05209","鹿角市",{"$f":"SUM(E14:AG14)","v":0},0,0,0,0,0,0,0,0,0,0,0,0,0,0,0,0,0,0,0,0,0,0,0,0,0,0,0,0,0]
["秋田県","05210","由利本荘市",{"$f":"SUM(E15:AG15)","v":0},0,0,0,0,0,0,0,0,0,0,0,0,0,0,0,0,0,0,0,0,0,0,0,0,0,0,0,0,0]
["秋田県","05211","潟上市",{"$f":"SUM(E16:AG16)","v":0},0,0,0,0,0,0,0,0,0,0,0,0,0,0,0,0,0,0,0,0,0,0,0,0,0,0,0,0,0]
["秋田県","05212","大仙市",{"$f":"SUM(E17:AG17)","v":0},0,0,0,0,0,0,0,0,0,0,0,0,0,0,0,0,0,0,0,0,0,0,0,0,0,0,0,0,0]
["秋田県","05213","北秋田市",{"$f":"SUM(E18:AG18)","v":0},0,0,0,0,0,0,0,0,0,0,0,0,0,0,0,0,0,0,0,0,0,0,0,0,0,0,0,0,0]
["秋田県","05214","にかほ市",{"$f":"SUM(E19:AG19)","v":0},0,0,0,0,0,0,0,0,0,0,0,0,0,0,0,0,0,0,0,0,0,0,0,0,0,0,0,0,0]
["秋田県","05215","仙北市",{"$f":"SUM(E20:AG20)","v":0},0,0,0,0,0,0,0,0,0,0,0,0,0,0,0,0,0,0,0,0,0,0,0,0,0,0,0,0,0]
["秋田県","05303","小坂町",{"$f":"SUM(E21:AG21)","v":0},0,0,0,0,0,0,0,0,0,0,0,0,0,0,0,0,0,0,0,0,0,0,0,0,0,0,0,0,0]
["秋田県","05327","上小阿仁村",{"$f":"SUM(E22:AG22)","v":0},0,0,0,0,0,0,0,0,0,0,0,0,0,0,0,0,0,0,0,0,0,0,0,0,0,0,0,0,0]
["秋田県","05346","藤里町",{"$f":"SUM(E23:AG23)","v":0},0,0,0,0,0,0,0,0,0,0,0,0,0,0,0,0,0,0,0,0,0,0,0,0,0,0,0,0,0]
["秋田県","05348","三種町",{"$f":"SUM(E24:AG24)","v":0},0,0,0,0,0,0,0,0,0,0,0,0,0,0,0,0,0,0,0,0,0,0,0,0,0,0,0,0,0]
["秋田県","05349","八峰町",{"$f":"SUM(E25:AG25)","v":0},0,0,0,0,0,0,0,0,0,0,0,0,0,0,0,0,0,0,0,0,0,0,0,0,0,0,0,0,0]
["秋田県","05361","五城目町",{"$f":"SUM(E26:AG26)","v":0},0,0,0,0,0,0,0,0,0,0,0,0,0,0,0,0,0,0,0,0,0,0,0,0,0,0,0,0,0]
["秋田県","05363","八郎潟町",{"$f":"SUM(E27:AG27)","v":0},0,0,0,0,0,0,0,0,0,0,0,0,0,0,0,0,0,0,0,0,0,0,0,0,0,0,0,0,0]
["秋田県","05366","井川町",{"$f":"SUM(E28:AG28)","v":0},0,0,0,0,0,0,0,0,0,0,0,0,0,0,0,0,0,0,0,0,0,0,0,0,0,0,0,0,0]
["秋田県","05368","大潟村",{"$f":"SUM(E29:AG29)","v":0},0,0,0,0,0,0,0,0,0,0,0,0,0,0,0,0,0,0,0,0,0,0,0,0,0,0,0,0,0]
["秋田県","05434","美郷町",{"$f":"SUM(E30:AG30)","v":0},0,0,0,0,0,0,0,0,0,0,0,0,0,0,0,0,0,0,0,0,0,0,0,0,0,0,0,0,0]
["秋田県","05463","羽後町",{"$f":"SUM(E31:AG31)","v":0},0,0,0,0,0,0,0,0,0,0,0,0,0,0,0,0,0,0,0,0,0,0,0,0,0,0,0,0,0]
["秋田県","05464","東成瀬村",{"$f":"SUM(E32:AG32)","v":0},0,0,0,0,0,0,0,0,0,0,0,0,0,0,0,0,0,0,0,0,0,0,0,0,0,0,0,0,0]

{"sheet":"施設資源化量内訳(飼料化)","index":18,"n_rows":32,"n_cols":33,"rows_kept":32,"merged":[[1,0,5,0],[1,1,5,1],[1,2,5,2],[2,3,4,3],[2,4,4,4],[2,5,4,5],[2,6,4,6],[2,7,4,7],[2,8,4,8],[2,9,4,9],[2,10,4,10],[2,11,4,11],[2,12,4,12],[2,13,4,13],[2,14,4,14],[2,15,4,15],[2,16,4,16],[2,17,4,17],[2,18,4,18],[2,19,4,19],[2,20,4,20],[2,21,4,21],[2,22,4,22],[2,23,4,23],[2,24,4,24],[2,25,4,25],[2,26,4,26],[2,27,4,27],[2,28,4,28],[2,29,4,29],[2,30,4,30],[2,32,4,32]]}
["【災害】中間処理後の再生利用量の状況（令和3年度実績）"]
["都道府県名","地方公共団体コード","市区町村名","ごみ飼料化施設"]
[{"$nulls":3},"合計","木くず","金属くず","コンクリートがら","その他がれき類","石綿含有廃棄物等","ＰＣＢ廃棄物","その他有害物、危険物","混合ごみ","可燃ごみ","不燃ごみ","資源ごみ","粗大ごみ","家電４品目","パソコン","自動車","ＦＲＰ船","鋼船","その他船舶","畳","漁網","タイヤ","その他家電","消火器","ガスボンベ","土石類","津波堆積物","その他",null,"漂着ごみ"]
[{"$nulls":31},"石膏ボード"]
[]
[{"$nulls":3},"（ｔ）","（ｔ）","（ｔ）","（ｔ）","（ｔ）","（ｔ）","（ｔ）","（ｔ）","（ｔ）","（ｔ）","（ｔ）","（ｔ）","（ｔ）","（ｔ）","（ｔ）","（ｔ）","（ｔ）","（ｔ）","（ｔ）","（ｔ）","（ｔ）","（ｔ）","（ｔ）","（ｔ）","（ｔ）","（ｔ）","（ｔ）","（ｔ）","（ｔ）","（ｔ）"]
["秋田県","05000","合計",{"$f":"SUM($D$8:$D$32)","v":0},{"$f":"SUM($E$8:$E$32)","v":0},{"$f":"SUM($F$8:$F$32)","v":0},{"$f":"SUM($G$8:$G$32)","v":0},{"$f":"SUM($H$8:$H$32)","v":0},{"$f":"SUM($I$8:$I$32)","v":0},{"$f":"SUM($J$8:$J$32)","v":0},{"$f":"SUM($K$8:$K$32)","v":0},{"$f":"SUM($L$8:$L$32)","v":0},{"$f":"SUM($M$8:$M$32)","v":0},{"$f":"SUM($N$8:$N$32)","v":0},{"$f":"SUM($O$8:$O$32)","v":0},{"$f":"SUM($P$8:$P$32)","v":0},{"$f":"SUM($Q$8:$Q$32)","v":0},{"$f":"SUM($R$8:$R$32)","v":0},{"$f":"SUM($S$8:$S$32)","v":0},{"$f":"SUM($T$8:$T$32)","v":0},{"$f":"SUM($U$8:$U$32)","v":0},{"$f":"SUM($V$8:$V$32)","v":0},{"$f":"SUM($W$8:$W$32)","v":0},{"$f":"SUM($X$8:$X$32)","v":0},{"$f":"SUM($Y$8:$Y$32)","v":0},{"$f":"SUM($Z$8:$Z$32)","v":0},{"$f":"SUM($AA$8:$AA$32)","v":0},{"$f":"SUM($AB$8:$AB$32)","v":0},{"$f":"SUM($AC$8:$AC$32)","v":0},{"$f":"SUM($AD$8:$AD$32)","v":0},{"$f":"SUM($AE$8:$AE$32)","v":0},{"$f":"SUM($AF$8:$AF$32)","v":0},{"$f":"SUM($AG$8:$AG$32)","v":0}]
["秋田県","05201","秋田市",{"$f":"SUM(E8:AG8)","v":0},0,0,0,0,0,0,0,0,0,0,0,0,0,0,0,0,0,0,0,0,0,0,0,0,0,0,0,0,0]
["秋田県","05202","能代市",{"$f":"SUM(E9:AG9)","v":0},0,0,0,0,0,0,0,0,0,0,0,0,0,0,0,0,0,0,0,0,0,0,0,0,0,0,0,0,0]
["秋田県","05203","横手市",{"$f":"SUM(E10:AG10)","v":0},0,0,0,0,0,0,0,0,0,0,0,0,0,0,0,0,0,0,0,0,0,0,0,0,0,0,0,0,0]
["秋田県","05204","大館市",{"$f":"SUM(E11:AG11)","v":0},0,0,0,0,0,0,0,0,0,0,0,0,0,0,0,0,0,0,0,0,0,0,0,0,0,0,0,0,0]
["秋田県","05206","男鹿市",{"$f":"SUM(E12:AG12)","v":0},0,0,0,0,0,0,0,0,0,0,0,0,0,0,0,0,0,0,0,0,0,0,0,0,0,0,0,0,0]
["秋田県","05207","湯沢市",{"$f":"SUM(E13:AG13)","v":0},0,0,0,0,0,0,0,0,0,0,0,0,0,0,0,0,0,0,0,0,0,0,0,0,0,0,0,0,0]
["秋田県","05209","鹿角市",{"$f":"SUM(E14:AG14)","v":0},0,0,0,0,0,0,0,0,0,0,0,0,0,0,0,0,0,0,0,0,0,0,0,0,0,0,0,0,0]
["秋田県","05210","由利本荘市",{"$f":"SUM(E15:AG15)","v":0},0,0,0,0,0,0,0,0,0,0,0,0,0,0,0,0,0,0,0,0,0,0,0,0,0,0,0,0,0]
["秋田県","05211","潟上市",{"$f":"SUM(E16:AG16)","v":0},0,0,0,0,0,0,0,0,0,0,0,0,0,0,0,0,0,0,0,0,0,0,0,0,0,0,0,0,0]
["秋田県","05212","大仙市",{"$f":"SUM(E17:AG17)","v":0},0,0,0,0,0,0,0,0,0,0,0,0,0,0,0,0,0,0,0,0,0,0,0,0,0,0,0,0,0]
["秋田県","05213","北秋田市",{"$f":"SUM(E18:AG18)","v":0},0,0,0,0,0,0,0,0,0,0,0,0,0,0,0,0,0,0,0,0,0,0,0,0,0,0,0,0,0]
["秋田県","05214","にかほ市",{"$f":"SUM(E19:AG19)","v":0},0,0,0,0,0,0,0,0,0,0,0,0,0,0,0,0,0,0,0,0,0,0,0,0,0,0,0,0,0]
["秋田県","05215","仙北市",{"$f":"SUM(E20:AG20)","v":0},0,0,0,0,0,0,0,0,0,0,0,0,0,0,0,0,0,0,0,0,0,0,0,0,0,0,0,0,0]
["秋田県","05303","小坂町",{"$f":"SUM(E21:AG21)","v":0},0,0,0,0,0,0,0,0,0,0,0,0,0,0,0,0,0,0,0,0,0,0,0,0,0,0,0,0,0]
["秋田県","05327","上小阿仁村",{"$f":"SUM(E22:AG22)","v":0},0,0,0,0,0,0,0,0,0,0,0,0,0,0,0,0,0,0,0,0,0,0,0,0,0,0,0,0,0]
["秋田県","05346","藤里町",{"$f":"SUM(E23:AG23)","v":0},0,0,0,0,0,0,0,0,0,0,0,0,0,0,0,0,0,0,0,0,0,0,0,0,0,0,0,0,0]
["秋田県","05348","三種町",{"$f":"SUM(E24:AG24)","v":0},0,0,0,0,0,0,0,0,0,0,0,0,0,0,0,0,0,0,0,0,0,0,0,0,0,0,0,0,0]
["秋田県","05349","八峰町",{"$f":"SUM(E25:AG25)","v":0},0,0,0,0,0,0,0,0,0,0,0,0,0,0,0,0,0,0,0,0,0,0,0,0,0,0,0,0,0]
["秋田県","05361","五城目町",{"$f":"SUM(E26:AG26)","v":0},0,0,0,0,0,0,0,0,0,0,0,0,0,0,0,0,0,0,0,0,0,0,0,0,0,0,0,0,0]
["秋田県","05363","八郎潟町",{"$f":"SUM(E27:AG27)","v":0},0,0,0,0,0,0,0,0,0,0,0,0,0,0,0,0,0,0,0,0,0,0,0,0,0,0,0,0,0]
["秋田県","05366","井川町",{"$f":"SUM(E28:AG28)","v":0},0,0,0,0,0,0,0,0,0,0,0,0,0,0,0,0,0,0,0,0,0,0,0,0,0,0,0,0,0]
["秋田県","05368","大潟村",{"$f":"SUM(E29:AG29)","v":0},0,0,0,0,0,0,0,0,0,0,0,0,0,0,0,0,0,0,0,0,0,0,0,0,0,0,0,0,0]
["秋田県","05434","美郷町",{"$f":"SUM(E30:AG30)","v":0},0,0,0,0,0,0,0,0,0,0,0,0,0,0,0,0,0,0,0,0,0,0,0,0,0,0,0,0,0]
["秋田県","05463","羽後町",{"$f":"SUM(E31:AG31)","v":0},0,0,0,0,0,0,0,0,0,0,0,0,0,0,0,0,0,0,0,0,0,0,0,0,0,0,0,0,0]
["秋田県","05464","東成瀬村",{"$f":"SUM(E32:AG32)","v":0},0,0,0,0,0,0,0,0,0,0,0,0,0,0,0,0,0,0,0,0,0,0,0,0,0,0,0,0,0]

{"sheet":"施設資源化量内訳(メタン化)","index":19,"n_rows":32,"n_cols":33,"rows_kept":32,"merged":[[1,0,5,0],[1,1,5,1],[1,2,5,2],[2,3,4,3],[2,4,4,4],[2,5,4,5],[2,6,4,6],[2,7,4,7],[2,8,4,8],[2,9,4,9],[2,10,4,10],[2,11,4,11],[2,12,4,12],[2,13,4,13],[2,14,4,14],[2,15,4,15],[2,16,4,16],[2,17,4,17],[2,18,4,18],[2,19,4,19],[2,20,4,20],[2,21,4,21],[2,22,4,22],[2,23,4,23],[2,24,4,24],[2,25,4,25],[2,26,4,26],[2,27,4,27],[2,28,4,28],[2,29,4,29],[2,30,4,30],[2,32,4,32]]}
["【災害】中間処理後の再生利用量の状況（令和3年度実績）"]
["都道府県名","地方公共団体コード","市区町村名","メタン化施設"]
[{"$nulls":3},"合計","木くず","金属くず","コンクリートがら","その他がれき類","石綿含有廃棄物等","ＰＣＢ廃棄物","その他有害物、危険物","混合ごみ","可燃ごみ","不燃ごみ","資源ごみ","粗大ごみ","家電４品目","パソコン","自動車","ＦＲＰ船","鋼船","その他船舶","畳","漁網","タイヤ","その他家電","消火器","ガスボンベ","土石類","津波堆積物","その他",null,"漂着ごみ"]
[{"$nulls":31},"石膏ボード"]
[]
[{"$nulls":3},"（ｔ）","（ｔ）","（ｔ）","（ｔ）","（ｔ）","（ｔ）","（ｔ）","（ｔ）","（ｔ）","（ｔ）","（ｔ）","（ｔ）","（ｔ）","（ｔ）","（ｔ）","（ｔ）","（ｔ）","（ｔ）","（ｔ）","（ｔ）","（ｔ）","（ｔ）","（ｔ）","（ｔ）","（ｔ）","（ｔ）","（ｔ）","（ｔ）","（ｔ）","（ｔ）"]
["秋田県","05000","合計",{"$f":"SUM($D$8:$D$32)","v":0},{"$f":"SUM($E$8:$E$32)","v":0},{"$f":"SUM($F$8:$F$32)","v":0},{"$f":"SUM($G$8:$G$32)","v":0},{"$f":"SUM($H$8:$H$32)","v":0},{"$f":"SUM($I$8:$I$32)","v":0},{"$f":"SUM($J$8:$J$32)","v":0},{"$f":"SUM($K$8:$K$32)","v":0},{"$f":"SUM($L$8:$L$32)","v":0},{"$f":"SUM($M$8:$M$32)","v":0},{"$f":"SUM($N$8:$N$32)","v":0},{"$f":"SUM($O$8:$O$32)","v":0},{"$f":"SUM($P$8:$P$32)","v":0},{"$f":"SUM($Q$8:$Q$32)","v":0},{"$f":"SUM($R$8:$R$32)","v":0},{"$f":"SUM($S$8:$S$32)","v":0},{"$f":"SUM($T$8:$T$32)","v":0},{"$f":"SUM($U$8:$U$32)","v":0},{"$f":"SUM($V$8:$V$32)","v":0},{"$f":"SUM($W$8:$W$32)","v":0},{"$f":"SUM($X$8:$X$32)","v":0},{"$f":"SUM($Y$8:$Y$32)","v":0},{"$f":"SUM($Z$8:$Z$32)","v":0},{"$f":"SUM($AA$8:$AA$32)","v":0},{"$f":"SUM($AB$8:$AB$32)","v":0},{"$f":"SUM($AC$8:$AC$32)","v":0},{"$f":"SUM($AD$8:$AD$32)","v":0},{"$f":"SUM($AE$8:$AE$32)","v":0},{"$f":"SUM($AF$8:$AF$32)","v":0},{"$f":"SUM($AG$8:$AG$32)","v":0}]
["秋田県","05201","秋田市",{"$f":"SUM(E8:AG8)","v":0},0,0,0,0,0,0,0,0,0,0,0,0,0,0,0,0,0,0,0,0,0,0,0,0,0,0,0,0,0]
["秋田県","05202","能代市",{"$f":"SUM(E9:AG9)","v":0},0,0,0,0,0,0,0,0,0,0,0,0,0,0,0,0,0,0,0,0,0,0,0,0,0,0,0,0,0]
["秋田県","05203","横手市",{"$f":"SUM(E10:AG10)","v":0},0,0,0,0,0,0,0,0,0,0,0,0,0,0,0,0,0,0,0,0,0,0,0,0,0,0,0,0,0]
["秋田県","05204","大館市",{"$f":"SUM(E11:AG11)","v":0},0,0,0,0,0,0,0,0,0,0,0,0,0,0,0,0,0,0,0,0,0,0,0,0,0,0,0,0,0]
["秋田県","05206","男鹿市",{"$f":"SUM(E12:AG12)","v":0},0,0,0,0,0,0,0,0,0,0,0,0,0,0,0,0,0,0,0,0,0,0,0,0,0,0,0,0,0]
["秋田県","05207","湯沢市",{"$f":"SUM(E13:AG13)","v":0},0,0,0,0,0,0,0,0,0,0,0,0,0,0,0,0,0,0,0,0,0,0,0,0,0,0,0,0,0]
["秋田県","05209","鹿角市",{"$f":"SUM(E14:AG14)","v":0},0,0,0,0,0,0,0,0,0,0,0,0,0,0,0,0,0,0,0,0,0,0,0,0,0,0,0,0,0]
["秋田県","05210","由利本荘市",{"$f":"SUM(E15:AG15)","v":0},0,0,0,0,0,0,0,0,0,0,0,0,0,0,0,0,0,0,0,0,0,0,0,0,0,0,0,0,0]
["秋田県","05211","潟上市",{"$f":"SUM(E16:AG16)","v":0},0,0,0,0,0,0,0,0,0,0,0,0,0,0,0,0,0,0,0,0,0,0,0,0,0,0,0,0,0]
["秋田県","05212","大仙市",{"$f":"SUM(E17:AG17)","v":0},0,0,0,0,0,0,0,0,0,0,0,0,0,0,0,0,0,0,0,0,0,0,0,0,0,0,0,0,0]
["秋田県","05213","北秋田市",{"$f":"SUM(E18:AG18)","v":0},0,0,0,0,0,0,0,0,0,0,0,0,0,0,0,0,0,0,0,0,0,0,0,0,0,0,0,0,0]
["秋田県","05214","にかほ市",{"$f":"SUM(E19:AG19)","v":0},0,0,0,0,0,0,0,0,0,0,0,0,0,0,0,0,0,0,0,0,0,0,0,0,0,0,0,0,0]
["秋田県","05215","仙北市",{"$f":"SUM(E20:AG20)","v":0},0,0,0,0,0,0,0,0,0,0,0,0,0,0,0,0,0,0,0,0,0,0,0,0,0,0,0,0,0]
["秋田県","05303","小坂町",{"$f":"SUM(E21:AG21)","v":0},0,0,0,0,0,0,0,0,0,0,0,0,0,0,0,0,0,0,0,0,0,0,0,0,0,0,0,0,0]
["秋田県","05327","上小阿仁村",{"$f":"SUM(E22:AG22)","v":0},0,0,0,0,0,0,0,0,0,0,0,0,0,0,0,0,0,0,0,0,0,0,0,0,0,0,0,0,0]
["秋田県","05346","藤里町",{"$f":"SUM(E23:AG23)","v":0},0,0,0,0,0,0,0,0,0,0,0,0,0,0,0,0,0,0,0,0,0,0,0,0,0,0,0,0,0]
["秋田県","05348","三種町",{"$f":"SUM(E24:AG24)","v":0},0,0,0,0,0,0,0,0,0,0,0,0,0,0,0,0,0,0,0,0,0,0,0,0,0,0,0,0,0]
["秋田県","05349","八峰町",{"$f":"SUM(E25:AG25)","v":0},0,0,0,0,0,0,0,0,0,0,0,0,0,0,0,0,0,0,0,0,0,0,0,0,0,0,0,0,0]
["秋田県","05361","五城目町",{"$f":"SUM(E26:AG26)","v":0},0,0,0,0,0,0,0,0,0,0,0,0,0,0,0,0,0,0,0,0,0,0,0,0,0,0,0,0,0]
["秋田県","05363","八郎潟町",{"$f":"SUM(E27:AG27)","v":0},0,0,0,0,0,0,0,0,0,0,0,0,0,0,0,0,0,0,0,0,0,0,0,0,0,0,0,0,0]
["秋田県","05366","井川町",{"$f":"SUM(E28:AG28)","v":0},0,0,0,0,0,0,0,0,0,0,0,0,0,0,0,0,0,0,0,0,0,0,0,0,0,0,0,0,0]
["秋田県","05368","大潟村",{"$f":"SUM(E29:AG29)","v":0},0,0,0,0,0,0,0,0,0,0,0,0,0,0,0,0,0,0,0,0,0,0,0,0,0,0,0,0,0]
["秋田県","05434","美郷町",{"$f":"SUM(E30:AG30)","v":0},0,0,0,0,0,0,0,0,0,0,0,0,0,0,0,0,0,0,0,0,0,0,0,0,0,0,0,0,0]
["秋田県","05463","羽後町",{"$f":"SUM(E31:AG31)","v":0},0,0,0,0,0,0,0,0,0,0,0,0,0,0,0,0,0,0,0,0,0,0,0,0,0,0,0,0,0]
["秋田県","05464","東成瀬村",{"$f":"SUM(E32:AG32)","v":0},0,0,0,0,0,0,0,0,0,0,0,0,0,0,0,0,0,0,0,0,0,0,0,0,0,0,0,0,0]

{"sheet":"施設資源化量内訳(燃料化)","index":20,"n_rows":32,"n_cols":33,"rows_kept":32,"merged":[[1,0,5,0],[1,1,5,1],[1,2,5,2],[2,3,4,3],[2,4,4,4],[2,5,4,5],[2,6,4,6],[2,7,4,7],[2,8,4,8],[2,9,4,9],[2,10,4,10],[2,11,4,11],[2,12,4,12],[2,13,4,13],[2,14,4,14],[2,15,4,15],[2,16,4,16],[2,17,4,17],[2,18,4,18],[2,19,4,19],[2,20,4,20],[2,21,4,21],[2,22,4,22],[2,23,4,23],[2,24,4,24],[2,25,4,25],[2,26,4,26],[2,27,4,27],[2,28,4,28],[2,29,4,29],[2,30,4,30],[2,32,4,32]]}
["【災害】中間処理後の再生利用量の状況（令和3年度実績）"]
["都道府県名","地方公共団体コード","市区町村名","ごみ燃料化施設"]
[{"$nulls":3},"合計","木くず","金属くず","コンクリートがら","その他がれき類","石綿含有廃棄物等","ＰＣＢ廃棄物","その他有害物、危険物","混合ごみ","可燃ごみ","不燃ごみ","資源ごみ","粗大ごみ","家電４品目","パソコン","自動車","ＦＲＰ船","鋼船","その他船舶","畳","漁網","タイヤ","その他家電","消火器","ガスボンベ","土石類","津波堆積物","その他",null,"漂着ごみ"]
[{"$nulls":31},"石膏ボード"]
[]
[{"$nulls":3},"（ｔ）","（ｔ）","（ｔ）","（ｔ）","（ｔ）","（ｔ）","（ｔ）","（ｔ）","（ｔ）","（ｔ）","（ｔ）","（ｔ）","（ｔ）","（ｔ）","（ｔ）","（ｔ）","（ｔ）","（ｔ）","（ｔ）","（ｔ）","（ｔ）","（ｔ）","（ｔ）","（ｔ）","（ｔ）","（ｔ）","（ｔ）","（ｔ）","（ｔ）","（ｔ）"]
["秋田県","05000","合計",{"$f":"SUM($D$8:$D$32)","v":0},{"$f":"SUM($E$8:$E$32)","v":0},{"$f":"SUM($F$8:$F$32)","v":0},{"$f":"SUM($G$8:$G$32)","v":0},{"$f":"SUM($H$8:$H$32)","v":0},{"$f":"SUM($I$8:$I$32)","v":0},{"$f":"SUM($J$8:$J$32)","v":0},{"$f":"SUM($K$8:$K$32)","v":0},{"$f":"SUM($L$8:$L$32)","v":0},{"$f":"SUM($M$8:$M$32)","v":0},{"$f":"SUM($N$8:$N$32)","v":0},{"$f":"SUM($O$8:$O$32)","v":0},{"$f":"SUM($P$8:$P$32)","v":0},{"$f":"SUM($Q$8:$Q$32)","v":0},{"$f":"SUM($R$8:$R$32)","v":0},{"$f":"SUM($S$8:$S$32)","v":0},{"$f":"SUM($T$8:$T$32)","v":0},{"$f":"SUM($U$8:$U$32)","v":0},{"$f":"SUM($V$8:$V$32)","v":0},{"$f":"SUM($W$8:$W$32)","v":0},{"$f":"SUM($X$8:$X$32)","v":0},{"$f":"SUM($Y$8:$Y$32)","v":0},{"$f":"SUM($Z$8:$Z$32)","v":0},{"$f":"SUM($AA$8:$AA$32)","v":0},{"$f":"SUM($AB$8:$AB$32)","v":0},{"$f":"SUM($AC$8:$AC$32)","v":0},{"$f":"SUM($AD$8:$AD$32)","v":0},{"$f":"SUM($AE$8:$AE$32)","v":0},{"$f":"SUM($AF$8:$AF$32)","v":0},{"$f":"SUM($AG$8:$AG$32)","v":0}]
["秋田県","05201","秋田市",{"$f":"SUM(E8:AG8)","v":0},0,0,0,0,0,0,0,0,0,0,0,0,0,0,0,0,0,0,0,0,0,0,0,0,0,0,0,0,0]
["秋田県","05202","能代市",{"$f":"SUM(E9:AG9)","v":0},0,0,0,0,0,0,0,0,0,0,0,0,0,0,0,0,0,0,0,0,0,0,0,0,0,0,0,0,0]
["秋田県","05203","横手市",{"$f":"SUM(E10:AG10)","v":0},0,0,0,0,0,0,0,0,0,0,0,0,0,0,0,0,0,0,0,0,0,0,0,0,0,0,0,0,0]
["秋田県","05204","大館市",{"$f":"SUM(E11:AG11)","v":0},0,0,0,0,0,0,0,0,0,0,0,0,0,0,0,0,0,0,0,0,0,0,0,0,0,0,0,0,0]
["秋田県","05206","男鹿市",{"$f":"SUM(E12:AG12)","v":0},0,0,0,0,0,0,0,0,0,0,0,0,0,0,0,0,0,0,0,0,0,0,0,0,0,0,0,0,0]
["秋田県","05207","湯沢市",{"$f":"SUM(E13:AG13)","v":0},0,0,0,0,0,0,0,0,0,0,0,0,0,0,0,0,0,0,0,0,0,0,0,0,0,0,0,0,0]
["秋田県","05209","鹿角市",{"$f":"SUM(E14:AG14)","v":0},0,0,0,0,0,0,0,0,0,0,0,0,0,0,0,0,0,0,0,0,0,0,0,0,0,0,0,0,0]
["秋田県","05210","由利本荘市",{"$f":"SUM(E15:AG15)","v":0},0,0,0,0,0,0,0,0,0,0,0,0,0,0,0,0,0,0,0,0,0,0,0,0,0,0,0,0,0]
["秋田県","05211","潟上市",{"$f":"SUM(E16:AG16)","v":0},0,0,0,0,0,0,0,0,0,0,0,0,0,0,0,0,0,0,0,0,0,0,0,0,0,0,0,0,0]
["秋田県","05212","大仙市",{"$f":"SUM(E17:AG17)","v":0},0,0,0,0,0,0,0,0,0,0,0,0,0,0,0,0,0,0,0,0,0,0,0,0,0,0,0,0,0]
["秋田県","05213","北秋田市",{"$f":"SUM(E18:AG18)","v":0},0,0,0,0,0,0,0,0,0,0,0,0,0,0,0,0,0,0,0,0,0,0,0,0,0,0,0,0,0]
["秋田県","05214","にかほ市",{"$f":"SUM(E19:AG19)","v":0},0,0,0,0,0,0,0,0,0,0,0,0,0,0,0,0,0,0,0,0,0,0,0,0,0,0,0,0,0]
["秋田県","05215","仙北市",{"$f":"SUM(E20:AG20)","v":0},0,0,0,0,0,0,0,0,0,0,0,0,0,0,0,0,0,0,0,0,0,0,0,0,0,0,0,0,0]
["秋田県","05303","小坂町",{"$f":"SUM(E21:AG21)","v":0},0,0,0,0,0,0,0,0,0,0,0,0,0,0,0,0,0,0,0,0,0,0,0,0,0,0,0,0,0]
["秋田県","05327","上小阿仁村",{"$f":"SUM(E22:AG22)","v":0},0,0,0,0,0,0,0,0,0,0,0,0,0,0,0,0,0,0,0,0,0,0,0,0,0,0,0,0,0]
["秋田県","05346","藤里町",{"$f":"SUM(E23:AG23)","v":0},0,0,0,0,0,0,0,0,0,0,0,0,0,0,0,0,0,0,0,0,0,0,0,0,0,0,0,0,0]
["秋田県","05348","三種町",{"$f":"SUM(E24:AG24)","v":0},0,0,0,0,0,0,0,0,0,0,0,0,0,0,0,0,0,0,0,0,0,0,0,0,0,0,0,0,0]
["秋田県","05349","八峰町",{"$f":"SUM(E25:AG25)","v":0},0,0,0,0,0,0,0,0,0,0,0,0,0,0,0,0,0,0,0,0,0,0,0,0,0,0,0,0,0]
["秋田県","05361","五城目町",{"$f":"SUM(E26:AG26)","v":0},0,0,0,0,0,0,0,0,0,0,0,0,0,0,0,0,0,0,0,0,0,0,0,0,0,0,0,0,0]
["秋田県","05363","八郎潟町",{"$f":"SUM(E27:AG27)","v":0},0,0,0,0,0,0,0,0,0,0,0,0,0,0,0,0,0,0,0,0,0,0,0,0,0,0,0,0,0]
["秋田県","05366","井川町",{"$f":"SUM(E28:AG28)","v":0},0,0,0,0,0,0,0,0,0,0,0,0,0,0,0,0,0,0,0,0,0,0,0,0,0,0,0,0,0]
["秋田県","05368","大潟村",{"$f":"SUM(E29:AG29)","v":0},0,0,0,0,0,0,0,0,0,0,0,0,0,0,0,0,0,0,0,0,0,0,0,0,0,0,0,0,0]
["秋田県","05434","美郷町",{"$f":"SUM(E30:AG30)","v":0},0,0,0,0,0,0,0,0,0,0,0,0,0,0,0,0,0,0,0,0,0,0,0,0,0,0,0,0,0]
["秋田県","05463","羽後町",{"$f":"SUM(E31:AG31)","v":0},0,0,0,0,0,0,0,0,0,0,0,0,0,0,0,0,0,0,0,0,0,0,0,0,0,0,0,0,0]
["秋田県","05464","東成瀬村",{"$f":"SUM(E32:AG32)","v":0},0,0,0,0,0,0,0,0,0,0,0,0,0,0,0,0,0,0,0,0,0,0,0,0,0,0,0,0,0]

{"sheet":"施設資源化量内訳(セメント)","index":21,"n_rows":32,"n_cols":33,"rows_kept":32,"merged":[[1,0,5,0],[1,1,5,1],[1,2,5,2],[2,3,4,3],[2,4,4,4],[2,5,4,5],[2,6,4,6],[2,7,4,7],[2,8,4,8],[2,9,4,9],[2,10,4,10],[2,11,4,11],[2,12,4,12],[2,13,4,13],[2,14,4,14],[2,15,4,15],[2,16,4,16],[2,17,4,17],[2,18,4,18],[2,19,4,19],[2,20,4,20],[2,21,4,21],[2,22,4,22],[2,23,4,23],[2,24,4,24],[2,25,4,25],[2,26,4,26],[2,27,4,27],[2,28,4,28],[2,29,4,29],[2,30,4,30],[2,32,4,32]]}
["【災害】中間処理後の再生利用量の状況（令和3年度実績）"]
["都道府県名","地方公共団体コード","市区町村名","セメント等への直接投入"]
[{"$nulls":3},"合計","木くず","金属くず","コンクリートがら","その他がれき類","石綿含有廃棄物等","ＰＣＢ廃棄物","その他有害物、危険物","混合ごみ","可燃ごみ","不燃ごみ","資源ごみ","粗大ごみ","家電４品目","パソコン","自動車","ＦＲＰ船","鋼船","その他船舶","畳","漁網","タイヤ","その他家電","消火器","ガスボンベ","土石類","津波堆積物","その他",null,"漂着ごみ"]
[{"$nulls":31},"石膏ボード"]
[]
[{"$nulls":3},"（ｔ）","（ｔ）","（ｔ）","（ｔ）","（ｔ）","（ｔ）","（ｔ）","（ｔ）","（ｔ）","（ｔ）","（ｔ）","（ｔ）","（ｔ）","（ｔ）","（ｔ）","（ｔ）","（ｔ）","（ｔ）","（ｔ）","（ｔ）","（ｔ）","（ｔ）","（ｔ）","（ｔ）","（ｔ）","（ｔ）","（ｔ）","（ｔ）","（ｔ）","（ｔ）"]
["秋田県","05000","合計",{"$f":"SUM($D$8:$D$32)","v":0},{"$f":"SUM($E$8:$E$32)","v":0},{"$f":"SUM($F$8:$F$32)","v":0},{"$f":"SUM($G$8:$G$32)","v":0},{"$f":"SUM($H$8:$H$32)","v":0},{"$f":"SUM($I$8:$I$32)","v":0},{"$f":"SUM($J$8:$J$32)","v":0},{"$f":"SUM($K$8:$K$32)","v":0},{"$f":"SUM($L$8:$L$32)","v":0},{"$f":"SUM($M$8:$M$32)","v":0},{"$f":"SUM($N$8:$N$32)","v":0},{"$f":"SUM($O$8:$O$32)","v":0},{"$f":"SUM($P$8:$P$32)","v":0},{"$f":"SUM($Q$8:$Q$32)","v":0},{"$f":"SUM($R$8:$R$32)","v":0},{"$f":"SUM($S$8:$S$32)","v":0},{"$f":"SUM($T$8:$T$32)","v":0},{"$f":"SUM($U$8:$U$32)","v":0},{"$f":"SUM($V$8:$V$32)","v":0},{"$f":"SUM($W$8:$W$32)","v":0},{"$f":"SUM($X$8:$X$32)","v":0},{"$f":"SUM($Y$8:$Y$32)","v":0},{"$f":"SUM($Z$8:$Z$32)","v":0},{"$f":"SUM($AA$8:$AA$32)","v":0},{"$f":"SUM($AB$8:$AB$32)","v":0},{"$f":"SUM($AC$8:$AC$32)","v":0},{"$f":"SUM($AD$8:$AD$32)","v":0},{"$f":"SUM($AE$8:$AE$32)","v":0},{"$f":"SUM($AF$8:$AF$32)","v":0},{"$f":"SUM($AG$8:$AG$32)","v":0}]
["秋田県","05201","秋田市",{"$f":"SUM(E8:AG8)","v":0},0,0,0,0,0,0,0,0,0,0,0,0,0,0,0,0,0,0,0,0,0,0,0,0,0,0,0,0,0]
["秋田県","05202","能代市",{"$f":"SUM(E9:AG9)","v":0},0,0,0,0,0,0,0,0,0,0,0,0,0,0,0,0,0,0,0,0,0,0,0,0,0,0,0,0,0]
["秋田県","05203","横手市",{"$f":"SUM(E10:AG10)","v":0},0,0,0,0,0,0,0,0,0,0,0,0,0,0,0,0,0,0,0,0,0,0,0,0,0,0,0,0,0]
["秋田県","05204","大館市",{"$f":"SUM(E11:AG11)","v":0},0,0,0,0,0,0,0,0,0,0,0,0,0,0,0,0,0,0,0,0,0,0,0,0,0,0,0,0,0]
["秋田県","05206","男鹿市",{"$f":"SUM(E12:AG12)","v":0},0,0,0,0,0,0,0,0,0,0,0,0,0,0,0,0,0,0,0,0,0,0,0,0,0,0,0,0,0]
["秋田県","05207","湯沢市",{"$f":"SUM(E13:AG13)","v":0},0,0,0,0,0,0,0,0,0,0,0,0,0,0,0,0,0,0,0,0,0,0,0,0,0,0,0,0,0]
["秋田県","05209","鹿角市",{"$f":"SUM(E14:AG14)","v":0},0,0,0,0,0,0,0,0,0,0,0,0,0,0,0,0,0,0,0,0,0,0,0,0,0,0,0,0,0]
["秋田県","05210","由利本荘市",{"$f":"SUM(E15:AG15)","v":0},0,0,0,0,0,0,0,0,0,0,0,0,0,0,0,0,0,0,0,0,0,0,0,0,0,0,0,0,0]
["秋田県","05211","潟上市",{"$f":"SUM(E16:AG16)","v":0},0,0,0,0,0,0,0,0,0,0,0,0,0,0,0,0,0,0,0,0,0,0,0,0,0,0,0,0,0]
["秋田県","05212","大仙市",{"$f":"SUM(E17:AG17)","v":0},0,0,0,0,0,0,0,0,0,0,0,0,0,0,0,0,0,0,0,0,0,0,0,0,0,0,0,0,0]
["秋田県","05213","北秋田市",{"$f":"SUM(E18:AG18)","v":0},0,0,0,0,0,0,0,0,0,0,0,0,0,0,0,0,0,0,0,0,0,0,0,0,0,0,0,0,0]
["秋田県","05214","にかほ市",{"$f":"SUM(E19:AG19)","v":0},0,0,0,0,0,0,0,0,0,0,0,0,0,0,0,0,0,0,0,0,0,0,0,0,0,0,0,0,0]
["秋田県","05215","仙北市",{"$f":"SUM(E20:AG20)","v":0},0,0,0,0,0,0,0,0,0,0,0,0,0,0,0,0,0,0,0,0,0,0,0,0,0,0,0,0,0]
["秋田県","05303","小坂町",{"$f":"SUM(E21:AG21)","v":0},0,0,0,0,0,0,0,0,0,0,0,0,0,0,0,0,0,0,0,0,0,0,0,0,0,0,0,0,0]
["秋田県","05327","上小阿仁村",{"$f":"SUM(E22:AG22)","v":0},0,0,0,0,0,0,0,0,0,0,0,0,0,0,0,0,0,0,0,0,0,0,0,0,0,0,0,0,0]
["秋田県","05346","藤里町",{"$f":"SUM(E23:AG23)","v":0},0,0,0,0,0,0,0,0,0,0,0,0,0,0,0,0,0,0,0,0,0,0,0,0,0,0,0,0,0]
["秋田県","05348","三種町",{"$f":"SUM(E24:AG24)","v":0},0,0,0,0,0,0,0,0,0,0,0,0,0,0,0,0,0,0,0,0,0,0,0,0,0,0,0,0,0]
["秋田県","05349","八峰町",{"$f":"SUM(E25:AG25)","v":0},0,0,0,0,0,0,0,0,0,0,0,0,0,0,0,0,0,0,0,0,0,0,0,0,0,0,0,0,0]
["秋田県","05361","五城目町",{"$f":"SUM(E26:AG26)","v":0},0,0,0,0,0,0,0,0,0,0,0,0,0,0,0,0,0,0,0,0,0,0,0,0,0,0,0,0,0]
["秋田県","05363","八郎潟町",{"$f":"SUM(E27:AG27)","v":0},0,0,0,0,0,0,0,0,0,0,0,0,0,0,0,0,0,0,0,0,0,0,0,0,0,0,0,0,0]
["秋田県","05366","井川町",{"$f":"SUM(E28:AG28)","v":0},0,0,0,0,0,0,0,0,0,0,0,0,0,0,0,0,0,0,0,0,0,0,0,0,0,0,0,0,0]
["秋田県","05368","大潟村",{"$f":"SUM(E29:AG29)","v":0},0,0,0,0,0,0,0,0,0,0,0,0,0,0,0,0,0,0,0,0,0,0,0,0,0,0,0,0,0]
["秋田県","05434","美郷町",{"$f":"SUM(E30:AG30)","v":0},0,0,0,0,0,0,0,0,0,0,0,0,0,0,0,0,0,0,0,0,0,0,0,0,0,0,0,0,0]
["秋田県","05463","羽後町",{"$f":"SUM(E31:AG31)","v":0},0,0,0,0,0,0,0,0,0,0,0,0,0,0,0,0,0,0,0,0,0,0,0,0,0,0,0,0,0]
["秋田県","05464","東成瀬村",{"$f":"SUM(E32:AG32)","v":0},0,0,0,0,0,0,0,0,0,0,0,0,0,0,0,0,0,0,0,0,0,0,0,0,0,0,0,0,0]

{"sheet":"施設資源化量内訳(資源化等)","index":22,"n_rows":32,"n_cols":33,"rows_kept":32,"merged":[[1,0,5,0],[1,1,5,1],[1,2,5,2],[2,3,4,3],[2,4,4,4],[2,5,4,5],[2,6,4,6],[2,7,4,7],[2,8,4,8],[2,9,4,9],[2,10,4,10],[2,11,4,11],[2,12,4,12],[2,13,4,13],[2,14,4,14],[2,15,4,15],[2,16,4,16],[2,17,4,17],[2,18,4,18],[2,19,4,19],[2,20,4,20],[2,21,4,21],[2,22,4,22],[2,23,4,23],[2,24,4,24],[2,25,4,25],[2,26,4,26],[2,27,4,27],[2,28,4,28],[2,29,4,29],[2,30,4,30],[2,32,4,32]]}
["【災害】中間処理後の再生利用量の状況（令和3年度実績）"]
["都道府県名","地方公共団体コード","市区町村名","その他資源化等を行う施設"]
[{"$nulls":3},"合計","木くず","金属くず","コンクリートがら","その他がれき類","石綿含有廃棄物等","ＰＣＢ廃棄物","その他有害物、危険物","混合ごみ","可燃ごみ","不燃ごみ","資源ごみ","粗大ごみ","家電４品目","パソコン","自動車","ＦＲＰ船","鋼船","その他船舶","畳","漁網","タイヤ","その他家電","消火器","ガスボンベ","土石類","津波堆積物","その他",null,"漂着ごみ"]
[{"$nulls":31},"石膏ボード"]
[]
[{"$nulls":3},"（ｔ）","（ｔ）","（ｔ）","（ｔ）","（ｔ）","（ｔ）","（ｔ）","（ｔ）","（ｔ）","（ｔ）","（ｔ）","（ｔ）","（ｔ）","（ｔ）","（ｔ）","（ｔ）","（ｔ）","（ｔ）","（ｔ）","（ｔ）","（ｔ）","（ｔ）","（ｔ）","（ｔ）","（ｔ）","（ｔ）","（ｔ）","（ｔ）","（ｔ）","（ｔ）"]
["秋田県","05000","合計",{"$f":"SUM($D$8:$D$32)","v":0},{"$f":"SUM($E$8:$E$32)","v":0},{"$f":"SUM($F$8:$F$32)","v":0},{"$f":"SUM($G$8:$G$32)","v":0},{"$f":"SUM($H$8:$H$32)","v":0},{"$f":"SUM($I$8:$I$32)","v":0},{"$f":"SUM($J$8:$J$32)","v":0},{"$f":"SUM($K$8:$K$32)","v":0},{"$f":"SUM($L$8:$L$32)","v":0},{"$f":"SUM($M$8:$M$32)","v":0},{"$f":"SUM($N$8:$N$32)","v":0},{"$f":"SUM($O$8:$O$32)","v":0},{"$f":"SUM($P$8:$P$32)","v":0},{"$f":"SUM($Q$8:$Q$32)","v":0},{"$f":"SUM($R$8:$R$32)","v":0},{"$f":"SUM($S$8:$S$32)","v":0},{"$f":"SUM($T$8:$T$32)","v":0},{"$f":"SUM($U$8:$U$32)","v":0},{"$f":"SUM($V$8:$V$32)","v":0},{"$f":"SUM($W$8:$W$32)","v":0},{"$f":"SUM($X$8:$X$32)","v":0},{"$f":"SUM($Y$8:$Y$32)","v":0},{"$f":"SUM($Z$8:$Z$32)","v":0},{"$f":"SUM($AA$8:$AA$32)","v":0},{"$f":"SUM($AB$8:$AB$32)","v":0},{"$f":"SUM($AC$8:$AC$32)","v":0},{"$f":"SUM($AD$8:$AD$32)","v":0},{"$f":"SUM($AE$8:$AE$32)","v":0},{"$f":"SUM($AF$8:$AF$32)","v":0},{"$f":"SUM($AG$8:$AG$32)","v":0}]
["秋田県","05201","秋田市",{"$f":"SUM(E8:AG8)","v":0},0,0,0,0,0,0,0,0,0,0,0,0,0,0,0,0,0,0,0,0,0,0,0,0,0,0,0,0,0]
["秋田県","05202","能代市",{"$f":"SUM(E9:AG9)","v":0},0,0,0,0,0,0,0,0,0,0,0,0,0,0,0,0,0,0,0,0,0,0,0,0,0,0,0,0,0]
["秋田県","05203","横手市",{"$f":"SUM(E10:AG10)","v":0},0,0,0,0,0,0,0,0,0,0,0,0,0,0,0,0,0,0,0,0,0,0,0,0,0,0,0,0,0]
["秋田県","05204","大館市",{"$f":"SUM(E11:AG11)","v":0},0,0,0,0,0,0,0,0,0,0,0,0,0,0,0,0,0,0,0,0,0,0,0,0,0,0,0,0,0]
["秋田県","05206","男鹿市",{"$f":"SUM(E12:AG12)","v":0},0,0,0,0,0,0,0,0,0,0,0,0,0,0,0,0,0,0,0,0,0,0,0,0,0,0,0,0,0]
["秋田県","05207","湯沢市",{"$f":"SUM(E13:AG13)","v":0},0,0,0,0,0,0,0,0,0,0,0,0,0,0,0,0,0,0,0,0,0,0,0,0,0,0,0,0,0]
["秋田県","05209","鹿角市",{"$f":"SUM(E14:AG14)","v":0},0,0,0,0,0,0,0,0,0,0,0,0,0,0,0,0,0,0,0,0,0,0,0,0,0,0,0,0,0]
["秋田県","05210","由利本荘市",{"$f":"SUM(E15:AG15)","v":0},0,0,0,0,0,0,0,0,0,0,0,0,0,0,0,0,0,0,0,0,0,0,0,0,0,0,0,0,0]
["秋田県","05211","潟上市",{"$f":"SUM(E16:AG16)","v":0},0,0,0,0,0,0,0,0,0,0,0,0,0,0,0,0,0,0,0,0,0,0,0,0,0,0,0,0,0]
["秋田県","05212","大仙市",{"$f":"SUM(E17:AG17)","v":0},0,0,0,0,0,0,0,0,0,0,0,0,0,0,0,0,0,0,0,0,0,0,0,0,0,0,0,0,0]
["秋田県","05213","北秋田市",{"$f":"SUM(E18:AG18)","v":0},0,0,0,0,0,0,0,0,0,0,0,0,0,0,0,0,0,0,0,0,0,0,0,0,0,0,0,0,0]
["秋田県","05214","にかほ市",{"$f":"SUM(E19:AG19)","v":0},0,0,0,0,0,0,0,0,0,0,0,0,0,0,0,0,0,0,0,0,0,0,0,0,0,0,0,0,0]
["秋田県","05215","仙北市",{"$f":"SUM(E20:AG20)","v":0},0,0,0,0,0,0,0,0,0,0,0,0,0,0,0,0,0,0,0,0,0,0,0,0,0,0,0,0,0]
["秋田県","05303","小坂町",{"$f":"SUM(E21:AG21)","v":0},0,0,0,0,0,0,0,0,0,0,0,0,0,0,0,0,0,0,0,0,0,0,0,0,0,0,0,0,0]
["秋田県","05327","上小阿仁村",{"$f":"SUM(E22:AG22)","v":0},0,0,0,0,0,0,0,0,0,0,0,0,0,0,0,0,0,0,0,0,0,0,0,0,0,0,0,0,0]
["秋田県","05346","藤里町",{"$f":"SUM(E23:AG23)","v":0},0,0,0,0,0,0,0,0,0,0,0,0,0,0,0,0,0,0,0,0,0,0,0,0,0,0,0,0,0]
["秋田県","05348","三種町",{"$f":"SUM(E24:AG24)","v":0},0,0,0,0,0,0,0,0,0,0,0,0,0,0,0,0,0,0,0,0,0,0,0,0,0,0,0,0,0]
["秋田県","05349","八峰町",{"$f":"SUM(E25:AG25)","v":0},0,0,0,0,0,0,0,0,0,0,0,0,0,0,0,0,0,0,0,0,0,0,0,0,0,0,0,0,0]
["秋田県","05361","五城目町",{"$f":"SUM(E26:AG26)","v":0},0,0,0,0,0,0,0,0,0,0,0,0,0,0,0,0,0,0,0,0,0,0,0,0,0,0,0,0,0]
["秋田県","05363","八郎潟町",{"$f":"SUM(E27:AG27)","v":0},0,0,0,0,0,0,0,0,0,0,0,0,0,0,0,0,0,0,0,0,0,0,0,0,0,0,0,0,0]
["秋田県","05366","井川町",{"$f":"SUM(E28:AG28)","v":0},0,0,0,0,0,0,0,0,0,0,0,0,0,0,0,0,0,0,0,0,0,0,0,0,0,0,0,0,0]
["秋田県","05368","大潟村",{"$f":"SUM(E29:AG29)","v":0},0,0,0,0,0,0,0,0,0,0,0,0,0,0,0,0,0,0,0,0,0,0,0,0,0,0,0,0,0]
["秋田県","05434","美郷町",{"$f":"SUM(E30:AG30)","v":0},0,0,0,0,0,0,0,0,0,0,0,0,0,0,0,0,0,0,0,0,0,0,0,0,0,0,0,0,0]
["秋田県","05463","羽後町",{"$f":"SUM(E31:AG31)","v":0},0,0,0,0,0,0,0,0,0,0,0,0,0,0,0,0,0,0,0,0,0,0,0,0,0,0,0,0,0]
["秋田県","05464","東成瀬村",{"$f":"SUM(E32:AG32)","v":0},0,0,0,0,0,0,0,0,0,0,0,0,0,0,0,0,0,0,0,0,0,0,0,0,0,0,0,0,0]

{"sheet":"ごみ処理量内訳","index":23,"n_rows":32,"n_cols":61,"rows_kept":32,"merged":[[1,0,5,0],[1,1,5,1],[1,2,5,2],[2,3,4,3],[2,4,4,4],[2,5,2,13],[2,14,4,14],[2,15,4,15],[2,16,4,16],[2,17,4,17],[2,18,2,26],[2,27,4,27],[2,28,4,28],[2,38,4,38],[2,39,4,39],[2,40,4,40],[2,50,4,50],[2,51,4,51],[2,52,4,52],[2,53,4,53],[2,54,4,54],[2,55,4,55],[2,56,4,56],[2,57,4,57],[2,58,4,58],[2,59,4,59],[2,60,4,60],[3,5,4,5],[3,6,4,6],[3,7,4,7],[3,8,4,8],[3,9,4,9],[3,10,4,10],[3,11,4,11],[3,12,4,12],[3,13,4,13],[3,18,4,18],[3,19,4,19],[3,20,4,20],[3,21,4,21],[3,22,4,22],[3,23,4,23],[3,24,4,24],[3,25,4,25],[3,26,4,26],[3,29,4,29],[3,30,4,30],[3,31,4,31],[3,32,4,32],[3,33,4,33],[3,34,4,34],[3,35,4,35],[3,36,4,36],[3,37,4,37],[3,41,4,41],[3,42,4,42],[3,43,4,43],[3,44,4,44],[3,45,4,45],[3,46,4,46],[3,47,4,47],[3,48,4,48],[3,49,4,49]]}
["【災害】ごみ処理の状況（令和3年度実績）"]
["都道府県名","地方公共団体コード","市区町村名","処理量（直接焼却量+焼却以外の中間処理量+直接最終処分量+直接資源化量)",{"$nulls":12},"焼却処理量 (直接焼却量+焼却施設以外の中間処理施設からの搬入量)",{"$nulls":10},"中間処理後再生利用量",{"$nulls":10},"最終処分量 (直接最終処分量+焼却残渣量+焼却施設以外の中間処理施設からの残渣量)",{"$nulls":11},"中間処理後保管量"]
[{"$nulls":3},"合計","直接焼却量","焼却以外の中間処理量 (粗大ごみ処理施設+ごみ堆肥化施設+ごみ飼料化施設+メタン化施設+ごみ燃料化施設+その他の資源化等を行う施設+その他の施設)",{"$nulls":8},"直接\n最終処分量\n（海洋投入\n含む）","直接\n資源化量 ","合計","直接焼却量","焼却施設以外の中間処理施設からの搬入量",{"$nulls":8},"合計","焼却施設における資源化量","焼却施設以外の中間処理施設における資源化量",{"$nulls":8},"合計","直接最終\n処分量\n（海洋投入含む）","焼却残渣量","焼却施設以外の中間処理施設からの残渣量",{"$nulls":8},"合計","焼却処理残渣の保管量","粗大ごみ\n処理施設","ごみ堆肥化施設","ごみ飼料化施設","メタン化施設","ごみ燃料化\n施設","その他の資源化等を行う施設","セメント等への直接投入","その他の\n施設","直接最終\n処分"]
[{"$nulls":5},"合計","粗大ごみ\n処理施設","ごみ堆肥化施設","ごみ飼料化施設","メタン化施設","ごみ燃料化\n施設","その他の資源化等を行う施設","セメント等への直接投入","その他の\n施設",{"$nulls":4},"合計","粗大ごみ\n処理施設","ごみ堆肥化施設","ごみ飼料化施設","メタン化施設","ごみ燃料化\n施設","その他の資源化等を行う施設","セメント等への直接投入","その他の\n施設",null,null,"合計","粗大ごみ\n処理施設","ごみ堆肥化施設","ごみ飼料化施設","メタン化施設","ごみ燃料化\n施設","その他の資源化等を行う施設","セメント等への直接投入","その他の\n施設",{"$nulls":3},"合計","粗大ごみ\n処理施設","ごみ堆肥化施設","ごみ飼料化施設","メタン化施設","ごみ燃料化\n施設","その他の資源化等を行う施設","セメント等への直接投入","その他の\n施設"]
[]
[{"$nulls":3},"（ｔ）","（ｔ）","（ｔ）","（ｔ）","（ｔ）","（ｔ）","（ｔ）","（ｔ）","（ｔ）","（ｔ）","（ｔ）","（ｔ）","（ｔ）","（ｔ）","（ｔ）","（ｔ）","（ｔ）","（ｔ）","（ｔ）","（ｔ）","（ｔ）","（ｔ）","（ｔ）","（ｔ）","（ｔ）","（ｔ）","（ｔ）","（ｔ）","（ｔ）","（ｔ）","（ｔ）","（ｔ）","（ｔ）","（ｔ）","（ｔ）","（ｔ）","（ｔ）","（ｔ）","（ｔ）","（ｔ）","（ｔ）","（ｔ）","（ｔ）","（ｔ）","（ｔ）","（ｔ）","（ｔ）","（ｔ）","（ｔ）","（ｔ）","（ｔ）","（ｔ）","（ｔ）","（ｔ）","（ｔ）","（ｔ）","（ｔ）","（ｔ）"]
["秋田県","05000","合計",{"$f":"SUM($D$8:$D$32)","v":0},{"$f":"SUM($E$8:$E$32)","v":0},{"$f":"SUM($F$8:$F$32)","v":0},{"$f":"SUM($G$8:$G$32)","v":0},{"$f":"SUM($H$8:$H$32)","v":0},{"$f":"SUM($I$8:$I$32)","v":0},{"$f":"SUM($J$8:$J$32)","v":0},{"$f":"SUM($K$8:$K$32)","v":0},{"$f":"SUM($L$8:$L$32)","v":0},{"$f":"SUM($M$8:$M$32)","v":0},{"$f":"SUM($N$8:$N$32)","v":0},{"$f":"SUM($O$8:$O$32)","v":0},{"$f":"SUM($P$8:$P$32)","v":0},{"$f":"SUM($Q$8:$Q$32)","v":0},{"$f":"SUM($R$8:$R$32)","v":0},{"$f":"SUM($S$8:$S$32)","v":0},{"$f":"SUM($T$8:$T$32)","v":0},{"$f":"SUM($U$8:$U$32)","v":0},{"$f":"SUM($V$8:$V$32)","v":0},{"$f":"SUM($W$8:$W$32)","v":0},{"$f":"SUM($X$8:$X$32)","v":0},{"$f":"SUM($Y$8:$Y$32)","v":0},{"$f":"SUM($Z$8:$Z$32)","v":0},{"$f":"SUM($AA$8:$AA$32)","v":0},{"$f":"SUM($AB$8:$AB$32)","v":0},{"$f":"SUM($AC$8:$AC$32)","v":0},{"$f":"SUM($AD$8:$AD$32)","v":0},{"$f":"SUM($AE$8:$AE$32)","v":0},{"$f":"SUM($AF$8:$AF$32)","v":0},{"$f":"SUM($AG$8:$AG$32)","v":0},{"$f":"SUM($AH$8:$AH$32)","v":0},{"$f":"SUM($AI$8:$AI$32)","v":0},{"$f":"SUM($AJ$8:$AJ$32)","v":0},{"$f":"SUM($AK$8:$AK$32)","v":0},{"$f":"SUM($AL$8:$AL$32)","v":0},{"$f":"SUM($AM$8:$AM$32)","v":0},{"$f":"SUM($AN$8:$AN$32)","v":0},{"$f":"SUM($AO$8:$AO$32)","v":0},{"$f":"SUM($AP$8:$AP$32)","v":0},{"$f":"SUM($AQ$8:$AQ$32)","v":0},{"$f":"SUM($AR$8:$AR$32)","v":0},{"$f":"SUM($AS$8:$AS$32)","v":0},{"$f":"SUM($AT$8:$AT$32)","v":0},{"$f":"SUM($AU$8:$AU$32)","v":0},{"$f":"SUM($AV$8:$AV$32)","v":0},{"$f":"SUM($AW$8:$AW$32)","v":0},{"$f":"SUM($AX$8:$AX$32)","v":0},{"$f":"SUM($AY$8:$AY$32)","v":0},{"$f":"SUM($AZ$8:$AZ$32)","v":0},{"$f":"SUM($BA$8:$BA$32)","v":0},{"$f":"SUM($BB$8:$BB$32)","v":0},{"$f":"SUM($BC$8:$BC$32)","v":0},{"$f":"SUM($BD$8:$BD$32)","v":0},{"$f":"SUM($BE$8:$BE$32)","v":0},{"$f":"SUM($BF$8:$BF$32)","v":0},{"$f":"SUM($BG$8:$BG$32)","v":0},{"$f":"SUM($BH$8:$BH$32)","v":0},"-"]
["秋田県","05201","秋田市",{"$f":"SUM(E8,F8,O8,P8)","v":0},{"$f":"R8","v":0},{"$f":"SUM(G8:N8)","v":0},0,0,0,0,0,0,0,0,{"$f":"AN8","v":0},{"$f":"資源化量内訳!AH8","v":0},{"$f":"SUM(R8:S8)","v":0},0,{"$f":"SUM(T8:AA8)","v":0},0,0,0,0,0,0,0,0,{"$f":"SUM(AC8:AD8)","v":0},0,{"$f":"SUM(AE8:AK8)","v":0},0,0,0,0,0,0,0,"-",{"$f":"SUM(AN8:AP8)","v":0},0,0,{"$f":"SUM(AQ8:AX8)","v":0},0,0,0,0,0,0,0,0,{"$f":"SUM(AZ8:BI8)","v":0},0,0,0,0,0,0,0,0,0,"-"]
["秋田県","05202","能代市",{"$f":"SUM(E9,F9,O9,P9)","v":0},{"$f":"R9","v":0},{"$f":"SUM(G9:N9)","v":0},0,0,0,0,0,0,0,0,{"$f":"AN9","v":0},{"$f":"資源化量内訳!AH9","v":0},{"$f":"SUM(R9:S9)","v":0},0,{"$f":"SUM(T9:AA9)","v":0},0,0,0,0,0,0,0,0,{"$f":"SUM(AC9:AD9)","v":0},0,{"$f":"SUM(AE9:AK9)","v":0},0,0,0,0,0,0,0,"-",{"$f":"SUM(AN9:AP9)","v":0},0,0,{"$f":"SUM(AQ9:AX9)","v":0},0,0,0,0,0,0,0,0,{"$f":"SUM(AZ9:BI9)","v":0},0,0,0,0,0,0,0,0,0,"-"]
["秋田県","05203","横手市",{"$f":"SUM(E10,F10,O10,P10)","v":0},{"$f":"R10","v":0},{"$f":"SUM(G10:N10)","v":0},0,0,0,0,0,0,0,0,{"$f":"AN10","v":0},{"$f":"資源化量内訳!AH10","v":0},{"$f":"SUM(R10:S10)","v":0},0,{"$f":"SUM(T10:AA10)","v":0},0,0,0,0,0,0,0,0,{"$f":"SUM(AC10:AD10)","v":0},0,{"$f":"SUM(AE10:AK10)","v":0},0,0,0,0,0,0,0,"-",{"$f":"SUM(AN10:AP10)","v":0},0,0,{"$f":"SUM(AQ10:AX10)","v":0},0,0,0,0,0,0,0,0,{"$f":"SUM(AZ10:BI10)","v":0},0,0,0,0,0,0,0,0,0,"-"]
["秋田県","05204","大館市",{"$f":"SUM(E11,F11,O11,P11)","v":0},{"$f":"R11","v":0},{"$f":"SUM(G11:N11)","v":0},0,0,0,0,0,0,0,0,{"$f":"AN11","v":0},{"$f":"資源化量内訳!AH11","v":0},{"$f":"SUM(R11:S11)","v":0},0,{"$f":"SUM(T11:AA11)","v":0},0,0,0,0,0,0,0,0,{"$f":"SUM(AC11:AD11)","v":0},0,{"$f":"SUM(AE11:AK11)","v":0},0,0,0,0,0,0,0,"-",{"$f":"SUM(AN11:AP11)","v":0},0,0,{"$f":"SUM(AQ11:AX11)","v":0},0,0,0,0,0,0,0,0,{"$f":"SUM(AZ11:BI11)","v":0},0,0,0,0,0,0,0,0,0,"-"]
["秋田県","05206","男鹿市",{"$f":"SUM(E12,F12,O12,P12)","v":0},{"$f":"R12","v":0},{"$f":"SUM(G12:N12)","v":0},0,0,0,0,0,0,0,0,{"$f":"AN12","v":0},{"$f":"資源化量内訳!AH12","v":0},{"$f":"SUM(R12:S12)","v":0},0,{"$f":"SUM(T12:AA12)","v":0},0,0,0,0,0,0,0,0,{"$f":"SUM(AC12:AD12)","v":0},0,{"$f":"SUM(AE12:AK12)","v":0},0,0,0,0,0,0,0,"-",{"$f":"SUM(AN12:AP12)","v":0},0,0,{"$f":"SUM(AQ12:AX12)","v":0},0,0,0,0,0,0,0,0,{"$f":"SUM(AZ12:BI12)","v":0},0,0,0,0,0,0,0,0,0,"-"]
["秋田県","05207","湯沢市",{"$f":"SUM(E13,F13,O13,P13)","v":0},{"$f":"R13","v":0},{"$f":"SUM(G13:N13)","v":0},0,0,0,0,0,0,0,0,{"$f":"AN13","v":0},{"$f":"資源化量内訳!AH13","v":0},{"$f":"SUM(R13:S13)","v":0},0,{"$f":"SUM(T13:AA13)","v":0},0,0,0,0,0,0,0,0,{"$f":"SUM(AC13:AD13)","v":0},0,{"$f":"SUM(AE13:AK13)","v":0},0,0,0,0,0,0,0,"-",{"$f":"SUM(AN13:AP13)","v":0},0,0,{"$f":"SUM(AQ13:AX13)","v":0},0,0,0,0,0,0,0,0,{"$f":"SUM(AZ13:BI13)","v":0},0,0,0,0,0,0,0,0,0,"-"]
["秋田県","05209","鹿角市",{"$f":"SUM(E14,F14,O14,P14)","v":0},{"$f":"R14","v":0},{"$f":"SUM(G14:N14)","v":0},0,0,0,0,0,0,0,0,{"$f":"AN14","v":0},{"$f":"資源化量内訳!AH14","v":0},{"$f":"SUM(R14:S14)","v":0},0,{"$f":"SUM(T14:AA14)","v":0},0,0,0,0,0,0,0,0,{"$f":"SUM(AC14:AD14)","v":0},0,{"$f":"SUM(AE14:AK14)","v":0},0,0,0,0,0,0,0,"-",{"$f":"SUM(AN14:AP14)","v":0},0,0,{"$f":"SUM(AQ14:AX14)","v":0},0,0,0,0,0,0,0,0,{"$f":"SUM(AZ14:BI14)","v":0},0,0,0,0,0,0,0,0,0,"-"]
["秋田県","05210","由利本荘市",{"$f":"SUM(E15,F15,O15,P15)","v":0},{"$f":"R15","v":0},{"$f":"SUM(G15:N15)","v":0},0,0,0,0,0,0,0,0,{"$f":"AN15","v":0},{"$f":"資源化量内訳!AH15","v":0},{"$f":"SUM(R15:S15)","v":0},0,{"$f":"SUM(T15:AA15)","v":0},0,0,0,0,0,0,0,0,{"$f":"SUM(AC15:AD15)","v":0},0,{"$f":"SUM(AE15:AK15)","v":0},0,0,0,0,0,0,0,"-",{"$f":"SUM(AN15:AP15)","v":0},0,0,{"$f":"SUM(AQ15:AX15)","v":0},0,0,0,0,0,0,0,0,{"$f":"SUM(AZ15:BI15)","v":0},0,0,0,0,0,0,0,0,0,"-"]
["秋田県","05211","潟上市",{"$f":"SUM(E16,F16,O16,P16)","v":0},{"$f":"R16","v":0},{"$f":"SUM(G16:N16)","v":0},0,0,0,0,0,0,0,0,{"$f":"AN16","v":0},{"$f":"資源化量内訳!AH16","v":0},{"$f":"SUM(R16:S16)","v":0},0,{"$f":"SUM(T16:AA16)","v":0},0,0,0,0,0,0,0,0,{"$f":"SUM(AC16:AD16)","v":0},0,{"$f":"SUM(AE16:AK16)","v":0},0,0,0,0,0,0,0,"-",{"$f":"SUM(AN16:AP16)","v":0},0,0,{"$f":"SUM(AQ16:AX16)","v":0},0,0,0,0,0,0,0,0,{"$f":"SUM(AZ16:BI16)","v":0},0,0,0,0,0,0,0,0,0,"-"]
["秋田県","05212","大仙市",{"$f":"SUM(E17,F17,O17,P17)","v":0},{"$f":"R17","v":0},{"$f":"SUM(G17:N17)","v":0},0,0,0,0,0,0,0,0,{"$f":"AN17","v":0},{"$f":"資源化量内訳!AH17","v":0},{"$f":"SUM(R17:S17)","v":0},0,{"$f":"SUM(T17:AA17)","v":0},0,0,0,0,0,0,0,0,{"$f":"SUM(AC17:AD17)","v":0},0,{"$f":"SUM(AE17:AK17)","v":0},0,0,0,0,0,0,0,"-",{"$f":"SUM(AN17:AP17)","v":0},0,0,{"$f":"SUM(AQ17:AX17)","v":0},0,0,0,0,0,0,0,0,{"$f":"SUM(AZ17:BI17)","v":0},0,0,0,0,0,0,0,0,0,"-"]
["秋田県","05213","北秋田市",{"$f":"SUM(E18,F18,O18,P18)","v":0},{"$f":"R18","v":0},{"$f":"SUM(G18:N18)","v":0},0,0,0,0,0,0,0,0,{"$f":"AN18","v":0},{"$f":"資源化量内訳!AH18","v":0},{"$f":"SUM(R18:S18)","v":0},0,{"$f":"SUM(T18:AA18)","v":0},0,0,0,0,0,0,0,0,{"$f":"SUM(AC18:AD18)","v":0},0,{"$f":"SUM(AE18:AK18)","v":0},0,0,0,0,0,0,0,"-",{"$f":"SUM(AN18:AP18)","v":0},0,0,{"$f":"SUM(AQ18:AX18)","v":0},0,0,0,0,0,0,0,0,{"$f":"SUM(AZ18:BI18)","v":0},0,0,0,0,0,0,0,0,0,"-"]
["秋田県","05214","にかほ市",{"$f":"SUM(E19,F19,O19,P19)","v":0},{"$f":"R19","v":0},{"$f":"SUM(G19:N19)","v":0},0,0,0,0,0,0,0,0,{"$f":"AN19","v":0},{"$f":"資源化量内訳!AH19","v":0},{"$f":"SUM(R19:S19)","v":0},0,{"$f":"SUM(T19:AA19)","v":0},0,0,0,0,0,0,0,0,{"$f":"SUM(AC19:AD19)","v":0},0,{"$f":"SUM(AE19:AK19)","v":0},0,0,0,0,0,0,0,"-",{"$f":"SUM(AN19:AP19)","v":0},0,0,{"$f":"SUM(AQ19:AX19)","v":0},0,0,0,0,0,0,0,0,{"$f":"SUM(AZ19:BI19)","v":0},0,0,0,0,0,0,0,0,0,"-"]
["秋田県","05215","仙北市",{"$f":"SUM(E20,F20,O20,P20)","v":0},{"$f":"R20","v":0},{"$f":"SUM(G20:N20)","v":0},0,0,0,0,0,0,0,0,{"$f":"AN20","v":0},{"$f":"資源化量内訳!AH20","v":0},{"$f":"SUM(R20:S20)","v":0},0,{"$f":"SUM(T20:AA20)","v":0},0,0,0,0,0,0,0,0,{"$f":"SUM(AC20:AD20)","v":0},0,{"$f":"SUM(AE20:AK20)","v":0},0,0,0,0,0,0,0,"-",{"$f":"SUM(AN20:AP20)","v":0},0,0,{"$f":"SUM(AQ20:AX20)","v":0},0,0,0,0,0,0,0,0,{"$f":"SUM(AZ20:BI20)","v":0},0,0,0,0,0,0,0,0,0,"-"]
["秋田県","05303","小坂町",{"$f":"SUM(E21,F21,O21,P21)","v":0},{"$f":"R21","v":0},{"$f":"SUM(G21:N21)","v":0},0,0,0,0,0,0,0,0,{"$f":"AN21","v":0},{"$f":"資源化量内訳!AH21","v":0},{"$f":"SUM(R21:S21)","v":0},0,{"$f":"SUM(T21:AA21)","v":0},0,0,0,0,0,0,0,0,{"$f":"SUM(AC21:AD21)","v":0},0,{"$f":"SUM(AE21:AK21)","v":0},0,0,0,0,0,0,0,"-",{"$f":"SUM(AN21:AP21)","v":0},0,0,{"$f":"SUM(AQ21:AX21)","v":0},0,0,0,0,0,0,0,0,{"$f":"SUM(AZ21:BI21)","v":0},0,0,0,0,0,0,0,0,0,"-"]
["秋田県","05327","上小阿仁村",{"$f":"SUM(E22,F22,O22,P22)","v":0},{"$f":"R22","v":0},{"$f":"SUM(G22:N22)","v":0},0,0,0,0,0,0,0,0,{"$f":"AN22","v":0},{"$f":"資源化量内訳!AH22","v":0},{"$f":"SUM(R22:S22)","v":0},0,{"$f":"SUM(T22:AA22)","v":0},0,0,0,0,0,0,0,0,{"$f":"SUM(AC22:AD22)","v":0},0,{"$f":"SUM(AE22:AK22)","v":0},0,0,0,0,0,0,0,"-",{"$f":"SUM(AN22:AP22)","v":0},0,0,{"$f":"SUM(AQ22:AX22)","v":0},0,0,0,0,0,0,0,0,{"$f":"SUM(AZ22:BI22)","v":0},0,0,0,0,0,0,0,0,0,"-"]
["秋田県","05346","藤里町",{"$f":"SUM(E23,F23,O23,P23)","v":0},{"$f":"R23","v":0},{"$f":"SUM(G23:N23)","v":0},0,0,0,0,0,0,0,0,{"$f":"AN23","v":0},{"$f":"資源化量内訳!AH23","v":0},{"$f":"SUM(R23:S23)","v":0},0,{"$f":"SUM(T23:AA23)","v":0},0,0,0,0,0,0,0,0,{"$f":"SUM(AC23:AD23)","v":0},0,{"$f":"SUM(AE23:AK23)","v":0},0,0,0,0,0,0,0,"-",{"$f":"SUM(AN23:AP23)","v":0},0,0,{"$f":"SUM(AQ23:AX23)","v":0},0,0,0,0,0,0,0,0,{"$f":"SUM(AZ23:BI23)","v":0},0,0,0,0,0,0,0,0,0,"-"]
["秋田県","05348","三種町",{"$f":"SUM(E24,F24,O24,P24)","v":0},{"$f":"R24","v":0},{"$f":"SUM(G24:N24)","v":0},0,0,0,0,0,0,0,0,{"$f":"AN24","v":0},{"$f":"資源化量内訳!AH24","v":0},{"$f":"SUM(R24:S24)","v":0},0,{"$f":"SUM(T24:AA24)","v":0},0,0,0,0,0,0,0,0,{"$f":"SUM(AC24:AD24)","v":0},0,{"$f":"SUM(AE24:AK24)","v":0},0,0,0,0,0,0,0,"-",{"$f":"SUM(AN24:AP24)","v":0},0,0,{"$f":"SUM(AQ24:AX24)","v":0},0,0,0,0,0,0,0,0,{"$f":"SUM(AZ24:BI24)","v":0},0,0,0,0,0,0,0,0,0,"-"]
["秋田県","05349","八峰町",{"$f":"SUM(E25,F25,O25,P25)","v":0},{"$f":"R25","v":0},{"$f":"SUM(G25:N25)","v":0},0,0,0,0,0,0,0,0,{"$f":"AN25","v":0},{"$f":"資源化量内訳!AH25","v":0},{"$f":"SUM(R25:S25)","v":0},0,{"$f":"SUM(T25:AA25)","v":0},0,0,0,0,0,0,0,0,{"$f":"SUM(AC25:AD25)","v":0},0,{"$f":"SUM(AE25:AK25)","v":0},0,0,0,0,0,0,0,"-",{"$f":"SUM(AN25:AP25)","v":0},0,0,{"$f":"SUM(AQ25:AX25)","v":0},0,0,0,0,0,0,0,0,{"$f":"SUM(AZ25:BI25)","v":0},0,0,0,0,0,0,0,0,0,"-"]
["秋田県","05361","五城目町",{"$f":"SUM(E26,F26,O26,P26)","v":0},{"$f":"R26","v":0},{"$f":"SUM(G26:N26)","v":0},0,0,0,0,0,0,0,0,{"$f":"AN26","v":0},{"$f":"資源化量内訳!AH26","v":0},{"$f":"SUM(R26:S26)","v":0},0,{"$f":"SUM(T26:AA26)","v":0},0,0,0,0,0,0,0,0,{"$f":"SUM(AC26:AD26)","v":0},0,{"$f":"SUM(AE26:AK26)","v":0},0,0,0,0,0,0,0,"-",{"$f":"SUM(AN26:AP26)","v":0},0,0,{"$f":"SUM(AQ26:AX26)","v":0},0,0,0,0,0,0,0,0,{"$f":"SUM(AZ26:BI26)","v":0},0,0,0,0,0,0,0,0,0,"-"]
["秋田県","05363","八郎潟町",{"$f":"SUM(E27,F27,O27,P27)","v":0},{"$f":"R27","v":0},{"$f":"SUM(G27:N27)","v":0},0,0,0,0,0,0,0,0,{"$f":"AN27","v":0},{"$f":"資源化量内訳!AH27","v":0},{"$f":"SUM(R27:S27)","v":0},0,{"$f":"SUM(T27:AA27)","v":0},0,0,0,0,0,0,0,0,{"$f":"SUM(AC27:AD27)","v":0},0,{"$f":"SUM(AE27:AK27)","v":0},0,0,0,0,0,0,0,"-",{"$f":"SUM(AN27:AP27)","v":0},0,0,{"$f":"SUM(AQ27:AX27)","v":0},0,0,0,0,0,0,0,0,{"$f":"SUM(AZ27:BI27)","v":0},0,0,0,0,0,0,0,0,0,"-"]
["秋田県","05366","井川町",{"$f":"SUM(E28,F28,O28,P28)","v":0},{"$f":"R28","v":0},{"$f":"SUM(G28:N28)","v":0},0,0,0,0,0,0,0,0,{"$f":"AN28","v":0},{"$f":"資源化量内訳!AH28","v":0},{"$f":"SUM(R28:S28)","v":0},0,{"$f":"SUM(T28:AA28)","v":0},0,0,0,0,0,0,0,0,{"$f":"SUM(AC28:AD28)","v":0},0,{"$f":"SUM(AE28:AK28)","v":0},0,0,0,0,0,0,0,"-",{"$f":"SUM(AN28:AP28)","v":0},0,0,{"$f":"SUM(AQ28:AX28)","v":0},0,0,0,0,0,0,0,0,{"$f":"SUM(AZ28:BI28)","v":0},0,0,0,0,0,0,0,0,0,"-"]
["秋田県","05368","大潟村",{"$f":"SUM(E29,F29,O29,P29)","v":0},{"$f":"R29","v":0},{"$f":"SUM(G29:N29)","v":0},0,0,0,0,0,0,0,0,{"$f":"AN29","v":0},{"$f":"資源化量内訳!AH29","v":0},{"$f":"SUM(R29:S29)","v":0},0,{"$f":"SUM(T29:AA29)","v":0},0,0,0,0,0,0,0,0,{"$f":"SUM(AC29:AD29)","v":0},0,{"$f":"SUM(AE29:AK29)","v":0},0,0,0,0,0,0,0,"-",{"$f":"SUM(AN29:AP29)","v":0},0,0,{"$f":"SUM(AQ29:AX29)","v":0},0,0,0,0,0,0,0,0,{"$f":"SUM(AZ29:BI29)","v":0},0,0,0,0,0,0,0,0,0,"-"]
["秋田県","05434","美郷町",{"$f":"SUM(E30,F30,O30,P30)","v":0},{"$f":"R30","v":0},{"$f":"SUM(G30:N30)","v":0},0,0,0,0,0,0,0,0,{"$f":"AN30","v":0},{"$f":"資源化量内訳!AH30","v":0},{"$f":"SUM(R30:S30)","v":0},0,{"$f":"SUM(T30:AA30)","v":0},0,0,0,0,0,0,0,0,{"$f":"SUM(AC30:AD30)","v":0},0,{"$f":"SUM(AE30:AK30)","v":0},0,0,0,0,0,0,0,"-",{"$f":"SUM(AN30:AP30)","v":0},0,0,{"$f":"SUM(AQ30:AX30)","v":0},0,0,0,0,0,0,0,0,{"$f":"SUM(AZ30:BI30)","v":0},0,0,0,0,0,0,0,0,0,"-"]
["秋田県","05463","羽後町",{"$f":"SUM(E31,F31,O31,P31)","v":0},{"$f":"R31","v":0},{"$f":"SUM(G31:N31)","v":0},0,0,0,0,0,0,0,0,{"$f":"AN31","v":0},{"$f":"資源化量内訳!AH31","v":0},{"$f":"SUM(R31:S31)","v":0},0,{"$f":"SUM(T31:AA31)","v":0},0,0,0,0,0,0,0,0,{"$f":"SUM(AC31:AD31)","v":0},0,{"$f":"SUM(AE31:AK31)","v":0},0,0,0,0,0,0,0,"-",{"$f":"SUM(AN31:AP31)","v":0},0,0,{"$f":"SUM(AQ31:AX31)","v":0},0,0,0,0,0,0,0,0,{"$f":"SUM(AZ31:BI31)","v":0},0,0,0,0,0,0,0,0,0,"-"]
["秋田県","05464","東成瀬村",{"$f":"SUM(E32,F32,O32,P32)","v":0},{"$f":"R32","v":0},{"$f":"SUM(G32:N32)","v":0},0,0,0,0,0,0,0,0,{"$f":"AN32","v":0},{"$f":"資源化量内訳!AH32","v":0},{"$f":"SUM(R32:S32)","v":0},0,{"$f":"SUM(T32:AA32)","v":0},0,0,0,0,0,0,0,0,{"$f":"SUM(AC32:AD32)","v":0},0,{"$f":"SUM(AE32:AK32)","v":0},0,0,0,0,0,0,0,"-",{"$f":"SUM(AN32:AP32)","v":0},0,0,{"$f":"SUM(AQ32:AX32)","v":0},0,0,0,0,0,0,0,0,{"$f":"SUM(AZ32:BI32)","v":0},0,0,0,0,0,0,0,0,0,"-"]