{"text_format":"3","workbook":"xlsx","n_sheets":6,"sheets":["災害廃棄物事業経費（市町村）","災害廃棄物事業経費（組合）","災害廃棄物事業経費（歳入）","災害廃棄物事業経費（歳出）","組合分担金内訳","市町村分担金内訳"],"not_rendered":{"defined_names":12},"read":"whole","date_system":"1900"}

{"sheet":"災害廃棄物事業経費（市町村）","index":0,"n_rows":10,"n_cols":114,"rows_kept":10,"merged":[[1,0,5,0],[1,1,5,1],[1,2,5,2],[3,37,4,37],[3,65,4,65],[3,93,4,93]]}
["【災害】廃棄物処理事業経費（市区町村の合計）（平成30年度実績）"]
["都道府県名","地方公共団体コード","市区町村名","ごみ",{"$nulls":8},"し尿",{"$nulls":8},"合計",{"$nulls":8},"ごみ（建設改良費＋処理維持管理費＋その他）（組合分担金を除く）",{"$nulls":27},"し尿（建設改良費＋処理維持管理費＋その他）（組合分担金を除く）",{"$nulls":27},"合計（建設改良費＋処理維持管理費＋その他）（組合分担金を除く）"]
[{"$nulls":3},"合計 (特定財源(市区町村分担金を除く)+一般財源)",{"$nulls":8},"合計 (特定財源(市区町村分担金を除く)+一般財源)",{"$nulls":8},"合計 (特定財源(市区町村分担金を除く)+一般財源)",{"$nulls":8},"建設改良費 (工事費+調査費)(組合分担金を除く)",{"$nulls":7},"処理及び維持管理費 (人件費+処理費+車両購入費+委託費+調査研究費)(組合分担金を除く)",{"$nulls":17},"その他","合計","建設改良費 (工事費+調査費)(組合分担金を除く)",{"$nulls":7},"処理及び維持管理費 (人件費+処理費+車両購入費+委託費+調査研究費)(組合分担金を除く)",{"$nulls":17},"その他","合計","建設改良費 (工事費+調査費)(組合分担金を除く)",{"$nulls":7},"処理及び維持管理費 (人件費+処理費+車両購入費+委託費+調査研究費)(組合分担金を除く)",{"$nulls":17},"その他","合計"]
[{"$nulls":4},"特定財源 (市区町村分担金を除く)",{"$nulls":6},"一般財源",null,"特定財源 (市区町村分担金を除く)",{"$nulls":6},"一般財源",null,"特定財源 (市区町村分担金を除く)",{"$nulls":6},"一般財源","合計","工事費 (中間処理施設+最終処分場+その他)",{"$nulls":4},"調査費","（建設改良費組合分担金）","合計","人件費（一般職＋収集運搬＋中間処理＋最終処分）",{"$nulls":4},"処理費 (収集運搬費+中間処理費+最終処分費)",{"$nulls":3},"車両等購入費","委託費 (収集運搬費+中間処理費+最終処分費+その他)",{"$nulls":4},"(組合分担金)","調査研究費",null,null,"合計","工事費 (中間処理施設+最終処分場+その他)",{"$nulls":4},"調査費","（建設改良費組合分担金）","合計","人件費（一般職＋収集運搬＋中間処理＋最終処分）",{"$nulls":4},"処理費 (収集運搬費+中間処理費+最終処分費)",{"$nulls":3},"車両等購入費","委託費 (収集運搬費+中間処理費+最終処分費+その他)",{"$nulls":4},"(組合分担金)","調査研究費",null,null,"合計","工事費 (中間処理施設+最終処分場+その他)",{"$nulls":4},"調査費","（建設改良費組合分担金）","合計","人件費（一般職＋収集運搬＋中間処理＋最終処分）",{"$nulls":4},"処理費 (収集運搬費+中間処理費+最終処分費)",{"$nulls":3},"車両等購入費","委託費 (収集運搬費+中間処理費+最終処分費+その他)",{"$nulls":4},"(組合分担金)","調査研究費"]
[{"$nulls":5},"国庫支出金","都道府県\n支出金","地方債","使用料及び\n手数料","（市区町村\n分担金）","その他",{"$nulls":3},"国庫支出金","都道府県\n支出金","地方債","使用料及び\n手数料","（市区町村\n分担金）","その他",{"$nulls":3},"国庫支出金","都道府県\n支出金","地方債","使用料及び\n手数料","（市区町村\n分担金）","その他",null,null,"合計","収集運搬施設","中間処理施設","最終処分場","その他",{"$nulls":4},"一般職","収集運搬","中間処理","最終処分","合計","収集運搬費","中間処理費","最終処分費",null,null,"収集運搬費","中間処理費","最終処分費","その他",{"$nulls":5},"合計","収集運搬施設","中間処理施設","最終処分場","その他",{"$nulls":4},"一般職","収集運搬","中間処理","最終処分","合計","収集運搬費","中間処理費","最終処分費",null,null,"収集運搬費","中間処理費","最終処分費","その他",{"$nulls":5},"合計","収集運搬施設","中間処理施設","最終処分場","その他",{"$nulls":4},"一般職","収集運搬","中間処理","最終処分","合計","収集運搬費","中間処理費","最終処分費",null,null,"収集運搬費","中間処理費","最終処分費","その他"]
[{"$nulls":3},"（千円）","（千円）","（千円）","（千円）","（千円）","（千円）","（千円）","（千円）","（千円）","（千円）","（千円）","（千円）","（千円）","（千円）","（千円）","（千円）","（千円）","（千円）","（千円）","（千円）","（千円）","（千円）","（千円）","（千円）","（千円）","（千円）","（千円）","（千円）","（千円）","（千円）","（千円）","（千円）","（千円）","（千円）","（千円）","（千円）","（千円）","（千円）","（千円）","（千円）","（千円）","（千円）","（千円）","（千円）","（千円）","（千円）","（千円）","（千円）","（千円）","（千円）","（千円）","（千円）","（千円）","（千円）","（千円）","（千円）","（千円）","（千円）","（千円）","（千円）","（千円）","（千円）","（千円）","（千円）","（千円）","（千円）","（千円）","（千円）","（千円）","（千円）","（千円）","（千円）","（千円）","（千円）","（千円）","（千円）","（千円）","（千円）","（千円）","（千円）","（千円）","（千円）","（千円）","（千円）","（千円）","（千円）","（千円）","（千円）","（千円）","（千円）","（千円）","（千円）","（千円）","（千円）","（千円）","（千円）","（千円）","（千円）","（千円）","（千円）","（千円）","（千円）","（千円）","（千円）","（千円）","（千円）","（千円）","（千円）","（千円）","（千円）","（千円）"]
["高知県","39000","合計",{"$f":"SUM($D$8:$D$10)","v":{"v":59298,"d":"59,298"}},{"$f":"SUM($E$8:$E$10)","v":{"v":43755,"d":"43,755"}},{"$f":"SUM($F$8:$F$10)","v":{"v":28755,"d":"28,755"}},{"$f":"SUM($G$8:$G$10)","v":0},{"$f":"SUM($H$8:$H$10)","v":{"v":15000,"d":"15,000"}},{"$f":"SUM($I$8:$I$10)","v":0},"-",{"$f":"SUM($K$8:$K$10)","v":0},{"$f":"SUM($L$8:$L$10)","v":{"v":15543,"d":"15,543"}},{"$f":"SUM($M$8:$M$10)","v":170},{"$f":"SUM($N$8:$N$10)","v":85},{"$f":"SUM($O$8:$O$10)","v":85},{"$f":"SUM($P$8:$P$10)","v":0},{"$f":"SUM($Q$8:$Q$10)","v":0},{"$f":"SUM($R$8:$R$10)","v":0},"-",{"$f":"SUM($T$8:$T$10)","v":0},{"$f":"SUM($U$8:$U$10)","v":85},{"$f":"SUM($V$8:$V$10)","v":{"v":59468,"d":"59,468"}},{"$f":"SUM($W$8:$W$10)","v":{"v":43840,"d":"43,840"}},{"$f":"SUM($X$8:$X$10)","v":{"v":28840,"d":"28,840"}},{"$f":"SUM($Y$8:$Y$10)","v":0},{"$f":"SUM($Z$8:$Z$10)","v":{"v":15000,"d":"15,000"}},{"$f":"SUM($AA$8:$AA$10)","v":0},"-",{"$f":"SUM($AC$8:$AC$10)","v":0},{"$f":"SUM($AD$8:$AD$10)","v":{"v":15628,"d":"15,628"}},{"$f":"SUM($AE$8:$AE$10)","v":{"v":21682,"d":"21,682"}},{"$f":"SUM($AF$8:$AF$10)","v":{"v":21682,"d":"21,682"}},{"$f":"SUM($AG$8:$AG$10)","v":0},{"$f":"SUM($AH$8:$AH$10)","v":0},{"$f":"SUM($AI$8:$AI$10)","v":0},{"$f":"SUM($AJ$8:$AJ$10)","v":{"v":21682,"d":"21,682"}},{"$f":"SUM($AK$8:$AK$10)","v":0},{"$f":"SUM($AL$8:$AL$10)","v":0},{"$f":"SUM($AM$8:$AM$10)","v":{"v":35318,"d":"35,318"}},{"$f":"SUM($AN$8:$AN$10)","v":0},{"$f":"SUM($AO$8:$AO$10)","v":0},{"$f":"SUM($AP$8:$AP$10)","v":0},{"$f":"SUM($AQ$8:$AQ$10)","v":0},{"$f":"SUM($AR$8:$AR$10)","v":0},{"$f":"SUM($AS$8:$AS$10)","v":{"v":8909,"d":"8,909"}},{"$f":"SUM($AT$8:$AT$10)","v":{"v":3780,"d":"3,780"}},{"$f":"SUM($AU$8:$AU$10)","v":0},{"$f":"SUM($AV$8:$AV$10)","v":{"v":5129,"d":"5,129"}},{"$f":"SUM($AW$8:$AW$10)","v":0},{"$f":"SUM($AX$8:$AX$10)","v":{"v":26409,"d":"26,409"}},{"$f":"SUM($AY$8:$AY$10)","v":{"v":2808,"d":"2,808"}},{"$f":"SUM($AZ$8:$AZ$10)","v":480},{"$f":"SUM($BA$8:$BA$10)","v":0},{"$f":"SUM($BB$8:$BB$10)","v":{"v":23121,"d":"23,121"}},{"$f":"SUM($BC$8:$BC$10)","v":0},{"$f":"SUM($BD$8:$BD$10)","v":0},{"$f":"SUM($BE$8:$BE$10)","v":{"v":2298,"d":"2,298"}},{"$f":"SUM($BF$8:$BF$10)","v":{"v":59298,"d":"59,298"}},{"$f":"SUM($BG$8:$BG$10)","v":0},{"$f":"SUM($BH$8:$BH$10)","v":0},{"$f":"SUM($BI$8:$BI$10)","v":0},{"$f":"SUM($BJ$8:$BJ$10)","v":0},{"$f":"SUM($BK$8:$BK$10)","v":0},{"$f":"SUM($BL$8:$BL$10)","v":0},{"$f":"SUM($BM$8:$BM$10)","v":0},{"$f":"SUM($BN$8:$BN$10)","v":0},{"$f":"SUM($BO$8:$BO$10)","v":170},{"$f":"SUM($BP$8:$BP$10)","v":0},{"$f":"SUM($BQ$8:$BQ$10)","v":0},{"$f":"SUM($BR$8:$BR$10)","v":0},{"$f":"SUM($BS$8:$BS$10)","v":0},{"$f":"SUM($BT$8:$BT$10)","v":0},{"$f":"SUM($BU$8:$BU$10)","v":170},{"$f":"SUM($BV$8:$BV$10)","v":0},{"$f":"SUM($BW$8:$BW$10)","v":170},{"$f":"SUM($BX$8:$BX$10)","v":0},{"$f":"SUM($BY$8:$BY$10)","v":0},{"$f":"SUM($BZ$8:$BZ$10)","v":0},{"$f":"SUM($CA$8:$CA$10)","v":0},{"$f":"SUM($CB$8:$CB$10)","v":0},{"$f":"SUM($CC$8:$CC$10)","v":0},{"$f":"SUM($CD$8:$CD$10)","v":0},{"$f":"SUM($CE$8:$CE$10)","v":0},{"$f":"SUM($CF$8:$CF$10)","v":0},{"$f":"SUM($CG$8:$CG$10)","v":0},{"$f":"SUM($CH$8:$CH$10)","v":170},{"$f":"SUM($CI$8:$CI$10)","v":{"v":21682,"d":"21,682"}},{"$f":"SUM($CJ$8:$CJ$10)","v":{"v":21682,"d":"21,682"}},{"$f":"SUM($CK$8:$CK$10)","v":0},{"$f":"SUM($CL$8:$CL$10)","v":0},{"$f":"SUM($CM$8:$CM$10)","v":0},{"$f":"SUM($CN$8:$CN$10)","v":{"v":21682,"d":"21,682"}},{"$f":"SUM($CO$8:$CO$10)","v":0},{"$f":"SUM($CP$8:$CP$10)","v":0},{"$f":"SUM($CQ$8:$CQ$10)","v":{"v":35488,"d":"35,488"}},{"$f":"SUM($CR$8:$CR$10)","v":0},{"$f":"SUM($CS$8:$CS$10)","v":0},{"$f":"SUM($CT$8:$CT$10)","v":0},{"$f":"SUM($CU$8:$CU$10)","v":0},{"$f":"SUM($CV$8:$CV$10)","v":0},{"$f":"SUM($CW$8:$CW$10)","v":{"v":9079,"d":"9,079"}},{"$f":"SUM($CX$8:$CX$10)","v":{"v":3780,"d":"3,780"}},{"$f":"SUM($CY$8:$CY$10)","v":170},{"$f":"SUM($CZ$8:$CZ$10)","v":{"v":5129,"d":"5,129"}},{"$f":"SUM($DA$8:$DA$10)","v":0},{"$f":"SUM($DB$8:$DB$10)","v":{"v":26409,"d":"26,409"}},{"$f":"SUM($DC$8:$DC$10)","v":{"v":2808,"d":"2,808"}},{"$f":"SUM($DD$8:$DD$10)","v":480},{"$f":"SUM($DE$8:$DE$10)","v":0},{"$f":"SUM($DF$8:$DF$10)","v":{"v":23121,"d":"23,121"}},{"$f":"SUM($DG$8:$DG$10)","v":0},{"$f":"SUM($DH$8:$DH$10)","v":0},{"$f":"SUM($DI$8:$DI$10)","v":{"v":2298,"d":"2,298"}},{"$f":"SUM($DJ$8:$DJ$10)","v":{"v":59468,"d":"59,468"}}]
["高知県","39203","安芸市",{"$f":"SUM(E8,+L8)","v":480},{"$f":"SUM(F8:I8)+K8","v":240},240,0,0,0,"-",0,240,{"$f":"SUM(N8,+U8)","v":170},{"$f":"SUM(O8:R8)+T8","v":85},85,0,0,0,"-",0,85,650,325,325,0,0,0,"-",0,325,{"$f":"SUM(AF8,+AK8)","v":0},{"$f":"SUM(AG8:AJ8)","v":0},0,0,0,0,0,{"$f":"組合分担金内訳!D8","v":0},{"$f":"SUM(AN8,AS8,AW8,AX8,BD8)","v":480},{"$f":"SUM(AO8:AR8)","v":0},0,0,0,0,{"$f":"SUM(AT8:AV8)","v":0},0,0,0,0,{"$f":"SUM(AY8:BB8)","v":480},0,480,0,0,{"$f":"組合分担金内訳!E8","v":0},0,0,{"$f":"SUM(AE8,+AM8,+BE8)","v":480},{"$f":"SUM(BH8,+BM8)","v":0},{"$f":"SUM(BI8:BL8)","v":0},0,0,0,0,0,{"$f":"組合分担金内訳!G8","v":0},{"$f":"SUM(BP8,BU8,BY8,BZ8,CF8)","v":170},{"$f":"SUM(BQ8:BT8)","v":0},0,0,0,0,{"$f":"SUM(BV8:BX8)","v":170},0,170,0,0,{"$f":"SUM(CA8:CD8)","v":0},0,0,0,0,{"$f":"組合分担金内訳!H8","v":0},0,0,{"$f":"SUM(BG8,+BO8,+CG8)","v":170},{"$f":"SUM(AE8,+BG8)","v":0},{"$f":"SUM(AF8,+BH8)","v":0},{"$f":"SUM(AG8,+BI8)","v":0},{"$f":"SUM(AH8,+BJ8)","v":0},{"$f":"SUM(AI8,+BK8)","v":0},{"$f":"SUM(AJ8,+BL8)","v":0},{"$f":"SUM(AK8,+BM8)","v":0},{"$f":"SUM(AL8,+BN8)","v":0},{"$f":"SUM(AM8,+BO8)","v":650},{"$f":"SUM(AN8,+BP8)","v":0},{"$f":"SUM(AO8,+BQ8)","v":0},{"$f":"SUM(AP8,+BR8)","v":0},{"$f":"SUM(AQ8,+BS8)","v":0},{"$f":"SUM(AR8,+BT8)","v":0},{"$f":"SUM(AS8,+BU8)","v":170},{"$f":"SUM(AT8,+BV8)","v":0},{"$f":"SUM(AU8,+BW8)","v":170},{"$f":"SUM(AV8,+BX8)","v":0},{"$f":"SUM(AW8,+BY8)","v":0},{"$f":"SUM(AX8,+BZ8)","v":480},{"$f":"SUM(AY8,+CA8)","v":0},{"$f":"SUM(AZ8,+CB8)","v":480},{"$f":"SUM(BA8,+CC8)","v":0},{"$f":"SUM(BB8,+CD8)","v":0},{"$f":"SUM(BC8,+CE8)","v":0},{"$f":"SUM(BD8,+CF8)","v":0},{"$f":"SUM(BE8,+CG8)","v":0},{"$f":"SUM(BF8,+CH8)","v":650}]
["高知県","39208","宿毛市",{"$f":"SUM(E9,+L9)","v":{"v":28700,"d":"28,700"}},{"$f":"SUM(F9:I9)+K9","v":{"v":13457,"d":"13,457"}},{"v":13457,"d":"13,457"},0,0,0,"-",0,{"v":15243,"d":"15,243"},{"$f":"SUM(N9,+U9)","v":0},{"$f":"SUM(O9:R9)+T9","v":0},0,0,0,0,"-",0,0,{"v":28700,"d":"28,700"},{"v":13457,"d":"13,457"},{"v":13457,"d":"13,457"},0,0,0,"-",0,{"v":15243,"d":"15,243"},{"$f":"SUM(AF9,+AK9)","v":{"v":21682,"d":"21,682"}},{"$f":"SUM(AG9:AJ9)","v":{"v":21682,"d":"21,682"}},0,0,0,{"v":21682,"d":"21,682"},0,{"$f":"組合分担金内訳!D9","v":0},{"$f":"SUM(AN9,AS9,AW9,AX9,BD9)","v":{"v":6016,"d":"6,016"}},{"$f":"SUM(AO9:AR9)","v":0},0,0,0,0,{"$f":"SUM(AT9:AV9)","v":{"v":6016,"d":"6,016"}},{"v":3780,"d":"3,780"},0,{"v":2236,"d":"2,236"},0,{"$f":"SUM(AY9:BB9)","v":0},0,0,0,0,{"$f":"組合分担金内訳!E9","v":0},0,{"v":1002,"d":"1,002"},{"$f":"SUM(AE9,+AM9,+BE9)","v":{"v":28700,"d":"28,700"}},{"$f":"SUM(BH9,+BM9)","v":0},{"$f":"SUM(BI9:BL9)","v":0},0,0,0,0,0,{"$f":"組合分担金内訳!G9","v":0},{"$f":"SUM(BP9,BU9,BY9,BZ9,CF9)","v":0},{"$f":"SUM(BQ9:BT9)","v":0},0,0,0,0,{"$f":"SUM(BV9:BX9)","v":0},0,0,0,0,{"$f":"SUM(CA9:CD9)","v":0},0,0,0,0,{"$f":"組合分担金内訳!H9","v":0},0,0,{"$f":"SUM(BG9,+BO9,+CG9)","v":0},{"v":21682,"d":"21,682"},{"v":21682,"d":"21,682"},0,0,0,{"v":21682,"d":"21,682"},0,0,{"v":6016,"d":"6,016"},0,0,0,0,0,{"v":6016,"d":"6,016"},{"v":3780,"d":"3,780"},0,{"v":2236,"d":"2,236"},0,0,0,0,0,0,0,0,{"v":1002,"d":"1,002"},{"v":28700,"d":"28,700"}]
["高知県","39424","大月町",{"$f":"SUM(E10,+L10)","v":{"v":30118,"d":"30,118"}},{"$f":"SUM(F10:I10)+K10","v":{"v":30058,"d":"30,058"}},{"v":15058,"d":"15,058"},0,{"v":15000,"d":"15,000"},0,"-",0,60,{"$f":"SUM(N10,+U10)","v":0},{"$f":"SUM(O10:R10)+T10","v":0},0,0,0,0,"-",0,0,{"v":30118,"d":"30,118"},{"v":30058,"d":"30,058"},{"v":15058,"d":"15,058"},0,{"v":15000,"d":"15,000"},0,"-",0,60,{"$f":"SUM(AF10,+AK10)","v":0},{"$f":"SUM(AG10:AJ10)","v":0},0,0,0,0,0,{"$f":"組合分担金内訳!D10","v":0},{"$f":"SUM(AN10,AS10,AW10,AX10,BD10)","v":{"v":28822,"d":"28,822"}},{"$f":"SUM(AO10:AR10)","v":0},0,0,0,0,{"$f":"SUM(AT10:AV10)","v":{"v":2893,"d":"2,893"}},0,0,{"v":2893,"d":"2,893"},0,{"$f":"SUM(AY10:BB10)","v":{"v":25929,"d":"25,929"}},{"v":2808,"d":"2,808"},0,0,{"v":23121,"d":"23,121"},{"$f":"組合分担金内訳!E10","v":0},0,{"v":1296,"d":"1,296"},{"$f":"SUM(AE10,+AM10,+BE10)","v":{"v":30118,"d":"30,118"}},{"$f":"SUM(BH10,+BM10)","v":0},{"$f":"SUM(BI10:BL10)","v":0},0,0,0,0,0,{"$f":"組合分担金内訳!G10","v":0},{"$f":"SUM(BP10,BU10,BY10,BZ10,CF10)","v":0},{"$f":"SUM(BQ10:BT10)","v":0},0,0,0,0,{"$f":"SUM(BV10:BX10)","v":0},0,0,0,0,{"$f":"SUM(CA10:CD10)","v":0},0,0,0,0,{"$f":"組合分担金内訳!H10","v":0},0,0,{"$f":"SUM(BG10,+BO10,+CG10)","v":0},0,0,0,0,0,0,0,0,{"v":28822,"d":"28,822"},0,0,0,0,0,{"v":2893,"d":"2,893"},0,0,{"v":2893,"d":"2,893"},0,{"v":25929,"d":"25,929"},{"v":2808,"d":"2,808"},0,0,{"v":23121,"d":"23,121"},0,0,{"v":1296,"d":"1,296"},{"v":30118,"d":"30,118"}]

{"sheet":"災害廃棄物事業経費（組合）","index":1,"n_rows":7,"n_cols":114,"rows_kept":7,"merged":[[1,0,5,0],[1,1,5,1],[1,2,5,2],[3,37,4,37],[3,65,4,65],[3,93,4,93]]}
["【災害】廃棄物処理事業経費（一部事務組合・広域連合の合計）（平成30年度実績）"]
["都道府県名","地方公共団体コード","一部事務組合・広域連合名","ごみ",{"$nulls":8},"し尿",{"$nulls":8},"合計",{"$nulls":8},"ごみ（建設改良費＋処理維持管理費＋その他）（組合分担金を除く）",{"$nulls":27},"し尿（建設改良費＋処理維持管理費＋その他）（組合分担金を除く）",{"$nulls":27},"合計（建設改良費＋処理維持管理費＋その他）（組合分担金を除く）"]
[{"$nulls":3},"合計 (特定財源(市区町村分担金を除く)+一般財源)",{"$nulls":8},"合計 (特定財源(市区町村分担金を除く)+一般財源)",{"$nulls":8},"合計 (特定財源(市区町村分担金を除く)+一般財源)",{"$nulls":8},"建設改良費 (工事費+調査費)(組合分担金を除く)",{"$nulls":7},"処理及び維持管理費 (人件費+処理費+車両購入費+委託費+調査研究費)(組合分担金を除く)",{"$nulls":17},"その他","合計","建設改良費 (工事費+調査費)(組合分担金を除く)",{"$nulls":7},"処理及び維持管理費 (人件費+処理費+車両購入費+委託費+調査研究費)(組合分担金を除く)",{"$nulls":17},"その他","合計","建設改良費 (工事費+調査費)(組合分担金を除く)",{"$nulls":7},"処理及び維持管理費 (人件費+処理費+車両購入費+委託費+調査研究費)(組合分担金を除く)",{"$nulls":17},"その他","合計"]
[{"$nulls":4},"特定財源 (市区町村分担金を除く)",{"$nulls":6},"一般財源",null,"特定財源 (市区町村分担金を除く)",{"$nulls":6},"一般財源",null,"特定財源 (市区町村分担金を除く)",{"$nulls":6},"一般財源","合計","工事費 (中間処理施設+最終処分場+その他)",{"$nulls":4},"調査費","（建設改良費組合分担金）","合計","人件費（一般職＋収集運搬＋中間処理＋最終処分）",{"$nulls":4},"処理費 (収集運搬費+中間処理費+最終処分費)",{"$nulls":3},"車両等購入費","委託費 (収集運搬費+中間処理費+最終処分費+その他)",{"$nulls":4},"(組合分担金)","調査研究費",null,null,"合計","工事費 (中間処理施設+最終処分場+その他)",{"$nulls":4},"調査費","（建設改良費組合分担金）","合計","人件費（一般職＋収集運搬＋中間処理＋最終処分）",{"$nulls":4},"処理費 (収集運搬費+中間処理費+最終処分費)",{"$nulls":3},"車両等購入費","委託費 (収集運搬費+中間処理費+最終処分費+その他)",{"$nulls":4},"(組合分担金)","調査研究費",null,null,"合計","工事費 (中間処理施設+最終処分場+その他)",{"$nulls":4},"調査費","（建設改良費組合分担金）","合計","人件費（一般職＋収集運搬＋中間処理＋最終処分）",{"$nulls":4},"処理費 (収集運搬費+中間処理費+最終処分費)",{"$nulls":3},"車両等購入費","委託費 (収集運搬費+中間処理費+最終処分費+その他)",{"$nulls":4},"(組合分担金)","調査研究費"]
[{"$nulls":4},"合計","国庫支出金","都道府県\n支出金","地方債","使用料及び\n手数料","（市区町村\n分担金）","その他",null,null,"合計","国庫支出金","都道府県\n支出金","地方債","使用料及び\n手数料","（市区町村\n分担金）","その他",null,null,"合計","国庫支出金","都道府県\n支出金","地方債","使用料及び\n手数料","（市区町村\n分担金）","その他",null,null,"合計","収集運搬施設","中間処理施設","最終処分場","その他",{"$nulls":3},"合計","一般職","収集運搬","中間処理","最終処分","合計","収集運搬費","中間処理費","最終処分費",null,"合計","収集運搬費","中間処理費","最終処分費","その他",{"$nulls":5},"合計","収集運搬施設","中間処理施設","最終処分場","その他",{"$nulls":3},"合計","一般職","収集運搬","中間処理","最終処分","合計","収集運搬費","中間処理費","最終処分費",null,"合計","収集運搬費","中間処理費","最終処分費","その他",{"$nulls":5},"合計","収集運搬施設","中間処理施設","最終処分場","その他",{"$nulls":3},"合計","一般職","収集運搬","中間処理","最終処分","合計","収集運搬費","中間処理費","最終処分費",null,"合計","収集運搬費","中間処理費","最終処分費","その他"]
[{"$nulls":3},"（千円）","（千円）","（千円）","（千円）","（千円）","（千円）","（千円）","（千円）","（千円）","（千円）","（千円）","（千円）","（千円）","（千円）","（千円）","（千円）","（千円）","（千円）","（千円）","（千円）","（千円）","（千円）","（千円）","（千円）","（千円）","（千円）","（千円）","（千円）","（千円）","（千円）","（千円）","（千円）","（千円）","（千円）","（千円）","（千円）","（千円）","（千円）","（千円）","（千円）","（千円）","（千円）","（千円）","（千円）","（千円）","（千円）","（千円）","（千円）","（千円）","（千円）","（千円）","（千円）","（千円）","（千円）","（千円）","（千円）","（千円）","（千円）","（千円）","（千円）","（千円）","（千円）","（千円）","（千円）","（千円）","（千円）","（千円）","（千円）","（千円）","（千円）","（千円）","（千円）","（千円）","（千円）","（千円）","（千円）","（千円）","（千円）","（千円）","（千円）","（千円）","（千円）","（千円）","（千円）","（千円）","（千円）","（千円）","（千円）","（千円）","（千円）","（千円）","（千円）","（千円）","（千円）","（千円）","（千円）","（千円）","（千円）","（千円）","（千円）","（千円）","（千円）","（千円）","（千円）","（千円）","（千円）","（千円）","（千円）","（千円）","（千円）","（千円）"]
["高知県","39000","合計",{"$f":"SUM($D$8:$D$10)","v":0},{"$f":"SUM($E$8:$E$10)","v":0},{"$f":"SUM($F$8:$F$10)","v":0},{"$f":"SUM($G$8:$G$10)","v":0},{"$f":"SUM($H$8:$H$10)","v":0},{"$f":"SUM($I$8:$I$10)","v":0},{"$f":"SUM($J$8:$J$10)","v":0},{"$f":"SUM($K$8:$K$10)","v":0},{"$f":"SUM($L$8:$L$10)","v":0},{"$f":"SUM($M$8:$M$10)","v":0},{"$f":"SUM($N$8:$N$10)","v":0},{"$f":"SUM($O$8:$O$10)","v":0},{"$f":"SUM($P$8:$P$10)","v":0},{"$f":"SUM($Q$8:$Q$10)","v":0},{"$f":"SUM($R$8:$R$10)","v":0},{"$f":"SUM($S$8:$S$10)","v":0},{"$f":"SUM($T$8:$T$10)","v":0},{"$f":"SUM($U$8:$U$10)","v":0},{"$f":"SUM($V$8:$V$10)","v":0},{"$f":"SUM($W$8:$W$10)","v":0},{"$f":"SUM($X$8:$X$10)","v":0},{"$f":"SUM($Y$8:$Y$10)","v":0},{"$f":"SUM($Z$8:$Z$10)","v":0},{"$f":"SUM($AA$8:$AA$10)","v":0},{"$f":"SUM($AB$8:$AB$10)","v":0},{"$f":"SUM($AC$8:$AC$10)","v":0},{"$f":"SUM($AD$8:$AD$10)","v":0},{"$f":"SUM($AE$8:$AE$10)","v":0},{"$f":"SUM($AF$8:$AF$10)","v":0},{"$f":"SUM($AG$8:$AG$10)","v":0},{"$f":"SUM($AH$8:$AH$10)","v":0},{"$f":"SUM($AI$8:$AI$10)","v":0},{"$f":"SUM($AJ$8:$AJ$10)","v":0},{"$f":"SUM($AK$8:$AK$10)","v":0},"-",{"$f":"SUM($AM$8:$AM$10)","v":0},{"$f":"SUM($AN$8:$AN$10)","v":0},{"$f":"SUM($AO$8:$AO$10)","v":0},{"$f":"SUM($AP$8:$AP$10)","v":0},{"$f":"SUM($AQ$8:$AQ$10)","v":0},{"$f":"SUM($AR$8:$AR$10)","v":0},{"$f":"SUM($AS$8:$AS$10)","v":0},{"$f":"SUM($AT$8:$AT$10)","v":0},{"$f":"SUM($AU$8:$AU$10)","v":0},{"$f":"SUM($AV$8:$AV$10)","v":0},{"$f":"SUM($AW$8:$AW$10)","v":0},{"$f":"SUM($AX$8:$AX$10)","v":0},{"$f":"SUM($AY$8:$AY$10)","v":0},{"$f":"SUM($AZ$8:$AZ$10)","v":0},{"$f":"SUM($BA$8:$BA$10)","v":0},{"$f":"SUM($BB$8:$BB$10)","v":0},"-",{"$f":"SUM($BD$8:$BD$10)","v":0},{"$f":"SUM($BE$8:$BE$10)","v":0},{"$f":"SUM($BF$8:$BF$10)","v":0},{"$f":"SUM($BG$8:$BG$10)","v":0},{"$f":"SUM($BH$8:$BH$10)","v":0},{"$f":"SUM($BI$8:$BI$10)","v":0},{"$f":"SUM($BJ$8:$BJ$10)","v":0},{"$f":"SUM($BK$8:$BK$10)","v":0},{"$f":"SUM($BL$8:$BL$10)","v":0},{"$f":"SUM($BM$8:$BM$10)","v":0},"-",{"$f":"SUM($BO$8:$BO$10)","v":0},{"$f":"SUM($BP$8:$BP$10)","v":0},{"$f":"SUM($BQ$8:$BQ$10)","v":0},{"$f":"SUM($BR$8:$BR$10)","v":0},{"$f":"SUM($BS$8:$BS$10)","v":0},{"$f":"SUM($BT$8:$BT$10)","v":0},{"$f":"SUM($BU$8:$BU$10)","v":0},{"$f":"SUM($BV$8:$BV$10)","v":0},{"$f":"SUM($BW$8:$BW$10)","v":0},{"$f":"SUM($BX$8:$BX$10)","v":0},{"$f":"SUM($BY$8:$BY$10)","v":0},{"$f":"SUM($BZ$8:$BZ$10)","v":0},{"$f":"SUM($CA$8:$CA$10)","v":0},{"$f":"SUM($CB$8:$CB$10)","v":0},{"$f":"SUM($CC$8:$CC$10)","v":0},{"$f":"SUM($CD$8:$CD$10)","v":0},"-",{"$f":"SUM($CF$8:$CF$10)","v":0},{"$f":"SUM($CG$8:$CG$10)","v":0},{"$f":"SUM($CH$8:$CH$10)","v":0},{"$f":"SUM($CI$8:$CI$10)","v":0},{"$f":"SUM($CJ$8:$CJ$10)","v":0},{"$f":"SUM($CK$8:$CK$10)","v":0},{"$f":"SUM($CL$8:$CL$10)","v":0},{"$f":"SUM($CM$8:$CM$10)","v":0},{"$f":"SUM($CN$8:$CN$10)","v":0},{"$f":"SUM($CO$8:$CO$10)","v":0},"-",{"$f":"SUM($CQ$8:$CQ$10)","v":0},{"$f":"SUM($CR$8:$CR$10)","v":0},{"$f":"SUM($CS$8:$CS$10)","v":0},{"$f":"SUM($CT$8:$CT$10)","v":0},{"$f":"SUM($CU$8:$CU$10)","v":0},{"$f":"SUM($CV$8:$CV$10)","v":0},{"$f":"SUM($CW$8:$CW$10)","v":0},{"$f":"SUM($CX$8:$CX$10)","v":0},{"$f":"SUM($CY$8:$CY$10)","v":0},{"$f":"SUM($CZ$8:$CZ$10)","v":0},{"$f":"SUM($DA$8:$DA$10)","v":0},{"$f":"SUM($DB$8:$DB$10)","v":0},{"$f":"SUM($DC$8:$DC$10)","v":0},{"$f":"SUM($DD$8:$DD$10)","v":0},{"$f":"SUM($DE$8:$DE$10)","v":0},{"$f":"SUM($DF$8:$DF$10)","v":0},"-",{"$f":"SUM($DH$8:$DH$10)","v":0},{"$f":"SUM($DI$8:$DI$10)","v":0},{"$f":"SUM($DJ$8:$DJ$10)","v":0}]

{"sheet":"災害廃棄物事業経費（歳入）","index":2,"n_rows":10,"n_cols":30,"rows_kept":10,"merged":[[1,0,5,0],[1,1,5,1],[1,2,5,2]]}
["【災害】廃棄物処理事業経費（市区町村及び一部事務組合・広域連合の合計）【歳入】（平成30年度実績）"]
["都道府県名","地方公共団体コード","市区町村・一部事務組合・広域連合名","ごみ",{"$nulls":8},"し尿",{"$nulls":8},"合計"]
[{"$nulls":3},"合計 (特定財源(市区町村分担金を除く)+一般財源)",{"$nulls":8},"合計 (特定財源(市区町村分担金を除く)+一般財源)",{"$nulls":8},"合計 (特定財源(市区町村分担金を除く)+一般財源)"]
[{"$nulls":4},"特定財源 (市区町村分担金を除く)",{"$nulls":6},"一般財源",null,"特定財源 (市区町村分担金を除く)",{"$nulls":6},"一般財源",null,"特定財源 (市区町村分担金を除く)",{"$nulls":6},"一般財源"]
[{"$nulls":4},"合計","国庫支出金","都道府県\n支出金","地方債","使用料及び\n手数料","（市区町村\n分担金）","その他",null,null,"合計","国庫支出金","都道府県\n支出金","地方債","使用料及び\n手数料","（市区町村\n分担金）","その他",null,null,"合計","国庫支出金","都道府県\n支出金","地方債","使用料及び\n手数料","（市区町村\n分担金）","その他"]
[{"$nulls":3},"（千円）","（千円）","（千円）","（千円）","（千円）","（千円）","（千円）","（千円）","（千円）","（千円）","（千円）","（千円）","（千円）","（千円）","（千円）","（千円）","（千円）","（千円）","（千円）","（千円）","（千円）","（千円）","（千円）","（千円）","（千円）","（千円）","（千円）"]
["高知県","39000","合計",{"$f":"SUM($D$8:$D$10)","v":{"v":59298,"d":"59,298"}},{"$f":"SUM($E$8:$E$10)","v":{"v":43755,"d":"43,755"}},{"$f":"SUM($F$8:$F$10)","v":{"v":28755,"d":"28,755"}},{"$f":"SUM($G$8:$G$10)","v":0},{"$f":"SUM($H$8:$H$10)","v":{"v":15000,"d":"15,000"}},{"$f":"SUM($I$8:$I$10)","v":0},{"$f":"SUM($J$8:$J$10)","v":0},{"$f":"SUM($K$8:$K$10)","v":0},{"$f":"SUM($L$8:$L$10)","v":{"v":15543,"d":"15,543"}},{"$f":"SUM($M$8:$M$10)","v":170},{"$f":"SUM($N$8:$N$10)","v":85},{"$f":"SUM($O$8:$O$10)","v":85},{"$f":"SUM($P$8:$P$10)","v":0},{"$f":"SUM($Q$8:$Q$10)","v":0},{"$f":"SUM($R$8:$R$10)","v":0},{"$f":"SUM($S$8:$S$10)","v":0},{"$f":"SUM($T$8:$T$10)","v":0},{"$f":"SUM($U$8:$U$10)","v":85},{"$f":"SUM($V$8:$V$10)","v":{"v":59468,"d":"59,468"}},{"$f":"SUM($W$8:$W$10)","v":{"v":43840,"d":"43,840"}},{"$f":"SUM($X$8:$X$10)","v":{"v":28840,"d":"28,840"}},{"$f":"SUM($Y$8:$Y$10)","v":0},{"$f":"SUM($Z$8:$Z$10)","v":{"v":15000,"d":"15,000"}},{"$f":"SUM($AA$8:$AA$10)","v":0},{"$f":"SUM($AB$8:$AB$10)","v":0},{"$f":"SUM($AC$8:$AC$10)","v":0},{"$f":"SUM($AD$8:$AD$10)","v":{"v":15628,"d":"15,628"}}]
["高知県","39203","安芸市",{"$f":"SUM(E8,+L8)","v":480},240,240,0,0,0,0,0,240,{"$f":"SUM(N8,+U8)","v":170},85,85,0,0,0,0,0,85,650,325,325,0,0,0,0,0,325]
["高知県","39208","宿毛市",{"$f":"SUM(E9,+L9)","v":{"v":28700,"d":"28,700"}},{"v":13457,"d":"13,457"},{"v":13457,"d":"13,457"},0,0,0,0,0,{"v":15243,"d":"15,243"},{"$f":"SUM(N9,+U9)","v":0},0,0,0,0,0,0,0,0,{"v":28700,"d":"28,700"},{"v":13457,"d":"13,457"},{"v":13457,"d":"13,457"},0,0,0,0,0,{"v":15243,"d":"15,243"}]
["高知県","39424","大月町",{"$f":"SUM(E10,+L10)","v":{"v":30118,"d":"30,118"}},{"v":30058,"d":"30,058"},{"v":15058,"d":"15,058"},0,{"v":15000,"d":"15,000"},0,0,0,60,{"$f":"SUM(N10,+U10)","v":0},0,0,0,0,0,0,0,0,{"v":30118,"d":"30,118"},{"v":30058,"d":"30,058"},{"v":15058,"d":"15,058"},0,{"v":15000,"d":"15,000"},0,0,0,60]

{"sheet":"災害廃棄物事業経費（歳出）","index":3,"n_rows":10,"n_cols":87,"rows_kept":10,"merged":[[1,0,5,0],[1,1,5,1],[1,2,5,2],[3,10,4,10],[3,38,4,38],[3,66,4,66]]}
["【災害】廃棄物処理事業経費（市区町村及び一部事務組合・広域連合の合計）【歳出】（平成30年度実績）"]
["都道府県名","地方公共団体コード","市区町村・一部事務組合・広域連合名","ごみ（建設改良費＋処理維持管理費＋その他）（組合分担金を除く）",{"$nulls":27},"し尿（建設改良費＋処理維持管理費＋その他）（組合分担金を除く）",{"$nulls":27},"合計（建設改良費＋処理維持管理費＋その他）（組合分担金を除く）"]
[{"$nulls":3},"建設改良費 (工事費+調査費)(組合分担金を除く)",{"$nulls":7},"処理及び維持管理費 (人件費+処理費+車両購入費+委託費+調査研究費)(組合分担金を除く)",{"$nulls":17},"その他","合計","建設改良費 (工事費+調査費)(組合分担金を除く)",{"$nulls":7},"処理及び維持管理費 (人件費+処理費+車両購入費+委託費+調査研究費)(組合分担金を除く)",{"$nulls":17},"その他","合計","建設改良費 (工事費+調査費)(組合分担金を除く)",{"$nulls":7},"処理及び維持管理費 (人件費+処理費+車両購入費+委託費+調査研究費)(組合分担金を除く)",{"$nulls":17},"その他","合計"]
[{"$nulls":3},"合計","工事費 (中間処理施設+最終処分場+その他)",{"$nulls":4},"調査費","（建設改良費組合分担金）","合計","人件費（一般職＋収集運搬＋中間処理＋最終処分）",{"$nulls":4},"処理費 (収集運搬費+中間処理費+最終処分費)",{"$nulls":3},"車両等購入費","委託費 (収集運搬費+中間処理費+最終処分費+その他)",{"$nulls":4},"(組合分担金)","調査研究費",null,null,"合計","工事費 (中間処理施設+最終処分場+その他)",{"$nulls":4},"調査費","（建設改良費組合分担金）","合計","人件費（一般職＋収集運搬＋中間処理＋最終処分）",{"$nulls":4},"処理費 (収集運搬費+中間処理費+最終処分費)",{"$nulls":3},"車両等購入費","委託費 (収集運搬費+中間処理費+最終処分費+その他)",{"$nulls":4},"(組合分担金)","調査研究費",null,null,"合計","工事費 (中間処理施設+最終処分場+その他)",{"$nulls":4},"調査費","（建設改良費組合分担金）","合計","人件費（一般職＋収集運搬＋中間処理＋最終処分）",{"$nulls":4},"処理費 (収集運搬費+中間処理費+最終処分費)",{"$nulls":3},"車両等購入費","委託費 (収集運搬費+中間処理費+最終処分費+その他)",{"$nulls":4},"(組合分担金)","調査研究費"]
[{"$nulls":4},"合計","収集運搬施設","中間処理施設","最終処分場","その他",{"$nulls":3},"合計","一般職","収集運搬","中間処理","最終処分","合計","収集運搬費","中間処理費","最終処分費",null,"合計","収集運搬費","中間処理費","最終処分費","その他",{"$nulls":5},"合計","収集運搬施設","中間処理施設","最終処分場","その他",{"$nulls":3},"合計","一般職","収集運搬","中間処理","最終処分","合計","収集運搬費","中間処理費","最終処分費",null,"合計","収集運搬費","中間処理費","最終処分費","その他",{"$nulls":5},"合計","収集運搬施設","中間処理施設","最終処分場","その他",{"$nulls":3},"合計","一般職","収集運搬","中間処理","最終処分","合計","収集運搬費","中間処理費","最終処分費",null,"合計","収集運搬費","中間処理費","最終処分費","その他"]
[{"$nulls":3},"（千円）","（千円）","（千円）","（千円）","（千円）","（千円）","（千円）","（千円）","（千円）","（千円）","（千円）","（千円）","（千円）","（千円）","（千円）","（千円）","（千円）","（千円）","（千円）","（千円）","（千円）","（千円）","（千円）","（千円）","（千円）","（千円）","（千円）","（千円）","（千円）","（千円）","（千円）","（千円）","（千円）","（千円）","（千円）","（千円）","（千円）","（千円）","（千円）","（千円）","（千円）","（千円）","（千円）","（千円）","（千円）","（千円）","（千円）","（千円）","（千円）","（千円）","（千円）","（千円）","（千円）","（千円）","（千円）","（千円）","（千円）","（千円）","（千円）","（千円）","（千円）","（千円）","（千円）","（千円）","（千円）","（千円）","（千円）","（千円）","（千円）","（千円）","（千円）","（千円）","（千円）","（千円）","（千円）","（千円）","（千円）","（千円）","（千円）","（千円）","（千円）","（千円）","（千円）","（千円）"]
["高知県","39000","合計",{"$f":"SUM($D$8:$D$10)","v":{"v":21682,"d":"21,682"}},{"$f":"SUM($E$8:$E$10)","v":{"v":21682,"d":"21,682"}},{"$f":"SUM($F$8:$F$10)","v":0},{"$f":"SUM($G$8:$G$10)","v":0},{"$f":"SUM($H$8:$H$10)","v":0},{"$f":"SUM($I$8:$I$10)","v":{"v":21682,"d":"21,682"}},{"$f":"SUM($J$8:$J$10)","v":0},{"$f":"SUM($K$8:$K$10)","v":0},{"$f":"SUM($L$8:$L$10)","v":{"v":35318,"d":"35,318"}},{"$f":"SUM($M$8:$M$10)","v":0},{"$f":"SUM($N$8:$N$10)","v":0},{"$f":"SUM($O$8:$O$10)","v":0},{"$f":"SUM($P$8:$P$10)","v":0},{"$f":"SUM($Q$8:$Q$10)","v":0},{"$f":"SUM($R$8:$R$10)","v":{"v":8909,"d":"8,909"}},{"$f":"SUM($S$8:$S$10)","v":{"v":3780,"d":"3,780"}},{"$f":"SUM($T$8:$T$10)","v":0},{"$f":"SUM($U$8:$U$10)","v":{"v":5129,"d":"5,129"}},{"$f":"SUM($V$8:$V$10)","v":0},{"$f":"SUM($W$8:$W$10)","v":{"v":26409,"d":"26,409"}},{"$f":"SUM($X$8:$X$10)","v":{"v":2808,"d":"2,808"}},{"$f":"SUM($Y$8:$Y$10)","v":480},{"$f":"SUM($Z$8:$Z$10)","v":0},{"$f":"SUM($AA$8:$AA$10)","v":{"v":23121,"d":"23,121"}},{"$f":"SUM($AB$8:$AB$10)","v":0},{"$f":"SUM($AC$8:$AC$10)","v":0},{"$f":"SUM($AD$8:$AD$10)","v":{"v":2298,"d":"2,298"}},{"$f":"SUM($AE$8:$AE$10)","v":{"v":59298,"d":"59,298"}},{"$f":"SUM($AF$8:$AF$10)","v":0},{"$f":"SUM($AG$8:$AG$10)","v":0},{"$f":"SUM($AH$8:$AH$10)","v":0},{"$f":"SUM($AI$8:$AI$10)","v":0},{"$f":"SUM($AJ$8:$AJ$10)","v":0},{"$f":"SUM($AK$8:$AK$10)","v":0},{"$f":"SUM($AL$8:$AL$10)","v":0},{"$f":"SUM($AM$8:$AM$10)","v":0},{"$f":"SUM($AN$8:$AN$10)","v":170},{"$f":"SUM($AO$8:$AO$10)","v":0},{"$f":"SUM($AP$8:$AP$10)","v":0},{"$f":"SUM($AQ$8:$AQ$10)","v":0},{"$f":"SUM($AR$8:$AR$10)","v":0},{"$f":"SUM($AS$8:$AS$10)","v":0},{"$f":"SUM($AT$8:$AT$10)","v":170},{"$f":"SUM($AU$8:$AU$10)","v":0},{"$f":"SUM($AV$8:$AV$10)","v":170},{"$f":"SUM($AW$8:$AW$10)","v":0},{"$f":"SUM($AX$8:$AX$10)","v":0},{"$f":"SUM($AY$8:$AY$10)","v":0},{"$f":"SUM($AZ$8:$AZ$10)","v":0},{"$f":"SUM($BA$8:$BA$10)","v":0},{"$f":"SUM($BB$8:$BB$10)","v":0},{"$f":"SUM($BC$8:$BC$10)","v":0},{"$f":"SUM($BD$8:$BD$10)","v":0},{"$f":"SUM($BE$8:$BE$10)","v":0},{"$f":"SUM($BF$8:$BF$10)","v":0},{"$f":"SUM($BG$8:$BG$10)","v":170},{"$f":"SUM($BH$8:$BH$10)","v":{"v":21682,"d":"21,682"}},{"$f":"SUM($BI$8:$BI$10)","v":{"v":21682,"d":"21,682"}},{"$f":"SUM($BJ$8:$BJ$10)","v":0},{"$f":"SUM($BK$8:$BK$10)","v":0},{"$f":"SUM($BL$8:$BL$10)","v":0},{"$f":"SUM($BM$8:$BM$10)","v":{"v":21682,"d":"21,682"}},{"$f":"SUM($BN$8:$BN$10)","v":0},{"$f":"SUM($BO$8:$BO$10)","v":0},{"$f":"SUM($BP$8:$BP$10)","v":{"v":35488,"d":"35,488"}},{"$f":"SUM($BQ$8:$BQ$10)","v":0},{"$f":"SUM($BR$8:$BR$10)","v":0},{"$f":"SUM($BS$8:$BS$10)","v":0},{"$f":"SUM($BT$8:$BT$10)","v":0},{"$f":"SUM($BU$8:$BU$10)","v":0},{"$f":"SUM($BV$8:$BV$10)","v":{"v":9079,"d":"9,079"}},{"$f":"SUM($BW$8:$BW$10)","v":{"v":3780,"d":"3,780"}},{"$f":"SUM($BX$8:$BX$10)","v":170},{"$f":"SUM($BY$8:$BY$10)","v":{"v":5129,"d":"5,129"}},{"$f":"SUM($BZ$8:$BZ$10)","v":0},{"$f":"SUM($CA$8:$CA$10)","v":{"v":26409,"d":"26,409"}},{"$f":"SUM($CB$8:$CB$10)","v":{"v":2808,"d":"2,808"}},{"$f":"SUM($CC$8:$CC$10)","v":480},{"$f":"SUM($CD$8:$CD$10)","v":0},{"$f":"SUM($CE$8:$CE$10)","v":{"v":23121,"d":"23,121"}},{"$f":"SUM($CF$8:$CF$10)","v":0},{"$f":"SUM($CG$8:$CG$10)","v":0},{"$f":"SUM($CH$8:$CH$10)","v":{"v":2298,"d":"2,298"}},{"$f":"SUM($CI$8:$CI$10)","v":{"v":59468,"d":"59,468"}}]
["高知県","39203","安芸市",0,0,0,0,0,0,0,{"$f":"組合分担金内訳!D8","v":0},480,0,0,0,0,0,0,0,0,0,0,480,0,480,0,0,{"$f":"組合分担金内訳!E8","v":0},0,0,480,0,0,0,0,0,0,0,{"$f":"組合分担金内訳!G8","v":0},170,0,0,0,0,0,170,0,170,0,0,0,0,0,0,0,{"$f":"組合分担金内訳!H8","v":0},0,0,170,{"$f":"SUM(D8,AF8)","v":0},{"$f":"SUM(E8,AG8)","v":0},{"$f":"SUM(F8,AH8)","v":0},{"$f":"SUM(G8,AI8)","v":0},{"$f":"SUM(H8,AJ8)","v":0},{"$f":"SUM(I8,AK8)","v":0},{"$f":"SUM(J8,AL8)","v":0},{"$f":"SUM(K8,AM8)","v":0},{"$f":"SUM(L8,AN8)","v":650},{"$f":"SUM(M8,AO8)","v":0},{"$f":"SUM(N8,AP8)","v":0},{"$f":"SUM(O8,AQ8)","v":0},{"$f":"SUM(P8,AR8)","v":0},{"$f":"SUM(Q8,AS8)","v":0},{"$f":"SUM(R8,AT8)","v":170},{"$f":"SUM(S8,AU8)","v":0},{"$f":"SUM(T8,AV8)","v":170},{"$f":"SUM(U8,AW8)","v":0},{"$f":"SUM(V8,AX8)","v":0},{"$f":"SUM(W8,AY8)","v":480},{"$f":"SUM(X8,AZ8)","v":0},{"$f":"SUM(Y8,BA8)","v":480},{"$f":"SUM(Z8,BB8)","v":0},{"$f":"SUM(AA8,BC8)","v":0},{"$f":"SUM(AB8,BD8)","v":0},{"$f":"SUM(AC8,BE8)","v":0},{"$f":"SUM(AD8,BF8)","v":0},{"$f":"SUM(AE8,BG8)","v":650}]
["高知県","39208","宿毛市",{"v":21682,"d":"21,682"},{"v":21682,"d":"21,682"},0,0,0,{"v":21682,"d":"21,682"},0,{"$f":"組合分担金内訳!D9","v":0},{"v":6016,"d":"6,016"},0,0,0,0,0,{"v":6016,"d":"6,016"},{"v":3780,"d":"3,780"},0,{"v":2236,"d":"2,236"},0,0,0,0,0,0,{"$f":"組合分担金内訳!E9","v":0},0,{"v":1002,"d":"1,002"},{"v":28700,"d":"28,700"},0,0,0,0,0,0,0,{"$f":"組合分担金内訳!G9","v":0},0,0,0,0,0,0,0,0,0,0,0,0,0,0,0,0,{"$f":"組合分担金内訳!H9","v":0},0,0,0,{"v":21682,"d":"21,682"},{"v":21682,"d":"21,682"},0,0,0,{"v":21682,"d":"21,682"},0,0,{"v":6016,"d":"6,016"},0,0,0,0,0,{"v":6016,"d":"6,016"},{"v":3780,"d":"3,780"},0,{"v":2236,"d":"2,236"},0,0,0,0,0,0,0,0,{"v":1002,"d":"1,002"},{"v":28700,"d":"28,700"}]
["高知県","39424","大月町",0,0,0,0,0,0,0,{"$f":"組合分担金内訳!D10","v":0},{"v":28822,"d":"28,822"},0,0,0,0,0,{"v":2893,"d":"2,893"},0,0,{"v":2893,"d":"2,893"},0,{"v":25929,"d":"25,929"},{"v":2808,"d":"2,808"},0,0,{"v":23121,"d":"23,121"},{"$f":"組合分担金内訳!E10","v":0},0,{"v":1296,"d":"1,296"},{"v":30118,"d":"30,118"},0,0,0,0,0,0,0,{"$f":"組合分担金内訳!G10","v":0},0,0,0,0,0,0,0,0,0,0,0,0,0,0,0,0,{"$f":"組合分担金内訳!H10","v":0},0,0,0,0,0,0,0,0,0,0,0,{"v":28822,"d":"28,822"},0,0,0,0,0,{"v":2893,"d":"2,893"},0,0,{"v":2893,"d":"2,893"},0,{"v":25929,"d":"25,929"},{"v":2808,"d":"2,808"},0,0,{"v":23121,"d":"23,121"},0,0,{"v":1296,"d":"1,296"},{"v":30118,"d":"30,118"}]

{"sheet":"組合分担金内訳","index":4,"n_rows":10,"n_cols":57,"rows_kept":10,"merged":[[1,0,5,0],[1,1,5,1],[1,2,5,2],[3,9,5,9],[3,10,5,10],[3,17,5,17],[3,18,5,18],[3,25,5,25],[3,26,5,26],[3,33,5,33],[3,34,5,34],[3,41,5,41],[3,42,5,42],[3,49,5,49],[3,50,5,50]]}
["【災害】廃棄物処理事業経費【分担金の合計】（平成30年度実績）"]
["都道府県名","地方公共団体コード","市区町村名","合計（広域団体１+広域団体２+広域団体３+広域団体４+広域団体５+広域団体６）",{"$nulls":5},"広域団体１",{"$nulls":7},"広域団体２",{"$nulls":7},"広域団体３",{"$nulls":7},"広域団体４",{"$nulls":7},"広域団体５",{"$nulls":7},"広域団体６"]
[]
[{"$nulls":3},"ごみ",null,null,"し尿",null,null,"広域団体ｺｰﾄﾞ","一部事務組合・広域連合名","ごみ",null,null,"し尿",null,null,"広域団体ｺｰﾄﾞ","一部事務組合・広域連合名","ごみ",null,null,"し尿",null,null,"広域団体ｺｰﾄﾞ","一部事務組合・広域連合名","ごみ",null,null,"し尿",null,null,"広域団体ｺｰﾄﾞ","一部事務組合・広域連合名","ごみ",null,null,"し尿",null,null,"広域団体ｺｰﾄﾞ","一部事務組合・広域連合名","ごみ",null,null,"し尿",null,null,"広域団体ｺｰﾄﾞ","一部事務組合・広域連合名","ごみ",null,null,"し尿"]
[{"$nulls":3},"建設・改良費","処理及び\n維持管理費","合計","建設・改良費","処理及び\n維持管理費","合計",null,null,"建設・改良費","処理及び\n維持管理費","小計","建設・改良費","処理及び\n維持管理費","小計",null,null,"建設・改良費","処理及び\n維持管理費","小計","建設・改良費","処理及び\n維持管理費","小計",null,null,"建設・改良費","処理及び\n維持管理費","小計","建設・改良費","処理及び\n維持管理費","小計",null,null,"建設・改良費","処理及び\n維持管理費","小計","建設・改良費","処理及び\n維持管理費","小計",null,null,"建設・改良費","処理及び\n維持管理費","小計","建設・改良費","処理及び\n維持管理費","小計",null,null,"建設・改良費","処理及び\n維持管理費","小計","建設・改良費","処理及び\n維持管理費","小計"]
[{"$nulls":3},"（千円）","（千円）","（千円）","（千円）","（千円）","（千円）",null,null,"（千円）","（千円）","（千円）","（千円）","（千円）","（千円）",null,null,"（千円）","（千円）","（千円）","（千円）","（千円）","（千円）",null,null,"（千円）","（千円）","（千円）","（千円）","（千円）","（千円）",null,null,"（千円）","（千円）","（千円）","（千円）","（千円）","（千円）",null,null,"（千円）","（千円）","（千円）","（千円）","（千円）","（千円）",null,null,"（千円）","（千円）","（千円）","（千円）","（千円）","（千円）"]
["高知県","39000","合計",{"$f":"SUM($D$8:$D$10)","v":0},{"$f":"SUM($E$8:$E$10)","v":0},{"$f":"SUM($F$8:$F$10)","v":0},{"$f":"SUM($G$8:$G$10)","v":0},{"$f":"SUM($H$8:$H$10)","v":0},{"$f":"SUM($I$8:$I$10)","v":0},{"$f":"COUNTIF($J$8:$J$10,\"<>\") - COUNTIF($J$8:$J$10,\"< >\")","v":0},{"$f":"COUNTIF($K$8:$K$10,\"<>\") - COUNTIF($K$8:$K$10,\"< >\")","v":0},{"$f":"SUM($L$8:$L$10)","v":0},{"$f":"SUM($M$8:$M$10)","v":0},{"$f":"SUM($N$8:$N$10)","v":0},{"$f":"SUM($O$8:$O$10)","v":0},{"$f":"SUM($P$8:$P$10)","v":0},{"$f":"SUM($Q$8:$Q$10)","v":0},{"$f":"COUNTIF($R$8:$R$10,\"<>\") - COUNTIF($R$8:$R$10,\"< >\")","v":0},{"$f":"COUNTIF($S$8:$S$10,\"<>\") - COUNTIF($S$8:$S$10,\"< >\")","v":0},{"$f":"SUM($T$8:$T$10)","v":0},{"$f":"SUM($U$8:$U$10)","v":0},{"$f":"SUM($V$8:$V$10)","v":0},{"$f":"SUM($W$8:$W$10)","v":0},{"$f":"SUM($X$8:$X$10)","v":0},{"$f":"SUM($Y$8:$Y$10)","v":0},{"$f":"COUNTIF($Z$8:$Z$10,\"<>\") - COUNTIF($Z$8:$Z$10,\"< >\")","v":0},{"$f":"COUNTIF($AA$8:$AA$10,\"<>\") - COUNTIF($AA$8:$AA$10,\"< >\")","v":0},{"$f":"SUM($AB$8:$AB$10)","v":0},{"$f":"SUM($AC$8:$AC$10)","v":0},{"$f":"SUM($AD$8:$AD$10)","v":0},{"$f":"SUM($AE$8:$AE$10)","v":0},{"$f":"SUM($AF$8:$AF$10)","v":0},{"$f":"SUM($AG$8:$AG$10)","v":0},{"$f":"COUNTIF($AH$8:$AH$10,\"<>\") - COUNTIF($AH$8:$AH$10,\"< >\")","v":0},{"$f":"COUNTIF($AI$8:$AI$10,\"<>\") - COUNTIF($AI$8:$AI$10,\"< >\")","v":0},{"$f":"SUM($AJ$8:$AJ$10)","v":0},{"$f":"SUM($AK$8:$AK$10)","v":0},{"$f":"SUM($AL$8:$AL$10)","v":0},{"$f":"SUM($AM$8:$AM$10)","v":0},{"$f":"SUM($AN$8:$AN$10)","v":0},{"$f":"SUM($AO$8:$AO$10)","v":0},{"$f":"COUNTIF($AP$8:$AP$10,\"<>\") - COUNTIF($AP$8:$AP$10,\"< >\")","v":0},{"$f":"COUNTIF($AQ$8:$AQ$10,\"<>\") - COUNTIF($AQ$8:$AQ$10,\"< >\")","v":0},{"$f":"SUM($AR$8:$AR$10)","v":0},{"$f":"SUM($AS$8:$AS$10)","v":0},{"$f":"SUM($AT$8:$AT$10)","v":0},{"$f":"SUM($AU$8:$AU$10)","v":0},{"$f":"SUM($AV$8:$AV$10)","v":0},{"$f":"SUM($AW$8:$AW$10)","v":0},{"$f":"COUNTIF($AX$8:$AX$10,\"<>\") - COUNTIF($AX$8:$AX$10,\"< >\")","v":0},{"$f":"COUNTIF($AY$8:$AY$10,\"<>\") - COUNTIF($AY$8:$AY$10,\"< >\")","v":0},{"$f":"SUM($AZ$8:$AZ$10)","v":0},{"$f":"SUM($BA$8:$BA$10)","v":0},{"$f":"SUM($BB$8:$BB$10)","v":0},{"$f":"SUM($BC$8:$BC$10)","v":0},{"$f":"SUM($BD$8:$BD$10)","v":0},{"$f":"SUM($BE$8:$BE$10)","v":0}]
["高知県","39203","安芸市",{"$f":"SUM(L8,T8,AB8,AJ8,AR8,AZ8)","v":0},{"$f":"SUM(M8,U8,AC8,AK8,AS8,BA8)","v":0},{"$f":"SUM(D8:E8)","v":0},{"$f":"SUM(O8,W8,AE8,AM8,AU8,BC8)","v":0},{"$f":"SUM(P8,X8,AF8,AN8,AV8,BD8)","v":0},{"$f":"SUM(G8:H8)","v":0},"","",0,0,{"$f":"SUM(L8,+M8)","v":0},0,0,{"$f":"SUM(O8,+P8)","v":0},"","",0,0,0,0,0,0,"","",0,0,0,0,0,{"$f":"SUM(AE8,+AF8)","v":0},"","",0,0,{"$f":"SUM(AJ8,+AK8)","v":0},0,0,{"$f":"SUM(AM8,+AN8)","v":0},"","",0,0,{"$f":"SUM(AR8,+AS8)","v":0},0,0,{"$f":"SUM(AU8,+AV8)","v":0},"","",0,0,{"$f":"SUM(AZ8,BA8)","v":0},0,0,{"$f":"SUM(BC8,+BD8)","v":0}]
["高知県","39208","宿毛市",{"$f":"SUM(L9,T9,AB9,AJ9,AR9,AZ9)","v":0},{"$f":"SUM(M9,U9,AC9,AK9,AS9,BA9)","v":0},{"$f":"SUM(D9:E9)","v":0},{"$f":"SUM(O9,W9,AE9,AM9,AU9,BC9)","v":0},{"$f":"SUM(P9,X9,AF9,AN9,AV9,BD9)","v":0},{"$f":"SUM(G9:H9)","v":0},"","",0,0,{"$f":"SUM(L9,+M9)","v":0},0,0,{"$f":"SUM(O9,+P9)","v":0},"","",0,0,0,0,0,0,"","",0,0,0,0,0,{"$f":"SUM(AE9,+AF9)","v":0},"","",0,0,{"$f":"SUM(AJ9,+AK9)","v":0},0,0,{"$f":"SUM(AM9,+AN9)","v":0},"","",0,0,{"$f":"SUM(AR9,+AS9)","v":0},0,0,{"$f":"SUM(AU9,+AV9)","v":0},"","",0,0,{"$f":"SUM(AZ9,BA9)","v":0},0,0,{"$f":"SUM(BC9,+BD9)","v":0}]
["高知県","39424","大月町",{"$f":"SUM(L10,T10,AB10,AJ10,AR10,AZ10)","v":0},{"$f":"SUM(M10,U10,AC10,AK10,AS10,BA10)","v":0},{"$f":"SUM(D10:E10)","v":0},{"$f":"SUM(O10,W10,AE10,AM10,AU10,BC10)","v":0},{"$f":"SUM(P10,X10,AF10,AN10,AV10,BD10)","v":0},{"$f":"SUM(G10:H10)","v":0},"","",0,0,{"$f":"SUM(L10,+M10)","v":0},0,0,{"$f":"SUM(O10,+P10)","v":0},"","",0,0,0,0,0,0,"","",0,0,0,0,0,{"$f":"SUM(AE10,+AF10)","v":0},"","",0,0,{"$f":"SUM(AJ10,+AK10)","v":0},0,0,{"$f":"SUM(AM10,+AN10)","v":0},"","",0,0,{"$f":"SUM(AR10,+AS10)","v":0},0,0,{"$f":"SUM(AU10,+AV10)","v":0},"","",0,0,{"$f":"SUM(AZ10,BA10)","v":0},0,0,{"$f":"SUM(BC10,+BD10)","v":0}]

{"sheet":"市町村分担金内訳","index":5,"n_rows":7,"n_cols":125,"rows_kept":7,"merged":[[1,0,5,0],[1,1,5,1],[1,2,5,2],[1,3,2,4],[3,3,4,3],[3,4,4,4],[3,5,5,5],[3,6,5,6],[3,7,4,7],[3,8,4,8],[3,9,5,9],[3,10,5,10],[3,11,4,11],[3,12,4,12],[3,13,5,13],[3,14,5,14],[3,15,4,15],[3,16,4,16],[3,17,5,17],[3,18,5,18],[3,19,4,19],[3,20,4,20],[3,21,5,21],[3,22,5,22],[3,23,4,23],[3,24,4,24],[3,25,5,25],[3,26,5,26],[3,27,4,27],[3,28,4,28],[3,29,5,29],[3,30,5,30],[3,31,4,31],[3,32,4,32],[3,33,5,33],[3,34,5,34],[3,35,4,35],[3,36,4,36],[3,37,5,37],[3,38,5,38],[3,39,4,39],[3,40,4,40],[3,41,5,41],[3,42,5,42],[3,43,4,43],[3,44,4,44],[3,45,5,45],[3,46,5,46],[3,47,4,47],[3,48,4,48],[3,49,5,49],[3,50,5,50],[3,51,4,51],[3,52,4,52],[3,53,5,53],[3,54,5,54],[3,55,4,55],[3,56,4,56],[3,57,5,57],[3,58,5,58],[3,59,4,59],[3,60,4,60],[3,61,5,61],[3,62,5,62],[3,63,4,63],[3,64,4,64],[3,65,5,65],[3,66,5,66],[3,67,4,67],[3,68,4,68],[3,69,5,69],[3,70,5,70],[3,71,4,71],[3,72,4,72],[3,73,5,73],[3,74,5,74],[3,75,4,75],[3,76,4,76],[3,77,5,77],[3,78,5,78],[3,79,4,79],[3,80,4,80],[3,81,5,81],[3,82,5,82],[3,83,4,83],[3,84,4,84],[3,85,5,85],[3,86,5,86],[3,87,4,87],[3,88,4,88],[3,89,5,89],[3,90,5,90],[3,91,4,91],[3,92,4,92],[3,93,5,93],[3,94,5,94],[3,95,4,95],[3,96,4,96],[3,97,5,97],[3,98,5,98],[3,99,4,99],[3,100,4,100],[3,101,5,101],[3,102,5,102],[3,103,4,103],[3,104,4,104],[3,105,5,105],[3,106,5,106],[3,107,4,107],[3,108,4,108],[3,109,5,109],[3,110,5,110],[3,111,4,111],[3,112,4,112],[3,113,5,113],[3,114,5,114],[3,115,4,115],[3,116,4,116],[3,117,5,117],[3,118,5,118],[3,119,4,119],[3,120,4,120],[3,121,5,121],[3,122,5,122],[3,123,4,123],[3,124,4,124]]}
["【災害】廃棄物処理事業経費【市区町村分担金の合計】（平成30年度実績）"]
["都道府県名","地方公共団体コード","一部事務組合・広域連合名","合計（構成市区町村1+～+構成市区町村30）",null,"構成市区町村1",{"$nulls":3},"構成市区町村2",{"$nulls":3},"構成市区町村3",{"$nulls":3},"構成市区町村4",{"$nulls":3},"構成市区町村5",{"$nulls":3},"構成市区町村6",{"$nulls":3},"構成市区町村7",{"$nulls":3},"構成市区町村8",{"$nulls":3},"構成市区町村9",{"$nulls":3},"構成市区町村10",{"$nulls":3},"構成市区町村11",{"$nulls":3},"構成市区町村12",{"$nulls":3},"構成市区町村13",{"$nulls":3},"構成市区町村14",{"$nulls":3},"構成市区町村15",{"$nulls":3},"構成市区町村16",{"$nulls":3},"構成市区町村17",{"$nulls":3},"構成市区町村18",{"$nulls":3},"構成市区町村19",{"$nulls":3},"構成市区町村20",{"$nulls":3},"構成市区町村21",{"$nulls":3},"構成市区町村22",{"$nulls":3},"構成市区町村23",{"$nulls":3},"構成市区町村24",{"$nulls":3},"構成市区町村25",{"$nulls":3},"構成市区町村26",{"$nulls":3},"構成市区町村27",{"$nulls":3},"構成市区町村28",{"$nulls":3},"構成市区町村29",{"$nulls":3},"構成市区町村30"]
[]
[{"$nulls":3},"ごみ","し尿","市区町村\nコード","市区町村名","ごみ","し尿","市区町村\nコード","市区町村名","ごみ","し尿","市区町村\nコード","市区町村名","ごみ","し尿","市区町村\nコード","市区町村名","ごみ","し尿","市区町村\nコード","市区町村名","ごみ","し尿","市区町村\nコード","市区町村名","ごみ","し尿","市区町村\nコード","市区町村名","ごみ","し尿","市区町村\nコード","市区町村名","ごみ","し尿","市区町村\nコード","市区町村名","ごみ","し尿","市区町村\nコード","市区町村名","ごみ","し尿","市区町村\nコード","市区町村名","ごみ","し尿","市区町村\nコード","市区町村名","ごみ","し尿","市区町村\nコード","市区町村名","ごみ","し尿","市区町村\nコード","市区町村名","ごみ","し尿","市区町村\nコード","市区町村名","ごみ","し尿","市区町村\nコード","市区町村名","ごみ","し尿","市区町村\nコード","市区町村名","ごみ","し尿","市区町村\nコード","市区町村名","ごみ","し尿","市区町村\nコード","市区町村名","ごみ","し尿","市区町村\nコード","市区町村名","ごみ","し尿","市区町村\nコード","市区町村名","ごみ","し尿","市区町村\nコード","市区町村名","ごみ","し尿","市区町村\nコード","市区町村名","ごみ","し尿","市区町村\nコード","市区町村名","ごみ","し尿","市区町村\nコード","市区町村名","ごみ","し尿","市区町村\nコード","市区町村名","ごみ","し尿","市区町村\nコード","市区町村名","ごみ","し尿","市区町村\nコード","市区町村名","ごみ","し尿","市区町村\nコード","市区町村名","ごみ","し尿","市区町村\nコード","市区町村名","ごみ","し尿"]
[]
[{"$nulls":3},"（千円）","（千円）",null,null,"（千円）","（千円）",null,null,"（千円）","（千円）",null,null,"（千円）","（千円）",null,null,"（千円）","（千円）",null,null,"（千円）","（千円）",null,null,"（千円）","（千円）",null,null,"（千円）","（千円）",null,null,"（千円）","（千円）",null,null,"（千円）","（千円）",null,null,"（千円）","（千円）",null,null,"（千円）","（千円）",null,null,"（千円）","（千円）",null,null,"（千円）","（千円）",null,null,"（千円）","（千円）",null,null,"（千円）","（千円）",null,null,"（千円）","（千円）",null,null,"（千円）","（千円）",null,null,"（千円）","（千円）",null,null,"（千円）","（千円）",null,null,"（千円）","（千円）",null,null,"（千円）","（千円）",null,null,"（千円）","（千円）",null,null,"（千円）","（千円）",null,null,"（千円）","（千円）",null,null,"（千円）","（千円）",null,null,"（千円）","（千円）",null,null,"（千円）","（千円）",null,null,"（千円）","（千円）",null,null,"（千円）","（千円）",null,null,"（千円）","（千円）"]
["高知県","39000","合計",{"$f":"SUM($D$8:$D$10)","v":0},{"$f":"SUM($E$8:$E$10)","v":0},{"$f":"COUNTIF($F$8:$F$10,\"<>\") - COUNTIF($F$8:$F$10,\"< >\")","v":0},{"$f":"COUNTIF($G$8:$G$10,\"<>\") - COUNTIF($G$8:$G$10,\"< >\")","v":0},{"$f":"SUM($H$8:$H$10)","v":0},{"$f":"SUM($I$8:$I$10)","v":0},{"$f":"COUNTIF($J$8:$J$10,\"<>\") - COUNTIF($J$8:$J$10,\"< >\")","v":0},{"$f":"COUNTIF($K$8:$K$10,\"<>\") - COUNTIF($K$8:$K$10,\"< >\")","v":0},{"$f":"SUM($L$8:$L$10)","v":0},{"$f":"SUM($M$8:$M$10)","v":0},{"$f":"COUNTIF($N$8:$N$10,\"<>\") - COUNTIF($N$8:$N$10,\"< >\")","v":0},{"$f":"COUNTIF($O$8:$O$10,\"<>\") - COUNTIF($O$8:$O$10,\"< >\")","v":0},{"$f":"SUM($P$8:$P$10)","v":0},{"$f":"SUM($Q$8:$Q$10)","v":0},{"$f":"COUNTIF($R$8:$R$10,\"<>\") - COUNTIF($R$8:$R$10,\"< >\")","v":0},{"$f":"COUNTIF($S$8:$S$10,\"<>\") - COUNTIF($S$8:$S$10,\"< >\")","v":0},{"$f":"SUM($T$8:$T$10)","v":0},{"$f":"SUM($U$8:$U$10)","v":0},{"$f":"COUNTIF($V$8:$V$10,\"<>\") - COUNTIF($V$8:$V$10,\"< >\")","v":0},{"$f":"COUNTIF($W$8:$W$10,\"<>\") - COUNTIF($W$8:$W$10,\"< >\")","v":0},{"$f":"SUM($X$8:$X$10)","v":0},{"$f":"SUM($Y$8:$Y$10)","v":0},{"$f":"COUNTIF($Z$8:$Z$10,\"<>\") - COUNTIF($Z$8:$Z$10,\"< >\")","v":0},{"$f":"COUNTIF($AA$8:$AA$10,\"<>\") - COUNTIF($AA$8:$AA$10,\"< >\")","v":0},{"$f":"SUM($AB$8:$AB$10)","v":0},{"$f":"SUM($AC$8:$AC$10)","v":0},{"$f":"COUNTIF($AD$8:$AD$10,\"<>\") - COUNTIF($AD$8:$AD$10,\"< >\")","v":0},{"$f":"COUNTIF($AE$8:$AE$10,\"<>\") - COUNTIF($AE$8:$AE$10,\"< >\")","v":0},{"$f":"SUM($AF$8:$AF$10)","v":0},{"$f":"SUM($AG$8:$AG$10)","v":0},{"$f":"COUNTIF($AH$8:$AH$10,\"<>\") - COUNTIF($AH$8:$AH$10,\"< >\")","v":0},{"$f":"COUNTIF($AI$8:$AI$10,\"<>\") - COUNTIF($AI$8:$AI$10,\"< >\")","v":0},{"$f":"SUM($AJ$8:$AJ$10)","v":0},{"$f":"SUM($AK$8:$AK$10)","v":0},{"$f":"COUNTIF($AL$8:$AL$10,\"<>\") - COUNTIF($AL$8:$AL$10,\"< >\")","v":0},{"$f":"COUNTIF($AM$8:$AM$10,\"<>\") - COUNTIF($AM$8:$AM$10,\"< >\")","v":0},{"$f":"SUM($AN$8:$AN$10)","v":0},{"$f":"SUM($AO$8:$AO$10)","v":0},{"$f":"COUNTIF($AP$8:$AP$10,\"<>\") - COUNTIF($AP$8:$AP$10,\"< >\")","v":0},{"$f":"COUNTIF($AQ$8:$AQ$10,\"<>\") - COUNTIF($AQ$8:$AQ$10,\"< >\")","v":0},{"$f":"SUM($AR$8:$AR$10)","v":0},{"$f":"SUM($AS$8:$AS$10)","v":0},{"$f":"COUNTIF($AT$8:$AT$10,\"<>\") - COUNTIF($AT$8:$AT$10,\"< >\")","v":0},{"$f":"COUNTIF($AU$8:$AU$10,\"<>\") - COUNTIF($AU$8:$AU$10,\"< >\")","v":0},{"$f":"SUM($AV$8:$AV$10)","v":0},{"$f":"SUM($AW$8:$AW$10)","v":0},{"$f":"COUNTIF($AX$8:$AX$10,\"<>\") - COUNTIF($AX$8:$AX$10,\"< >\")","v":0},{"$f":"COUNTIF($AY$8:$AY$10,\"<>\") - COUNTIF($AY$8:$AY$10,\"< >\")","v":0},{"$f":"SUM($AZ$8:$AZ$10)","v":0},{"$f":"SUM($BA$8:$BA$10)","v":0},{"$f":"COUNTIF($BB$8:$BB$10,\"<>\") - COUNTIF($BB$8:$BB$10,\"< >\")","v":0},{"$f":"COUNTIF($BC$8:$BC$10,\"<>\") - COUNTIF($BC$8:$BC$10,\"< >\")","v":0},{"$f":"SUM($BD$8:$BD$10)","v":0},{"$f":"SUM($BE$8:$BE$10)","v":0},{"$f":"COUNTIF($BF$8:$BF$10,\"<>\") - COUNTIF($BF$8:$BF$10,\"< >\")","v":0},{"$f":"COUNTIF($BG$8:$BG$10,\"<>\") - COUNTIF($BG$8:$BG$10,\"< >\")","v":0},{"$f":"SUM($BH$8:$BH$10)","v":0},{"$f":"SUM($BI$8:$BI$10)","v":0},{"$f":"COUNTIF($BJ$8:$BJ$10,\"<>\") - COUNTIF($BJ$8:$BJ$10,\"< >\")","v":0},{"$f":"COUNTIF($BK$8:$BK$10,\"<>\") - COUNTIF($BK$8:$BK$10,\"< >\")","v":0},{"$f":"SUM($BL$8:$BL$10)","v":0},{"$f":"SUM($BM$8:$BM$10)","v":0},{"$f":"COUNTIF($BN$8:$BN$10,\"<>\") - COUNTIF($BN$8:$BN$10,\"< >\")","v":0},{"$f":"COUNTIF($BO$8:$BO$10,\"<>\") - COUNTIF($BO$8:$BO$10,\"< >\")","v":0},{"$f":"SUM($BP$8:$BP$10)","v":0},{"$f":"SUM($BQ$8:$BQ$10)","v":0},{"$f":"COUNTIF($BR$8:$BR$10,\"<>\") - COUNTIF($BR$8:$BR$10,\"< >\")","v":0},{"$f":"COUNTIF($BS$8:$BS$10,\"<>\") - COUNTIF($BS$8:$BS$10,\"< >\")","v":0},{"$f":"SUM($BT$8:$BT$10)","v":0},{"$f":"SUM($BU$8:$BU$10)","v":0},{"$f":"COUNTIF($BV$8:$BV$10,\"<>\") - COUNTIF($BV$8:$BV$10,\"< >\")","v":0},{"$f":"COUNTIF($BW$8:$BW$10,\"<>\") - COUNTIF($BW$8:$BW$10,\"< >\")","v":0},{"$f":"SUM($BX$8:$BX$10)","v":0},{"$f":"SUM($BY$8:$BY$10)","v":0},{"$f":"COUNTIF($BZ$8:$BZ$10,\"<>\") - COUNTIF($BZ$8:$BZ$10,\"< >\")","v":0},{"$f":"COUNTIF($CA$8:$CA$10,\"<>\") - COUNTIF($CA$8:$CA$10,\"< >\")","v":0},{"$f":"SUM($CB$8:$CB$10)","v":0},{"$f":"SUM($CC$8:$CC$10)","v":0},{"$f":"COUNTIF($CD$8:$CD$10,\"<>\") - COUNTIF($CD$8:$CD$10,\"< >\")","v":0},{"$f":"COUNTIF($CE$8:$CE$10,\"<>\") - COUNTIF($CE$8:$CE$10,\"< >\")","v":0},{"$f":"SUM($CF$8:$CF$10)","v":0},{"$f":"SUM($CG$8:$CG$10)","v":0},{"$f":"COUNTIF($CH$8:$CH$10,\"<>\") - COUNTIF($CH$8:$CH$10,\"< >\")","v":0},{"$f":"COUNTIF($CI$8:$CI$10,\"<>\") - COUNTIF($CI$8:$CI$10,\"< >\")","v":0},{"$f":"SUM($CJ$8:$CJ$10)","v":0},{"$f":"SUM($CK$8:$CK$10)","v":0},{"$f":"COUNTIF($CL$8:$CL$10,\"<>\") - COUNTIF($CL$8:$CL$10,\"< >\")","v":0},{"$f":"COUNTIF($CM$8:$CM$10,\"<>\") - COUNTIF($CM$8:$CM$10,\"< >\")","v":0},{"$f":"SUM($CN$8:$CN$10)","v":0},{"$f":"SUM($CO$8:$CO$10)","v":0},{"$f":"COUNTIF($CP$8:$CP$10,\"<>\") - COUNTIF($CP$8:$CP$10,\"< >\")","v":0},{"$f":"COUNTIF($CQ$8:$CQ$10,\"<>\") - COUNTIF($CQ$8:$CQ$10,\"< >\")","v":0},{"$f":"SUM($CR$8:$CR$10)","v":0},{"$f":"SUM($CS$8:$CS$10)","v":0},{"$f":"COUNTIF($CT$8:$CT$10,\"<>\") - COUNTIF($CT$8:$CT$10,\"< >\")","v":0},{"$f":"COUNTIF($CU$8:$CU$10,\"<>\") - COUNTIF($CU$8:$CU$10,\"< >\")","v":0},{"$f":"SUM($CV$8:$CV$10)","v":0},{"$f":"SUM($CW$8:$CW$10)","v":0},{"$f":"COUNTIF($CX$8:$CX$10,\"<>\") - COUNTIF($CX$8:$CX$10,\"< >\")","v":0},{"$f":"COUNTIF($CY$8:$CY$10,\"<>\") - COUNTIF($CY$8:$CY$10,\"< >\")","v":0},{"$f":"SUM($CZ$8:$CZ$10)","v":0},{"$f":"SUM($DA$8:$DA$10)","v":0},{"$f":"COUNTIF($DB$8:$DB$10,\"<>\") - COUNTIF($DB$8:$DB$10,\"< >\")","v":0},{"$f":"COUNTIF($DC$8:$DC$10,\"<>\") - COUNTIF($DC$8:$DC$10,\"< >\")","v":0},{"$f":"SUM($DD$8:$DD$10)","v":0},{"$f":"SUM($DE$8:$DE$10)","v":0},{"$f":"COUNTIF($DF$8:$DF$10,\"<>\") - COUNTIF($DF$8:$DF$10,\"< >\")","v":0},{"$f":"COUNTIF($DG$8:$DG$10,\"<>\") - COUNTIF($DG$8:$DG$10,\"< >\")","v":0},{"$f":"SUM($DH$8:$DH$10)","v":0},{"$f":"SUM($DI$8:$DI$10)","v":0},{"$f":"COUNTIF($DJ$8:$DJ$10,\"<>\") - COUNTIF($DJ$8:$DJ$10,\"< >\")","v":0},{"$f":"COUNTIF($DK$8:$DK$10,\"<>\") - COUNTIF($DK$8:$DK$10,\"< >\")","v":0},{"$f":"SUM($DL$8:$DL$10)","v":0},{"$f":"SUM($DM$8:$DM$10)","v":0},{"$f":"COUNTIF($DN$8:$DN$10,\"<>\") - COUNTIF($DN$8:$DN$10,\"< >\")","v":0},{"$f":"COUNTIF($DO$8:$DO$10,\"<>\") - COUNTIF($DO$8:$DO$10,\"< >\")","v":0},{"$f":"SUM($DP$8:$DP$10)","v":0},{"$f":"SUM($DQ$8:$DQ$10)","v":0},{"$f":"COUNTIF($DR$8:$DR$10,\"<>\") - COUNTIF($DR$8:$DR$10,\"< >\")","v":0},{"$f":"COUNTIF($DS$8:$DS$10,\"<>\") - COUNTIF($DS$8:$DS$10,\"< >\")","v":0},{"$f":"SUM($DT$8:$DT$10)","v":0},{"$f":"SUM($DU$8:$DU$10)","v":0}]