Workbook

Sheet 組合状況
A1: 一部事務組合・広域連合の状況（平成29年度実績）
A2: 都道府県名 | B2: 地方公共団体コード | C2: 一部事務組合・広域連合名 | D2: 事業概要 | U2: 構成市区町村数 | V2: 構成市区町村1 | X2: 構成市区町村2 | Z2: 構成市区町村3 | AB2: 構成市区町村4 | AD2: 構成市区町村5 | AF2: 構成市区町村6 | AH2: 構成市区町村7 | AJ2: 構成市区町村8 | AL2: 構成市区町村9 | AN2: 構成市区町村10 | AP2: 構成市区町村11 | AR2: 構成市区町村12 | AT2: 構成市区町村13 | AV2: 構成市区町村14 | AX2: 構成市区町村15 | AZ2: 構成市区町村16 | BB2: 構成市区町村17 | BD2: 構成市区町村18 | BF2: 構成市区町村19 | BH2: 構成市区町村20 | BJ2: 構成市区町村21 | BL2: 構成市区町村22 | BN2: 構成市区町村23 | BP2: 構成市区町村24 | BR2: 構成市区町村25 | BT2: 構成市区町村26 | BV2: 構成市区町村27 | BX2: 構成市区町村28 | BZ2: 構成市区町村29 | CB2: 構成市区町村30
D3: ごみ | M3: し尿
D4: 無し | E4: 収集運搬 | F4: 中間処理 | G4: 最終処分 | H4: 業の許可 | I4: 施設建設の計画・施行 | J4: 資源化 | K4: 残渣処分 | L4: その他 | M4: 無し | N4: 収集運搬 | O4: 中間処理 | P4: 残渣処理 | Q4: 業の許可 | R4: 施設建設の計画・施行 | S4: 農地還元 | T4: その他 | V4: 市区町村 コード | W4: 市区町村名 | X4: 市区町村 コード | Y4: 市区町村名 | Z4: 市区町村 コード | AA4: 市区町村名 | AB4: 市区町村 コード | AC4: 市区町村名 | AD4: 市区町村 コード | AE4: 市区町村名 | AF4: 市区町村 コード | AG4: 市区町村名 | AH4: 市区町村 コード | AI4: 市区町村名 | AJ4: 市区町村 コード | AK4: 市区町村名 | AL4: 市区町村 コード | AM4: 市区町村名 | AN4: 市区町村 コード | AO4: 市区町村名 | AP4: 市区町村 コード | AQ4: 市区町村名 | AR4: 市区町村 コード | AS4: 市区町村名 | AT4: 市区町村 コード | AU4: 市区町村名 | AV4: 市区町村 コード | AW4: 市区町村名 | AX4: 市区町村 コード | AY4: 市区町村名 | AZ4: 市区町村 コード | BA4: 市区町村名 | BB4: 市区町村 コード | BC4: 市区町村名 | BD4: 市区町村 コード | BE4: 市区町村名 | BF4: 市区町村 コード | BG4: 市区町村名 | BH4: 市区町村 コード | BI4: 市区町村名 | BJ4: 市区町村 コード | BK4: 市区町村名 | BL4: 市区町村 コード | BM4: 市区町村名 | BN4: 市区町村 コード | BO4: 市区町村名 | BP4: 市区町村 コード | BQ4: 市区町村名 | BR4: 市区町村 コード | BS4: 市区町村名 | BT4: 市区町村 コード | BU4: 市区町村名 | BV4: 市区町村 コード | BW4: 市区町村名 | BX4: 市区町村 コード | BY4: 市区町村名 | BZ4: 市区町村 コード | CA4: 市区町村名 | CB4: 市区町村 コード | CC4: 市区町村名
A7: 長崎県 | B7: 42000 | C7: 合計 | D7: =COUNTIF(D$8:D$57,"○") -> 0 | E7: =COUNTIF(E$8:E$57,"○") -> 1 | F7: =COUNTIF(F$8:F$57,"○") -> 6 | G7: =COUNTIF(G$8:G$57,"○") -> 2 | H7: =COUNTIF(H$8:H$57,"○") -> 0 | I7: =COUNTIF(I$8:I$57,"○") -> 3 | J7: =COUNTIF(J$8:J$57,"○") -> 6 | K7: =COUNTIF(K$8:K$57,"○") -> 2 | ... T7: =COUNTIF(T$8:T$57,"○") -> 1 | U7: =COUNTIF(U$8:U$57,"<>") -> 6 | V7: =COUNTIF(V$8:V$57,"<>") -> 6 | W7: =COUNTIF(W$8:W$57,"<>") -> 6 | X7: =COUNTIF(X$8:X$57,"<>") -> 6 | Y7: =COUNTIF(Y$8:Y$57,"<>") -> 6 | Z7: =COUNTIF(Z$8:Z$57,"<>") -> 6 | AA7: =COUNTIF(AA$8:AA$57,"<>") -> 3 | AB7: =COUNTIF(AB$8:AB$57,"<>") -> 6 | ... CC7: =COUNTIF(CC$8:CC$57,"<>") -> 0
A8: 長崎県 | B8: 42817 | C8: 東彼地区保健福祉組合 | E8: ○ | F8: ○ | G8: ○ | I8: ○ | J8: ○ | K8: ○ | N8: ○ | O8: ○ | P8: ○ | T8: ○ | U8: 3 | V8: 42321 | W8: 東彼杵町 | X8: 42322 | Y8: 川棚町 | Z8: 42323 | AA8: 波佐見町 | CD8: 422015
A9: 長崎県 | B9: 42842 | C9: 県央地域広域市町村圏組合 | F9: ○ | J9: ○ | M9: ○ | U9: 2 | V9: 42204 | W9: 諫早市 | X9: 42213 | Y9: 雲仙市 | CD9: 422023
A10: 長崎県 | B10: 42843 | C10: 島原地域広域市町村圏組合 | F10: ○ | G10: ○ | J10: ○ | K10: ○ | M10: ○ | U10: 3 | V10: 42203 | W10: 島原市 | X10: 42213 | Y10: 雲仙市 | Z10: 42214 | AA10: 南島原市 | CD10: 422024
A11: 長崎県 | B11: 42867 | C11: 県央県南広域環境組合 | F11: ○ | J11: ○ | M11: ○ | U11: 4 | V11: 42203 | W11: 島原市 | X11: 42204 | Y11: 諫早市 | Z11: 42213 | AA11: 雲仙市 | AB11: 42214 | AC11: 南島原市 | CD11: 422018
A12: 長崎県 | B12: 42872 | C12: 北松北部環境組合 | F12: ○ | I12: ○ | J12: ○ | O12: ○ | R12: ○ | S12: ○ | U12: 2 | V12: 42207 | W12: 平戸市 | X12: 42208 | Y12: 松浦市 | CD12: 422019
A13: 長崎県 | B13: 42876 | C13: 長与・時津環境施設組合 | F13: ○ | I13: ○ | J13: ○ | M13: ○ | U13: 2 | V13: 42307 | W13: 長与町 | X13: 42308 | Y13: 時津町 | CD13: 422020
CD14: 421035
CD15: 421036
CD16: 421037
CD17: 421038
CD18: 421039
CD19: 421062
CD20: 421041
CD21: 421061
CD22: 421059
CD23: 421063
CD24: 421064
CD25: 421056
... CD28: 421047

Sheet 廃棄物処理従事職員数（市町村）
A1: 廃棄物処理従事職員数（市区町村）（平成29年度実績）
A2: 都道府県名 | B2: 地方公共団体コード | C2: 市区町村名 | D2: ごみ (一般職+技術職) | M2: し尿 (一般職+技術職) | V2: 合計 (一般職+技術職)
D3: 合計 | E3: 一般職 (事務系+技術系) | H3: 技能職 (収集運搬+中間処理+最終処分+その他) | M3: 合計 | N3: 一般職 (事務系+技術系) | Q3: 技能職 (収集運搬+中間処理+最終処分+その他) | W3: 一般職 (事務系+技術系) | Z3: 技能職 (収集運搬+中間処理+最終処分+その他)
E4: 合計 | F4: 事務系 | G4: 技術系 | H4: 合計 | I4: 収集運搬 | J4: 中間処理 | K4: 最終処分 | L4: その他 | N4: 合計 | O4: 事務系 | P4: 技術系 | Q4: 合計 | R4: 収集運搬 | S4: 中間処理 | T4: 最終処分 | U4: その他 | W4: 合計 | X4: 事務系 | Y4: 技術系 | Z4: 合計 | AA4: 収集運搬 | AB4: 中間処理 | AC4: 最終処分 | AD4: その他
D6: （人） | E6: （人） | F6: （人） | G6: （人） | H6: （人） | I6: （人） | J6: （人） | K6: （人） | L6: （人） | M6: （人） | N6: （人） | O6: （人） | P6: （人） | Q6: （人） | R6: （人） | S6: （人） | T6: （人） | U6: （人） | V6: （人） | W6: （人） | X6: （人） | Y6: （人） | Z6: （人） | AA6: （人） | AB6: （人） | AC6: （人） | AD6: （人）
A7: =組合状況!A7 -> 長崎県 | B7: =組合状況!B7 -> 42000 | C7: 合計 | D7: =SUM(E7,+H7) -> 661 | E7: =SUM(F7:G7) -> 268 | F7: =SUM(F$8:F$207) -> 202 | G7: =SUM(G$8:G$207) -> 66 | H7: =SUM(I7:L7) -> 393 | I7: =SUM(I$8:I$207) -> 272 | J7: =SUM(J$8:J$207) -> 104 | K7: =SUM(K$8:K$207) -> 12 | L7: =SUM(L$8:L$207) -> 5 | M7: =SUM(N7,+Q7) -> 101 | N7: =SUM(O7:P7) -> 62 | O7: =SUM(O$8:O$207) -> 33 | P7: =SUM(P$8:P$207) -> 29 | Q7: =SUM(R7:U7) -> 39 | R7: =SUM(R$8:R$207) -> 27 | S7: =SUM(S$8:S$207) -> 12 | T7: =SUM(T$8:T$207) -> 0 | U7: =SUM(U$8:U$207) -> 0 | V7: =SUM(D7,+M7) -> 762 | W7: =SUM(E7,+N7) -> 330 | X7: =SUM(F7,+O7) -> 235 | Y7: =SUM(G7,+P7) -> 95 | Z7: =SUM(H7,+Q7) -> 432 | AA7: =SUM(I7,+R7) -> 299 | AB7: =SUM(J7,+S7) -> 116 | AC7: =SUM(K7,+T7) -> 12 | AD7: =SUM(L7,+U7) -> 5
A8: 長崎県 | B8: 42201 | C8: 長崎市 | D8: =SUM(E8,+H8) -> 264 | E8: =SUM(F8:G8) -> 110 | F8: 87 | G8: 23 | H8: =SUM(I8:L8) -> 154 | I8: 128 | J8: 15 | K8: 7 | L8: 4 | M8: =SUM(N8,+Q8) -> 0 | N8: =SUM(O8:P8) -> 0 | O8: 0 | P8: 0 | Q8: =SUM(R8:U8) -> 0 | R8: 0 | S8: 0 | T8: 0 | U8: 0 | V8: =SUM(D8,+M8) -> 264 | W8: =SUM(E8,+N8) -> 110 | X8: =SUM(F8,+O8) -> 87 | Y8: =SUM(G8,+P8) -> 23 | Z8: =SUM(H8,+Q8) -> 154 | AA8: =SUM(I8,+R8) -> 128 | AB8: =SUM(J8,+S8) -> 15 | AC8: =SUM(K8,+T8) -> 7 | AD8: =SUM(L8,+U8) -> 4
A9: 長崎県 | B9: 42202 | C9: 佐世保市 | D9: =SUM(E9,+H9) -> 150 | E9: =SUM(F9:G9) -> 55 | F9: 29 | G9: 26 | H9: =SUM(I9:L9) -> 95 | I9: 65 | J9: 28 | K9: 2 | L9: 0 | M9: =SUM(N9,+Q9) -> 4 | N9: =SUM(O9:P9) -> 4 | O9: 1 | P9: 3 | Q9: =SUM(R9:U9) -> 0 | R9: 0 | S9: 0 | T9: 0 | U9: 0 | V9: =SUM(D9,+M9) -> 154 | W9: =SUM(E9,+N9) -> 59 | X9: =SUM(F9,+O9) -> 30 | Y9: =SUM(G9,+P9) -> 29 | Z9: =SUM(H9,+Q9) -> 95 | AA9: =SUM(I9,+R9) -> 65 | AB9: =SUM(J9,+S9) -> 28 | AC9: =SUM(K9,+T9) -> 2 | AD9: =SUM(L9,+U9) -> 0
A10: 長崎県 | B10: 42203 | C10: 島原市 | D10: =SUM(E10,+H10) -> 44 | E10: =SUM(F10:G10) -> 3 | F10: 3 | G10: 0 | H10: =SUM(I10:L10) -> 41 | I10: 41 | J10: 0 | K10: 0 | L10: 0 | M10: =SUM(N10,+Q10) -> 1 | N10: =SUM(O10:P10) -> 1 | O10: 1 | P10: 0 | Q10: =SUM(R10:U10) -> 0 | R10: 0 | S10: 0 | T10: 0 | U10: 0 | V10: =SUM(D10,+M10) -> 45 | W10: =SUM(E10,+N10) -> 4 | X10: =SUM(F10,+O10) -> 4 | Y10: =SUM(G10,+P10) -> 0 | Z10: =SUM(H10,+Q10) -> 41 | AA10: =SUM(I10,+R10) -> 41 | AB10: =SUM(J10,+S10) -> 0 | AC10: =SUM(K10,+T10) -> 0 | AD10: =SUM(L10,+U10) -> 0
A11: 長崎県 | B11: 42204 | C11: 諫早市 | D11: =SUM(E11,+H11) -> 12 | E11: =SUM(F11:G11) -> 12 | F11: 11 | G11: 1 | H11: =SUM(I11:L11) -> 0 | I11: 0 | J11: 0 | K11: 0 | L11: 0 | M11: =SUM(N11,+Q11) -> 5 | N11: =SUM(O11:P11) -> 5 | O11: 2 | P11: 3 | Q11: =SUM(R11:U11) -> 0 | R11: 0 | S11: 0 | T11: 0 | U11: 0 | V11: =SUM(D11,+M11) -> 17 | W11: =SUM(E11,+N11) -> 17 | X11: =SUM(F11,+O11) -> 13 | Y11: =SUM(G11,+P11) -> 4 | Z11: =SUM(H11,+Q11) -> 0 | AA11: =SUM(I11,+R11) -> 0 | AB11: =SUM(J11,+S11) -> 0 | AC11: =SUM(K11,+T11) -> 0 | AD11: =SUM(L11,+U11) -> 0
A12: 長崎県 | B12: 42205 | C12: 大村市 | D12: =SUM(E12,+H12) -> 27 | E12: =SUM(F12:G12) -> 6 | F12: 3 | G12: 3 | H12: =SUM(I12:L12) -> 21 | I12: 11 | J12: 10 | K12: 0 | L12: 0 | M12: =SUM(N12,+Q12) -> 0 | N12: =SUM(O12:P12) -> 0 | O12: 0 | P12: 0 | Q12: =SUM(R12:U12) -> 0 | R12: 0 | S12: 0 | T12: 0 | U12: 0 | V12: =SUM(D12,+M12) -> 27 | W12: =SUM(E12,+N12) -> 6 | X12: =SUM(F12,+O12) -> 3 | Y12: =SUM(G12,+P12) -> 3 | Z12: =SUM(H12,+Q12) -> 21 | AA12: =SUM(I12,+R12) -> 11 | AB12: =SUM(J12,+S12) -> 10 | AC12: =SUM(K12,+T12) -> 0 | AD12: =SUM(L12,+U12) -> 0
A13: 長崎県 | B13: 42207 | C13: 平戸市 | D13: =SUM(E13,+H13) -> 8 | E13: =SUM(F13:G13) -> 6 | F13: 6 | G13: 0 | H13: =SUM(I13:L13) -> 2 | I13: 0 | J13: 0 | K13: 2 | L13: 0 | M13: =SUM(N13,+Q13) -> 1 | N13: =SUM(O13:P13) -> 1 | O13: 1 | P13: 0 | Q13: =SUM(R13:U13) -> 0 | R13: 0 | S13: 0 | T13: 0 | U13: 0 | V13: =SUM(D13,+M13) -> 9 | W13: =SUM(E13,+N13) -> 7 | X13: =SUM(F13,+O13) -> 7 | Y13: =SUM(G13,+P13) -> 0 | Z13: =SUM(H13,+Q13) -> 2 | AA13: =SUM(I13,+R13) -> 0 | AB13: =SUM(J13,+S13) -> 0 | AC13: =SUM(K13,+T13) -> 2 | AD13: =SUM(L13,+U13) -> 0
A14: 長崎県 | B14: 42208 | C14: 松浦市 | D14: =SUM(E14,+H14) -> 5 | E14: =SUM(F14:G14) -> 5 | F14: 4 | G14: 1 | H14: =SUM(I14:L14) -> 0 | I14: 0 | J14: 0 | K14: 0 | L14: 0 | M14: =SUM(N14,+Q14) -> 4 | N14: =SUM(O14:P14) -> 4 | O14: 4 | P14: 0 | Q14: =SUM(R14:U14) -> 0 | R14: 0 | S14: 0 | T14: 0 | U14: 0 | V14: =SUM(D14,+M14) -> 9 | W14: =SUM(E14,+N14) -> 9 | X14: =SUM(F14,+O14) -> 8 | Y14: =SUM(G14,+P14) -> 1 | Z14: =SUM(H14,+Q14) -> 0 | AA14: =SUM(I14,+R14) -> 0 | AB14: =SUM(J14,+S14) -> 0 | AC14: =SUM(K14,+T14) -> 0 | AD14: =SUM(L14,+U14) -> 0
A15: 長崎県 | B15: 42209 | C15: 対馬市 | D15: =SUM(E15,+H15) -> 14 | E15: =SUM(F15:G15) -> 14 | F15: 9 | G15: 5 | H15: =SUM(I15:L15) -> 0 | I15: 0 | J15: 0 | K15: 0 | L15: 0 | M15: =SUM(N15,+Q15) -> 9 | N15: =SUM(O15:P15) -> 9 | O15: 1 | P15: 8 | Q15: =SUM(R15:U15) -> 0 | R15: 0 | S15: 0 | T15: 0 | U15: 0 | V15: =SUM(D15,+M15) -> 23 | W15: =SUM(E15,+N15) -> 23 | X15: =SUM(F15,+O15) -> 10 | Y15: =SUM(G15,+P15) -> 13 | Z15: =SUM(H15,+Q15) -> 0 | AA15: =SUM(I15,+R15) -> 0 | AB15: =SUM(J15,+S15) -> 0 | AC15: =SUM(K15,+T15) -> 0 | AD15: =SUM(L15,+U15) -> 0
A16: 長崎県 | B16: 42210 | C16: 壱岐市 | D16: =SUM(E16,+H16) -> 54 | E16: =SUM(F16:G16) -> 9 | F16: 9 | G16: 0 | H16: =SUM(I16:L16) -> 45 | I16: 21 | J16: 24 | K16: 0 | L16: 0 | M16: =SUM(N16,+Q16) -> 5 | N16: =SUM(O16:P16) -> 1 | O16: 1 | P16: 0 | Q16: =SUM(R16:U16) -> 4 | R16: 0 | S16: 4 | T16: 0 | U16: 0 | V16: =SUM(D16,+M16) -> 59 | W16: =SUM(E16,+N16) -> 10 | X16: =SUM(F16,+O16) -> 10 | Y16: =SUM(G16,+P16) -> 0 | Z16: =SUM(H16,+Q16) -> 49 | AA16: =SUM(I16,+R16) -> 21 | AB16: =SUM(J16,+S16) -> 28 | AC16: =SUM(K16,+T16) -> 0 | AD16: =SUM(L16,+U16) -> 0
A17: 長崎県 | B17: 42211 | C17: 五島市 | D17: =SUM(E17,+H17) -> 13 | E17: =SUM(F17:G17) -> 12 | F17: 9 | G17: 3 | H17: =SUM(I17:L17) -> 1 | I17: 0 | J17: 0 | K17: 1 | L17: 0 | M17: =SUM(N17,+Q17) -> 9 | N17: =SUM(O17:P17) -> 9 | O17: 4 | P17: 5 | Q17: =SUM(R17:U17) -> 0 | R17: 0 | S17: 0 | T17: 0 | U17: 0 | V17: =SUM(D17,+M17) -> 22 | W17: =SUM(E17,+N17) -> 21 | X17: =SUM(F17,+O17) -> 13 | Y17: =SUM(G17,+P17) -> 8 | Z17: =SUM(H17,+Q17) -> 1 | AA17: =SUM(I17,+R17) -> 0 | AB17: =SUM(J17,+S17) -> 0 | AC17: =SUM(K17,+T17) -> 1 | AD17: =SUM(L17,+U17) -> 0
A18: 長崎県 | B18: 42212 | C18: 西海市 | D18: =SUM(E18,+H18) -> 6 | E18: =SUM(F18:G18) -> 4 | F18: 2 | G18: 2 | H18: =SUM(I18:L18) -> 2 | I18: 0 | J18: 2 | K18: 0 | L18: 0 | M18: =SUM(N18,+Q18) -> 1 | N18: =SUM(O18:P18) -> 1 | O18: 1 | P18: 0 | Q18: =SUM(R18:U18) -> 0 | R18: 0 | S18: 0 | T18: 0 | U18: 0 | V18: =SUM(D18,+M18) -> 7 | W18: =SUM(E18,+N18) -> 5 | X18: =SUM(F18,+O18) -> 3 | Y18: =SUM(G18,+P18) -> 2 | Z18: =SUM(H18,+Q18) -> 2 | AA18: =SUM(I18,+R18) -> 0 | AB18: =SUM(J18,+S18) -> 2 | AC18: =SUM(K18,+T18) -> 0 | AD18: =SUM(L18,+U18) -> 0
A19: 長崎県 | B19: 42213 | C19: 雲仙市 | D19: =SUM(E19,+H19) -> 2 | E19: =SUM(F19:G19) -> 2 | F19: 2 | G19: 0 | H19: =SUM(I19:L19) -> 0 | I19: 0 | J19: 0 | K19: 0 | L19: 0 | M19: =SUM(N19,+Q19) -> 13 | N19: =SUM(O19:P19) -> 13 | O19: 4 | P19: 9 | Q19: =SUM(R19:U19) -> 0 | R19: 0 | S19: 0 | T19: 0 | U19: 0 | V19: =SUM(D19,+M19) -> 15 | W19: =SUM(E19,+N19) -> 15 | X19: =SUM(F19,+O19) -> 6 | Y19: =SUM(G19,+P19) -> 9 | Z19: =SUM(H19,+Q19) -> 0 | AA19: =SUM(I19,+R19) -> 0 | AB19: =SUM(J19,+S19) -> 0 | AC19: =SUM(K19,+T19) -> 0 | AD19: =SUM(L19,+U19) -> 0
... A28: 長崎県 | B28: 42411 | C28: 新上五島町 | D28: =SUM(E28,+H28) -> 6 | E28: =SUM(F28:G28) -> 6 | F28: 6 | G28: 0 | H28: =SUM(I28:L28) -> 0 | I28: 0 | J28: 0 | K28: 0 | L28: 0 | M28: =SUM(N28,+Q28) -> 1 | N28: =SUM(O28:P28) -> 1 | O28: 1 | P28: 0 | Q28: =SUM(R28:U28) -> 0 | R28: 0 | S28: 0 | T28: 0 | U28: 0 | V28: =SUM(D28,+M28) -> 7 | W28: =SUM(E28,+N28) -> 7 | X28: =SUM(F28,+O28) -> 7 | Y28: =SUM(G28,+P28) -> 0 | Z28: =SUM(H28,+Q28) -> 0 | AA28: =SUM(I28,+R28) -> 0 | AB28: =SUM(J28,+S28) -> 0 | AC28: =SUM(K28,+T28) -> 0 | AD28: =SUM(L28,+U28) -> 0

Sheet 廃棄物処理従事職員数（組合）
A1: 廃棄物処理従事職員数（一部事務組合・広域連合）（平成29年度実績）
A2: 都道府県名 | B2: 地方公共団体コード | C2: 一部事務組合・広域連合名 | D2: ごみ (一般職+技術職) | M2: し尿 (一般職+技術職) | V2: 合計 (一般職+技術職)
D3: 合計 | E3: 一般職 (事務系+技術系) | H3: 技能職 (収集運搬+中間処理+最終処分+その他) | M3: 合計 | N3: 一般職 (事務系+技術系) | Q3: 技能職 (収集運搬+中間処理+最終処分+その他) | W3: 一般職 (事務系+技術系) | Z3: 技能職 (収集運搬+中間処理+最終処分+その他)
E4: 合計 | F4: 事務系 | G4: 技術系 | H4: 合計 | I4: 収集運搬 | J4: 中間処理 | K4: 最終処分 | L4: その他 | N4: 合計 | O4: 事務系 | P4: 技術系 | Q4: 合計 | R4: 収集運搬 | S4: 中間処理 | T4: 最終処分 | U4: その他 | W4: 合計 | X4: 事務系 | Y4: 技術系 | Z4: 合計 | AA4: 収集運搬 | AB4: 中間処理 | AC4: 最終処分 | AD4: その他
D6: （人） | E6: （人） | F6: （人） | G6: （人） | H6: （人） | I6: （人） | J6: （人） | K6: （人） | L6: （人） | M6: （人） | N6: （人） | O6: （人） | P6: （人） | Q6: （人） | R6: （人） | S6: （人） | T6: （人） | U6: （人） | V6: （人） | W6: （人） | X6: （人） | Y6: （人） | Z6: （人） | AA6: （人） | AB6: （人） | AC6: （人） | AD6: （人）
A7: =組合状況!A7 -> 長崎県 | B7: =組合状況!B7 -> 42000 | C7: 合計 | D7: =SUM(E7,+H7) -> 94 | E7: =SUM(F7:G7) -> 46 | F7: =SUM(F$8:F$57) -> 38 | G7: =SUM(G$8:G$57) -> 8 | H7: =SUM(I7:L7) -> 48 | I7: =SUM(I$8:I$57) -> 0 | J7: =SUM(J$8:J$57) -> 46 | K7: =SUM(K$8:K$57) -> 2 | L7: =SUM(L$8:L$57) -> 0 | M7: =SUM(N7,+Q7) -> 15 | N7: =SUM(O7:P7) -> 6 | O7: =SUM(O$8:O$57) -> 4 | P7: =SUM(P$8:P$57) -> 2 | Q7: =SUM(R7:U7) -> 9 | R7: =SUM(R$8:R$57) -> 8 | S7: =SUM(S$8:S$57) -> 1 | T7: =SUM(T$8:T$57) -> 0 | U7: =SUM(U$8:U$57) -> 0 | V7: =SUM(D7,+M7) -> 109 | W7: =SUM(E7,+N7) -> 52 | X7: =SUM(F7,+O7) -> 42 | Y7: =SUM(G7,+P7) -> 10 | Z7: =SUM(H7,+Q7) -> 57 | AA7: =SUM(I7,+R7) -> 8 | AB7: =SUM(J7,+S7) -> 47 | AC7: =SUM(K7,+T7) -> 2 | AD7: =SUM(L7,+U7) -> 0
A8: 長崎県 | B8: 42817 | C8: 東彼地区保健福祉組合 | D8: =SUM(E8,+H8) -> 9 | E8: =SUM(F8:G8) -> 8 | F8: 2 | G8: 6 | H8: =SUM(I8:L8) -> 1 | I8: 0 | J8: 1 | K8: 0 | L8: 0 | M8: =SUM(N8,+Q8) -> 13 | N8: =SUM(O8:P8) -> 4 | O8: 2 | P8: 2 | Q8: =SUM(R8:U8) -> 9 | R8: 8 | S8: 1 | T8: 0 | U8: 0 | V8: =SUM(D8,+M8) -> 22 | W8: =SUM(E8,+N8) -> 12 | X8: =SUM(F8,+O8) -> 4 | Y8: =SUM(G8,+P8) -> 8 | Z8: =SUM(H8,+Q8) -> 10 | AA8: =SUM(I8,+R8) -> 8 | AB8: =SUM(J8,+S8) -> 2 | AC8: =SUM(K8,+T8) -> 0 | AD8: =SUM(L8,+U8) -> 0
A9: 長崎県 | B9: 42842 | C9: 県央地域広域市町村圏組合 | D9: =SUM(E9,+H9) -> 1 | E9: =SUM(F9:G9) -> 1 | F9: 1 | G9: 0 | H9: =SUM(I9:L9) -> 0 | I9: 0 | J9: 0 | K9: 0 | L9: 0 | M9: =SUM(N9,+Q9) -> 0 | N9: =SUM(O9:P9) -> 0 | O9: 0 | P9: 0 | Q9: =SUM(R9:U9) -> 0 | R9: 0 | S9: 0 | T9: 0 | U9: 0 | V9: =SUM(D9,+M9) -> 1 | W9: =SUM(E9,+N9) -> 1 | X9: =SUM(F9,+O9) -> 1 | Y9: =SUM(G9,+P9) -> 0 | Z9: =SUM(H9,+Q9) -> 0 | AA9: =SUM(I9,+R9) -> 0 | AB9: =SUM(J9,+S9) -> 0 | AC9: =SUM(K9,+T9) -> 0 | AD9: =SUM(L9,+U9) -> 0
A10: 長崎県 | B10: 42843 | C10: 島原地域広域市町村圏組合 | D10: =SUM(E10,+H10) -> 3 | E10: =SUM(F10:G10) -> 1 | F10: 1 | G10: 0 | H10: =SUM(I10:L10) -> 2 | I10: 0 | J10: 0 | K10: 2 | L10: 0 | M10: =SUM(N10,+Q10) -> 0 | N10: =SUM(O10:P10) -> 0 | O10: 0 | P10: 0 | Q10: =SUM(R10:U10) -> 0 | R10: 0 | S10: 0 | T10: 0 | U10: 0 | V10: =SUM(D10,+M10) -> 3 | W10: =SUM(E10,+N10) -> 1 | X10: =SUM(F10,+O10) -> 1 | Y10: =SUM(G10,+P10) -> 0 | Z10: =SUM(H10,+Q10) -> 2 | AA10: =SUM(I10,+R10) -> 0 | AB10: =SUM(J10,+S10) -> 0 | AC10: =SUM(K10,+T10) -> 2 | AD10: =SUM(L10,+U10) -> 0
A11: 長崎県 | B11: 42867 | C11: 県央県南広域環境組合 | D11: =SUM(E11,+H11) -> 39 | E11: =SUM(F11:G11) -> 26 | F11: 25 | G11: 1 | H11: =SUM(I11:L11) -> 13 | I11: 0 | J11: 13 | K11: 0 | L11: 0 | M11: =SUM(N11,+Q11) -> 0 | N11: =SUM(O11:P11) -> 0 | O11: 0 | P11: 0 | Q11: =SUM(R11:U11) -> 0 | R11: 0 | S11: 0 | T11: 0 | U11: 0 | V11: =SUM(D11,+M11) -> 39 | W11: =SUM(E11,+N11) -> 26 | X11: =SUM(F11,+O11) -> 25 | Y11: =SUM(G11,+P11) -> 1 | Z11: =SUM(H11,+Q11) -> 13 | AA11: =SUM(I11,+R11) -> 0 | AB11: =SUM(J11,+S11) -> 13 | AC11: =SUM(K11,+T11) -> 0 | AD11: =SUM(L11,+U11) -> 0
A12: 長崎県 | B12: 42872 | C12: 北松北部環境組合 | D12: =SUM(E12,+H12) -> 6 | E12: =SUM(F12:G12) -> 4 | F12: 3 | G12: 1 | H12: =SUM(I12:L12) -> 2 | I12: 0 | J12: 2 | K12: 0 | L12: 0 | M12: =SUM(N12,+Q12) -> 2 | N12: =SUM(O12:P12) -> 2 | O12: 2 | P12: 0 | Q12: =SUM(R12:U12) -> 0 | R12: 0 | S12: 0 | T12: 0 | U12: 0 | V12: =SUM(D12,+M12) -> 8 | W12: =SUM(E12,+N12) -> 6 | X12: =SUM(F12,+O12) -> 5 | Y12: =SUM(G12,+P12) -> 1 | Z12: =SUM(H12,+Q12) -> 2 | AA12: =SUM(I12,+R12) -> 0 | AB12: =SUM(J12,+S12) -> 2 | AC12: =SUM(K12,+T12) -> 0 | AD12: =SUM(L12,+U12) -> 0
A13: 長崎県 | B13: 42876 | C13: 長与・時津環境施設組合 | D13: =SUM(E13,+H13) -> 36 | E13: =SUM(F13:G13) -> 6 | F13: 6 | G13: 0 | H13: =SUM(I13:L13) -> 30 | I13: 0 | J13: 30 | K13: 0 | L13: 0 | M13: =SUM(N13,+Q13) -> 0 | N13: =SUM(O13:P13) -> 0 | O13: 0 | P13: 0 | Q13: =SUM(R13:U13) -> 0 | R13: 0 | S13: 0 | T13: 0 | U13: 0 | V13: =SUM(D13,+M13) -> 36 | W13: =SUM(E13,+N13) -> 6 | X13: =SUM(F13,+O13) -> 6 | Y13: =SUM(G13,+P13) -> 0 | Z13: =SUM(H13,+Q13) -> 30 | AA13: =SUM(I13,+R13) -> 0 | AB13: =SUM(J13,+S13) -> 30 | AC13: =SUM(K13,+T13) -> 0 | AD13: =SUM(L13,+U13) -> 0

Sheet 収集運搬機材（市町村）
A1: 収集運搬機材の状況（市区町村）（平成29年度実績）
A2: 都道府県名 | B2: 地方公共団体コード | C2: 市区町村名 | D2: ごみ | AB2: し尿
D3: 直営 | L3: 委託 | T3: 許可 | AB3: 直営 | AJ3: 委託 | AR3: 許可
D4: 収集車 | F4: 運搬車 （収集運搬部門） | H4: 運搬車 （中間処理部門） | J4: 運搬船等の船舶 | L4: 収集車 | N4: 運搬車 （収集運搬部門） | P4: 運搬車 （中間処理部門） | R4: 運搬船等の船舶 | T4: 収集車 | V4: 運搬車 （収集運搬部門） | X4: 運搬車 （中間処理部門） | Z4: 運搬船等の船舶 | AB4: 収集車 | AF4: 運搬車 | AH4: 運搬船等の船舶 | AJ4: 収集車 | AN4: 運搬車 | AP4: 運搬船等の船舶 | AR4: 収集車 | AV4: 運搬車 | AX4: 運搬船等の船舶
AB5: バキューム車 | AD5: その他 | AJ5: バキューム車 | AL5: その他 | AR5: バキューム車 | AT5: その他
D6: （台） | E6: （ｔ） | F6: （台） | G6: （ｔ） | H6: （台） | I6: （ｔ） | J6: （隻） | K6: （ｔ） | L6: （台） | M6: （ｔ） | N6: （台） | O6: （ｔ） | P6: （台） | Q6: （ｔ） | R6: （隻） | S6: （ｔ） | T6: （台） | U6: （ｔ） | V6: （台） | W6: （ｔ） | X6: （台） | Y6: （ｔ） | Z6: （隻） | AA6: （ｔ） | AB6: （台） | AC6: （kl） | AD6: （台） | AE6: （kl） | AF6: （台） | AG6: （kl） | AH6: （隻） | AI6: （kl） | AJ6: （台） | AK6: （kl） | AL6: （台） | AM6: （kl） | AN6: （台） | AO6: （kl） | AP6: （隻） | AQ6: （kl） | AR6: （台） | AS6: （kl） | AT6: （台） | AU6: （kl） | AV6: （台） | AW6: （kl） | AX6: （隻） | AY6: （kl）
A7: =組合状況!A7 -> 長崎県 | B7: =組合状況!B7 -> 42000 | C7: 合計 | D7: =SUM(D$8:D$207) -> 109 | E7: =SUM(E$8:E$207) -> 215 | F7: =SUM(F$8:F$207) -> 7 | G7: =SUM(G$8:G$207) -> 26 | H7: =SUM(H$8:H$207) -> 2 | I7: =SUM(I$8:I$207) -> 5 | J7: =SUM(J$8:J$207) -> 0 | K7: =SUM(K$8:K$207) -> 0 | ... AY7: =SUM(AY$8:AY$207) -> 11
A8: 長崎県 | B8: 42201 | C8: 長崎市 | D8: 59 | E8: 95 | F8: 0 | G8: 0 | H8: 0 | I8: 0 | J8: 0 | K8: 0 | L8: 110 | M8: 242 | N8: 20 | O8: 106 | P8: 7 | Q8: 47 | R8: 0 | S8: 0 | T8: 1098 | U8: 2855 | X8: 0 | Y8: 0 | Z8: 0 | AA8: 0 | AB8: 0 | AC8: 0 | AD8: 0 | AE8: 0 | AF8: 0 | AG8: 0 | AH8: 0 | AI8: 0 | AJ8: 4 | AK8: 10 | AL8: 0 | AM8: 0 | AN8: 1 | AO8: 10 | AP8: 0 | AQ8: 0 | AR8: 35 | AS8: 88 | AT8: 1 | AU8: 9 | AV8: 11 | AW8: 96 | AX8: 0 | AY8: 0
A9: 長崎県 | B9: 42202 | C9: 佐世保市 | D9: 17 | E9: 29 | F9: 0 | G9: 0 | H9: 0 | I9: 0 | J9: 0 | K9: 0 | L9: 45 | M9: 116 | N9: 0 | O9: 0 | P9: 0 | Q9: 0 | R9: 0 | S9: 0 | T9: 688 | U9: 1493 | V9: 0 | W9: 0 | X9: 0 | Y9: 0 | Z9: 4 | AA9: 20 | AB9: 0 | AC9: 0 | AD9: 0 | AE9: 0 | AF9: 0 | AG9: 0 | AH9: 0 | AI9: 0 | AJ9: 0 | AK9: 0 | AL9: 0 | AM9: 0 | AN9: 0 | AO9: 0 | AP9: 0 | AQ9: 0 | AR9: 96 | AS9: 387 | AT9: 0 | AU9: 0 | AV9: 0 | AW9: 0 | AX9: 0 | AY9: 0
A10: 長崎県 | B10: 42203 | C10: 島原市 | D10: 13 | E10: 53 | F10: 7 | G10: 26 | H10: 0 | I10: 0 | J10: 0 | K10: 0 | L10: 0 | M10: 0 | N10: 0 | O10: 0 | P10: 0 | Q10: 0 | R10: 0 | S10: 0 | T10: 63 | U10: 144 | V10: 181 | W10: 437 | X10: 0 | Y10: 0 | Z10: 0 | AA10: 0 | AB10: 0 | AC10: 0 | AD10: 0 | AE10: 0 | AF10: 0 | AG10: 0 | AH10: 0 | AI10: 0 | AJ10: 0 | AK10: 0 | AL10: 0 | AM10: 0 | AN10: 0 | AO10: 0 | AP10: 0 | AQ10: 0 | AR10: 36 | AS10: 130 | AT10: 0 | AU10: 0 | AV10: 0 | AW10: 0 | AX10: 0 | AY10: 0
A11: 長崎県 | B11: 42204 | C11: 諫早市 | D11: 0 | E11: 0 | F11: 0 | G11: 0 | H11: 0 | I11: 0 | J11: 0 | K11: 0 | L11: 53 | M11: 120 | N11: 0 | O11: 0 | P11: 0 | Q11: 0 | R11: 0 | S11: 0 | T11: 508 | U11: 1266 | V11: 0 | W11: 0 | X11: 0 | Y11: 0 | Z11: 0 | AA11: 0 | AB11: 0 | AC11: 0 | AD11: 0 | AE11: 0 | AF11: 0 | AG11: 0 | AH11: 0 | AI11: 0 | AJ11: 0 | AK11: 0 | AL11: 0 | AM11: 0 | AN11: 0 | AO11: 0 | AP11: 0 | AQ11: 0 | AR11: 54 | AS11: 188 | AT11: 0 | AU11: 0 | AV11: 0 | AW11: 0 | AX11: 0 | AY11: 0
A12: 長崎県 | B12: 42205 | C12: 大村市 | D12: 2 | E12: 4 | F12: 0 | G12: 0 | H12: 0 | I12: 0 | J12: 0 | K12: 0 | L12: 22 | M12: 44 | N12: 0 | O12: 0 | P12: 0 | Q12: 0 | R12: 0 | S12: 0 | T12: 152 | U12: 357 | V12: 0 | W12: 0 | X12: 0 | Y12: 0 | Z12: 0 | AA12: 0 | AB12: 0 | AC12: 0 | AD12: 0 | AE12: 0 | AF12: 0 | AG12: 0 | AH12: 0 | AI12: 0 | AJ12: 0 | AK12: 0 | AL12: 0 | AM12: 0 | AN12: 0 | AO12: 0 | AP12: 0 | AQ12: 0 | AR12: 12 | AS12: 40 | AT12: 9 | AU12: 55 | AV12: 0 | AW12: 0 | AX12: 0 | AY12: 0
A13: 長崎県 | B13: 42207 | C13: 平戸市 | D13: 0 | E13: 0 | F13: 0 | G13: 0 | H13: 0 | I13: 0 | J13: 0 | K13: 0 | L13: 32 | M13: 58 | N13: 0 | O13: 0 | P13: 0 | Q13: 0 | R13: 0 | S13: 0 | T13: 20 | U13: 25 | V13: 0 | W13: 0 | X13: 0 | Y13: 0 | Z13: 0 | AA13: 0 | AB13: 0 | AC13: 0 | AD13: 0 | AE13: 0 | AF13: 0 | AG13: 0 | AH13: 0 | AI13: 0 | AJ13: 1 | AK13: 2 | AL13: 0 | AM13: 0 | AN13: 0 | AO13: 0 | AP13: 0 | AQ13: 0 | AR13: 59 | AS13: 226 | AT13: 0 | AU13: 0 | AV13: 0 | AW13: 0 | AX13: 0 | AY13: 0
A14: 長崎県 | B14: 42208 | C14: 松浦市 | D14: 0 | E14: 0 | F14: 0 | G14: 0 | H14: 0 | I14: 0 | J14: 0 | K14: 0 | L14: 19 | M14: 53 | N14: 0 | O14: 0 | P14: 0 | Q14: 0 | R14: 0 | S14: 0 | T14: 29 | U14: 10 | V14: 0 | W14: 0 | X14: 0 | Y14: 0 | Z14: 0 | AA14: 0 | AB14: 0 | AC14: 0 | AD14: 0 | AE14: 0 | AF14: 0 | AG14: 0 | AH14: 0 | AI14: 0 | AJ14: 3 | AK14: 8 | AL14: 0 | AM14: 0 | AN14: 1 | AO14: 10 | AP14: 1 | AQ14: 5 | AR14: 9 | AS14: 23 | AT14: 0 | AU14: 0 | AV14: 2 | AW14: 22 | AX14: 0 | AY14: 0
A15: 長崎県 | B15: 42209 | C15: 対馬市 | D15: 0 | E15: 0 | F15: 0 | G15: 0 | H15: 0 | I15: 0 | J15: 0 | K15: 0 | L15: 43 | M15: 80 | N15: 0 | O15: 0 | P15: 0 | Q15: 0 | R15: 0 | S15: 0 | T15: 173 | U15: 954 | V15: 0 | W15: 0 | X15: 0 | Y15: 0 | Z15: 0 | AA15: 0 | AB15: 0 | AC15: 0 | AD15: 0 | AE15: 0 | AF15: 0 | AG15: 0 | AH15: 0 | AI15: 0 | AJ15: 0 | AK15: 0 | AL15: 0 | AM15: 0 | AN15: 0 | AO15: 0 | AP15: 0 | AQ15: 0 | AR15: 46 | AS15: 115 | AT15: 1 | AU15: 20 | AV15: 0 | AW15: 0 | AX15: 0 | AY15: 0
A16: 長崎県 | B16: 42210 | C16: 壱岐市 | D16: 16 | E16: 30 | F16: 0 | G16: 0 | H16: 0 | I16: 0 | J16: 0 | K16: 0 | L16: 40 | M16: 127 | N16: 0 | O16: 0 | P16: 0 | Q16: 0 | R16: 0 | S16: 0 | T16: 4 | U16: 9 | V16: 0 | W16: 0 | X16: 0 | Y16: 0 | Z16: 0 | AA16: 0 | AB16: 0 | AC16: 0 | AD16: 0 | AE16: 0 | AF16: 1 | AG16: 3 | AH16: 0 | AI16: 0 | AJ16: 0 | AK16: 0 | AL16: 0 | AM16: 0 | AN16: 0 | AO16: 0 | AP16: 0 | AQ16: 0 | AR16: 32 | AS16: 87 | AT16: 0 | AU16: 0 | AV16: 6 | AW16: 57 | AX16: 0 | AY16: 0
A17: 長崎県 | B17: 42211 | C17: 五島市 | D17: 0 | E17: 0 | F17: 0 | G17: 0 | H17: 0 | I17: 0 | J17: 0 | K17: 0 | L17: 0 | M17: 0 | N17: 0 | O17: 0 | P17: 0 | Q17: 0 | R17: 0 | S17: 0 | T17: 68 | U17: 156 | V17: 0 | W17: 0 | X17: 0 | Y17: 0 | Z17: 0 | AA17: 0 | AB17: 0 | AC17: 0 | AD17: 0 | AE17: 0 | AF17: 0 | AG17: 0 | AH17: 0 | AI17: 0 | AJ17: 0 | AK17: 0 | AL17: 0 | AM17: 0 | AN17: 0 | AO17: 0 | AP17: 0 | AQ17: 0 | AR17: 21 | AS17: 51 | AT17: 0 | AU17: 0 | AV17: 2 | AW17: 14 | AX17: 1 | AY17: 11
A18: 長崎県 | B18: 42212 | C18: 西海市 | D18: 0 | E18: 0 | F18: 0 | G18: 0 | H18: 1 | I18: 2 | J18: 0 | K18: 0 | L18: 43 | M18: 82 | N18: 0 | O18: 0 | P18: 0 | Q18: 0 | R18: 0 | S18: 0 | T18: 209 | U18: 680 | V18: 0 | W18: 0 | X18: 0 | Y18: 0 | Z18: 0 | AA18: 0 | AB18: 1 | AC18: 2 | AD18: 0 | AE18: 0 | AF18: 0 | AG18: 0 | AH18: 0 | AI18: 0 | AJ18: 0 | AK18: 0 | AL18: 0 | AM18: 0 | AN18: 6 | AO18: 60 | AP18: 0 | AQ18: 0 | AR18: 35 | AS18: 124 | AT18: 9 | AU18: 32 | AV18: 1 | AW18: 10 | AX18: 0 | AY18: 0
A19: 長崎県 | B19: 42213 | C19: 雲仙市 | D19: 0 | E19: 0 | F19: 0 | G19: 0 | H19: 0 | I19: 0 | J19: 0 | K19: 0 | L19: 23 | M19: 41 | N19: 0 | O19: 0 | P19: 0 | Q19: 0 | R19: 0 | S19: 0 | T19: 235 | U19: 589 | V19: 0 | W19: 0 | X19: 0 | Y19: 0 | Z19: 0 | AA19: 0 | AB19: 6 | AC19: 17 | AD19: 0 | AE19: 0 | AF19: 0 | AG19: 0 | AH19: 0 | AI19: 0 | AJ19: 0 | AK19: 0 | AL19: 0 | AM19: 0 | AN19: 0 | AO19: 0 | AP19: 0 | AQ19: 0 | AR19: 13 | AS19: 29 | AT19: 1 | AU19: 1 | AV19: 1 | AW19: 10 | AX19: 0 | AY19: 0
A20: 長崎県 | B20: 42214 | C20: 南島原市 | D20: 1 | E20: 2 | F20: 0 | G20: 0 | H20: 0 | I20: 0 | J20: 0 | K20: 0 | L20: 49 | M20: 115 | N20: 0 | O20: 0 | P20: 0 | Q20: 0 | R20: 0 | S20: 0 | T20: 130 | U20: 320 | V20: 0 | W20: 0 | X20: 0 | Y20: 0 | Z20: 0 | AA20: 0 | AB20: 11 | AC20: 23 | AD20: 0 | AE20: 0 | AF20: 2 | AG20: 13 | AH20: 0 | AI20: 0 | AJ20: 0 | AK20: 0 | AL20: 0 | AM20: 0 | AN20: 0 | AO20: 0 | AP20: 0 | AQ20: 0 | AR20: 11 | AS20: 30 | AT20: 0 | AU20: 0 | AV20: 0 | AW20: 0 | AX20: 0 | AY20: 0
... A26: 長崎県 | B26: 42383 | C26: 小値賀町 | D26: 0 | E26: 0 | F26: 0 | G26: 0 | H26: 0 | I26: 0 | J26: 0 | K26: 0 | L26: 2 | M26: 4 | N26: 0 | O26: 0 | P26: 0 | Q26: 0 | R26: 1 | S26: 3 | T26: 0 | U26: 0 | V26: 0 | W26: 0 | X26: 0 | Y26: 0 | Z26: 0 | AA26: 0 | AB26: 0 | AC26: 0 | AD26: 0 | AE26: 0 | AF26: 0 | AG26: 0 | AH26: 0 | AI26: 0 | AJ26: 0 | AK26: 0 | AL26: 0 | AM26: 0 | AN26: 0 | AO26: 0 | AP26: 0 | AQ26: 0 | AR26: 3 | AS26: 9 | AT26: 0 | AU26: 0 | AV26: 0 | AW26: 0 | AX26: 0 | AY26: 0
A27: 長崎県 | B27: 42391 | C27: 佐々町 | D27: 0 | E27: 0 | F27: 0 | G27: 0 | H27: 0 | I27: 0 | J27: 0 | K27: 0 | L27: 2 | M27: 4 | N27: 0 | O27: 0 | P27: 9 | Q27: 82 | R27: 0 | S27: 0 | V27: 180 | W27: 473 | X27: 0 | Y27: 0 | Z27: 0 | AA27: 0 | AB27: 0 | AC27: 0 | AD27: 0 | AE27: 0 | AF27: 0 | AG27: 0 | AH27: 0 | AI27: 0 | AJ27: 0 | AK27: 0 | AL27: 0 | AM27: 0 | AN27: 0 | AO27: 0 | AP27: 0 | AQ27: 0 | AR27: 18 | AS27: 45 | AT27: 0 | AU27: 0 | AV27: 6 | AW27: 47 | AX27: 0 | AY27: 0
A28: 長崎県 | B28: 42411 | C28: 新上五島町 | D28: 0 | E28: 0 | F28: 0 | G28: 0 | H28: 1 | I28: 3 | J28: 0 | K28: 0 | L28: 23 | M28: 66 | N28: 0 | O28: 0 | P28: 3 | Q28: 15 | R28: 0 | S28: 0 | T28: 0 | U28: 0 | V28: 0 | W28: 0 | X28: 0 | Y28: 0 | Z28: 0 | AA28: 0 | AB28: 0 | AC28: 0 | AD28: 0 | AE28: 0 | AF28: 0 | AG28: 0 | AH28: 0 | AI28: 0 | AJ28: 0 | AK28: 0 | AL28: 0 | AM28: 0 | AN28: 0 | AO28: 0 | AP28: 0 | AQ28: 0 | AR28: 13 | AS28: 42 | AT28: 3 | AU28: 9 | AV28: 5 | AW28: 48 | AX28: 0 | AY28: 0

Sheet 収集運搬機材（組合）
A1: 収集運搬機材の状況（一部事務組合・広域連合）（平成29年度実績）
A2: 都道府県名 | B2: 地方公共団体コード | C2: 一部事務組合・広域連合名 | D2: ごみ | AB2: し尿
D3: 直営 | L3: 委託 | T3: 許可 | AB3: 直営 | AJ3: 委託 | AR3: 許可
D4: 収集車 | F4: 運搬車 （収集運搬部門） | H4: 運搬車 （中間処理部門） | J4: 運搬船等の船舶 | L4: 収集車 | N4: 運搬車 （収集運搬部門） | P4: 運搬車 （中間処理部門） | R4: 運搬船等の船舶 | T4: 収集車 | V4: 運搬車 （収集運搬部門） | X4: 運搬車 （中間処理部門） | Z4: 運搬船等の船舶 | AB4: 収集車 | AF4: 運搬車 | AH4: 運搬船等の船舶 | AJ4: 収集車 | AN4: 運搬車 | AP4: 運搬船等の船舶 | AR4: 収集車 | AV4: 運搬車 | AX4: 運搬船等の船舶
AB5: バキューム車 | AD5: その他 | AJ5: バキューム車 | AL5: その他 | AR5: バキューム車 | AT5: その他
D6: （台） | E6: （ｔ） | F6: （台） | G6: （ｔ） | H6: （台） | I6: （ｔ） | J6: （隻） | K6: （ｔ） | L6: （台） | M6: （ｔ） | N6: （台） | O6: （ｔ） | P6: （台） | Q6: （ｔ） | R6: （隻） | S6: （ｔ） | T6: （台） | U6: （ｔ） | V6: （台） | W6: （ｔ） | X6: （台） | Y6: （ｔ） | Z6: （隻） | AA6: （ｔ） | AB6: （台） | AC6: （kl） | AD6: （台） | AE6: （kl） | AF6: （台） | AG6: （kl） | AH6: （隻） | AI6: （kl） | AJ6: （台） | AK6: （kl） | AL6: （台） | AM6: （kl） | AN6: （台） | AO6: （kl） | AP6: （隻） | AQ6: （kl） | AR6: （台） | AS6: （kl） | AT6: （台） | AU6: （kl） | AV6: （台） | AW6: （kl） | AX6: （隻） | AY6: （kl）
A7: =組合状況!A7 -> 長崎県 | B7: =組合状況!B7 -> 42000 | C7: 合計 | D7: =SUM(D$8:D$57) -> 0 | E7: =SUM(E$8:E$57) -> 0 | F7: =SUM(F$8:F$57) -> 9 | G7: =SUM(G$8:G$57) -> 60 | H7: =SUM(H$8:H$57) -> 5 | I7: =SUM(I$8:I$57) -> 19 | J7: =SUM(J$8:J$57) -> 0 | K7: =SUM(K$8:K$57) -> 0 | ... AY7: =SUM(AY$8:AY$57) -> 0
A8: 長崎県 | B8: 42817 | C8: 東彼地区保健福祉組合 | D8: 0 | E8: 0 | F8: 0 | G8: 0 | H8: 0 | I8: 0 | J8: 0 | K8: 0 | L8: 5 | M8: 12 | N8: 0 | O8: 0 | P8: 3 | Q8: 20 | R8: 0 | S8: 0 | T8: 0 | U8: 0 | V8: 0 | W8: 0 | X8: 0 | Y8: 0 | Z8: 0 | AA8: 0 | AB8: 5 | AC8: 9 | AD8: 0 | AE8: 0 | AF8: 5 | AG8: 37 | AH8: 0 | AI8: 0 | AJ8: 0 | AK8: 0 | AL8: 0 | AM8: 0 | AN8: 0 | AO8: 0 | AP8: 0 | AQ8: 0 | AR8: 0 | AS8: 0 | AT8: 0 | AU8: 0 | AV8: 0 | AW8: 0 | AX8: 0 | AY8: 0
A9: 長崎県 | B9: 42842 | C9: 県央地域広域市町村圏組合 | D9: 0 | E9: 0 | F9: 0 | G9: 0 | H9: 0 | I9: 0 | J9: 0 | K9: 0 | L9: 0 | M9: 0 | N9: 0 | O9: 0 | P9: 0 | Q9: 0 | R9: 0 | S9: 0 | T9: 0 | U9: 0 | V9: 0 | W9: 0 | X9: 0 | Y9: 0 | Z9: 0 | AA9: 0 | AB9: 0 | AC9: 0 | AD9: 0 | AE9: 0 | AF9: 0 | AG9: 0 | AH9: 0 | AI9: 0 | AJ9: 0 | AK9: 0 | AL9: 0 | AM9: 0 | AN9: 0 | AO9: 0 | AP9: 0 | AQ9: 0 | AR9: 0 | AS9: 0 | AT9: 0 | AU9: 0 | AV9: 0 | AW9: 0 | AX9: 0 | AY9: 0
A10: 長崎県 | B10: 42843 | C10: 島原地域広域市町村圏組合 | D10: 0 | E10: 0 | F10: 0 | G10: 0 | H10: 0 | I10: 0 | J10: 0 | K10: 0 | L10: 2 | M10: 5 | N10: 1 | O10: 10 | P10: 1 | Q10: 4 | R10: 0 | S10: 0 | T10: 0 | U10: 0 | V10: 0 | W10: 0 | X10: 0 | Y10: 0 | Z10: 0 | AA10: 0 | AB10: 0 | AC10: 0 | AD10: 0 | AE10: 0 | AF10: 0 | AG10: 0 | AH10: 0 | AI10: 0 | AJ10: 0 | AK10: 0 | AL10: 0 | AM10: 0 | AN10: 0 | AO10: 0 | AP10: 0 | AQ10: 0 | AR10: 0 | AS10: 0 | AT10: 0 | AU10: 0 | AV10: 0 | AW10: 0 | AX10: 0 | AY10: 0
A11: 長崎県 | B11: 42867 | C11: 県央県南広域環境組合 | D11: 0 | E11: 0 | F11: 9 | G11: 60 | H11: 1 | I11: 9 | J11: 0 | K11: 0 | L11: 0 | M11: 0 | N11: 0 | O11: 0 | P11: 0 | Q11: 0 | R11: 0 | S11: 0 | T11: 0 | U11: 0 | V11: 0 | W11: 0 | X11: 0 | Y11: 0 | Z11: 0 | AA11: 0 | AB11: 0 | AC11: 0 | AD11: 0 | AE11: 0 | AF11: 0 | AG11: 0 | AH11: 0 | AI11: 0 | AJ11: 0 | AK11: 0 | AL11: 0 | AM11: 0 | AN11: 0 | AO11: 0 | AP11: 0 | AQ11: 0 | AR11: 0 | AS11: 0 | AT11: 0 | AU11: 0 | AV11: 0 | AW11: 0 | AX11: 0 | AY11: 0
A12: 長崎県 | B12: 42872 | C12: 北松北部環境組合 | D12: 0 | E12: 0 | F12: 0 | G12: 0 | H12: 0 | I12: 0 | J12: 0 | K12: 0 | L12: 0 | M12: 0 | N12: 0 | O12: 0 | P12: 0 | Q12: 0 | R12: 0 | S12: 0 | T12: 0 | U12: 0 | V12: 0 | W12: 0 | X12: 0 | Y12: 0 | Z12: 0 | AA12: 0 | AB12: 0 | AC12: 0 | AD12: 0 | AE12: 0 | AF12: 0 | AG12: 0 | AH12: 0 | AI12: 0 | AJ12: 0 | AK12: 0 | AL12: 0 | AM12: 0 | AN12: 0 | AO12: 0 | AP12: 0 | AQ12: 0 | AR12: 0 | AS12: 0 | AT12: 0 | AU12: 0 | AV12: 0 | AW12: 0 | AX12: 0 | AY12: 0
A13: 長崎県 | B13: 42876 | C13: 長与・時津環境施設組合 | D13: 0 | E13: 0 | F13: 0 | G13: 0 | H13: 4 | I13: 10 | J13: 0 | K13: 0 | L13: 0 | M13: 0 | N13: 0 | O13: 0 | P13: 0 | Q13: 0 | R13: 0 | S13: 0 | T13: 0 | U13: 0 | V13: 0 | W13: 0 | X13: 0 | Y13: 0 | Z13: 0 | AA13: 0 | AB13: 0 | AC13: 0 | AD13: 0 | AE13: 0 | AF13: 0 | AG13: 0 | AH13: 0 | AI13: 0 | AJ13: 0 | AK13: 0 | AL13: 0 | AM13: 0 | AN13: 0 | AO13: 0 | AP13: 0 | AQ13: 0 | AR13: 0 | AS13: 0 | AT13: 0 | AU13: 0 | AV13: 0 | AW13: 0 | AX13: 0 | AY13: 0

Sheet 委託許可件数（市町村）
A1: 委託・許可件数（市区町村）（平成29年度実績）
A2: 都道府県名 | B2: 地方公共団体コード | C2: 市区町村 | D2: ごみ | L2: し尿
D3: 委託件数 (収集運搬+中間処理+最終処分) | H3: 許可件数 (収集運搬+中間処理+最終処分) | L3: 委託件数 (収集運搬+中間処理+最終処分) | P3: 許可件数 (収集運搬+中間処理+最終処分)
D4: 合計 | E4: 収集運搬 | F4: 中間処理 | G4: 最終処分 | H4: 合計 | I4: 収集運搬 | J4: 中間処理 | K4: 最終処分 | L4: 合計 | M4: 収集運搬 | N4: 中間処理 | O4: 最終処分 | P4: 合計 | Q4: 収集運搬 | R4: 中間処理 | S4: 最終処分
D6: （件） | E6: （件） | F6: （件） | G6: （件） | H6: （件） | I6: （件） | J6: （件） | K6: （件） | L6: （件） | M6: （件） | N6: （件） | O6: （件） | P6: （件） | Q6: （件） | R6: （件） | S6: （件）
A7: =組合状況!A7 -> 長崎県 | B7: =組合状況!B7 -> 42000 | C7: 合計 | D7: =SUM(E7:G7) -> 187 | E7: =SUM(E$8:E$207) -> 147 | F7: =SUM(F$8:F$207) -> 32 | G7: =SUM(G$8:G$207) -> 8 | H7: =SUM(I7:K7) -> 839 | I7: =SUM(I$8:I$207) -> 806 | J7: =SUM(J$8:J$207) -> 32 | K7: =SUM(K$8:K$207) -> 1 | L7: =SUM(M7:O7) -> 29 | M7: =SUM(M$8:M$207) -> 17 | N7: =SUM(N$8:N$207) -> 4 | O7: =SUM(O$8:O$207) -> 8 | P7: =SUM(Q7:S7) -> 97 | Q7: =SUM(Q$8:Q$207) -> 94 | R7: =SUM(R$8:R$207) -> 3 | S7: =SUM(S$8:S$207) -> 0
A8: 長崎県 | B8: 42201 | C8: 長崎市 | D8: =SUM(E8:G8) -> 32 | E8: 22 | F8: 10 | G8: 0 | H8: =SUM(I8:K8) -> 225 | I8: 225 | J8: 0 | K8: 0 | L8: =SUM(M8:O8) -> 4 | M8: 4 | N8: 0 | O8: 0 | P8: =SUM(Q8:S8) -> 8 | Q8: 8 | R8: 0 | S8: 0
A9: 長崎県 | B9: 42202 | C9: 佐世保市 | D9: =SUM(E9:G9) -> 18 | E9: 18 | F9: 0 | G9: 0 | H9: =SUM(I9:K9) -> 60 | I9: 59 | J9: 1 | K9: 0 | L9: =SUM(M9:O9) -> 0 | M9: 0 | N9: 0 | O9: 0 | P9: =SUM(Q9:S9) -> 3 | Q9: 3 | R9: 0 | S9: 0
A10: 長崎県 | B10: 42203 | C10: 島原市 | D10: =SUM(E10:G10) -> 2 | E10: 0 | F10: 2 | G10: 0 | H10: =SUM(I10:K10) -> 43 | I10: 41 | J10: 2 | K10: 0 | L10: =SUM(M10:O10) -> 9 | M10: 4 | N10: 0 | O10: 5 | P10: =SUM(Q10:S10) -> 6 | Q10: 6 | R10: 0 | S10: 0
A11: 長崎県 | B11: 42204 | C11: 諫早市 | D11: =SUM(E11:G11) -> 11 | E11: 10 | F11: 0 | G11: 1 | H11: =SUM(I11:K11) -> 97 | I11: 89 | J11: 8 | K11: 0 | L11: =SUM(M11:O11) -> 0 | M11: 0 | N11: 0 | O11: 0 | P11: =SUM(Q11:S11) -> 9 | Q11: 9 | R11: 0 | S11: 0
A12: 長崎県 | B12: 42205 | C12: 大村市 | D12: =SUM(E12:G12) -> 12 | E12: 9 | F12: 3 | G12: 0 | H12: =SUM(I12:K12) -> 57 | I12: 50 | J12: 7 | K12: 0 | L12: =SUM(M12:O12) -> 0 | M12: 0 | N12: 0 | O12: 0 | P12: =SUM(Q12:S12) -> 3 | Q12: 3 | R12: 0 | S12: 0
A13: 長崎県 | B13: 42207 | C13: 平戸市 | D13: =SUM(E13:G13) -> 10 | E13: 8 | F13: 1 | G13: 1 | H13: =SUM(I13:K13) -> 11 | I13: 11 | J13: 0 | K13: 0 | L13: =SUM(M13:O13) -> 3 | M13: 1 | N13: 1 | O13: 1 | P13: =SUM(Q13:S13) -> 8 | Q13: 8 | R13: 0 | S13: 0
A14: 長崎県 | B14: 42208 | C14: 松浦市 | D14: =SUM(E14:G14) -> 3 | E14: 3 | F14: 0 | G14: 0 | H14: =SUM(I14:K14) -> 23 | I14: 23 | J14: 0 | K14: 0 | L14: =SUM(M14:O14) -> 2 | M14: 2 | N14: 0 | O14: 0 | P14: =SUM(Q14:S14) -> 2 | Q14: 2 | R14: 0 | S14: 0
A15: 長崎県 | B15: 42209 | C15: 対馬市 | D15: =SUM(E15:G15) -> 14 | E15: 14 | F15: 0 | G15: 0 | H15: =SUM(I15:K15) -> 35 | I15: 31 | J15: 3 | K15: 1 | L15: =SUM(M15:O15) -> 0 | M15: 0 | N15: 0 | O15: 0 | P15: =SUM(Q15:S15) -> 13 | Q15: 12 | R15: 1 | S15: 0
A16: 長崎県 | B16: 42210 | C16: 壱岐市 | D16: =SUM(E16:G16) -> 12 | E16: 7 | F16: 3 | G16: 2 | H16: =SUM(I16:K16) -> 11 | I16: 7 | J16: 4 | K16: 0 | L16: =SUM(M16:O16) -> 3 | M16: 1 | N16: 0 | O16: 2 | P16: =SUM(Q16:S16) -> 7 | Q16: 7 | R16: 0 | S16: 0
A17: 長崎県 | B17: 42211 | C17: 五島市 | D17: =SUM(E17:G17) -> 11 | E17: 9 | F17: 1 | G17: 1 | H17: =SUM(I17:K17) -> 19 | I17: 19 | J17: 0 | K17: 0 | L17: =SUM(M17:O17) -> 3 | M17: 3 | N17: 0 | O17: 0 | P17: =SUM(Q17:S17) -> 8 | Q17: 8 | R17: 0 | S17: 0
A18: 長崎県 | B18: 42212 | C18: 西海市 | D18: =SUM(E18:G18) -> 8 | E18: 6 | F18: 2 | G18: 0 | H18: =SUM(I18:K18) -> 23 | I18: 21 | J18: 2 | K18: 0 | L18: =SUM(M18:O18) -> 1 | M18: 1 | N18: 0 | O18: 0 | P18: =SUM(Q18:S18) -> 9 | Q18: 7 | R18: 2 | S18: 0
A19: 長崎県 | B19: 42213 | C19: 雲仙市 | D19: =SUM(E19:G19) -> 9 | E19: 9 | F19: 0 | G19: 0 | H19: =SUM(I19:K19) -> 53 | I19: 51 | J19: 2 | K19: 0 | L19: =SUM(M19:O19) -> 0 | M19: 0 | N19: 0 | O19: 0 | P19: =SUM(Q19:S19) -> 6 | Q19: 6 | R19: 0 | S19: 0
... A28: 長崎県 | B28: 42411 | C28: 新上五島町 | D28: =SUM(E28:G28) -> 10 | E28: 5 | F28: 3 | G28: 2 | H28: =SUM(I28:K28) -> 0 | I28: 0 | J28: 0 | K28: 0 | L28: =SUM(M28:O28) -> 2 | M28: 0 | N28: 2 | O28: 0 | P28: =SUM(Q28:S28) -> 3 | Q28: 3 | R28: 0 | S28: 0

Sheet 委託許可件数（組合）
A1: 委託・許可件数（一部事務組合・広域連合）（平成29年度実績）
A2: 都道府県名 | B2: 地方公共団体コード | C2: 一部事務組合・広域連合名 | D2: ごみ | L2: し尿
D3: 委託件数 (収集運搬+中間処理+最終処分) | H3: 許可件数 (収集運搬+中間処理+最終処分) | L3: 委託件数 (収集運搬+中間処理+最終処分) | P3: 許可件数 (収集運搬+中間処理+最終処分)
D4: 合計 | E4: 収集運搬 | F4: 中間処理 | G4: 最終処分 | H4: 合計 | I4: 収集運搬 | J4: 中間処理 | K4: 最終処分 | L4: 合計 | M4: 収集運搬 | N4: 中間処理 | O4: 最終処分 | P4: 合計 | Q4: 収集運搬 | R4: 中間処理 | S4: 最終処分
D6: （件） | E6: （件） | F6: （件） | G6: （件） | H6: （件） | I6: （件） | J6: （件） | K6: （件） | L6: （件） | M6: （件） | N6: （件） | O6: （件） | P6: （件） | Q6: （件） | R6: （件） | S6: （件）
A7: =組合状況!A7 -> 長崎県 | B7: =組合状況!B7 -> 42000 | C7: 合計 | D7: =SUM(E7:G7) -> 9 | E7: =SUM(E$8:E$57) -> 3 | F7: =SUM(F$8:F$57) -> 6 | G7: =SUM(G$8:G$57) -> 0 | H7: =SUM(I7:K7) -> 0 | I7: =SUM(I$8:I$57) -> 0 | J7: =SUM(J$8:J$57) -> 0 | K7: =SUM(K$8:K$57) -> 0 | L7: =SUM(M7:O7) -> 0 | M7: =SUM(M$8:M$57) -> 0 | N7: =SUM(N$8:N$57) -> 0 | O7: =SUM(O$8:O$57) -> 0 | P7: =SUM(Q7:S7) -> 0 | Q7: =SUM(Q$8:Q$57) -> 0 | R7: =SUM(R$8:R$57) -> 0 | S7: =SUM(S$8:S$57) -> 0
A8: 長崎県 | B8: 42817 | C8: 東彼地区保健福祉組合 | D8: =SUM(E8:G8) -> 3 | E8: 1 | F8: 2 | G8: 0 | H8: =SUM(I8:K8) -> 0 | I8: 0 | J8: 0 | K8: 0 | L8: =SUM(M8:O8) -> 0 | M8: 0 | N8: 0 | O8: 0 | P8: =SUM(Q8:S8) -> 0 | Q8: 0 | R8: 0 | S8: 0
A9: 長崎県 | B9: 42842 | C9: 県央地域広域市町村圏組合 | D9: =SUM(E9:G9) -> 1 | E9: 0 | F9: 1 | G9: 0 | H9: =SUM(I9:K9) -> 0 | I9: 0 | J9: 0 | K9: 0 | L9: =SUM(M9:O9) -> 0 | M9: 0 | N9: 0 | O9: 0 | P9: =SUM(Q9:S9) -> 0 | Q9: 0 | R9: 0 | S9: 0
A10: 長崎県 | B10: 42843 | C10: 島原地域広域市町村圏組合 | D10: =SUM(E10:G10) -> 5 | E10: 2 | F10: 3 | G10: 0 | H10: =SUM(I10:K10) -> 0 | I10: 0 | J10: 0 | K10: 0 | L10: =SUM(M10:O10) -> 0 | M10: 0 | N10: 0 | O10: 0 | P10: =SUM(Q10:S10) -> 0 | Q10: 0 | R10: 0 | S10: 0
A11: 長崎県 | B11: 42867 | C11: 県央県南広域環境組合 | D11: =SUM(E11:G11) -> 0 | E11: 0 | F11: 0 | G11: 0 | H11: =SUM(I11:K11) -> 0 | I11: 0 | J11: 0 | K11: 0 | L11: =SUM(M11:O11) -> 0 | M11: 0 | N11: 0 | O11: 0 | P11: =SUM(Q11:S11) -> 0 | Q11: 0 | R11: 0 | S11: 0
A12: 長崎県 | B12: 42872 | C12: 北松北部環境組合 | D12: =SUM(E12:G12) -> 0 | E12: 0 | F12: 0 | G12: 0 | H12: =SUM(I12:K12) -> 0 | I12: 0 | J12: 0 | K12: 0 | L12: =SUM(M12:O12) -> 0 | M12: 0 | N12: 0 | O12: 0 | P12: =SUM(Q12:S12) -> 0 | Q12: 0 | R12: 0 | S12: 0
A13: 長崎県 | B13: 42876 | C13: 長与・時津環境施設組合 | D13: =SUM(E13:G13) -> 0 | E13: 0 | F13: 0 | G13: 0 | H13: =SUM(I13:K13) -> 0 | I13: 0 | J13: 0 | K13: 0 | L13: =SUM(M13:O13) -> 0 | M13: 0 | N13: 0 | O13: 0 | P13: =SUM(Q13:S13) -> 0 | Q13: 0 | R13: 0 | S13: 0

Sheet 処理業者と従業員数
A1: 処理業者と従業員数（平成29年度実績）
A2: 都道府県名 | B2: 地方公共団体コード | C2: 市区町村名 | D2: 業者数 (ごみ+し尿) | G2: 従業員数 (収集運搬+中間処理+最終処分)
D3: 合計 | E3: ごみ | F3: し尿 | G3: 合計 | H3: 収集運搬 | I3: 中間処理 | J3: 最終処分
D6: （件） | E6: （件） | F6: （件） | G6: （人） | H6: （人） | I6: （人） | J6: （人）
A7: =組合状況!A7 -> 長崎県 | B7: =組合状況!B7 -> 42000 | C7: 合計 | D7: =SUM(D$8:D$207) -> 646 | E7: =SUM(E$8:E$207) -> 596 | F7: =SUM(F$8:F$207) -> 101 | G7: =SUM(G$8:G$207) -> 7776 | H7: =SUM(H$8:H$207) -> 7345 | I7: =SUM(I$8:I$207) -> 915 | J7: =SUM(J$8:J$207) -> 72
A8: 長崎県 | B8: 42201 | C8: 長崎市 | D8: 185 | E8: 185 | F8: 10 | G8: 3303 | H8: 3298 | I8: 287 | J8: 0
A9: 長崎県 | B9: 42202 | C9: 佐世保市 | D9: 134 | E9: 134 | F9: 6 | G9: 1745 | H9: 1745 | I9: 115 | J9: 0
A10: 長崎県 | B10: 42203 | C10: 島原市 | D10: 29 | E10: 25 | F10: 6 | G10: 318 | H10: 283 | I10: 35 | J10: 0
A11: 長崎県 | B11: 42204 | C11: 諫早市 | D11: 51 | E11: 46 | F11: 9 | G11: 476 | H11: 354 | I11: 122 | J11: 0
A12: 長崎県 | B12: 42205 | C12: 大村市 | D12: 37 | E12: 37 | F12: 3 | G12: 391 | H12: 371 | I12: 102 | J12: 0
A13: 長崎県 | B13: 42207 | C13: 平戸市 | D13: 17 | E13: 13 | F13: 10 | G13: 167 | H13: 163 | I13: 4 | J13: 0
A14: 長崎県 | B14: 42208 | C14: 松浦市 | D14: 13 | E14: 13 | F14: 3 | G14: 36 | H14: 36 | I14: 0 | J14: 0
A15: 長崎県 | B15: 42209 | C15: 対馬市 | D15: 55 | E15: 45 | F15: 12 | G15: 366 | H15: 366 | I15: 15 | J15: 8
A16: 長崎県 | B16: 42210 | C16: 壱岐市 | D16: 13 | E16: 6 | F16: 7 | G16: 54 | H16: 45 | I16: 9 | J16: 0
A17: 長崎県 | B17: 42211 | C17: 五島市 | D17: 23 | E17: 19 | F17: 8 | G17: 72 | H17: 41 | I17: 30 | J17: 1
A18: 長崎県 | B18: 42212 | C18: 西海市 | D18: 19 | E18: 14 | F18: 7 | G18: 228 | H18: 196 | I18: 32 | J18: 0
A19: 長崎県 | B19: 42213 | C19: 雲仙市 | D19: 19 | E19: 17 | F19: 5 | G19: 193 | H19: 163 | I19: 30 | J19: 0
... A28: 長崎県 | B28: 42411 | C28: 新上五島町 | D28: 14 | E28: 9 | F28: 5 | G28: 118 | H28: 64 | I28: 45 | J28: 9
