Workbook

Sheet 収集運搬（生活系）
A1: ごみ収集運搬の状況【生活系ごみ】（平成29年度実績）
A2: 都道府県名 | B2: 地方公共団体コード | C2: 市区町村名 | D2: 生活系ごみの収集運搬
D3: 混合ごみ | L3: 可燃ごみ | T3: 不燃ごみ | AB3: 資源ごみ | ER3: その他のごみ | EZ3: 粗大ごみ
AB4: 紙（紙パック、紙製容器包装を除く） | AJ4: 紙パック | AR4: 紙製容器包装 | AZ4: 金属類 | BH4: ガラス類 | BP4: ペットボトル | BX4: 白色トレイ | CF4: 容器包装プラスチック（白色トレイを除く） | CN4: プラスチック類（白色トレイ、容器包装プラスチックを除く） | CV4: 布類 | DD4: 生ごみ | DL4: 廃食油 | DT4: 剪定枝 | EB4: 小型家電 | EJ4: その他
D5: 形態 | H5: 地域 | J5: 収集回数 | K5: 収集方式 | L5: 形態 | P5: 地域 | R5: 収集回数 | S5: 収集方式 | T5: 形態 | X5: 地域 | Z5: 収集回数 | AA5: 収集方式 | AB5: 形態 | AF5: 地域 | AH5: 収集回数 | AI5: 収集方式 | AJ5: 形態 | AN5: 地域 | AP5: 収集回数 | AQ5: 収集方式 | AR5: 形態 | AV5: 地域 | AX5: 収集回数 | AY5: 収集方式 | AZ5: 形態 | BD5: 地域 | BF5: 収集回数 | BG5: 収集方式 | BH5: 形態 | BL5: 地域 | BN5: 収集回数 | BO5: 収集方式 | BP5: 形態 | BT5: 地域 | BV5: 収集回数 | BW5: 収集方式 | BX5: 形態 | CB5: 地域 | CD5: 収集回数 | CE5: 収集方式 | CF5: 形態 | CJ5: 地域 | CL5: 収集回数 | CM5: 収集方式 | CN5: 形態 | CR5: 地域 | CT5: 収集回数 | CU5: 収集方式 | CV5: 形態 | CZ5: 地域 | DB5: 収集回数 | DC5: 収集方式 | DD5: 形態 | DH5: 地域 | DJ5: 収集回数 | DK5: 収集方式 | DL5: 形態 | DP5: 地域 | DR5: 収集回数 | DS5: 収集方式 | DT5: 形態 | DX5: 地域 | DZ5: 収集回数 | EA5: 収集方式 | EB5: 形態 | EF5: 地域 | EH5: 収集回数 | EI5: 収集方式 | EJ5: 形態 | EN5: 地域 | EP5: 収集回数 | EQ5: 収集方式 | ER5: 形態 | EV5: 地域 | EX5: 収集回数 | EY5: 収集方式 | EZ5: 形態 | FD5: 地域 | FF5: 収集回数 | FG5: 収集方式
D6: 直営 | E6: 委託 | F6: 許可 | G6: 収集無し | H6: 全地域 | I6: 一部地域 | J6: （回/週） | L6: 直営 | M6: 委託 | N6: 許可 | O6: 収集無し | P6: 全地域 | Q6: 一部地域 | R6: （回/週） | T6: 直営 | U6: 委託 | V6: 許可 | W6: 収集無し | X6: 全地域 | Y6: 一部地域 | Z6: （回/月） | AB6: 直営 | AC6: 委託 | AD6: 許可 | AE6: 収集無し | AF6: 全地域 | AG6: 一部地域 | AH6: （回/月） | AJ6: 直営 | AK6: 委託 | AL6: 許可 | AM6: 収集無し | AN6: 全地域 | AO6: 一部地域 | AP6: （回/月） | AR6: 直営 | AS6: 委託 | AT6: 許可 | AU6: 収集無し | AV6: 全地域 | AW6: 一部地域 | AX6: （回/月） | AZ6: 直営 | BA6: 委託 | BB6: 許可 | BC6: 収集無し | BD6: 全地域 | BE6: 一部地域 | BF6: （回/月） | BH6: 直営 | BI6: 委託 | BJ6: 許可 | BK6: 収集無し | BL6: 全地域 | BM6: 一部地域 | BN6: （回/月） | BP6: 直営 | BQ6: 委託 | BR6: 許可 | BS6: 収集無し | BT6: 全地域 | BU6: 一部地域 | BV6: （回/月） | BX6: 直営 | BY6: 委託 | BZ6: 許可 | CA6: 収集無し | CB6: 全地域 | CC6: 一部地域 | CD6: （回/月） | CF6: 直営 | CG6: 委託 | CH6: 許可 | CI6: 収集無し | CJ6: 全地域 | CK6: 一部地域 | CL6: （回/月） | CN6: 直営 | CO6: 委託 | CP6: 許可 | CQ6: 収集無し | CR6: 全地域 | CS6: 一部地域 | CT6: （回/月） | CV6: 直営 | CW6: 委託 | CX6: 許可 | CY6: 収集無し | CZ6: 全地域 | DA6: 一部地域 | DB6: （回/月） | DD6: 直営 | DE6: 委託 | DF6: 許可 | DG6: 収集無し | DH6: 全地域 | DI6: 一部地域 | DJ6: （回/月） | DL6: 直営 | DM6: 委託 | DN6: 許可 | DO6: 収集無し | DP6: 全地域 | DQ6: 一部地域 | DR6: （回/月） | DT6: 直営 | DU6: 委託 | DV6: 許可 | DW6: 収集無し | DX6: 全地域 | DY6: 一部地域 | DZ6: （回/月） | EB6: 直営 | EC6: 委託 | ED6: 許可 | EE6: 収集無し | EF6: 全地域 | EG6: 一部地域 | EH6: （回/月） | EJ6: 直営 | EK6: 委託 | EL6: 許可 | EM6: 収集無し | EN6: 全地域 | EO6: 一部地域 | EP6: （回/月） | ER6: 直営 | ES6: 委託 | ET6: 許可 | EU6: 収集無し | EV6: 全地域 | EW6: 一部地域 | EX6: （回/月） | EZ6: 直営 | FA6: 委託 | FB6: 許可 | FC6: 収集無し | FD6: 全地域 | FE6: 一部地域 | FF6: （回/月）
A7: 佐賀県 | B7: 41000 | C7: 合計 | D7: =COUNTIF(D$8:D$207,"○") -> 0 | E7: =COUNTIF(E$8:E$207,"○") -> 0 | F7: =COUNTIF(F$8:F$207,"○") -> 0 | G7: =COUNTIF(G$8:G$207,"○") -> 20 | H7: =COUNTIF(H$8:H$207,"○") -> 0 | I7: =COUNTIF(I$8:I$207,"○") -> 0 | J7: =COUNTIF(J$8:J$207,"<>") -> 0 | K7: =COUNTIF(K$8:K$207,"<>") -> 0 | L7: =COUNTIF(L$8:L$207,"○") -> 3 | M7: =COUNTIF(M$8:M$207,"○") -> 19 | N7: =COUNTIF(N$8:N$207,"○") -> 0 | O7: =COUNTIF(O$8:O$207,"○") -> 0 | P7: =COUNTIF(P$8:P$207,"○") -> 20 | Q7: =COUNTIF(Q$8:Q$207,"○") -> 0 | R7: =COUNTIF(R$8:R$207,"<>") -> 20 | S7: =COUNTIF(S$8:S$207,"<>") -> 20 | T7: =COUNTIF(T$8:T$207,"○") -> 2 | U7: =COUNTIF(U$8:U$207,"○") -> 17 | V7: =COUNTIF(V$8:V$207,"○") -> 0 | W7: =COUNTIF(W$8:W$207,"○") -> 2 | X7: =COUNTIF(X$8:X$207,"○") -> 18 | Y7: =COUNTIF(Y$8:Y$207,"○") -> 0 | Z7: =COUNTIF(Z$8:Z$207,"<>") -> 18 | AA7: =COUNTIF(AA$8:AA$207,"<>") -> 18 | AB7: =COUNTIF(AB$8:AB$207,"○") -> 1 | AC7: =COUNTIF(AC$8:AC$207,"○") -> 16 | AD7: =COUNTIF(AD$8:AD$207,"○") -> 1 | AE7: =COUNTIF(AE$8:AE$207,"○") -> 3 | AF7: =COUNTIF(AF$8:AF$207,"○") -> 15 | AG7: =COUNTIF(AG$8:AG$207,"○") -> 2 | AH7: =COUNTIF(AH$8:AH$207,"<>") -> 17 | AI7: =COUNTIF(AI$8:AI$207,"<>") -> 17 | AJ7: =COUNTIF(AJ$8:AJ$207,"○") -> 1 | AK7: =COUNTIF(AK$8:AK$207,"○") -> 18 | AL7: =COUNTIF(AL$8:AL$207,"○") -> 0 | AM7: =COUNTIF(AM$8:AM$207,"○") -> 2 | AN7: =COUNTIF(AN$8:AN$207,"○") -> 16 | AO7: =COUNTIF(AO$8:AO$207,"○") -> 2 | AP7: =COUNTIF(AP$8:AP$207,"<>") -> 18 | AQ7: =COUNTIF(AQ$8:AQ$207,"<>") -> 18 | AR7: =COUNTIF(AR$8:AR$207,"○") -> 1 | AS7: =COUNTIF(AS$8:AS$207,"○") -> 16 | AT7: =COUNTIF(AT$8:AT$207,"○") -> 0 | AU7: =COUNTIF(AU$8:AU$207,"○") -> 4 | AV7: =COUNTIF(AV$8:AV$207,"○") -> 14 | AW7: =COUNTIF(AW$8:AW$207,"○") -> 2 | AX7: =COUNTIF(AX$8:AX$207,"<>") -> 16 | AY7: =COUNTIF(AY$8:AY$207,"<>") -> 16 | AZ7: =COUNTIF(AZ$8:AZ$207,"○") -> 1 | BA7: =COUNTIF(BA$8:BA$207,"○") -> 18 | BB7: =COUNTIF(BB$8:BB$207,"○") -> 0 | BC7: =COUNTIF(BC$8:BC$207,"○") -> 1 | BD7: =COUNTIF(BD$8:BD$207,"○") -> 19 | BE7: =COUNTIF(BE$8:BE$207,"○") -> 0 | BF7: =COUNTIF(BF$8:BF$207,"<>") -> 19 | BG7: =COUNTIF(BG$8:BG$207,"<>") -> 19 | BH7: =COUNTIF(BH$8:BH$207,"○") -> 1 | BI7: =COUNTIF(BI$8:BI$207,"○") -> 18 | BJ7: =COUNTIF(BJ$8:BJ$207,"○") -> 0 | BK7: =COUNTIF(BK$8:BK$207,"○") -> 1 | BL7: =COUNTIF(BL$8:BL$207,"○") -> 19 | BM7: =COUNTIF(BM$8:BM$207,"○") -> 0 | BN7: =COUNTIF(BN$8:BN$207,"<>") -> 19 | BO7: =COUNTIF(BO$8:BO$207,"<>") -> 19 | BP7: =COUNTIF(BP$8:BP$207,"○") -> 1 | BQ7: =COUNTIF(BQ$8:BQ$207,"○") -> 20 | BR7: =COUNTIF(BR$8:BR$207,"○") -> 0 | BS7: =COUNTIF(BS$8:BS$207,"○") -> 0 | BT7: =COUNTIF(BT$8:BT$207,"○") -> 20 | BU7: =COUNTIF(BU$8:BU$207,"○") -> 0 | BV7: =COUNTIF(BV$8:BV$207,"<>") -> 20 | BW7: =COUNTIF(BW$8:BW$207,"<>") -> 20 | BX7: =COUNTIF(BX$8:BX$207,"○") -> 0 | BY7: =COUNTIF(BY$8:BY$207,"○") -> 16 | BZ7: =COUNTIF(BZ$8:BZ$207,"○") -> 0 | CA7: =COUNTIF(CA$8:CA$207,"○") -> 4 | CB7: =COUNTIF(CB$8:CB$207,"○") -> 14 | CC7: =COUNTIF(CC$8:CC$207,"○") -> 2 | CD7: =COUNTIF(CD$8:CD$207,"<>") -> 16 | CE7: =COUNTIF(CE$8:CE$207,"<>") -> 16 | CF7: =COUNTIF(CF$8:CF$207,"○") -> 0 | CG7: =COUNTIF(CG$8:CG$207,"○") -> 12 | CH7: =COUNTIF(CH$8:CH$207,"○") -> 0 | CI7: =COUNTIF(CI$8:CI$207,"○") -> 8 | CJ7: =COUNTIF(CJ$8:CJ$207,"○") -> 11 | CK7: =COUNTIF(CK$8:CK$207,"○") -> 1 | CL7: =COUNTIF(CL$8:CL$207,"<>") -> 12 | CM7: =COUNTIF(CM$8:CM$207,"<>") -> 12 | CN7: =COUNTIF(CN$8:CN$207,"○") -> 1 | CO7: =COUNTIF(CO$8:CO$207,"○") -> 4 | CP7: =COUNTIF(CP$8:CP$207,"○") -> 0 | CQ7: =COUNTIF(CQ$8:CQ$207,"○") -> 15 | CR7: =COUNTIF(CR$8:CR$207,"○") -> 5 | CS7: =COUNTIF(CS$8:CS$207,"○") -> 0 | CT7: =COUNTIF(CT$8:CT$207,"<>") -> 5 | CU7: =COUNTIF(CU$8:CU$207,"<>") -> 5 | CV7: =COUNTIF(CV$8:CV$207,"○") -> 1 | CW7: =COUNTIF(CW$8:CW$207,"○") -> 12 | CX7: =COUNTIF(CX$8:CX$207,"○") -> 1 | CY7: =COUNTIF(CY$8:CY$207,"○") -> 7 | CZ7: =COUNTIF(CZ$8:CZ$207,"○") -> 11 | DA7: =COUNTIF(DA$8:DA$207,"○") -> 2 | DB7: =COUNTIF(DB$8:DB$207,"<>") -> 13 | DC7: =COUNTIF(DC$8:DC$207,"<>") -> 13 | DD7: =COUNTIF(DD$8:DD$207,"○") -> 0 | DE7: =COUNTIF(DE$8:DE$207,"○") -> 2 | DF7: =COUNTIF(DF$8:DF$207,"○") -> 1 | DG7: =COUNTIF(DG$8:DG$207,"○") -> 17 | DH7: =COUNTIF(DH$8:DH$207,"○") -> 1 | DI7: =COUNTIF(DI$8:DI$207,"○") -> 2 | DJ7: =COUNTIF(DJ$8:DJ$207,"<>") -> 3 | DK7: =COUNTIF(DK$8:DK$207,"<>") -> 3 | DL7: =COUNTIF(DL$8:DL$207,"○") -> 4 | DM7: =COUNTIF(DM$8:DM$207,"○") -> 4 | DN7: =COUNTIF(DN$8:DN$207,"○") -> 3 | DO7: =COUNTIF(DO$8:DO$207,"○") -> 10 | DP7: =COUNTIF(DP$8:DP$207,"○") -> 9 | DQ7: =COUNTIF(DQ$8:DQ$207,"○") -> 1 | DR7: =COUNTIF(DR$8:DR$207,"<>") -> 10 | DS7: =COUNTIF(DS$8:DS$207,"<>") -> 10 | DT7: =COUNTIF(DT$8:DT$207,"○") -> 0 | DU7: =COUNTIF(DU$8:DU$207,"○") -> 4 | DV7: =COUNTIF(DV$8:DV$207,"○") -> 1 | DW7: =COUNTIF(DW$8:DW$207,"○") -> 15 | DX7: =COUNTIF(DX$8:DX$207,"○") -> 5 | DY7: =COUNTIF(DY$8:DY$207,"○") -> 0 | DZ7: =COUNTIF(DZ$8:DZ$207,"<>") -> 5 | EA7: =COUNTIF(EA$8:EA$207,"<>") -> 5 | EB7: =COUNTIF(EB$8:EB$207,"○") -> 1 | EC7: =COUNTIF(EC$8:EC$207,"○") -> 5 | ED7: =COUNTIF(ED$8:ED$207,"○") -> 0 | EE7: =COUNTIF(EE$8:EE$207,"○") -> 14 | EF7: =COUNTIF(EF$8:EF$207,"○") -> 6 | EG7: =COUNTIF(EG$8:EG$207,"○") -> 0 | EH7: =COUNTIF(EH$8:EH$207,"<>") -> 6 | EI7: =COUNTIF(EI$8:EI$207,"<>") -> 6 | EJ7: =COUNTIF(EJ$8:EJ$207,"○") -> 2 | EK7: =COUNTIF(EK$8:EK$207,"○") -> 10 | EL7: =COUNTIF(EL$8:EL$207,"○") -> 0 | EM7: =COUNTIF(EM$8:EM$207,"○") -> 8 | EN7: =COUNTIF(EN$8:EN$207,"○") -> 11 | EO7: =COUNTIF(EO$8:EO$207,"○") -> 1 | EP7: =COUNTIF(EP$8:EP$207,"<>") -> 12 | EQ7: =COUNTIF(EQ$8:EQ$207,"<>") -> 12 | ER7: =COUNTIF(ER$8:ER$207,"○") -> 2 | ES7: =COUNTIF(ES$8:ES$207,"○") -> 4 | ET7: =COUNTIF(ET$8:ET$207,"○") -> 0 | EU7: =COUNTIF(EU$8:EU$207,"○") -> 15 | EV7: =COUNTIF(EV$8:EV$207,"○") -> 5 | EW7: =COUNTIF(EW$8:EW$207,"○") -> 0 | EX7: =COUNTIF(EX$8:EX$207,"<>") -> 5 | EY7: =COUNTIF(EY$8:EY$207,"<>") -> 5 | EZ7: =COUNTIF(EZ$8:EZ$207,"○") -> 4 | FA7: =COUNTIF(FA$8:FA$207,"○") -> 17 | FB7: =COUNTIF(FB$8:FB$207,"○") -> 0 | FC7: =COUNTIF(FC$8:FC$207,"○") -> 1 | FD7: =COUNTIF(FD$8:FD$207,"○") -> 19 | FE7: =COUNTIF(FE$8:FE$207,"○") -> 0 | FF7: =COUNTIF(FF$8:FF$207,"<>") -> 19 | FG7: =COUNTIF(FG$8:FG$207,"<>") -> 19
A8: 佐賀県 | B8: 41201 | C8: 佐賀市 | G8: ○ | L8: ○ | M8: ○ | P8: ○ | R8: ２回 | S8: ステーション方式 | U8: ○ | X8: ○ | Z8: ２回 | AA8: ステーション方式 | AB8: ○ | AC8: ○ | AG8: ○ | AH8: ２回 | AI8: ステーション方式 | AJ8: ○ | AK8: ○ | AO8: ○ | AP8: ２回 | AQ8: ステーション方式 | AR8: ○ | AS8: ○ | AW8: ○ | AX8: ２回 | AY8: ステーション方式 | BA8: ○ | BD8: ○ | BF8: ２回 | BG8: ステーション方式 | BI8: ○ | BL8: ○ | BN8: ２回 | BO8: ステーション方式 | BP8: ○ | BQ8: ○ | BT8: ○ | BV8: ２回 | BW8: ステーション方式 | BY8: ○ | CC8: ○ | CD8: １回 | CE8: ステーション方式 | CI8: ○ | CQ8: ○ | CV8: ○ | CW8: ○ | DA8: ○ | DB8: ２回 | DC8: ステーション方式 | DG8: ○ | DL8: ○ | DP8: ○ | DR8: ４回 | DS8: その他 | DW8: ○ | EC8: ○ | EF8: ○ | EH8: ２回 | EI8: ステーション方式 | EM8: ○ | ES8: ○ | EV8: ○ | EX8: ２回 | EY8: ステーション方式 | EZ8: ○ | FA8: ○ | FD8: ○ | FF8: １回 | FG8: 各戸収集方式 | FH8: 411020
A9: 佐賀県 | B9: 41202 | C9: 唐津市 | G9: ○ | L9: ○ | M9: ○ | P9: ○ | R9: ２回 | S9: 併用 | T9: ○ | U9: ○ | X9: ○ | Z9: １回 | AA9: 併用 | AC9: ○ | AF9: ○ | AH9: １回 | AI9: ステーション方式 | AK9: ○ | AN9: ○ | AP9: １回 | AQ9: ステーション方式 | AS9: ○ | AV9: ○ | AX9: １回 | AY9: ステーション方式 | BA9: ○ | BD9: ○ | BF9: １回 | BG9: ステーション方式 | BI9: ○ | BL9: ○ | BN9: １回 | BO9: ステーション方式 | BQ9: ○ | BT9: ○ | BV9: １回 | BW9: ステーション方式 | CA9: ○ | CI9: ○ | CQ9: ○ | CW9: ○ | CZ9: ○ | DB9: １回 | DC9: ステーション方式 | DG9: ○ | DM9: ○ | DN9: ○ | DP9: ○ | DR9: 不定期 | DS9: その他 | DW9: ○ | EE9: ○ | EK9: ○ | EN9: ○ | EP9: １回 | EQ9: ステーション方式 | ER9: ○ | ES9: ○ | EV9: ○ | EX9: 不定期 | EY9: その他 | EZ9: ○ | FA9: ○ | FD9: ○ | FF9: 不定期 | FG9: 併用 | FH9: 411021
A10: 佐賀県 | B10: 41203 | C10: 鳥栖市 | G10: ○ | M10: ○ | P10: ○ | R10: ２回 | S10: 併用 | U10: ○ | X10: ○ | Z10: ２回 | AA10: 併用 | AC10: ○ | AG10: ○ | AH10: ７回以上 | AI10: その他 | AK10: ○ | AO10: ○ | AP10: ７回以上 | AQ10: その他 | AS10: ○ | AW10: ○ | AX10: ７回以上 | AY10: その他 | BA10: ○ | BD10: ○ | BF10: ２回 | BG10: 併用 | BI10: ○ | BL10: ○ | BN10: ２回 | BO10: 併用 | BQ10: ○ | BT10: ○ | BV10: ２回 | BW10: 併用 | BY10: ○ | CC10: ○ | CD10: ７回以上 | CE10: その他 | CG10: ○ | CK10: ○ | CL10: ７回以上 | CM10: その他 | CQ10: ○ | CW10: ○ | DA10: ○ | DB10: ７回以上 | DC10: その他 | DG10: ○ | DM10: ○ | DP10: ○ | DR10: ２回 | DS10: 併用 | DW10: ○ | EE10: ○ | EK10: ○ | EN10: ○ | EP10: ２回 | EQ10: 併用 | EU10: ○ | FA10: ○ | FD10: ○ | FF10: １回 | FG10: 各戸収集方式 | FH10: 411022
A11: 佐賀県 | B11: 41204 | C11: 多久市 | G11: ○ | M11: ○ | P11: ○ | R11: ２回 | S11: 併用 | W11: ○ | AC11: ○ | AF11: ○ | AH11: １回 | AI11: その他 | AK11: ○ | AN11: ○ | AP11: 不定期 | AQ11: その他 | AS11: ○ | AV11: ○ | AX11: １回 | AY11: その他 | BA11: ○ | BD11: ○ | BF11: １回 | BG11: 併用 | BI11: ○ | BL11: ○ | BN11: １回 | BO11: 併用 | BQ11: ○ | BT11: ○ | BV11: １回 | BW11: 併用 | BY11: ○ | CB11: ○ | CD11: ２回 | CE11: 併用 | CG11: ○ | CJ11: ○ | CL11: ２回 | CM11: 併用 | CQ11: ○ | CY11: ○ | DG11: ○ | DO11: ○ | DV11: ○ | DX11: ○ | DZ11: 不定期 | EA11: 各戸収集方式 | EE11: ○ | EM11: ○ | EU11: ○ | FC11: ○ | FH11: 411023
A12: 佐賀県 | B12: 41205 | C12: 伊万里市 | G12: ○ | M12: ○ | P12: ○ | R12: ２回 | S12: ステーション方式 | W12: ○ | AE12: ○ | AM12: ○ | AU12: ○ | BA12: ○ | BD12: ○ | BF12: ２回 | BG12: ステーション方式 | BI12: ○ | BL12: ○ | BN12: ２回 | BO12: ステーション方式 | BQ12: ○ | BT12: ○ | BV12: ２回 | BW12: ステーション方式 | BY12: ○ | CB12: ○ | CD12: ２回 | CE12: ステーション方式 | CI12: ○ | CQ12: ○ | CY12: ○ | DF12: ○ | DI12: ○ | DJ12: 不定期 | DK12: ステーション方式 | DN12: ○ | DQ12: ○ | DR12: 不定期 | DS12: ステーション方式 | DW12: ○ | EE12: ○ | EJ12: ○ | EN12: ○ | EP12: 不定期 | EQ12: ステーション方式 | EU12: ○ | FA12: ○ | FD12: ○ | FF12: １回 | FG12: ステーション方式 | FH12: 411057
A13: 佐賀県 | B13: 41206 | C13: 武雄市 | G13: ○ | M13: ○ | P13: ○ | R13: ２回 | S13: ステーション方式 | U13: ○ | X13: ○ | Z13: ４回 | AA13: ステーション方式 | AC13: ○ | AF13: ○ | AH13: １回未満 | AI13: 併用 | AK13: ○ | AN13: ○ | AP13: １回未満 | AQ13: 併用 | AS13: ○ | AV13: ○ | AX13: １回未満 | AY13: 併用 | BA13: ○ | BD13: ○ | BF13: ４回 | BG13: ステーション方式 | BI13: ○ | BL13: ○ | BN13: ４回 | BO13: ステーション方式 | BQ13: ○ | BT13: ○ | BV13: ４回 | BW13: ステーション方式 | BY13: ○ | CB13: ○ | CD13: ４回 | CE13: ステーション方式 | CG13: ○ | CJ13: ○ | CL13: ４回 | CM13: ステーション方式 | CQ13: ○ | CW13: ○ | CZ13: ○ | DB13: １回未満 | DC13: 併用 | DG13: ○ | DO13: ○ | DW13: ○ | EE13: ○ | EK13: ○ | EO13: ○ | EP13: １回未満 | EQ13: 併用 | ER13: ○ | EV13: ○ | EX13: 不定期 | EY13: その他 | FA13: ○ | FD13: ○ | FF13: ４回 | FG13: 併用 | FH13: 411058
A14: 佐賀県 | B14: 41207 | C14: 鹿島市 | G14: ○ | M14: ○ | P14: ○ | R14: ２回 | S14: ステーション方式 | U14: ○ | X14: ○ | Z14: ２回 | AA14: ステーション方式 | AD14: ○ | AF14: ○ | AH14: 不定期 | AI14: その他 | AK14: ○ | AN14: ○ | AP14: 不定期 | AQ14: その他 | AS14: ○ | AV14: ○ | AX14: ５回 | AY14: ステーション方式 | BA14: ○ | BD14: ○ | BF14: ２回 | BG14: ステーション方式 | BI14: ○ | BL14: ○ | BN14: ２回 | BO14: ステーション方式 | BQ14: ○ | BT14: ○ | BV14: ２回 | BW14: ステーション方式 | BY14: ○ | CB14: ○ | CD14: ５回 | CE14: ステーション方式 | CG14: ○ | CJ14: ○ | CL14: ５回 | CM14: ステーション方式 | CO14: ○ | CR14: ○ | CT14: １回 | CU14: その他 | CX14: ○ | CZ14: ○ | DB14: 不定期 | DC14: その他 | DE14: ○ | DI14: ○ | DJ14: ７回以上 | DK14: ステーション方式 | DO14: ○ | DW14: ○ | EC14: ○ | EF14: ○ | EH14: ２回 | EI14: ステーション方式 | EM14: ○ | EU14: ○ | FA14: ○ | FD14: ○ | FF14: １回 | FG14: ステーション方式 | FH14: 411059
A15: 佐賀県 | B15: 41208 | C15: 小城市 | G15: ○ | L15: ○ | P15: ○ | R15: ２回 | S15: ステーション方式 | T15: ○ | X15: ○ | Z15: ２回 | AA15: ステーション方式 | AC15: ○ | AF15: ○ | AH15: １回 | AI15: ステーション方式 | AK15: ○ | AN15: ○ | AP15: １回 | AQ15: ステーション方式 | AS15: ○ | AV15: ○ | AX15: １回 | AY15: ステーション方式 | AZ15: ○ | BD15: ○ | BF15: ２回 | BG15: ステーション方式 | BH15: ○ | BL15: ○ | BN15: ２回 | BO15: ステーション方式 | BQ15: ○ | BT15: ○ | BV15: １回 | BW15: ステーション方式 | BY15: ○ | CB15: ○ | CD15: １回 | CE15: ステーション方式 | CG15: ○ | CJ15: ○ | CL15: １回 | CM15: ステーション方式 | CO15: ○ | CR15: ○ | CT15: １回 | CU15: ステーション方式 | CW15: ○ | CZ15: ○ | DB15: ４回 | DC15: その他 | DG15: ○ | DL15: ○ | DP15: ○ | DR15: １回 | DS15: その他 | DU15: ○ | DX15: ○ | DZ15: 不定期 | EA15: その他 | EE15: ○ | EM15: ○ | EU15: ○ | EZ15: ○ | FD15: ○ | FF15: ４回 | FG15: 各戸収集方式 | FH15: 411108
A16: 佐賀県 | B16: 41209 | C16: 嬉野市 | G16: ○ | M16: ○ | P16: ○ | R16: ２回 | S16: ステーション方式 | U16: ○ | X16: ○ | Z16: １回 | AA16: ステーション方式 | AC16: ○ | AF16: ○ | AH16: １回 | AI16: ステーション方式 | AK16: ○ | AN16: ○ | AP16: １回 | AQ16: ステーション方式 | AS16: ○ | AV16: ○ | AX16: １回 | AY16: ステーション方式 | BA16: ○ | BD16: ○ | BF16: １回 | BG16: ステーション方式 | BI16: ○ | BL16: ○ | BN16: １回 | BO16: ステーション方式 | BQ16: ○ | BT16: ○ | BV16: １回 | BW16: ステーション方式 | BY16: ○ | CB16: ○ | CD16: ４回 | CE16: ステーション方式 | CG16: ○ | CJ16: ○ | CL16: ４回 | CM16: ステーション方式 | CO16: ○ | CR16: ○ | CT16: ４回 | CU16: ステーション方式 | CW16: ○ | CZ16: ○ | DB16: １回 | DC16: ステーション方式 | DG16: ○ | DO16: ○ | DW16: ○ | EC16: ○ | EF16: ○ | EH16: １回 | EI16: ステーション方式 | EK16: ○ | EN16: ○ | EP16: １回 | EQ16: ステーション方式 | EU16: ○ | FA16: ○ | FD16: ○ | FF16: １回 | FG16: ステーション方式 | FH16: 411094
A17: 佐賀県 | B17: 41210 | C17: 神埼市 | G17: ○ | M17: ○ | P17: ○ | R17: ２回 | S17: ステーション方式 | U17: ○ | X17: ○ | Z17: ２回 | AA17: ステーション方式 | AC17: ○ | AF17: ○ | AH17: １回 | AI17: ステーション方式 | AK17: ○ | AN17: ○ | AP17: １回 | AQ17: ステーション方式 | AU17: ○ | BA17: ○ | BD17: ○ | BF17: ２回 | BG17: ステーション方式 | BI17: ○ | BL17: ○ | BN17: ２回 | BO17: ステーション方式 | BQ17: ○ | BT17: ○ | BV17: １回 | BW17: ステーション方式 | BY17: ○ | CB17: ○ | CD17: １回 | CE17: ステーション方式 | CI17: ○ | CQ17: ○ | CY17: ○ | DG17: ○ | DO17: ○ | DW17: ○ | EE17: ○ | EM17: ○ | EU17: ○ | FA17: ○ | FD17: ○ | FF17: １回未満 | FG17: 各戸収集方式 | FH17: 411118
A18: 佐賀県 | B18: 41327 | C18: 吉野ヶ里町 | G18: ○ | M18: ○ | P18: ○ | R18: ２回 | S18: ステーション方式 | U18: ○ | X18: ○ | Z18: ２回 | AA18: ステーション方式 | AC18: ○ | AF18: ○ | AH18: １回 | AI18: ステーション方式 | AK18: ○ | AN18: ○ | AP18: １回 | AQ18: ステーション方式 | AS18: ○ | AV18: ○ | AX18: １回 | AY18: ステーション方式 | BA18: ○ | BD18: ○ | BF18: ２回 | BG18: ステーション方式 | BI18: ○ | BL18: ○ | BN18: ２回 | BO18: ステーション方式 | BQ18: ○ | BT18: ○ | BV18: １回 | BW18: ステーション方式 | BY18: ○ | CB18: ○ | CD18: １回 | CE18: ステーション方式 | CG18: ○ | CJ18: ○ | CL18: １回 | CM18: ステーション方式 | CN18: ○ | CR18: ○ | CT18: 不定期 | CU18: その他 | CY18: ○ | DG18: ○ | DL18: ○ | DP18: ○ | DR18: 不定期 | DS18: その他 | DW18: ○ | EC18: ○ | EF18: ○ | EH18: ２回 | EI18: ステーション方式 | EK18: ○ | EN18: ○ | EP18: ２回 | EQ18: ステーション方式 | EU18: ○ | EZ18: ○ | FD18: ○ | FF18: １回未満 | FG18: 各戸収集方式 | FH18: 411117
A19: 佐賀県 | B19: 41341 | C19: 基山町 | G19: ○ | M19: ○ | P19: ○ | R19: ２回 | S19: ステーション方式 | U19: ○ | X19: ○ | Z19: ２回 | AA19: ステーション方式 | AC19: ○ | AF19: ○ | AH19: ２回 | AI19: ステーション方式 | AK19: ○ | AN19: ○ | AP19: ７回以上 | AQ19: その他 | AS19: ○ | AV19: ○ | AX19: ２回 | AY19: ステーション方式 | BA19: ○ | BD19: ○ | BF19: ２回 | BG19: ステーション方式 | BI19: ○ | BL19: ○ | BN19: ２回 | BO19: ステーション方式 | BQ19: ○ | BT19: ○ | BV19: ２回 | BW19: ステーション方式 | BY19: ○ | CB19: ○ | CD19: ７回以上 | CE19: その他 | CI19: ○ | CQ19: ○ | CW19: ○ | CZ19: ○ | DB19: ２回 | DC19: ステーション方式 | DG19: ○ | DL19: ○ | DP19: ○ | DR19: 不定期 | DS19: その他 | DW19: ○ | EB19: ○ | EF19: ○ | EH19: 不定期 | EI19: その他 | EJ19: ○ | EN19: ○ | EP19: 不定期 | EQ19: その他 | ES19: ○ | EV19: ○ | EX19: １回 | EY19: その他 | FA19: ○ | FD19: ○ | FF19: １回 | FG19: 各戸収集方式 | FH19: 411115
A20: 佐賀県 | B20: 41345 | C20: 上峰町 | G20: ○ | M20: ○ | P20: ○ | R20: ２回 | S20: ステーション方式 | U20: ○ | X20: ○ | Z20: ２回 | AA20: ステーション方式 | AC20: ○ | AF20: ○ | AH20: ２回 | AI20: ステーション方式 | AK20: ○ | AN20: ○ | AP20: ２回 | AQ20: ステーション方式 | AS20: ○ | AV20: ○ | AX20: ２回 | AY20: ステーション方式 | BA20: ○ | BD20: ○ | BF20: ２回 | BG20: ステーション方式 | BI20: ○ | BL20: ○ | BN20: ２回 | BO20: ステーション方式 | BQ20: ○ | BT20: ○ | BV20: ２回 | BW20: ステーション方式 | BY20: ○ | CB20: ○ | CD20: ２回 | CE20: ステーション方式 | CG20: ○ | CJ20: ○ | CL20: ２回 | CM20: ステーション方式 | CQ20: ○ | CW20: ○ | CZ20: ○ | DB20: ２回 | DC20: ステーション方式 | DG20: ○ | DM20: ○ | DP20: ○ | DR20: ２回 | DS20: ステーション方式 | DW20: ○ | EE20: ○ | EK20: ○ | EN20: ○ | EP20: ２回 | EQ20: ステーション方式 | EU20: ○ | FA20: ○ | FD20: ○ | FF20: 不定期 | FG20: 各戸収集方式 | FH20: 411112
A21: 佐賀県 | B21: 41346 | C21: みやき町 | G21: ○ | M21: ○ | P21: ○ | R21: ２回 | S21: ステーション方式 | U21: ○ | X21: ○ | Z21: ２回 | AA21: その他 | AE21: ○ | AK21: ○ | AN21: ○ | AP21: ２回 | AQ21: その他 | AU21: ○ | BC21: ○ | BK21: ○ | BQ21: ○ | BT21: ○ | BV21: ２回 | BW21: その他 | BY21: ○ | CB21: ○ | CD21: ２回 | CE21: その他 | CG21: ○ | CJ21: ○ | CL21: ２回 | CM21: その他 | CQ21: ○ | CW21: ○ | CZ21: ○ | DB21: ２回 | DC21: その他 | DG21: ○ | DM21: ○ | DP21: ○ | DR21: ２回 | DS21: その他 | DW21: ○ | EC21: ○ | EF21: ○ | EH21: ２回 | EI21: その他 | EK21: ○ | EN21: ○ | EP21: ２回 | EQ21: その他 | ES21: ○ | EV21: ○ | EX21: ２回 | EY21: その他 | FA21: ○ | FD21: ○ | FF21: １回未満 | FG21: その他 | FH21: 411107
A22: 佐賀県 | B22: 41387 | C22: 玄海町 | G22: ○ | M22: ○ | P22: ○ | R22: ３回 | S22: ステーション方式 | U22: ○ | X22: ○ | Z22: １回 | AA22: ステーション方式 | AE22: ○ | AM22: ○ | AU22: ○ | BA22: ○ | BD22: ○ | BF22: ３回 | BG22: ステーション方式 | BI22: ○ | BL22: ○ | BN22: １回 | BO22: ステーション方式 | BQ22: ○ | BT22: ○ | BV22: ２回 | BW22: ステーション方式 | CA22: ○ | CI22: ○ | CQ22: ○ | CY22: ○ | DG22: ○ | DO22: ○ | DW22: ○ | EE22: ○ | EM22: ○ | EU22: ○ | FA22: ○ | FD22: ○ | FF22: １回 | FG22: ステーション方式 | FH22: 411100
A23: 佐賀県 | B23: 41401 | C23: 有田町 | G23: ○ | M23: ○ | P23: ○ | R23: ２回 | S23: ステーション方式 | U23: ○ | X23: ○ | Z23: １回 | AA23: ステーション方式 | AC23: ○ | AF23: ○ | AH23: 不定期 | AI23: その他 | AK23: ○ | AN23: ○ | AP23: 不定期 | AQ23: その他 | AS23: ○ | AV23: ○ | AX23: 不定期 | AY23: その他 | BA23: ○ | BD23: ○ | BF23: ２回 | BG23: ステーション方式 | BI23: ○ | BL23: ○ | BN23: ２回 | BO23: ステーション方式 | BQ23: ○ | BT23: ○ | BV23: ２回 | BW23: ステーション方式 | CA23: ○ | CI23: ○ | CQ23: ○ | CY23: ○ | DG23: ○ | DN23: ○ | DP23: ○ | DR23: 不定期 | DS23: その他 | DU23: ○ | DX23: ○ | DZ23: ２回 | EA23: ステーション方式 | EE23: ○ | EM23: ○ | EU23: ○ | FA23: ○ | FD23: ○ | FF23: １回 | FG23: ステーション方式 | FH23: 411068
A24: 佐賀県 | B24: 41423 | C24: 大町町 | G24: ○ | M24: ○ | P24: ○ | R24: ２回 | S24: ステーション方式 | U24: ○ | X24: ○ | Z24: １回 | AA24: ステーション方式 | AC24: ○ | AF24: ○ | AH24: １回 | AI24: ステーション方式 | AK24: ○ | AN24: ○ | AP24: １回 | AQ24: ステーション方式 | AS24: ○ | AV24: ○ | AX24: １回 | AY24: ステーション方式 | BA24: ○ | BD24: ○ | BF24: １回 | BG24: ステーション方式 | BI24: ○ | BL24: ○ | BN24: １回 | BO24: ステーション方式 | BQ24: ○ | BT24: ○ | BV24: １回 | BW24: ステーション方式 | BY24: ○ | CB24: ○ | CD24: ２回 | CE24: ステーション方式 | CG24: ○ | CJ24: ○ | CL24: ２回 | CM24: ステーション方式 | CQ24: ○ | CW24: ○ | CZ24: ○ | DB24: 不定期 | DC24: その他 | DG24: ○ | DO24: ○ | DW24: ○ | EE24: ○ | EK24: ○ | EN24: ○ | EP24: 不定期 | EQ24: その他 | EU24: ○ | FA24: ○ | FD24: ○ | FF24: 不定期 | FG24: その他 | FH24: 411101
A25: 佐賀県 | B25: 41424 | C25: 江北町 | G25: ○ | M25: ○ | P25: ○ | R25: ２回 | S25: ステーション方式 | U25: ○ | X25: ○ | Z25: ２回 | AA25: ステーション方式 | AC25: ○ | AF25: ○ | AH25: １回未満 | AI25: ステーション方式 | AK25: ○ | AN25: ○ | AP25: １回未満 | AQ25: ステーション方式 | AS25: ○ | AV25: ○ | AX25: １回未満 | AY25: ステーション方式 | BA25: ○ | BD25: ○ | BF25: ２回 | BG25: ステーション方式 | BI25: ○ | BL25: ○ | BN25: ２回 | BO25: ステーション方式 | BQ25: ○ | BT25: ○ | BV25: １回未満 | BW25: ステーション方式 | BY25: ○ | CB25: ○ | CD25: １回未満 | CE25: ステーション方式 | CG25: ○ | CJ25: ○ | CL25: ２回 | CM25: ステーション方式 | CQ25: ○ | CW25: ○ | CZ25: ○ | DB25: １回未満 | DC25: ステーション方式 | DE25: ○ | DH25: ○ | DJ25: ３回 | DK25: その他 | DO25: ○ | DU25: ○ | DX25: ○ | DZ25: １回未満 | EA25: ステーション方式 | EE25: ○ | EK25: ○ | EN25: ○ | EP25: 不定期 | EQ25: ステーション方式 | EU25: ○ | FA25: ○ | FD25: ○ | FF25: １回未満 | FG25: ステーション方式 | FH25: 411092
A26: 佐賀県 | B26: 41425 | C26: 白石町 | G26: ○ | M26: ○ | P26: ○ | R26: ２回 | S26: ステーション方式 | U26: ○ | X26: ○ | Z26: １回 | AA26: ステーション方式 | AC26: ○ | AF26: ○ | AH26: １回 | AI26: ステーション方式 | AK26: ○ | AN26: ○ | AP26: １回 | AQ26: ステーション方式 | AS26: ○ | AV26: ○ | AX26: １回 | AY26: ステーション方式 | BA26: ○ | BD26: ○ | BF26: １回 | BG26: ステーション方式 | BI26: ○ | BL26: ○ | BN26: １回 | BO26: ステーション方式 | BQ26: ○ | BT26: ○ | BV26: １回 | BW26: ステーション方式 | CA26: ○ | CI26: ○ | CQ26: ○ | CW26: ○ | CZ26: ○ | DB26: １回 | DC26: ステーション方式 | DG26: ○ | DO26: ○ | DU26: ○ | DX26: ○ | DZ26: ３回 | EA26: その他 | EE26: ○ | EK26: ○ | EN26: ○ | EP26: ３回 | EQ26: ステーション方式 | EU26: ○ | FA26: ○ | FD26: ○ | FF26: １回 | FG26: ステーション方式 | FH26: 411071
A27: 佐賀県 | B27: 41441 | C27: 太良町 | G27: ○ | M27: ○ | P27: ○ | R27: ２回 | S27: ステーション方式 | U27: ○ | X27: ○ | Z27: １回 | AA27: ステーション方式 | AC27: ○ | AF27: ○ | AH27: １回 | AI27: ステーション方式 | AK27: ○ | AN27: ○ | AP27: １回 | AQ27: ステーション方式 | AS27: ○ | AV27: ○ | AX27: １回 | AY27: ステーション方式 | BA27: ○ | BD27: ○ | BF27: １回 | BG27: ステーション方式 | BI27: ○ | BL27: ○ | BN27: １回 | BO27: ステーション方式 | BQ27: ○ | BT27: ○ | BV27: １回 | BW27: ステーション方式 | BY27: ○ | CB27: ○ | CD27: １回 | CE27: ステーション方式 | CG27: ○ | CJ27: ○ | CL27: １回 | CM27: ステーション方式 | CO27: ○ | CR27: ○ | CT27: １回 | CU27: ステーション方式 | CY27: ○ | DG27: ○ | DO27: ○ | DW27: ○ | EE27: ○ | EM27: ○ | EU27: ○ | FA27: ○ | FD27: ○ | FF27: １回未満 | FG27: ステーション方式 | FH27: 411072

Sheet 収集運搬（事業系）
A1: ごみ収集運搬の状況【事業系ごみ】（平成29年度実績）
A2: 都道府県名 | B2: 地方公共団体コード | C2: 市区町村名 | D2: 事業系ごみの収集運搬
D3: 混合ごみ | L3: 可燃ごみ | T3: 不燃ごみ | AB3: 資源ごみ | ER3: その他のごみ | EZ3: 粗大ごみ
AB4: 紙（紙パック、紙製容器包装を除く） | AJ4: 紙パック | AR4: 紙製容器包装 | AZ4: 金属類 | BH4: ガラス類 | BP4: ペットボトル | BX4: 白色トレイ | CF4: 容器包装プラスチック（白色トレイを除く） | CN4: プラスチック類（白色トレイ、容器包装プラスチックを除く） | CV4: 布類 | DD4: 生ごみ | DL4: 廃食油 | DT4: 剪定枝 | EB4: 小型家電 | EJ4: その他
D5: 形態 | H5: 地域 | J5: 収集回数 | K5: 収集方式 | L5: 形態 | P5: 地域 | R5: 収集回数 | S5: 収集方式 | T5: 形態 | X5: 地域 | Z5: 収集回数 | AA5: 収集方式 | AB5: 形態 | AF5: 地域 | AH5: 収集回数 | AI5: 収集方式 | AJ5: 形態 | AN5: 地域 | AP5: 収集回数 | AQ5: 収集方式 | AR5: 形態 | AV5: 地域 | AX5: 収集回数 | AY5: 収集方式 | AZ5: 形態 | BD5: 地域 | BF5: 収集回数 | BG5: 収集方式 | BH5: 形態 | BL5: 地域 | BN5: 収集回数 | BO5: 収集方式 | BP5: 形態 | BT5: 地域 | BV5: 収集回数 | BW5: 収集方式 | BX5: 形態 | CB5: 地域 | CD5: 収集回数 | CE5: 収集方式 | CF5: 形態 | CJ5: 地域 | CL5: 収集回数 | CM5: 収集方式 | CN5: 形態 | CR5: 地域 | CT5: 収集回数 | CU5: 収集方式 | CV5: 形態 | CZ5: 地域 | DB5: 収集回数 | DC5: 収集方式 | DD5: 形態 | DH5: 地域 | DJ5: 収集回数 | DK5: 収集方式 | DL5: 形態 | DP5: 地域 | DR5: 収集回数 | DS5: 収集方式 | DT5: 形態 | DX5: 地域 | DZ5: 収集回数 | EA5: 収集方式 | EB5: 形態 | EF5: 地域 | EH5: 収集回数 | EI5: 収集方式 | EJ5: 形態 | EN5: 地域 | EP5: 収集回数 | EQ5: 収集方式 | ER5: 形態 | EV5: 地域 | EX5: 収集回数 | EY5: 収集方式 | EZ5: 形態 | FD5: 地域 | FF5: 収集回数 | FG5: 収集方式
D6: 直営 | E6: 委託 | F6: 許可 | G6: 収集無し | H6: 全地域 | I6: 一部地域 | J6: （回/週） | L6: 直営 | M6: 委託 | N6: 許可 | O6: 収集無し | P6: 全地域 | Q6: 一部地域 | R6: （回/週） | T6: 直営 | U6: 委託 | V6: 許可 | W6: 収集無し | X6: 全地域 | Y6: 一部地域 | Z6: （回/月） | AB6: 直営 | AC6: 委託 | AD6: 許可 | AE6: 収集無し | AF6: 全地域 | AG6: 一部地域 | AH6: （回/月） | AJ6: 直営 | AK6: 委託 | AL6: 許可 | AM6: 収集無し | AN6: 全地域 | AO6: 一部地域 | AP6: （回/月） | AR6: 直営 | AS6: 委託 | AT6: 許可 | AU6: 収集無し | AV6: 全地域 | AW6: 一部地域 | AX6: （回/月） | AZ6: 直営 | BA6: 委託 | BB6: 許可 | BC6: 収集無し | BD6: 全地域 | BE6: 一部地域 | BF6: （回/月） | BH6: 直営 | BI6: 委託 | BJ6: 許可 | BK6: 収集無し | BL6: 全地域 | BM6: 一部地域 | BN6: （回/月） | BP6: 直営 | BQ6: 委託 | BR6: 許可 | BS6: 収集無し | BT6: 全地域 | BU6: 一部地域 | BV6: （回/月） | BX6: 直営 | BY6: 委託 | BZ6: 許可 | CA6: 収集無し | CB6: 全地域 | CC6: 一部地域 | CD6: （回/月） | CF6: 直営 | CG6: 委託 | CH6: 許可 | CI6: 収集無し | CJ6: 全地域 | CK6: 一部地域 | CL6: （回/月） | CN6: 直営 | CO6: 委託 | CP6: 許可 | CQ6: 収集無し | CR6: 全地域 | CS6: 一部地域 | CT6: （回/月） | CV6: 直営 | CW6: 委託 | CX6: 許可 | CY6: 収集無し | CZ6: 全地域 | DA6: 一部地域 | DB6: （回/月） | DD6: 直営 | DE6: 委託 | DF6: 許可 | DG6: 収集無し | DH6: 全地域 | DI6: 一部地域 | DJ6: （回/月） | DL6: 直営 | DM6: 委託 | DN6: 許可 | DO6: 収集無し | DP6: 全地域 | DQ6: 一部地域 | DR6: （回/月） | DT6: 直営 | DU6: 委託 | DV6: 許可 | DW6: 収集無し | DX6: 全地域 | DY6: 一部地域 | DZ6: （回/月） | EB6: 直営 | EC6: 委託 | ED6: 許可 | EE6: 収集無し | EF6: 全地域 | EG6: 一部地域 | EH6: （回/月） | EJ6: 直営 | EK6: 委託 | EL6: 許可 | EM6: 収集無し | EN6: 全地域 | EO6: 一部地域 | EP6: （回/月） | ER6: 直営 | ES6: 委託 | ET6: 許可 | EU6: 収集無し | EV6: 全地域 | EW6: 一部地域 | EX6: （回/月） | EZ6: 直営 | FA6: 委託 | FB6: 許可 | FC6: 収集無し | FD6: 全地域 | FE6: 一部地域 | FF6: （回/月）
A7: ='収集運搬（生活系）'!A7 -> 佐賀県 | B7: ='収集運搬（生活系）'!B7 -> 41000 | C7: 合計 | D7: =COUNTIF(D$8:D$207,"○") -> 0 | E7: =COUNTIF(E$8:E$207,"○") -> 0 | F7: =COUNTIF(F$8:F$207,"○") -> 0 | G7: =COUNTIF(G$8:G$207,"○") -> 20 | H7: =COUNTIF(H$8:H$207,"○") -> 0 | I7: =COUNTIF(I$8:I$207,"○") -> 0 | J7: =COUNTIF(J$8:J$207,"<>") -> 0 | K7: =COUNTIF(K$8:K$207,"<>") -> 0 | L7: =COUNTIF(L$8:L$207,"○") -> 0 | M7: =COUNTIF(M$8:M$207,"○") -> 2 | N7: =COUNTIF(N$8:N$207,"○") -> 18 | O7: =COUNTIF(O$8:O$207,"○") -> 0 | P7: =COUNTIF(P$8:P$207,"○") -> 20 | Q7: =COUNTIF(Q$8:Q$207,"○") -> 0 | R7: =COUNTIF(R$8:R$207,"<>") -> 20 | S7: =COUNTIF(S$8:S$207,"<>") -> 20 | T7: =COUNTIF(T$8:T$207,"○") -> 0 | U7: =COUNTIF(U$8:U$207,"○") -> 2 | V7: =COUNTIF(V$8:V$207,"○") -> 10 | W7: =COUNTIF(W$8:W$207,"○") -> 8 | X7: =COUNTIF(X$8:X$207,"○") -> 12 | Y7: =COUNTIF(Y$8:Y$207,"○") -> 0 | Z7: =COUNTIF(Z$8:Z$207,"<>") -> 12 | AA7: =COUNTIF(AA$8:AA$207,"<>") -> 12 | AB7: =COUNTIF(AB$8:AB$207,"○") -> 0 | AC7: =COUNTIF(AC$8:AC$207,"○") -> 1 | AD7: =COUNTIF(AD$8:AD$207,"○") -> 9 | AE7: =COUNTIF(AE$8:AE$207,"○") -> 10 | AF7: =COUNTIF(AF$8:AF$207,"○") -> 10 | AG7: =COUNTIF(AG$8:AG$207,"○") -> 0 | AH7: =COUNTIF(AH$8:AH$207,"<>") -> 10 | AI7: =COUNTIF(AI$8:AI$207,"<>") -> 10 | AJ7: =COUNTIF(AJ$8:AJ$207,"○") -> 0 | AK7: =COUNTIF(AK$8:AK$207,"○") -> 1 | AL7: =COUNTIF(AL$8:AL$207,"○") -> 8 | AM7: =COUNTIF(AM$8:AM$207,"○") -> 11 | AN7: =COUNTIF(AN$8:AN$207,"○") -> 9 | AO7: =COUNTIF(AO$8:AO$207,"○") -> 0 | AP7: =COUNTIF(AP$8:AP$207,"<>") -> 9 | AQ7: =COUNTIF(AQ$8:AQ$207,"<>") -> 9 | AR7: =COUNTIF(AR$8:AR$207,"○") -> 0 | AS7: =COUNTIF(AS$8:AS$207,"○") -> 1 | AT7: =COUNTIF(AT$8:AT$207,"○") -> 7 | AU7: =COUNTIF(AU$8:AU$207,"○") -> 12 | AV7: =COUNTIF(AV$8:AV$207,"○") -> 8 | AW7: =COUNTIF(AW$8:AW$207,"○") -> 0 | AX7: =COUNTIF(AX$8:AX$207,"<>") -> 8 | AY7: =COUNTIF(AY$8:AY$207,"<>") -> 8 | AZ7: =COUNTIF(AZ$8:AZ$207,"○") -> 0 | BA7: =COUNTIF(BA$8:BA$207,"○") -> 2 | BB7: =COUNTIF(BB$8:BB$207,"○") -> 8 | BC7: =COUNTIF(BC$8:BC$207,"○") -> 10 | BD7: =COUNTIF(BD$8:BD$207,"○") -> 10 | BE7: =COUNTIF(BE$8:BE$207,"○") -> 0 | BF7: =COUNTIF(BF$8:BF$207,"<>") -> 10 | BG7: =COUNTIF(BG$8:BG$207,"<>") -> 10 | BH7: =COUNTIF(BH$8:BH$207,"○") -> 0 | BI7: =COUNTIF(BI$8:BI$207,"○") -> 2 | BJ7: =COUNTIF(BJ$8:BJ$207,"○") -> 8 | BK7: =COUNTIF(BK$8:BK$207,"○") -> 10 | BL7: =COUNTIF(BL$8:BL$207,"○") -> 10 | BM7: =COUNTIF(BM$8:BM$207,"○") -> 0 | BN7: =COUNTIF(BN$8:BN$207,"<>") -> 10 | BO7: =COUNTIF(BO$8:BO$207,"<>") -> 10 | BP7: =COUNTIF(BP$8:BP$207,"○") -> 0 | BQ7: =COUNTIF(BQ$8:BQ$207,"○") -> 2 | BR7: =COUNTIF(BR$8:BR$207,"○") -> 6 | BS7: =COUNTIF(BS$8:BS$207,"○") -> 12 | BT7: =COUNTIF(BT$8:BT$207,"○") -> 8 | BU7: =COUNTIF(BU$8:BU$207,"○") -> 0 | BV7: =COUNTIF(BV$8:BV$207,"<>") -> 8 | BW7: =COUNTIF(BW$8:BW$207,"<>") -> 8 | BX7: =COUNTIF(BX$8:BX$207,"○") -> 0 | BY7: =COUNTIF(BY$8:BY$207,"○") -> 0 | BZ7: =COUNTIF(BZ$8:BZ$207,"○") -> 5 | CA7: =COUNTIF(CA$8:CA$207,"○") -> 15 | CB7: =COUNTIF(CB$8:CB$207,"○") -> 5 | CC7: =COUNTIF(CC$8:CC$207,"○") -> 0 | CD7: =COUNTIF(CD$8:CD$207,"<>") -> 5 | CE7: =COUNTIF(CE$8:CE$207,"<>") -> 5 | CF7: =COUNTIF(CF$8:CF$207,"○") -> 0 | CG7: =COUNTIF(CG$8:CG$207,"○") -> 0 | CH7: =COUNTIF(CH$8:CH$207,"○") -> 4 | CI7: =COUNTIF(CI$8:CI$207,"○") -> 16 | CJ7: =COUNTIF(CJ$8:CJ$207,"○") -> 4 | CK7: =COUNTIF(CK$8:CK$207,"○") -> 0 | CL7: =COUNTIF(CL$8:CL$207,"<>") -> 4 | CM7: =COUNTIF(CM$8:CM$207,"<>") -> 4 | CN7: =COUNTIF(CN$8:CN$207,"○") -> 0 | CO7: =COUNTIF(CO$8:CO$207,"○") -> 0 | CP7: =COUNTIF(CP$8:CP$207,"○") -> 3 | CQ7: =COUNTIF(CQ$8:CQ$207,"○") -> 17 | CR7: =COUNTIF(CR$8:CR$207,"○") -> 3 | CS7: =COUNTIF(CS$8:CS$207,"○") -> 0 | CT7: =COUNTIF(CT$8:CT$207,"<>") -> 3 | CU7: =COUNTIF(CU$8:CU$207,"<>") -> 3 | CV7: =COUNTIF(CV$8:CV$207,"○") -> 0 | CW7: =COUNTIF(CW$8:CW$207,"○") -> 0 | CX7: =COUNTIF(CX$8:CX$207,"○") -> 4 | CY7: =COUNTIF(CY$8:CY$207,"○") -> 16 | CZ7: =COUNTIF(CZ$8:CZ$207,"○") -> 4 | DA7: =COUNTIF(DA$8:DA$207,"○") -> 0 | DB7: =COUNTIF(DB$8:DB$207,"<>") -> 4 | DC7: =COUNTIF(DC$8:DC$207,"<>") -> 4 | DD7: =COUNTIF(DD$8:DD$207,"○") -> 0 | DE7: =COUNTIF(DE$8:DE$207,"○") -> 0 | DF7: =COUNTIF(DF$8:DF$207,"○") -> 4 | DG7: =COUNTIF(DG$8:DG$207,"○") -> 16 | DH7: =COUNTIF(DH$8:DH$207,"○") -> 3 | DI7: =COUNTIF(DI$8:DI$207,"○") -> 1 | DJ7: =COUNTIF(DJ$8:DJ$207,"<>") -> 4 | DK7: =COUNTIF(DK$8:DK$207,"<>") -> 4 | DL7: =COUNTIF(DL$8:DL$207,"○") -> 1 | DM7: =COUNTIF(DM$8:DM$207,"○") -> 0 | DN7: =COUNTIF(DN$8:DN$207,"○") -> 4 | DO7: =COUNTIF(DO$8:DO$207,"○") -> 15 | DP7: =COUNTIF(DP$8:DP$207,"○") -> 4 | DQ7: =COUNTIF(DQ$8:DQ$207,"○") -> 1 | DR7: =COUNTIF(DR$8:DR$207,"<>") -> 5 | DS7: =COUNTIF(DS$8:DS$207,"<>") -> 5 | DT7: =COUNTIF(DT$8:DT$207,"○") -> 0 | DU7: =COUNTIF(DU$8:DU$207,"○") -> 1 | DV7: =COUNTIF(DV$8:DV$207,"○") -> 5 | DW7: =COUNTIF(DW$8:DW$207,"○") -> 14 | DX7: =COUNTIF(DX$8:DX$207,"○") -> 6 | DY7: =COUNTIF(DY$8:DY$207,"○") -> 0 | DZ7: =COUNTIF(DZ$8:DZ$207,"<>") -> 6 | EA7: =COUNTIF(EA$8:EA$207,"<>") -> 6 | EB7: =COUNTIF(EB$8:EB$207,"○") -> 0 | EC7: =COUNTIF(EC$8:EC$207,"○") -> 0 | ED7: =COUNTIF(ED$8:ED$207,"○") -> 1 | EE7: =COUNTIF(EE$8:EE$207,"○") -> 19 | EF7: =COUNTIF(EF$8:EF$207,"○") -> 1 | EG7: =COUNTIF(EG$8:EG$207,"○") -> 0 | EH7: =COUNTIF(EH$8:EH$207,"<>") -> 1 | EI7: =COUNTIF(EI$8:EI$207,"<>") -> 1 | EJ7: =COUNTIF(EJ$8:EJ$207,"○") -> 0 | EK7: =COUNTIF(EK$8:EK$207,"○") -> 0 | EL7: =COUNTIF(EL$8:EL$207,"○") -> 3 | EM7: =COUNTIF(EM$8:EM$207,"○") -> 17 | EN7: =COUNTIF(EN$8:EN$207,"○") -> 3 | EO7: =COUNTIF(EO$8:EO$207,"○") -> 0 | EP7: =COUNTIF(EP$8:EP$207,"<>") -> 3 | EQ7: =COUNTIF(EQ$8:EQ$207,"<>") -> 3 | ER7: =COUNTIF(ER$8:ER$207,"○") -> 0 | ES7: =COUNTIF(ES$8:ES$207,"○") -> 0 | ET7: =COUNTIF(ET$8:ET$207,"○") -> 1 | EU7: =COUNTIF(EU$8:EU$207,"○") -> 19 | EV7: =COUNTIF(EV$8:EV$207,"○") -> 1 | EW7: =COUNTIF(EW$8:EW$207,"○") -> 0 | EX7: =COUNTIF(EX$8:EX$207,"<>") -> 1 | EY7: =COUNTIF(EY$8:EY$207,"<>") -> 1 | EZ7: =COUNTIF(EZ$8:EZ$207,"○") -> 0 | FA7: =COUNTIF(FA$8:FA$207,"○") -> 2 | FB7: =COUNTIF(FB$8:FB$207,"○") -> 8 | FC7: =COUNTIF(FC$8:FC$207,"○") -> 10 | FD7: =COUNTIF(FD$8:FD$207,"○") -> 10 | FE7: =COUNTIF(FE$8:FE$207,"○") -> 0 | FF7: =COUNTIF(FF$8:FF$207,"<>") -> 10 | FG7: =COUNTIF(FG$8:FG$207,"<>") -> 10
A8: 佐賀県 | B8: 41201 | C8: 佐賀市 | G8: ○ | N8: ○ | P8: ○ | R8: 不定期 | S8: 各戸収集方式 | V8: ○ | X8: ○ | Z8: 不定期 | AA8: 各戸収集方式 | AD8: ○ | AF8: ○ | AH8: 不定期 | AI8: 各戸収集方式 | AL8: ○ | AN8: ○ | AP8: 不定期 | AQ8: 各戸収集方式 | AT8: ○ | AV8: ○ | AX8: 不定期 | AY8: 各戸収集方式 | BB8: ○ | BD8: ○ | BF8: 不定期 | BG8: 各戸収集方式 | BJ8: ○ | BL8: ○ | BN8: 不定期 | BO8: 各戸収集方式 | BS8: ○ | CA8: ○ | CI8: ○ | CQ8: ○ | CX8: ○ | CZ8: ○ | DB8: 不定期 | DC8: 各戸収集方式 | DG8: ○ | DL8: ○ | DP8: ○ | DR8: 不定期 | DS8: その他 | DW8: ○ | EE8: ○ | EM8: ○ | EU8: ○ | FB8: ○ | FD8: ○ | FF8: 不定期 | FG8: 各戸収集方式
A9: 佐賀県 | B9: 41202 | C9: 唐津市 | G9: ○ | N9: ○ | P9: ○ | R9: 不定期 | S9: 各戸収集方式 | V9: ○ | X9: ○ | Z9: 不定期 | AA9: 各戸収集方式 | AE9: ○ | AM9: ○ | AU9: ○ | BB9: ○ | BD9: ○ | BF9: 不定期 | BG9: 各戸収集方式 | BJ9: ○ | BL9: ○ | BN9: 不定期 | BO9: 各戸収集方式 | BS9: ○ | CA9: ○ | CI9: ○ | CQ9: ○ | CY9: ○ | DG9: ○ | DO9: ○ | DV9: ○ | DX9: ○ | DZ9: 不定期 | EA9: 各戸収集方式 | EE9: ○ | EM9: ○ | EU9: ○ | FB9: ○ | FD9: ○ | FF9: 不定期 | FG9: 各戸収集方式
A10: 佐賀県 | B10: 41203 | C10: 鳥栖市 | G10: ○ | N10: ○ | P10: ○ | R10: 不定期 | S10: 各戸収集方式 | W10: ○ | AE10: ○ | AM10: ○ | AU10: ○ | BC10: ○ | BK10: ○ | BS10: ○ | CA10: ○ | CI10: ○ | CQ10: ○ | CY10: ○ | DF10: ○ | DH10: ○ | DJ10: 不定期 | DK10: 各戸収集方式 | DO10: ○ | DW10: ○ | EE10: ○ | EM10: ○ | EU10: ○ | FC10: ○
A11: 佐賀県 | B11: 41204 | C11: 多久市 | G11: ○ | N11: ○ | P11: ○ | R11: 不定期 | S11: 各戸収集方式 | W11: ○ | AE11: ○ | AM11: ○ | AU11: ○ | BC11: ○ | BK11: ○ | BS11: ○ | CA11: ○ | CI11: ○ | CQ11: ○ | CY11: ○ | DG11: ○ | DO11: ○ | DV11: ○ | DX11: ○ | DZ11: 不定期 | EA11: 各戸収集方式 | EE11: ○ | EM11: ○ | EU11: ○ | FC11: ○
A12: 佐賀県 | B12: 41205 | C12: 伊万里市 | G12: ○ | N12: ○ | P12: ○ | R12: 不定期 | S12: 各戸収集方式 | W12: ○ | AE12: ○ | AM12: ○ | AU12: ○ | BC12: ○ | BK12: ○ | BS12: ○ | CA12: ○ | CI12: ○ | CQ12: ○ | CY12: ○ | DF12: ○ | DI12: ○ | DJ12: 不定期 | DK12: 各戸収集方式 | DN12: ○ | DQ12: ○ | DR12: 不定期 | DS12: 各戸収集方式 | DW12: ○ | EE12: ○ | EM12: ○ | EU12: ○ | FC12: ○
A13: 佐賀県 | B13: 41206 | C13: 武雄市 | G13: ○ | M13: ○ | P13: ○ | R13: 不定期 | S13: 各戸収集方式 | U13: ○ | X13: ○ | Z13: 不定期 | AA13: 各戸収集方式 | AD13: ○ | AF13: ○ | AH13: 不定期 | AI13: 各戸収集方式 | AL13: ○ | AN13: ○ | AP13: 不定期 | AQ13: 各戸収集方式 | AT13: ○ | AV13: ○ | AX13: 不定期 | AY13: 各戸収集方式 | BA13: ○ | BD13: ○ | BF13: 不定期 | BG13: 各戸収集方式 | BI13: ○ | BL13: ○ | BN13: 不定期 | BO13: 各戸収集方式 | BQ13: ○ | BT13: ○ | BV13: 不定期 | BW13: 各戸収集方式 | CA13: ○ | CI13: ○ | CQ13: ○ | CY13: ○ | DG13: ○ | DO13: ○ | DW13: ○ | EE13: ○ | EM13: ○ | EU13: ○ | FB13: ○ | FD13: ○ | FF13: 不定期 | FG13: 各戸収集方式
A14: 佐賀県 | B14: 41207 | C14: 鹿島市 | G14: ○ | N14: ○ | P14: ○ | R14: 不定期 | S14: 各戸収集方式 | V14: ○ | X14: ○ | Z14: 不定期 | AA14: 各戸収集方式 | AD14: ○ | AF14: ○ | AH14: 不定期 | AI14: 各戸収集方式 | AL14: ○ | AN14: ○ | AP14: 不定期 | AQ14: 各戸収集方式 | AT14: ○ | AV14: ○ | AX14: 不定期 | AY14: 各戸収集方式 | BB14: ○ | BD14: ○ | BF14: 不定期 | BG14: 各戸収集方式 | BJ14: ○ | BL14: ○ | BN14: 不定期 | BO14: 各戸収集方式 | BR14: ○ | BT14: ○ | BV14: 不定期 | BW14: 各戸収集方式 | BZ14: ○ | CB14: ○ | CD14: 不定期 | CE14: 各戸収集方式 | CH14: ○ | CJ14: ○ | CL14: 不定期 | CM14: 各戸収集方式 | CP14: ○ | CR14: ○ | CT14: 不定期 | CU14: 各戸収集方式 | CX14: ○ | CZ14: ○ | DB14: 不定期 | DC14: 各戸収集方式 | DG14: ○ | DN14: ○ | DP14: ○ | DR14: 不定期 | DS14: 各戸収集方式 | DV14: ○ | DX14: ○ | DZ14: 不定期 | EA14: 各戸収集方式 | EE14: ○ | EM14: ○ | EU14: ○ | FB14: ○ | FD14: ○ | FF14: 不定期 | FG14: 各戸収集方式
A15: 佐賀県 | B15: 41208 | C15: 小城市 | G15: ○ | N15: ○ | P15: ○ | R15: 不定期 | S15: その他 | V15: ○ | X15: ○ | Z15: 不定期 | AA15: その他 | AD15: ○ | AF15: ○ | AH15: 不定期 | AI15: その他 | AL15: ○ | AN15: ○ | AP15: 不定期 | AQ15: その他 | AT15: ○ | AV15: ○ | AX15: 不定期 | AY15: その他 | BB15: ○ | BD15: ○ | BF15: 不定期 | BG15: その他 | BJ15: ○ | BL15: ○ | BN15: 不定期 | BO15: その他 | BR15: ○ | BT15: ○ | BV15: 不定期 | BW15: その他 | BZ15: ○ | CB15: ○ | CD15: 不定期 | CE15: その他 | CH15: ○ | CJ15: ○ | CL15: 不定期 | CM15: その他 | CQ15: ○ | CY15: ○ | DG15: ○ | DO15: ○ | DV15: ○ | DX15: ○ | DZ15: 不定期 | EA15: その他 | EE15: ○ | EM15: ○ | EU15: ○ | FC15: ○
A16: 佐賀県 | B16: 41209 | C16: 嬉野市 | G16: ○ | N16: ○ | P16: ○ | R16: 不定期 | S16: 併用 | V16: ○ | X16: ○ | Z16: 不定期 | AA16: 併用 | AD16: ○ | AF16: ○ | AH16: 不定期 | AI16: 各戸収集方式 | AL16: ○ | AN16: ○ | AP16: 不定期 | AQ16: 各戸収集方式 | AT16: ○ | AV16: ○ | AX16: 不定期 | AY16: 各戸収集方式 | BB16: ○ | BD16: ○ | BF16: 不定期 | BG16: 各戸収集方式 | BJ16: ○ | BL16: ○ | BN16: 不定期 | BO16: 各戸収集方式 | BR16: ○ | BT16: ○ | BV16: 不定期 | BW16: 各戸収集方式 | BZ16: ○ | CB16: ○ | CD16: 不定期 | CE16: 各戸収集方式 | CH16: ○ | CJ16: ○ | CL16: 不定期 | CM16: 各戸収集方式 | CP16: ○ | CR16: ○ | CT16: 不定期 | CU16: 各戸収集方式 | CX16: ○ | CZ16: ○ | DB16: 不定期 | DC16: 各戸収集方式 | DG16: ○ | DO16: ○ | DW16: ○ | ED16: ○ | EF16: ○ | EH16: 不定期 | EI16: 併用 | EL16: ○ | EN16: ○ | EP16: 不定期 | EQ16: 各戸収集方式 | EU16: ○ | FB16: ○ | FD16: ○ | FF16: 不定期 | FG16: 各戸収集方式
A17: 佐賀県 | B17: 41210 | C17: 神埼市 | G17: ○ | N17: ○ | P17: ○ | R17: 不定期 | S17: 各戸収集方式 | V17: ○ | X17: ○ | Z17: 不定期 | AA17: 各戸収集方式 | AD17: ○ | AF17: ○ | AH17: 不定期 | AI17: 各戸収集方式 | AL17: ○ | AN17: ○ | AP17: 不定期 | AQ17: 各戸収集方式 | AU17: ○ | BB17: ○ | BD17: ○ | BF17: 不定期 | BG17: 各戸収集方式 | BJ17: ○ | BL17: ○ | BN17: 不定期 | BO17: 各戸収集方式 | BR17: ○ | BT17: ○ | BV17: 不定期 | BW17: 各戸収集方式 | BZ17: ○ | CB17: ○ | CD17: 不定期 | CE17: 各戸収集方式 | CI17: ○ | CQ17: ○ | CY17: ○ | DG17: ○ | DO17: ○ | DW17: ○ | EE17: ○ | EM17: ○ | EU17: ○ | FB17: ○ | FD17: ○ | FF17: 不定期 | FG17: 各戸収集方式
A18: 佐賀県 | B18: 41327 | C18: 吉野ヶ里町 | G18: ○ | N18: ○ | P18: ○ | R18: 不定期 | S18: 各戸収集方式 | V18: ○ | X18: ○ | Z18: 不定期 | AA18: 各戸収集方式 | AD18: ○ | AF18: ○ | AH18: 不定期 | AI18: 各戸収集方式 | AL18: ○ | AN18: ○ | AP18: 不定期 | AQ18: 各戸収集方式 | AT18: ○ | AV18: ○ | AX18: 不定期 | AY18: 各戸収集方式 | BB18: ○ | BD18: ○ | BF18: 不定期 | BG18: 各戸収集方式 | BJ18: ○ | BL18: ○ | BN18: 不定期 | BO18: 各戸収集方式 | BR18: ○ | BT18: ○ | BV18: 不定期 | BW18: 各戸収集方式 | BZ18: ○ | CB18: ○ | CD18: 不定期 | CE18: 各戸収集方式 | CH18: ○ | CJ18: ○ | CL18: 不定期 | CM18: 各戸収集方式 | CP18: ○ | CR18: ○ | CT18: 不定期 | CU18: 各戸収集方式 | CX18: ○ | CZ18: ○ | DB18: 不定期 | DC18: 各戸収集方式 | DF18: ○ | DH18: ○ | DJ18: 不定期 | DK18: 各戸収集方式 | DN18: ○ | DP18: ○ | DR18: 不定期 | DS18: 各戸収集方式 | DV18: ○ | DX18: ○ | DZ18: 不定期 | EA18: 各戸収集方式 | EE18: ○ | EL18: ○ | EN18: ○ | EP18: 不定期 | EQ18: 各戸収集方式 | ET18: ○ | EV18: ○ | EX18: 不定期 | EY18: 各戸収集方式 | FC18: ○
A19: 佐賀県 | B19: 41341 | C19: 基山町 | G19: ○ | N19: ○ | P19: ○ | R19: 不定期 | S19: 各戸収集方式 | W19: ○ | AE19: ○ | AM19: ○ | AU19: ○ | BC19: ○ | BK19: ○ | BS19: ○ | CA19: ○ | CI19: ○ | CQ19: ○ | CY19: ○ | DG19: ○ | DO19: ○ | DW19: ○ | EE19: ○ | EM19: ○ | EU19: ○ | FC19: ○
A20: 佐賀県 | B20: 41345 | C20: 上峰町 | G20: ○ | N20: ○ | P20: ○ | R20: 不定期 | S20: 各戸収集方式 | W20: ○ | AE20: ○ | AM20: ○ | AU20: ○ | BC20: ○ | BK20: ○ | BS20: ○ | CA20: ○ | CI20: ○ | CQ20: ○ | CY20: ○ | DG20: ○ | DO20: ○ | DW20: ○ | EE20: ○ | EM20: ○ | EU20: ○ | FC20: ○
A21: 佐賀県 | B21: 41346 | C21: みやき町 | G21: ○ | N21: ○ | P21: ○ | R21: 不定期 | S21: その他 | W21: ○ | AE21: ○ | AM21: ○ | AU21: ○ | BC21: ○ | BK21: ○ | BS21: ○ | CA21: ○ | CI21: ○ | CQ21: ○ | CY21: ○ | DG21: ○ | DO21: ○ | DW21: ○ | EE21: ○ | EM21: ○ | EU21: ○ | FC21: ○
A22: 佐賀県 | B22: 41387 | C22: 玄海町 | G22: ○ | N22: ○ | P22: ○ | R22: 不定期 | S22: 各戸収集方式 | V22: ○ | X22: ○ | Z22: 不定期 | AA22: 各戸収集方式 | AE22: ○ | AM22: ○ | AU22: ○ | BC22: ○ | BK22: ○ | BS22: ○ | CA22: ○ | CI22: ○ | CQ22: ○ | CY22: ○ | DG22: ○ | DO22: ○ | DW22: ○ | EE22: ○ | EM22: ○ | EU22: ○ | FB22: ○ | FD22: ○ | FF22: 不定期 | FG22: 各戸収集方式
A23: 佐賀県 | B23: 41401 | C23: 有田町 | G23: ○ | M23: ○ | P23: ○ | R23: ２回 | S23: ステーション方式 | U23: ○ | X23: ○ | Z23: １回 | AA23: ステーション方式 | AC23: ○ | AF23: ○ | AH23: 不定期 | AI23: その他 | AK23: ○ | AN23: ○ | AP23: 不定期 | AQ23: その他 | AS23: ○ | AV23: ○ | AX23: 不定期 | AY23: その他 | BA23: ○ | BD23: ○ | BF23: ２回 | BG23: ステーション方式 | BI23: ○ | BL23: ○ | BN23: ２回 | BO23: ステーション方式 | BQ23: ○ | BT23: ○ | BV23: ２回 | BW23: ステーション方式 | CA23: ○ | CI23: ○ | CQ23: ○ | CY23: ○ | DG23: ○ | DN23: ○ | DP23: ○ | DR23: 不定期 | DS23: その他 | DU23: ○ | DX23: ○ | DZ23: ２回 | EA23: ステーション方式 | EE23: ○ | EM23: ○ | EU23: ○ | FA23: ○ | FD23: ○ | FF23: １回 | FG23: ステーション方式
A24: 佐賀県 | B24: 41423 | C24: 大町町 | G24: ○ | N24: ○ | P24: ○ | R24: 不定期 | S24: 各戸収集方式 | V24: ○ | X24: ○ | Z24: 不定期 | AA24: 各戸収集方式 | AE24: ○ | AM24: ○ | AU24: ○ | BC24: ○ | BK24: ○ | BS24: ○ | CA24: ○ | CI24: ○ | CQ24: ○ | CY24: ○ | DG24: ○ | DO24: ○ | DW24: ○ | EE24: ○ | EM24: ○ | EU24: ○ | FB24: ○ | FD24: ○ | FF24: 不定期 | FG24: 各戸収集方式
A25: 佐賀県 | B25: 41424 | C25: 江北町 | G25: ○ | N25: ○ | P25: ○ | R25: ３回 | S25: 各戸収集方式 | W25: ○ | AD25: ○ | AF25: ○ | AH25: 不定期 | AI25: 各戸収集方式 | AM25: ○ | AU25: ○ | BC25: ○ | BK25: ○ | BS25: ○ | CA25: ○ | CI25: ○ | CQ25: ○ | CY25: ○ | DF25: ○ | DH25: ○ | DJ25: ３回 | DK25: 各戸収集方式 | DO25: ○ | DW25: ○ | EE25: ○ | EM25: ○ | EU25: ○ | FC25: ○
A26: 佐賀県 | B26: 41425 | C26: 白石町 | G26: ○ | N26: ○ | P26: ○ | R26: ３回 | S26: 各戸収集方式 | V26: ○ | X26: ○ | Z26: ３回 | AA26: 各戸収集方式 | AD26: ○ | AF26: ○ | AH26: ３回 | AI26: 各戸収集方式 | AL26: ○ | AN26: ○ | AP26: ３回 | AQ26: 各戸収集方式 | AT26: ○ | AV26: ○ | AX26: ３回 | AY26: 各戸収集方式 | BB26: ○ | BD26: ○ | BF26: ３回 | BG26: 各戸収集方式 | BJ26: ○ | BL26: ○ | BN26: ３回 | BO26: 各戸収集方式 | BR26: ○ | BT26: ○ | BV26: ３回 | BW26: 各戸収集方式 | CA26: ○ | CI26: ○ | CQ26: ○ | CY26: ○ | DG26: ○ | DO26: ○ | DW26: ○ | EE26: ○ | EL26: ○ | EN26: ○ | EP26: 不定期 | EQ26: 各戸収集方式 | EU26: ○ | FA26: ○ | FD26: ○ | FF26: １回 | FG26: ステーション方式
A27: 佐賀県 | B27: 41441 | C27: 太良町 | G27: ○ | N27: ○ | P27: ○ | R27: ２回 | S27: 各戸収集方式 | W27: ○ | AE27: ○ | AM27: ○ | AU27: ○ | BC27: ○ | BK27: ○ | BS27: ○ | CA27: ○ | CI27: ○ | CQ27: ○ | CY27: ○ | DG27: ○ | DO27: ○ | DW27: ○ | EE27: ○ | EM27: ○ | EU27: ○ | FC27: ○

Sheet 分別数等
A1: ごみ分別数と処理処分の実施形態の状況（平成29年度実績）
A2: 都道府県名 | B2: 地方公共団体コード | C2: 市区町村名 | D2: ごみの分別数 | AF2: ごみの収集区分 | CH2: 混合ごみ | CP2: 可燃ごみ | CX2: 不燃ごみ | DF2: 資源ごみ | HV2: その他のごみ | ID2: 粗大ごみ
DF3: 紙類（紙パック、紙製容器包装を除く） | DN3: 紙パック | DV3: 紙製容器包装 | ED3: 金属類 | EL3: ガラス類 | ET3: ペットボトル | FB3: 白色トレイ | FJ3: 容器包装プラスチック（白色トレイ除く） | FR3: プラスチック類（白色トレイ、容器包装プラスチック除く） | FZ3: 布類 | GH3: 生ごみ | GP3: 廃食油 | GX3: 剪定枝 | HF3: 小型家電 | HN3: その他
E4: １種類 | F4: ２種類 | G4: ３種類 | H4: ４種類 | I4: ５種類 | J4: ６種類 | K4: ７種類 | L4: ８種類 | M4: ９種類 | N4: 10種類 | O4: 11種類 | P4: 12種類 | Q4: 13種類 | R4: 14種類 | S4: 15種類 | T4: 16種類 | U4: 17種類 | V4: 18種類 | W4: 19種類 | X4: 20種類 | Y4: 21種類 | Z4: 22種類 | AA4: 23種類 | AB4: 24種類 | AC4: 25種類 | AD4: 26種類 以上 | AE4: 収集 無し | AF4: 混合ごみ | AO4: 可燃ごみ | AX4: 不燃ごみ | BG4: 資源ごみ | BP4: 集団回収 | BY4: 収集していない | CH4: 中間処理 | CL4: 最終処分 | CP4: 中間処理 | CT4: 最終処分 | CX4: 中間処理 | DB4: 最終処分 | DF4: 中間処理 | DJ4: 最終処分 | DN4: 中間処理 | DR4: 最終処分 | DV4: 中間処理 | DZ4: 最終処分 | ED4: 中間処理 | EH4: 最終処分 | EL4: 中間処理 | EP4: 最終処分 | ET4: 中間処理 | EX4: 最終処分 | FB4: 中間処理 | FF4: 最終処分 | FJ4: 中間処理 | FN4: 最終処分 | FR4: 中間処理 | FV4: 最終処分 | FZ4: 中間処理 | GD4: 最終処分 | GH4: 中間処理 | GL4: 最終処分 | GP4: 中間処理 | GT4: 最終処分 | GX4: 中間処理 | HB4: 最終処分 | HF4: 中間処理 | HJ4: 最終処分 | HN4: 中間処理 | HR4: 最終処分 | HV4: 中間処理 | HZ4: 最終処分 | ID4: 中間処理 | IH4: 最終処分
D5: 分別数 | AF5: ペットボトル | AG5: 容器包装プラ | AH5: 白色トレー | AI5: 上記以外のプラ | AJ5: 紙パック | AK5: 紙製容器包装 | AL5: 生ごみ | AM5: 廃食油 | AN5: 剪定枝 | AO5: ペットボトル | AP5: 容器包装プラ | AQ5: 白色トレー | AR5: 上記以外のプラ | AS5: 紙パック | AT5: 紙製容器包装 | AU5: 生ごみ | AV5: 廃食油 | AW5: 剪定枝 | AX5: ペットボトル | AY5: 容器包装プラ | AZ5: 白色トレー | BA5: 上記以外のプラ | BB5: 紙パック | BC5: 紙製容器包装 | BD5: 生ごみ | BE5: 廃食油 | BF5: 剪定枝 | BG5: ペットボトル | BH5: 容器包装プラ | BI5: 白色トレー | BJ5: 上記以外のプラ | BK5: 紙パック | BL5: 紙製容器包装 | BM5: 生ごみ | BN5: 廃食油 | BO5: 剪定枝 | BP5: ペットボトル | BQ5: 容器包装プラ | BR5: 白色トレー | BS5: 上記以外のプラ | BT5: 紙パック | BU5: 紙製容器包装 | BV5: 生ごみ | BW5: 廃食油 | BX5: 剪定枝 | BY5: ペットボトル | BZ5: 容器包装プラ | CA5: 白色トレー | CB5: 上記以外のプラ | CC5: 紙パック | CD5: 紙製容器包装 | CE5: 生ごみ | CF5: 廃食油 | CG5: 剪定枝 | CH5: 直営 | CI5: 委託 | CJ5: 許可 | CK5: 無し | CL5: 直営 | CM5: 委託 | CN5: 許可 | CO5: 無し | CP5: 直営 | CQ5: 委託 | CR5: 許可 | CS5: 無し | CT5: 直営 | CU5: 委託 | CV5: 許可 | CW5: 無し | CX5: 直営 | CY5: 委託 | CZ5: 許可 | DA5: 無し | DB5: 直営 | DC5: 委託 | DD5: 許可 | DE5: 無し | DF5: 直営 | DG5: 委託 | DH5: 許可 | DI5: 無し | DJ5: 直営 | DK5: 委託 | DL5: 許可 | DM5: 無し | DN5: 直営 | DO5: 委託 | DP5: 許可 | DQ5: 無し | DR5: 直営 | DS5: 委託 | DT5: 許可 | DU5: 無し | DV5: 直営 | DW5: 委託 | DX5: 許可 | DY5: 無し | DZ5: 直営 | EA5: 委託 | EB5: 許可 | EC5: 無し | ED5: 直営 | EE5: 委託 | EF5: 許可 | EG5: 無し | EH5: 直営 | EI5: 委託 | EJ5: 許可 | EK5: 無し | EL5: 直営 | EM5: 委託 | EN5: 許可 | EO5: 無し | EP5: 直営 | EQ5: 委託 | ER5: 許可 | ES5: 無し | ET5: 直営 | EU5: 委託 | EV5: 許可 | EW5: 無し | EX5: 直営 | EY5: 委託 | EZ5: 許可 | FA5: 無し | FB5: 直営 | FC5: 委託 | FD5: 許可 | FE5: 無し | FF5: 直営 | FG5: 委託 | FH5: 許可 | FI5: 無し | FJ5: 直営 | FK5: 委託 | FL5: 許可 | FM5: 無し | FN5: 直営 | FO5: 委託 | FP5: 許可 | FQ5: 無し | FR5: 直営 | FS5: 委託 | FT5: 許可 | FU5: 無し | FV5: 直営 | FW5: 委託 | FX5: 許可 | FY5: 無し | FZ5: 直営 | GA5: 委託 | GB5: 許可 | GC5: 無し | GD5: 直営 | GE5: 委託 | GF5: 許可 | GG5: 無し | GH5: 直営 | GI5: 委託 | GJ5: 許可 | GK5: 無し | GL5: 直営 | GM5: 委託 | GN5: 許可 | GO5: 無し | GP5: 直営 | GQ5: 委託 | GR5: 許可 | GS5: 無し | GT5: 直営 | GU5: 委託 | GV5: 許可 | GW5: 無し | GX5: 直営 | GY5: 委託 | GZ5: 許可 | HA5: 無し | HB5: 直営 | HC5: 委託 | HD5: 許可 | HE5: 無し | HF5: 直営 | HG5: 委託 | HH5: 許可 | HI5: 無し | HJ5: 直営 | HK5: 委託 | HL5: 許可 | HM5: 無し | HN5: 直営 | HO5: 委託 | HP5: 許可 | HQ5: 無し | HR5: 直営 | HS5: 委託 | HT5: 許可 | HU5: 無し | HV5: 直営 | HW5: 委託 | HX5: 許可 | HY5: 無し | HZ5: 直営 | IA5: 委託 | IB5: 許可 | IC5: 無し | ID5: 直営 | IE5: 委託 | IF5: 許可 | IG5: 無し | IH5: 直営 | II5: 委託 | IJ5: 許可 | IK5: 無し
A7: ='収集運搬（生活系）'!A7 -> 佐賀県 | B7: ='収集運搬（生活系）'!B7 -> 41000 | C7: 合計 | D7: =COUNTIF(D$8:D$207,"<>") -> 20 | E7: =COUNTIF(E$8:E$207,"○") -> 0 | F7: =COUNTIF(F$8:F$207,"○") -> 0 | G7: =COUNTIF(G$8:G$207,"○") -> 0 | H7: =COUNTIF(H$8:H$207,"○") -> 0 | I7: =COUNTIF(I$8:I$207,"○") -> 0 | J7: =COUNTIF(J$8:J$207,"○") -> 1 | K7: =COUNTIF(K$8:K$207,"○") -> 0 | L7: =COUNTIF(L$8:L$207,"○") -> 0 | ... IK7: =COUNTIF(IK$8:IK$207,"○") -> 3
A8: 佐賀県 | B8: 41201 | C8: 佐賀市 | D8: 14 | R8: ○ | AO8: ○ | AP8: ○ | AQ8: ○ | AR8: ○ | AS8: ○ | AT8: ○ | AU8: ○ | AW8: ○ | BG8: ○ | BI8: ○ | BK8: ○ | BL8: ○ | BN8: ○ | BU8: ○ | CK8: ○ | CO8: ○ | CP8: ○ | CT8: ○ | CX8: ○ | DB8: ○ | DF8: ○ | DJ8: ○ | DN8: ○ | DR8: ○ | DV8: ○ | DZ8: ○ | ED8: ○ | EH8: ○ | EL8: ○ | EP8: ○ | ET8: ○ | EX8: ○ | FB8: ○ | FF8: ○ | FM8: ○ | FQ8: ○ | FU8: ○ | FY8: ○ | FZ8: ○ | GD8: ○ | GK8: ○ | GO8: ○ | GP8: ○ | GW8: ○ | HA8: ○ | HE8: ○ | HG8: ○ | HM8: ○ | HQ8: ○ | HU8: ○ | HW8: ○ | IA8: ○ | ID8: ○ | IH8: ○
A9: 佐賀県 | B9: 41202 | C9: 唐津市 | D9: 19 | W9: ○ | AO9: ○ | AP9: ○ | AQ9: ○ | AR9: ○ | AU9: ○ | AV9: ○ | AW9: ○ | BA9: ○ | BG9: ○ | BK9: ○ | BL9: ○ | BN9: ○ | BT9: ○ | BU9: ○ | CK9: ○ | CO9: ○ | CP9: ○ | CT9: ○ | CX9: ○ | DB9: ○ | DG9: ○ | DM9: ○ | DO9: ○ | DU9: ○ | DW9: ○ | EC9: ○ | ED9: ○ | EE9: ○ | EK9: ○ | EL9: ○ | EM9: ○ | ES9: ○ | EU9: ○ | FA9: ○ | FE9: ○ | FI9: ○ | FM9: ○ | FQ9: ○ | FS9: ○ | FY9: ○ | GA9: ○ | GG9: ○ | GK9: ○ | GO9: ○ | GQ9: ○ | GR9: ○ | GW9: ○ | GZ9: ○ | HE9: ○ | HI9: ○ | HM9: ○ | HO9: ○ | HU9: ○ | HW9: ○ | IC9: ○ | ID9: ○ | IH9: ○
A10: 佐賀県 | B10: 41203 | C10: 鳥栖市 | D10: 22 | Z10: ○ | AO10: ○ | AP10: ○ | AQ10: ○ | AR10: ○ | AS10: ○ | AT10: ○ | AU10: ○ | AV10: ○ | AW10: ○ | BG10: ○ | BH10: ○ | BI10: ○ | BK10: ○ | BL10: ○ | BN10: ○ | BT10: ○ | BU10: ○ | CK10: ○ | CO10: ○ | CP10: ○ | CU10: ○ | CX10: ○ | DC10: ○ | DF10: ○ | DM10: ○ | DN10: ○ | DU10: ○ | DV10: ○ | EC10: ○ | ED10: ○ | EK10: ○ | EL10: ○ | ES10: ○ | ET10: ○ | FA10: ○ | FB10: ○ | FI10: ○ | FJ10: ○ | FQ10: ○ | FU10: ○ | FY10: ○ | FZ10: ○ | GG10: ○ | GJ10: ○ | GO10: ○ | GR10: ○ | GW10: ○ | HA10: ○ | HE10: ○ | HF10: ○ | HM10: ○ | HN10: ○ | HU10: ○ | HY10: ○ | IC10: ○ | ID10: ○ | IK10: ○
A11: 佐賀県 | B11: 41204 | C11: 多久市 | D11: 9 | M11: ○ | AO11: ○ | AP11: ○ | AQ11: ○ | AR11: ○ | AS11: ○ | AT11: ○ | AU11: ○ | AV11: ○ | AW11: ○ | BG11: ○ | BH11: ○ | BI11: ○ | BK11: ○ | BL11: ○ | BO11: ○ | CK11: ○ | CO11: ○ | CP11: ○ | CU11: ○ | DA11: ○ | DE11: ○ | DG11: ○ | DM11: ○ | DO11: ○ | DU11: ○ | DW11: ○ | EC11: ○ | ED11: ○ | EK11: ○ | EL11: ○ | EQ11: ○ | ET11: ○ | FA11: ○ | FB11: ○ | FC11: ○ | FI11: ○ | FJ11: ○ | FK11: ○ | FQ11: ○ | FU11: ○ | FY11: ○ | GC11: ○ | GG11: ○ | GK11: ○ | GO11: ○ | GS11: ○ | GW11: ○ | GZ11: ○ | HE11: ○ | HI11: ○ | HM11: ○ | HQ11: ○ | HU11: ○ | HY11: ○ | IC11: ○ | IG11: ○ | IK11: ○
A12: 佐賀県 | B12: 41205 | C12: 伊万里市 | D12: 9 | M12: ○ | AO12: ○ | AP12: ○ | AQ12: ○ | AR12: ○ | AS12: ○ | AT12: ○ | AU12: ○ | AV12: ○ | AW12: ○ | BG12: ○ | BI12: ○ | BM12: ○ | BN12: ○ | BU12: ○ | CK12: ○ | CO12: ○ | CP12: ○ | CT12: ○ | DA12: ○ | DE12: ○ | DI12: ○ | DM12: ○ | DQ12: ○ | DU12: ○ | DY12: ○ | EC12: ○ | ED12: ○ | EH12: ○ | EL12: ○ | EP12: ○ | ET12: ○ | FA12: ○ | FB12: ○ | FI12: ○ | FM12: ○ | FQ12: ○ | FU12: ○ | FY12: ○ | GC12: ○ | GG12: ○ | GJ12: ○ | GO12: ○ | GR12: ○ | GW12: ○ | HA12: ○ | HE12: ○ | HI12: ○ | HM12: ○ | HO12: ○ | HU12: ○ | HY12: ○ | IC12: ○ | ID12: ○ | IH12: ○
A13: 佐賀県 | B13: 41206 | C13: 武雄市 | D13: 14 | R13: ○ | AO13: ○ | AP13: ○ | AQ13: ○ | AR13: ○ | AS13: ○ | AT13: ○ | AU13: ○ | AV13: ○ | AW13: ○ | BG13: ○ | BH13: ○ | BI13: ○ | BK13: ○ | BL13: ○ | BT13: ○ | BU13: ○ | CK13: ○ | CO13: ○ | CP13: ○ | CT13: ○ | CX13: ○ | DB13: ○ | DH13: ○ | DM13: ○ | DP13: ○ | DU13: ○ | DX13: ○ | EC13: ○ | ED13: ○ | EK13: ○ | EL13: ○ | ES13: ○ | ET13: ○ | FA13: ○ | FC13: ○ | FI13: ○ | FK13: ○ | FQ13: ○ | FU13: ○ | FY13: ○ | GA13: ○ | GG13: ○ | GK13: ○ | GO13: ○ | GS13: ○ | GW13: ○ | HA13: ○ | HE13: ○ | HI13: ○ | HM13: ○ | HO13: ○ | HU13: ○ | HW13: ○ | IC13: ○ | ID13: ○ | IH13: ○
A14: 佐賀県 | B14: 41207 | C14: 鹿島市 | D14: 17 | U14: ○ | AR14: ○ | AU14: ○ | AV14: ○ | AW14: ○ | BG14: ○ | BH14: ○ | BI14: ○ | BJ14: ○ | BK14: ○ | BL14: ○ | BM14: ○ | CK14: ○ | CO14: ○ | CQ14: ○ | CU14: ○ | CY14: ○ | DC14: ○ | DI14: ○ | DK14: ○ | DO14: ○ | DU14: ○ | DW14: ○ | EC14: ○ | EE14: ○ | EK14: ○ | EM14: ○ | ES14: ○ | EU14: ○ | FA14: ○ | FC14: ○ | FI14: ○ | FK14: ○ | FQ14: ○ | FS14: ○ | FY14: ○ | GA14: ○ | GG14: ○ | GI14: ○ | GO14: ○ | GS14: ○ | GW14: ○ | HA14: ○ | HE14: ○ | HI14: ○ | HM14: ○ | HQ14: ○ | HU14: ○ | HY14: ○ | IC14: ○ | IE14: ○ | II14: ○
A15: 佐賀県 | B15: 41208 | C15: 小城市 | D15: 16 | T15: ○ | AO15: ○ | AP15: ○ | AQ15: ○ | AR15: ○ | AS15: ○ | AT15: ○ | AU15: ○ | AV15: ○ | AW15: ○ | BG15: ○ | BH15: ○ | BI15: ○ | BJ15: ○ | BK15: ○ | BL15: ○ | BN15: ○ | BO15: ○ | BU15: ○ | CK15: ○ | CO15: ○ | CQ15: ○ | CU15: ○ | CY15: ○ | DC15: ○ | DG15: ○ | DM15: ○ | DO15: ○ | DU15: ○ | DW15: ○ | EC15: ○ | EE15: ○ | EK15: ○ | EM15: ○ | ES15: ○ | EU15: ○ | FA15: ○ | FC15: ○ | FI15: ○ | FK15: ○ | FQ15: ○ | FS15: ○ | FY15: ○ | GA15: ○ | GG15: ○ | GK15: ○ | GO15: ○ | GQ15: ○ | GW15: ○ | GY15: ○ | HE15: ○ | HI15: ○ | HM15: ○ | HQ15: ○ | HU15: ○ | HY15: ○ | IC15: ○ | IE15: ○ | II15: ○
A16: 佐賀県 | B16: 41209 | C16: 嬉野市 | D16: 16 | T16: ○ | AO16: ○ | AP16: ○ | AQ16: ○ | AR16: ○ | AS16: ○ | AT16: ○ | AU16: ○ | AW16: ○ | BG16: ○ | BH16: ○ | BI16: ○ | BJ16: ○ | BK16: ○ | BL16: ○ | CF16: ○ | CK16: ○ | CO16: ○ | CP16: ○ | CT16: ○ | CX16: ○ | DB16: ○ | DG16: ○ | DK16: ○ | DO16: ○ | DS16: ○ | DW16: ○ | EA16: ○ | EE16: ○ | EI16: ○ | EM16: ○ | EQ16: ○ | EU16: ○ | EY16: ○ | FC16: ○ | FG16: ○ | FK16: ○ | FO16: ○ | FS16: ○ | FW16: ○ | GA16: ○ | GE16: ○ | GK16: ○ | GO16: ○ | GS16: ○ | GW16: ○ | HA16: ○ | HE16: ○ | HG16: ○ | HK16: ○ | HQ16: ○ | HU16: ○ | HY16: ○ | IC16: ○ | ID16: ○ | IH16: ○
A17: 佐賀県 | B17: 41210 | C17: 神埼市 | D17: 10 | N17: ○ | AP17: ○ | AR17: ○ | AT17: ○ | AU17: ○ | AW17: ○ | BG17: ○ | BI17: ○ | BK17: ○ | CF17: ○ | CK17: ○ | CO17: ○ | CP17: ○ | CT17: ○ | CX17: ○ | DB17: ○ | DF17: ○ | DM17: ○ | DN17: ○ | DU17: ○ | DY17: ○ | EC17: ○ | ED17: ○ | EK17: ○ | EL17: ○ | ES17: ○ | ET17: ○ | FA17: ○ | FB17: ○ | FI17: ○ | FM17: ○ | FQ17: ○ | FU17: ○ | FY17: ○ | GC17: ○ | GG17: ○ | GK17: ○ | GO17: ○ | GS17: ○ | GW17: ○ | HA17: ○ | HE17: ○ | HI17: ○ | HM17: ○ | HQ17: ○ | HU17: ○ | HY17: ○ | IC17: ○ | ID17: ○ | IH17: ○
A18: 佐賀県 | B18: 41327 | C18: 吉野ヶ里町 | D18: 10 | N18: ○ | AP18: ○ | AR18: ○ | AT18: ○ | AU18: ○ | AV18: ○ | AW18: ○ | BG18: ○ | BH18: ○ | BI18: ○ | BJ18: ○ | BK18: ○ | BL18: ○ | BN18: ○ | BU18: ○ | CK18: ○ | CO18: ○ | CP18: ○ | CT18: ○ | CX18: ○ | DB18: ○ | DF18: ○ | DM18: ○ | DN18: ○ | DR18: ○ | DV18: ○ | EC18: ○ | ED18: ○ | EK18: ○ | EL18: ○ | ES18: ○ | ET18: ○ | FA18: ○ | FB18: ○ | FI18: ○ | FJ18: ○ | FQ18: ○ | FU18: ○ | FY18: ○ | GC18: ○ | GG18: ○ | GK18: ○ | GO18: ○ | GS18: ○ | GW18: ○ | HA18: ○ | HE18: ○ | HI18: ○ | HM18: ○ | HN18: ○ | HU18: ○ | HY18: ○ | IC18: ○ | ID18: ○ | IH18: ○
A19: 佐賀県 | B19: 41341 | C19: 基山町 | D19: 16 | T19: ○ | AP19: ○ | AR19: ○ | AU19: ○ | AW19: ○ | BG19: ○ | BI19: ○ | BK19: ○ | BL19: ○ | BN19: ○ | CK19: ○ | CO19: ○ | CP19: ○ | CU19: ○ | CX19: ○ | DE19: ○ | DI19: ○ | DM19: ○ | DQ19: ○ | DU19: ○ | DY19: ○ | EC19: ○ | ED19: ○ | EK19: ○ | EL19: ○ | ES19: ○ | EW19: ○ | FA19: ○ | FE19: ○ | FI19: ○ | FM19: ○ | FQ19: ○ | FU19: ○ | FY19: ○ | GC19: ○ | GG19: ○ | GK19: ○ | GO19: ○ | GS19: ○ | GW19: ○ | HA19: ○ | HE19: ○ | HF19: ○ | HM19: ○ | HN19: ○ | HU19: ○ | HV19: ○ | IC19: ○ | ID19: ○ | IK19: ○
A20: 佐賀県 | B20: 41345 | C20: 上峰町 | D20: 20 | X20: ○ | AO20: ○ | AP20: ○ | AQ20: ○ | AR20: ○ | AS20: ○ | AT20: ○ | AU20: ○ | AV20: ○ | AW20: ○ | BG20: ○ | BH20: ○ | BI20: ○ | BK20: ○ | BL20: ○ | BN20: ○ | CK20: ○ | CO20: ○ | CP20: ○ | CT20: ○ | CX20: ○ | DB20: ○ | DF20: ○ | DJ20: ○ | DN20: ○ | DR20: ○ | DV20: ○ | DZ20: ○ | ED20: ○ | EH20: ○ | EL20: ○ | EP20: ○ | ET20: ○ | EX20: ○ | FB20: ○ | FF20: ○ | FJ20: ○ | FN20: ○ | FU20: ○ | FY20: ○ | FZ20: ○ | GD20: ○ | GK20: ○ | GO20: ○ | GP20: ○ | GT20: ○ | HA20: ○ | HE20: ○ | HI20: ○ | HM20: ○ | HN20: ○ | HR20: ○ | HY20: ○ | IC20: ○ | ID20: ○ | IH20: ○
A21: 佐賀県 | B21: 41346 | C21: みやき町 | D21: 20 | X21: ○ | AO21: ○ | AP21: ○ | AQ21: ○ | AR21: ○ | AS21: ○ | AT21: ○ | AU21: ○ | AV21: ○ | AW21: ○ | BG21: ○ | BH21: ○ | BI21: ○ | BK21: ○ | BN21: ○ | CK21: ○ | CO21: ○ | CP21: ○ | CU21: ○ | CX21: ○ | DC21: ○ | DI21: ○ | DM21: ○ | DN21: ○ | DS21: ○ | DY21: ○ | EC21: ○ | EG21: ○ | EK21: ○ | EO21: ○ | ES21: ○ | ET21: ○ | EY21: ○ | FB21: ○ | FG21: ○ | FJ21: ○ | FO21: ○ | FU21: ○ | FY21: ○ | FZ21: ○ | GE21: ○ | GK21: ○ | GO21: ○ | GP21: ○ | GU21: ○ | HA21: ○ | HE21: ○ | HF21: ○ | HK21: ○ | HN21: ○ | HS21: ○ | HV21: ○ | IA21: ○ | ID21: ○ | II21: ○
A22: 佐賀県 | B22: 41387 | C22: 玄海町 | D22: 6 | J22: ○ | AP22: ○ | AQ22: ○ | AR22: ○ | AS22: ○ | AT22: ○ | AU22: ○ | AV22: ○ | AW22: ○ | BG22: ○ | CK22: ○ | CO22: ○ | CQ22: ○ | CU22: ○ | CY22: ○ | DC22: ○ | DI22: ○ | DM22: ○ | DQ22: ○ | DU22: ○ | DY22: ○ | EC22: ○ | EE22: ○ | EI22: ○ | EM22: ○ | EQ22: ○ | EU22: ○ | EY22: ○ | FE22: ○ | FI22: ○ | FM22: ○ | FQ22: ○ | FU22: ○ | FY22: ○ | GC22: ○ | GG22: ○ | GK22: ○ | GO22: ○ | GS22: ○ | GW22: ○ | HA22: ○ | HE22: ○ | HG22: ○ | HK22: ○ | HO22: ○ | HS22: ○ | HY22: ○ | IC22: ○ | IE22: ○ | II22: ○
A23: 佐賀県 | B23: 41401 | C23: 有田町 | D23: 13 | Q23: ○ | AP23: ○ | AQ23: ○ | AR23: ○ | AS23: ○ | AT23: ○ | AU23: ○ | AV23: ○ | AW23: ○ | BG23: ○ | BK23: ○ | BL23: ○ | BN23: ○ | BO23: ○ | BT23: ○ | BU23: ○ | CK23: ○ | CO23: ○ | CP23: ○ | CT23: ○ | CX23: ○ | DB23: ○ | DG23: ○ | DK23: ○ | DO23: ○ | DS23: ○ | DW23: ○ | EA23: ○ | ED23: ○ | EH23: ○ | EL23: ○ | EP23: ○ | ET23: ○ | EX23: ○ | FE23: ○ | FI23: ○ | FM23: ○ | FQ23: ○ | FU23: ○ | FY23: ○ | GC23: ○ | GG23: ○ | GK23: ○ | GO23: ○ | GS23: ○ | GW23: ○ | GX23: ○ | HB23: ○ | HI23: ○ | HM23: ○ | HQ23: ○ | HU23: ○ | HW23: ○ | IA23: ○ | ID23: ○ | IH23: ○
A24: 佐賀県 | B24: 41423 | C24: 大町町 | D24: 11 | O24: ○ | AQ24: ○ | AR24: ○ | AU24: ○ | AV24: ○ | AW24: ○ | BG24: ○ | BH24: ○ | BI24: ○ | BK24: ○ | BL24: ○ | BT24: ○ | CK24: ○ | CO24: ○ | CP24: ○ | CT24: ○ | CX24: ○ | DB24: ○ | DG24: ○ | DM24: ○ | DO24: ○ | DU24: ○ | DW24: ○ | EC24: ○ | EE24: ○ | EK24: ○ | EL24: ○ | EM24: ○ | EP24: ○ | ET24: ○ | EU24: ○ | EX24: ○ | FB24: ○ | FC24: ○ | FF24: ○ | FJ24: ○ | FK24: ○ | FN24: ○ | FU24: ○ | FY24: ○ | GA24: ○ | GG24: ○ | GK24: ○ | GO24: ○ | GS24: ○ | GW24: ○ | HA24: ○ | HE24: ○ | HI24: ○ | HM24: ○ | HO24: ○ | HS24: ○ | HY24: ○ | IC24: ○ | ID24: ○ | IH24: ○
A25: 佐賀県 | B25: 41424 | C25: 江北町 | D25: 17 | U25: ○ | AO25: ○ | AP25: ○ | AQ25: ○ | AR25: ○ | AS25: ○ | AT25: ○ | AU25: ○ | AV25: ○ | AW25: ○ | BG25: ○ | BH25: ○ | BI25: ○ | BK25: ○ | BL25: ○ | BM25: ○ | BO25: ○ | CK25: ○ | CO25: ○ | CP25: ○ | CT25: ○ | CX25: ○ | DB25: ○ | DF25: ○ | DJ25: ○ | DN25: ○ | DR25: ○ | DV25: ○ | DZ25: ○ | ED25: ○ | EH25: ○ | EL25: ○ | EP25: ○ | ET25: ○ | EX25: ○ | FB25: ○ | FF25: ○ | FJ25: ○ | FN25: ○ | FR25: ○ | FV25: ○ | FZ25: ○ | GD25: ○ | GJ25: ○ | GO25: ○ | GS25: ○ | GW25: ○ | GX25: ○ | HB25: ○ | HI25: ○ | HM25: ○ | HQ25: ○ | HU25: ○ | HY25: ○ | IC25: ○ | ID25: ○ | IH25: ○
A26: 佐賀県 | B26: 41425 | C26: 白石町 | D26: 14 | R26: ○ | AP26: ○ | AQ26: ○ | AR26: ○ | AU26: ○ | AV26: ○ | BG26: ○ | BK26: ○ | BL26: ○ | BO26: ○ | BT26: ○ | BU26: ○ | CK26: ○ | CO26: ○ | CP26: ○ | CT26: ○ | CX26: ○ | DB26: ○ | DG26: ○ | DM26: ○ | DO26: ○ | DU26: ○ | DW26: ○ | EC26: ○ | EE26: ○ | EK26: ○ | EM26: ○ | ES26: ○ | EU26: ○ | FA26: ○ | FC26: ○ | FF26: ○ | FK26: ○ | FN26: ○ | FS26: ○ | FV26: ○ | GA26: ○ | GG26: ○ | GK26: ○ | GO26: ○ | GS26: ○ | GW26: ○ | GY26: ○ | HC26: ○ | HI26: ○ | HM26: ○ | HO26: ○ | HU26: ○ | HY26: ○ | IC26: ○ | ID26: ○ | IH26: ○
A27: 佐賀県 | B27: 41441 | C27: 太良町 | D27: 10 | N27: ○ | AU27: ○ | AV27: ○ | AW27: ○ | BG27: ○ | BH27: ○ | BI27: ○ | BJ27: ○ | BK27: ○ | BL27: ○ | CK27: ○ | CO27: ○ | CP27: ○ | CT27: ○ | CX27: ○ | DB27: ○ | DF27: ○ | DJ27: ○ | DN27: ○ | DR27: ○ | DV27: ○ | DZ27: ○ | ED27: ○ | EH27: ○ | EL27: ○ | EP27: ○ | ET27: ○ | EX27: ○ | FB27: ○ | FF27: ○ | FJ27: ○ | FN27: ○ | FR27: ○ | FV27: ○ | GC27: ○ | GG27: ○ | GK27: ○ | GO27: ○ | GS27: ○ | GW27: ○ | HA27: ○ | HE27: ○ | HI27: ○ | HM27: ○ | HQ27: ○ | HU27: ○ | HY27: ○ | IC27: ○ | ID27: ○ | IH27: ○

Sheet 手数料（生活系）
A1: ごみ手数料の状況【生活系ごみ】（平成29年度実績）
A2: 都道府県名 | B2: 地方公共団体コード | C2: 市区町村名 | D2: 混合ごみ | O2: 可燃ごみ | Z2: 不燃ごみ | AK2: 資源ごみ | GT2: その他収集ごみ | HE2: 粗大ごみ
AK3: 紙類（紙パック、紙製容器包装を除く） | AV3: 紙パック | BG3: 紙製容器包装 | BR3: 金属類 | CC3: ガラス類 | CN3: ペットボトル | CY3: 白色トレイ | DJ3: 容器包装プラスチック（白色トレイを除く） | DU3: プラスチック類（白色トレイ、容器包装プラスチックを除く） | EF3: 布類 | EQ3: 生ごみ | FB3: 廃食用油 | FM3: 剪定枝 | FX3: 小型家電 | GI3: その他
D4: 手数料 | H4: 徴収方法 | O4: 手数料 | S4: 徴収方法 | Z4: 手数料 | AD4: 徴収方法 | AK4: 手数料 | AO4: 徴収方法 | AV4: 手数料 | AZ4: 徴収方法 | BG4: 手数料 | BK4: 徴収方法 | BR4: 手数料 | BV4: 徴収方法 | CC4: 手数料 | CG4: 徴収方法 | CN4: 手数料 | CR4: 徴収方法 | CY4: 手数料 | DC4: 徴収方法 | DJ4: 手数料 | DN4: 徴収方法 | DU4: 手数料 | DY4: 徴収方法 | EF4: 手数料 | EJ4: 徴収方法 | EQ4: 手数料 | EU4: 徴収方法 | FB4: 手数料 | FF4: 徴収方法 | FM4: 手数料 | FQ4: 徴収方法 | FX4: 手数料 | GB4: 徴収方法 | GI4: 手数料 | GM4: 徴収方法 | GT4: 手数料 | GX4: 徴収方法 | HE4: 手数料 | HI4: 徴収方法
H5: 排出量単純比例型 | I5: 排出量多段階比例型 | J5: 一定量無料型 | K5: 負担補助組合せ型 | L5: 定額制従量制併用型 | N5: その他 | S5: 排出量単純比例型 | T5: 排出量多段階比例型 | U5: 一定量無料型 | V5: 負担補助組合せ型 | W5: 定額制従量制併用型 | Y5: その他 | AD5: 排出量単純比例型 | AE5: 排出量多段階比例型 | AF5: 一定量無料型 | AG5: 負担補助組合せ型 | AH5: 定額制従量制併用型 | AJ5: その他 | AO5: 排出量単純比例型 | AP5: 排出量多段階比例型 | AQ5: 一定量無料型 | AR5: 負担補助組合せ型 | AS5: 定額制従量制併用型 | AU5: その他 | AZ5: 排出量単純比例型 | BA5: 排出量多段階比例型 | BB5: 一定量無料型 | BC5: 負担補助組合せ型 | BD5: 定額制従量制併用型 | BF5: その他 | BK5: 排出量単純比例型 | BL5: 排出量多段階比例型 | BM5: 一定量無料型 | BN5: 負担補助組合せ型 | BO5: 定額制従量制併用型 | BQ5: その他 | BV5: 排出量単純比例型 | BW5: 排出量多段階比例型 | BX5: 一定量無料型 | BY5: 負担補助組合せ型 | BZ5: 定額制従量制併用型 | CB5: その他 | CG5: 排出量単純比例型 | CH5: 排出量多段階比例型 | CI5: 一定量無料型 | CJ5: 負担補助組合せ型 | CK5: 定額制従量制併用型 | CM5: その他 | CR5: 排出量単純比例型 | CS5: 排出量多段階比例型 | CT5: 一定量無料型 | CU5: 負担補助組合せ型 | CV5: 定額制従量制併用型 | CX5: その他 | DC5: 排出量単純比例型 | DD5: 排出量多段階比例型 | DE5: 一定量無料型 | DF5: 負担補助組合せ型 | DG5: 定額制従量制併用型 | DI5: その他 | DN5: 排出量単純比例型 | DO5: 排出量多段階比例型 | DP5: 一定量無料型 | DQ5: 負担補助組合せ型 | DR5: 定額制従量制併用型 | DT5: その他 | DY5: 排出量単純比例型 | DZ5: 排出量多段階比例型 | EA5: 一定量無料型 | EB5: 負担補助組合せ型 | EC5: 定額制従量制併用型 | EE5: その他 | EJ5: 排出量単純比例型 | EK5: 排出量多段階比例型 | EL5: 一定量無料型 | EM5: 負担補助組合せ型 | EN5: 定額制従量制併用型 | EP5: その他 | EU5: 排出量単純比例型 | EV5: 排出量多段階比例型 | EW5: 一定量無料型 | EX5: 負担補助組合せ型 | EY5: 定額制従量制併用型 | FA5: その他 | FF5: 排出量単純比例型 | FG5: 排出量多段階比例型 | FH5: 一定量無料型 | FI5: 負担補助組合せ型 | FJ5: 定額制従量制併用型 | FL5: その他 | FQ5: 排出量単純比例型 | FR5: 排出量多段階比例型 | FS5: 一定量無料型 | FT5: 負担補助組合せ型 | FU5: 定額制従量制併用型 | FW5: その他 | GB5: 排出量単純比例型 | GC5: 排出量多段階比例型 | GD5: 一定量無料型 | GE5: 負担補助組合せ型 | GF5: 定額制従量制併用型 | GH5: その他 | GM5: 排出量単純比例型 | GN5: 排出量多段階比例型 | GO5: 一定量無料型 | GP5: 負担補助組合せ型 | GQ5: 定額制従量制併用型 | GS5: その他 | GX5: 排出量単純比例型 | GY5: 排出量多段階比例型 | GZ5: 一定量無料型 | HA5: 負担補助組合せ型 | HB5: 定額制従量制併用型 | HD5: その他 | HI5: 排出量単純比例型 | HJ5: 排出量多段階比例型 | HK5: 一定量無料型 | HL5: 負担補助組合せ型 | HM5: 定額制従量制併用型 | HO5: その他
