{"text_format":"3","workbook":"xlsx","n_sheets":7,"sheets":["廃棄物事業経費（市町村）","廃棄物事業経費（組合）","廃棄物事業経費（歳入）","廃棄物事業経費（歳出）","組合分担金内訳","市町村分担金内訳","経費集計"],"not_rendered":{"defined_names":19},"read":"whole","date_system":"1900"}

{"sheet":"廃棄物事業経費（市町村）","index":0,"n_rows":33,"n_cols":114,"rows_kept":33,"merged":[[1,0,5,0],[1,1,5,1],[1,2,5,2],[3,37,4,37],[3,65,4,65],[3,93,4,93]]}
["廃棄物処理事業経費（市区町村の合計）（平成28年度実績）"]
["都道府県名","地方公共団体コード","市区町村名","ごみ",{"$nulls":8},"し尿",{"$nulls":8},"合計",{"$nulls":8},"ごみ（建設改良費＋処理維持管理費＋その他）（組合分担金を除く）",{"$nulls":27},"し尿（建設改良費＋処理維持管理費＋その他）（組合分担金を除く）",{"$nulls":27},"合計（建設改良費＋処理維持管理費＋その他）（組合分担金を除く）"]
[{"$nulls":3},"合計 (特定財源(市区町村分担金を除く)+一般財源)",{"$nulls":8},"合計 (特定財源(市区町村分担金を除く)+一般財源)",{"$nulls":8},"合計 (特定財源(市区町村分担金を除く)+一般財源)",{"$nulls":8},"建設改良費 (工事費+調査費)(組合分担金を除く)",{"$nulls":7},"処理及び維持管理費 (人件費+処理費+車両購入費+委託費+調査研究費)(組合分担金を除く)",{"$nulls":17},"その他","合計","建設改良費 (工事費+調査費)(組合分担金を除く)",{"$nulls":7},"処理及び維持管理費 (人件費+処理費+車両購入費+委託費+調査研究費)(組合分担金を除く)",{"$nulls":17},"その他","合計","建設改良費 (工事費+調査費)(組合分担金を除く)",{"$nulls":7},"処理及び維持管理費 (人件費+処理費+車両購入費+委託費+調査研究費)(組合分担金を除く)",{"$nulls":17},"その他","合計"]
[{"$nulls":4},"特定財源 (市区町村分担金を除く)",{"$nulls":6},"一般財源",null,"特定財源 (市区町村分担金を除く)",{"$nulls":6},"一般財源",null,"特定財源 (市区町村分担金を除く)",{"$nulls":6},"一般財源","合計","工事費 (中間処理施設+最終処分場+その他)",{"$nulls":4},"調査費","（建設改良費組合分担金）","合計","人件費（一般職＋収集運搬＋中間処理＋最終処分）",{"$nulls":4},"処理費 (収集運搬費+中間処理費+最終処分費)",{"$nulls":3},"車両等購入費","委託費 (収集運搬費+中間処理費+最終処分費+その他)",{"$nulls":4},"(組合分担金)","調査研究費",null,null,"合計","工事費 (中間処理施設+最終処分場+その他)",{"$nulls":4},"調査費","（建設改良費組合分担金）","合計","人件費（一般職＋収集運搬＋中間処理＋最終処分）",{"$nulls":4},"処理費 (収集運搬費+中間処理費+最終処分費)",{"$nulls":3},"車両等購入費","委託費 (収集運搬費+中間処理費+最終処分費+その他)",{"$nulls":4},"(組合分担金)","調査研究費",null,null,"合計","工事費 (中間処理施設+最終処分場+その他)",{"$nulls":4},"調査費","（建設改良費組合分担金）","合計","人件費（一般職＋収集運搬＋中間処理＋最終処分）",{"$nulls":4},"処理費 (収集運搬費+中間処理費+最終処分費)",{"$nulls":3},"車両等購入費","委託費 (収集運搬費+中間処理費+最終処分費+その他)",{"$nulls":4},"(組合分担金)","調査研究費"]
[{"$nulls":5},"国庫支出金","都道府県\n支出金","地方債","使用料及び\n手数料","（市区町村\n分担金）","その他",{"$nulls":3},"国庫支出金","都道府県\n支出金","地方債","使用料及び\n手数料","（市区町村\n分担金）","その他",{"$nulls":3},"国庫支出金","都道府県\n支出金","地方債","使用料及び\n手数料","（市区町村\n分担金）","その他",null,null,"合計","収集運搬施設","中間処理施設","最終処分場","その他",{"$nulls":4},"一般職","収集運搬","中間処理","最終処分","合計","収集運搬費","中間処理費","最終処分費",null,null,"収集運搬費","中間処理費","最終処分費","その他",{"$nulls":5},"合計","収集運搬施設","中間処理施設","最終処分場","その他",{"$nulls":4},"一般職","収集運搬","中間処理","最終処分","合計","収集運搬費","中間処理費","最終処分費",null,null,"収集運搬費","中間処理費","最終処分費","その他",{"$nulls":5},"合計","収集運搬施設","中間処理施設","最終処分場","その他",{"$nulls":4},"一般職","収集運搬","中間処理","最終処分","合計","収集運搬費","中間処理費","最終処分費",null,null,"収集運搬費","中間処理費","最終処分費","その他"]
[{"$nulls":3},"（千円）","（千円）","（千円）","（千円）","（千円）","（千円）","（千円）","（千円）","（千円）","（千円）","（千円）","（千円）","（千円）","（千円）","（千円）","（千円）","（千円）","（千円）","（千円）","（千円）","（千円）","（千円）","（千円）","（千円）","（千円）","（千円）","（千円）","（千円）","（千円）","（千円）","（千円）","（千円）","（千円）","（千円）","（千円）","（千円）","（千円）","（千円）","（千円）","（千円）","（千円）","（千円）","（千円）","（千円）","（千円）","（千円）","（千円）","（千円）","（千円）","（千円）","（千円）","（千円）","（千円）","（千円）","（千円）","（千円）","（千円）","（千円）","（千円）","（千円）","（千円）","（千円）","（千円）","（千円）","（千円）","（千円）","（千円）","（千円）","（千円）","（千円）","（千円）","（千円）","（千円）","（千円）","（千円）","（千円）","（千円）","（千円）","（千円）","（千円）","（千円）","（千円）","（千円）","（千円）","（千円）","（千円）","（千円）","（千円）","（千円）","（千円）","（千円）","（千円）","（千円）","（千円）","（千円）","（千円）","（千円）","（千円）","（千円）","（千円）","（千円）","（千円）","（千円）","（千円）","（千円）","（千円）","（千円）","（千円）","（千円）","（千円）","（千円）"]
["京都府","26000","合計",{"$f":"SUM(E7,+L7)","v":{"v":43578115,"d":"43,578,115"}},{"$f":"SUM(F7:I7,K7)","v":{"v":16358806,"d":"16,358,806"}},{"$f":"SUM(F$8:F$1000)","v":{"v":3132101,"d":"3,132,101"}},{"v":68227,"d":"68,227"},{"v":3652000,"d":"3,652,000"},{"v":5133449,"d":"5,133,449"},"-",{"v":4373029,"d":"4,373,029"},{"v":27219309,"d":"27,219,309"},{"$f":"SUM(N7,+U7)","v":{"v":4824203,"d":"4,824,203"}},{"$f":"SUM(O7:R7,T7)","v":{"v":1320797,"d":"1,320,797"}},{"$f":"SUM(O$8:O$1000)","v":{"v":224384,"d":"224,384"}},{"v":6817,"d":"6,817"},{"v":257998,"d":"257,998"},{"v":800591,"d":"800,591"},"-",{"v":31007,"d":"31,007"},{"v":3503406,"d":"3,503,406"},{"$f":"+SUM(D7,M7)","v":{"v":48402318,"d":"48,402,318"}},{"v":17679603,"d":"17,679,603"},{"v":3356485,"d":"3,356,485"},{"v":75044,"d":"75,044"},{"v":3909998,"d":"3,909,998"},{"v":5934040,"d":"5,934,040"},{"$f":"IF(+SUM(J7,S7)=0,\"-\",+SUM(J7,S7))","v":"-"},{"$f":"+SUM(K7,T7)","v":{"v":4404036,"d":"4,404,036"}},{"$f":"+SUM(L7,U7)","v":{"v":30722715,"d":"30,722,715"}},{"$f":"SUM(AF7,+AK7)","v":{"v":10662724,"d":"10,662,724"}},{"$f":"SUM(AG7:AJ7)","v":{"v":9890305,"d":"9,890,305"}},{"$f":"SUM(AG$8:AG$1000)","v":0},{"v":9409774,"d":"9,409,774"},{"v":173517,"d":"173,517"},{"v":307014,"d":"307,014"},{"v":772419,"d":"772,419"},{"v":1666081,"d":"1,666,081"},{"$f":"SUM(AN7,AS7,AW7,AX7,BD7)","v":{"v":26233509,"d":"26,233,509"}},{"$f":"SUM(AO7:AR7)","v":{"v":10610423,"d":"10,610,423"}},{"$f":"SUM(AO$8:AO$1000)","v":{"v":2053177,"d":"2,053,177"}},{"$f":"SUM(AP$8:AP$1000)","v":{"v":6084764,"d":"6,084,764"}},{"$f":"SUM(AQ$8:AQ$1000)","v":{"v":2271830,"d":"2,271,830"}},{"$f":"SUM(AR$8:AR$1000)","v":{"v":200652,"d":"200,652"}},{"$f":"SUM(AT7:AV7)","v":{"v":6797174,"d":"6,797,174"}},{"$f":"SUM(AT$8:AT$1000)","v":{"v":1348247,"d":"1,348,247"}},{"$f":"SUM(AU$8:AU$1000)","v":{"v":4523660,"d":"4,523,660"}},{"$f":"SUM(AV$8:AV$1000)","v":{"v":925267,"d":"925,267"}},{"$f":"SUM(AW$8:AW$1000)","v":{"v":152731,"d":"152,731"}},{"$f":"SUM(AY7:BB7)","v":{"v":8648539,"d":"8,648,539"}},{"$f":"SUM(AY$8:AY$1000)","v":{"v":5642871,"d":"5,642,871"}},{"v":2533990,"d":"2,533,990"},{"v":327271,"d":"327,271"},{"v":144407,"d":"144,407"},{"v":2994671,"d":"2,994,671"},{"v":24642,"d":"24,642"},{"v":2021130,"d":"2,021,130"},{"$f":"SUM(AE7,+AM7,+BE7)","v":{"v":38917363,"d":"38,917,363"}},{"$f":"SUM(BH7,+BM7)","v":{"v":835619,"d":"835,619"}},{"$f":"SUM(BI7:BL7)","v":{"v":835619,"d":"835,619"}},{"$f":"SUM(BI$8:BI$1000)","v":0},{"v":703041,"d":"703,041"},{"v":11200,"d":"11,200"},{"v":121378,"d":"121,378"},0,{"v":97234,"d":"97,234"},{"$f":"SUM(BP7,BU7,BY7,BZ7,CF7)","v":{"v":2362185,"d":"2,362,185"}},{"$f":"SUM(BQ7:BT7)","v":{"v":405727,"d":"405,727"}},{"$f":"SUM(BQ$8:BQ$1000)","v":{"v":231703,"d":"231,703"}},{"$f":"SUM(BR$8:BR$1000)","v":{"v":148774,"d":"148,774"}},{"$f":"SUM(BS$8:BS$1000)","v":{"v":25250,"d":"25,250"}},{"$f":"SUM(BT$8:BT$1000)","v":0},{"$f":"SUM(BV7:BX7)","v":{"v":348616,"d":"348,616"}},{"$f":"SUM(BV$8:BV$1000)","v":{"v":91032,"d":"91,032"}},{"$f":"SUM(BW$8:BW$1000)","v":{"v":257584,"d":"257,584"}},{"$f":"SUM(BX$8:BX$1000)","v":0},{"$f":"SUM(BY$8:BY$1000)","v":{"v":9666,"d":"9,666"}},{"$f":"SUM(CA7:CD7)","v":{"v":1598176,"d":"1,598,176"}},{"$f":"SUM(CA$8:CA$1000)","v":{"v":1043389,"d":"1,043,389"}},{"v":361441,"d":"361,441"},{"v":12606,"d":"12,606"},{"v":180740,"d":"180,740"},{"v":1398047,"d":"1,398,047"},0,{"v":131118,"d":"131,118"},{"$f":"SUM(BG7,+BO7,+CG7)","v":{"v":3328922,"d":"3,328,922"}},{"$f":"SUM(AE7,+BG7)","v":{"v":11498343,"d":"11,498,343"}},{"v":10725924,"d":"10,725,924"},0,{"v":10112815,"d":"10,112,815"},{"v":184717,"d":"184,717"},{"v":428392,"d":"428,392"},{"v":772419,"d":"772,419"},{"v":1763315,"d":"1,763,315"},{"v":28595694,"d":"28,595,694"},{"v":11016150,"d":"11,016,150"},{"v":2284880,"d":"2,284,880"},{"v":6233538,"d":"6,233,538"},{"v":2297080,"d":"2,297,080"},{"v":200652,"d":"200,652"},{"v":7145790,"d":"7,145,790"},{"v":1439279,"d":"1,439,279"},{"v":4781244,"d":"4,781,244"},{"v":925267,"d":"925,267"},{"v":162397,"d":"162,397"},{"v":10246715,"d":"10,246,715"},{"v":6686260,"d":"6,686,260"},{"v":2895431,"d":"2,895,431"},{"v":339877,"d":"339,877"},{"v":325147,"d":"325,147"},{"v":4392718,"d":"4,392,718"},{"v":24642,"d":"24,642"},{"v":2152248,"d":"2,152,248"},{"v":42246285,"d":"42,246,285"}]
["京都府","26100","京都市",{"$f":"SUM(E8,+L8)","v":{"v":22994933,"d":"22,994,933"}},{"$f":"SUM(F8:I8,K8)","v":{"v":13928596,"d":"13,928,596"}},{"v":2784851,"d":"2,784,851"},0,{"v":2912000,"d":"2,912,000"},{"v":4049530,"d":"4,049,530"},"-",{"v":4182215,"d":"4,182,215"},{"v":9066337,"d":"9,066,337"},{"$f":"SUM(N8,+U8)","v":{"v":817474,"d":"817,474"}},{"$f":"SUM(O8:R8,T8)","v":{"v":77531,"d":"77,531"}},0,0,0,{"v":75454,"d":"75,454"},"-",{"v":2077,"d":"2,077"},{"v":739943,"d":"739,943"},{"$f":"+SUM(D8,M8)","v":{"v":23812407,"d":"23,812,407"}},{"$f":"+SUM(E8,N8)","v":{"v":14006127,"d":"14,006,127"}},{"$f":"+SUM(F8,O8)","v":{"v":2784851,"d":"2,784,851"}},{"$f":"+SUM(G8,P8)","v":0},{"$f":"+SUM(H8,Q8)","v":{"v":2912000,"d":"2,912,000"}},{"$f":"+SUM(I8,R8)","v":{"v":4124984,"d":"4,124,984"}},{"$f":"IF(+SUM(J8,S8)=0,\"-\",+SUM(J8,S8))","v":"-"},{"$f":"+SUM(K8,T8)","v":{"v":4184292,"d":"4,184,292"}},{"$f":"+SUM(L8,U8)","v":{"v":9806280,"d":"9,806,280"}},{"$f":"SUM(AF8,+AK8)","v":{"v":5854069,"d":"5,854,069"}},{"$f":"SUM(AG8:AJ8)","v":{"v":5832452,"d":"5,832,452"}},0,{"v":5714416,"d":"5,714,416"},{"v":118036,"d":"118,036"},0,{"v":21617,"d":"21,617"},0,{"$f":"SUM(AN8,AS8,AW8,AX8,BD8)","v":{"v":15402063,"d":"15,402,063"}},{"$f":"SUM(AO8:AR8)","v":{"v":7891731,"d":"7,891,731"}},{"v":1066193,"d":"1,066,193"},{"v":4548696,"d":"4,548,696"},{"v":2105968,"d":"2,105,968"},{"v":170874,"d":"170,874"},{"$f":"SUM(AT8:AV8)","v":{"v":5025181,"d":"5,025,181"}},{"v":895564,"d":"895,564"},{"v":3411058,"d":"3,411,058"},{"v":718559,"d":"718,559"},{"v":77627,"d":"77,627"},{"$f":"SUM(AY8:BB8)","v":{"v":2392519,"d":"2,392,519"}},{"v":1783200,"d":"1,783,200"},{"v":602367,"d":"602,367"},{"v":6952,"d":"6,952"},0,0,{"v":15005,"d":"15,005"},{"v":1738801,"d":"1,738,801"},{"$f":"SUM(AE8,+AM8,+BE8)","v":{"v":22994933,"d":"22,994,933"}},{"$f":"SUM(BH8,+BM8)","v":{"v":179606,"d":"179,606"}},{"$f":"SUM(BI8:BL8)","v":{"v":179606,"d":"179,606"}},0,{"v":58228,"d":"58,228"},0,{"v":121378,"d":"121,378"},0,0,{"$f":"SUM(BP8,BU8,BY8,BZ8,CF8)","v":{"v":632876,"d":"632,876"}},{"$f":"SUM(BQ8:BT8)","v":{"v":154034,"d":"154,034"}},{"v":40082,"d":"40,082"},{"v":113952,"d":"113,952"},0,0,{"$f":"SUM(BV8:BX8)","v":{"v":73443,"d":"73,443"}},{"v":52046,"d":"52,046"},{"v":21397,"d":"21,397"},0,{"v":9666,"d":"9,666"},{"$f":"SUM(CA8:CD8)","v":{"v":395733,"d":"395,733"}},{"v":365506,"d":"365,506"},{"v":30227,"d":"30,227"},0,0,0,0,{"v":4992,"d":"4,992"},{"$f":"SUM(BG8,+BO8,+CG8)","v":{"v":817474,"d":"817,474"}},{"$f":"SUM(AE8,+BG8)","v":{"v":6033675,"d":"6,033,675"}},{"$f":"SUM(AF8,+BH8)","v":{"v":6012058,"d":"6,012,058"}},{"$f":"SUM(AG8,+BI8)","v":0},{"$f":"SUM(AH8,+BJ8)","v":{"v":5772644,"d":"5,772,644"}},{"$f":"SUM(AI8,+BK8)","v":{"v":118036,"d":"118,036"}},{"$f":"SUM(AJ8,+BL8)","v":{"v":121378,"d":"121,378"}},{"$f":"SUM(AK8,+BM8)","v":{"v":21617,"d":"21,617"}},{"$f":"SUM(AL8,+BN8)","v":0},{"$f":"SUM(AM8,+BO8)","v":{"v":16034939,"d":"16,034,939"}},{"$f":"SUM(AN8,+BP8)","v":{"v":8045765,"d":"8,045,765"}},{"$f":"SUM(AO8,+BQ8)","v":{"v":1106275,"d":"1,106,275"}},{"$f":"SUM(AP8,+BR8)","v":{"v":4662648,"d":"4,662,648"}},{"$f":"SUM(AQ8,+BS8)","v":{"v":2105968,"d":"2,105,968"}},{"$f":"SUM(AR8,+BT8)","v":{"v":170874,"d":"170,874"}},{"$f":"SUM(AS8,+BU8)","v":{"v":5098624,"d":"5,098,624"}},{"$f":"SUM(AT8,+BV8)","v":{"v":947610,"d":"947,610"}},{"$f":"SUM(AU8,+BW8)","v":{"v":3432455,"d":"3,432,455"}},{"$f":"SUM(AV8,+BX8)","v":{"v":718559,"d":"718,559"}},{"$f":"SUM(AW8,+BY8)","v":{"v":87293,"d":"87,293"}},{"$f":"SUM(AX8,+BZ8)","v":{"v":2788252,"d":"2,788,252"}},{"$f":"SUM(AY8,+CA8)","v":{"v":2148706,"d":"2,148,706"}},{"$f":"SUM(AZ8,+CB8)","v":{"v":632594,"d":"632,594"}},{"$f":"SUM(BA8,+CC8)","v":{"v":6952,"d":"6,952"}},{"$f":"SUM(BB8,+CD8)","v":0},{"$f":"SUM(BC8,+CE8)","v":0},{"$f":"SUM(BD8,+CF8)","v":{"v":15005,"d":"15,005"}},{"$f":"SUM(BE8,+CG8)","v":{"v":1743793,"d":"1,743,793"}},{"$f":"SUM(BF8,+CH8)","v":{"v":23812407,"d":"23,812,407"}}]
["京都府","26201","福知山市",{"$f":"SUM(E9,+L9)","v":{"v":1709669,"d":"1,709,669"}},{"$f":"SUM(F9:I9,K9)","v":{"v":1009598,"d":"1,009,598"}},{"v":244803,"d":"244,803"},{"v":13896,"d":"13,896"},{"v":282100,"d":"282,100"},{"v":440367,"d":"440,367"},"-",{"v":28432,"d":"28,432"},{"v":700071,"d":"700,071"},{"$f":"SUM(N9,+U9)","v":{"v":111268,"d":"111,268"}},{"$f":"SUM(O9:R9,T9)","v":{"v":27973,"d":"27,973"}},0,0,0,{"v":27973,"d":"27,973"},"-",0,{"v":83295,"d":"83,295"},{"$f":"+SUM(D9,M9)","v":{"v":1820937,"d":"1,820,937"}},{"$f":"+SUM(E9,N9)","v":{"v":1037571,"d":"1,037,571"}},{"$f":"+SUM(F9,O9)","v":{"v":244803,"d":"244,803"}},{"$f":"+SUM(G9,P9)","v":{"v":13896,"d":"13,896"}},{"$f":"+SUM(H9,Q9)","v":{"v":282100,"d":"282,100"}},{"$f":"+SUM(I9,R9)","v":{"v":468340,"d":"468,340"}},{"$f":"IF(+SUM(J9,S9)=0,\"-\",+SUM(J9,S9))","v":"-"},{"$f":"+SUM(K9,T9)","v":{"v":28432,"d":"28,432"}},{"$f":"+SUM(L9,U9)","v":{"v":783366,"d":"783,366"}},{"$f":"SUM(AF9,+AK9)","v":{"v":515319,"d":"515,319"}},{"$f":"SUM(AG9:AJ9)","v":{"v":504634,"d":"504,634"}},0,{"v":500044,"d":"500,044"},0,{"v":4590,"d":"4,590"},{"v":10685,"d":"10,685"},0,{"$f":"SUM(AN9,AS9,AW9,AX9,BD9)","v":{"v":1121224,"d":"1,121,224"}},{"$f":"SUM(AO9:AR9)","v":{"v":133098,"d":"133,098"}},{"v":133098,"d":"133,098"},0,0,0,{"$f":"SUM(AT9:AV9)","v":{"v":230565,"d":"230,565"}},0,{"v":215817,"d":"215,817"},{"v":14748,"d":"14,748"},0,{"$f":"SUM(AY9:BB9)","v":{"v":753273,"d":"753,273"}},{"v":445854,"d":"445,854"},{"v":286422,"d":"286,422"},{"v":13519,"d":"13,519"},{"v":7478,"d":"7,478"},0,{"v":4288,"d":"4,288"},{"v":73126,"d":"73,126"},{"$f":"SUM(AE9,+AM9,+BE9)","v":{"v":1709669,"d":"1,709,669"}},{"$f":"SUM(BH9,+BM9)","v":0},{"$f":"SUM(BI9:BL9)","v":0},0,0,0,0,0,0,{"$f":"SUM(BP9,BU9,BY9,BZ9,CF9)","v":{"v":111268,"d":"111,268"}},{"$f":"SUM(BQ9:BT9)","v":{"v":1287,"d":"1,287"}},{"v":1287,"d":"1,287"},0,0,0,{"$f":"SUM(BV9:BX9)","v":{"v":9930,"d":"9,930"}},{"v":9930,"d":"9,930"},0,0,0,{"$f":"SUM(CA9:CD9)","v":{"v":100051,"d":"100,051"}},{"v":98928,"d":"98,928"},0,0,{"v":1123,"d":"1,123"},0,0,0,{"$f":"SUM(BG9,+BO9,+CG9)","v":{"v":111268,"d":"111,268"}},{"$f":"SUM(AE9,+BG9)","v":{"v":515319,"d":"515,319"}},{"$f":"SUM(AF9,+BH9)","v":{"v":504634,"d":"504,634"}},{"$f":"SUM(AG9,+BI9)","v":0},{"$f":"SUM(AH9,+BJ9)","v":{"v":500044,"d":"500,044"}},{"$f":"SUM(AI9,+BK9)","v":0},{"$f":"SUM(AJ9,+BL9)","v":{"v":4590,"d":"4,590"}},{"$f":"SUM(AK9,+BM9)","v":{"v":10685,"d":"10,685"}},{"$f":"SUM(AL9,+BN9)","v":0},{"$f":"SUM(AM9,+BO9)","v":{"v":1232492,"d":"1,232,492"}},{"$f":"SUM(AN9,+BP9)","v":{"v":134385,"d":"134,385"}},{"$f":"SUM(AO9,+BQ9)","v":{"v":134385,"d":"134,385"}},{"$f":"SUM(AP9,+BR9)","v":0},{"$f":"SUM(AQ9,+BS9)","v":0},{"$f":"SUM(AR9,+BT9)","v":0},{"$f":"SUM(AS9,+BU9)","v":{"v":240495,"d":"240,495"}},{"$f":"SUM(AT9,+BV9)","v":{"v":9930,"d":"9,930"}},{"$f":"SUM(AU9,+BW9)","v":{"v":215817,"d":"215,817"}},{"$f":"SUM(AV9,+BX9)","v":{"v":14748,"d":"14,748"}},{"$f":"SUM(AW9,+BY9)","v":0},{"$f":"SUM(AX9,+BZ9)","v":{"v":853324,"d":"853,324"}},{"$f":"SUM(AY9,+CA9)","v":{"v":544782,"d":"544,782"}},{"$f":"SUM(AZ9,+CB9)","v":{"v":286422,"d":"286,422"}},{"$f":"SUM(BA9,+CC9)","v":{"v":13519,"d":"13,519"}},{"$f":"SUM(BB9,+CD9)","v":{"v":8601,"d":"8,601"}},{"$f":"SUM(BC9,+CE9)","v":0},{"$f":"SUM(BD9,+CF9)","v":{"v":4288,"d":"4,288"}},{"$f":"SUM(BE9,+CG9)","v":{"v":73126,"d":"73,126"}},{"$f":"SUM(BF9,+CH9)","v":{"v":1820937,"d":"1,820,937"}}]
["京都府","26202","舞鶴市",{"$f":"SUM(E10,+L10)","v":{"v":1391348,"d":"1,391,348"}},{"$f":"SUM(F10:I10,K10)","v":{"v":377311,"d":"377,311"}},{"v":59364,"d":"59,364"},{"v":40000,"d":"40,000"},{"v":157700,"d":"157,700"},{"v":111443,"d":"111,443"},"-",{"v":8804,"d":"8,804"},{"v":1014037,"d":"1,014,037"},{"$f":"SUM(N10,+U10)","v":{"v":645914,"d":"645,914"}},{"$f":"SUM(O10:R10,T10)","v":{"v":471421,"d":"471,421"}},{"v":221723,"d":"221,723"},0,{"v":249698,"d":"249,698"},0,"-",0,{"v":174493,"d":"174,493"},{"$f":"+SUM(D10,M10)","v":{"v":2037262,"d":"2,037,262"}},{"$f":"+SUM(E10,N10)","v":{"v":848732,"d":"848,732"}},{"$f":"+SUM(F10,O10)","v":{"v":281087,"d":"281,087"}},{"$f":"+SUM(G10,P10)","v":{"v":40000,"d":"40,000"}},{"$f":"+SUM(H10,Q10)","v":{"v":407398,"d":"407,398"}},{"$f":"+SUM(I10,R10)","v":{"v":111443,"d":"111,443"}},{"$f":"IF(+SUM(J10,S10)=0,\"-\",+SUM(J10,S10))","v":"-"},{"$f":"+SUM(K10,T10)","v":{"v":8804,"d":"8,804"}},{"$f":"+SUM(L10,U10)","v":{"v":1188530,"d":"1,188,530"}},{"$f":"SUM(AF10,+AK10)","v":{"v":296543,"d":"296,543"}},{"$f":"SUM(AG10:AJ10)","v":{"v":273588,"d":"273,588"}},0,{"v":7571,"d":"7,571"},0,{"v":266017,"d":"266,017"},{"v":22955,"d":"22,955"},0,{"$f":"SUM(AN10,AS10,AW10,AX10,BD10)","v":{"v":1076842,"d":"1,076,842"}},{"$f":"SUM(AO10:AR10)","v":{"v":151521,"d":"151,521"}},{"v":126834,"d":"126,834"},0,{"v":20576,"d":"20,576"},{"v":4111,"d":"4,111"},{"$f":"SUM(AT10:AV10)","v":{"v":230316,"d":"230,316"}},{"v":5188,"d":"5,188"},{"v":212764,"d":"212,764"},{"v":12364,"d":"12,364"},0,{"$f":"SUM(AY10:BB10)","v":{"v":695005,"d":"695,005"}},{"v":382731,"d":"382,731"},{"v":192521,"d":"192,521"},{"v":41653,"d":"41,653"},{"v":78100,"d":"78,100"},0,0,{"v":17963,"d":"17,963"},{"$f":"SUM(AE10,+AM10,+BE10)","v":{"v":1391348,"d":"1,391,348"}},{"$f":"SUM(BH10,+BM10)","v":{"v":502253,"d":"502,253"}},{"$f":"SUM(BI10:BL10)","v":{"v":502253,"d":"502,253"}},0,{"v":502253,"d":"502,253"},0,0,0,0,{"$f":"SUM(BP10,BU10,BY10,BZ10,CF10)","v":{"v":143054,"d":"143,054"}},{"$f":"SUM(BQ10:BT10)","v":{"v":16564,"d":"16,564"}},{"v":16564,"d":"16,564"},0,0,0,{"$f":"SUM(BV10:BX10)","v":{"v":19282,"d":"19,282"}},0,{"v":19282,"d":"19,282"},0,0,{"$f":"SUM(CA10:CD10)","v":{"v":107208,"d":"107,208"}},{"v":25191,"d":"25,191"},{"v":82017,"d":"82,017"},0,0,0,0,607,{"$f":"SUM(BG10,+BO10,+CG10)","v":{"v":645914,"d":"645,914"}},{"$f":"SUM(AE10,+BG10)","v":{"v":798796,"d":"798,796"}},{"$f":"SUM(AF10,+BH10)","v":{"v":775841,"d":"775,841"}},{"$f":"SUM(AG10,+BI10)","v":0},{"$f":"SUM(AH10,+BJ10)","v":{"v":509824,"d":"509,824"}},{"$f":"SUM(AI10,+BK10)","v":0},{"$f":"SUM(AJ10,+BL10)","v":{"v":266017,"d":"266,017"}},{"$f":"SUM(AK10,+BM10)","v":{"v":22955,"d":"22,955"}},{"$f":"SUM(AL10,+BN10)","v":0},{"$f":"SUM(AM10,+BO10)","v":{"v":1219896,"d":"1,219,896"}},{"$f":"SUM(AN10,+BP10)","v":{"v":168085,"d":"168,085"}},{"$f":"SUM(AO10,+BQ10)","v":{"v":143398,"d":"143,398"}},{"$f":"SUM(AP10,+BR10)","v":0},{"$f":"SUM(AQ10,+BS10)","v":{"v":20576,"d":"20,576"}},{"$f":"SUM(AR10,+BT10)","v":{"v":4111,"d":"4,111"}},{"$f":"SUM(AS10,+BU10)","v":{"v":249598,"d":"249,598"}},{"$f":"SUM(AT10,+BV10)","v":{"v":5188,"d":"5,188"}},{"$f":"SUM(AU10,+BW10)","v":{"v":232046,"d":"232,046"}},{"$f":"SUM(AV10,+BX10)","v":{"v":12364,"d":"12,364"}},{"$f":"SUM(AW10,+BY10)","v":0},{"$f":"SUM(AX10,+BZ10)","v":{"v":802213,"d":"802,213"}},{"$f":"SUM(AY10,+CA10)","v":{"v":407922,"d":"407,922"}},{"$f":"SUM(AZ10,+CB10)","v":{"v":274538,"d":"274,538"}},{"$f":"SUM(BA10,+CC10)","v":{"v":41653,"d":"41,653"}},{"$f":"SUM(BB10,+CD10)","v":{"v":78100,"d":"78,100"}},{"$f":"SUM(BC10,+CE10)","v":0},{"$f":"SUM(BD10,+CF10)","v":0},{"$f":"SUM(BE10,+CG10)","v":{"v":18570,"d":"18,570"}},{"$f":"SUM(BF10,+CH10)","v":{"v":2037262,"d":"2,037,262"}}]
["京都府","26203","綾部市",{"$f":"SUM(E11,+L11)","v":{"v":725996,"d":"725,996"}},{"$f":"SUM(F11:I11,K11)","v":{"v":132500,"d":"132,500"}},{"v":4608,"d":"4,608"},0,{"v":2500,"d":"2,500"},{"v":102198,"d":"102,198"},"-",{"v":23194,"d":"23,194"},{"v":593496,"d":"593,496"},{"$f":"SUM(N11,+U11)","v":{"v":484252,"d":"484,252"}},{"$f":"SUM(O11:R11,T11)","v":{"v":117133,"d":"117,133"}},0,0,0,{"v":117082,"d":"117,082"},"-",51,{"v":367119,"d":"367,119"},{"$f":"+SUM(D11,M11)","v":{"v":1210248,"d":"1,210,248"}},{"$f":"+SUM(E11,N11)","v":{"v":249633,"d":"249,633"}},{"$f":"+SUM(F11,O11)","v":{"v":4608,"d":"4,608"}},{"$f":"+SUM(G11,P11)","v":0},{"$f":"+SUM(H11,Q11)","v":{"v":2500,"d":"2,500"}},{"$f":"+SUM(I11,R11)","v":{"v":219280,"d":"219,280"}},{"$f":"IF(+SUM(J11,S11)=0,\"-\",+SUM(J11,S11))","v":"-"},{"$f":"+SUM(K11,T11)","v":{"v":23245,"d":"23,245"}},{"$f":"+SUM(L11,U11)","v":{"v":960615,"d":"960,615"}},{"$f":"SUM(AF11,+AK11)","v":580},{"$f":"SUM(AG11:AJ11)","v":580},0,0,0,580,0,0,{"$f":"SUM(AN11,AS11,AW11,AX11,BD11)","v":{"v":725416,"d":"725,416"}},{"$f":"SUM(AO11:AR11)","v":{"v":72038,"d":"72,038"}},{"v":72038,"d":"72,038"},0,0,0,{"$f":"SUM(AT11:AV11)","v":{"v":119541,"d":"119,541"}},0,{"v":112725,"d":"112,725"},{"v":6816,"d":"6,816"},0,{"$f":"SUM(AY11:BB11)","v":{"v":533837,"d":"533,837"}},{"v":205390,"d":"205,390"},{"v":266932,"d":"266,932"},{"v":8838,"d":"8,838"},{"v":52677,"d":"52,677"},0,0,0,{"$f":"SUM(AE11,+AM11,+BE11)","v":{"v":725996,"d":"725,996"}},{"$f":"SUM(BH11,+BM11)","v":{"v":142560,"d":"142,560"}},{"$f":"SUM(BI11:BL11)","v":{"v":142560,"d":"142,560"}},0,{"v":142560,"d":"142,560"},0,0,0,0,{"$f":"SUM(BP11,BU11,BY11,BZ11,CF11)","v":{"v":341692,"d":"341,692"}},{"$f":"SUM(BQ11:BT11)","v":{"v":19608,"d":"19,608"}},{"v":19608,"d":"19,608"},0,0,0,{"$f":"SUM(BV11:BX11)","v":0},0,0,0,0,{"$f":"SUM(CA11:CD11)","v":{"v":322084,"d":"322,084"}},{"v":142683,"d":"142,683"},0,0,{"v":179401,"d":"179,401"},0,0,0,{"$f":"SUM(BG11,+BO11,+CG11)","v":{"v":484252,"d":"484,252"}},{"$f":"SUM(AE11,+BG11)","v":{"v":143140,"d":"143,140"}},{"$f":"SUM(AF11,+BH11)","v":{"v":143140,"d":"143,140"}},{"$f":"SUM(AG11,+BI11)","v":0},{"$f":"SUM(AH11,+BJ11)","v":{"v":142560,"d":"142,560"}},{"$f":"SUM(AI11,+BK11)","v":0},{"$f":"SUM(AJ11,+BL11)","v":580},{"$f":"SUM(AK11,+BM11)","v":0},{"$f":"SUM(AL11,+BN11)","v":0},{"$f":"SUM(AM11,+BO11)","v":{"v":1067108,"d":"1,067,108"}},{"$f":"SUM(AN11,+BP11)","v":{"v":91646,"d":"91,646"}},{"$f":"SUM(AO11,+BQ11)","v":{"v":91646,"d":"91,646"}},{"$f":"SUM(AP11,+BR11)","v":0},{"$f":"SUM(AQ11,+BS11)","v":0},{"$f":"SUM(AR11,+BT11)","v":0},{"$f":"SUM(AS11,+BU11)","v":{"v":119541,"d":"119,541"}},{"$f":"SUM(AT11,+BV11)","v":0},{"$f":"SUM(AU11,+BW11)","v":{"v":112725,"d":"112,725"}},{"$f":"SUM(AV11,+BX11)","v":{"v":6816,"d":"6,816"}},{"$f":"SUM(AW11,+BY11)","v":0},{"$f":"SUM(AX11,+BZ11)","v":{"v":855921,"d":"855,921"}},{"$f":"SUM(AY11,+CA11)","v":{"v":348073,"d":"348,073"}},{"$f":"SUM(AZ11,+CB11)","v":{"v":266932,"d":"266,932"}},{"$f":"SUM(BA11,+CC11)","v":{"v":8838,"d":"8,838"}},{"$f":"SUM(BB11,+CD11)","v":{"v":232078,"d":"232,078"}},{"$f":"SUM(BC11,+CE11)","v":0},{"$f":"SUM(BD11,+CF11)","v":0},{"$f":"SUM(BE11,+CG11)","v":0},{"$f":"SUM(BF11,+CH11)","v":{"v":1210248,"d":"1,210,248"}}]
["京都府","26204","宇治市",{"$f":"SUM(E12,+L12)","v":{"v":2314732,"d":"2,314,732"}},{"$f":"SUM(F12:I12,K12)","v":{"v":20271,"d":"20,271"}},0,0,0,{"v":18195,"d":"18,195"},"-",{"v":2076,"d":"2,076"},{"v":2294461,"d":"2,294,461"},{"$f":"SUM(N12,+U12)","v":{"v":335726,"d":"335,726"}},{"$f":"SUM(O12:R12,T12)","v":0},0,0,0,0,"-",0,{"v":335726,"d":"335,726"},{"$f":"+SUM(D12,M12)","v":{"v":2650458,"d":"2,650,458"}},{"$f":"+SUM(E12,N12)","v":{"v":20271,"d":"20,271"}},{"$f":"+SUM(F12,O12)","v":0},{"$f":"+SUM(G12,P12)","v":0},{"$f":"+SUM(H12,Q12)","v":0},{"$f":"+SUM(I12,R12)","v":{"v":18195,"d":"18,195"}},{"$f":"IF(+SUM(J12,S12)=0,\"-\",+SUM(J12,S12))","v":"-"},{"$f":"+SUM(K12,T12)","v":{"v":2076,"d":"2,076"}},{"$f":"+SUM(L12,U12)","v":{"v":2630187,"d":"2,630,187"}},{"$f":"SUM(AF12,+AK12)","v":0},{"$f":"SUM(AG12:AJ12)","v":0},0,0,0,0,0,{"v":434293,"d":"434,293"},{"$f":"SUM(AN12,AS12,AW12,AX12,BD12)","v":{"v":1183743,"d":"1,183,743"}},{"$f":"SUM(AO12:AR12)","v":{"v":720349,"d":"720,349"}},{"v":203557,"d":"203,557"},{"v":516792,"d":"516,792"},0,0,{"$f":"SUM(AT12:AV12)","v":{"v":90509,"d":"90,509"}},{"v":38168,"d":"38,168"},0,{"v":52341,"d":"52,341"},{"v":32344,"d":"32,344"},{"$f":"SUM(AY12:BB12)","v":{"v":340541,"d":"340,541"}},{"v":333996,"d":"333,996"},0,{"v":6545,"d":"6,545"},0,{"v":696696,"d":"696,696"},0,0,{"$f":"SUM(AE12,+AM12,+BE12)","v":{"v":1183743,"d":"1,183,743"}},{"$f":"SUM(BH12,+BM12)","v":0},{"$f":"SUM(BI12:BL12)","v":0},0,0,0,0,0,{"v":48646,"d":"48,646"},{"$f":"SUM(BP12,BU12,BY12,BZ12,CF12)","v":0},{"$f":"SUM(BQ12:BT12)","v":0},0,0,0,0,{"$f":"SUM(BV12:BX12)","v":0},0,0,0,0,{"$f":"SUM(CA12:CD12)","v":0},0,0,0,0,{"v":287080,"d":"287,080"},0,0,{"$f":"SUM(BG12,+BO12,+CG12)","v":0},{"$f":"SUM(AE12,+BG12)","v":0},{"$f":"SUM(AF12,+BH12)","v":0},{"$f":"SUM(AG12,+BI12)","v":0},{"$f":"SUM(AH12,+BJ12)","v":0},{"$f":"SUM(AI12,+BK12)","v":0},{"$f":"SUM(AJ12,+BL12)","v":0},{"$f":"SUM(AK12,+BM12)","v":0},{"$f":"SUM(AL12,+BN12)","v":{"v":482939,"d":"482,939"}},{"$f":"SUM(AM12,+BO12)","v":{"v":1183743,"d":"1,183,743"}},{"$f":"SUM(AN12,+BP12)","v":{"v":720349,"d":"720,349"}},{"$f":"SUM(AO12,+BQ12)","v":{"v":203557,"d":"203,557"}},{"$f":"SUM(AP12,+BR12)","v":{"v":516792,"d":"516,792"}},{"$f":"SUM(AQ12,+BS12)","v":0},{"$f":"SUM(AR12,+BT12)","v":0},{"$f":"SUM(AS12,+BU12)","v":{"v":90509,"d":"90,509"}},{"$f":"SUM(AT12,+BV12)","v":{"v":38168,"d":"38,168"}},{"$f":"SUM(AU12,+BW12)","v":0},{"$f":"SUM(AV12,+BX12)","v":{"v":52341,"d":"52,341"}},{"$f":"SUM(AW12,+BY12)","v":{"v":32344,"d":"32,344"}},{"$f":"SUM(AX12,+BZ12)","v":{"v":340541,"d":"340,541"}},{"$f":"SUM(AY12,+CA12)","v":{"v":333996,"d":"333,996"}},{"$f":"SUM(AZ12,+CB12)","v":0},{"$f":"SUM(BA12,+CC12)","v":{"v":6545,"d":"6,545"}},{"$f":"SUM(BB12,+CD12)","v":0},{"$f":"SUM(BC12,+CE12)","v":{"v":983776,"d":"983,776"}},{"$f":"SUM(BD12,+CF12)","v":0},{"$f":"SUM(BE12,+CG12)","v":0},{"$f":"SUM(BF12,+CH12)","v":{"v":1183743,"d":"1,183,743"}}]
["京都府","26205","宮津市",{"$f":"SUM(E13,+L13)","v":{"v":603244,"d":"603,244"}},{"$f":"SUM(F13:I13,K13)","v":{"v":216089,"d":"216,089"}},0,{"v":3597,"d":"3,597"},{"v":155800,"d":"155,800"},{"v":56574,"d":"56,574"},"-",118,{"v":387155,"d":"387,155"},{"$f":"SUM(N13,+U13)","v":{"v":162828,"d":"162,828"}},{"$f":"SUM(O13:R13,T13)","v":{"v":94002,"d":"94,002"}},0,{"v":3513,"d":"3,513"},{"v":8300,"d":"8,300"},{"v":82189,"d":"82,189"},"-",0,{"v":68826,"d":"68,826"},{"$f":"+SUM(D13,M13)","v":{"v":766072,"d":"766,072"}},{"$f":"+SUM(E13,N13)","v":{"v":310091,"d":"310,091"}},{"$f":"+SUM(F13,O13)","v":0},{"$f":"+SUM(G13,P13)","v":{"v":7110,"d":"7,110"}},{"$f":"+SUM(H13,Q13)","v":{"v":164100,"d":"164,100"}},{"$f":"+SUM(I13,R13)","v":{"v":138763,"d":"138,763"}},{"$f":"IF(+SUM(J13,S13)=0,\"-\",+SUM(J13,S13))","v":"-"},{"$f":"+SUM(K13,T13)","v":118},{"$f":"+SUM(L13,U13)","v":{"v":455981,"d":"455,981"}},{"$f":"SUM(AF13,+AK13)","v":{"v":68785,"d":"68,785"}},{"$f":"SUM(AG13:AJ13)","v":{"v":68785,"d":"68,785"}},0,{"v":68785,"d":"68,785"},0,0,0,{"v":133857,"d":"133,857"},{"$f":"SUM(AN13,AS13,AW13,AX13,BD13)","v":{"v":400602,"d":"400,602"}},{"$f":"SUM(AO13:AR13)","v":{"v":32222,"d":"32,222"}},{"v":32222,"d":"32,222"},0,0,0,{"$f":"SUM(AT13:AV13)","v":{"v":61890,"d":"61,890"}},0,{"v":61756,"d":"61,756"},134,0,{"$f":"SUM(AY13:BB13)","v":{"v":306490,"d":"306,490"}},{"v":133086,"d":"133,086"},{"v":159614,"d":"159,614"},{"v":13790,"d":"13,790"},0,0,0,0,{"$f":"SUM(AE13,+AM13,+BE13)","v":{"v":469387,"d":"469,387"}},{"$f":"SUM(BH13,+BM13)","v":{"v":11200,"d":"11,200"}},{"$f":"SUM(BI13:BL13)","v":{"v":11200,"d":"11,200"}},0,0,{"v":11200,"d":"11,200"},0,0,0,{"$f":"SUM(BP13,BU13,BY13,BZ13,CF13)","v":{"v":151628,"d":"151,628"}},{"$f":"SUM(BQ13:BT13)","v":{"v":24166,"d":"24,166"}},{"v":24166,"d":"24,166"},0,0,0,{"$f":"SUM(BV13:BX13)","v":{"v":17059,"d":"17,059"}},0,{"v":17059,"d":"17,059"},0,0,{"$f":"SUM(CA13:CD13)","v":{"v":110403,"d":"110,403"}},{"v":83235,"d":"83,235"},{"v":25749,"d":"25,749"},{"v":1419,"d":"1,419"},0,0,0,0,{"$f":"SUM(BG13,+BO13,+CG13)","v":{"v":162828,"d":"162,828"}},{"$f":"SUM(AE13,+BG13)","v":{"v":79985,"d":"79,985"}},{"$f":"SUM(AF13,+BH13)","v":{"v":79985,"d":"79,985"}},{"$f":"SUM(AG13,+BI13)","v":0},{"$f":"SUM(AH13,+BJ13)","v":{"v":68785,"d":"68,785"}},{"$f":"SUM(AI13,+BK13)","v":{"v":11200,"d":"11,200"}},{"$f":"SUM(AJ13,+BL13)","v":0},{"$f":"SUM(AK13,+BM13)","v":0},{"$f":"SUM(AL13,+BN13)","v":{"v":133857,"d":"133,857"}},{"$f":"SUM(AM13,+BO13)","v":{"v":552230,"d":"552,230"}},{"$f":"SUM(AN13,+BP13)","v":{"v":56388,"d":"56,388"}},{"$f":"SUM(AO13,+BQ13)","v":{"v":56388,"d":"56,388"}},{"$f":"SUM(AP13,+BR13)","v":0},{"$f":"SUM(AQ13,+BS13)","v":0},{"$f":"SUM(AR13,+BT13)","v":0},{"$f":"SUM(AS13,+BU13)","v":{"v":78949,"d":"78,949"}},{"$f":"SUM(AT13,+BV13)","v":0},{"$f":"SUM(AU13,+BW13)","v":{"v":78815,"d":"78,815"}},{"$f":"SUM(AV13,+BX13)","v":134},{"$f":"SUM(AW13,+BY13)","v":0},{"$f":"SUM(AX13,+BZ13)","v":{"v":416893,"d":"416,893"}},{"$f":"SUM(AY13,+CA13)","v":{"v":216321,"d":"216,321"}},{"$f":"SUM(AZ13,+CB13)","v":{"v":185363,"d":"185,363"}},{"$f":"SUM(BA13,+CC13)","v":{"v":15209,"d":"15,209"}},{"$f":"SUM(BB13,+CD13)","v":0},{"$f":"SUM(BC13,+CE13)","v":0},{"$f":"SUM(BD13,+CF13)","v":0},{"$f":"SUM(BE13,+CG13)","v":0},{"$f":"SUM(BF13,+CH13)","v":{"v":632215,"d":"632,215"}}]
["京都府","26206","亀岡市",{"$f":"SUM(E14,+L14)","v":{"v":902261,"d":"902,261"}},{"$f":"SUM(F14:I14,K14)","v":{"v":243274,"d":"243,274"}},0,{"v":8877,"d":"8,877"},0,{"v":218644,"d":"218,644"},"-",{"v":15753,"d":"15,753"},{"v":658987,"d":"658,987"},{"$f":"SUM(N14,+U14)","v":{"v":269938,"d":"269,938"}},{"$f":"SUM(O14:R14,T14)","v":{"v":90445,"d":"90,445"}},0,0,0,{"v":88444,"d":"88,444"},"-",{"v":2001,"d":"2,001"},{"v":179493,"d":"179,493"},{"$f":"+SUM(D14,M14)","v":{"v":1172199,"d":"1,172,199"}},{"$f":"+SUM(E14,N14)","v":{"v":333719,"d":"333,719"}},{"$f":"+SUM(F14,O14)","v":0},{"$f":"+SUM(G14,P14)","v":{"v":8877,"d":"8,877"}},{"$f":"+SUM(H14,Q14)","v":0},{"$f":"+SUM(I14,R14)","v":{"v":307088,"d":"307,088"}},{"$f":"IF(+SUM(J14,S14)=0,\"-\",+SUM(J14,S14))","v":"-"},{"$f":"+SUM(K14,T14)","v":{"v":17754,"d":"17,754"}},{"$f":"+SUM(L14,U14)","v":{"v":838480,"d":"838,480"}},{"$f":"SUM(AF14,+AK14)","v":0},{"$f":"SUM(AG14:AJ14)","v":0},0,0,0,0,0,0,{"$f":"SUM(AN14,AS14,AW14,AX14,BD14)","v":{"v":848110,"d":"848,110"}},{"$f":"SUM(AO14:AR14)","v":{"v":105889,"d":"105,889"}},{"v":90551,"d":"90,551"},{"v":2682,"d":"2,682"},{"v":7499,"d":"7,499"},{"v":5157,"d":"5,157"},{"$f":"SUM(AT14:AV14)","v":{"v":195975,"d":"195,975"}},0,{"v":170811,"d":"170,811"},{"v":25164,"d":"25,164"},0,{"$f":"SUM(AY14:BB14)","v":{"v":546246,"d":"546,246"}},{"v":357866,"d":"357,866"},{"v":126674,"d":"126,674"},{"v":61706,"d":"61,706"},0,0,0,{"v":54151,"d":"54,151"},{"$f":"SUM(AE14,+AM14,+BE14)","v":{"v":902261,"d":"902,261"}},{"$f":"SUM(BH14,+BM14)","v":0},{"$f":"SUM(BI14:BL14)","v":0},0,0,0,0,0,0,{"$f":"SUM(BP14,BU14,BY14,BZ14,CF14)","v":{"v":242555,"d":"242,555"}},{"$f":"SUM(BQ14:BT14)","v":{"v":28976,"d":"28,976"}},{"v":28976,"d":"28,976"},0,0,0,{"$f":"SUM(BV14:BX14)","v":0},0,0,0,0,{"$f":"SUM(CA14:CD14)","v":{"v":213579,"d":"213,579"}},{"v":80784,"d":"80,784"},{"v":132795,"d":"132,795"},0,0,0,0,{"v":27383,"d":"27,383"},{"$f":"SUM(BG14,+BO14,+CG14)","v":{"v":269938,"d":"269,938"}},{"$f":"SUM(AE14,+BG14)","v":0},{"$f":"SUM(AF14,+BH14)","v":0},{"$f":"SUM(AG14,+BI14)","v":0},{"$f":"SUM(AH14,+BJ14)","v":0},{"$f":"SUM(AI14,+BK14)","v":0},{"$f":"SUM(AJ14,+BL14)","v":0},{"$f":"SUM(AK14,+BM14)","v":0},{"$f":"SUM(AL14,+BN14)","v":0},{"$f":"SUM(AM14,+BO14)","v":{"v":1090665,"d":"1,090,665"}},{"$f":"SUM(AN14,+BP14)","v":{"v":134865,"d":"134,865"}},{"$f":"SUM(AO14,+BQ14)","v":{"v":119527,"d":"119,527"}},{"$f":"SUM(AP14,+BR14)","v":{"v":2682,"d":"2,682"}},{"$f":"SUM(AQ14,+BS14)","v":{"v":7499,"d":"7,499"}},{"$f":"SUM(AR14,+BT14)","v":{"v":5157,"d":"5,157"}},{"$f":"SUM(AS14,+BU14)","v":{"v":195975,"d":"195,975"}},{"$f":"SUM(AT14,+BV14)","v":0},{"$f":"SUM(AU14,+BW14)","v":{"v":170811,"d":"170,811"}},{"$f":"SUM(AV14,+BX14)","v":{"v":25164,"d":"25,164"}},{"$f":"SUM(AW14,+BY14)","v":0},{"$f":"SUM(AX14,+BZ14)","v":{"v":759825,"d":"759,825"}},{"$f":"SUM(AY14,+CA14)","v":{"v":438650,"d":"438,650"}},{"$f":"SUM(AZ14,+CB14)","v":{"v":259469,"d":"259,469"}},{"$f":"SUM(BA14,+CC14)","v":{"v":61706,"d":"61,706"}},{"$f":"SUM(BB14,+CD14)","v":0},{"$f":"SUM(BC14,+CE14)","v":0},{"$f":"SUM(BD14,+CF14)","v":0},{"$f":"SUM(BE14,+CG14)","v":{"v":81534,"d":"81,534"}},{"$f":"SUM(BF14,+CH14)","v":{"v":1172199,"d":"1,172,199"}}]
["京都府","26207","城陽市",{"$f":"SUM(E15,+L15)","v":{"v":850450,"d":"850,450"}},{"$f":"SUM(F15:I15,K15)","v":{"v":2267,"d":"2,267"}},0,0,0,{"v":2267,"d":"2,267"},"-",0,{"v":848183,"d":"848,183"},{"$f":"SUM(N15,+U15)","v":{"v":151389,"d":"151,389"}},{"$f":"SUM(O15:R15,T15)","v":0},0,0,0,0,"-",0,{"v":151389,"d":"151,389"},{"$f":"+SUM(D15,M15)","v":{"v":1001839,"d":"1,001,839"}},{"$f":"+SUM(E15,N15)","v":{"v":2267,"d":"2,267"}},{"$f":"+SUM(F15,O15)","v":0},{"$f":"+SUM(G15,P15)","v":0},{"$f":"+SUM(H15,Q15)","v":0},{"$f":"+SUM(I15,R15)","v":{"v":2267,"d":"2,267"}},{"$f":"IF(+SUM(J15,S15)=0,\"-\",+SUM(J15,S15))","v":"-"},{"$f":"+SUM(K15,T15)","v":0},{"$f":"+SUM(L15,U15)","v":{"v":999572,"d":"999,572"}},{"$f":"SUM(AF15,+AK15)","v":0},{"$f":"SUM(AG15:AJ15)","v":0},0,0,0,0,0,{"v":201312,"d":"201,312"},{"$f":"SUM(AN15,AS15,AW15,AX15,BD15)","v":{"v":326193,"d":"326,193"}},{"$f":"SUM(AO15:AR15)","v":{"v":84585,"d":"84,585"}},{"v":84585,"d":"84,585"},0,0,0,{"$f":"SUM(AT15:AV15)","v":{"v":2889,"d":"2,889"}},{"v":2889,"d":"2,889"},0,0,0,{"$f":"SUM(AY15:BB15)","v":{"v":238719,"d":"238,719"}},{"v":238356,"d":"238,356"},0,0,363,{"v":322945,"d":"322,945"},0,0,{"$f":"SUM(AE15,+AM15,+BE15)","v":{"v":326193,"d":"326,193"}},{"$f":"SUM(BH15,+BM15)","v":0},{"$f":"SUM(BI15:BL15)","v":0},0,0,0,0,0,{"v":21936,"d":"21,936"},{"$f":"SUM(BP15,BU15,BY15,BZ15,CF15)","v":0},{"$f":"SUM(BQ15:BT15)","v":0},0,0,0,0,{"$f":"SUM(BV15:BX15)","v":0},0,0,0,0,{"$f":"SUM(CA15:CD15)","v":0},0,0,0,0,{"v":129453,"d":"129,453"},0,0,{"$f":"SUM(BG15,+BO15,+CG15)","v":0},{"$f":"SUM(AE15,+BG15)","v":0},{"$f":"SUM(AF15,+BH15)","v":0},{"$f":"SUM(AG15,+BI15)","v":0},{"$f":"SUM(AH15,+BJ15)","v":0},{"$f":"SUM(AI15,+BK15)","v":0},{"$f":"SUM(AJ15,+BL15)","v":0},{"$f":"SUM(AK15,+BM15)","v":0},{"$f":"SUM(AL15,+BN15)","v":{"v":223248,"d":"223,248"}},{"$f":"SUM(AM15,+BO15)","v":{"v":326193,"d":"326,193"}},{"$f":"SUM(AN15,+BP15)","v":{"v":84585,"d":"84,585"}},{"$f":"SUM(AO15,+BQ15)","v":{"v":84585,"d":"84,585"}},{"$f":"SUM(AP15,+BR15)","v":0},{"$f":"SUM(AQ15,+BS15)","v":0},{"$f":"SUM(AR15,+BT15)","v":0},{"$f":"SUM(AS15,+BU15)","v":{"v":2889,"d":"2,889"}},{"$f":"SUM(AT15,+BV15)","v":{"v":2889,"d":"2,889"}},{"$f":"SUM(AU15,+BW15)","v":0},{"$f":"SUM(AV15,+BX15)","v":0},{"$f":"SUM(AW15,+BY15)","v":0},{"$f":"SUM(AX15,+BZ15)","v":{"v":238719,"d":"238,719"}},{"$f":"SUM(AY15,+CA15)","v":{"v":238356,"d":"238,356"}},{"$f":"SUM(AZ15,+CB15)","v":0},{"$f":"SUM(BA15,+CC15)","v":0},{"$f":"SUM(BB15,+CD15)","v":363},{"$f":"SUM(BC15,+CE15)","v":{"v":452398,"d":"452,398"}},{"$f":"SUM(BD15,+CF15)","v":0},{"$f":"SUM(BE15,+CG15)","v":0},{"$f":"SUM(BF15,+CH15)","v":{"v":326193,"d":"326,193"}}]
["京都府","26208","向日市",{"$f":"SUM(E16,+L16)","v":{"v":892331,"d":"892,331"}},{"$f":"SUM(F16:I16,K16)","v":{"v":6564,"d":"6,564"}},0,0,0,{"v":6564,"d":"6,564"},"-",0,{"v":885767,"d":"885,767"},{"$f":"SUM(N16,+U16)","v":{"v":32595,"d":"32,595"}},{"$f":"SUM(O16:R16,T16)","v":{"v":1202,"d":"1,202"}},0,0,0,{"v":1202,"d":"1,202"},"-",0,{"v":31393,"d":"31,393"},{"$f":"+SUM(D16,M16)","v":{"v":924926,"d":"924,926"}},{"$f":"+SUM(E16,N16)","v":{"v":7766,"d":"7,766"}},{"$f":"+SUM(F16,O16)","v":0},{"$f":"+SUM(G16,P16)","v":0},{"$f":"+SUM(H16,Q16)","v":0},{"$f":"+SUM(I16,R16)","v":{"v":7766,"d":"7,766"}},{"$f":"IF(+SUM(J16,S16)=0,\"-\",+SUM(J16,S16))","v":"-"},{"$f":"+SUM(K16,T16)","v":0},{"$f":"+SUM(L16,U16)","v":{"v":917160,"d":"917,160"}},{"$f":"SUM(AF16,+AK16)","v":0},{"$f":"SUM(AG16:AJ16)","v":0},0,0,0,0,0,{"v":144702,"d":"144,702"},{"$f":"SUM(AN16,AS16,AW16,AX16,BD16)","v":{"v":474161,"d":"474,161"}},{"$f":"SUM(AO16:AR16)","v":{"v":139145,"d":"139,145"}},{"v":36617,"d":"36,617"},{"v":102528,"d":"102,528"},0,0,{"$f":"SUM(AT16:AV16)","v":{"v":335016,"d":"335,016"}},{"v":335016,"d":"335,016"},0,0,0,{"$f":"SUM(AY16:BB16)","v":0},0,0,0,0,{"v":273468,"d":"273,468"},0,0,{"$f":"SUM(AE16,+AM16,+BE16)","v":{"v":474161,"d":"474,161"}},{"$f":"SUM(BH16,+BM16)","v":0},{"$f":"SUM(BI16:BL16)","v":0},0,0,0,0,0,0,{"$f":"SUM(BP16,BU16,BY16,BZ16,CF16)","v":{"v":32595,"d":"32,595"}},{"$f":"SUM(BQ16:BT16)","v":{"v":7323,"d":"7,323"}},{"v":7323,"d":"7,323"},0,0,0,{"$f":"SUM(BV16:BX16)","v":{"v":25272,"d":"25,272"}},{"v":25272,"d":"25,272"},0,0,0,{"$f":"SUM(CA16:CD16)","v":0},0,0,0,0,0,0,0,{"$f":"SUM(BG16,+BO16,+CG16)","v":{"v":32595,"d":"32,595"}},{"$f":"SUM(AE16,+BG16)","v":0},{"$f":"SUM(AF16,+BH16)","v":0},{"$f":"SUM(AG16,+BI16)","v":0},{"$f":"SUM(AH16,+BJ16)","v":0},{"$f":"SUM(AI16,+BK16)","v":0},{"$f":"SUM(AJ16,+BL16)","v":0},{"$f":"SUM(AK16,+BM16)","v":0},{"$f":"SUM(AL16,+BN16)","v":{"v":144702,"d":"144,702"}},{"$f":"SUM(AM16,+BO16)","v":{"v":506756,"d":"506,756"}},{"$f":"SUM(AN16,+BP16)","v":{"v":146468,"d":"146,468"}},{"$f":"SUM(AO16,+BQ16)","v":{"v":43940,"d":"43,940"}},{"$f":"SUM(AP16,+BR16)","v":{"v":102528,"d":"102,528"}},{"$f":"SUM(AQ16,+BS16)","v":0},{"$f":"SUM(AR16,+BT16)","v":0},{"$f":"SUM(AS16,+BU16)","v":{"v":360288,"d":"360,288"}},{"$f":"SUM(AT16,+BV16)","v":{"v":360288,"d":"360,288"}},{"$f":"SUM(AU16,+BW16)","v":0},{"$f":"SUM(AV16,+BX16)","v":0},{"$f":"SUM(AW16,+BY16)","v":0},{"$f":"SUM(AX16,+BZ16)","v":0},{"$f":"SUM(AY16,+CA16)","v":0},{"$f":"SUM(AZ16,+CB16)","v":0},{"$f":"SUM(BA16,+CC16)","v":0},{"$f":"SUM(BB16,+CD16)","v":0},{"$f":"SUM(BC16,+CE16)","v":{"v":273468,"d":"273,468"}},{"$f":"SUM(BD16,+CF16)","v":0},{"$f":"SUM(BE16,+CG16)","v":0},{"$f":"SUM(BF16,+CH16)","v":{"v":506756,"d":"506,756"}}]
["京都府","26209","長岡京市",{"$f":"SUM(E17,+L17)","v":{"v":1281954,"d":"1,281,954"}},{"$f":"SUM(F17:I17,K17)","v":{"v":6768,"d":"6,768"}},0,0,0,{"v":6768,"d":"6,768"},"-",0,{"v":1275186,"d":"1,275,186"},{"$f":"SUM(N17,+U17)","v":0},{"$f":"SUM(O17:R17,T17)","v":0},0,0,0,0,"-",0,0,{"$f":"+SUM(D17,M17)","v":{"v":1281954,"d":"1,281,954"}},{"$f":"+SUM(E17,N17)","v":{"v":6768,"d":"6,768"}},{"$f":"+SUM(F17,O17)","v":0},{"$f":"+SUM(G17,P17)","v":0},{"$f":"+SUM(H17,Q17)","v":0},{"$f":"+SUM(I17,R17)","v":{"v":6768,"d":"6,768"}},{"$f":"IF(+SUM(J17,S17)=0,\"-\",+SUM(J17,S17))","v":"-"},{"$f":"+SUM(K17,T17)","v":0},{"$f":"+SUM(L17,U17)","v":{"v":1275186,"d":"1,275,186"}},{"$f":"SUM(AF17,+AK17)","v":0},{"$f":"SUM(AG17:AJ17)","v":0},0,0,0,0,0,{"v":210401,"d":"210,401"},{"$f":"SUM(AN17,AS17,AW17,AX17,BD17)","v":{"v":673923,"d":"673,923"}},{"$f":"SUM(AO17:AR17)","v":{"v":278714,"d":"278,714"}},{"v":53052,"d":"53,052"},{"v":225662,"d":"225,662"},0,0,{"$f":"SUM(AT17:AV17)","v":{"v":6112,"d":"6,112"}},{"v":6112,"d":"6,112"},0,0,{"v":7117,"d":"7,117"},{"$f":"SUM(AY17:BB17)","v":{"v":381980,"d":"381,980"}},{"v":381980,"d":"381,980"},0,0,0,{"v":397630,"d":"397,630"},0,0,{"$f":"SUM(AE17,+AM17,+BE17)","v":{"v":673923,"d":"673,923"}},{"$f":"SUM(BH17,+BM17)","v":0},{"$f":"SUM(BI17:BL17)","v":0},0,0,0,0,0,0,{"$f":"SUM(BP17,BU17,BY17,BZ17,CF17)","v":0},{"$f":"SUM(BQ17:BT17)","v":0},0,0,0,0,{"$f":"SUM(BV17:BX17)","v":0},0,0,0,0,{"$f":"SUM(CA17:CD17)","v":0},0,0,0,0,0,0,0,{"$f":"SUM(BG17,+BO17,+CG17)","v":0},{"$f":"SUM(AE17,+BG17)","v":0},{"$f":"SUM(AF17,+BH17)","v":0},{"$f":"SUM(AG17,+BI17)","v":0},{"$f":"SUM(AH17,+BJ17)","v":0},{"$f":"SUM(AI17,+BK17)","v":0},{"$f":"SUM(AJ17,+BL17)","v":0},{"$f":"SUM(AK17,+BM17)","v":0},{"$f":"SUM(AL17,+BN17)","v":{"v":210401,"d":"210,401"}},{"$f":"SUM(AM17,+BO17)","v":{"v":673923,"d":"673,923"}},{"$f":"SUM(AN17,+BP17)","v":{"v":278714,"d":"278,714"}},{"$f":"SUM(AO17,+BQ17)","v":{"v":53052,"d":"53,052"}},{"$f":"SUM(AP17,+BR17)","v":{"v":225662,"d":"225,662"}},{"$f":"SUM(AQ17,+BS17)","v":0},{"$f":"SUM(AR17,+BT17)","v":0},{"$f":"SUM(AS17,+BU17)","v":{"v":6112,"d":"6,112"}},{"$f":"SUM(AT17,+BV17)","v":{"v":6112,"d":"6,112"}},{"$f":"SUM(AU17,+BW17)","v":0},{"$f":"SUM(AV17,+BX17)","v":0},{"$f":"SUM(AW17,+BY17)","v":{"v":7117,"d":"7,117"}},{"$f":"SUM(AX17,+BZ17)","v":{"v":381980,"d":"381,980"}},{"$f":"SUM(AY17,+CA17)","v":{"v":381980,"d":"381,980"}},{"$f":"SUM(AZ17,+CB17)","v":0},{"$f":"SUM(BA17,+CC17)","v":0},{"$f":"SUM(BB17,+CD17)","v":0},{"$f":"SUM(BC17,+CE17)","v":{"v":397630,"d":"397,630"}},{"$f":"SUM(BD17,+CF17)","v":0},{"$f":"SUM(BE17,+CG17)","v":0},{"$f":"SUM(BF17,+CH17)","v":{"v":673923,"d":"673,923"}}]
["京都府","26210","八幡市",{"$f":"SUM(E18,+L18)","v":{"v":953315,"d":"953,315"}},{"$f":"SUM(F18:I18,K18)","v":{"v":16857,"d":"16,857"}},0,0,{"v":10500,"d":"10,500"},{"v":6357,"d":"6,357"},"-",0,{"v":936458,"d":"936,458"},{"$f":"SUM(N18,+U18)","v":{"v":72608,"d":"72,608"}},{"$f":"SUM(O18:R18,T18)","v":0},0,0,0,0,"-",0,{"v":72608,"d":"72,608"},{"$f":"+SUM(D18,M18)","v":{"v":1025923,"d":"1,025,923"}},{"$f":"+SUM(E18,N18)","v":{"v":16857,"d":"16,857"}},{"$f":"+SUM(F18,O18)","v":0},{"$f":"+SUM(G18,P18)","v":0},{"$f":"+SUM(H18,Q18)","v":{"v":10500,"d":"10,500"}},{"$f":"+SUM(I18,R18)","v":{"v":6357,"d":"6,357"}},{"$f":"IF(+SUM(J18,S18)=0,\"-\",+SUM(J18,S18))","v":"-"},{"$f":"+SUM(K18,T18)","v":0},{"$f":"+SUM(L18,U18)","v":{"v":1009066,"d":"1,009,066"}},{"$f":"SUM(AF18,+AK18)","v":0},{"$f":"SUM(AG18:AJ18)","v":0},0,0,0,0,0,{"v":182126,"d":"182,126"},{"$f":"SUM(AN18,AS18,AW18,AX18,BD18)","v":{"v":479022,"d":"479,022"}},{"$f":"SUM(AO18:AR18)","v":{"v":354435,"d":"354,435"}},{"v":45063,"d":"45,063"},{"v":309372,"d":"309,372"},0,0,{"$f":"SUM(AT18:AV18)","v":{"v":10168,"d":"10,168"}},{"v":10168,"d":"10,168"},0,0,{"v":15371,"d":"15,371"},{"$f":"SUM(AY18:BB18)","v":{"v":99048,"d":"99,048"}},{"v":99048,"d":"99,048"},0,0,0,{"v":292167,"d":"292,167"},0,0,{"$f":"SUM(AE18,+AM18,+BE18)","v":{"v":479022,"d":"479,022"}},{"$f":"SUM(BH18,+BM18)","v":0},{"$f":"SUM(BI18:BL18)","v":0},0,0,0,0,0,{"v":10521,"d":"10,521"},{"$f":"SUM(BP18,BU18,BY18,BZ18,CF18)","v":0},{"$f":"SUM(BQ18:BT18)","v":0},0,0,0,0,{"$f":"SUM(BV18:BX18)","v":0},0,0,0,0,{"$f":"SUM(CA18:CD18)","v":0},0,0,0,0,{"v":62087,"d":"62,087"},0,0,{"$f":"SUM(BG18,+BO18,+CG18)","v":0},{"$f":"SUM(AE18,+BG18)","v":0},{"$f":"SUM(AF18,+BH18)","v":0},{"$f":"SUM(AG18,+BI18)","v":0},{"$f":"SUM(AH18,+BJ18)","v":0},{"$f":"SUM(AI18,+BK18)","v":0},{"$f":"SUM(AJ18,+BL18)","v":0},{"$f":"SUM(AK18,+BM18)","v":0},{"$f":"SUM(AL18,+BN18)","v":{"v":192647,"d":"192,647"}},{"$f":"SUM(AM18,+BO18)","v":{"v":479022,"d":"479,022"}},{"$f":"SUM(AN18,+BP18)","v":{"v":354435,"d":"354,435"}},{"$f":"SUM(AO18,+BQ18)","v":{"v":45063,"d":"45,063"}},{"$f":"SUM(AP18,+BR18)","v":{"v":309372,"d":"309,372"}},{"$f":"SUM(AQ18,+BS18)","v":0},{"$f":"SUM(AR18,+BT18)","v":0},{"$f":"SUM(AS18,+BU18)","v":{"v":10168,"d":"10,168"}},{"$f":"SUM(AT18,+BV18)","v":{"v":10168,"d":"10,168"}},{"$f":"SUM(AU18,+BW18)","v":0},{"$f":"SUM(AV18,+BX18)","v":0},{"$f":"SUM(AW18,+BY18)","v":{"v":15371,"d":"15,371"}},{"$f":"SUM(AX18,+BZ18)","v":{"v":99048,"d":"99,048"}},{"$f":"SUM(AY18,+CA18)","v":{"v":99048,"d":"99,048"}},{"$f":"SUM(AZ18,+CB18)","v":0},{"$f":"SUM(BA18,+CC18)","v":0},{"$f":"SUM(BB18,+CD18)","v":0},{"$f":"SUM(BC18,+CE18)","v":{"v":354254,"d":"354,254"}},{"$f":"SUM(BD18,+CF18)","v":0},{"$f":"SUM(BE18,+CG18)","v":0},{"$f":"SUM(BF18,+CH18)","v":{"v":479022,"d":"479,022"}}]
["京都府","26211","京田辺市",{"$f":"SUM(E19,+L19)","v":{"v":954699,"d":"954,699"}},{"$f":"SUM(F19:I19,K19)","v":{"v":67957,"d":"67,957"}},0,0,0,{"v":59713,"d":"59,713"},"-",{"v":8244,"d":"8,244"},{"v":886742,"d":"886,742"},{"$f":"SUM(N19,+U19)","v":{"v":94534,"d":"94,534"}},{"$f":"SUM(O19:R19,T19)","v":{"v":9328,"d":"9,328"}},0,0,0,{"v":9328,"d":"9,328"},"-",0,{"v":85206,"d":"85,206"},{"$f":"+SUM(D19,M19)","v":{"v":1049233,"d":"1,049,233"}},{"$f":"+SUM(E19,N19)","v":{"v":77285,"d":"77,285"}},{"$f":"+SUM(F19,O19)","v":0},{"$f":"+SUM(G19,P19)","v":0},{"$f":"+SUM(H19,Q19)","v":0},{"$f":"+SUM(I19,R19)","v":{"v":69041,"d":"69,041"}},{"$f":"IF(+SUM(J19,S19)=0,\"-\",+SUM(J19,S19))","v":"-"},{"$f":"+SUM(K19,T19)","v":{"v":8244,"d":"8,244"}},{"$f":"+SUM(L19,U19)","v":{"v":971948,"d":"971,948"}},{"$f":"SUM(AF19,+AK19)","v":{"v":38189,"d":"38,189"}},{"$f":"SUM(AG19:AJ19)","v":{"v":35827,"d":"35,827"}},0,0,0,{"v":35827,"d":"35,827"},{"v":2362,"d":"2,362"},0,{"$f":"SUM(AN19,AS19,AW19,AX19,BD19)","v":{"v":848985,"d":"848,985"}},{"$f":"SUM(AO19:AR19)","v":{"v":366120,"d":"366,120"}},{"v":29098,"d":"29,098"},{"v":188375,"d":"188,375"},{"v":137787,"d":"137,787"},{"v":10860,"d":"10,860"},{"$f":"SUM(AT19:AV19)","v":{"v":263941,"d":"263,941"}},{"v":17191,"d":"17,191"},{"v":238888,"d":"238,888"},{"v":7862,"d":"7,862"},{"v":7106,"d":"7,106"},{"$f":"SUM(AY19:BB19)","v":{"v":206469,"d":"206,469"}},{"v":148358,"d":"148,358"},{"v":34147,"d":"34,147"},{"v":23964,"d":"23,964"},0,0,{"v":5349,"d":"5,349"},{"v":67525,"d":"67,525"},{"$f":"SUM(AE19,+AM19,+BE19)","v":{"v":954699,"d":"954,699"}},{"$f":"SUM(BH19,+BM19)","v":0},{"$f":"SUM(BI19:BL19)","v":0},0,0,0,0,0,0,{"$f":"SUM(BP19,BU19,BY19,BZ19,CF19)","v":{"v":75394,"d":"75,394"}},{"$f":"SUM(BQ19:BT19)","v":{"v":27959,"d":"27,959"}},{"v":8513,"d":"8,513"},0,{"v":19446,"d":"19,446"},0,{"$f":"SUM(BV19:BX19)","v":{"v":20895,"d":"20,895"}},0,{"v":20895,"d":"20,895"},0,0,{"$f":"SUM(CA19:CD19)","v":{"v":26540,"d":"26,540"}},{"v":21248,"d":"21,248"},{"v":5292,"d":"5,292"},0,0,0,0,{"v":19140,"d":"19,140"},{"$f":"SUM(BG19,+BO19,+CG19)","v":{"v":94534,"d":"94,534"}},{"$f":"SUM(AE19,+BG19)","v":{"v":38189,"d":"38,189"}},{"$f":"SUM(AF19,+BH19)","v":{"v":35827,"d":"35,827"}},{"$f":"SUM(AG19,+BI19)","v":0},{"$f":"SUM(AH19,+BJ19)","v":0},{"$f":"SUM(AI19,+BK19)","v":0},{"$f":"SUM(AJ19,+BL19)","v":{"v":35827,"d":"35,827"}},{"$f":"SUM(AK19,+BM19)","v":{"v":2362,"d":"2,362"}},{"$f":"SUM(AL19,+BN19)","v":0},{"$f":"SUM(AM19,+BO19)","v":{"v":924379,"d":"924,379"}},{"$f":"SUM(AN19,+BP19)","v":{"v":394079,"d":"394,079"}},{"$f":"SUM(AO19,+BQ19)","v":{"v":37611,"d":"37,611"}},{"$f":"SUM(AP19,+BR19)","v":{"v":188375,"d":"188,375"}},{"$f":"SUM(AQ19,+BS19)","v":{"v":157233,"d":"157,233"}},{"$f":"SUM(AR19,+BT19)","v":{"v":10860,"d":"10,860"}},{"$f":"SUM(AS19,+BU19)","v":{"v":284836,"d":"284,836"}},{"$f":"SUM(AT19,+BV19)","v":{"v":17191,"d":"17,191"}},{"$f":"SUM(AU19,+BW19)","v":{"v":259783,"d":"259,783"}},{"$f":"SUM(AV19,+BX19)","v":{"v":7862,"d":"7,862"}},{"$f":"SUM(AW19,+BY19)","v":{"v":7106,"d":"7,106"}},{"$f":"SUM(AX19,+BZ19)","v":{"v":233009,"d":"233,009"}},{"$f":"SUM(AY19,+CA19)","v":{"v":169606,"d":"169,606"}},{"$f":"SUM(AZ19,+CB19)","v":{"v":39439,"d":"39,439"}},{"$f":"SUM(BA19,+CC19)","v":{"v":23964,"d":"23,964"}},{"$f":"SUM(BB19,+CD19)","v":0},{"$f":"SUM(BC19,+CE19)","v":0},{"$f":"SUM(BD19,+CF19)","v":{"v":5349,"d":"5,349"}},{"$f":"SUM(BE19,+CG19)","v":{"v":86665,"d":"86,665"}},{"$f":"SUM(BF19,+CH19)","v":{"v":1049233,"d":"1,049,233"}}]
["京都府","26212","京丹後市",{"$f":"SUM(E20,+L20)","v":{"v":950936,"d":"950,936"}},{"$f":"SUM(F20:I20,K20)","v":{"v":158007,"d":"158,007"}},{"v":38475,"d":"38,475"},0,0,{"v":37853,"d":"37,853"},"-",{"v":81679,"d":"81,679"},{"v":792929,"d":"792,929"},{"$f":"SUM(N20,+U20)","v":{"v":570261,"d":"570,261"}},{"$f":"SUM(O20:R20,T20)","v":{"v":298281,"d":"298,281"}},0,0,0,{"v":274259,"d":"274,259"},"-",{"v":24022,"d":"24,022"},{"v":271980,"d":"271,980"},{"$f":"+SUM(D20,M20)","v":{"v":1521197,"d":"1,521,197"}},{"$f":"+SUM(E20,N20)","v":{"v":456288,"d":"456,288"}},{"$f":"+SUM(F20,O20)","v":{"v":38475,"d":"38,475"}},{"$f":"+SUM(G20,P20)","v":0},{"$f":"+SUM(H20,Q20)","v":0},{"$f":"+SUM(I20,R20)","v":{"v":312112,"d":"312,112"}},{"$f":"IF(+SUM(J20,S20)=0,\"-\",+SUM(J20,S20))","v":"-"},{"$f":"+SUM(K20,T20)","v":{"v":105701,"d":"105,701"}},{"$f":"+SUM(L20,U20)","v":{"v":1064909,"d":"1,064,909"}},{"$f":"SUM(AF20,+AK20)","v":{"v":133457,"d":"133,457"}},{"$f":"SUM(AG20:AJ20)","v":{"v":133457,"d":"133,457"}},0,{"v":77976,"d":"77,976"},{"v":55481,"d":"55,481"},0,0,0,{"$f":"SUM(AN20,AS20,AW20,AX20,BD20)","v":{"v":767452,"d":"767,452"}},{"$f":"SUM(AO20:AR20)","v":{"v":39442,"d":"39,442"}},{"v":39442,"d":"39,442"},0,0,0,{"$f":"SUM(AT20:AV20)","v":{"v":148756,"d":"148,756"}},0,{"v":99841,"d":"99,841"},{"v":48915,"d":"48,915"},0,{"$f":"SUM(AY20:BB20)","v":{"v":579254,"d":"579,254"}},{"v":217709,"d":"217,709"},{"v":274672,"d":"274,672"},{"v":84095,"d":"84,095"},{"v":2778,"d":"2,778"},0,0,{"v":50027,"d":"50,027"},{"$f":"SUM(AE20,+AM20,+BE20)","v":{"v":950936,"d":"950,936"}},{"$f":"SUM(BH20,+BM20)","v":0},{"$f":"SUM(BI20:BL20)","v":0},0,0,0,0,0,0,{"$f":"SUM(BP20,BU20,BY20,BZ20,CF20)","v":{"v":493158,"d":"493,158"}},{"$f":"SUM(BQ20:BT20)","v":{"v":56083,"d":"56,083"}},{"v":56083,"d":"56,083"},0,0,0,{"$f":"SUM(BV20:BX20)","v":{"v":155342,"d":"155,342"}},0,{"v":155342,"d":"155,342"},0,0,{"$f":"SUM(CA20:CD20)","v":{"v":281733,"d":"281,733"}},{"v":205045,"d":"205,045"},{"v":76688,"d":"76,688"},0,0,0,0,{"v":77103,"d":"77,103"},{"$f":"SUM(BG20,+BO20,+CG20)","v":{"v":570261,"d":"570,261"}},{"$f":"SUM(AE20,+BG20)","v":{"v":133457,"d":"133,457"}},{"$f":"SUM(AF20,+BH20)","v":{"v":133457,"d":"133,457"}},{"$f":"SUM(AG20,+BI20)","v":0},{"$f":"SUM(AH20,+BJ20)","v":{"v":77976,"d":"77,976"}},{"$f":"SUM(AI20,+BK20)","v":{"v":55481,"d":"55,481"}},{"$f":"SUM(AJ20,+BL20)","v":0},{"$f":"SUM(AK20,+BM20)","v":0},{"$f":"SUM(AL20,+BN20)","v":0},{"$f":"SUM(AM20,+BO20)","v":{"v":1260610,"d":"1,260,610"}},{"$f":"SUM(AN20,+BP20)","v":{"v":95525,"d":"95,525"}},{"$f":"SUM(AO20,+BQ20)","v":{"v":95525,"d":"95,525"}},{"$f":"SUM(AP20,+BR20)","v":0},{"$f":"SUM(AQ20,+BS20)","v":0},{"$f":"SUM(AR20,+BT20)","v":0},{"$f":"SUM(AS20,+BU20)","v":{"v":304098,"d":"304,098"}},{"$f":"SUM(AT20,+BV20)","v":0},{"$f":"SUM(AU20,+BW20)","v":{"v":255183,"d":"255,183"}},{"$f":"SUM(AV20,+BX20)","v":{"v":48915,"d":"48,915"}},{"$f":"SUM(AW20,+BY20)","v":0},{"$f":"SUM(AX20,+BZ20)","v":{"v":860987,"d":"860,987"}},{"$f":"SUM(AY20,+CA20)","v":{"v":422754,"d":"422,754"}},{"$f":"SUM(AZ20,+CB20)","v":{"v":351360,"d":"351,360"}},{"$f":"SUM(BA20,+CC20)","v":{"v":84095,"d":"84,095"}},{"$f":"SUM(BB20,+CD20)","v":{"v":2778,"d":"2,778"}},{"$f":"SUM(BC20,+CE20)","v":0},{"$f":"SUM(BD20,+CF20)","v":0},{"$f":"SUM(BE20,+CG20)","v":{"v":127130,"d":"127,130"}},{"$f":"SUM(BF20,+CH20)","v":{"v":1521197,"d":"1,521,197"}}]
["京都府","26213","南丹市",{"$f":"SUM(E21,+L21)","v":{"v":254714,"d":"254,714"}},{"$f":"SUM(F21:I21,K21)","v":0},0,0,0,0,"-",0,{"v":254714,"d":"254,714"},{"$f":"SUM(N21,+U21)","v":{"v":320228,"d":"320,228"}},{"$f":"SUM(O21:R21,T21)","v":0},0,0,0,0,"-",0,{"v":320228,"d":"320,228"},{"$f":"+SUM(D21,M21)","v":{"v":574942,"d":"574,942"}},{"$f":"+SUM(E21,N21)","v":0},{"$f":"+SUM(F21,O21)","v":0},{"$f":"+SUM(G21,P21)","v":0},{"$f":"+SUM(H21,Q21)","v":0},{"$f":"+SUM(I21,R21)","v":0},{"$f":"IF(+SUM(J21,S21)=0,\"-\",+SUM(J21,S21))","v":"-"},{"$f":"+SUM(K21,T21)","v":0},{"$f":"+SUM(L21,U21)","v":{"v":574942,"d":"574,942"}},{"$f":"SUM(AF21,+AK21)","v":0},{"$f":"SUM(AG21:AJ21)","v":0},0,0,0,0,0,0,{"$f":"SUM(AN21,AS21,AW21,AX21,BD21)","v":0},{"$f":"SUM(AO21:AR21)","v":0},0,0,0,0,{"$f":"SUM(AT21:AV21)","v":0},0,0,0,0,{"$f":"SUM(AY21:BB21)","v":0},0,0,0,0,{"v":254714,"d":"254,714"},0,0,{"$f":"SUM(AE21,+AM21,+BE21)","v":0},{"$f":"SUM(BH21,+BM21)","v":0},{"$f":"SUM(BI21:BL21)","v":0},0,0,0,0,0,0,{"$f":"SUM(BP21,BU21,BY21,BZ21,CF21)","v":0},{"$f":"SUM(BQ21:BT21)","v":0},0,0,0,0,{"$f":"SUM(BV21:BX21)","v":0},0,0,0,0,{"$f":"SUM(CA21:CD21)","v":0},0,0,0,0,{"v":320228,"d":"320,228"},0,0,{"$f":"SUM(BG21,+BO21,+CG21)","v":0},{"$f":"SUM(AE21,+BG21)","v":0},{"$f":"SUM(AF21,+BH21)","v":0},{"$f":"SUM(AG21,+BI21)","v":0},{"$f":"SUM(AH21,+BJ21)","v":0},{"$f":"SUM(AI21,+BK21)","v":0},{"$f":"SUM(AJ21,+BL21)","v":0},{"$f":"SUM(AK21,+BM21)","v":0},{"$f":"SUM(AL21,+BN21)","v":0},{"$f":"SUM(AM21,+BO21)","v":0},{"$f":"SUM(AN21,+BP21)","v":0},{"$f":"SUM(AO21,+BQ21)","v":0},{"$f":"SUM(AP21,+BR21)","v":0},{"$f":"SUM(AQ21,+BS21)","v":0},{"$f":"SUM(AR21,+BT21)","v":0},{"$f":"SUM(AS21,+BU21)","v":0},{"$f":"SUM(AT21,+BV21)","v":0},{"$f":"SUM(AU21,+BW21)","v":0},{"$f":"SUM(AV21,+BX21)","v":0},{"$f":"SUM(AW21,+BY21)","v":0},{"$f":"SUM(AX21,+BZ21)","v":0},{"$f":"SUM(AY21,+CA21)","v":0},{"$f":"SUM(AZ21,+CB21)","v":0},{"$f":"SUM(BA21,+CC21)","v":0},{"$f":"SUM(BB21,+CD21)","v":0},{"$f":"SUM(BC21,+CE21)","v":{"v":574942,"d":"574,942"}},{"$f":"SUM(BD21,+CF21)","v":0},{"$f":"SUM(BE21,+CG21)","v":0},{"$f":"SUM(BF21,+CH21)","v":0}]
["京都府","26214","木津川市",{"$f":"SUM(E22,+L22)","v":{"v":4109346,"d":"4,109,346"}},{"$f":"SUM(F22:I22,K22)","v":{"v":17944,"d":"17,944"}},0,0,0,{"v":1385,"d":"1,385"},"-",{"v":16559,"d":"16,559"},{"v":4091402,"d":"4,091,402"},{"$f":"SUM(N22,+U22)","v":{"v":166505,"d":"166,505"}},{"$f":"SUM(O22:R22,T22)","v":{"v":40174,"d":"40,174"}},0,0,0,{"v":40102,"d":"40,102"},"-",72,{"v":126331,"d":"126,331"},{"$f":"+SUM(D22,M22)","v":{"v":4275851,"d":"4,275,851"}},{"$f":"+SUM(E22,N22)","v":{"v":58118,"d":"58,118"}},{"$f":"+SUM(F22,O22)","v":0},{"$f":"+SUM(G22,P22)","v":0},{"$f":"+SUM(H22,Q22)","v":0},{"$f":"+SUM(I22,R22)","v":{"v":41487,"d":"41,487"}},{"$f":"IF(+SUM(J22,S22)=0,\"-\",+SUM(J22,S22))","v":"-"},{"$f":"+SUM(K22,T22)","v":{"v":16631,"d":"16,631"}},{"$f":"+SUM(L22,U22)","v":{"v":4217733,"d":"4,217,733"}},{"$f":"SUM(AF22,+AK22)","v":{"v":3042309,"d":"3,042,309"}},{"$f":"SUM(AG22:AJ22)","v":{"v":3040982,"d":"3,040,982"}},0,{"v":3040982,"d":"3,040,982"},0,0,{"v":1327,"d":"1,327"},{"v":15917,"d":"15,917"},{"$f":"SUM(AN22,AS22,AW22,AX22,BD22)","v":{"v":925128,"d":"925,128"}},{"$f":"SUM(AO22:AR22)","v":{"v":20250,"d":"20,250"}},{"v":20250,"d":"20,250"},0,0,0,{"$f":"SUM(AT22:AV22)","v":{"v":3316,"d":"3,316"}},0,0,{"v":3316,"d":"3,316"},0,{"$f":"SUM(AY22:BB22)","v":{"v":901562,"d":"901,562"}},{"v":484532,"d":"484,532"},{"v":412003,"d":"412,003"},{"v":2694,"d":"2,694"},{"v":2333,"d":"2,333"},{"v":112809,"d":"112,809"},0,{"v":13183,"d":"13,183"},{"$f":"SUM(AE22,+AM22,+BE22)","v":{"v":3980620,"d":"3,980,620"}},{"$f":"SUM(BH22,+BM22)","v":0},{"$f":"SUM(BI22:BL22)","v":0},0,0,0,0,0,0,{"$f":"SUM(BP22,BU22,BY22,BZ22,CF22)","v":{"v":4266,"d":"4,266"}},{"$f":"SUM(BQ22:BT22)","v":{"v":4050,"d":"4,050"}},{"v":4050,"d":"4,050"},0,0,0,{"$f":"SUM(BV22:BX22)","v":0},0,0,0,0,{"$f":"SUM(CA22:CD22)","v":216},0,0,0,216,{"v":161328,"d":"161,328"},0,911,{"$f":"SUM(BG22,+BO22,+CG22)","v":{"v":5177,"d":"5,177"}},{"$f":"SUM(AE22,+BG22)","v":{"v":3042309,"d":"3,042,309"}},{"$f":"SUM(AF22,+BH22)","v":{"v":3040982,"d":"3,040,982"}},{"$f":"SUM(AG22,+BI22)","v":0},{"$f":"SUM(AH22,+BJ22)","v":{"v":3040982,"d":"3,040,982"}},{"$f":"SUM(AI22,+BK22)","v":0},{"$f":"SUM(AJ22,+BL22)","v":0},{"$f":"SUM(AK22,+BM22)","v":{"v":1327,"d":"1,327"}},{"$f":"SUM(AL22,+BN22)","v":{"v":15917,"d":"15,917"}},{"$f":"SUM(AM22,+BO22)","v":{"v":929394,"d":"929,394"}},{"$f":"SUM(AN22,+BP22)","v":{"v":24300,"d":"24,300"}},{"$f":"SUM(AO22,+BQ22)","v":{"v":24300,"d":"24,300"}},{"$f":"SUM(AP22,+BR22)","v":0},{"$f":"SUM(AQ22,+BS22)","v":0},{"$f":"SUM(AR22,+BT22)","v":0},{"$f":"SUM(AS22,+BU22)","v":{"v":3316,"d":"3,316"}},{"$f":"SUM(AT22,+BV22)","v":0},{"$f":"SUM(AU22,+BW22)","v":0},{"$f":"SUM(AV22,+BX22)","v":{"v":3316,"d":"3,316"}},{"$f":"SUM(AW22,+BY22)","v":0},{"$f":"SUM(AX22,+BZ22)","v":{"v":901778,"d":"901,778"}},{"$f":"SUM(AY22,+CA22)","v":{"v":484532,"d":"484,532"}},{"$f":"SUM(AZ22,+CB22)","v":{"v":412003,"d":"412,003"}},{"$f":"SUM(BA22,+CC22)","v":{"v":2694,"d":"2,694"}},{"$f":"SUM(BB22,+CD22)","v":{"v":2549,"d":"2,549"}},{"$f":"SUM(BC22,+CE22)","v":{"v":274137,"d":"274,137"}},{"$f":"SUM(BD22,+CF22)","v":0},{"$f":"SUM(BE22,+CG22)","v":{"v":14094,"d":"14,094"}},{"$f":"SUM(BF22,+CH22)","v":{"v":3985797,"d":"3,985,797"}}]
["京都府","26303","大山崎町",{"$f":"SUM(E23,+L23)","v":{"v":238543,"d":"238,543"}},{"$f":"SUM(F23:I23,K23)","v":{"v":1873,"d":"1,873"}},0,0,0,{"v":1873,"d":"1,873"},"-",0,{"v":236670,"d":"236,670"},{"$f":"SUM(N23,+U23)","v":{"v":2818,"d":"2,818"}},{"$f":"SUM(O23:R23,T23)","v":{"v":1962,"d":"1,962"}},0,0,0,{"v":1962,"d":"1,962"},"-",0,856,{"$f":"+SUM(D23,M23)","v":{"v":241361,"d":"241,361"}},{"$f":"+SUM(E23,N23)","v":{"v":3835,"d":"3,835"}},{"$f":"+SUM(F23,O23)","v":0},{"$f":"+SUM(G23,P23)","v":0},{"$f":"+SUM(H23,Q23)","v":0},{"$f":"+SUM(I23,R23)","v":{"v":3835,"d":"3,835"}},{"$f":"IF(+SUM(J23,S23)=0,\"-\",+SUM(J23,S23))","v":"-"},{"$f":"+SUM(K23,T23)","v":0},{"$f":"+SUM(L23,U23)","v":{"v":237526,"d":"237,526"}},{"$f":"SUM(AF23,+AK23)","v":0},{"$f":"SUM(AG23:AJ23)","v":0},0,0,0,0,0,{"v":40908,"d":"40,908"},{"$f":"SUM(AN23,AS23,AW23,AX23,BD23)","v":{"v":120324,"d":"120,324"}},{"$f":"SUM(AO23:AR23)","v":{"v":43628,"d":"43,628"}},0,{"v":43628,"d":"43,628"},0,0,{"$f":"SUM(AT23:AV23)","v":{"v":4471,"d":"4,471"}},{"v":4471,"d":"4,471"},0,0,0,{"$f":"SUM(AY23:BB23)","v":{"v":72225,"d":"72,225"}},{"v":72225,"d":"72,225"},0,0,0,{"v":77311,"d":"77,311"},0,0,{"$f":"SUM(AE23,+AM23,+BE23)","v":{"v":120324,"d":"120,324"}},{"$f":"SUM(BH23,+BM23)","v":0},{"$f":"SUM(BI23:BL23)","v":0},0,0,0,0,0,0,{"$f":"SUM(BP23,BU23,BY23,BZ23,CF23)","v":{"v":2818,"d":"2,818"}},{"$f":"SUM(BQ23:BT23)","v":0},0,0,0,0,{"$f":"SUM(BV23:BX23)","v":0},0,0,0,0,{"$f":"SUM(CA23:CD23)","v":{"v":2818,"d":"2,818"}},{"v":2818,"d":"2,818"},0,0,0,0,0,0,{"$f":"SUM(BG23,+BO23,+CG23)","v":{"v":2818,"d":"2,818"}},{"$f":"SUM(AE23,+BG23)","v":0},{"$f":"SUM(AF23,+BH23)","v":0},{"$f":"SUM(AG23,+BI23)","v":0},{"$f":"SUM(AH23,+BJ23)","v":0},{"$f":"SUM(AI23,+BK23)","v":0},{"$f":"SUM(AJ23,+BL23)","v":0},{"$f":"SUM(AK23,+BM23)","v":0},{"$f":"SUM(AL23,+BN23)","v":{"v":40908,"d":"40,908"}},{"$f":"SUM(AM23,+BO23)","v":{"v":123142,"d":"123,142"}},{"$f":"SUM(AN23,+BP23)","v":{"v":43628,"d":"43,628"}},{"$f":"SUM(AO23,+BQ23)","v":0},{"$f":"SUM(AP23,+BR23)","v":{"v":43628,"d":"43,628"}},{"$f":"SUM(AQ23,+BS23)","v":0},{"$f":"SUM(AR23,+BT23)","v":0},{"$f":"SUM(AS23,+BU23)","v":{"v":4471,"d":"4,471"}},{"$f":"SUM(AT23,+BV23)","v":{"v":4471,"d":"4,471"}},{"$f":"SUM(AU23,+BW23)","v":0},{"$f":"SUM(AV23,+BX23)","v":0},{"$f":"SUM(AW23,+BY23)","v":0},{"$f":"SUM(AX23,+BZ23)","v":{"v":75043,"d":"75,043"}},{"$f":"SUM(AY23,+CA23)","v":{"v":75043,"d":"75,043"}},{"$f":"SUM(AZ23,+CB23)","v":0},{"$f":"SUM(BA23,+CC23)","v":0},{"$f":"SUM(BB23,+CD23)","v":0},{"$f":"SUM(BC23,+CE23)","v":{"v":77311,"d":"77,311"}},{"$f":"SUM(BD23,+CF23)","v":0},{"$f":"SUM(BE23,+CG23)","v":0},{"$f":"SUM(BF23,+CH23)","v":{"v":123142,"d":"123,142"}}]
["京都府","26322","久御山町",{"$f":"SUM(E24,+L24)","v":{"v":252054,"d":"252,054"}},{"$f":"SUM(F24:I24,K24)","v":762},0,0,0,762,"-",0,{"v":251292,"d":"251,292"},{"$f":"SUM(N24,+U24)","v":{"v":36438,"d":"36,438"}},{"$f":"SUM(O24:R24,T24)","v":0},0,0,0,0,"-",0,{"v":36438,"d":"36,438"},{"$f":"+SUM(D24,M24)","v":{"v":288492,"d":"288,492"}},{"$f":"+SUM(E24,N24)","v":762},{"$f":"+SUM(F24,O24)","v":0},{"$f":"+SUM(G24,P24)","v":0},{"$f":"+SUM(H24,Q24)","v":0},{"$f":"+SUM(I24,R24)","v":762},{"$f":"IF(+SUM(J24,S24)=0,\"-\",+SUM(J24,S24))","v":"-"},{"$f":"+SUM(K24,T24)","v":0},{"$f":"+SUM(L24,U24)","v":{"v":287730,"d":"287,730"}},{"$f":"SUM(AF24,+AK24)","v":0},{"$f":"SUM(AG24:AJ24)","v":0},0,0,0,0,0,{"v":48653,"d":"48,653"},{"$f":"SUM(AN24,AS24,AW24,AX24,BD24)","v":{"v":125352,"d":"125,352"}},{"$f":"SUM(AO24:AR24)","v":{"v":54185,"d":"54,185"}},0,{"v":54185,"d":"54,185"},0,0,{"$f":"SUM(AT24:AV24)","v":{"v":23923,"d":"23,923"}},{"v":23923,"d":"23,923"},0,0,0,{"$f":"SUM(AY24:BB24)","v":{"v":47244,"d":"47,244"}},{"v":46960,"d":"46,960"},0,0,284,{"v":78049,"d":"78,049"},0,0,{"$f":"SUM(AE24,+AM24,+BE24)","v":{"v":125352,"d":"125,352"}},{"$f":"SUM(BH24,+BM24)","v":0},{"$f":"SUM(BI24:BL24)","v":0},0,0,0,0,0,{"v":5280,"d":"5,280"},{"$f":"SUM(BP24,BU24,BY24,BZ24,CF24)","v":0},{"$f":"SUM(BQ24:BT24)","v":0},0,0,0,0,{"$f":"SUM(BV24:BX24)","v":0},0,0,0,0,{"$f":"SUM(CA24:CD24)","v":0},0,0,0,0,{"v":31158,"d":"31,158"},0,0,{"$f":"SUM(BG24,+BO24,+CG24)","v":0},{"$f":"SUM(AE24,+BG24)","v":0},{"$f":"SUM(AF24,+BH24)","v":0},{"$f":"SUM(AG24,+BI24)","v":0},{"$f":"SUM(AH24,+BJ24)","v":0},{"$f":"SUM(AI24,+BK24)","v":0},{"$f":"SUM(AJ24,+BL24)","v":0},{"$f":"SUM(AK24,+BM24)","v":0},{"$f":"SUM(AL24,+BN24)","v":{"v":53933,"d":"53,933"}},{"$f":"SUM(AM24,+BO24)","v":{"v":125352,"d":"125,352"}},{"$f":"SUM(AN24,+BP24)","v":{"v":54185,"d":"54,185"}},{"$f":"SUM(AO24,+BQ24)","v":0},{"$f":"SUM(AP24,+BR24)","v":{"v":54185,"d":"54,185"}},{"$f":"SUM(AQ24,+BS24)","v":0},{"$f":"SUM(AR24,+BT24)","v":0},{"$f":"SUM(AS24,+BU24)","v":{"v":23923,"d":"23,923"}},{"$f":"SUM(AT24,+BV24)","v":{"v":23923,"d":"23,923"}},{"$f":"SUM(AU24,+BW24)","v":0},{"$f":"SUM(AV24,+BX24)","v":0},{"$f":"SUM(AW24,+BY24)","v":0},{"$f":"SUM(AX24,+BZ24)","v":{"v":47244,"d":"47,244"}},{"$f":"SUM(AY24,+CA24)","v":{"v":46960,"d":"46,960"}},{"$f":"SUM(AZ24,+CB24)","v":0},{"$f":"SUM(BA24,+CC24)","v":0},{"$f":"SUM(BB24,+CD24)","v":284},{"$f":"SUM(BC24,+CE24)","v":{"v":109207,"d":"109,207"}},{"$f":"SUM(BD24,+CF24)","v":0},{"$f":"SUM(BE24,+CG24)","v":0},{"$f":"SUM(BF24,+CH24)","v":{"v":125352,"d":"125,352"}}]
["京都府","26343","井手町",{"$f":"SUM(E25,+L25)","v":{"v":111673,"d":"111,673"}},{"$f":"SUM(F25:I25,K25)","v":383},0,0,0,283,"-",100,{"v":111290,"d":"111,290"},{"$f":"SUM(N25,+U25)","v":{"v":24896,"d":"24,896"}},{"$f":"SUM(O25:R25,T25)","v":0},0,0,0,0,"-",0,{"v":24896,"d":"24,896"},{"$f":"+SUM(D25,M25)","v":{"v":136569,"d":"136,569"}},{"$f":"+SUM(E25,N25)","v":383},{"$f":"+SUM(F25,O25)","v":0},{"$f":"+SUM(G25,P25)","v":0},{"$f":"+SUM(H25,Q25)","v":0},{"$f":"+SUM(I25,R25)","v":283},{"$f":"IF(+SUM(J25,S25)=0,\"-\",+SUM(J25,S25))","v":"-"},{"$f":"+SUM(K25,T25)","v":100},{"$f":"+SUM(L25,U25)","v":{"v":136186,"d":"136,186"}},{"$f":"SUM(AF25,+AK25)","v":3},{"$f":"SUM(AG25:AJ25)","v":0},0,0,0,0,3,{"v":23775,"d":"23,775"},{"$f":"SUM(AN25,AS25,AW25,AX25,BD25)","v":{"v":47823,"d":"47,823"}},{"$f":"SUM(AO25:AR25)","v":{"v":14342,"d":"14,342"}},5,{"v":14337,"d":"14,337"},0,0,{"$f":"SUM(AT25:AV25)","v":{"v":1233,"d":"1,233"}},{"v":1233,"d":"1,233"},0,0,0,{"$f":"SUM(AY25:BB25)","v":{"v":32248,"d":"32,248"}},{"v":32248,"d":"32,248"},0,0,0,{"v":38141,"d":"38,141"},0,{"v":1931,"d":"1,931"},{"$f":"SUM(AE25,+AM25,+BE25)","v":{"v":49757,"d":"49,757"}},{"$f":"SUM(BH25,+BM25)","v":0},{"$f":"SUM(BI25:BL25)","v":0},0,0,0,0,0,{"v":3607,"d":"3,607"},{"$f":"SUM(BP25,BU25,BY25,BZ25,CF25)","v":0},{"$f":"SUM(BQ25:BT25)","v":0},0,0,0,0,{"$f":"SUM(BV25:BX25)","v":0},0,0,0,0,{"$f":"SUM(CA25:CD25)","v":0},0,0,0,0,{"v":21289,"d":"21,289"},0,0,{"$f":"SUM(BG25,+BO25,+CG25)","v":0},{"$f":"SUM(AE25,+BG25)","v":3},{"$f":"SUM(AF25,+BH25)","v":0},{"$f":"SUM(AG25,+BI25)","v":0},{"$f":"SUM(AH25,+BJ25)","v":0},{"$f":"SUM(AI25,+BK25)","v":0},{"$f":"SUM(AJ25,+BL25)","v":0},{"$f":"SUM(AK25,+BM25)","v":3},{"$f":"SUM(AL25,+BN25)","v":{"v":27382,"d":"27,382"}},{"$f":"SUM(AM25,+BO25)","v":{"v":47823,"d":"47,823"}},{"$f":"SUM(AN25,+BP25)","v":{"v":14342,"d":"14,342"}},{"$f":"SUM(AO25,+BQ25)","v":5},{"$f":"SUM(AP25,+BR25)","v":{"v":14337,"d":"14,337"}},{"$f":"SUM(AQ25,+BS25)","v":0},{"$f":"SUM(AR25,+BT25)","v":0},{"$f":"SUM(AS25,+BU25)","v":{"v":1233,"d":"1,233"}},{"$f":"SUM(AT25,+BV25)","v":{"v":1233,"d":"1,233"}},{"$f":"SUM(AU25,+BW25)","v":0},{"$f":"SUM(AV25,+BX25)","v":0},{"$f":"SUM(AW25,+BY25)","v":0},{"$f":"SUM(AX25,+BZ25)","v":{"v":32248,"d":"32,248"}},{"$f":"SUM(AY25,+CA25)","v":{"v":32248,"d":"32,248"}},{"$f":"SUM(AZ25,+CB25)","v":0},{"$f":"SUM(BA25,+CC25)","v":0},{"$f":"SUM(BB25,+CD25)","v":0},{"$f":"SUM(BC25,+CE25)","v":{"v":59430,"d":"59,430"}},{"$f":"SUM(BD25,+CF25)","v":0},{"$f":"SUM(BE25,+CG25)","v":{"v":1931,"d":"1,931"}},{"$f":"SUM(BF25,+CH25)","v":{"v":49757,"d":"49,757"}}]
["京都府","26344","宇治田原町",{"$f":"SUM(E26,+L26)","v":{"v":154891,"d":"154,891"}},{"$f":"SUM(F26:I26,K26)","v":0},0,0,0,0,"-",0,{"v":154891,"d":"154,891"},{"$f":"SUM(N26,+U26)","v":{"v":49993,"d":"49,993"}},{"$f":"SUM(O26:R26,T26)","v":0},0,0,0,0,"-",0,{"v":49993,"d":"49,993"},{"$f":"+SUM(D26,M26)","v":{"v":204884,"d":"204,884"}},{"$f":"+SUM(E26,N26)","v":0},{"$f":"+SUM(F26,O26)","v":0},{"$f":"+SUM(G26,P26)","v":0},{"$f":"+SUM(H26,Q26)","v":0},{"$f":"+SUM(I26,R26)","v":0},{"$f":"IF(+SUM(J26,S26)=0,\"-\",+SUM(J26,S26))","v":"-"},{"$f":"+SUM(K26,T26)","v":0},{"$f":"+SUM(L26,U26)","v":{"v":204884,"d":"204,884"}},{"$f":"SUM(AF26,+AK26)","v":0},{"$f":"SUM(AG26:AJ26)","v":0},0,0,0,0,0,{"v":27815,"d":"27,815"},{"$f":"SUM(AN26,AS26,AW26,AX26,BD26)","v":{"v":82456,"d":"82,456"}},{"$f":"SUM(AO26:AR26)","v":{"v":42974,"d":"42,974"}},0,{"v":42974,"d":"42,974"},0,0,{"$f":"SUM(AT26:AV26)","v":{"v":2016,"d":"2,016"}},{"v":2016,"d":"2,016"},0,0,{"v":13166,"d":"13,166"},{"$f":"SUM(AY26:BB26)","v":{"v":24300,"d":"24,300"}},{"v":24300,"d":"24,300"},0,0,0,{"v":44620,"d":"44,620"},0,0,{"$f":"SUM(AE26,+AM26,+BE26)","v":{"v":82456,"d":"82,456"}},{"$f":"SUM(BH26,+BM26)","v":0},{"$f":"SUM(BI26:BL26)","v":0},0,0,0,0,0,{"v":7244,"d":"7,244"},{"$f":"SUM(BP26,BU26,BY26,BZ26,CF26)","v":0},{"$f":"SUM(BQ26:BT26)","v":0},0,0,0,0,{"$f":"SUM(BV26:BX26)","v":0},0,0,0,0,{"$f":"SUM(CA26:CD26)","v":0},0,0,0,0,{"v":42749,"d":"42,749"},0,0,{"$f":"SUM(BG26,+BO26,+CG26)","v":0},{"$f":"SUM(AE26,+BG26)","v":0},{"$f":"SUM(AF26,+BH26)","v":0},{"$f":"SUM(AG26,+BI26)","v":0},{"$f":"SUM(AH26,+BJ26)","v":0},{"$f":"SUM(AI26,+BK26)","v":0},{"$f":"SUM(AJ26,+BL26)","v":0},{"$f":"SUM(AK26,+BM26)","v":0},{"$f":"SUM(AL26,+BN26)","v":{"v":35059,"d":"35,059"}},{"$f":"SUM(AM26,+BO26)","v":{"v":82456,"d":"82,456"}},{"$f":"SUM(AN26,+BP26)","v":{"v":42974,"d":"42,974"}},{"$f":"SUM(AO26,+BQ26)","v":0},{"$f":"SUM(AP26,+BR26)","v":{"v":42974,"d":"42,974"}},{"$f":"SUM(AQ26,+BS26)","v":0},{"$f":"SUM(AR26,+BT26)","v":0},{"$f":"SUM(AS26,+BU26)","v":{"v":2016,"d":"2,016"}},{"$f":"SUM(AT26,+BV26)","v":{"v":2016,"d":"2,016"}},{"$f":"SUM(AU26,+BW26)","v":0},{"$f":"SUM(AV26,+BX26)","v":0},{"$f":"SUM(AW26,+BY26)","v":{"v":13166,"d":"13,166"}},{"$f":"SUM(AX26,+BZ26)","v":{"v":24300,"d":"24,300"}},{"$f":"SUM(AY26,+CA26)","v":{"v":24300,"d":"24,300"}},{"$f":"SUM(AZ26,+CB26)","v":0},{"$f":"SUM(BA26,+CC26)","v":0},{"$f":"SUM(BB26,+CD26)","v":0},{"$f":"SUM(BC26,+CE26)","v":{"v":87369,"d":"87,369"}},{"$f":"SUM(BD26,+CF26)","v":0},{"$f":"SUM(BE26,+CG26)","v":0},{"$f":"SUM(BF26,+CH26)","v":{"v":82456,"d":"82,456"}}]
["京都府","26364","笠置町",{"$f":"SUM(E27,+L27)","v":{"v":45936,"d":"45,936"}},{"$f":"SUM(F27:I27,K27)","v":{"v":1423,"d":"1,423"}},0,0,0,{"v":1405,"d":"1,405"},"-",18,{"v":44513,"d":"44,513"},{"$f":"SUM(N27,+U27)","v":{"v":27804,"d":"27,804"}},{"$f":"SUM(O27:R27,T27)","v":{"v":10062,"d":"10,062"}},359,248,0,{"v":9455,"d":"9,455"},"-",0,{"v":17742,"d":"17,742"},{"$f":"+SUM(D27,M27)","v":{"v":73740,"d":"73,740"}},{"$f":"+SUM(E27,N27)","v":{"v":11485,"d":"11,485"}},{"$f":"+SUM(F27,O27)","v":359},{"$f":"+SUM(G27,P27)","v":248},{"$f":"+SUM(H27,Q27)","v":0},{"$f":"+SUM(I27,R27)","v":{"v":10860,"d":"10,860"}},{"$f":"IF(+SUM(J27,S27)=0,\"-\",+SUM(J27,S27))","v":"-"},{"$f":"+SUM(K27,T27)","v":18},{"$f":"+SUM(L27,U27)","v":{"v":62255,"d":"62,255"}},{"$f":"SUM(AF27,+AK27)","v":0},{"$f":"SUM(AG27:AJ27)","v":0},0,0,0,0,0,0,{"$f":"SUM(AN27,AS27,AW27,AX27,BD27)","v":259},{"$f":"SUM(AO27:AR27)","v":0},0,0,0,0,{"$f":"SUM(AT27:AV27)","v":0},0,0,0,0,{"$f":"SUM(AY27:BB27)","v":259},0,0,0,259,{"v":45052,"d":"45,052"},0,625,{"$f":"SUM(AE27,+AM27,+BE27)","v":884},{"$f":"SUM(BH27,+BM27)","v":0},{"$f":"SUM(BI27:BL27)","v":0},0,0,0,0,0,0,{"$f":"SUM(BP27,BU27,BY27,BZ27,CF27)","v":0},{"$f":"SUM(BQ27:BT27)","v":0},0,0,0,0,{"$f":"SUM(BV27:BX27)","v":0},0,0,0,0,{"$f":"SUM(CA27:CD27)","v":0},0,0,0,0,{"v":26822,"d":"26,822"},0,982,{"$f":"SUM(BG27,+BO27,+CG27)","v":982},{"$f":"SUM(AE27,+BG27)","v":0},{"$f":"SUM(AF27,+BH27)","v":0},{"$f":"SUM(AG27,+BI27)","v":0},{"$f":"SUM(AH27,+BJ27)","v":0},{"$f":"SUM(AI27,+BK27)","v":0},{"$f":"SUM(AJ27,+BL27)","v":0},{"$f":"SUM(AK27,+BM27)","v":0},{"$f":"SUM(AL27,+BN27)","v":0},{"$f":"SUM(AM27,+BO27)","v":259},{"$f":"SUM(AN27,+BP27)","v":0},{"$f":"SUM(AO27,+BQ27)","v":0},{"$f":"SUM(AP27,+BR27)","v":0},{"$f":"SUM(AQ27,+BS27)","v":0},{"$f":"SUM(AR27,+BT27)","v":0},{"$f":"SUM(AS27,+BU27)","v":0},{"$f":"SUM(AT27,+BV27)","v":0},{"$f":"SUM(AU27,+BW27)","v":0},{"$f":"SUM(AV27,+BX27)","v":0},{"$f":"SUM(AW27,+BY27)","v":0},{"$f":"SUM(AX27,+BZ27)","v":259},{"$f":"SUM(AY27,+CA27)","v":0},{"$f":"SUM(AZ27,+CB27)","v":0},{"$f":"SUM(BA27,+CC27)","v":0},{"$f":"SUM(BB27,+CD27)","v":259},{"$f":"SUM(BC27,+CE27)","v":{"v":71874,"d":"71,874"}},{"$f":"SUM(BD27,+CF27)","v":0},{"$f":"SUM(BE27,+CG27)","v":{"v":1607,"d":"1,607"}},{"$f":"SUM(BF27,+CH27)","v":{"v":1866,"d":"1,866"}}]
["京都府","26365","和束町",{"$f":"SUM(E28,+L28)","v":{"v":109644,"d":"109,644"}},{"$f":"SUM(F28:I28,K28)","v":0},0,0,0,0,"-",0,{"v":109644,"d":"109,644"},{"$f":"SUM(N28,+U28)","v":{"v":36746,"d":"36,746"}},{"$f":"SUM(O28:R28,T28)","v":0},0,0,0,0,"-",0,{"v":36746,"d":"36,746"},{"$f":"+SUM(D28,M28)","v":{"v":146390,"d":"146,390"}},{"$f":"+SUM(E28,N28)","v":0},{"$f":"+SUM(F28,O28)","v":0},{"$f":"+SUM(G28,P28)","v":0},{"$f":"+SUM(H28,Q28)","v":0},{"$f":"+SUM(I28,R28)","v":0},{"$f":"IF(+SUM(J28,S28)=0,\"-\",+SUM(J28,S28))","v":"-"},{"$f":"+SUM(K28,T28)","v":0},{"$f":"+SUM(L28,U28)","v":{"v":146390,"d":"146,390"}},{"$f":"SUM(AF28,+AK28)","v":0},{"$f":"SUM(AG28:AJ28)","v":0},0,0,0,0,0,0,{"$f":"SUM(AN28,AS28,AW28,AX28,BD28)","v":0},{"$f":"SUM(AO28:AR28)","v":0},0,0,0,0,{"$f":"SUM(AT28:AV28)","v":0},0,0,0,0,{"$f":"SUM(AY28:BB28)","v":0},0,0,0,0,{"v":109644,"d":"109,644"},0,0,{"$f":"SUM(AE28,+AM28,+BE28)","v":0},{"$f":"SUM(BH28,+BM28)","v":0},{"$f":"SUM(BI28:BL28)","v":0},0,0,0,0,0,0,{"$f":"SUM(BP28,BU28,BY28,BZ28,CF28)","v":0},{"$f":"SUM(BQ28:BT28)","v":0},0,0,0,0,{"$f":"SUM(BV28:BX28)","v":0},0,0,0,0,{"$f":"SUM(CA28:CD28)","v":0},0,0,0,0,{"v":36746,"d":"36,746"},0,0,{"$f":"SUM(BG28,+BO28,+CG28)","v":0},{"$f":"SUM(AE28,+BG28)","v":0},{"$f":"SUM(AF28,+BH28)","v":0},{"$f":"SUM(AG28,+BI28)","v":0},{"$f":"SUM(AH28,+BJ28)","v":0},{"$f":"SUM(AI28,+BK28)","v":0},{"$f":"SUM(AJ28,+BL28)","v":0},{"$f":"SUM(AK28,+BM28)","v":0},{"$f":"SUM(AL28,+BN28)","v":0},{"$f":"SUM(AM28,+BO28)","v":0},{"$f":"SUM(AN28,+BP28)","v":0},{"$f":"SUM(AO28,+BQ28)","v":0},{"$f":"SUM(AP28,+BR28)","v":0},{"$f":"SUM(AQ28,+BS28)","v":0},{"$f":"SUM(AR28,+BT28)","v":0},{"$f":"SUM(AS28,+BU28)","v":0},{"$f":"SUM(AT28,+BV28)","v":0},{"$f":"SUM(AU28,+BW28)","v":0},{"$f":"SUM(AV28,+BX28)","v":0},{"$f":"SUM(AW28,+BY28)","v":0},{"$f":"SUM(AX28,+BZ28)","v":0},{"$f":"SUM(AY28,+CA28)","v":0},{"$f":"SUM(AZ28,+CB28)","v":0},{"$f":"SUM(BA28,+CC28)","v":0},{"$f":"SUM(BB28,+CD28)","v":0},{"$f":"SUM(BC28,+CE28)","v":{"v":146390,"d":"146,390"}},{"$f":"SUM(BD28,+CF28)","v":0},{"$f":"SUM(BE28,+CG28)","v":0},{"$f":"SUM(BF28,+CH28)","v":0}]
["京都府","26366","精華町",{"$f":"SUM(E29,+L29)","v":{"v":1015012,"d":"1,015,012"}},{"$f":"SUM(F29:I29,K29)","v":{"v":4160,"d":"4,160"}},0,0,0,{"v":1050,"d":"1,050"},"-",{"v":3110,"d":"3,110"},{"v":1010852,"d":"1,010,852"},{"$f":"SUM(N29,+U29)","v":{"v":51515,"d":"51,515"}},{"$f":"SUM(O29:R29,T29)","v":{"v":7764,"d":"7,764"}},0,0,0,{"v":7764,"d":"7,764"},"-",0,{"v":43751,"d":"43,751"},{"$f":"+SUM(D29,M29)","v":{"v":1066527,"d":"1,066,527"}},{"$f":"+SUM(E29,N29)","v":{"v":11924,"d":"11,924"}},{"$f":"+SUM(F29,O29)","v":0},{"$f":"+SUM(G29,P29)","v":0},{"$f":"+SUM(H29,Q29)","v":0},{"$f":"+SUM(I29,R29)","v":{"v":8814,"d":"8,814"}},{"$f":"IF(+SUM(J29,S29)=0,\"-\",+SUM(J29,S29))","v":"-"},{"$f":"+SUM(K29,T29)","v":{"v":3110,"d":"3,110"}},{"$f":"+SUM(L29,U29)","v":{"v":1054603,"d":"1,054,603"}},{"$f":"SUM(AF29,+AK29)","v":{"v":713470,"d":"713,470"}},{"$f":"SUM(AG29:AJ29)","v":0},0,0,0,0,{"v":713470,"d":"713,470"},{"v":28379,"d":"28,379"},{"$f":"SUM(AN29,AS29,AW29,AX29,BD29)","v":{"v":203520,"d":"203,520"}},{"$f":"SUM(AO29:AR29)","v":{"v":43045,"d":"43,045"}},{"v":7512,"d":"7,512"},{"v":35533,"d":"35,533"},0,0,{"$f":"SUM(AT29:AV29)","v":0},0,0,0,0,{"$f":"SUM(AY29:BB29)","v":{"v":160475,"d":"160,475"}},{"v":91799,"d":"91,799"},{"v":50960,"d":"50,960"},{"v":17716,"d":"17,716"},0,{"v":69643,"d":"69,643"},0,0,{"$f":"SUM(AE29,+AM29,+BE29)","v":{"v":916990,"d":"916,990"}},{"$f":"SUM(BH29,+BM29)","v":0},{"$f":"SUM(BI29:BL29)","v":0},0,0,0,0,0,0,{"$f":"SUM(BP29,BU29,BY29,BZ29,CF29)","v":{"v":9070,"d":"9,070"}},{"$f":"SUM(BQ29:BT29)","v":{"v":1836,"d":"1,836"}},{"v":1836,"d":"1,836"},0,0,0,{"$f":"SUM(BV29:BX29)","v":0},0,0,0,0,{"$f":"SUM(CA29:CD29)","v":{"v":7234,"d":"7,234"}},0,{"v":7234,"d":"7,234"},0,0,{"v":42445,"d":"42,445"},0,0,{"$f":"SUM(BG29,+BO29,+CG29)","v":{"v":9070,"d":"9,070"}},{"$f":"SUM(AE29,+BG29)","v":{"v":713470,"d":"713,470"}},{"$f":"SUM(AF29,+BH29)","v":0},{"$f":"SUM(AG29,+BI29)","v":0},{"$f":"SUM(AH29,+BJ29)","v":0},{"$f":"SUM(AI29,+BK29)","v":0},{"$f":"SUM(AJ29,+BL29)","v":0},{"$f":"SUM(AK29,+BM29)","v":{"v":713470,"d":"713,470"}},{"$f":"SUM(AL29,+BN29)","v":{"v":28379,"d":"28,379"}},{"$f":"SUM(AM29,+BO29)","v":{"v":212590,"d":"212,590"}},{"$f":"SUM(AN29,+BP29)","v":{"v":44881,"d":"44,881"}},{"$f":"SUM(AO29,+BQ29)","v":{"v":9348,"d":"9,348"}},{"$f":"SUM(AP29,+BR29)","v":{"v":35533,"d":"35,533"}},{"$f":"SUM(AQ29,+BS29)","v":0},{"$f":"SUM(AR29,+BT29)","v":0},{"$f":"SUM(AS29,+BU29)","v":0},{"$f":"SUM(AT29,+BV29)","v":0},{"$f":"SUM(AU29,+BW29)","v":0},{"$f":"SUM(AV29,+BX29)","v":0},{"$f":"SUM(AW29,+BY29)","v":0},{"$f":"SUM(AX29,+BZ29)","v":{"v":167709,"d":"167,709"}},{"$f":"SUM(AY29,+CA29)","v":{"v":91799,"d":"91,799"}},{"$f":"SUM(AZ29,+CB29)","v":{"v":58194,"d":"58,194"}},{"$f":"SUM(BA29,+CC29)","v":{"v":17716,"d":"17,716"}},{"$f":"SUM(BB29,+CD29)","v":0},{"$f":"SUM(BC29,+CE29)","v":{"v":112088,"d":"112,088"}},{"$f":"SUM(BD29,+CF29)","v":0},{"$f":"SUM(BE29,+CG29)","v":0},{"$f":"SUM(BF29,+CH29)","v":{"v":926060,"d":"926,060"}}]
["京都府","26367","南山城村",{"$f":"SUM(E30,+L30)","v":{"v":69157,"d":"69,157"}},{"$f":"SUM(F30:I30,K30)","v":{"v":1917,"d":"1,917"}},0,0,0,{"v":1917,"d":"1,917"},"-",0,{"v":67240,"d":"67,240"},{"$f":"SUM(N30,+U30)","v":{"v":38602,"d":"38,602"}},{"$f":"SUM(O30:R30,T30)","v":{"v":10962,"d":"10,962"}},{"v":1656,"d":"1,656"},{"v":1306,"d":"1,306"},0,{"v":8000,"d":"8,000"},"-",0,{"v":27640,"d":"27,640"},{"$f":"+SUM(D30,M30)","v":{"v":107759,"d":"107,759"}},{"$f":"+SUM(E30,N30)","v":{"v":12879,"d":"12,879"}},{"$f":"+SUM(F30,O30)","v":{"v":1656,"d":"1,656"}},{"$f":"+SUM(G30,P30)","v":{"v":1306,"d":"1,306"}},{"$f":"+SUM(H30,Q30)","v":0},{"$f":"+SUM(I30,R30)","v":{"v":9917,"d":"9,917"}},{"$f":"IF(+SUM(J30,S30)=0,\"-\",+SUM(J30,S30))","v":"-"},{"$f":"+SUM(K30,T30)","v":0},{"$f":"+SUM(L30,U30)","v":{"v":94880,"d":"94,880"}},{"$f":"SUM(AF30,+AK30)","v":0},{"$f":"SUM(AG30:AJ30)","v":0},0,0,0,0,0,0,{"$f":"SUM(AN30,AS30,AW30,AX30,BD30)","v":0},{"$f":"SUM(AO30:AR30)","v":0},0,0,0,0,{"$f":"SUM(AT30:AV30)","v":0},0,0,0,0,{"$f":"SUM(AY30:BB30)","v":0},0,0,0,0,{"v":69157,"d":"69,157"},0,0,{"$f":"SUM(AE30,+AM30,+BE30)","v":0},{"$f":"SUM(BH30,+BM30)","v":0},{"$f":"SUM(BI30:BL30)","v":0},0,0,0,0,0,0,{"$f":"SUM(BP30,BU30,BY30,BZ30,CF30)","v":{"v":7472,"d":"7,472"}},{"$f":"SUM(BQ30:BT30)","v":0},0,0,0,0,{"$f":"SUM(BV30:BX30)","v":0},0,0,0,0,{"$f":"SUM(CA30:CD30)","v":{"v":7472,"d":"7,472"}},{"v":7472,"d":"7,472"},0,0,0,{"v":31130,"d":"31,130"},0,0,{"$f":"SUM(BG30,+BO30,+CG30)","v":{"v":7472,"d":"7,472"}},{"$f":"SUM(AE30,+BG30)","v":0},{"$f":"SUM(AF30,+BH30)","v":0},{"$f":"SUM(AG30,+BI30)","v":0},{"$f":"SUM(AH30,+BJ30)","v":0},{"$f":"SUM(AI30,+BK30)","v":0},{"$f":"SUM(AJ30,+BL30)","v":0},{"$f":"SUM(AK30,+BM30)","v":0},{"$f":"SUM(AL30,+BN30)","v":0},{"$f":"SUM(AM30,+BO30)","v":{"v":7472,"d":"7,472"}},{"$f":"SUM(AN30,+BP30)","v":0},{"$f":"SUM(AO30,+BQ30)","v":0},{"$f":"SUM(AP30,+BR30)","v":0},{"$f":"SUM(AQ30,+BS30)","v":0},{"$f":"SUM(AR30,+BT30)","v":0},{"$f":"SUM(AS30,+BU30)","v":0},{"$f":"SUM(AT30,+BV30)","v":0},{"$f":"SUM(AU30,+BW30)","v":0},{"$f":"SUM(AV30,+BX30)","v":0},{"$f":"SUM(AW30,+BY30)","v":0},{"$f":"SUM(AX30,+BZ30)","v":{"v":7472,"d":"7,472"}},{"$f":"SUM(AY30,+CA30)","v":{"v":7472,"d":"7,472"}},{"$f":"SUM(AZ30,+CB30)","v":0},{"$f":"SUM(BA30,+CC30)","v":0},{"$f":"SUM(BB30,+CD30)","v":0},{"$f":"SUM(BC30,+CE30)","v":{"v":100287,"d":"100,287"}},{"$f":"SUM(BD30,+CF30)","v":0},{"$f":"SUM(BE30,+CG30)","v":0},{"$f":"SUM(BF30,+CH30)","v":{"v":7472,"d":"7,472"}}]
["京都府","26407","京丹波町",{"$f":"SUM(E31,+L31)","v":{"v":112625,"d":"112,625"}},{"$f":"SUM(F31:I31,K31)","v":0},0,0,0,0,"-",0,{"v":112625,"d":"112,625"},{"$f":"SUM(N31,+U31)","v":{"v":205532,"d":"205,532"}},{"$f":"SUM(O31:R31,T31)","v":0},0,0,0,0,"-",0,{"v":205532,"d":"205,532"},{"$f":"+SUM(D31,M31)","v":{"v":318157,"d":"318,157"}},{"$f":"+SUM(E31,N31)","v":0},{"$f":"+SUM(F31,O31)","v":0},{"$f":"+SUM(G31,P31)","v":0},{"$f":"+SUM(H31,Q31)","v":0},{"$f":"+SUM(I31,R31)","v":0},{"$f":"IF(+SUM(J31,S31)=0,\"-\",+SUM(J31,S31))","v":"-"},{"$f":"+SUM(K31,T31)","v":0},{"$f":"+SUM(L31,U31)","v":{"v":318157,"d":"318,157"}},{"$f":"SUM(AF31,+AK31)","v":0},{"$f":"SUM(AG31:AJ31)","v":0},0,0,0,0,0,0,{"$f":"SUM(AN31,AS31,AW31,AX31,BD31)","v":0},{"$f":"SUM(AO31:AR31)","v":0},0,0,0,0,{"$f":"SUM(AT31:AV31)","v":0},0,0,0,0,{"$f":"SUM(AY31:BB31)","v":0},0,0,0,0,{"v":112625,"d":"112,625"},0,0,{"$f":"SUM(AE31,+AM31,+BE31)","v":0},{"$f":"SUM(BH31,+BM31)","v":0},{"$f":"SUM(BI31:BL31)","v":0},0,0,0,0,0,0,{"$f":"SUM(BP31,BU31,BY31,BZ31,CF31)","v":0},{"$f":"SUM(BQ31:BT31)","v":0},0,0,0,0,{"$f":"SUM(BV31:BX31)","v":0},0,0,0,0,{"$f":"SUM(CA31:CD31)","v":0},0,0,0,0,{"v":205532,"d":"205,532"},0,0,{"$f":"SUM(BG31,+BO31,+CG31)","v":0},{"$f":"SUM(AE31,+BG31)","v":0},{"$f":"SUM(AF31,+BH31)","v":0},{"$f":"SUM(AG31,+BI31)","v":0},{"$f":"SUM(AH31,+BJ31)","v":0},{"$f":"SUM(AI31,+BK31)","v":0},{"$f":"SUM(AJ31,+BL31)","v":0},{"$f":"SUM(AK31,+BM31)","v":0},{"$f":"SUM(AL31,+BN31)","v":0},{"$f":"SUM(AM31,+BO31)","v":0},{"$f":"SUM(AN31,+BP31)","v":0},{"$f":"SUM(AO31,+BQ31)","v":0},{"$f":"SUM(AP31,+BR31)","v":0},{"$f":"SUM(AQ31,+BS31)","v":0},{"$f":"SUM(AR31,+BT31)","v":0},{"$f":"SUM(AS31,+BU31)","v":0},{"$f":"SUM(AT31,+BV31)","v":0},{"$f":"SUM(AU31,+BW31)","v":0},{"$f":"SUM(AV31,+BX31)","v":0},{"$f":"SUM(AW31,+BY31)","v":0},{"$f":"SUM(AX31,+BZ31)","v":0},{"$f":"SUM(AY31,+CA31)","v":0},{"$f":"SUM(AZ31,+CB31)","v":0},{"$f":"SUM(BA31,+CC31)","v":0},{"$f":"SUM(BB31,+CD31)","v":0},{"$f":"SUM(BC31,+CE31)","v":{"v":318157,"d":"318,157"}},{"$f":"SUM(BD31,+CF31)","v":0},{"$f":"SUM(BE31,+CG31)","v":0},{"$f":"SUM(BF31,+CH31)","v":0}]
["京都府","26463","伊根町",{"$f":"SUM(E32,+L32)","v":{"v":92833,"d":"92,833"}},{"$f":"SUM(F32:I32,K32)","v":430},0,360,0,70,"-",0,{"v":92403,"d":"92,403"},{"$f":"SUM(N32,+U32)","v":{"v":22268,"d":"22,268"}},{"$f":"SUM(O32:R32,T32)","v":{"v":11401,"d":"11,401"}},0,0,0,{"v":8813,"d":"8,813"},"-",{"v":2588,"d":"2,588"},{"v":10867,"d":"10,867"},{"$f":"+SUM(D32,M32)","v":{"v":115101,"d":"115,101"}},{"$f":"+SUM(E32,N32)","v":{"v":11831,"d":"11,831"}},{"$f":"+SUM(F32,O32)","v":0},{"$f":"+SUM(G32,P32)","v":360},{"$f":"+SUM(H32,Q32)","v":0},{"$f":"+SUM(I32,R32)","v":{"v":8883,"d":"8,883"}},{"$f":"IF(+SUM(J32,S32)=0,\"-\",+SUM(J32,S32))","v":"-"},{"$f":"+SUM(K32,T32)","v":{"v":2588,"d":"2,588"}},{"$f":"+SUM(L32,U32)","v":{"v":103270,"d":"103,270"}},{"$f":"SUM(AF32,+AK32)","v":0},{"$f":"SUM(AG32:AJ32)","v":0},0,0,0,0,0,{"v":15328,"d":"15,328"},{"$f":"SUM(AN32,AS32,AW32,AX32,BD32)","v":{"v":76138,"d":"76,138"}},{"$f":"SUM(AO32:AR32)","v":{"v":13060,"d":"13,060"}},{"v":13060,"d":"13,060"},0,0,0,{"$f":"SUM(AT32:AV32)","v":{"v":14847,"d":"14,847"}},{"v":6308,"d":"6,308"},0,{"v":8539,"d":"8,539"},0,{"$f":"SUM(AY32:BB32)","v":{"v":48231,"d":"48,231"}},{"v":20327,"d":"20,327"},{"v":2936,"d":"2,936"},{"v":24833,"d":"24,833"},135,0,0,{"v":1367,"d":"1,367"},{"$f":"SUM(AE32,+AM32,+BE32)","v":{"v":77505,"d":"77,505"}},{"$f":"SUM(BH32,+BM32)","v":0},{"$f":"SUM(BI32:BL32)","v":0},0,0,0,0,0,0,{"$f":"SUM(BP32,BU32,BY32,BZ32,CF32)","v":{"v":22268,"d":"22,268"}},{"$f":"SUM(BQ32:BT32)","v":0},0,0,0,0,{"$f":"SUM(BV32:BX32)","v":{"v":1422,"d":"1,422"}},{"v":1422,"d":"1,422"},0,0,0,{"$f":"SUM(CA32:CD32)","v":{"v":20846,"d":"20,846"}},{"v":10479,"d":"10,479"},0,{"v":10367,"d":"10,367"},0,0,0,0,{"$f":"SUM(BG32,+BO32,+CG32)","v":{"v":22268,"d":"22,268"}},{"$f":"SUM(AE32,+BG32)","v":0},{"$f":"SUM(AF32,+BH32)","v":0},{"$f":"SUM(AG32,+BI32)","v":0},{"$f":"SUM(AH32,+BJ32)","v":0},{"$f":"SUM(AI32,+BK32)","v":0},{"$f":"SUM(AJ32,+BL32)","v":0},{"$f":"SUM(AK32,+BM32)","v":0},{"$f":"SUM(AL32,+BN32)","v":{"v":15328,"d":"15,328"}},{"$f":"SUM(AM32,+BO32)","v":{"v":98406,"d":"98,406"}},{"$f":"SUM(AN32,+BP32)","v":{"v":13060,"d":"13,060"}},{"$f":"SUM(AO32,+BQ32)","v":{"v":13060,"d":"13,060"}},{"$f":"SUM(AP32,+BR32)","v":0},{"$f":"SUM(AQ32,+BS32)","v":0},{"$f":"SUM(AR32,+BT32)","v":0},{"$f":"SUM(AS32,+BU32)","v":{"v":16269,"d":"16,269"}},{"$f":"SUM(AT32,+BV32)","v":{"v":7730,"d":"7,730"}},{"$f":"SUM(AU32,+BW32)","v":0},{"$f":"SUM(AV32,+BX32)","v":{"v":8539,"d":"8,539"}},{"$f":"SUM(AW32,+BY32)","v":0},{"$f":"SUM(AX32,+BZ32)","v":{"v":69077,"d":"69,077"}},{"$f":"SUM(AY32,+CA32)","v":{"v":30806,"d":"30,806"}},{"$f":"SUM(AZ32,+CB32)","v":{"v":2936,"d":"2,936"}},{"$f":"SUM(BA32,+CC32)","v":{"v":35200,"d":"35,200"}},{"$f":"SUM(BB32,+CD32)","v":135},{"$f":"SUM(BC32,+CE32)","v":0},{"$f":"SUM(BD32,+CF32)","v":0},{"$f":"SUM(BE32,+CG32)","v":{"v":1367,"d":"1,367"}},{"$f":"SUM(BF32,+CH32)","v":{"v":99773,"d":"99,773"}}]
["京都府","26465","与謝野町",{"$f":"SUM(E33,+L33)","v":{"v":485819,"d":"485,819"}},{"$f":"SUM(F33:I33,K33)","v":{"v":143855,"d":"143,855"}},0,{"v":1497,"d":"1,497"},{"v":131400,"d":"131,400"},{"v":8231,"d":"8,231"},"-",{"v":2727,"d":"2,727"},{"v":341964,"d":"341,964"},{"$f":"SUM(N33,+U33)","v":{"v":92071,"d":"92,071"}},{"$f":"SUM(O33:R33,T33)","v":{"v":51156,"d":"51,156"}},646,{"v":1750,"d":"1,750"},0,{"v":48564,"d":"48,564"},"-",196,{"v":40915,"d":"40,915"},{"$f":"+SUM(D33,M33)","v":{"v":577890,"d":"577,890"}},{"$f":"+SUM(E33,N33)","v":{"v":195011,"d":"195,011"}},{"$f":"+SUM(F33,O33)","v":646},{"$f":"+SUM(G33,P33)","v":{"v":3247,"d":"3,247"}},{"$f":"+SUM(H33,Q33)","v":{"v":131400,"d":"131,400"}},{"$f":"+SUM(I33,R33)","v":{"v":56795,"d":"56,795"}},{"$f":"IF(+SUM(J33,S33)=0,\"-\",+SUM(J33,S33))","v":"-"},{"$f":"+SUM(K33,T33)","v":{"v":2923,"d":"2,923"}},{"$f":"+SUM(L33,U33)","v":{"v":382879,"d":"382,879"}},{"$f":"SUM(AF33,+AK33)","v":0},{"$f":"SUM(AG33:AJ33)","v":0},0,0,0,0,0,{"v":158615,"d":"158,615"},{"$f":"SUM(AN33,AS33,AW33,AX33,BD33)","v":{"v":324773,"d":"324,773"}},{"$f":"SUM(AO33:AR33)","v":{"v":9650,"d":"9,650"}},0,0,0,{"v":9650,"d":"9,650"},{"$f":"SUM(AT33:AV33)","v":{"v":26509,"d":"26,509"}},0,0,{"v":26509,"d":"26,509"},0,{"$f":"SUM(AY33:BB33)","v":{"v":288614,"d":"288,614"}},{"v":142906,"d":"142,906"},{"v":124742,"d":"124,742"},{"v":20966,"d":"20,966"},0,0,0,{"v":2431,"d":"2,431"},{"$f":"SUM(AE33,+AM33,+BE33)","v":{"v":327204,"d":"327,204"}},{"$f":"SUM(BH33,+BM33)","v":0},{"$f":"SUM(BI33:BL33)","v":0},0,0,0,0,0,0,{"$f":"SUM(BP33,BU33,BY33,BZ33,CF33)","v":{"v":92071,"d":"92,071"}},{"$f":"SUM(BQ33:BT33)","v":{"v":63841,"d":"63,841"}},{"v":23215,"d":"23,215"},{"v":34822,"d":"34,822"},{"v":5804,"d":"5,804"},0,{"$f":"SUM(BV33:BX33)","v":{"v":25971,"d":"25,971"}},{"v":2362,"d":"2,362"},{"v":23609,"d":"23,609"},0,0,{"$f":"SUM(CA33:CD33)","v":{"v":2259,"d":"2,259"}},0,{"v":1439,"d":"1,439"},820,0,0,0,0,{"$f":"SUM(BG33,+BO33,+CG33)","v":{"v":92071,"d":"92,071"}},{"$f":"SUM(AE33,+BG33)","v":0},{"$f":"SUM(AF33,+BH33)","v":0},{"$f":"SUM(AG33,+BI33)","v":0},{"$f":"SUM(AH33,+BJ33)","v":0},{"$f":"SUM(AI33,+BK33)","v":0},{"$f":"SUM(AJ33,+BL33)","v":0},{"$f":"SUM(AK33,+BM33)","v":0},{"$f":"SUM(AL33,+BN33)","v":{"v":158615,"d":"158,615"}},{"$f":"SUM(AM33,+BO33)","v":{"v":416844,"d":"416,844"}},{"$f":"SUM(AN33,+BP33)","v":{"v":73491,"d":"73,491"}},{"$f":"SUM(AO33,+BQ33)","v":{"v":23215,"d":"23,215"}},{"$f":"SUM(AP33,+BR33)","v":{"v":34822,"d":"34,822"}},{"$f":"SUM(AQ33,+BS33)","v":{"v":5804,"d":"5,804"}},{"$f":"SUM(AR33,+BT33)","v":{"v":9650,"d":"9,650"}},{"$f":"SUM(AS33,+BU33)","v":{"v":52480,"d":"52,480"}},{"$f":"SUM(AT33,+BV33)","v":{"v":2362,"d":"2,362"}},{"$f":"SUM(AU33,+BW33)","v":{"v":23609,"d":"23,609"}},{"$f":"SUM(AV33,+BX33)","v":{"v":26509,"d":"26,509"}},{"$f":"SUM(AW33,+BY33)","v":0},{"$f":"SUM(AX33,+BZ33)","v":{"v":290873,"d":"290,873"}},{"$f":"SUM(AY33,+CA33)","v":{"v":142906,"d":"142,906"}},{"$f":"SUM(AZ33,+CB33)","v":{"v":126181,"d":"126,181"}},{"$f":"SUM(BA33,+CC33)","v":{"v":21786,"d":"21,786"}},{"$f":"SUM(BB33,+CD33)","v":0},{"$f":"SUM(BC33,+CE33)","v":0},{"$f":"SUM(BD33,+CF33)","v":0},{"$f":"SUM(BE33,+CG33)","v":{"v":2431,"d":"2,431"}},{"$f":"SUM(BF33,+CH33)","v":{"v":419275,"d":"419,275"}}]

{"sheet":"廃棄物事業経費（組合）","index":1,"n_rows":14,"n_cols":114,"rows_kept":14,"merged":[[1,0,5,0],[1,1,5,1],[1,2,5,2],[3,37,4,37],[3,65,4,65],[3,93,4,93]]}
["廃棄物処理事業経費（一部事務組合・広域連合の合計）（平成28年度実績）"]
["都道府県名","地方公共団体コード","一部事務組合・広域連合名","ごみ",{"$nulls":8},"し尿",{"$nulls":8},"合計",{"$nulls":8},"ごみ（建設改良費＋処理維持管理費＋その他）（組合分担金を除く）",{"$nulls":27},"し尿（建設改良費＋処理維持管理費＋その他）（組合分担金を除く）",{"$nulls":27},"合計（建設改良費＋処理維持管理費＋その他）（組合分担金を除く）"]
[{"$nulls":3},"合計 (特定財源(市区町村分担金を除く)+一般財源)",{"$nulls":8},"合計 (特定財源(市区町村分担金を除く)+一般財源)",{"$nulls":8},"合計 (特定財源(市区町村分担金を除く)+一般財源)",{"$nulls":8},"建設改良費 (工事費+調査費)(組合分担金を除く)",{"$nulls":7},"処理及び維持管理費 (人件費+処理費+車両購入費+委託費+調査研究費)(組合分担金を除く)",{"$nulls":17},"その他","合計","建設改良費 (工事費+調査費)(組合分担金を除く)",{"$nulls":7},"処理及び維持管理費 (人件費+処理費+車両購入費+委託費+調査研究費)(組合分担金を除く)",{"$nulls":17},"その他","合計","建設改良費 (工事費+調査費)(組合分担金を除く)",{"$nulls":7},"処理及び維持管理費 (人件費+処理費+車両購入費+委託費+調査研究費)(組合分担金を除く)",{"$nulls":17},"その他","合計"]
[{"$nulls":4},"特定財源 (市区町村分担金を除く)",{"$nulls":6},"一般財源",null,"特定財源 (市区町村分担金を除く)",{"$nulls":6},"一般財源",null,"特定財源 (市区町村分担金を除く)",{"$nulls":6},"一般財源","合計","工事費 (中間処理施設+最終処分場+その他)",{"$nulls":4},"調査費","（建設改良費組合分担金）","合計","人件費（一般職＋収集運搬＋中間処理＋最終処分）",{"$nulls":4},"処理費 (収集運搬費+中間処理費+最終処分費)",{"$nulls":3},"車両等購入費","委託費 (収集運搬費+中間処理費+最終処分費+その他)",{"$nulls":4},"(組合分担金)","調査研究費",null,null,"合計","工事費 (中間処理施設+最終処分場+その他)",{"$nulls":4},"調査費","（建設改良費組合分担金）","合計","人件費（一般職＋収集運搬＋中間処理＋最終処分）",{"$nulls":4},"処理費 (収集運搬費+中間処理費+最終処分費)",{"$nulls":3},"車両等購入費","委託費 (収集運搬費+中間処理費+最終処分費+その他)",{"$nulls":4},"(組合分担金)","調査研究費",null,null,"合計","工事費 (中間処理施設+最終処分場+その他)",{"$nulls":4},"調査費","（建設改良費組合分担金）","合計","人件費（一般職＋収集運搬＋中間処理＋最終処分）",{"$nulls":4},"処理費 (収集運搬費+中間処理費+最終処分費)",{"$nulls":3},"車両等購入費","委託費 (収集運搬費+中間処理費+最終処分費+その他)",{"$nulls":4},"(組合分担金)","調査研究費"]
[{"$nulls":4},"合計","国庫支出金","都道府県\n支出金","地方債","使用料及び\n手数料","（市区町村\n分担金）","その他",null,null,"合計","国庫支出金","都道府県\n支出金","地方債","使用料及び\n手数料","（市区町村\n分担金）","その他",null,null,"合計","国庫支出金","都道府県\n支出金","地方債","使用料及び\n手数料","（市区町村\n分担金）","その他",null,null,"合計","収集運搬施設","中間処理施設","最終処分場","その他",{"$nulls":3},"合計","一般職","収集運搬","中間処理","最終処分","合計","収集運搬費","中間処理費","最終処分費",null,"合計","収集運搬費","中間処理費","最終処分費","その他",{"$nulls":5},"合計","収集運搬施設","中間処理施設","最終処分場","その他",{"$nulls":3},"合計","一般職","収集運搬","中間処理","最終処分","合計","収集運搬費","中間処理費","最終処分費",null,"合計","収集運搬費","中間処理費","最終処分費","その他",{"$nulls":5},"合計","収集運搬施設","中間処理施設","最終処分場","その他",{"$nulls":3},"合計","一般職","収集運搬","中間処理","最終処分","合計","収集運搬費","中間処理費","最終処分費",null,"合計","収集運搬費","中間処理費","最終処分費","その他"]
[{"$nulls":3},"（千円）","（千円）","（千円）","（千円）","（千円）","（千円）","（千円）","（千円）","（千円）","（千円）","（千円）","（千円）","（千円）","（千円）","（千円）","（千円）","（千円）","（千円）","（千円）","（千円）","（千円）","（千円）","（千円）","（千円）","（千円）","（千円）","（千円）","（千円）","（千円）","（千円）","（千円）","（千円）","（千円）","（千円）","（千円）","（千円）","（千円）","（千円）","（千円）","（千円）","（千円）","（千円）","（千円）","（千円）","（千円）","（千円）","（千円）","（千円）","（千円）","（千円）","（千円）","（千円）","（千円）","（千円）","（千円）","（千円）","（千円）","（千円）","（千円）","（千円）","（千円）","（千円）","（千円）","（千円）","（千円）","（千円）","（千円）","（千円）","（千円）","（千円）","（千円）","（千円）","（千円）","（千円）","（千円）","（千円）","（千円）","（千円）","（千円）","（千円）","（千円）","（千円）","（千円）","（千円）","（千円）","（千円）","（千円）","（千円）","（千円）","（千円）","（千円）","（千円）","（千円）","（千円）","（千円）","（千円）","（千円）","（千円）","（千円）","（千円）","（千円）","（千円）","（千円）","（千円）","（千円）","（千円）","（千円）","（千円）","（千円）","（千円）","（千円）"]
[{"$f":"'廃棄物事業経費（市町村）'!A7","v":"京都府"},{"$f":"'廃棄物事業経費（市町村）'!B7","v":"26000"},"合計",{"$f":"SUM(E7,+L7)","v":{"v":7685997,"d":"7,685,997"}},{"$f":"SUM(F7:I7)+K7","v":{"v":7262083,"d":"7,262,083"}},{"$f":"SUM(F$8:F$1000)","v":{"v":2455274,"d":"2,455,274"}},{"v":4338,"d":"4,338"},{"v":3914700,"d":"3,914,700"},{"v":881310,"d":"881,310"},{"v":4660752,"d":"4,660,752"},{"v":6461,"d":"6,461"},{"v":423914,"d":"423,914"},{"$f":"SUM(N7,+U7)","v":{"v":419223,"d":"419,223"}},{"$f":"SUM(O7:R7,T7)","v":{"v":162528,"d":"162,528"}},{"$f":"SUM(O$8:O$1000)","v":0},0,0,{"v":162528,"d":"162,528"},{"v":1495281,"d":"1,495,281"},0,{"v":256695,"d":"256,695"},{"$f":"+SUM(D7,M7)","v":{"v":8105220,"d":"8,105,220"}},{"v":7424611,"d":"7,424,611"},{"v":2455274,"d":"2,455,274"},{"v":4338,"d":"4,338"},{"v":3914700,"d":"3,914,700"},{"v":1043838,"d":"1,043,838"},{"v":6156033,"d":"6,156,033"},{"v":6461,"d":"6,461"},{"v":680609,"d":"680,609"},{"$f":"SUM(AF7,+AK7)","v":{"v":7695365,"d":"7,695,365"}},{"$f":"SUM(AG7:AJ7)","v":{"v":7695365,"d":"7,695,365"}},{"$f":"SUM(AG$8:AG$1000)","v":0},{"$f":"SUM(AH$8:AH$1000)","v":{"v":7613640,"d":"7,613,640"}},{"$f":"SUM(AI$8:AI$1000)","v":{"v":81725,"d":"81,725"}},{"$f":"SUM(AJ$8:AJ$1000)","v":0},{"$f":"SUM(AK$8:AK$1000)","v":0},"-",{"$f":"SUM(AN7,AS7,AW7,AX7,BD7)","v":{"v":4041503,"d":"4,041,503"}},{"$f":"SUM(AO7:AR7)","v":{"v":1270868,"d":"1,270,868"}},{"$f":"SUM(AO$8:AO$1000)","v":{"v":523105,"d":"523,105"}},{"$f":"SUM(AP$8:AP$1000)","v":{"v":13349,"d":"13,349"}},{"$f":"SUM(AQ$8:AQ$1000)","v":{"v":691406,"d":"691,406"}},{"$f":"SUM(AR$8:AR$1000)","v":{"v":43008,"d":"43,008"}},{"$f":"SUM(AT7:AV7)","v":{"v":1078093,"d":"1,078,093"}},{"$f":"SUM(AT$8:AT$1000)","v":{"v":46353,"d":"46,353"}},{"$f":"SUM(AU$8:AU$1000)","v":{"v":962542,"d":"962,542"}},{"$f":"SUM(AV$8:AV$1000)","v":{"v":69198,"d":"69,198"}},{"$f":"SUM(AW$8:AW$1000)","v":{"v":23935,"d":"23,935"}},{"$f":"SUM(AY7:BB7)","v":{"v":1660834,"d":"1,660,834"}},{"$f":"SUM(AY$8:AY$1000)","v":{"v":165791,"d":"165,791"}},{"v":1258951,"d":"1,258,951"},{"v":178008,"d":"178,008"},{"v":58084,"d":"58,084"},"-",{"v":7773,"d":"7,773"},{"v":609881,"d":"609,881"},{"$f":"SUM(AE7,+AM7,+BE7)","v":{"v":12346749,"d":"12,346,749"}},{"$f":"SUM(BH7,+BM7)","v":{"v":97234,"d":"97,234"}},{"$f":"SUM(BI7:BL7)","v":{"v":97234,"d":"97,234"}},{"$f":"SUM(BI$8:BI$1000)","v":0},{"$f":"SUM(BJ$8:BJ$1000)","v":{"v":97234,"d":"97,234"}},{"$f":"SUM(BK$8:BK$1000)","v":0},{"$f":"SUM(BL$8:BL$1000)","v":0},{"$f":"SUM(BM$8:BM$1000)","v":0},"-",{"$f":"SUM(BP7,BU7,BY7,BZ7,CF7)","v":{"v":1694887,"d":"1,694,887"}},{"$f":"SUM(BQ7:BT7)","v":{"v":332131,"d":"332,131"}},{"$f":"SUM(BQ$8:BQ$1000)","v":{"v":213494,"d":"213,494"}},{"$f":"SUM(BR$8:BR$1000)","v":{"v":47732,"d":"47,732"}},{"$f":"SUM(BS$8:BS$1000)","v":{"v":70835,"d":"70,835"}},{"$f":"SUM(BT$8:BT$1000)","v":70},{"$f":"SUM(BV7:BX7)","v":{"v":159449,"d":"159,449"}},{"$f":"SUM(BV$8:BV$1000)","v":{"v":3124,"d":"3,124"}},{"$f":"SUM(BW$8:BW$1000)","v":{"v":156325,"d":"156,325"}},{"$f":"SUM(BX$8:BX$1000)","v":0},{"$f":"SUM(BY$8:BY$1000)","v":0},{"$f":"SUM(CA7:CD7)","v":{"v":1203307,"d":"1,203,307"}},{"$f":"SUM(CA$8:CA$1000)","v":{"v":395389,"d":"395,389"}},{"v":364334,"d":"364,334"},{"v":2025,"d":"2,025"},{"v":441559,"d":"441,559"},"-",0,{"v":122383,"d":"122,383"},{"$f":"SUM(BG7,+BO7,+CG7)","v":{"v":1914504,"d":"1,914,504"}},{"$f":"SUM(AE7,+BG7)","v":{"v":7792599,"d":"7,792,599"}},{"v":7792599,"d":"7,792,599"},0,{"v":7710874,"d":"7,710,874"},{"v":81725,"d":"81,725"},0,0,"-",{"$f":"SUM(AM7,+BO7)","v":{"v":5736390,"d":"5,736,390"}},{"v":1602999,"d":"1,602,999"},{"v":736599,"d":"736,599"},{"v":61081,"d":"61,081"},{"v":762241,"d":"762,241"},{"v":43078,"d":"43,078"},{"v":1237542,"d":"1,237,542"},{"v":49477,"d":"49,477"},{"v":1118867,"d":"1,118,867"},{"v":69198,"d":"69,198"},{"v":23935,"d":"23,935"},{"v":2864141,"d":"2,864,141"},{"v":561180,"d":"561,180"},{"v":1623285,"d":"1,623,285"},{"v":180033,"d":"180,033"},{"v":499643,"d":"499,643"},"-",{"$f":"SUM(BD7,+CF7)","v":{"v":7773,"d":"7,773"}},{"$f":"SUM(BE7,+CG7)","v":{"v":732264,"d":"732,264"}},{"$f":"SUM(BF7,+CH7)","v":{"v":14261253,"d":"14,261,253"}}]
["京都府","26817","船井郡衛生管理組合",{"$f":"SUM(E8,+L8)","v":{"v":322761,"d":"322,761"}},{"$f":"SUM(F8:I8)+K8","v":{"v":264432,"d":"264,432"}},0,0,0,{"v":264432,"d":"264,432"},{"v":367339,"d":"367,339"},0,{"v":58329,"d":"58,329"},{"$f":"SUM(N8,+U8)","v":{"v":240127,"d":"240,127"}},{"$f":"SUM(O8:R8,T8)","v":{"v":44937,"d":"44,937"}},0,0,0,{"v":44937,"d":"44,937"},{"v":525760,"d":"525,760"},0,{"v":195190,"d":"195,190"},{"$f":"+SUM(D8,M8)","v":{"v":562888,"d":"562,888"}},{"$f":"+SUM(E8,N8)","v":{"v":309369,"d":"309,369"}},{"$f":"+SUM(F8,O8)","v":0},{"$f":"+SUM(G8,P8)","v":0},{"$f":"+SUM(H8,Q8)","v":0},{"$f":"+SUM(I8,R8)","v":{"v":309369,"d":"309,369"}},{"$f":"+SUM(J8,S8)","v":{"v":893099,"d":"893,099"}},{"$f":"+SUM(K8,T8)","v":0},{"$f":"+SUM(L8,U8)","v":{"v":253519,"d":"253,519"}},{"$f":"SUM(AF8,+AK8)","v":0},{"$f":"SUM(AG8:AJ8)","v":0},0,0,0,0,0,"-",{"$f":"SUM(AN8,AS8,AW8,AX8,BD8)","v":{"v":690100,"d":"690,100"}},{"$f":"SUM(AO8:AR8)","v":{"v":181499,"d":"181,499"}},{"v":31509,"d":"31,509"},{"v":13349,"d":"13,349"},{"v":135891,"d":"135,891"},750,{"$f":"SUM(AT8:AV8)","v":{"v":44714,"d":"44,714"}},{"v":39120,"d":"39,120"},{"v":5594,"d":"5,594"},0,{"v":23935,"d":"23,935"},{"$f":"SUM(AY8:BB8)","v":{"v":439952,"d":"439,952"}},{"v":4198,"d":"4,198"},{"v":433574,"d":"433,574"},{"v":2180,"d":"2,180"},0,"-",0,0,{"$f":"SUM(AE8,+AM8,+BE8)","v":{"v":690100,"d":"690,100"}},{"$f":"SUM(BH8,+BM8)","v":0},{"$f":"SUM(BI8:BL8)","v":0},0,0,0,0,0,"-",{"$f":"SUM(BP8,BU8,BY8,BZ8,CF8)","v":{"v":765887,"d":"765,887"}},{"$f":"SUM(BQ8:BT8)","v":{"v":84539,"d":"84,539"}},{"v":37090,"d":"37,090"},{"v":3655,"d":"3,655"},{"v":43724,"d":"43,724"},70,{"$f":"SUM(BV8:BX8)","v":{"v":67057,"d":"67,057"}},{"v":1622,"d":"1,622"},{"v":65435,"d":"65,435"},0,0,{"$f":"SUM(CA8:CD8)","v":{"v":614291,"d":"614,291"}},{"v":76370,"d":"76,370"},{"v":130235,"d":"130,235"},{"v":1579,"d":"1,579"},{"v":406107,"d":"406,107"},"-",0,0,{"$f":"SUM(BG8,+BO8,+CG8)","v":{"v":765887,"d":"765,887"}},{"$f":"SUM(AE8,+BG8)","v":0},{"$f":"SUM(AF8,+BH8)","v":0},{"$f":"SUM(AG8,+BI8)","v":0},{"$f":"SUM(AH8,+BJ8)","v":0},{"$f":"SUM(AI8,+BK8)","v":0},{"$f":"SUM(AJ8,+BL8)","v":0},{"$f":"SUM(AK8,+BM8)","v":0},"-",{"$f":"SUM(AM8,+BO8)","v":{"v":1455987,"d":"1,455,987"}},{"$f":"SUM(AN8,+BP8)","v":{"v":266038,"d":"266,038"}},{"$f":"SUM(AO8,+BQ8)","v":{"v":68599,"d":"68,599"}},{"$f":"SUM(AP8,+BR8)","v":{"v":17004,"d":"17,004"}},{"$f":"SUM(AQ8,+BS8)","v":{"v":179615,"d":"179,615"}},{"$f":"SUM(AR8,+BT8)","v":820},{"$f":"SUM(AS8,+BU8)","v":{"v":111771,"d":"111,771"}},{"$f":"SUM(AT8,+BV8)","v":{"v":40742,"d":"40,742"}},{"$f":"SUM(AU8,+BW8)","v":{"v":71029,"d":"71,029"}},{"$f":"SUM(AV8,+BX8)","v":0},{"$f":"SUM(AW8,+BY8)","v":{"v":23935,"d":"23,935"}},{"$f":"SUM(AX8,+BZ8)","v":{"v":1054243,"d":"1,054,243"}},{"$f":"SUM(AY8,+CA8)","v":{"v":80568,"d":"80,568"}},{"$f":"SUM(AZ8,+CB8)","v":{"v":563809,"d":"563,809"}},{"$f":"SUM(BA8,+CC8)","v":{"v":3759,"d":"3,759"}},{"$f":"SUM(BB8,+CD8)","v":{"v":406107,"d":"406,107"}},"-",{"$f":"SUM(BD8,+CF8)","v":0},{"$f":"SUM(BE8,+CG8)","v":0},{"$f":"SUM(BF8,+CH8)","v":{"v":1455987,"d":"1,455,987"}}]
["京都府","26820","城南衛生管理組合",{"$f":"SUM(E9,+L9)","v":{"v":5493347,"d":"5,493,347"}},{"$f":"SUM(F9:I9)+K9","v":{"v":5249683,"d":"5,249,683"}},{"v":2073386,"d":"2,073,386"},0,{"v":2801000,"d":"2,801,000"},{"v":375297,"d":"375,297"},{"v":2390592,"d":"2,390,592"},0,{"v":243664,"d":"243,664"},{"$f":"SUM(N9,+U9)","v":{"v":162044,"d":"162,044"}},{"$f":"SUM(O9:R9,T9)","v":{"v":100539,"d":"100,539"}},0,0,0,{"v":100539,"d":"100,539"},{"v":671050,"d":"671,050"},0,{"v":61505,"d":"61,505"},{"$f":"+SUM(D9,M9)","v":{"v":5655391,"d":"5,655,391"}},{"$f":"+SUM(E9,N9)","v":{"v":5350222,"d":"5,350,222"}},{"$f":"+SUM(F9,O9)","v":{"v":2073386,"d":"2,073,386"}},{"$f":"+SUM(G9,P9)","v":0},{"$f":"+SUM(H9,Q9)","v":{"v":2801000,"d":"2,801,000"}},{"$f":"+SUM(I9,R9)","v":{"v":475836,"d":"475,836"}},{"$f":"+SUM(J9,S9)","v":{"v":3061642,"d":"3,061,642"}},{"$f":"+SUM(K9,T9)","v":0},{"$f":"+SUM(L9,U9)","v":{"v":305169,"d":"305,169"}},{"$f":"SUM(AF9,+AK9)","v":{"v":5792360,"d":"5,792,360"}},{"$f":"SUM(AG9:AJ9)","v":{"v":5792360,"d":"5,792,360"}},0,{"v":5779870,"d":"5,779,870"},{"v":12490,"d":"12,490"},0,0,"-",{"$f":"SUM(AN9,AS9,AW9,AX9,BD9)","v":{"v":1980874,"d":"1,980,874"}},{"$f":"SUM(AO9:AR9)","v":{"v":644162,"d":"644,162"}},{"v":152251,"d":"152,251"},0,{"v":449653,"d":"449,653"},{"v":42258,"d":"42,258"},{"$f":"SUM(AT9:AV9)","v":{"v":675176,"d":"675,176"}},{"v":7233,"d":"7,233"},{"v":615452,"d":"615,452"},{"v":52491,"d":"52,491"},0,{"$f":"SUM(AY9:BB9)","v":{"v":661536,"d":"661,536"}},{"v":93106,"d":"93,106"},{"v":445934,"d":"445,934"},{"v":122496,"d":"122,496"},0,"-",0,{"v":110705,"d":"110,705"},{"$f":"SUM(AE9,+AM9,+BE9)","v":{"v":7883939,"d":"7,883,939"}},{"$f":"SUM(BH9,+BM9)","v":{"v":97234,"d":"97,234"}},{"$f":"SUM(BI9:BL9)","v":{"v":97234,"d":"97,234"}},0,{"v":97234,"d":"97,234"},0,0,0,"-",{"$f":"SUM(BP9,BU9,BY9,BZ9,CF9)","v":{"v":613477,"d":"613,477"}},{"$f":"SUM(BQ9:BT9)","v":{"v":247592,"d":"247,592"}},{"v":176404,"d":"176,404"},{"v":44077,"d":"44,077"},{"v":27111,"d":"27,111"},0,{"$f":"SUM(BV9:BX9)","v":{"v":92392,"d":"92,392"}},{"v":1502,"d":"1,502"},{"v":90890,"d":"90,890"},0,0,{"$f":"SUM(CA9:CD9)","v":{"v":273493,"d":"273,493"}},{"v":244535,"d":"244,535"},{"v":28512,"d":"28,512"},446,0,"-",0,{"v":122383,"d":"122,383"},{"$f":"SUM(BG9,+BO9,+CG9)","v":{"v":833094,"d":"833,094"}},{"$f":"SUM(AE9,+BG9)","v":{"v":5889594,"d":"5,889,594"}},{"$f":"SUM(AF9,+BH9)","v":{"v":5889594,"d":"5,889,594"}},{"$f":"SUM(AG9,+BI9)","v":0},{"$f":"SUM(AH9,+BJ9)","v":{"v":5877104,"d":"5,877,104"}},{"$f":"SUM(AI9,+BK9)","v":{"v":12490,"d":"12,490"}},{"$f":"SUM(AJ9,+BL9)","v":0},{"$f":"SUM(AK9,+BM9)","v":0},"-",{"$f":"SUM(AM9,+BO9)","v":{"v":2594351,"d":"2,594,351"}},{"$f":"SUM(AN9,+BP9)","v":{"v":891754,"d":"891,754"}},{"$f":"SUM(AO9,+BQ9)","v":{"v":328655,"d":"328,655"}},{"$f":"SUM(AP9,+BR9)","v":{"v":44077,"d":"44,077"}},{"$f":"SUM(AQ9,+BS9)","v":{"v":476764,"d":"476,764"}},{"$f":"SUM(AR9,+BT9)","v":{"v":42258,"d":"42,258"}},{"$f":"SUM(AS9,+BU9)","v":{"v":767568,"d":"767,568"}},{"$f":"SUM(AT9,+BV9)","v":{"v":8735,"d":"8,735"}},{"$f":"SUM(AU9,+BW9)","v":{"v":706342,"d":"706,342"}},{"$f":"SUM(AV9,+BX9)","v":{"v":52491,"d":"52,491"}},{"$f":"SUM(AW9,+BY9)","v":0},{"$f":"SUM(AX9,+BZ9)","v":{"v":935029,"d":"935,029"}},{"$f":"SUM(AY9,+CA9)","v":{"v":337641,"d":"337,641"}},{"$f":"SUM(AZ9,+CB9)","v":{"v":474446,"d":"474,446"}},{"$f":"SUM(BA9,+CC9)","v":{"v":122942,"d":"122,942"}},{"$f":"SUM(BB9,+CD9)","v":0},"-",{"$f":"SUM(BD9,+CF9)","v":0},{"$f":"SUM(BE9,+CG9)","v":{"v":233088,"d":"233,088"}},{"$f":"SUM(BF9,+CH9)","v":{"v":8717033,"d":"8,717,033"}}]
["京都府","26821","相楽郡西部塵埃処理組合",{"$f":"SUM(E10,+L10)","v":{"v":121160,"d":"121,160"}},{"$f":"SUM(F10:I10)+K10","v":{"v":109176,"d":"109,176"}},0,0,0,{"v":109138,"d":"109,138"},{"v":226748,"d":"226,748"},38,{"v":11984,"d":"11,984"},{"$f":"SUM(N10,+U10)","v":0},{"$f":"SUM(O10:R10,T10)","v":0},0,0,0,0,0,0,0,{"$f":"+SUM(D10,M10)","v":{"v":121160,"d":"121,160"}},{"$f":"+SUM(E10,N10)","v":{"v":109176,"d":"109,176"}},{"$f":"+SUM(F10,O10)","v":0},{"$f":"+SUM(G10,P10)","v":0},{"$f":"+SUM(H10,Q10)","v":0},{"$f":"+SUM(I10,R10)","v":{"v":109138,"d":"109,138"}},{"$f":"+SUM(J10,S10)","v":{"v":226748,"d":"226,748"}},{"$f":"+SUM(K10,T10)","v":38},{"$f":"+SUM(L10,U10)","v":{"v":11984,"d":"11,984"}},{"$f":"SUM(AF10,+AK10)","v":0},{"$f":"SUM(AG10:AJ10)","v":0},0,0,0,0,0,"-",{"$f":"SUM(AN10,AS10,AW10,AX10,BD10)","v":{"v":291398,"d":"291,398"}},{"$f":"SUM(AO10:AR10)","v":{"v":125869,"d":"125,869"}},{"v":20007,"d":"20,007"},0,{"v":105862,"d":"105,862"},0,{"$f":"SUM(AT10:AV10)","v":{"v":122391,"d":"122,391"}},0,{"v":122391,"d":"122,391"},0,0,{"$f":"SUM(AY10:BB10)","v":{"v":40656,"d":"40,656"}},0,{"v":20049,"d":"20,049"},{"v":20574,"d":"20,574"},33,"-",{"v":2482,"d":"2,482"},{"v":56510,"d":"56,510"},{"$f":"SUM(AE10,+AM10,+BE10)","v":{"v":347908,"d":"347,908"}},{"$f":"SUM(BH10,+BM10)","v":0},{"$f":"SUM(BI10:BL10)","v":0},0,0,0,0,0,"-",{"$f":"SUM(BP10,BU10,BY10,BZ10,CF10)","v":0},{"$f":"SUM(BQ10:BT10)","v":0},0,0,0,0,{"$f":"SUM(BV10:BX10)","v":0},0,0,0,0,{"$f":"SUM(CA10:CD10)","v":0},0,0,0,0,"-",0,0,{"$f":"SUM(BG10,+BO10,+CG10)","v":0},{"$f":"SUM(AE10,+BG10)","v":0},{"$f":"SUM(AF10,+BH10)","v":0},{"$f":"SUM(AG10,+BI10)","v":0},{"$f":"SUM(AH10,+BJ10)","v":0},{"$f":"SUM(AI10,+BK10)","v":0},{"$f":"SUM(AJ10,+BL10)","v":0},{"$f":"SUM(AK10,+BM10)","v":0},"-",{"$f":"SUM(AM10,+BO10)","v":{"v":291398,"d":"291,398"}},{"$f":"SUM(AN10,+BP10)","v":{"v":125869,"d":"125,869"}},{"$f":"SUM(AO10,+BQ10)","v":{"v":20007,"d":"20,007"}},{"$f":"SUM(AP10,+BR10)","v":0},{"$f":"SUM(AQ10,+BS10)","v":{"v":105862,"d":"105,862"}},{"$f":"SUM(AR10,+BT10)","v":0},{"$f":"SUM(AS10,+BU10)","v":{"v":122391,"d":"122,391"}},{"$f":"SUM(AT10,+BV10)","v":0},{"$f":"SUM(AU10,+BW10)","v":{"v":122391,"d":"122,391"}},{"$f":"SUM(AV10,+BX10)","v":0},{"$f":"SUM(AW10,+BY10)","v":0},{"$f":"SUM(AX10,+BZ10)","v":{"v":40656,"d":"40,656"}},{"$f":"SUM(AY10,+CA10)","v":0},{"$f":"SUM(AZ10,+CB10)","v":{"v":20049,"d":"20,049"}},{"$f":"SUM(BA10,+CC10)","v":{"v":20574,"d":"20,574"}},{"$f":"SUM(BB10,+CD10)","v":33},"-",{"$f":"SUM(BD10,+CF10)","v":{"v":2482,"d":"2,482"}},{"$f":"SUM(BE10,+CG10)","v":{"v":56510,"d":"56,510"}},{"$f":"SUM(BF10,+CH10)","v":{"v":347908,"d":"347,908"}}]
["京都府","26828","乙訓環境衛生組合",{"$f":"SUM(E11,+L11)","v":{"v":1589357,"d":"1,589,357"}},{"$f":"SUM(F11:I11)+K11","v":{"v":1589357,"d":"1,589,357"}},{"v":381888,"d":"381,888"},0,{"v":1087100,"d":"1,087,100"},{"v":120369,"d":"120,369"},{"v":1144420,"d":"1,144,420"},0,0,{"$f":"SUM(N11,+U11)","v":0},{"$f":"SUM(O11:R11,T11)","v":0},0,0,0,0,0,0,0,{"$f":"+SUM(D11,M11)","v":{"v":1589357,"d":"1,589,357"}},{"$f":"+SUM(E11,N11)","v":{"v":1589357,"d":"1,589,357"}},{"$f":"+SUM(F11,O11)","v":{"v":381888,"d":"381,888"}},{"$f":"+SUM(G11,P11)","v":0},{"$f":"+SUM(H11,Q11)","v":{"v":1087100,"d":"1,087,100"}},{"$f":"+SUM(I11,R11)","v":{"v":120369,"d":"120,369"}},{"$f":"+SUM(J11,S11)","v":{"v":1144420,"d":"1,144,420"}},{"$f":"+SUM(K11,T11)","v":0},{"$f":"+SUM(L11,U11)","v":0},{"$f":"SUM(AF11,+AK11)","v":{"v":1864999,"d":"1,864,999"}},{"$f":"SUM(AG11:AJ11)","v":{"v":1864999,"d":"1,864,999"}},0,{"v":1795764,"d":"1,795,764"},{"v":69235,"d":"69,235"},0,0,"-",{"$f":"SUM(AN11,AS11,AW11,AX11,BD11)","v":{"v":868778,"d":"868,778"}},{"$f":"SUM(AO11:AR11)","v":{"v":284095,"d":"284,095"}},{"v":284095,"d":"284,095"},0,0,0,{"$f":"SUM(AT11:AV11)","v":{"v":235812,"d":"235,812"}},0,{"v":219105,"d":"219,105"},{"v":16707,"d":"16,707"},0,{"$f":"SUM(AY11:BB11)","v":{"v":348871,"d":"348,871"}},0,{"v":348871,"d":"348,871"},0,0,"-",0,0,{"$f":"SUM(AE11,+AM11,+BE11)","v":{"v":2733777,"d":"2,733,777"}},{"$f":"SUM(BH11,+BM11)","v":0},{"$f":"SUM(BI11:BL11)","v":0},0,0,0,0,0,"-",{"$f":"SUM(BP11,BU11,BY11,BZ11,CF11)","v":0},{"$f":"SUM(BQ11:BT11)","v":0},0,0,0,0,{"$f":"SUM(BV11:BX11)","v":0},0,0,0,0,{"$f":"SUM(CA11:CD11)","v":0},0,0,0,0,"-",0,0,{"$f":"SUM(BG11,+BO11,+CG11)","v":0},{"$f":"SUM(AE11,+BG11)","v":{"v":1864999,"d":"1,864,999"}},{"$f":"SUM(AF11,+BH11)","v":{"v":1864999,"d":"1,864,999"}},{"$f":"SUM(AG11,+BI11)","v":0},{"$f":"SUM(AH11,+BJ11)","v":{"v":1795764,"d":"1,795,764"}},{"$f":"SUM(AI11,+BK11)","v":{"v":69235,"d":"69,235"}},{"$f":"SUM(AJ11,+BL11)","v":0},{"$f":"SUM(AK11,+BM11)","v":0},"-",{"$f":"SUM(AM11,+BO11)","v":{"v":868778,"d":"868,778"}},{"$f":"SUM(AN11,+BP11)","v":{"v":284095,"d":"284,095"}},{"$f":"SUM(AO11,+BQ11)","v":{"v":284095,"d":"284,095"}},{"$f":"SUM(AP11,+BR11)","v":0},{"$f":"SUM(AQ11,+BS11)","v":0},{"$f":"SUM(AR11,+BT11)","v":0},{"$f":"SUM(AS11,+BU11)","v":{"v":235812,"d":"235,812"}},{"$f":"SUM(AT11,+BV11)","v":0},{"$f":"SUM(AU11,+BW11)","v":{"v":219105,"d":"219,105"}},{"$f":"SUM(AV11,+BX11)","v":{"v":16707,"d":"16,707"}},{"$f":"SUM(AW11,+BY11)","v":0},{"$f":"SUM(AX11,+BZ11)","v":{"v":348871,"d":"348,871"}},{"$f":"SUM(AY11,+CA11)","v":0},{"$f":"SUM(AZ11,+CB11)","v":{"v":348871,"d":"348,871"}},{"$f":"SUM(BA11,+CC11)","v":0},{"$f":"SUM(BB11,+CD11)","v":0},"-",{"$f":"SUM(BD11,+CF11)","v":0},{"$f":"SUM(BE11,+CG11)","v":0},{"$f":"SUM(BF11,+CH11)","v":{"v":2733777,"d":"2,733,777"}}]
["京都府","26843","相楽東部広域連合",{"$f":"SUM(E12,+L12)","v":{"v":50327,"d":"50,327"}},{"$f":"SUM(F12:I12)+K12","v":{"v":49413,"d":"49,413"}},0,{"v":4338,"d":"4,338"},{"v":26600,"d":"26,600"},{"v":12074,"d":"12,074"},{"v":223853,"d":"223,853"},{"v":6401,"d":"6,401"},914,{"$f":"SUM(N12,+U12)","v":0},{"$f":"SUM(O12:R12,T12)","v":0},0,0,0,0,0,0,0,{"$f":"+SUM(D12,M12)","v":{"v":50327,"d":"50,327"}},{"$f":"+SUM(E12,N12)","v":{"v":49413,"d":"49,413"}},{"$f":"+SUM(F12,O12)","v":0},{"$f":"+SUM(G12,P12)","v":{"v":4338,"d":"4,338"}},{"$f":"+SUM(H12,Q12)","v":{"v":26600,"d":"26,600"}},{"$f":"+SUM(I12,R12)","v":{"v":12074,"d":"12,074"}},{"$f":"+SUM(J12,S12)","v":{"v":223853,"d":"223,853"}},{"$f":"+SUM(K12,T12)","v":{"v":6401,"d":"6,401"}},{"$f":"+SUM(L12,U12)","v":914},{"$f":"SUM(AF12,+AK12)","v":{"v":38006,"d":"38,006"}},{"$f":"SUM(AG12:AJ12)","v":{"v":38006,"d":"38,006"}},0,{"v":38006,"d":"38,006"},0,0,0,"-",{"$f":"SUM(AN12,AS12,AW12,AX12,BD12)","v":{"v":181042,"d":"181,042"}},{"$f":"SUM(AO12:AR12)","v":{"v":5932,"d":"5,932"}},{"v":5932,"d":"5,932"},0,0,0,{"$f":"SUM(AT12:AV12)","v":0},0,0,0,0,{"$f":"SUM(AY12:BB12)","v":{"v":169819,"d":"169,819"}},{"v":68487,"d":"68,487"},{"v":10523,"d":"10,523"},{"v":32758,"d":"32,758"},{"v":58051,"d":"58,051"},"-",{"v":5291,"d":"5,291"},{"v":55132,"d":"55,132"},{"$f":"SUM(AE12,+AM12,+BE12)","v":{"v":274180,"d":"274,180"}},{"$f":"SUM(BH12,+BM12)","v":0},{"$f":"SUM(BI12:BL12)","v":0},0,0,0,0,0,"-",{"$f":"SUM(BP12,BU12,BY12,BZ12,CF12)","v":0},{"$f":"SUM(BQ12:BT12)","v":0},0,0,0,0,{"$f":"SUM(BV12:BX12)","v":0},0,0,0,0,{"$f":"SUM(CA12:CD12)","v":0},0,0,0,0,"-",0,0,{"$f":"SUM(BG12,+BO12,+CG12)","v":0},{"$f":"SUM(AE12,+BG12)","v":{"v":38006,"d":"38,006"}},{"$f":"SUM(AF12,+BH12)","v":{"v":38006,"d":"38,006"}},{"$f":"SUM(AG12,+BI12)","v":0},{"$f":"SUM(AH12,+BJ12)","v":{"v":38006,"d":"38,006"}},{"$f":"SUM(AI12,+BK12)","v":0},{"$f":"SUM(AJ12,+BL12)","v":0},{"$f":"SUM(AK12,+BM12)","v":0},"-",{"$f":"SUM(AM12,+BO12)","v":{"v":181042,"d":"181,042"}},{"$f":"SUM(AN12,+BP12)","v":{"v":5932,"d":"5,932"}},{"$f":"SUM(AO12,+BQ12)","v":{"v":5932,"d":"5,932"}},{"$f":"SUM(AP12,+BR12)","v":0},{"$f":"SUM(AQ12,+BS12)","v":0},{"$f":"SUM(AR12,+BT12)","v":0},{"$f":"SUM(AS12,+BU12)","v":0},{"$f":"SUM(AT12,+BV12)","v":0},{"$f":"SUM(AU12,+BW12)","v":0},{"$f":"SUM(AV12,+BX12)","v":0},{"$f":"SUM(AW12,+BY12)","v":0},{"$f":"SUM(AX12,+BZ12)","v":{"v":169819,"d":"169,819"}},{"$f":"SUM(AY12,+CA12)","v":{"v":68487,"d":"68,487"}},{"$f":"SUM(AZ12,+CB12)","v":{"v":10523,"d":"10,523"}},{"$f":"SUM(BA12,+CC12)","v":{"v":32758,"d":"32,758"}},{"$f":"SUM(BB12,+CD12)","v":{"v":58051,"d":"58,051"}},"-",{"$f":"SUM(BD12,+CF12)","v":{"v":5291,"d":"5,291"}},{"$f":"SUM(BE12,+CG12)","v":{"v":55132,"d":"55,132"}},{"$f":"SUM(BF12,+CH12)","v":{"v":274180,"d":"274,180"}}]
["京都府","26849","相楽郡広域事務組合",{"$f":"SUM(E13,+L13)","v":0},{"$f":"SUM(F13:I13)+K13","v":0},0,0,0,0,0,0,0,{"$f":"SUM(N13,+U13)","v":{"v":17052,"d":"17,052"}},{"$f":"SUM(O13:R13,T13)","v":{"v":17052,"d":"17,052"}},0,0,0,{"v":17052,"d":"17,052"},{"v":298471,"d":"298,471"},0,0,{"$f":"+SUM(D13,M13)","v":{"v":17052,"d":"17,052"}},{"$f":"+SUM(E13,N13)","v":{"v":17052,"d":"17,052"}},{"$f":"+SUM(F13,O13)","v":0},{"$f":"+SUM(G13,P13)","v":0},{"$f":"+SUM(H13,Q13)","v":0},{"$f":"+SUM(I13,R13)","v":{"v":17052,"d":"17,052"}},{"$f":"+SUM(J13,S13)","v":{"v":298471,"d":"298,471"}},{"$f":"+SUM(K13,T13)","v":0},{"$f":"+SUM(L13,U13)","v":0},{"$f":"SUM(AF13,+AK13)","v":0},{"$f":"SUM(AG13:AJ13)","v":0},0,0,0,0,0,"-",{"$f":"SUM(AN13,AS13,AW13,AX13,BD13)","v":0},{"$f":"SUM(AO13:AR13)","v":0},0,0,0,0,{"$f":"SUM(AT13:AV13)","v":0},0,0,0,0,{"$f":"SUM(AY13:BB13)","v":0},0,0,0,0,"-",0,0,{"$f":"SUM(AE13,+AM13,+BE13)","v":0},{"$f":"SUM(BH13,+BM13)","v":0},{"$f":"SUM(BI13:BL13)","v":0},0,0,0,0,0,"-",{"$f":"SUM(BP13,BU13,BY13,BZ13,CF13)","v":{"v":315523,"d":"315,523"}},{"$f":"SUM(BQ13:BT13)","v":0},0,0,0,0,{"$f":"SUM(BV13:BX13)","v":0},0,0,0,0,{"$f":"SUM(CA13:CD13)","v":{"v":315523,"d":"315,523"}},{"v":74484,"d":"74,484"},{"v":205587,"d":"205,587"},0,{"v":35452,"d":"35,452"},"-",0,0,{"$f":"SUM(BG13,+BO13,+CG13)","v":{"v":315523,"d":"315,523"}},{"$f":"SUM(AE13,+BG13)","v":0},{"$f":"SUM(AF13,+BH13)","v":0},{"$f":"SUM(AG13,+BI13)","v":0},{"$f":"SUM(AH13,+BJ13)","v":0},{"$f":"SUM(AI13,+BK13)","v":0},{"$f":"SUM(AJ13,+BL13)","v":0},{"$f":"SUM(AK13,+BM13)","v":0},"-",{"$f":"SUM(AM13,+BO13)","v":{"v":315523,"d":"315,523"}},{"$f":"SUM(AN13,+BP13)","v":0},{"$f":"SUM(AO13,+BQ13)","v":0},{"$f":"SUM(AP13,+BR13)","v":0},{"$f":"SUM(AQ13,+BS13)","v":0},{"$f":"SUM(AR13,+BT13)","v":0},{"$f":"SUM(AS13,+BU13)","v":0},{"$f":"SUM(AT13,+BV13)","v":0},{"$f":"SUM(AU13,+BW13)","v":0},{"$f":"SUM(AV13,+BX13)","v":0},{"$f":"SUM(AW13,+BY13)","v":0},{"$f":"SUM(AX13,+BZ13)","v":{"v":315523,"d":"315,523"}},{"$f":"SUM(AY13,+CA13)","v":{"v":74484,"d":"74,484"}},{"$f":"SUM(AZ13,+CB13)","v":{"v":205587,"d":"205,587"}},{"$f":"SUM(BA13,+CC13)","v":0},{"$f":"SUM(BB13,+CD13)","v":{"v":35452,"d":"35,452"}},"-",{"$f":"SUM(BD13,+CF13)","v":0},{"$f":"SUM(BE13,+CG13)","v":0},{"$f":"SUM(BF13,+CH13)","v":{"v":315523,"d":"315,523"}}]
["京都府","26861","宮津与謝環境組合",{"$f":"SUM(E14,+L14)","v":{"v":109045,"d":"109,045"}},{"$f":"SUM(F14:I14)+K14","v":22},0,0,0,0,{"v":307800,"d":"307,800"},22,{"v":109023,"d":"109,023"},{"$f":"SUM(N14,+U14)","v":0},{"$f":"SUM(O14:R14,T14)","v":0},0,0,0,0,0,0,0,{"$f":"+SUM(D14,M14)","v":{"v":109045,"d":"109,045"}},{"$f":"+SUM(E14,N14)","v":22},{"$f":"+SUM(F14,O14)","v":0},{"$f":"+SUM(G14,P14)","v":0},{"$f":"+SUM(H14,Q14)","v":0},{"$f":"+SUM(I14,R14)","v":0},{"$f":"+SUM(J14,S14)","v":{"v":307800,"d":"307,800"}},{"$f":"+SUM(K14,T14)","v":22},{"$f":"+SUM(L14,U14)","v":{"v":109023,"d":"109,023"}},{"$f":"SUM(AF14,+AK14)","v":0},{"$f":"SUM(AG14:AJ14)","v":0},0,0,0,0,0,"-",{"$f":"SUM(AN14,AS14,AW14,AX14,BD14)","v":{"v":29311,"d":"29,311"}},{"$f":"SUM(AO14:AR14)","v":{"v":29311,"d":"29,311"}},{"v":29311,"d":"29,311"},0,0,0,{"$f":"SUM(AT14:AV14)","v":0},0,0,0,0,{"$f":"SUM(AY14:BB14)","v":0},0,0,0,0,"-",0,{"v":387534,"d":"387,534"},{"$f":"SUM(AE14,+AM14,+BE14)","v":{"v":416845,"d":"416,845"}},{"$f":"SUM(BH14,+BM14)","v":0},{"$f":"SUM(BI14:BL14)","v":0},0,0,0,0,0,"-",{"$f":"SUM(BP14,BU14,BY14,BZ14,CF14)","v":0},{"$f":"SUM(BQ14:BT14)","v":0},0,0,0,0,{"$f":"SUM(BV14:BX14)","v":0},0,0,0,0,{"$f":"SUM(CA14:CD14)","v":0},0,0,0,0,"-",0,0,{"$f":"SUM(BG14,+BO14,+CG14)","v":0},{"$f":"SUM(AE14,+BG14)","v":0},{"$f":"SUM(AF14,+BH14)","v":0},{"$f":"SUM(AG14,+BI14)","v":0},{"$f":"SUM(AH14,+BJ14)","v":0},{"$f":"SUM(AI14,+BK14)","v":0},{"$f":"SUM(AJ14,+BL14)","v":0},{"$f":"SUM(AK14,+BM14)","v":0},"-",{"$f":"SUM(AM14,+BO14)","v":{"v":29311,"d":"29,311"}},{"$f":"SUM(AN14,+BP14)","v":{"v":29311,"d":"29,311"}},{"$f":"SUM(AO14,+BQ14)","v":{"v":29311,"d":"29,311"}},{"$f":"SUM(AP14,+BR14)","v":0},{"$f":"SUM(AQ14,+BS14)","v":0},{"$f":"SUM(AR14,+BT14)","v":0},{"$f":"SUM(AS14,+BU14)","v":0},{"$f":"SUM(AT14,+BV14)","v":0},{"$f":"SUM(AU14,+BW14)","v":0},{"$f":"SUM(AV14,+BX14)","v":0},{"$f":"SUM(AW14,+BY14)","v":0},{"$f":"SUM(AX14,+BZ14)","v":0},{"$f":"SUM(AY14,+CA14)","v":0},{"$f":"SUM(AZ14,+CB14)","v":0},{"$f":"SUM(BA14,+CC14)","v":0},{"$f":"SUM(BB14,+CD14)","v":0},"-",{"$f":"SUM(BD14,+CF14)","v":0},{"$f":"SUM(BE14,+CG14)","v":{"v":387534,"d":"387,534"}},{"$f":"SUM(BF14,+CH14)","v":{"v":416845,"d":"416,845"}}]

{"sheet":"廃棄物事業経費（歳入）","index":2,"n_rows":40,"n_cols":31,"rows_kept":40,"merged":[[1,0,5,0],[1,1,5,1],[1,2,5,2]]}
["廃棄物処理事業経費（市区町村及び一部事務組合・広域連合の合計）【歳入】（平成28年度実績）"]
["都道府県名","地方公共団体コード","市区町村・一部事務組合・広域連合名","ごみ",{"$nulls":8},"し尿",{"$nulls":8},"合計"]
[{"$nulls":3},"合計 (特定財源(市区町村分担金を除く)+一般財源)",{"$nulls":8},"合計 (特定財源(市区町村分担金を除く)+一般財源)",{"$nulls":8},"合計 (特定財源(市区町村分担金を除く)+一般財源)"]
[{"$nulls":4},"特定財源 (市区町村分担金を除く)",{"$nulls":6},"一般財源",null,"特定財源 (市区町村分担金を除く)",{"$nulls":6},"一般財源",null,"特定財源 (市区町村分担金を除く)",{"$nulls":6},"一般財源"]
[{"$nulls":4},"合計","国庫支出金","都道府県\n支出金","地方債","使用料及び\n手数料","（市区町村\n分担金）","その他",null,null,"合計","国庫支出金","都道府県\n支出金","地方債","使用料及び\n手数料","（市区町村\n分担金）","その他",null,null,"合計","国庫支出金","都道府県\n支出金","地方債","使用料及び\n手数料","（市区町村\n分担金）","その他"]
[{"$nulls":3},"（千円）","（千円）","（千円）","（千円）","（千円）","（千円）","（千円）","（千円）","（千円）","（千円）","（千円）","（千円）","（千円）","（千円）","（千円）","（千円）","（千円）","（千円）","（千円）","（千円）","（千円）","（千円）","（千円）","（千円）","（千円）","（千円）","（千円）"]
[{"$f":"'廃棄物事業経費（市町村）'!A7","v":"京都府"},{"$f":"'廃棄物事業経費（市町村）'!B7","v":"26000"},"合計",{"$f":"SUM(E7,+L7)","v":{"v":51264112,"d":"51,264,112"}},{"$f":"+SUM(F7:I7,K7)","v":{"v":23620889,"d":"23,620,889"}},{"$f":"SUM(F$8:F$1000)","v":{"v":5587375,"d":"5,587,375"}},{"v":72565,"d":"72,565"},{"v":7566700,"d":"7,566,700"},{"v":6014759,"d":"6,014,759"},{"v":4660752,"d":"4,660,752"},{"v":4379490,"d":"4,379,490"},{"v":27643223,"d":"27,643,223"},{"$f":"SUM(N7,+U7)","v":{"v":5243426,"d":"5,243,426"}},{"$f":"+SUM(O7:R7,T7)","v":{"v":1483325,"d":"1,483,325"}},{"$f":"SUM(O$8:O$1000)","v":{"v":224384,"d":"224,384"}},{"v":6817,"d":"6,817"},{"v":257998,"d":"257,998"},{"v":963119,"d":"963,119"},{"v":1495281,"d":"1,495,281"},{"v":31007,"d":"31,007"},{"v":3760101,"d":"3,760,101"},{"$f":"+SUM(D7,M7)","v":{"v":56507538,"d":"56,507,538"}},{"v":25104214,"d":"25,104,214"},{"v":5811759,"d":"5,811,759"},{"v":79382,"d":"79,382"},{"v":7824698,"d":"7,824,698"},{"v":6977878,"d":"6,977,878"},{"v":6156033,"d":"6,156,033"},{"$f":"+SUM(K7,T7)","v":{"v":4410497,"d":"4,410,497"}},{"$f":"+SUM(L7,U7)","v":{"v":31403324,"d":"31,403,324"}}]
["京都府","26100","京都市",{"$f":"SUM(E8,+L8)","v":{"v":22994933,"d":"22,994,933"}},{"$f":"+SUM(F8:I8,K8)","v":{"v":13928596,"d":"13,928,596"}},{"v":2784851,"d":"2,784,851"},0,{"v":2912000,"d":"2,912,000"},{"v":4049530,"d":"4,049,530"},null,{"v":4182215,"d":"4,182,215"},{"v":9066337,"d":"9,066,337"},{"$f":"SUM(N8,+U8)","v":{"v":817474,"d":"817,474"}},{"$f":"+SUM(O8:R8,T8)","v":{"v":77531,"d":"77,531"}},0,0,0,{"v":75454,"d":"75,454"},null,{"v":2077,"d":"2,077"},{"v":739943,"d":"739,943"},{"$f":"+SUM(D8,M8)","v":{"v":23812407,"d":"23,812,407"}},{"$f":"+SUM(E8,N8)","v":{"v":14006127,"d":"14,006,127"}},{"$f":"+SUM(F8,O8)","v":{"v":2784851,"d":"2,784,851"}},{"$f":"+SUM(G8,P8)","v":0},{"$f":"+SUM(H8,Q8)","v":{"v":2912000,"d":"2,912,000"}},{"$f":"+SUM(I8,R8)","v":{"v":4124984,"d":"4,124,984"}},{"$f":"+SUM(J8,S8)","v":0},{"$f":"+SUM(K8,T8)","v":{"v":4184292,"d":"4,184,292"}},{"$f":"+SUM(L8,U8)","v":{"v":9806280,"d":"9,806,280"}},"261100"]
["京都府","26201","福知山市",{"$f":"SUM(E9,+L9)","v":{"v":1709669,"d":"1,709,669"}},{"$f":"+SUM(F9:I9,K9)","v":{"v":1009598,"d":"1,009,598"}},{"v":244803,"d":"244,803"},{"v":13896,"d":"13,896"},{"v":282100,"d":"282,100"},{"v":440367,"d":"440,367"},null,{"v":28432,"d":"28,432"},{"v":700071,"d":"700,071"},{"$f":"SUM(N9,+U9)","v":{"v":111268,"d":"111,268"}},{"$f":"+SUM(O9:R9,T9)","v":{"v":27973,"d":"27,973"}},0,0,0,{"v":27973,"d":"27,973"},null,0,{"v":83295,"d":"83,295"},{"$f":"+SUM(D9,M9)","v":{"v":1820937,"d":"1,820,937"}},{"$f":"+SUM(E9,N9)","v":{"v":1037571,"d":"1,037,571"}},{"$f":"+SUM(F9,O9)","v":{"v":244803,"d":"244,803"}},{"$f":"+SUM(G9,P9)","v":{"v":13896,"d":"13,896"}},{"$f":"+SUM(H9,Q9)","v":{"v":282100,"d":"282,100"}},{"$f":"+SUM(I9,R9)","v":{"v":468340,"d":"468,340"}},{"$f":"+SUM(J9,S9)","v":0},{"$f":"+SUM(K9,T9)","v":{"v":28432,"d":"28,432"}},{"$f":"+SUM(L9,U9)","v":{"v":783366,"d":"783,366"}},"261201"]
["京都府","26202","舞鶴市",{"$f":"SUM(E10,+L10)","v":{"v":1391348,"d":"1,391,348"}},{"$f":"+SUM(F10:I10,K10)","v":{"v":377311,"d":"377,311"}},{"v":59364,"d":"59,364"},{"v":40000,"d":"40,000"},{"v":157700,"d":"157,700"},{"v":111443,"d":"111,443"},null,{"v":8804,"d":"8,804"},{"v":1014037,"d":"1,014,037"},{"$f":"SUM(N10,+U10)","v":{"v":645914,"d":"645,914"}},{"$f":"+SUM(O10:R10,T10)","v":{"v":471421,"d":"471,421"}},{"v":221723,"d":"221,723"},0,{"v":249698,"d":"249,698"},0,null,0,{"v":174493,"d":"174,493"},{"$f":"+SUM(D10,M10)","v":{"v":2037262,"d":"2,037,262"}},{"$f":"+SUM(E10,N10)","v":{"v":848732,"d":"848,732"}},{"$f":"+SUM(F10,O10)","v":{"v":281087,"d":"281,087"}},{"$f":"+SUM(G10,P10)","v":{"v":40000,"d":"40,000"}},{"$f":"+SUM(H10,Q10)","v":{"v":407398,"d":"407,398"}},{"$f":"+SUM(I10,R10)","v":{"v":111443,"d":"111,443"}},{"$f":"+SUM(J10,S10)","v":0},{"$f":"+SUM(K10,T10)","v":{"v":8804,"d":"8,804"}},{"$f":"+SUM(L10,U10)","v":{"v":1188530,"d":"1,188,530"}},"261202"]
["京都府","26203","綾部市",{"$f":"SUM(E11,+L11)","v":{"v":725996,"d":"725,996"}},{"$f":"+SUM(F11:I11,K11)","v":{"v":132500,"d":"132,500"}},{"v":4608,"d":"4,608"},0,{"v":2500,"d":"2,500"},{"v":102198,"d":"102,198"},null,{"v":23194,"d":"23,194"},{"v":593496,"d":"593,496"},{"$f":"SUM(N11,+U11)","v":{"v":484252,"d":"484,252"}},{"$f":"+SUM(O11:R11,T11)","v":{"v":117133,"d":"117,133"}},0,0,0,{"v":117082,"d":"117,082"},null,51,{"v":367119,"d":"367,119"},{"$f":"+SUM(D11,M11)","v":{"v":1210248,"d":"1,210,248"}},{"$f":"+SUM(E11,N11)","v":{"v":249633,"d":"249,633"}},{"$f":"+SUM(F11,O11)","v":{"v":4608,"d":"4,608"}},{"$f":"+SUM(G11,P11)","v":0},{"$f":"+SUM(H11,Q11)","v":{"v":2500,"d":"2,500"}},{"$f":"+SUM(I11,R11)","v":{"v":219280,"d":"219,280"}},{"$f":"+SUM(J11,S11)","v":0},{"$f":"+SUM(K11,T11)","v":{"v":23245,"d":"23,245"}},{"$f":"+SUM(L11,U11)","v":{"v":960615,"d":"960,615"}},"261203"]
["京都府","26204","宇治市",{"$f":"SUM(E12,+L12)","v":{"v":2314732,"d":"2,314,732"}},{"$f":"+SUM(F12:I12,K12)","v":{"v":20271,"d":"20,271"}},0,0,0,{"v":18195,"d":"18,195"},null,{"v":2076,"d":"2,076"},{"v":2294461,"d":"2,294,461"},{"$f":"SUM(N12,+U12)","v":{"v":335726,"d":"335,726"}},{"$f":"+SUM(O12:R12,T12)","v":0},0,0,0,0,null,0,{"v":335726,"d":"335,726"},{"$f":"+SUM(D12,M12)","v":{"v":2650458,"d":"2,650,458"}},{"$f":"+SUM(E12,N12)","v":{"v":20271,"d":"20,271"}},{"$f":"+SUM(F12,O12)","v":0},{"$f":"+SUM(G12,P12)","v":0},{"$f":"+SUM(H12,Q12)","v":0},{"$f":"+SUM(I12,R12)","v":{"v":18195,"d":"18,195"}},{"$f":"+SUM(J12,S12)","v":0},{"$f":"+SUM(K12,T12)","v":{"v":2076,"d":"2,076"}},{"$f":"+SUM(L12,U12)","v":{"v":2630187,"d":"2,630,187"}},"261204"]
["京都府","26205","宮津市",{"$f":"SUM(E13,+L13)","v":{"v":603244,"d":"603,244"}},{"$f":"+SUM(F13:I13,K13)","v":{"v":216089,"d":"216,089"}},0,{"v":3597,"d":"3,597"},{"v":155800,"d":"155,800"},{"v":56574,"d":"56,574"},null,118,{"v":387155,"d":"387,155"},{"$f":"SUM(N13,+U13)","v":{"v":162828,"d":"162,828"}},{"$f":"+SUM(O13:R13,T13)","v":{"v":94002,"d":"94,002"}},0,{"v":3513,"d":"3,513"},{"v":8300,"d":"8,300"},{"v":82189,"d":"82,189"},null,0,{"v":68826,"d":"68,826"},{"$f":"+SUM(D13,M13)","v":{"v":766072,"d":"766,072"}},{"$f":"+SUM(E13,N13)","v":{"v":310091,"d":"310,091"}},{"$f":"+SUM(F13,O13)","v":0},{"$f":"+SUM(G13,P13)","v":{"v":7110,"d":"7,110"}},{"$f":"+SUM(H13,Q13)","v":{"v":164100,"d":"164,100"}},{"$f":"+SUM(I13,R13)","v":{"v":138763,"d":"138,763"}},{"$f":"+SUM(J13,S13)","v":0},{"$f":"+SUM(K13,T13)","v":118},{"$f":"+SUM(L13,U13)","v":{"v":455981,"d":"455,981"}},"261205"]
["京都府","26206","亀岡市",{"$f":"SUM(E14,+L14)","v":{"v":902261,"d":"902,261"}},{"$f":"+SUM(F14:I14,K14)","v":{"v":243274,"d":"243,274"}},0,{"v":8877,"d":"8,877"},0,{"v":218644,"d":"218,644"},null,{"v":15753,"d":"15,753"},{"v":658987,"d":"658,987"},{"$f":"SUM(N14,+U14)","v":{"v":269938,"d":"269,938"}},{"$f":"+SUM(O14:R14,T14)","v":{"v":90445,"d":"90,445"}},0,0,0,{"v":88444,"d":"88,444"},null,{"v":2001,"d":"2,001"},{"v":179493,"d":"179,493"},{"$f":"+SUM(D14,M14)","v":{"v":1172199,"d":"1,172,199"}},{"$f":"+SUM(E14,N14)","v":{"v":333719,"d":"333,719"}},{"$f":"+SUM(F14,O14)","v":0},{"$f":"+SUM(G14,P14)","v":{"v":8877,"d":"8,877"}},{"$f":"+SUM(H14,Q14)","v":0},{"$f":"+SUM(I14,R14)","v":{"v":307088,"d":"307,088"}},{"$f":"+SUM(J14,S14)","v":0},{"$f":"+SUM(K14,T14)","v":{"v":17754,"d":"17,754"}},{"$f":"+SUM(L14,U14)","v":{"v":838480,"d":"838,480"}},"261206"]
["京都府","26207","城陽市",{"$f":"SUM(E15,+L15)","v":{"v":850450,"d":"850,450"}},{"$f":"+SUM(F15:I15,K15)","v":{"v":2267,"d":"2,267"}},0,0,0,{"v":2267,"d":"2,267"},null,0,{"v":848183,"d":"848,183"},{"$f":"SUM(N15,+U15)","v":{"v":151389,"d":"151,389"}},{"$f":"+SUM(O15:R15,T15)","v":0},0,0,0,0,null,0,{"v":151389,"d":"151,389"},{"$f":"+SUM(D15,M15)","v":{"v":1001839,"d":"1,001,839"}},{"$f":"+SUM(E15,N15)","v":{"v":2267,"d":"2,267"}},{"$f":"+SUM(F15,O15)","v":0},{"$f":"+SUM(G15,P15)","v":0},{"$f":"+SUM(H15,Q15)","v":0},{"$f":"+SUM(I15,R15)","v":{"v":2267,"d":"2,267"}},{"$f":"+SUM(J15,S15)","v":0},{"$f":"+SUM(K15,T15)","v":0},{"$f":"+SUM(L15,U15)","v":{"v":999572,"d":"999,572"}},"261207"]
["京都府","26208","向日市",{"$f":"SUM(E16,+L16)","v":{"v":892331,"d":"892,331"}},{"$f":"+SUM(F16:I16,K16)","v":{"v":6564,"d":"6,564"}},0,0,0,{"v":6564,"d":"6,564"},null,0,{"v":885767,"d":"885,767"},{"$f":"SUM(N16,+U16)","v":{"v":32595,"d":"32,595"}},{"$f":"+SUM(O16:R16,T16)","v":{"v":1202,"d":"1,202"}},0,0,0,{"v":1202,"d":"1,202"},null,0,{"v":31393,"d":"31,393"},{"$f":"+SUM(D16,M16)","v":{"v":924926,"d":"924,926"}},{"$f":"+SUM(E16,N16)","v":{"v":7766,"d":"7,766"}},{"$f":"+SUM(F16,O16)","v":0},{"$f":"+SUM(G16,P16)","v":0},{"$f":"+SUM(H16,Q16)","v":0},{"$f":"+SUM(I16,R16)","v":{"v":7766,"d":"7,766"}},{"$f":"+SUM(J16,S16)","v":0},{"$f":"+SUM(K16,T16)","v":0},{"$f":"+SUM(L16,U16)","v":{"v":917160,"d":"917,160"}},"261208"]
["京都府","26209","長岡京市",{"$f":"SUM(E17,+L17)","v":{"v":1281954,"d":"1,281,954"}},{"$f":"+SUM(F17:I17,K17)","v":{"v":6768,"d":"6,768"}},0,0,0,{"v":6768,"d":"6,768"},null,0,{"v":1275186,"d":"1,275,186"},{"$f":"SUM(N17,+U17)","v":0},{"$f":"+SUM(O17:R17,T17)","v":0},0,0,0,0,null,0,0,{"$f":"+SUM(D17,M17)","v":{"v":1281954,"d":"1,281,954"}},{"$f":"+SUM(E17,N17)","v":{"v":6768,"d":"6,768"}},{"$f":"+SUM(F17,O17)","v":0},{"$f":"+SUM(G17,P17)","v":0},{"$f":"+SUM(H17,Q17)","v":0},{"$f":"+SUM(I17,R17)","v":{"v":6768,"d":"6,768"}},{"$f":"+SUM(J17,S17)","v":0},{"$f":"+SUM(K17,T17)","v":0},{"$f":"+SUM(L17,U17)","v":{"v":1275186,"d":"1,275,186"}},"261209"]
["京都府","26210","八幡市",{"$f":"SUM(E18,+L18)","v":{"v":953315,"d":"953,315"}},{"$f":"+SUM(F18:I18,K18)","v":{"v":16857,"d":"16,857"}},0,0,{"v":10500,"d":"10,500"},{"v":6357,"d":"6,357"},null,0,{"v":936458,"d":"936,458"},{"$f":"SUM(N18,+U18)","v":{"v":72608,"d":"72,608"}},{"$f":"+SUM(O18:R18,T18)","v":0},0,0,0,0,null,0,{"v":72608,"d":"72,608"},{"$f":"+SUM(D18,M18)","v":{"v":1025923,"d":"1,025,923"}},{"$f":"+SUM(E18,N18)","v":{"v":16857,"d":"16,857"}},{"$f":"+SUM(F18,O18)","v":0},{"$f":"+SUM(G18,P18)","v":0},{"$f":"+SUM(H18,Q18)","v":{"v":10500,"d":"10,500"}},{"$f":"+SUM(I18,R18)","v":{"v":6357,"d":"6,357"}},{"$f":"+SUM(J18,S18)","v":0},{"$f":"+SUM(K18,T18)","v":0},{"$f":"+SUM(L18,U18)","v":{"v":1009066,"d":"1,009,066"}},"261210"]
["京都府","26211","京田辺市",{"$f":"SUM(E19,+L19)","v":{"v":954699,"d":"954,699"}},{"$f":"+SUM(F19:I19,K19)","v":{"v":67957,"d":"67,957"}},0,0,0,{"v":59713,"d":"59,713"},null,{"v":8244,"d":"8,244"},{"v":886742,"d":"886,742"},{"$f":"SUM(N19,+U19)","v":{"v":94534,"d":"94,534"}},{"$f":"+SUM(O19:R19,T19)","v":{"v":9328,"d":"9,328"}},0,0,0,{"v":9328,"d":"9,328"},null,0,{"v":85206,"d":"85,206"},{"$f":"+SUM(D19,M19)","v":{"v":1049233,"d":"1,049,233"}},{"$f":"+SUM(E19,N19)","v":{"v":77285,"d":"77,285"}},{"$f":"+SUM(F19,O19)","v":0},{"$f":"+SUM(G19,P19)","v":0},{"$f":"+SUM(H19,Q19)","v":0},{"$f":"+SUM(I19,R19)","v":{"v":69041,"d":"69,041"}},{"$f":"+SUM(J19,S19)","v":0},{"$f":"+SUM(K19,T19)","v":{"v":8244,"d":"8,244"}},{"$f":"+SUM(L19,U19)","v":{"v":971948,"d":"971,948"}},"261211"]
["京都府","26212","京丹後市",{"$f":"SUM(E20,+L20)","v":{"v":950936,"d":"950,936"}},{"$f":"+SUM(F20:I20,K20)","v":{"v":158007,"d":"158,007"}},{"v":38475,"d":"38,475"},0,0,{"v":37853,"d":"37,853"},null,{"v":81679,"d":"81,679"},{"v":792929,"d":"792,929"},{"$f":"SUM(N20,+U20)","v":{"v":570261,"d":"570,261"}},{"$f":"+SUM(O20:R20,T20)","v":{"v":298281,"d":"298,281"}},0,0,0,{"v":274259,"d":"274,259"},null,{"v":24022,"d":"24,022"},{"v":271980,"d":"271,980"},{"$f":"+SUM(D20,M20)","v":{"v":1521197,"d":"1,521,197"}},{"$f":"+SUM(E20,N20)","v":{"v":456288,"d":"456,288"}},{"$f":"+SUM(F20,O20)","v":{"v":38475,"d":"38,475"}},{"$f":"+SUM(G20,P20)","v":0},{"$f":"+SUM(H20,Q20)","v":0},{"$f":"+SUM(I20,R20)","v":{"v":312112,"d":"312,112"}},{"$f":"+SUM(J20,S20)","v":0},{"$f":"+SUM(K20,T20)","v":{"v":105701,"d":"105,701"}},{"$f":"+SUM(L20,U20)","v":{"v":1064909,"d":"1,064,909"}},"261212"]
["京都府","26213","南丹市",{"$f":"SUM(E21,+L21)","v":{"v":254714,"d":"254,714"}},{"$f":"+SUM(F21:I21,K21)","v":0},0,0,0,0,null,0,{"v":254714,"d":"254,714"},{"$f":"SUM(N21,+U21)","v":{"v":320228,"d":"320,228"}},{"$f":"+SUM(O21:R21,T21)","v":0},0,0,0,0,null,0,{"v":320228,"d":"320,228"},{"$f":"+SUM(D21,M21)","v":{"v":574942,"d":"574,942"}},{"$f":"+SUM(E21,N21)","v":0},{"$f":"+SUM(F21,O21)","v":0},{"$f":"+SUM(G21,P21)","v":0},{"$f":"+SUM(H21,Q21)","v":0},{"$f":"+SUM(I21,R21)","v":0},{"$f":"+SUM(J21,S21)","v":0},{"$f":"+SUM(K21,T21)","v":0},{"$f":"+SUM(L21,U21)","v":{"v":574942,"d":"574,942"}},"261213"]
["京都府","26214","木津川市",{"$f":"SUM(E22,+L22)","v":{"v":4109346,"d":"4,109,346"}},{"$f":"+SUM(F22:I22,K22)","v":{"v":17944,"d":"17,944"}},0,0,0,{"v":1385,"d":"1,385"},null,{"v":16559,"d":"16,559"},{"v":4091402,"d":"4,091,402"},{"$f":"SUM(N22,+U22)","v":{"v":166505,"d":"166,505"}},{"$f":"+SUM(O22:R22,T22)","v":{"v":40174,"d":"40,174"}},0,0,0,{"v":40102,"d":"40,102"},null,72,{"v":126331,"d":"126,331"},{"$f":"+SUM(D22,M22)","v":{"v":4275851,"d":"4,275,851"}},{"$f":"+SUM(E22,N22)","v":{"v":58118,"d":"58,118"}},{"$f":"+SUM(F22,O22)","v":0},{"$f":"+SUM(G22,P22)","v":0},{"$f":"+SUM(H22,Q22)","v":0},{"$f":"+SUM(I22,R22)","v":{"v":41487,"d":"41,487"}},{"$f":"+SUM(J22,S22)","v":0},{"$f":"+SUM(K22,T22)","v":{"v":16631,"d":"16,631"}},{"$f":"+SUM(L22,U22)","v":{"v":4217733,"d":"4,217,733"}},"261214"]
["京都府","26303","大山崎町",{"$f":"SUM(E23,+L23)","v":{"v":238543,"d":"238,543"}},{"$f":"+SUM(F23:I23,K23)","v":{"v":1873,"d":"1,873"}},0,0,0,{"v":1873,"d":"1,873"},null,0,{"v":236670,"d":"236,670"},{"$f":"SUM(N23,+U23)","v":{"v":2818,"d":"2,818"}},{"$f":"+SUM(O23:R23,T23)","v":{"v":1962,"d":"1,962"}},0,0,0,{"v":1962,"d":"1,962"},null,0,856,{"$f":"+SUM(D23,M23)","v":{"v":241361,"d":"241,361"}},{"$f":"+SUM(E23,N23)","v":{"v":3835,"d":"3,835"}},{"$f":"+SUM(F23,O23)","v":0},{"$f":"+SUM(G23,P23)","v":0},{"$f":"+SUM(H23,Q23)","v":0},{"$f":"+SUM(I23,R23)","v":{"v":3835,"d":"3,835"}},{"$f":"+SUM(J23,S23)","v":0},{"$f":"+SUM(K23,T23)","v":0},{"$f":"+SUM(L23,U23)","v":{"v":237526,"d":"237,526"}},"261303"]
["京都府","26322","久御山町",{"$f":"SUM(E24,+L24)","v":{"v":252054,"d":"252,054"}},{"$f":"+SUM(F24:I24,K24)","v":762},0,0,0,762,null,0,{"v":251292,"d":"251,292"},{"$f":"SUM(N24,+U24)","v":{"v":36438,"d":"36,438"}},{"$f":"+SUM(O24:R24,T24)","v":0},0,0,0,0,null,0,{"v":36438,"d":"36,438"},{"$f":"+SUM(D24,M24)","v":{"v":288492,"d":"288,492"}},{"$f":"+SUM(E24,N24)","v":762},{"$f":"+SUM(F24,O24)","v":0},{"$f":"+SUM(G24,P24)","v":0},{"$f":"+SUM(H24,Q24)","v":0},{"$f":"+SUM(I24,R24)","v":762},{"$f":"+SUM(J24,S24)","v":0},{"$f":"+SUM(K24,T24)","v":0},{"$f":"+SUM(L24,U24)","v":{"v":287730,"d":"287,730"}},"261322"]
["京都府","26343","井手町",{"$f":"SUM(E25,+L25)","v":{"v":111673,"d":"111,673"}},{"$f":"+SUM(F25:I25,K25)","v":383},0,0,0,283,null,100,{"v":111290,"d":"111,290"},{"$f":"SUM(N25,+U25)","v":{"v":24896,"d":"24,896"}},{"$f":"+SUM(O25:R25,T25)","v":0},0,0,0,0,null,0,{"v":24896,"d":"24,896"},{"$f":"+SUM(D25,M25)","v":{"v":136569,"d":"136,569"}},{"$f":"+SUM(E25,N25)","v":383},{"$f":"+SUM(F25,O25)","v":0},{"$f":"+SUM(G25,P25)","v":0},{"$f":"+SUM(H25,Q25)","v":0},{"$f":"+SUM(I25,R25)","v":283},{"$f":"+SUM(J25,S25)","v":0},{"$f":"+SUM(K25,T25)","v":100},{"$f":"+SUM(L25,U25)","v":{"v":136186,"d":"136,186"}},"261343"]
["京都府","26344","宇治田原町",{"$f":"SUM(E26,+L26)","v":{"v":154891,"d":"154,891"}},{"$f":"+SUM(F26:I26,K26)","v":0},0,0,0,0,null,0,{"v":154891,"d":"154,891"},{"$f":"SUM(N26,+U26)","v":{"v":49993,"d":"49,993"}},{"$f":"+SUM(O26:R26,T26)","v":0},0,0,0,0,null,0,{"v":49993,"d":"49,993"},{"$f":"+SUM(D26,M26)","v":{"v":204884,"d":"204,884"}},{"$f":"+SUM(E26,N26)","v":0},{"$f":"+SUM(F26,O26)","v":0},{"$f":"+SUM(G26,P26)","v":0},{"$f":"+SUM(H26,Q26)","v":0},{"$f":"+SUM(I26,R26)","v":0},{"$f":"+SUM(J26,S26)","v":0},{"$f":"+SUM(K26,T26)","v":0},{"$f":"+SUM(L26,U26)","v":{"v":204884,"d":"204,884"}},"261344"]
["京都府","26364","笠置町",{"$f":"SUM(E27,+L27)","v":{"v":45936,"d":"45,936"}},{"$f":"+SUM(F27:I27,K27)","v":{"v":1423,"d":"1,423"}},0,0,0,{"v":1405,"d":"1,405"},null,18,{"v":44513,"d":"44,513"},{"$f":"SUM(N27,+U27)","v":{"v":27804,"d":"27,804"}},{"$f":"+SUM(O27:R27,T27)","v":{"v":10062,"d":"10,062"}},359,248,0,{"v":9455,"d":"9,455"},null,0,{"v":17742,"d":"17,742"},{"$f":"+SUM(D27,M27)","v":{"v":73740,"d":"73,740"}},{"$f":"+SUM(E27,N27)","v":{"v":11485,"d":"11,485"}},{"$f":"+SUM(F27,O27)","v":359},{"$f":"+SUM(G27,P27)","v":248},{"$f":"+SUM(H27,Q27)","v":0},{"$f":"+SUM(I27,R27)","v":{"v":10860,"d":"10,860"}},{"$f":"+SUM(J27,S27)","v":0},{"$f":"+SUM(K27,T27)","v":18},{"$f":"+SUM(L27,U27)","v":{"v":62255,"d":"62,255"}},"261364"]
["京都府","26365","和束町",{"$f":"SUM(E28,+L28)","v":{"v":109644,"d":"109,644"}},{"$f":"+SUM(F28:I28,K28)","v":0},0,0,0,0,null,0,{"v":109644,"d":"109,644"},{"$f":"SUM(N28,+U28)","v":{"v":36746,"d":"36,746"}},{"$f":"+SUM(O28:R28,T28)","v":0},0,0,0,0,null,0,{"v":36746,"d":"36,746"},{"$f":"+SUM(D28,M28)","v":{"v":146390,"d":"146,390"}},{"$f":"+SUM(E28,N28)","v":0},{"$f":"+SUM(F28,O28)","v":0},{"$f":"+SUM(G28,P28)","v":0},{"$f":"+SUM(H28,Q28)","v":0},{"$f":"+SUM(I28,R28)","v":0},{"$f":"+SUM(J28,S28)","v":0},{"$f":"+SUM(K28,T28)","v":0},{"$f":"+SUM(L28,U28)","v":{"v":146390,"d":"146,390"}},"261365"]
["京都府","26366","精華町",{"$f":"SUM(E29,+L29)","v":{"v":1015012,"d":"1,015,012"}},{"$f":"+SUM(F29:I29,K29)","v":{"v":4160,"d":"4,160"}},0,0,0,{"v":1050,"d":"1,050"},null,{"v":3110,"d":"3,110"},{"v":1010852,"d":"1,010,852"},{"$f":"SUM(N29,+U29)","v":{"v":51515,"d":"51,515"}},{"$f":"+SUM(O29:R29,T29)","v":{"v":7764,"d":"7,764"}},0,0,0,{"v":7764,"d":"7,764"},null,0,{"v":43751,"d":"43,751"},{"$f":"+SUM(D29,M29)","v":{"v":1066527,"d":"1,066,527"}},{"$f":"+SUM(E29,N29)","v":{"v":11924,"d":"11,924"}},{"$f":"+SUM(F29,O29)","v":0},{"$f":"+SUM(G29,P29)","v":0},{"$f":"+SUM(H29,Q29)","v":0},{"$f":"+SUM(I29,R29)","v":{"v":8814,"d":"8,814"}},{"$f":"+SUM(J29,S29)","v":0},{"$f":"+SUM(K29,T29)","v":{"v":3110,"d":"3,110"}},{"$f":"+SUM(L29,U29)","v":{"v":1054603,"d":"1,054,603"}},"261366"]
["京都府","26367","南山城村",{"$f":"SUM(E30,+L30)","v":{"v":69157,"d":"69,157"}},{"$f":"+SUM(F30:I30,K30)","v":{"v":1917,"d":"1,917"}},0,0,0,{"v":1917,"d":"1,917"},null,0,{"v":67240,"d":"67,240"},{"$f":"SUM(N30,+U30)","v":{"v":38602,"d":"38,602"}},{"$f":"+SUM(O30:R30,T30)","v":{"v":10962,"d":"10,962"}},{"v":1656,"d":"1,656"},{"v":1306,"d":"1,306"},0,{"v":8000,"d":"8,000"},null,0,{"v":27640,"d":"27,640"},{"$f":"+SUM(D30,M30)","v":{"v":107759,"d":"107,759"}},{"$f":"+SUM(E30,N30)","v":{"v":12879,"d":"12,879"}},{"$f":"+SUM(F30,O30)","v":{"v":1656,"d":"1,656"}},{"$f":"+SUM(G30,P30)","v":{"v":1306,"d":"1,306"}},{"$f":"+SUM(H30,Q30)","v":0},{"$f":"+SUM(I30,R30)","v":{"v":9917,"d":"9,917"}},{"$f":"+SUM(J30,S30)","v":0},{"$f":"+SUM(K30,T30)","v":0},{"$f":"+SUM(L30,U30)","v":{"v":94880,"d":"94,880"}},"261367"]
["京都府","26407","京丹波町",{"$f":"SUM(E31,+L31)","v":{"v":112625,"d":"112,625"}},{"$f":"+SUM(F31:I31,K31)","v":0},0,0,0,0,null,0,{"v":112625,"d":"112,625"},{"$f":"SUM(N31,+U31)","v":{"v":205532,"d":"205,532"}},{"$f":"+SUM(O31:R31,T31)","v":0},0,0,0,0,null,0,{"v":205532,"d":"205,532"},{"$f":"+SUM(D31,M31)","v":{"v":318157,"d":"318,157"}},{"$f":"+SUM(E31,N31)","v":0},{"$f":"+SUM(F31,O31)","v":0},{"$f":"+SUM(G31,P31)","v":0},{"$f":"+SUM(H31,Q31)","v":0},{"$f":"+SUM(I31,R31)","v":0},{"$f":"+SUM(J31,S31)","v":0},{"$f":"+SUM(K31,T31)","v":0},{"$f":"+SUM(L31,U31)","v":{"v":318157,"d":"318,157"}},"261407"]
["京都府","26463","伊根町",{"$f":"SUM(E32,+L32)","v":{"v":92833,"d":"92,833"}},{"$f":"+SUM(F32:I32,K32)","v":430},0,360,0,70,null,0,{"v":92403,"d":"92,403"},{"$f":"SUM(N32,+U32)","v":{"v":22268,"d":"22,268"}},{"$f":"+SUM(O32:R32,T32)","v":{"v":11401,"d":"11,401"}},0,0,0,{"v":8813,"d":"8,813"},null,{"v":2588,"d":"2,588"},{"v":10867,"d":"10,867"},{"$f":"+SUM(D32,M32)","v":{"v":115101,"d":"115,101"}},{"$f":"+SUM(E32,N32)","v":{"v":11831,"d":"11,831"}},{"$f":"+SUM(F32,O32)","v":0},{"$f":"+SUM(G32,P32)","v":360},{"$f":"+SUM(H32,Q32)","v":0},{"$f":"+SUM(I32,R32)","v":{"v":8883,"d":"8,883"}},{"$f":"+SUM(J32,S32)","v":0},{"$f":"+SUM(K32,T32)","v":{"v":2588,"d":"2,588"}},{"$f":"+SUM(L32,U32)","v":{"v":103270,"d":"103,270"}},"261463"]
["京都府","26465","与謝野町",{"$f":"SUM(E33,+L33)","v":{"v":485819,"d":"485,819"}},{"$f":"+SUM(F33:I33,K33)","v":{"v":143855,"d":"143,855"}},0,{"v":1497,"d":"1,497"},{"v":131400,"d":"131,400"},{"v":8231,"d":"8,231"},null,{"v":2727,"d":"2,727"},{"v":341964,"d":"341,964"},{"$f":"SUM(N33,+U33)","v":{"v":92071,"d":"92,071"}},{"$f":"+SUM(O33:R33,T33)","v":{"v":51156,"d":"51,156"}},646,{"v":1750,"d":"1,750"},0,{"v":48564,"d":"48,564"},null,196,{"v":40915,"d":"40,915"},{"$f":"+SUM(D33,M33)","v":{"v":577890,"d":"577,890"}},{"$f":"+SUM(E33,N33)","v":{"v":195011,"d":"195,011"}},{"$f":"+SUM(F33,O33)","v":646},{"$f":"+SUM(G33,P33)","v":{"v":3247,"d":"3,247"}},{"$f":"+SUM(H33,Q33)","v":{"v":131400,"d":"131,400"}},{"$f":"+SUM(I33,R33)","v":{"v":56795,"d":"56,795"}},{"$f":"+SUM(J33,S33)","v":0},{"$f":"+SUM(K33,T33)","v":{"v":2923,"d":"2,923"}},{"$f":"+SUM(L33,U33)","v":{"v":382879,"d":"382,879"}},"261465"]
["京都府","26817","船井郡衛生管理組合",{"$f":"SUM(E34,+L34)","v":{"v":322761,"d":"322,761"}},{"$f":"+SUM(F34:I34,K34)","v":{"v":264432,"d":"264,432"}},0,0,0,{"v":264432,"d":"264,432"},{"v":367339,"d":"367,339"},0,{"v":58329,"d":"58,329"},{"$f":"SUM(N34,+U34)","v":{"v":240127,"d":"240,127"}},{"$f":"+SUM(O34:R34,T34)","v":{"v":44937,"d":"44,937"}},0,0,0,{"v":44937,"d":"44,937"},{"v":525760,"d":"525,760"},0,{"v":195190,"d":"195,190"},{"$f":"+SUM(D34,M34)","v":{"v":562888,"d":"562,888"}},{"$f":"+SUM(E34,N34)","v":{"v":309369,"d":"309,369"}},{"$f":"+SUM(F34,O34)","v":0},{"$f":"+SUM(G34,P34)","v":0},{"$f":"+SUM(H34,Q34)","v":0},{"$f":"+SUM(I34,R34)","v":{"v":309369,"d":"309,369"}},{"$f":"+SUM(J34,S34)","v":{"v":893099,"d":"893,099"}},{"$f":"+SUM(K34,T34)","v":0},{"$f":"+SUM(L34,U34)","v":{"v":253519,"d":"253,519"}},"262003"]
["京都府","26820","城南衛生管理組合",{"$f":"SUM(E35,+L35)","v":{"v":5493347,"d":"5,493,347"}},{"$f":"+SUM(F35:I35,K35)","v":{"v":5249683,"d":"5,249,683"}},{"v":2073386,"d":"2,073,386"},0,{"v":2801000,"d":"2,801,000"},{"v":375297,"d":"375,297"},{"v":2390592,"d":"2,390,592"},0,{"v":243664,"d":"243,664"},{"$f":"SUM(N35,+U35)","v":{"v":162044,"d":"162,044"}},{"$f":"+SUM(O35:R35,T35)","v":{"v":100539,"d":"100,539"}},0,0,0,{"v":100539,"d":"100,539"},{"v":671050,"d":"671,050"},0,{"v":61505,"d":"61,505"},{"$f":"+SUM(D35,M35)","v":{"v":5655391,"d":"5,655,391"}},{"$f":"+SUM(E35,N35)","v":{"v":5350222,"d":"5,350,222"}},{"$f":"+SUM(F35,O35)","v":{"v":2073386,"d":"2,073,386"}},{"$f":"+SUM(G35,P35)","v":0},{"$f":"+SUM(H35,Q35)","v":{"v":2801000,"d":"2,801,000"}},{"$f":"+SUM(I35,R35)","v":{"v":475836,"d":"475,836"}},{"$f":"+SUM(J35,S35)","v":{"v":3061642,"d":"3,061,642"}},{"$f":"+SUM(K35,T35)","v":0},{"$f":"+SUM(L35,U35)","v":{"v":305169,"d":"305,169"}},"262002"]
["京都府","26821","相楽郡西部塵埃処理組合",{"$f":"SUM(E36,+L36)","v":{"v":121160,"d":"121,160"}},{"$f":"+SUM(F36:I36,K36)","v":{"v":109176,"d":"109,176"}},0,0,0,{"v":109138,"d":"109,138"},{"v":226748,"d":"226,748"},38,{"v":11984,"d":"11,984"},{"$f":"SUM(N36,+U36)","v":0},{"$f":"+SUM(O36:R36,T36)","v":0},0,0,0,0,0,0,0,{"$f":"+SUM(D36,M36)","v":{"v":121160,"d":"121,160"}},{"$f":"+SUM(E36,N36)","v":{"v":109176,"d":"109,176"}},{"$f":"+SUM(F36,O36)","v":0},{"$f":"+SUM(G36,P36)","v":0},{"$f":"+SUM(H36,Q36)","v":0},{"$f":"+SUM(I36,R36)","v":{"v":109138,"d":"109,138"}},{"$f":"+SUM(J36,S36)","v":{"v":226748,"d":"226,748"}},{"$f":"+SUM(K36,T36)","v":38},{"$f":"+SUM(L36,U36)","v":{"v":11984,"d":"11,984"}},"262005"]
["京都府","26828","乙訓環境衛生組合",{"$f":"SUM(E37,+L37)","v":{"v":1589357,"d":"1,589,357"}},{"$f":"+SUM(F37:I37,K37)","v":{"v":1589357,"d":"1,589,357"}},{"v":381888,"d":"381,888"},0,{"v":1087100,"d":"1,087,100"},{"v":120369,"d":"120,369"},{"v":1144420,"d":"1,144,420"},0,0,{"$f":"SUM(N37,+U37)","v":0},{"$f":"+SUM(O37:R37,T37)","v":0},0,0,0,0,0,0,0,{"$f":"+SUM(D37,M37)","v":{"v":1589357,"d":"1,589,357"}},{"$f":"+SUM(E37,N37)","v":{"v":1589357,"d":"1,589,357"}},{"$f":"+SUM(F37,O37)","v":{"v":381888,"d":"381,888"}},{"$f":"+SUM(G37,P37)","v":0},{"$f":"+SUM(H37,Q37)","v":{"v":1087100,"d":"1,087,100"}},{"$f":"+SUM(I37,R37)","v":{"v":120369,"d":"120,369"}},{"$f":"+SUM(J37,S37)","v":{"v":1144420,"d":"1,144,420"}},{"$f":"+SUM(K37,T37)","v":0},{"$f":"+SUM(L37,U37)","v":0},"262001"]
["京都府","26843","相楽東部広域連合",{"$f":"SUM(E38,+L38)","v":{"v":50327,"d":"50,327"}},{"$f":"+SUM(F38:I38,K38)","v":{"v":49413,"d":"49,413"}},0,{"v":4338,"d":"4,338"},{"v":26600,"d":"26,600"},{"v":12074,"d":"12,074"},{"v":223853,"d":"223,853"},{"v":6401,"d":"6,401"},914,{"$f":"SUM(N38,+U38)","v":0},{"$f":"+SUM(O38:R38,T38)","v":0},0,0,0,0,0,0,0,{"$f":"+SUM(D38,M38)","v":{"v":50327,"d":"50,327"}},{"$f":"+SUM(E38,N38)","v":{"v":49413,"d":"49,413"}},{"$f":"+SUM(F38,O38)","v":0},{"$f":"+SUM(G38,P38)","v":{"v":4338,"d":"4,338"}},{"$f":"+SUM(H38,Q38)","v":{"v":26600,"d":"26,600"}},{"$f":"+SUM(I38,R38)","v":{"v":12074,"d":"12,074"}},{"$f":"+SUM(J38,S38)","v":{"v":223853,"d":"223,853"}},{"$f":"+SUM(K38,T38)","v":{"v":6401,"d":"6,401"}},{"$f":"+SUM(L38,U38)","v":914},"262006"]
["京都府","26849","相楽郡広域事務組合",{"$f":"SUM(E39,+L39)","v":0},{"$f":"+SUM(F39:I39,K39)","v":0},0,0,0,0,0,0,0,{"$f":"SUM(N39,+U39)","v":{"v":17052,"d":"17,052"}},{"$f":"+SUM(O39:R39,T39)","v":{"v":17052,"d":"17,052"}},0,0,0,{"v":17052,"d":"17,052"},{"v":298471,"d":"298,471"},0,0,{"$f":"+SUM(D39,M39)","v":{"v":17052,"d":"17,052"}},{"$f":"+SUM(E39,N39)","v":{"v":17052,"d":"17,052"}},{"$f":"+SUM(F39,O39)","v":0},{"$f":"+SUM(G39,P39)","v":0},{"$f":"+SUM(H39,Q39)","v":0},{"$f":"+SUM(I39,R39)","v":{"v":17052,"d":"17,052"}},{"$f":"+SUM(J39,S39)","v":{"v":298471,"d":"298,471"}},{"$f":"+SUM(K39,T39)","v":0},{"$f":"+SUM(L39,U39)","v":0},"262004"]
["京都府","26861","宮津与謝環境組合",{"$f":"SUM(E40,+L40)","v":{"v":109045,"d":"109,045"}},{"$f":"+SUM(F40:I40,K40)","v":22},0,0,0,0,{"v":307800,"d":"307,800"},22,{"v":109023,"d":"109,023"},{"$f":"SUM(N40,+U40)","v":0},{"$f":"+SUM(O40:R40,T40)","v":0},0,0,0,0,0,0,0,{"$f":"+SUM(D40,M40)","v":{"v":109045,"d":"109,045"}},{"$f":"+SUM(E40,N40)","v":22},{"$f":"+SUM(F40,O40)","v":0},{"$f":"+SUM(G40,P40)","v":0},{"$f":"+SUM(H40,Q40)","v":0},{"$f":"+SUM(I40,R40)","v":0},{"$f":"+SUM(J40,S40)","v":{"v":307800,"d":"307,800"}},{"$f":"+SUM(K40,T40)","v":22},{"$f":"+SUM(L40,U40)","v":{"v":109023,"d":"109,023"}},"262007"]

{"sheet":"廃棄物事業経費（歳出）","index":3,"n_rows":40,"n_cols":87,"rows_kept":40,"merged":[[1,0,5,0],[1,1,5,1],[1,2,5,2],[3,10,4,10],[3,38,4,38],[3,66,4,66]]}
["廃棄物処理事業経費（市区町村及び一部事務組合・広域連合の合計）【歳出】（平成28年度実績）"]
["都道府県名","地方公共団体コード","市区町村・一部事務組合・広域連合名","ごみ（建設改良費＋処理維持管理費＋その他）（組合分担金を除く）",{"$nulls":27},"し尿（建設改良費＋処理維持管理費＋その他）（組合分担金を除く）",{"$nulls":27},"合計（建設改良費＋処理維持管理費＋その他）（組合分担金を除く）"]
[{"$nulls":3},"建設改良費 (工事費+調査費)(組合分担金を除く)",{"$nulls":7},"処理及び維持管理費 (人件費+処理費+車両購入費+委託費+調査研究費)(組合分担金を除く)",{"$nulls":17},"その他","合計","建設改良費 (工事費+調査費)(組合分担金を除く)",{"$nulls":7},"処理及び維持管理費 (人件費+処理費+車両購入費+委託費+調査研究費)(組合分担金を除く)",{"$nulls":17},"その他","合計","建設改良費 (工事費+調査費)(組合分担金を除く)",{"$nulls":7},"処理及び維持管理費 (人件費+処理費+車両購入費+委託費+調査研究費)(組合分担金を除く)",{"$nulls":17},"その他","合計"]
[{"$nulls":3},"合計","工事費 (中間処理施設+最終処分場+その他)",{"$nulls":4},"調査費","（建設改良費組合分担金）","合計","人件費（一般職＋収集運搬＋中間処理＋最終処分）",{"$nulls":4},"処理費 (収集運搬費+中間処理費+最終処分費)",{"$nulls":3},"車両等購入費","委託費 (収集運搬費+中間処理費+最終処分費+その他)",{"$nulls":4},"(組合分担金)","調査研究費",null,null,"合計","工事費 (中間処理施設+最終処分場+その他)",{"$nulls":4},"調査費","（建設改良費組合分担金）","合計","人件費（一般職＋収集運搬＋中間処理＋最終処分）",{"$nulls":4},"処理費 (収集運搬費+中間処理費+最終処分費)",{"$nulls":3},"車両等購入費","委託費 (収集運搬費+中間処理費+最終処分費+その他)",{"$nulls":4},"(組合分担金)","調査研究費",null,null,"合計","工事費 (中間処理施設+最終処分場+その他)",{"$nulls":4},"調査費","（建設改良費組合分担金）","合計","人件費（一般職＋収集運搬＋中間処理＋最終処分）",{"$nulls":4},"処理費 (収集運搬費+中間処理費+最終処分費)",{"$nulls":3},"車両等購入費","委託費 (収集運搬費+中間処理費+最終処分費+その他)",{"$nulls":4},"(組合分担金)","調査研究費"]
[{"$nulls":4},"合計","収集運搬施設","中間処理施設","最終処分場","その他",{"$nulls":3},"合計","一般職","収集運搬","中間処理","最終処分","合計","収集運搬費","中間処理費","最終処分費",null,"合計","収集運搬費","中間処理費","最終処分費","その他",{"$nulls":5},"合計","収集運搬施設","中間処理施設","最終処分場","その他",{"$nulls":3},"合計","一般職","収集運搬","中間処理","最終処分","合計","収集運搬費","中間処理費","最終処分費",null,"合計","収集運搬費","中間処理費","最終処分費","その他",{"$nulls":5},"合計","収集運搬施設","中間処理施設","最終処分場","その他",{"$nulls":3},"合計","一般職","収集運搬","中間処理","最終処分","合計","収集運搬費","中間処理費","最終処分費",null,"合計","収集運搬費","中間処理費","最終処分費","その他"]
[{"$nulls":3},"（千円）","（千円）","（千円）","（千円）","（千円）","（千円）","（千円）","（千円）","（千円）","（千円）","（千円）","（千円）","（千円）","（千円）","（千円）","（千円）","（千円）","（千円）","（千円）","（千円）","（千円）","（千円）","（千円）","（千円）","（千円）","（千円）","（千円）","（千円）","（千円）","（千円）","（千円）","（千円）","（千円）","（千円）","（千円）","（千円）","（千円）","（千円）","（千円）","（千円）","（千円）","（千円）","（千円）","（千円）","（千円）","（千円）","（千円）","（千円）","（千円）","（千円）","（千円）","（千円）","（千円）","（千円）","（千円）","（千円）","（千円）","（千円）","（千円）","（千円）","（千円）","（千円）","（千円）","（千円）","（千円）","（千円）","（千円）","（千円）","（千円）","（千円）","（千円）","（千円）","（千円）","（千円）","（千円）","（千円）","（千円）","（千円）","（千円）","（千円）","（千円）","（千円）","（千円）","（千円）"]
[{"$f":"'廃棄物事業経費（市町村）'!A7","v":"京都府"},{"$f":"'廃棄物事業経費（市町村）'!B7","v":"26000"},"合計",{"$f":"+SUM(E7,J7)","v":{"v":18358089,"d":"18,358,089"}},{"$f":"+SUM(F7:I7)","v":{"v":17585670,"d":"17,585,670"}},{"$f":"SUM(F$8:F$1000)","v":0},{"v":17023414,"d":"17,023,414"},{"v":255242,"d":"255,242"},{"v":307014,"d":"307,014"},{"v":772419,"d":"772,419"},{"v":1666081,"d":"1,666,081"},{"$f":"+SUM(M7,R7,V7,W7,AC7)","v":{"v":30275012,"d":"30,275,012"}},{"$f":"+SUM(N7:Q7)","v":{"v":11881291,"d":"11,881,291"}},{"$f":"SUM(N$8:N$1000)","v":{"v":2576282,"d":"2,576,282"}},{"$f":"SUM(O$8:O$1000)","v":{"v":6098113,"d":"6,098,113"}},{"$f":"SUM(P$8:P$1000)","v":{"v":2963236,"d":"2,963,236"}},{"$f":"SUM(Q$8:Q$1000)","v":{"v":243660,"d":"243,660"}},{"$f":"+SUM(S7:U7)","v":{"v":7875267,"d":"7,875,267"}},{"$f":"SUM(S$8:S$1000)","v":{"v":1394600,"d":"1,394,600"}},{"$f":"SUM(T$8:T$1000)","v":{"v":5486202,"d":"5,486,202"}},{"$f":"SUM(U$8:U$1000)","v":{"v":994465,"d":"994,465"}},{"$f":"SUM(V$8:V$1000)","v":{"v":176666,"d":"176,666"}},{"$f":"+SUM(X7:AA7)","v":{"v":10309373,"d":"10,309,373"}},{"$f":"SUM(X$8:X$1000)","v":{"v":5808662,"d":"5,808,662"}},{"v":3792941,"d":"3,792,941"},{"v":505279,"d":"505,279"},{"v":202491,"d":"202,491"},{"v":2994671,"d":"2,994,671"},{"v":32415,"d":"32,415"},{"v":2631011,"d":"2,631,011"},{"$f":"+SUM(D7,L7,AD7)","v":{"v":51264112,"d":"51,264,112"}},{"$f":"+SUM(AG7,AL7)","v":{"v":932853,"d":"932,853"}},{"$f":"+SUM(AH7:AK7)","v":{"v":932853,"d":"932,853"}},{"$f":"SUM(AH$8:AH$1000)","v":0},{"v":800275,"d":"800,275"},{"v":11200,"d":"11,200"},{"v":121378,"d":"121,378"},0,{"v":97234,"d":"97,234"},{"$f":"+SUM(AO7,AT7,AX7,AY7,BE7)","v":{"v":4057072,"d":"4,057,072"}},{"$f":"+SUM(AP7:AS7)","v":{"v":737858,"d":"737,858"}},{"$f":"SUM(AP$8:AP$1000)","v":{"v":445197,"d":"445,197"}},{"$f":"SUM(AQ$8:AQ$1000)","v":{"v":196506,"d":"196,506"}},{"$f":"SUM(AR$8:AR$1000)","v":{"v":96085,"d":"96,085"}},{"$f":"SUM(AS$8:AS$1000)","v":70},{"$f":"+SUM(AU7:AW7)","v":{"v":508065,"d":"508,065"}},{"$f":"SUM(AU$8:AU$1000)","v":{"v":94156,"d":"94,156"}},{"$f":"SUM(AV$8:AV$1000)","v":{"v":413909,"d":"413,909"}},{"$f":"SUM(AW$8:AW$1000)","v":0},{"$f":"SUM(AX$8:AX$1000)","v":{"v":9666,"d":"9,666"}},{"$f":"+SUM(AZ7:BC7)","v":{"v":2801483,"d":"2,801,483"}},{"$f":"SUM(AZ$8:AZ$1000)","v":{"v":1438778,"d":"1,438,778"}},{"v":725775,"d":"725,775"},{"v":14631,"d":"14,631"},{"v":622299,"d":"622,299"},{"v":1398047,"d":"1,398,047"},0,{"v":253501,"d":"253,501"},{"$f":"+SUM(BF7,AN7,AF7)","v":{"v":5243426,"d":"5,243,426"}},{"$f":"SUM(D7,AF7)","v":{"v":19290942,"d":"19,290,942"}},{"v":18518523,"d":"18,518,523"},0,{"v":17823689,"d":"17,823,689"},{"v":266442,"d":"266,442"},{"v":428392,"d":"428,392"},{"v":772419,"d":"772,419"},{"v":1763315,"d":"1,763,315"},{"v":34332084,"d":"34,332,084"},{"v":12619149,"d":"12,619,149"},{"v":3021479,"d":"3,021,479"},{"v":6294619,"d":"6,294,619"},{"v":3059321,"d":"3,059,321"},{"v":243730,"d":"243,730"},{"v":8383332,"d":"8,383,332"},{"v":1488756,"d":"1,488,756"},{"v":5900111,"d":"5,900,111"},{"v":994465,"d":"994,465"},{"v":186332,"d":"186,332"},{"v":13110856,"d":"13,110,856"},{"v":7247440,"d":"7,247,440"},{"v":4518716,"d":"4,518,716"},{"v":519910,"d":"519,910"},{"v":824790,"d":"824,790"},{"v":4392718,"d":"4,392,718"},{"v":32415,"d":"32,415"},{"v":2884512,"d":"2,884,512"},{"v":56507538,"d":"56,507,538"}]
["京都府","26100","京都市",{"$f":"+SUM(E8,J8)","v":{"v":5854069,"d":"5,854,069"}},{"$f":"+SUM(F8:I8)","v":{"v":5832452,"d":"5,832,452"}},0,{"v":5714416,"d":"5,714,416"},{"v":118036,"d":"118,036"},0,{"v":21617,"d":"21,617"},0,{"$f":"+SUM(M8,R8,V8,W8,AC8)","v":{"v":15402063,"d":"15,402,063"}},{"$f":"+SUM(N8:Q8)","v":{"v":7891731,"d":"7,891,731"}},{"v":1066193,"d":"1,066,193"},{"v":4548696,"d":"4,548,696"},{"v":2105968,"d":"2,105,968"},{"v":170874,"d":"170,874"},{"$f":"+SUM(S8:U8)","v":{"v":5025181,"d":"5,025,181"}},{"v":895564,"d":"895,564"},{"v":3411058,"d":"3,411,058"},{"v":718559,"d":"718,559"},{"v":77627,"d":"77,627"},{"$f":"+SUM(X8:AA8)","v":{"v":2392519,"d":"2,392,519"}},{"v":1783200,"d":"1,783,200"},{"v":602367,"d":"602,367"},{"v":6952,"d":"6,952"},0,0,{"v":15005,"d":"15,005"},{"v":1738801,"d":"1,738,801"},{"$f":"+SUM(D8,L8,AD8)","v":{"v":22994933,"d":"22,994,933"}},{"$f":"+SUM(AG8,AL8)","v":{"v":179606,"d":"179,606"}},{"$f":"+SUM(AH8:AK8)","v":{"v":179606,"d":"179,606"}},0,{"v":58228,"d":"58,228"},0,{"v":121378,"d":"121,378"},0,0,{"$f":"+SUM(AO8,AT8,AX8,AY8,BE8)","v":{"v":632876,"d":"632,876"}},{"$f":"+SUM(AP8:AS8)","v":{"v":154034,"d":"154,034"}},{"v":40082,"d":"40,082"},{"v":113952,"d":"113,952"},0,0,{"$f":"+SUM(AU8:AW8)","v":{"v":73443,"d":"73,443"}},{"v":52046,"d":"52,046"},{"v":21397,"d":"21,397"},0,{"v":9666,"d":"9,666"},{"$f":"+SUM(AZ8:BC8)","v":{"v":395733,"d":"395,733"}},{"v":365506,"d":"365,506"},{"v":30227,"d":"30,227"},0,0,0,0,{"v":4992,"d":"4,992"},{"$f":"+SUM(BF8,AN8,AF8)","v":{"v":817474,"d":"817,474"}},{"$f":"SUM(D8,AF8)","v":{"v":6033675,"d":"6,033,675"}},{"$f":"SUM(E8,AG8)","v":{"v":6012058,"d":"6,012,058"}},{"$f":"SUM(F8,AH8)","v":0},{"$f":"SUM(G8,AI8)","v":{"v":5772644,"d":"5,772,644"}},{"$f":"SUM(H8,AJ8)","v":{"v":118036,"d":"118,036"}},{"$f":"SUM(I8,AK8)","v":{"v":121378,"d":"121,378"}},{"$f":"SUM(J8,AL8)","v":{"v":21617,"d":"21,617"}},{"$f":"SUM(K8,AM8)","v":0},{"$f":"SUM(L8,AN8)","v":{"v":16034939,"d":"16,034,939"}},{"$f":"SUM(M8,AO8)","v":{"v":8045765,"d":"8,045,765"}},{"$f":"SUM(N8,AP8)","v":{"v":1106275,"d":"1,106,275"}},{"$f":"SUM(O8,AQ8)","v":{"v":4662648,"d":"4,662,648"}},{"$f":"SUM(P8,AR8)","v":{"v":2105968,"d":"2,105,968"}},{"$f":"SUM(Q8,AS8)","v":{"v":170874,"d":"170,874"}},{"$f":"SUM(R8,AT8)","v":{"v":5098624,"d":"5,098,624"}},{"$f":"SUM(S8,AU8)","v":{"v":947610,"d":"947,610"}},{"$f":"SUM(T8,AV8)","v":{"v":3432455,"d":"3,432,455"}},{"$f":"SUM(U8,AW8)","v":{"v":718559,"d":"718,559"}},{"$f":"SUM(V8,AX8)","v":{"v":87293,"d":"87,293"}},{"$f":"SUM(W8,AY8)","v":{"v":2788252,"d":"2,788,252"}},{"$f":"SUM(X8,AZ8)","v":{"v":2148706,"d":"2,148,706"}},{"$f":"SUM(Y8,BA8)","v":{"v":632594,"d":"632,594"}},{"$f":"SUM(Z8,BB8)","v":{"v":6952,"d":"6,952"}},{"$f":"SUM(AA8,BC8)","v":0},{"$f":"SUM(AB8,BD8)","v":0},{"$f":"SUM(AC8,BE8)","v":{"v":15005,"d":"15,005"}},{"$f":"SUM(AD8,BF8)","v":{"v":1743793,"d":"1,743,793"}},{"$f":"SUM(AE8,BG8)","v":{"v":23812407,"d":"23,812,407"}}]
["京都府","26201","福知山市",{"$f":"+SUM(E9,J9)","v":{"v":515319,"d":"515,319"}},{"$f":"+SUM(F9:I9)","v":{"v":504634,"d":"504,634"}},0,{"v":500044,"d":"500,044"},0,{"v":4590,"d":"4,590"},{"v":10685,"d":"10,685"},0,{"$f":"+SUM(M9,R9,V9,W9,AC9)","v":{"v":1121224,"d":"1,121,224"}},{"$f":"+SUM(N9:Q9)","v":{"v":133098,"d":"133,098"}},{"v":133098,"d":"133,098"},0,0,0,{"$f":"+SUM(S9:U9)","v":{"v":230565,"d":"230,565"}},0,{"v":215817,"d":"215,817"},{"v":14748,"d":"14,748"},0,{"$f":"+SUM(X9:AA9)","v":{"v":753273,"d":"753,273"}},{"v":445854,"d":"445,854"},{"v":286422,"d":"286,422"},{"v":13519,"d":"13,519"},{"v":7478,"d":"7,478"},0,{"v":4288,"d":"4,288"},{"v":73126,"d":"73,126"},{"$f":"+SUM(D9,L9,AD9)","v":{"v":1709669,"d":"1,709,669"}},{"$f":"+SUM(AG9,AL9)","v":0},{"$f":"+SUM(AH9:AK9)","v":0},0,0,0,0,0,0,{"$f":"+SUM(AO9,AT9,AX9,AY9,BE9)","v":{"v":111268,"d":"111,268"}},{"$f":"+SUM(AP9:AS9)","v":{"v":1287,"d":"1,287"}},{"v":1287,"d":"1,287"},0,0,0,{"$f":"+SUM(AU9:AW9)","v":{"v":9930,"d":"9,930"}},{"v":9930,"d":"9,930"},0,0,0,{"$f":"+SUM(AZ9:BC9)","v":{"v":100051,"d":"100,051"}},{"v":98928,"d":"98,928"},0,0,{"v":1123,"d":"1,123"},0,0,0,{"$f":"+SUM(BF9,AN9,AF9)","v":{"v":111268,"d":"111,268"}},{"$f":"SUM(D9,AF9)","v":{"v":515319,"d":"515,319"}},{"$f":"SUM(E9,AG9)","v":{"v":504634,"d":"504,634"}},{"$f":"SUM(F9,AH9)","v":0},{"$f":"SUM(G9,AI9)","v":{"v":500044,"d":"500,044"}},{"$f":"SUM(H9,AJ9)","v":0},{"$f":"SUM(I9,AK9)","v":{"v":4590,"d":"4,590"}},{"$f":"SUM(J9,AL9)","v":{"v":10685,"d":"10,685"}},{"$f":"SUM(K9,AM9)","v":0},{"$f":"SUM(L9,AN9)","v":{"v":1232492,"d":"1,232,492"}},{"$f":"SUM(M9,AO9)","v":{"v":134385,"d":"134,385"}},{"$f":"SUM(N9,AP9)","v":{"v":134385,"d":"134,385"}},{"$f":"SUM(O9,AQ9)","v":0},{"$f":"SUM(P9,AR9)","v":0},{"$f":"SUM(Q9,AS9)","v":0},{"$f":"SUM(R9,AT9)","v":{"v":240495,"d":"240,495"}},{"$f":"SUM(S9,AU9)","v":{"v":9930,"d":"9,930"}},{"$f":"SUM(T9,AV9)","v":{"v":215817,"d":"215,817"}},{"$f":"SUM(U9,AW9)","v":{"v":14748,"d":"14,748"}},{"$f":"SUM(V9,AX9)","v":0},{"$f":"SUM(W9,AY9)","v":{"v":853324,"d":"853,324"}},{"$f":"SUM(X9,AZ9)","v":{"v":544782,"d":"544,782"}},{"$f":"SUM(Y9,BA9)","v":{"v":286422,"d":"286,422"}},{"$f":"SUM(Z9,BB9)","v":{"v":13519,"d":"13,519"}},{"$f":"SUM(AA9,BC9)","v":{"v":8601,"d":"8,601"}},{"$f":"SUM(AB9,BD9)","v":0},{"$f":"SUM(AC9,BE9)","v":{"v":4288,"d":"4,288"}},{"$f":"SUM(AD9,BF9)","v":{"v":73126,"d":"73,126"}},{"$f":"SUM(AE9,BG9)","v":{"v":1820937,"d":"1,820,937"}}]
["京都府","26202","舞鶴市",{"$f":"+SUM(E10,J10)","v":{"v":296543,"d":"296,543"}},{"$f":"+SUM(F10:I10)","v":{"v":273588,"d":"273,588"}},0,{"v":7571,"d":"7,571"},0,{"v":266017,"d":"266,017"},{"v":22955,"d":"22,955"},0,{"$f":"+SUM(M10,R10,V10,W10,AC10)","v":{"v":1076842,"d":"1,076,842"}},{"$f":"+SUM(N10:Q10)","v":{"v":151521,"d":"151,521"}},{"v":126834,"d":"126,834"},0,{"v":20576,"d":"20,576"},{"v":4111,"d":"4,111"},{"$f":"+SUM(S10:U10)","v":{"v":230316,"d":"230,316"}},{"v":5188,"d":"5,188"},{"v":212764,"d":"212,764"},{"v":12364,"d":"12,364"},0,{"$f":"+SUM(X10:AA10)","v":{"v":695005,"d":"695,005"}},{"v":382731,"d":"382,731"},{"v":192521,"d":"192,521"},{"v":41653,"d":"41,653"},{"v":78100,"d":"78,100"},0,0,{"v":17963,"d":"17,963"},{"$f":"+SUM(D10,L10,AD10)","v":{"v":1391348,"d":"1,391,348"}},{"$f":"+SUM(AG10,AL10)","v":{"v":502253,"d":"502,253"}},{"$f":"+SUM(AH10:AK10)","v":{"v":502253,"d":"502,253"}},0,{"v":502253,"d":"502,253"},0,0,0,0,{"$f":"+SUM(AO10,AT10,AX10,AY10,BE10)","v":{"v":143054,"d":"143,054"}},{"$f":"+SUM(AP10:AS10)","v":{"v":16564,"d":"16,564"}},{"v":16564,"d":"16,564"},0,0,0,{"$f":"+SUM(AU10:AW10)","v":{"v":19282,"d":"19,282"}},0,{"v":19282,"d":"19,282"},0,0,{"$f":"+SUM(AZ10:BC10)","v":{"v":107208,"d":"107,208"}},{"v":25191,"d":"25,191"},{"v":82017,"d":"82,017"},0,0,0,0,607,{"$f":"+SUM(BF10,AN10,AF10)","v":{"v":645914,"d":"645,914"}},{"$f":"SUM(D10,AF10)","v":{"v":798796,"d":"798,796"}},{"$f":"SUM(E10,AG10)","v":{"v":775841,"d":"775,841"}},{"$f":"SUM(F10,AH10)","v":0},{"$f":"SUM(G10,AI10)","v":{"v":509824,"d":"509,824"}},{"$f":"SUM(H10,AJ10)","v":0},{"$f":"SUM(I10,AK10)","v":{"v":266017,"d":"266,017"}},{"$f":"SUM(J10,AL10)","v":{"v":22955,"d":"22,955"}},{"$f":"SUM(K10,AM10)","v":0},{"$f":"SUM(L10,AN10)","v":{"v":1219896,"d":"1,219,896"}},{"$f":"SUM(M10,AO10)","v":{"v":168085,"d":"168,085"}},{"$f":"SUM(N10,AP10)","v":{"v":143398,"d":"143,398"}},{"$f":"SUM(O10,AQ10)","v":0},{"$f":"SUM(P10,AR10)","v":{"v":20576,"d":"20,576"}},{"$f":"SUM(Q10,AS10)","v":{"v":4111,"d":"4,111"}},{"$f":"SUM(R10,AT10)","v":{"v":249598,"d":"249,598"}},{"$f":"SUM(S10,AU10)","v":{"v":5188,"d":"5,188"}},{"$f":"SUM(T10,AV10)","v":{"v":232046,"d":"232,046"}},{"$f":"SUM(U10,AW10)","v":{"v":12364,"d":"12,364"}},{"$f":"SUM(V10,AX10)","v":0},{"$f":"SUM(W10,AY10)","v":{"v":802213,"d":"802,213"}},{"$f":"SUM(X10,AZ10)","v":{"v":407922,"d":"407,922"}},{"$f":"SUM(Y10,BA10)","v":{"v":274538,"d":"274,538"}},{"$f":"SUM(Z10,BB10)","v":{"v":41653,"d":"41,653"}},{"$f":"SUM(AA10,BC10)","v":{"v":78100,"d":"78,100"}},{"$f":"SUM(AB10,BD10)","v":0},{"$f":"SUM(AC10,BE10)","v":0},{"$f":"SUM(AD10,BF10)","v":{"v":18570,"d":"18,570"}},{"$f":"SUM(AE10,BG10)","v":{"v":2037262,"d":"2,037,262"}}]
["京都府","26203","綾部市",{"$f":"+SUM(E11,J11)","v":580},{"$f":"+SUM(F11:I11)","v":580},0,0,0,580,0,0,{"$f":"+SUM(M11,R11,V11,W11,AC11)","v":{"v":725416,"d":"725,416"}},{"$f":"+SUM(N11:Q11)","v":{"v":72038,"d":"72,038"}},{"v":72038,"d":"72,038"},0,0,0,{"$f":"+SUM(S11:U11)","v":{"v":119541,"d":"119,541"}},0,{"v":112725,"d":"112,725"},{"v":6816,"d":"6,816"},0,{"$f":"+SUM(X11:AA11)","v":{"v":533837,"d":"533,837"}},{"v":205390,"d":"205,390"},{"v":266932,"d":"266,932"},{"v":8838,"d":"8,838"},{"v":52677,"d":"52,677"},0,0,0,{"$f":"+SUM(D11,L11,AD11)","v":{"v":725996,"d":"725,996"}},{"$f":"+SUM(AG11,AL11)","v":{"v":142560,"d":"142,560"}},{"$f":"+SUM(AH11:AK11)","v":{"v":142560,"d":"142,560"}},0,{"v":142560,"d":"142,560"},0,0,0,0,{"$f":"+SUM(AO11,AT11,AX11,AY11,BE11)","v":{"v":341692,"d":"341,692"}},{"$f":"+SUM(AP11:AS11)","v":{"v":19608,"d":"19,608"}},{"v":19608,"d":"19,608"},0,0,0,{"$f":"+SUM(AU11:AW11)","v":0},0,0,0,0,{"$f":"+SUM(AZ11:BC11)","v":{"v":322084,"d":"322,084"}},{"v":142683,"d":"142,683"},0,0,{"v":179401,"d":"179,401"},0,0,0,{"$f":"+SUM(BF11,AN11,AF11)","v":{"v":484252,"d":"484,252"}},{"$f":"SUM(D11,AF11)","v":{"v":143140,"d":"143,140"}},{"$f":"SUM(E11,AG11)","v":{"v":143140,"d":"143,140"}},{"$f":"SUM(F11,AH11)","v":0},{"$f":"SUM(G11,AI11)","v":{"v":142560,"d":"142,560"}},{"$f":"SUM(H11,AJ11)","v":0},{"$f":"SUM(I11,AK11)","v":580},{"$f":"SUM(J11,AL11)","v":0},{"$f":"SUM(K11,AM11)","v":0},{"$f":"SUM(L11,AN11)","v":{"v":1067108,"d":"1,067,108"}},{"$f":"SUM(M11,AO11)","v":{"v":91646,"d":"91,646"}},{"$f":"SUM(N11,AP11)","v":{"v":91646,"d":"91,646"}},{"$f":"SUM(O11,AQ11)","v":0},{"$f":"SUM(P11,AR11)","v":0},{"$f":"SUM(Q11,AS11)","v":0},{"$f":"SUM(R11,AT11)","v":{"v":119541,"d":"119,541"}},{"$f":"SUM(S11,AU11)","v":0},{"$f":"SUM(T11,AV11)","v":{"v":112725,"d":"112,725"}},{"$f":"SUM(U11,AW11)","v":{"v":6816,"d":"6,816"}},{"$f":"SUM(V11,AX11)","v":0},{"$f":"SUM(W11,AY11)","v":{"v":855921,"d":"855,921"}},{"$f":"SUM(X11,AZ11)","v":{"v":348073,"d":"348,073"}},{"$f":"SUM(Y11,BA11)","v":{"v":266932,"d":"266,932"}},{"$f":"SUM(Z11,BB11)","v":{"v":8838,"d":"8,838"}},{"$f":"SUM(AA11,BC11)","v":{"v":232078,"d":"232,078"}},{"$f":"SUM(AB11,BD11)","v":0},{"$f":"SUM(AC11,BE11)","v":0},{"$f":"SUM(AD11,BF11)","v":0},{"$f":"SUM(AE11,BG11)","v":{"v":1210248,"d":"1,210,248"}}]
["京都府","26204","宇治市",{"$f":"+SUM(E12,J12)","v":0},{"$f":"+SUM(F12:I12)","v":0},0,0,0,0,0,{"v":434293,"d":"434,293"},{"$f":"+SUM(M12,R12,V12,W12,AC12)","v":{"v":1183743,"d":"1,183,743"}},{"$f":"+SUM(N12:Q12)","v":{"v":720349,"d":"720,349"}},{"v":203557,"d":"203,557"},{"v":516792,"d":"516,792"},0,0,{"$f":"+SUM(S12:U12)","v":{"v":90509,"d":"90,509"}},{"v":38168,"d":"38,168"},0,{"v":52341,"d":"52,341"},{"v":32344,"d":"32,344"},{"$f":"+SUM(X12:AA12)","v":{"v":340541,"d":"340,541"}},{"v":333996,"d":"333,996"},0,{"v":6545,"d":"6,545"},0,{"v":696696,"d":"696,696"},0,0,{"$f":"+SUM(D12,L12,AD12)","v":{"v":1183743,"d":"1,183,743"}},{"$f":"+SUM(AG12,AL12)","v":0},{"$f":"+SUM(AH12:AK12)","v":0},0,0,0,0,0,{"v":48646,"d":"48,646"},{"$f":"+SUM(AO12,AT12,AX12,AY12,BE12)","v":0},{"$f":"+SUM(AP12:AS12)","v":0},0,0,0,0,{"$f":"+SUM(AU12:AW12)","v":0},0,0,0,0,{"$f":"+SUM(AZ12:BC12)","v":0},0,0,0,0,{"v":287080,"d":"287,080"},0,0,{"$f":"+SUM(BF12,AN12,AF12)","v":0},{"$f":"SUM(D12,AF12)","v":0},{"$f":"SUM(E12,AG12)","v":0},{"$f":"SUM(F12,AH12)","v":0},{"$f":"SUM(G12,AI12)","v":0},{"$f":"SUM(H12,AJ12)","v":0},{"$f":"SUM(I12,AK12)","v":0},{"$f":"SUM(J12,AL12)","v":0},{"$f":"SUM(K12,AM12)","v":{"v":482939,"d":"482,939"}},{"$f":"SUM(L12,AN12)","v":{"v":1183743,"d":"1,183,743"}},{"$f":"SUM(M12,AO12)","v":{"v":720349,"d":"720,349"}},{"$f":"SUM(N12,AP12)","v":{"v":203557,"d":"203,557"}},{"$f":"SUM(O12,AQ12)","v":{"v":516792,"d":"516,792"}},{"$f":"SUM(P12,AR12)","v":0},{"$f":"SUM(Q12,AS12)","v":0},{"$f":"SUM(R12,AT12)","v":{"v":90509,"d":"90,509"}},{"$f":"SUM(S12,AU12)","v":{"v":38168,"d":"38,168"}},{"$f":"SUM(T12,AV12)","v":0},{"$f":"SUM(U12,AW12)","v":{"v":52341,"d":"52,341"}},{"$f":"SUM(V12,AX12)","v":{"v":32344,"d":"32,344"}},{"$f":"SUM(W12,AY12)","v":{"v":340541,"d":"340,541"}},{"$f":"SUM(X12,AZ12)","v":{"v":333996,"d":"333,996"}},{"$f":"SUM(Y12,BA12)","v":0},{"$f":"SUM(Z12,BB12)","v":{"v":6545,"d":"6,545"}},{"$f":"SUM(AA12,BC12)","v":0},{"$f":"SUM(AB12,BD12)","v":{"v":983776,"d":"983,776"}},{"$f":"SUM(AC12,BE12)","v":0},{"$f":"SUM(AD12,BF12)","v":0},{"$f":"SUM(AE12,BG12)","v":{"v":1183743,"d":"1,183,743"}}]
["京都府","26205","宮津市",{"$f":"+SUM(E13,J13)","v":{"v":68785,"d":"68,785"}},{"$f":"+SUM(F13:I13)","v":{"v":68785,"d":"68,785"}},0,{"v":68785,"d":"68,785"},0,0,0,{"v":133857,"d":"133,857"},{"$f":"+SUM(M13,R13,V13,W13,AC13)","v":{"v":400602,"d":"400,602"}},{"$f":"+SUM(N13:Q13)","v":{"v":32222,"d":"32,222"}},{"v":32222,"d":"32,222"},0,0,0,{"$f":"+SUM(S13:U13)","v":{"v":61890,"d":"61,890"}},0,{"v":61756,"d":"61,756"},134,0,{"$f":"+SUM(X13:AA13)","v":{"v":306490,"d":"306,490"}},{"v":133086,"d":"133,086"},{"v":159614,"d":"159,614"},{"v":13790,"d":"13,790"},0,0,0,0,{"$f":"+SUM(D13,L13,AD13)","v":{"v":469387,"d":"469,387"}},{"$f":"+SUM(AG13,AL13)","v":{"v":11200,"d":"11,200"}},{"$f":"+SUM(AH13:AK13)","v":{"v":11200,"d":"11,200"}},0,0,{"v":11200,"d":"11,200"},0,0,0,{"$f":"+SUM(AO13,AT13,AX13,AY13,BE13)","v":{"v":151628,"d":"151,628"}},{"$f":"+SUM(AP13:AS13)","v":{"v":24166,"d":"24,166"}},{"v":24166,"d":"24,166"},0,0,0,{"$f":"+SUM(AU13:AW13)","v":{"v":17059,"d":"17,059"}},0,{"v":17059,"d":"17,059"},0,0,{"$f":"+SUM(AZ13:BC13)","v":{"v":110403,"d":"110,403"}},{"v":83235,"d":"83,235"},{"v":25749,"d":"25,749"},{"v":1419,"d":"1,419"},0,0,0,0,{"$f":"+SUM(BF13,AN13,AF13)","v":{"v":162828,"d":"162,828"}},{"$f":"SUM(D13,AF13)","v":{"v":79985,"d":"79,985"}},{"$f":"SUM(E13,AG13)","v":{"v":79985,"d":"79,985"}},{"$f":"SUM(F13,AH13)","v":0},{"$f":"SUM(G13,AI13)","v":{"v":68785,"d":"68,785"}},{"$f":"SUM(H13,AJ13)","v":{"v":11200,"d":"11,200"}},{"$f":"SUM(I13,AK13)","v":0},{"$f":"SUM(J13,AL13)","v":0},{"$f":"SUM(K13,AM13)","v":{"v":133857,"d":"133,857"}},{"$f":"SUM(L13,AN13)","v":{"v":552230,"d":"552,230"}},{"$f":"SUM(M13,AO13)","v":{"v":56388,"d":"56,388"}},{"$f":"SUM(N13,AP13)","v":{"v":56388,"d":"56,388"}},{"$f":"SUM(O13,AQ13)","v":0},{"$f":"SUM(P13,AR13)","v":0},{"$f":"SUM(Q13,AS13)","v":0},{"$f":"SUM(R13,AT13)","v":{"v":78949,"d":"78,949"}},{"$f":"SUM(S13,AU13)","v":0},{"$f":"SUM(T13,AV13)","v":{"v":78815,"d":"78,815"}},{"$f":"SUM(U13,AW13)","v":134},{"$f":"SUM(V13,AX13)","v":0},{"$f":"SUM(W13,AY13)","v":{"v":416893,"d":"416,893"}},{"$f":"SUM(X13,AZ13)","v":{"v":216321,"d":"216,321"}},{"$f":"SUM(Y13,BA13)","v":{"v":185363,"d":"185,363"}},{"$f":"SUM(Z13,BB13)","v":{"v":15209,"d":"15,209"}},{"$f":"SUM(AA13,BC13)","v":0},{"$f":"SUM(AB13,BD13)","v":0},{"$f":"SUM(AC13,BE13)","v":0},{"$f":"SUM(AD13,BF13)","v":0},{"$f":"SUM(AE13,BG13)","v":{"v":632215,"d":"632,215"}}]
["京都府","26206","亀岡市",{"$f":"+SUM(E14,J14)","v":0},{"$f":"+SUM(F14:I14)","v":0},0,0,0,0,0,0,{"$f":"+SUM(M14,R14,V14,W14,AC14)","v":{"v":848110,"d":"848,110"}},{"$f":"+SUM(N14:Q14)","v":{"v":105889,"d":"105,889"}},{"v":90551,"d":"90,551"},{"v":2682,"d":"2,682"},{"v":7499,"d":"7,499"},{"v":5157,"d":"5,157"},{"$f":"+SUM(S14:U14)","v":{"v":195975,"d":"195,975"}},0,{"v":170811,"d":"170,811"},{"v":25164,"d":"25,164"},0,{"$f":"+SUM(X14:AA14)","v":{"v":546246,"d":"546,246"}},{"v":357866,"d":"357,866"},{"v":126674,"d":"126,674"},{"v":61706,"d":"61,706"},0,0,0,{"v":54151,"d":"54,151"},{"$f":"+SUM(D14,L14,AD14)","v":{"v":902261,"d":"902,261"}},{"$f":"+SUM(AG14,AL14)","v":0},{"$f":"+SUM(AH14:AK14)","v":0},0,0,0,0,0,0,{"$f":"+SUM(AO14,AT14,AX14,AY14,BE14)","v":{"v":242555,"d":"242,555"}},{"$f":"+SUM(AP14:AS14)","v":{"v":28976,"d":"28,976"}},{"v":28976,"d":"28,976"},0,0,0,{"$f":"+SUM(AU14:AW14)","v":0},0,0,0,0,{"$f":"+SUM(AZ14:BC14)","v":{"v":213579,"d":"213,579"}},{"v":80784,"d":"80,784"},{"v":132795,"d":"132,795"},0,0,0,0,{"v":27383,"d":"27,383"},{"$f":"+SUM(BF14,AN14,AF14)","v":{"v":269938,"d":"269,938"}},{"$f":"SUM(D14,AF14)","v":0},{"$f":"SUM(E14,AG14)","v":0},{"$f":"SUM(F14,AH14)","v":0},{"$f":"SUM(G14,AI14)","v":0},{"$f":"SUM(H14,AJ14)","v":0},{"$f":"SUM(I14,AK14)","v":0},{"$f":"SUM(J14,AL14)","v":0},{"$f":"SUM(K14,AM14)","v":0},{"$f":"SUM(L14,AN14)","v":{"v":1090665,"d":"1,090,665"}},{"$f":"SUM(M14,AO14)","v":{"v":134865,"d":"134,865"}},{"$f":"SUM(N14,AP14)","v":{"v":119527,"d":"119,527"}},{"$f":"SUM(O14,AQ14)","v":{"v":2682,"d":"2,682"}},{"$f":"SUM(P14,AR14)","v":{"v":7499,"d":"7,499"}},{"$f":"SUM(Q14,AS14)","v":{"v":5157,"d":"5,157"}},{"$f":"SUM(R14,AT14)","v":{"v":195975,"d":"195,975"}},{"$f":"SUM(S14,AU14)","v":0},{"$f":"SUM(T14,AV14)","v":{"v":170811,"d":"170,811"}},{"$f":"SUM(U14,AW14)","v":{"v":25164,"d":"25,164"}},{"$f":"SUM(V14,AX14)","v":0},{"$f":"SUM(W14,AY14)","v":{"v":759825,"d":"759,825"}},{"$f":"SUM(X14,AZ14)","v":{"v":438650,"d":"438,650"}},{"$f":"SUM(Y14,BA14)","v":{"v":259469,"d":"259,469"}},{"$f":"SUM(Z14,BB14)","v":{"v":61706,"d":"61,706"}},{"$f":"SUM(AA14,BC14)","v":0},{"$f":"SUM(AB14,BD14)","v":0},{"$f":"SUM(AC14,BE14)","v":0},{"$f":"SUM(AD14,BF14)","v":{"v":81534,"d":"81,534"}},{"$f":"SUM(AE14,BG14)","v":{"v":1172199,"d":"1,172,199"}}]
["京都府","26207","城陽市",{"$f":"+SUM(E15,J15)","v":0},{"$f":"+SUM(F15:I15)","v":0},0,0,0,0,0,{"v":201312,"d":"201,312"},{"$f":"+SUM(M15,R15,V15,W15,AC15)","v":{"v":326193,"d":"326,193"}},{"$f":"+SUM(N15:Q15)","v":{"v":84585,"d":"84,585"}},{"v":84585,"d":"84,585"},0,0,0,{"$f":"+SUM(S15:U15)","v":{"v":2889,"d":"2,889"}},{"v":2889,"d":"2,889"},0,0,0,{"$f":"+SUM(X15:AA15)","v":{"v":238719,"d":"238,719"}},{"v":238356,"d":"238,356"},0,0,363,{"v":322945,"d":"322,945"},0,0,{"$f":"+SUM(D15,L15,AD15)","v":{"v":326193,"d":"326,193"}},{"$f":"+SUM(AG15,AL15)","v":0},{"$f":"+SUM(AH15:AK15)","v":0},0,0,0,0,0,{"v":21936,"d":"21,936"},{"$f":"+SUM(AO15,AT15,AX15,AY15,BE15)","v":0},{"$f":"+SUM(AP15:AS15)","v":0},0,0,0,0,{"$f":"+SUM(AU15:AW15)","v":0},0,0,0,0,{"$f":"+SUM(AZ15:BC15)","v":0},0,0,0,0,{"v":129453,"d":"129,453"},0,0,{"$f":"+SUM(BF15,AN15,AF15)","v":0},{"$f":"SUM(D15,AF15)","v":0},{"$f":"SUM(E15,AG15)","v":0},{"$f":"SUM(F15,AH15)","v":0},{"$f":"SUM(G15,AI15)","v":0},{"$f":"SUM(H15,AJ15)","v":0},{"$f":"SUM(I15,AK15)","v":0},{"$f":"SUM(J15,AL15)","v":0},{"$f":"SUM(K15,AM15)","v":{"v":223248,"d":"223,248"}},{"$f":"SUM(L15,AN15)","v":{"v":326193,"d":"326,193"}},{"$f":"SUM(M15,AO15)","v":{"v":84585,"d":"84,585"}},{"$f":"SUM(N15,AP15)","v":{"v":84585,"d":"84,585"}},{"$f":"SUM(O15,AQ15)","v":0},{"$f":"SUM(P15,AR15)","v":0},{"$f":"SUM(Q15,AS15)","v":0},{"$f":"SUM(R15,AT15)","v":{"v":2889,"d":"2,889"}},{"$f":"SUM(S15,AU15)","v":{"v":2889,"d":"2,889"}},{"$f":"SUM(T15,AV15)","v":0},{"$f":"SUM(U15,AW15)","v":0},{"$f":"SUM(V15,AX15)","v":0},{"$f":"SUM(W15,AY15)","v":{"v":238719,"d":"238,719"}},{"$f":"SUM(X15,AZ15)","v":{"v":238356,"d":"238,356"}},{"$f":"SUM(Y15,BA15)","v":0},{"$f":"SUM(Z15,BB15)","v":0},{"$f":"SUM(AA15,BC15)","v":363},{"$f":"SUM(AB15,BD15)","v":{"v":452398,"d":"452,398"}},{"$f":"SUM(AC15,BE15)","v":0},{"$f":"SUM(AD15,BF15)","v":0},{"$f":"SUM(AE15,BG15)","v":{"v":326193,"d":"326,193"}}]
["京都府","26208","向日市",{"$f":"+SUM(E16,J16)","v":0},{"$f":"+SUM(F16:I16)","v":0},0,0,0,0,0,{"v":144702,"d":"144,702"},{"$f":"+SUM(M16,R16,V16,W16,AC16)","v":{"v":474161,"d":"474,161"}},{"$f":"+SUM(N16:Q16)","v":{"v":139145,"d":"139,145"}},{"v":36617,"d":"36,617"},{"v":102528,"d":"102,528"},0,0,{"$f":"+SUM(S16:U16)","v":{"v":335016,"d":"335,016"}},{"v":335016,"d":"335,016"},0,0,0,{"$f":"+SUM(X16:AA16)","v":0},0,0,0,0,{"v":273468,"d":"273,468"},0,0,{"$f":"+SUM(D16,L16,AD16)","v":{"v":474161,"d":"474,161"}},{"$f":"+SUM(AG16,AL16)","v":0},{"$f":"+SUM(AH16:AK16)","v":0},0,0,0,0,0,0,{"$f":"+SUM(AO16,AT16,AX16,AY16,BE16)","v":{"v":32595,"d":"32,595"}},{"$f":"+SUM(AP16:AS16)","v":{"v":7323,"d":"7,323"}},{"v":7323,"d":"7,323"},0,0,0,{"$f":"+SUM(AU16:AW16)","v":{"v":25272,"d":"25,272"}},{"v":25272,"d":"25,272"},0,0,0,{"$f":"+SUM(AZ16:BC16)","v":0},0,0,0,0,0,0,0,{"$f":"+SUM(BF16,AN16,AF16)","v":{"v":32595,"d":"32,595"}},{"$f":"SUM(D16,AF16)","v":0},{"$f":"SUM(E16,AG16)","v":0},{"$f":"SUM(F16,AH16)","v":0},{"$f":"SUM(G16,AI16)","v":0},{"$f":"SUM(H16,AJ16)","v":0},{"$f":"SUM(I16,AK16)","v":0},{"$f":"SUM(J16,AL16)","v":0},{"$f":"SUM(K16,AM16)","v":{"v":144702,"d":"144,702"}},{"$f":"SUM(L16,AN16)","v":{"v":506756,"d":"506,756"}},{"$f":"SUM(M16,AO16)","v":{"v":146468,"d":"146,468"}},{"$f":"SUM(N16,AP16)","v":{"v":43940,"d":"43,940"}},{"$f":"SUM(O16,AQ16)","v":{"v":102528,"d":"102,528"}},{"$f":"SUM(P16,AR16)","v":0},{"$f":"SUM(Q16,AS16)","v":0},{"$f":"SUM(R16,AT16)","v":{"v":360288,"d":"360,288"}},{"$f":"SUM(S16,AU16)","v":{"v":360288,"d":"360,288"}},{"$f":"SUM(T16,AV16)","v":0},{"$f":"SUM(U16,AW16)","v":0},{"$f":"SUM(V16,AX16)","v":0},{"$f":"SUM(W16,AY16)","v":0},{"$f":"SUM(X16,AZ16)","v":0},{"$f":"SUM(Y16,BA16)","v":0},{"$f":"SUM(Z16,BB16)","v":0},{"$f":"SUM(AA16,BC16)","v":0},{"$f":"SUM(AB16,BD16)","v":{"v":273468,"d":"273,468"}},{"$f":"SUM(AC16,BE16)","v":0},{"$f":"SUM(AD16,BF16)","v":0},{"$f":"SUM(AE16,BG16)","v":{"v":506756,"d":"506,756"}}]
["京都府","26209","長岡京市",{"$f":"+SUM(E17,J17)","v":0},{"$f":"+SUM(F17:I17)","v":0},0,0,0,0,0,{"v":210401,"d":"210,401"},{"$f":"+SUM(M17,R17,V17,W17,AC17)","v":{"v":673923,"d":"673,923"}},{"$f":"+SUM(N17:Q17)","v":{"v":278714,"d":"278,714"}},{"v":53052,"d":"53,052"},{"v":225662,"d":"225,662"},0,0,{"$f":"+SUM(S17:U17)","v":{"v":6112,"d":"6,112"}},{"v":6112,"d":"6,112"},0,0,{"v":7117,"d":"7,117"},{"$f":"+SUM(X17:AA17)","v":{"v":381980,"d":"381,980"}},{"v":381980,"d":"381,980"},0,0,0,{"v":397630,"d":"397,630"},0,0,{"$f":"+SUM(D17,L17,AD17)","v":{"v":673923,"d":"673,923"}},{"$f":"+SUM(AG17,AL17)","v":0},{"$f":"+SUM(AH17:AK17)","v":0},0,0,0,0,0,0,{"$f":"+SUM(AO17,AT17,AX17,AY17,BE17)","v":0},{"$f":"+SUM(AP17:AS17)","v":0},0,0,0,0,{"$f":"+SUM(AU17:AW17)","v":0},0,0,0,0,{"$f":"+SUM(AZ17:BC17)","v":0},0,0,0,0,0,0,0,{"$f":"+SUM(BF17,AN17,AF17)","v":0},{"$f":"SUM(D17,AF17)","v":0},{"$f":"SUM(E17,AG17)","v":0},{"$f":"SUM(F17,AH17)","v":0},{"$f":"SUM(G17,AI17)","v":0},{"$f":"SUM(H17,AJ17)","v":0},{"$f":"SUM(I17,AK17)","v":0},{"$f":"SUM(J17,AL17)","v":0},{"$f":"SUM(K17,AM17)","v":{"v":210401,"d":"210,401"}},{"$f":"SUM(L17,AN17)","v":{"v":673923,"d":"673,923"}},{"$f":"SUM(M17,AO17)","v":{"v":278714,"d":"278,714"}},{"$f":"SUM(N17,AP17)","v":{"v":53052,"d":"53,052"}},{"$f":"SUM(O17,AQ17)","v":{"v":225662,"d":"225,662"}},{"$f":"SUM(P17,AR17)","v":0},{"$f":"SUM(Q17,AS17)","v":0},{"$f":"SUM(R17,AT17)","v":{"v":6112,"d":"6,112"}},{"$f":"SUM(S17,AU17)","v":{"v":6112,"d":"6,112"}},{"$f":"SUM(T17,AV17)","v":0},{"$f":"SUM(U17,AW17)","v":0},{"$f":"SUM(V17,AX17)","v":{"v":7117,"d":"7,117"}},{"$f":"SUM(W17,AY17)","v":{"v":381980,"d":"381,980"}},{"$f":"SUM(X17,AZ17)","v":{"v":381980,"d":"381,980"}},{"$f":"SUM(Y17,BA17)","v":0},{"$f":"SUM(Z17,BB17)","v":0},{"$f":"SUM(AA17,BC17)","v":0},{"$f":"SUM(AB17,BD17)","v":{"v":397630,"d":"397,630"}},{"$f":"SUM(AC17,BE17)","v":0},{"$f":"SUM(AD17,BF17)","v":0},{"$f":"SUM(AE17,BG17)","v":{"v":673923,"d":"673,923"}}]
["京都府","26210","八幡市",{"$f":"+SUM(E18,J18)","v":0},{"$f":"+SUM(F18:I18)","v":0},0,0,0,0,0,{"v":182126,"d":"182,126"},{"$f":"+SUM(M18,R18,V18,W18,AC18)","v":{"v":479022,"d":"479,022"}},{"$f":"+SUM(N18:Q18)","v":{"v":354435,"d":"354,435"}},{"v":45063,"d":"45,063"},{"v":309372,"d":"309,372"},0,0,{"$f":"+SUM(S18:U18)","v":{"v":10168,"d":"10,168"}},{"v":10168,"d":"10,168"},0,0,{"v":15371,"d":"15,371"},{"$f":"+SUM(X18:AA18)","v":{"v":99048,"d":"99,048"}},{"v":99048,"d":"99,048"},0,0,0,{"v":292167,"d":"292,167"},0,0,{"$f":"+SUM(D18,L18,AD18)","v":{"v":479022,"d":"479,022"}},{"$f":"+SUM(AG18,AL18)","v":0},{"$f":"+SUM(AH18:AK18)","v":0},0,0,0,0,0,{"v":10521,"d":"10,521"},{"$f":"+SUM(AO18,AT18,AX18,AY18,BE18)","v":0},{"$f":"+SUM(AP18:AS18)","v":0},0,0,0,0,{"$f":"+SUM(AU18:AW18)","v":0},0,0,0,0,{"$f":"+SUM(AZ18:BC18)","v":0},0,0,0,0,{"v":62087,"d":"62,087"},0,0,{"$f":"+SUM(BF18,AN18,AF18)","v":0},{"$f":"SUM(D18,AF18)","v":0},{"$f":"SUM(E18,AG18)","v":0},{"$f":"SUM(F18,AH18)","v":0},{"$f":"SUM(G18,AI18)","v":0},{"$f":"SUM(H18,AJ18)","v":0},{"$f":"SUM(I18,AK18)","v":0},{"$f":"SUM(J18,AL18)","v":0},{"$f":"SUM(K18,AM18)","v":{"v":192647,"d":"192,647"}},{"$f":"SUM(L18,AN18)","v":{"v":479022,"d":"479,022"}},{"$f":"SUM(M18,AO18)","v":{"v":354435,"d":"354,435"}},{"$f":"SUM(N18,AP18)","v":{"v":45063,"d":"45,063"}},{"$f":"SUM(O18,AQ18)","v":{"v":309372,"d":"309,372"}},{"$f":"SUM(P18,AR18)","v":0},{"$f":"SUM(Q18,AS18)","v":0},{"$f":"SUM(R18,AT18)","v":{"v":10168,"d":"10,168"}},{"$f":"SUM(S18,AU18)","v":{"v":10168,"d":"10,168"}},{"$f":"SUM(T18,AV18)","v":0},{"$f":"SUM(U18,AW18)","v":0},{"$f":"SUM(V18,AX18)","v":{"v":15371,"d":"15,371"}},{"$f":"SUM(W18,AY18)","v":{"v":99048,"d":"99,048"}},{"$f":"SUM(X18,AZ18)","v":{"v":99048,"d":"99,048"}},{"$f":"SUM(Y18,BA18)","v":0},{"$f":"SUM(Z18,BB18)","v":0},{"$f":"SUM(AA18,BC18)","v":0},{"$f":"SUM(AB18,BD18)","v":{"v":354254,"d":"354,254"}},{"$f":"SUM(AC18,BE18)","v":0},{"$f":"SUM(AD18,BF18)","v":0},{"$f":"SUM(AE18,BG18)","v":{"v":479022,"d":"479,022"}}]
["京都府","26211","京田辺市",{"$f":"+SUM(E19,J19)","v":{"v":38189,"d":"38,189"}},{"$f":"+SUM(F19:I19)","v":{"v":35827,"d":"35,827"}},0,0,0,{"v":35827,"d":"35,827"},{"v":2362,"d":"2,362"},0,{"$f":"+SUM(M19,R19,V19,W19,AC19)","v":{"v":848985,"d":"848,985"}},{"$f":"+SUM(N19:Q19)","v":{"v":366120,"d":"366,120"}},{"v":29098,"d":"29,098"},{"v":188375,"d":"188,375"},{"v":137787,"d":"137,787"},{"v":10860,"d":"10,860"},{"$f":"+SUM(S19:U19)","v":{"v":263941,"d":"263,941"}},{"v":17191,"d":"17,191"},{"v":238888,"d":"238,888"},{"v":7862,"d":"7,862"},{"v":7106,"d":"7,106"},{"$f":"+SUM(X19:AA19)","v":{"v":206469,"d":"206,469"}},{"v":148358,"d":"148,358"},{"v":34147,"d":"34,147"},{"v":23964,"d":"23,964"},0,0,{"v":5349,"d":"5,349"},{"v":67525,"d":"67,525"},{"$f":"+SUM(D19,L19,AD19)","v":{"v":954699,"d":"954,699"}},{"$f":"+SUM(AG19,AL19)","v":0},{"$f":"+SUM(AH19:AK19)","v":0},0,0,0,0,0,0,{"$f":"+SUM(AO19,AT19,AX19,AY19,BE19)","v":{"v":75394,"d":"75,394"}},{"$f":"+SUM(AP19:AS19)","v":{"v":27959,"d":"27,959"}},{"v":8513,"d":"8,513"},0,{"v":19446,"d":"19,446"},0,{"$f":"+SUM(AU19:AW19)","v":{"v":20895,"d":"20,895"}},0,{"v":20895,"d":"20,895"},0,0,{"$f":"+SUM(AZ19:BC19)","v":{"v":26540,"d":"26,540"}},{"v":21248,"d":"21,248"},{"v":5292,"d":"5,292"},0,0,0,0,{"v":19140,"d":"19,140"},{"$f":"+SUM(BF19,AN19,AF19)","v":{"v":94534,"d":"94,534"}},{"$f":"SUM(D19,AF19)","v":{"v":38189,"d":"38,189"}},{"$f":"SUM(E19,AG19)","v":{"v":35827,"d":"35,827"}},{"$f":"SUM(F19,AH19)","v":0},{"$f":"SUM(G19,AI19)","v":0},{"$f":"SUM(H19,AJ19)","v":0},{"$f":"SUM(I19,AK19)","v":{"v":35827,"d":"35,827"}},{"$f":"SUM(J19,AL19)","v":{"v":2362,"d":"2,362"}},{"$f":"SUM(K19,AM19)","v":0},{"$f":"SUM(L19,AN19)","v":{"v":924379,"d":"924,379"}},{"$f":"SUM(M19,AO19)","v":{"v":394079,"d":"394,079"}},{"$f":"SUM(N19,AP19)","v":{"v":37611,"d":"37,611"}},{"$f":"SUM(O19,AQ19)","v":{"v":188375,"d":"188,375"}},{"$f":"SUM(P19,AR19)","v":{"v":157233,"d":"157,233"}},{"$f":"SUM(Q19,AS19)","v":{"v":10860,"d":"10,860"}},{"$f":"SUM(R19,AT19)","v":{"v":284836,"d":"284,836"}},{"$f":"SUM(S19,AU19)","v":{"v":17191,"d":"17,191"}},{"$f":"SUM(T19,AV19)","v":{"v":259783,"d":"259,783"}},{"$f":"SUM(U19,AW19)","v":{"v":7862,"d":"7,862"}},{"$f":"SUM(V19,AX19)","v":{"v":7106,"d":"7,106"}},{"$f":"SUM(W19,AY19)","v":{"v":233009,"d":"233,009"}},{"$f":"SUM(X19,AZ19)","v":{"v":169606,"d":"169,606"}},{"$f":"SUM(Y19,BA19)","v":{"v":39439,"d":"39,439"}},{"$f":"SUM(Z19,BB19)","v":{"v":23964,"d":"23,964"}},{"$f":"SUM(AA19,BC19)","v":0},{"$f":"SUM(AB19,BD19)","v":0},{"$f":"SUM(AC19,BE19)","v":{"v":5349,"d":"5,349"}},{"$f":"SUM(AD19,BF19)","v":{"v":86665,"d":"86,665"}},{"$f":"SUM(AE19,BG19)","v":{"v":1049233,"d":"1,049,233"}}]
["京都府","26212","京丹後市",{"$f":"+SUM(E20,J20)","v":{"v":133457,"d":"133,457"}},{"$f":"+SUM(F20:I20)","v":{"v":133457,"d":"133,457"}},0,{"v":77976,"d":"77,976"},{"v":55481,"d":"55,481"},0,0,0,{"$f":"+SUM(M20,R20,V20,W20,AC20)","v":{"v":767452,"d":"767,452"}},{"$f":"+SUM(N20:Q20)","v":{"v":39442,"d":"39,442"}},{"v":39442,"d":"39,442"},0,0,0,{"$f":"+SUM(S20:U20)","v":{"v":148756,"d":"148,756"}},0,{"v":99841,"d":"99,841"},{"v":48915,"d":"48,915"},0,{"$f":"+SUM(X20:AA20)","v":{"v":579254,"d":"579,254"}},{"v":217709,"d":"217,709"},{"v":274672,"d":"274,672"},{"v":84095,"d":"84,095"},{"v":2778,"d":"2,778"},0,0,{"v":50027,"d":"50,027"},{"$f":"+SUM(D20,L20,AD20)","v":{"v":950936,"d":"950,936"}},{"$f":"+SUM(AG20,AL20)","v":0},{"$f":"+SUM(AH20:AK20)","v":0},0,0,0,0,0,0,{"$f":"+SUM(AO20,AT20,AX20,AY20,BE20)","v":{"v":493158,"d":"493,158"}},{"$f":"+SUM(AP20:AS20)","v":{"v":56083,"d":"56,083"}},{"v":56083,"d":"56,083"},0,0,0,{"$f":"+SUM(AU20:AW20)","v":{"v":155342,"d":"155,342"}},0,{"v":155342,"d":"155,342"},0,0,{"$f":"+SUM(AZ20:BC20)","v":{"v":281733,"d":"281,733"}},{"v":205045,"d":"205,045"},{"v":76688,"d":"76,688"},0,0,0,0,{"v":77103,"d":"77,103"},{"$f":"+SUM(BF20,AN20,AF20)","v":{"v":570261,"d":"570,261"}},{"$f":"SUM(D20,AF20)","v":{"v":133457,"d":"133,457"}},{"$f":"SUM(E20,AG20)","v":{"v":133457,"d":"133,457"}},{"$f":"SUM(F20,AH20)","v":0},{"$f":"SUM(G20,AI20)","v":{"v":77976,"d":"77,976"}},{"$f":"SUM(H20,AJ20)","v":{"v":55481,"d":"55,481"}},{"$f":"SUM(I20,AK20)","v":0},{"$f":"SUM(J20,AL20)","v":0},{"$f":"SUM(K20,AM20)","v":0},{"$f":"SUM(L20,AN20)","v":{"v":1260610,"d":"1,260,610"}},{"$f":"SUM(M20,AO20)","v":{"v":95525,"d":"95,525"}},{"$f":"SUM(N20,AP20)","v":{"v":95525,"d":"95,525"}},{"$f":"SUM(O20,AQ20)","v":0},{"$f":"SUM(P20,AR20)","v":0},{"$f":"SUM(Q20,AS20)","v":0},{"$f":"SUM(R20,AT20)","v":{"v":304098,"d":"304,098"}},{"$f":"SUM(S20,AU20)","v":0},{"$f":"SUM(T20,AV20)","v":{"v":255183,"d":"255,183"}},{"$f":"SUM(U20,AW20)","v":{"v":48915,"d":"48,915"}},{"$f":"SUM(V20,AX20)","v":0},{"$f":"SUM(W20,AY20)","v":{"v":860987,"d":"860,987"}},{"$f":"SUM(X20,AZ20)","v":{"v":422754,"d":"422,754"}},{"$f":"SUM(Y20,BA20)","v":{"v":351360,"d":"351,360"}},{"$f":"SUM(Z20,BB20)","v":{"v":84095,"d":"84,095"}},{"$f":"SUM(AA20,BC20)","v":{"v":2778,"d":"2,778"}},{"$f":"SUM(AB20,BD20)","v":0},{"$f":"SUM(AC20,BE20)","v":0},{"$f":"SUM(AD20,BF20)","v":{"v":127130,"d":"127,130"}},{"$f":"SUM(AE20,BG20)","v":{"v":1521197,"d":"1,521,197"}}]
["京都府","26213","南丹市",{"$f":"+SUM(E21,J21)","v":0},{"$f":"+SUM(F21:I21)","v":0},0,0,0,0,0,0,{"$f":"+SUM(M21,R21,V21,W21,AC21)","v":0},{"$f":"+SUM(N21:Q21)","v":0},0,0,0,0,{"$f":"+SUM(S21:U21)","v":0},0,0,0,0,{"$f":"+SUM(X21:AA21)","v":0},0,0,0,0,{"v":254714,"d":"254,714"},0,0,{"$f":"+SUM(D21,L21,AD21)","v":0},{"$f":"+SUM(AG21,AL21)","v":0},{"$f":"+SUM(AH21:AK21)","v":0},0,0,0,0,0,0,{"$f":"+SUM(AO21,AT21,AX21,AY21,BE21)","v":0},{"$f":"+SUM(AP21:AS21)","v":0},0,0,0,0,{"$f":"+SUM(AU21:AW21)","v":0},0,0,0,0,{"$f":"+SUM(AZ21:BC21)","v":0},0,0,0,0,{"v":320228,"d":"320,228"},0,0,{"$f":"+SUM(BF21,AN21,AF21)","v":0},{"$f":"SUM(D21,AF21)","v":0},{"$f":"SUM(E21,AG21)","v":0},{"$f":"SUM(F21,AH21)","v":0},{"$f":"SUM(G21,AI21)","v":0},{"$f":"SUM(H21,AJ21)","v":0},{"$f":"SUM(I21,AK21)","v":0},{"$f":"SUM(J21,AL21)","v":0},{"$f":"SUM(K21,AM21)","v":0},{"$f":"SUM(L21,AN21)","v":0},{"$f":"SUM(M21,AO21)","v":0},{"$f":"SUM(N21,AP21)","v":0},{"$f":"SUM(O21,AQ21)","v":0},{"$f":"SUM(P21,AR21)","v":0},{"$f":"SUM(Q21,AS21)","v":0},{"$f":"SUM(R21,AT21)","v":0},{"$f":"SUM(S21,AU21)","v":0},{"$f":"SUM(T21,AV21)","v":0},{"$f":"SUM(U21,AW21)","v":0},{"$f":"SUM(V21,AX21)","v":0},{"$f":"SUM(W21,AY21)","v":0},{"$f":"SUM(X21,AZ21)","v":0},{"$f":"SUM(Y21,BA21)","v":0},{"$f":"SUM(Z21,BB21)","v":0},{"$f":"SUM(AA21,BC21)","v":0},{"$f":"SUM(AB21,BD21)","v":{"v":574942,"d":"574,942"}},{"$f":"SUM(AC21,BE21)","v":0},{"$f":"SUM(AD21,BF21)","v":0},{"$f":"SUM(AE21,BG21)","v":0}]
["京都府","26214","木津川市",{"$f":"+SUM(E22,J22)","v":{"v":3042309,"d":"3,042,309"}},{"$f":"+SUM(F22:I22)","v":{"v":3040982,"d":"3,040,982"}},0,{"v":3040982,"d":"3,040,982"},0,0,{"v":1327,"d":"1,327"},{"v":15917,"d":"15,917"},{"$f":"+SUM(M22,R22,V22,W22,AC22)","v":{"v":925128,"d":"925,128"}},{"$f":"+SUM(N22:Q22)","v":{"v":20250,"d":"20,250"}},{"v":20250,"d":"20,250"},0,0,0,{"$f":"+SUM(S22:U22)","v":{"v":3316,"d":"3,316"}},0,0,{"v":3316,"d":"3,316"},0,{"$f":"+SUM(X22:AA22)","v":{"v":901562,"d":"901,562"}},{"v":484532,"d":"484,532"},{"v":412003,"d":"412,003"},{"v":2694,"d":"2,694"},{"v":2333,"d":"2,333"},{"v":112809,"d":"112,809"},0,{"v":13183,"d":"13,183"},{"$f":"+SUM(D22,L22,AD22)","v":{"v":3980620,"d":"3,980,620"}},{"$f":"+SUM(AG22,AL22)","v":0},{"$f":"+SUM(AH22:AK22)","v":0},0,0,0,0,0,0,{"$f":"+SUM(AO22,AT22,AX22,AY22,BE22)","v":{"v":4266,"d":"4,266"}},{"$f":"+SUM(AP22:AS22)","v":{"v":4050,"d":"4,050"}},{"v":4050,"d":"4,050"},0,0,0,{"$f":"+SUM(AU22:AW22)","v":0},0,0,0,0,{"$f":"+SUM(AZ22:BC22)","v":216},0,0,0,216,{"v":161328,"d":"161,328"},0,911,{"$f":"+SUM(BF22,AN22,AF22)","v":{"v":5177,"d":"5,177"}},{"$f":"SUM(D22,AF22)","v":{"v":3042309,"d":"3,042,309"}},{"$f":"SUM(E22,AG22)","v":{"v":3040982,"d":"3,040,982"}},{"$f":"SUM(F22,AH22)","v":0},{"$f":"SUM(G22,AI22)","v":{"v":3040982,"d":"3,040,982"}},{"$f":"SUM(H22,AJ22)","v":0},{"$f":"SUM(I22,AK22)","v":0},{"$f":"SUM(J22,AL22)","v":{"v":1327,"d":"1,327"}},{"$f":"SUM(K22,AM22)","v":{"v":15917,"d":"15,917"}},{"$f":"SUM(L22,AN22)","v":{"v":929394,"d":"929,394"}},{"$f":"SUM(M22,AO22)","v":{"v":24300,"d":"24,300"}},{"$f":"SUM(N22,AP22)","v":{"v":24300,"d":"24,300"}},{"$f":"SUM(O22,AQ22)","v":0},{"$f":"SUM(P22,AR22)","v":0},{"$f":"SUM(Q22,AS22)","v":0},{"$f":"SUM(R22,AT22)","v":{"v":3316,"d":"3,316"}},{"$f":"SUM(S22,AU22)","v":0},{"$f":"SUM(T22,AV22)","v":0},{"$f":"SUM(U22,AW22)","v":{"v":3316,"d":"3,316"}},{"$f":"SUM(V22,AX22)","v":0},{"$f":"SUM(W22,AY22)","v":{"v":901778,"d":"901,778"}},{"$f":"SUM(X22,AZ22)","v":{"v":484532,"d":"484,532"}},{"$f":"SUM(Y22,BA22)","v":{"v":412003,"d":"412,003"}},{"$f":"SUM(Z22,BB22)","v":{"v":2694,"d":"2,694"}},{"$f":"SUM(AA22,BC22)","v":{"v":2549,"d":"2,549"}},{"$f":"SUM(AB22,BD22)","v":{"v":274137,"d":"274,137"}},{"$f":"SUM(AC22,BE22)","v":0},{"$f":"SUM(AD22,BF22)","v":{"v":14094,"d":"14,094"}},{"$f":"SUM(AE22,BG22)","v":{"v":3985797,"d":"3,985,797"}}]
["京都府","26303","大山崎町",{"$f":"+SUM(E23,J23)","v":0},{"$f":"+SUM(F23:I23)","v":0},0,0,0,0,0,{"v":40908,"d":"40,908"},{"$f":"+SUM(M23,R23,V23,W23,AC23)","v":{"v":120324,"d":"120,324"}},{"$f":"+SUM(N23:Q23)","v":{"v":43628,"d":"43,628"}},0,{"v":43628,"d":"43,628"},0,0,{"$f":"+SUM(S23:U23)","v":{"v":4471,"d":"4,471"}},{"v":4471,"d":"4,471"},0,0,0,{"$f":"+SUM(X23:AA23)","v":{"v":72225,"d":"72,225"}},{"v":72225,"d":"72,225"},0,0,0,{"v":77311,"d":"77,311"},0,0,{"$f":"+SUM(D23,L23,AD23)","v":{"v":120324,"d":"120,324"}},{"$f":"+SUM(AG23,AL23)","v":0},{"$f":"+SUM(AH23:AK23)","v":0},0,0,0,0,0,0,{"$f":"+SUM(AO23,AT23,AX23,AY23,BE23)","v":{"v":2818,"d":"2,818"}},{"$f":"+SUM(AP23:AS23)","v":0},0,0,0,0,{"$f":"+SUM(AU23:AW23)","v":0},0,0,0,0,{"$f":"+SUM(AZ23:BC23)","v":{"v":2818,"d":"2,818"}},{"v":2818,"d":"2,818"},0,0,0,0,0,0,{"$f":"+SUM(BF23,AN23,AF23)","v":{"v":2818,"d":"2,818"}},{"$f":"SUM(D23,AF23)","v":0},{"$f":"SUM(E23,AG23)","v":0},{"$f":"SUM(F23,AH23)","v":0},{"$f":"SUM(G23,AI23)","v":0},{"$f":"SUM(H23,AJ23)","v":0},{"$f":"SUM(I23,AK23)","v":0},{"$f":"SUM(J23,AL23)","v":0},{"$f":"SUM(K23,AM23)","v":{"v":40908,"d":"40,908"}},{"$f":"SUM(L23,AN23)","v":{"v":123142,"d":"123,142"}},{"$f":"SUM(M23,AO23)","v":{"v":43628,"d":"43,628"}},{"$f":"SUM(N23,AP23)","v":0},{"$f":"SUM(O23,AQ23)","v":{"v":43628,"d":"43,628"}},{"$f":"SUM(P23,AR23)","v":0},{"$f":"SUM(Q23,AS23)","v":0},{"$f":"SUM(R23,AT23)","v":{"v":4471,"d":"4,471"}},{"$f":"SUM(S23,AU23)","v":{"v":4471,"d":"4,471"}},{"$f":"SUM(T23,AV23)","v":0},{"$f":"SUM(U23,AW23)","v":0},{"$f":"SUM(V23,AX23)","v":0},{"$f":"SUM(W23,AY23)","v":{"v":75043,"d":"75,043"}},{"$f":"SUM(X23,AZ23)","v":{"v":75043,"d":"75,043"}},{"$f":"SUM(Y23,BA23)","v":0},{"$f":"SUM(Z23,BB23)","v":0},{"$f":"SUM(AA23,BC23)","v":0},{"$f":"SUM(AB23,BD23)","v":{"v":77311,"d":"77,311"}},{"$f":"SUM(AC23,BE23)","v":0},{"$f":"SUM(AD23,BF23)","v":0},{"$f":"SUM(AE23,BG23)","v":{"v":123142,"d":"123,142"}}]
["京都府","26322","久御山町",{"$f":"+SUM(E24,J24)","v":0},{"$f":"+SUM(F24:I24)","v":0},0,0,0,0,0,{"v":48653,"d":"48,653"},{"$f":"+SUM(M24,R24,V24,W24,AC24)","v":{"v":125352,"d":"125,352"}},{"$f":"+SUM(N24:Q24)","v":{"v":54185,"d":"54,185"}},0,{"v":54185,"d":"54,185"},0,0,{"$f":"+SUM(S24:U24)","v":{"v":23923,"d":"23,923"}},{"v":23923,"d":"23,923"},0,0,0,{"$f":"+SUM(X24:AA24)","v":{"v":47244,"d":"47,244"}},{"v":46960,"d":"46,960"},0,0,284,{"v":78049,"d":"78,049"},0,0,{"$f":"+SUM(D24,L24,AD24)","v":{"v":125352,"d":"125,352"}},{"$f":"+SUM(AG24,AL24)","v":0},{"$f":"+SUM(AH24:AK24)","v":0},0,0,0,0,0,{"v":5280,"d":"5,280"},{"$f":"+SUM(AO24,AT24,AX24,AY24,BE24)","v":0},{"$f":"+SUM(AP24:AS24)","v":0},0,0,0,0,{"$f":"+SUM(AU24:AW24)","v":0},0,0,0,0,{"$f":"+SUM(AZ24:BC24)","v":0},0,0,0,0,{"v":31158,"d":"31,158"},0,0,{"$f":"+SUM(BF24,AN24,AF24)","v":0},{"$f":"SUM(D24,AF24)","v":0},{"$f":"SUM(E24,AG24)","v":0},{"$f":"SUM(F24,AH24)","v":0},{"$f":"SUM(G24,AI24)","v":0},{"$f":"SUM(H24,AJ24)","v":0},{"$f":"SUM(I24,AK24)","v":0},{"$f":"SUM(J24,AL24)","v":0},{"$f":"SUM(K24,AM24)","v":{"v":53933,"d":"53,933"}},{"$f":"SUM(L24,AN24)","v":{"v":125352,"d":"125,352"}},{"$f":"SUM(M24,AO24)","v":{"v":54185,"d":"54,185"}},{"$f":"SUM(N24,AP24)","v":0},{"$f":"SUM(O24,AQ24)","v":{"v":54185,"d":"54,185"}},{"$f":"SUM(P24,AR24)","v":0},{"$f":"SUM(Q24,AS24)","v":0},{"$f":"SUM(R24,AT24)","v":{"v":23923,"d":"23,923"}},{"$f":"SUM(S24,AU24)","v":{"v":23923,"d":"23,923"}},{"$f":"SUM(T24,AV24)","v":0},{"$f":"SUM(U24,AW24)","v":0},{"$f":"SUM(V24,AX24)","v":0},{"$f":"SUM(W24,AY24)","v":{"v":47244,"d":"47,244"}},{"$f":"SUM(X24,AZ24)","v":{"v":46960,"d":"46,960"}},{"$f":"SUM(Y24,BA24)","v":0},{"$f":"SUM(Z24,BB24)","v":0},{"$f":"SUM(AA24,BC24)","v":284},{"$f":"SUM(AB24,BD24)","v":{"v":109207,"d":"109,207"}},{"$f":"SUM(AC24,BE24)","v":0},{"$f":"SUM(AD24,BF24)","v":0},{"$f":"SUM(AE24,BG24)","v":{"v":125352,"d":"125,352"}}]
["京都府","26343","井手町",{"$f":"+SUM(E25,J25)","v":3},{"$f":"+SUM(F25:I25)","v":0},0,0,0,0,3,{"v":23775,"d":"23,775"},{"$f":"+SUM(M25,R25,V25,W25,AC25)","v":{"v":47823,"d":"47,823"}},{"$f":"+SUM(N25:Q25)","v":{"v":14342,"d":"14,342"}},5,{"v":14337,"d":"14,337"},0,0,{"$f":"+SUM(S25:U25)","v":{"v":1233,"d":"1,233"}},{"v":1233,"d":"1,233"},0,0,0,{"$f":"+SUM(X25:AA25)","v":{"v":32248,"d":"32,248"}},{"v":32248,"d":"32,248"},0,0,0,{"v":38141,"d":"38,141"},0,{"v":1931,"d":"1,931"},{"$f":"+SUM(D25,L25,AD25)","v":{"v":49757,"d":"49,757"}},{"$f":"+SUM(AG25,AL25)","v":0},{"$f":"+SUM(AH25:AK25)","v":0},0,0,0,0,0,{"v":3607,"d":"3,607"},{"$f":"+SUM(AO25,AT25,AX25,AY25,BE25)","v":0},{"$f":"+SUM(AP25:AS25)","v":0},0,0,0,0,{"$f":"+SUM(AU25:AW25)","v":0},0,0,0,0,{"$f":"+SUM(AZ25:BC25)","v":0},0,0,0,0,{"v":21289,"d":"21,289"},0,0,{"$f":"+SUM(BF25,AN25,AF25)","v":0},{"$f":"SUM(D25,AF25)","v":3},{"$f":"SUM(E25,AG25)","v":0},{"$f":"SUM(F25,AH25)","v":0},{"$f":"SUM(G25,AI25)","v":0},{"$f":"SUM(H25,AJ25)","v":0},{"$f":"SUM(I25,AK25)","v":0},{"$f":"SUM(J25,AL25)","v":3},{"$f":"SUM(K25,AM25)","v":{"v":27382,"d":"27,382"}},{"$f":"SUM(L25,AN25)","v":{"v":47823,"d":"47,823"}},{"$f":"SUM(M25,AO25)","v":{"v":14342,"d":"14,342"}},{"$f":"SUM(N25,AP25)","v":5},{"$f":"SUM(O25,AQ25)","v":{"v":14337,"d":"14,337"}},{"$f":"SUM(P25,AR25)","v":0},{"$f":"SUM(Q25,AS25)","v":0},{"$f":"SUM(R25,AT25)","v":{"v":1233,"d":"1,233"}},{"$f":"SUM(S25,AU25)","v":{"v":1233,"d":"1,233"}},{"$f":"SUM(T25,AV25)","v":0},{"$f":"SUM(U25,AW25)","v":0},{"$f":"SUM(V25,AX25)","v":0},{"$f":"SUM(W25,AY25)","v":{"v":32248,"d":"32,248"}},{"$f":"SUM(X25,AZ25)","v":{"v":32248,"d":"32,248"}},{"$f":"SUM(Y25,BA25)","v":0},{"$f":"SUM(Z25,BB25)","v":0},{"$f":"SUM(AA25,BC25)","v":0},{"$f":"SUM(AB25,BD25)","v":{"v":59430,"d":"59,430"}},{"$f":"SUM(AC25,BE25)","v":0},{"$f":"SUM(AD25,BF25)","v":{"v":1931,"d":"1,931"}},{"$f":"SUM(AE25,BG25)","v":{"v":49757,"d":"49,757"}}]
["京都府","26344","宇治田原町",{"$f":"+SUM(E26,J26)","v":0},{"$f":"+SUM(F26:I26)","v":0},0,0,0,0,0,{"v":27815,"d":"27,815"},{"$f":"+SUM(M26,R26,V26,W26,AC26)","v":{"v":82456,"d":"82,456"}},{"$f":"+SUM(N26:Q26)","v":{"v":42974,"d":"42,974"}},0,{"v":42974,"d":"42,974"},0,0,{"$f":"+SUM(S26:U26)","v":{"v":2016,"d":"2,016"}},{"v":2016,"d":"2,016"},0,0,{"v":13166,"d":"13,166"},{"$f":"+SUM(X26:AA26)","v":{"v":24300,"d":"24,300"}},{"v":24300,"d":"24,300"},0,0,0,{"v":44620,"d":"44,620"},0,0,{"$f":"+SUM(D26,L26,AD26)","v":{"v":82456,"d":"82,456"}},{"$f":"+SUM(AG26,AL26)","v":0},{"$f":"+SUM(AH26:AK26)","v":0},0,0,0,0,0,{"v":7244,"d":"7,244"},{"$f":"+SUM(AO26,AT26,AX26,AY26,BE26)","v":0},{"$f":"+SUM(AP26:AS26)","v":0},0,0,0,0,{"$f":"+SUM(AU26:AW26)","v":0},0,0,0,0,{"$f":"+SUM(AZ26:BC26)","v":0},0,0,0,0,{"v":42749,"d":"42,749"},0,0,{"$f":"+SUM(BF26,AN26,AF26)","v":0},{"$f":"SUM(D26,AF26)","v":0},{"$f":"SUM(E26,AG26)","v":0},{"$f":"SUM(F26,AH26)","v":0},{"$f":"SUM(G26,AI26)","v":0},{"$f":"SUM(H26,AJ26)","v":0},{"$f":"SUM(I26,AK26)","v":0},{"$f":"SUM(J26,AL26)","v":0},{"$f":"SUM(K26,AM26)","v":{"v":35059,"d":"35,059"}},{"$f":"SUM(L26,AN26)","v":{"v":82456,"d":"82,456"}},{"$f":"SUM(M26,AO26)","v":{"v":42974,"d":"42,974"}},{"$f":"SUM(N26,AP26)","v":0},{"$f":"SUM(O26,AQ26)","v":{"v":42974,"d":"42,974"}},{"$f":"SUM(P26,AR26)","v":0},{"$f":"SUM(Q26,AS26)","v":0},{"$f":"SUM(R26,AT26)","v":{"v":2016,"d":"2,016"}},{"$f":"SUM(S26,AU26)","v":{"v":2016,"d":"2,016"}},{"$f":"SUM(T26,AV26)","v":0},{"$f":"SUM(U26,AW26)","v":0},{"$f":"SUM(V26,AX26)","v":{"v":13166,"d":"13,166"}},{"$f":"SUM(W26,AY26)","v":{"v":24300,"d":"24,300"}},{"$f":"SUM(X26,AZ26)","v":{"v":24300,"d":"24,300"}},{"$f":"SUM(Y26,BA26)","v":0},{"$f":"SUM(Z26,BB26)","v":0},{"$f":"SUM(AA26,BC26)","v":0},{"$f":"SUM(AB26,BD26)","v":{"v":87369,"d":"87,369"}},{"$f":"SUM(AC26,BE26)","v":0},{"$f":"SUM(AD26,BF26)","v":0},{"$f":"SUM(AE26,BG26)","v":{"v":82456,"d":"82,456"}}]
["京都府","26364","笠置町",{"$f":"+SUM(E27,J27)","v":0},{"$f":"+SUM(F27:I27)","v":0},0,0,0,0,0,0,{"$f":"+SUM(M27,R27,V27,W27,AC27)","v":259},{"$f":"+SUM(N27:Q27)","v":0},0,0,0,0,{"$f":"+SUM(S27:U27)","v":0},0,0,0,0,{"$f":"+SUM(X27:AA27)","v":259},0,0,0,259,{"v":45052,"d":"45,052"},0,625,{"$f":"+SUM(D27,L27,AD27)","v":884},{"$f":"+SUM(AG27,AL27)","v":0},{"$f":"+SUM(AH27:AK27)","v":0},0,0,0,0,0,0,{"$f":"+SUM(AO27,AT27,AX27,AY27,BE27)","v":0},{"$f":"+SUM(AP27:AS27)","v":0},0,0,0,0,{"$f":"+SUM(AU27:AW27)","v":0},0,0,0,0,{"$f":"+SUM(AZ27:BC27)","v":0},0,0,0,0,{"v":26822,"d":"26,822"},0,982,{"$f":"+SUM(BF27,AN27,AF27)","v":982},{"$f":"SUM(D27,AF27)","v":0},{"$f":"SUM(E27,AG27)","v":0},{"$f":"SUM(F27,AH27)","v":0},{"$f":"SUM(G27,AI27)","v":0},{"$f":"SUM(H27,AJ27)","v":0},{"$f":"SUM(I27,AK27)","v":0},{"$f":"SUM(J27,AL27)","v":0},{"$f":"SUM(K27,AM27)","v":0},{"$f":"SUM(L27,AN27)","v":259},{"$f":"SUM(M27,AO27)","v":0},{"$f":"SUM(N27,AP27)","v":0},{"$f":"SUM(O27,AQ27)","v":0},{"$f":"SUM(P27,AR27)","v":0},{"$f":"SUM(Q27,AS27)","v":0},{"$f":"SUM(R27,AT27)","v":0},{"$f":"SUM(S27,AU27)","v":0},{"$f":"SUM(T27,AV27)","v":0},{"$f":"SUM(U27,AW27)","v":0},{"$f":"SUM(V27,AX27)","v":0},{"$f":"SUM(W27,AY27)","v":259},{"$f":"SUM(X27,AZ27)","v":0},{"$f":"SUM(Y27,BA27)","v":0},{"$f":"SUM(Z27,BB27)","v":0},{"$f":"SUM(AA27,BC27)","v":259},{"$f":"SUM(AB27,BD27)","v":{"v":71874,"d":"71,874"}},{"$f":"SUM(AC27,BE27)","v":0},{"$f":"SUM(AD27,BF27)","v":{"v":1607,"d":"1,607"}},{"$f":"SUM(AE27,BG27)","v":{"v":1866,"d":"1,866"}}]
["京都府","26365","和束町",{"$f":"+SUM(E28,J28)","v":0},{"$f":"+SUM(F28:I28)","v":0},0,0,0,0,0,0,{"$f":"+SUM(M28,R28,V28,W28,AC28)","v":0},{"$f":"+SUM(N28:Q28)","v":0},0,0,0,0,{"$f":"+SUM(S28:U28)","v":0},0,0,0,0,{"$f":"+SUM(X28:AA28)","v":0},0,0,0,0,{"v":109644,"d":"109,644"},0,0,{"$f":"+SUM(D28,L28,AD28)","v":0},{"$f":"+SUM(AG28,AL28)","v":0},{"$f":"+SUM(AH28:AK28)","v":0},0,0,0,0,0,0,{"$f":"+SUM(AO28,AT28,AX28,AY28,BE28)","v":0},{"$f":"+SUM(AP28:AS28)","v":0},0,0,0,0,{"$f":"+SUM(AU28:AW28)","v":0},0,0,0,0,{"$f":"+SUM(AZ28:BC28)","v":0},0,0,0,0,{"v":36746,"d":"36,746"},0,0,{"$f":"+SUM(BF28,AN28,AF28)","v":0},{"$f":"SUM(D28,AF28)","v":0},{"$f":"SUM(E28,AG28)","v":0},{"$f":"SUM(F28,AH28)","v":0},{"$f":"SUM(G28,AI28)","v":0},{"$f":"SUM(H28,AJ28)","v":0},{"$f":"SUM(I28,AK28)","v":0},{"$f":"SUM(J28,AL28)","v":0},{"$f":"SUM(K28,AM28)","v":0},{"$f":"SUM(L28,AN28)","v":0},{"$f":"SUM(M28,AO28)","v":0},{"$f":"SUM(N28,AP28)","v":0},{"$f":"SUM(O28,AQ28)","v":0},{"$f":"SUM(P28,AR28)","v":0},{"$f":"SUM(Q28,AS28)","v":0},{"$f":"SUM(R28,AT28)","v":0},{"$f":"SUM(S28,AU28)","v":0},{"$f":"SUM(T28,AV28)","v":0},{"$f":"SUM(U28,AW28)","v":0},{"$f":"SUM(V28,AX28)","v":0},{"$f":"SUM(W28,AY28)","v":0},{"$f":"SUM(X28,AZ28)","v":0},{"$f":"SUM(Y28,BA28)","v":0},{"$f":"SUM(Z28,BB28)","v":0},{"$f":"SUM(AA28,BC28)","v":0},{"$f":"SUM(AB28,BD28)","v":{"v":146390,"d":"146,390"}},{"$f":"SUM(AC28,BE28)","v":0},{"$f":"SUM(AD28,BF28)","v":0},{"$f":"SUM(AE28,BG28)","v":0}]
["京都府","26366","精華町",{"$f":"+SUM(E29,J29)","v":{"v":713470,"d":"713,470"}},{"$f":"+SUM(F29:I29)","v":0},0,0,0,0,{"v":713470,"d":"713,470"},{"v":28379,"d":"28,379"},{"$f":"+SUM(M29,R29,V29,W29,AC29)","v":{"v":203520,"d":"203,520"}},{"$f":"+SUM(N29:Q29)","v":{"v":43045,"d":"43,045"}},{"v":7512,"d":"7,512"},{"v":35533,"d":"35,533"},0,0,{"$f":"+SUM(S29:U29)","v":0},0,0,0,0,{"$f":"+SUM(X29:AA29)","v":{"v":160475,"d":"160,475"}},{"v":91799,"d":"91,799"},{"v":50960,"d":"50,960"},{"v":17716,"d":"17,716"},0,{"v":69643,"d":"69,643"},0,0,{"$f":"+SUM(D29,L29,AD29)","v":{"v":916990,"d":"916,990"}},{"$f":"+SUM(AG29,AL29)","v":0},{"$f":"+SUM(AH29:AK29)","v":0},0,0,0,0,0,0,{"$f":"+SUM(AO29,AT29,AX29,AY29,BE29)","v":{"v":9070,"d":"9,070"}},{"$f":"+SUM(AP29:AS29)","v":{"v":1836,"d":"1,836"}},{"v":1836,"d":"1,836"},0,0,0,{"$f":"+SUM(AU29:AW29)","v":0},0,0,0,0,{"$f":"+SUM(AZ29:BC29)","v":{"v":7234,"d":"7,234"}},0,{"v":7234,"d":"7,234"},0,0,{"v":42445,"d":"42,445"},0,0,{"$f":"+SUM(BF29,AN29,AF29)","v":{"v":9070,"d":"9,070"}},{"$f":"SUM(D29,AF29)","v":{"v":713470,"d":"713,470"}},{"$f":"SUM(E29,AG29)","v":0},{"$f":"SUM(F29,AH29)","v":0},{"$f":"SUM(G29,AI29)","v":0},{"$f":"SUM(H29,AJ29)","v":0},{"$f":"SUM(I29,AK29)","v":0},{"$f":"SUM(J29,AL29)","v":{"v":713470,"d":"713,470"}},{"$f":"SUM(K29,AM29)","v":{"v":28379,"d":"28,379"}},{"$f":"SUM(L29,AN29)","v":{"v":212590,"d":"212,590"}},{"$f":"SUM(M29,AO29)","v":{"v":44881,"d":"44,881"}},{"$f":"SUM(N29,AP29)","v":{"v":9348,"d":"9,348"}},{"$f":"SUM(O29,AQ29)","v":{"v":35533,"d":"35,533"}},{"$f":"SUM(P29,AR29)","v":0},{"$f":"SUM(Q29,AS29)","v":0},{"$f":"SUM(R29,AT29)","v":0},{"$f":"SUM(S29,AU29)","v":0},{"$f":"SUM(T29,AV29)","v":0},{"$f":"SUM(U29,AW29)","v":0},{"$f":"SUM(V29,AX29)","v":0},{"$f":"SUM(W29,AY29)","v":{"v":167709,"d":"167,709"}},{"$f":"SUM(X29,AZ29)","v":{"v":91799,"d":"91,799"}},{"$f":"SUM(Y29,BA29)","v":{"v":58194,"d":"58,194"}},{"$f":"SUM(Z29,BB29)","v":{"v":17716,"d":"17,716"}},{"$f":"SUM(AA29,BC29)","v":0},{"$f":"SUM(AB29,BD29)","v":{"v":112088,"d":"112,088"}},{"$f":"SUM(AC29,BE29)","v":0},{"$f":"SUM(AD29,BF29)","v":0},{"$f":"SUM(AE29,BG29)","v":{"v":926060,"d":"926,060"}}]
["京都府","26367","南山城村",{"$f":"+SUM(E30,J30)","v":0},{"$f":"+SUM(F30:I30)","v":0},0,0,0,0,0,0,{"$f":"+SUM(M30,R30,V30,W30,AC30)","v":0},{"$f":"+SUM(N30:Q30)","v":0},0,0,0,0,{"$f":"+SUM(S30:U30)","v":0},0,0,0,0,{"$f":"+SUM(X30:AA30)","v":0},0,0,0,0,{"v":69157,"d":"69,157"},0,0,{"$f":"+SUM(D30,L30,AD30)","v":0},{"$f":"+SUM(AG30,AL30)","v":0},{"$f":"+SUM(AH30:AK30)","v":0},0,0,0,0,0,0,{"$f":"+SUM(AO30,AT30,AX30,AY30,BE30)","v":{"v":7472,"d":"7,472"}},{"$f":"+SUM(AP30:AS30)","v":0},0,0,0,0,{"$f":"+SUM(AU30:AW30)","v":0},0,0,0,0,{"$f":"+SUM(AZ30:BC30)","v":{"v":7472,"d":"7,472"}},{"v":7472,"d":"7,472"},0,0,0,{"v":31130,"d":"31,130"},0,0,{"$f":"+SUM(BF30,AN30,AF30)","v":{"v":7472,"d":"7,472"}},{"$f":"SUM(D30,AF30)","v":0},{"$f":"SUM(E30,AG30)","v":0},{"$f":"SUM(F30,AH30)","v":0},{"$f":"SUM(G30,AI30)","v":0},{"$f":"SUM(H30,AJ30)","v":0},{"$f":"SUM(I30,AK30)","v":0},{"$f":"SUM(J30,AL30)","v":0},{"$f":"SUM(K30,AM30)","v":0},{"$f":"SUM(L30,AN30)","v":{"v":7472,"d":"7,472"}},{"$f":"SUM(M30,AO30)","v":0},{"$f":"SUM(N30,AP30)","v":0},{"$f":"SUM(O30,AQ30)","v":0},{"$f":"SUM(P30,AR30)","v":0},{"$f":"SUM(Q30,AS30)","v":0},{"$f":"SUM(R30,AT30)","v":0},{"$f":"SUM(S30,AU30)","v":0},{"$f":"SUM(T30,AV30)","v":0},{"$f":"SUM(U30,AW30)","v":0},{"$f":"SUM(V30,AX30)","v":0},{"$f":"SUM(W30,AY30)","v":{"v":7472,"d":"7,472"}},{"$f":"SUM(X30,AZ30)","v":{"v":7472,"d":"7,472"}},{"$f":"SUM(Y30,BA30)","v":0},{"$f":"SUM(Z30,BB30)","v":0},{"$f":"SUM(AA30,BC30)","v":0},{"$f":"SUM(AB30,BD30)","v":{"v":100287,"d":"100,287"}},{"$f":"SUM(AC30,BE30)","v":0},{"$f":"SUM(AD30,BF30)","v":0},{"$f":"SUM(AE30,BG30)","v":{"v":7472,"d":"7,472"}}]
["京都府","26407","京丹波町",{"$f":"+SUM(E31,J31)","v":0},{"$f":"+SUM(F31:I31)","v":0},0,0,0,0,0,0,{"$f":"+SUM(M31,R31,V31,W31,AC31)","v":0},{"$f":"+SUM(N31:Q31)","v":0},0,0,0,0,{"$f":"+SUM(S31:U31)","v":0},0,0,0,0,{"$f":"+SUM(X31:AA31)","v":0},0,0,0,0,{"v":112625,"d":"112,625"},0,0,{"$f":"+SUM(D31,L31,AD31)","v":0},{"$f":"+SUM(AG31,AL31)","v":0},{"$f":"+SUM(AH31:AK31)","v":0},0,0,0,0,0,0,{"$f":"+SUM(AO31,AT31,AX31,AY31,BE31)","v":0},{"$f":"+SUM(AP31:AS31)","v":0},0,0,0,0,{"$f":"+SUM(AU31:AW31)","v":0},0,0,0,0,{"$f":"+SUM(AZ31:BC31)","v":0},0,0,0,0,{"v":205532,"d":"205,532"},0,0,{"$f":"+SUM(BF31,AN31,AF31)","v":0},{"$f":"SUM(D31,AF31)","v":0},{"$f":"SUM(E31,AG31)","v":0},{"$f":"SUM(F31,AH31)","v":0},{"$f":"SUM(G31,AI31)","v":0},{"$f":"SUM(H31,AJ31)","v":0},{"$f":"SUM(I31,AK31)","v":0},{"$f":"SUM(J31,AL31)","v":0},{"$f":"SUM(K31,AM31)","v":0},{"$f":"SUM(L31,AN31)","v":0},{"$f":"SUM(M31,AO31)","v":0},{"$f":"SUM(N31,AP31)","v":0},{"$f":"SUM(O31,AQ31)","v":0},{"$f":"SUM(P31,AR31)","v":0},{"$f":"SUM(Q31,AS31)","v":0},{"$f":"SUM(R31,AT31)","v":0},{"$f":"SUM(S31,AU31)","v":0},{"$f":"SUM(T31,AV31)","v":0},{"$f":"SUM(U31,AW31)","v":0},{"$f":"SUM(V31,AX31)","v":0},{"$f":"SUM(W31,AY31)","v":0},{"$f":"SUM(X31,AZ31)","v":0},{"$f":"SUM(Y31,BA31)","v":0},{"$f":"SUM(Z31,BB31)","v":0},{"$f":"SUM(AA31,BC31)","v":0},{"$f":"SUM(AB31,BD31)","v":{"v":318157,"d":"318,157"}},{"$f":"SUM(AC31,BE31)","v":0},{"$f":"SUM(AD31,BF31)","v":0},{"$f":"SUM(AE31,BG31)","v":0}]
["京都府","26463","伊根町",{"$f":"+SUM(E32,J32)","v":0},{"$f":"+SUM(F32:I32)","v":0},0,0,0,0,0,{"v":15328,"d":"15,328"},{"$f":"+SUM(M32,R32,V32,W32,AC32)","v":{"v":76138,"d":"76,138"}},{"$f":"+SUM(N32:Q32)","v":{"v":13060,"d":"13,060"}},{"v":13060,"d":"13,060"},0,0,0,{"$f":"+SUM(S32:U32)","v":{"v":14847,"d":"14,847"}},{"v":6308,"d":"6,308"},0,{"v":8539,"d":"8,539"},0,{"$f":"+SUM(X32:AA32)","v":{"v":48231,"d":"48,231"}},{"v":20327,"d":"20,327"},{"v":2936,"d":"2,936"},{"v":24833,"d":"24,833"},135,0,0,{"v":1367,"d":"1,367"},{"$f":"+SUM(D32,L32,AD32)","v":{"v":77505,"d":"77,505"}},{"$f":"+SUM(AG32,AL32)","v":0},{"$f":"+SUM(AH32:AK32)","v":0},0,0,0,0,0,0,{"$f":"+SUM(AO32,AT32,AX32,AY32,BE32)","v":{"v":22268,"d":"22,268"}},{"$f":"+SUM(AP32:AS32)","v":0},0,0,0,0,{"$f":"+SUM(AU32:AW32)","v":{"v":1422,"d":"1,422"}},{"v":1422,"d":"1,422"},0,0,0,{"$f":"+SUM(AZ32:BC32)","v":{"v":20846,"d":"20,846"}},{"v":10479,"d":"10,479"},0,{"v":10367,"d":"10,367"},0,0,0,0,{"$f":"+SUM(BF32,AN32,AF32)","v":{"v":22268,"d":"22,268"}},{"$f":"SUM(D32,AF32)","v":0},{"$f":"SUM(E32,AG32)","v":0},{"$f":"SUM(F32,AH32)","v":0},{"$f":"SUM(G32,AI32)","v":0},{"$f":"SUM(H32,AJ32)","v":0},{"$f":"SUM(I32,AK32)","v":0},{"$f":"SUM(J32,AL32)","v":0},{"$f":"SUM(K32,AM32)","v":{"v":15328,"d":"15,328"}},{"$f":"SUM(L32,AN32)","v":{"v":98406,"d":"98,406"}},{"$f":"SUM(M32,AO32)","v":{"v":13060,"d":"13,060"}},{"$f":"SUM(N32,AP32)","v":{"v":13060,"d":"13,060"}},{"$f":"SUM(O32,AQ32)","v":0},{"$f":"SUM(P32,AR32)","v":0},{"$f":"SUM(Q32,AS32)","v":0},{"$f":"SUM(R32,AT32)","v":{"v":16269,"d":"16,269"}},{"$f":"SUM(S32,AU32)","v":{"v":7730,"d":"7,730"}},{"$f":"SUM(T32,AV32)","v":0},{"$f":"SUM(U32,AW32)","v":{"v":8539,"d":"8,539"}},{"$f":"SUM(V32,AX32)","v":0},{"$f":"SUM(W32,AY32)","v":{"v":69077,"d":"69,077"}},{"$f":"SUM(X32,AZ32)","v":{"v":30806,"d":"30,806"}},{"$f":"SUM(Y32,BA32)","v":{"v":2936,"d":"2,936"}},{"$f":"SUM(Z32,BB32)","v":{"v":35200,"d":"35,200"}},{"$f":"SUM(AA32,BC32)","v":135},{"$f":"SUM(AB32,BD32)","v":0},{"$f":"SUM(AC32,BE32)","v":0},{"$f":"SUM(AD32,BF32)","v":{"v":1367,"d":"1,367"}},{"$f":"SUM(AE32,BG32)","v":{"v":99773,"d":"99,773"}}]
["京都府","26465","与謝野町",{"$f":"+SUM(E33,J33)","v":0},{"$f":"+SUM(F33:I33)","v":0},0,0,0,0,0,{"v":158615,"d":"158,615"},{"$f":"+SUM(M33,R33,V33,W33,AC33)","v":{"v":324773,"d":"324,773"}},{"$f":"+SUM(N33:Q33)","v":{"v":9650,"d":"9,650"}},0,0,0,{"v":9650,"d":"9,650"},{"$f":"+SUM(S33:U33)","v":{"v":26509,"d":"26,509"}},0,0,{"v":26509,"d":"26,509"},0,{"$f":"+SUM(X33:AA33)","v":{"v":288614,"d":"288,614"}},{"v":142906,"d":"142,906"},{"v":124742,"d":"124,742"},{"v":20966,"d":"20,966"},0,0,0,{"v":2431,"d":"2,431"},{"$f":"+SUM(D33,L33,AD33)","v":{"v":327204,"d":"327,204"}},{"$f":"+SUM(AG33,AL33)","v":0},{"$f":"+SUM(AH33:AK33)","v":0},0,0,0,0,0,0,{"$f":"+SUM(AO33,AT33,AX33,AY33,BE33)","v":{"v":92071,"d":"92,071"}},{"$f":"+SUM(AP33:AS33)","v":{"v":63841,"d":"63,841"}},{"v":23215,"d":"23,215"},{"v":34822,"d":"34,822"},{"v":5804,"d":"5,804"},0,{"$f":"+SUM(AU33:AW33)","v":{"v":25971,"d":"25,971"}},{"v":2362,"d":"2,362"},{"v":23609,"d":"23,609"},0,0,{"$f":"+SUM(AZ33:BC33)","v":{"v":2259,"d":"2,259"}},0,{"v":1439,"d":"1,439"},820,0,0,0,0,{"$f":"+SUM(BF33,AN33,AF33)","v":{"v":92071,"d":"92,071"}},{"$f":"SUM(D33,AF33)","v":0},{"$f":"SUM(E33,AG33)","v":0},{"$f":"SUM(F33,AH33)","v":0},{"$f":"SUM(G33,AI33)","v":0},{"$f":"SUM(H33,AJ33)","v":0},{"$f":"SUM(I33,AK33)","v":0},{"$f":"SUM(J33,AL33)","v":0},{"$f":"SUM(K33,AM33)","v":{"v":158615,"d":"158,615"}},{"$f":"SUM(L33,AN33)","v":{"v":416844,"d":"416,844"}},{"$f":"SUM(M33,AO33)","v":{"v":73491,"d":"73,491"}},{"$f":"SUM(N33,AP33)","v":{"v":23215,"d":"23,215"}},{"$f":"SUM(O33,AQ33)","v":{"v":34822,"d":"34,822"}},{"$f":"SUM(P33,AR33)","v":{"v":5804,"d":"5,804"}},{"$f":"SUM(Q33,AS33)","v":{"v":9650,"d":"9,650"}},{"$f":"SUM(R33,AT33)","v":{"v":52480,"d":"52,480"}},{"$f":"SUM(S33,AU33)","v":{"v":2362,"d":"2,362"}},{"$f":"SUM(T33,AV33)","v":{"v":23609,"d":"23,609"}},{"$f":"SUM(U33,AW33)","v":{"v":26509,"d":"26,509"}},{"$f":"SUM(V33,AX33)","v":0},{"$f":"SUM(W33,AY33)","v":{"v":290873,"d":"290,873"}},{"$f":"SUM(X33,AZ33)","v":{"v":142906,"d":"142,906"}},{"$f":"SUM(Y33,BA33)","v":{"v":126181,"d":"126,181"}},{"$f":"SUM(Z33,BB33)","v":{"v":21786,"d":"21,786"}},{"$f":"SUM(AA33,BC33)","v":0},{"$f":"SUM(AB33,BD33)","v":0},{"$f":"SUM(AC33,BE33)","v":0},{"$f":"SUM(AD33,BF33)","v":{"v":2431,"d":"2,431"}},{"$f":"SUM(AE33,BG33)","v":{"v":419275,"d":"419,275"}}]
["京都府","26817","船井郡衛生管理組合",{"$f":"+SUM(E34,J34)","v":0},{"$f":"+SUM(F34:I34)","v":0},0,0,0,0,0,0,{"$f":"+SUM(M34,R34,V34,W34,AC34)","v":{"v":690100,"d":"690,100"}},{"$f":"+SUM(N34:Q34)","v":{"v":181499,"d":"181,499"}},{"v":31509,"d":"31,509"},{"v":13349,"d":"13,349"},{"v":135891,"d":"135,891"},750,{"$f":"+SUM(S34:U34)","v":{"v":44714,"d":"44,714"}},{"v":39120,"d":"39,120"},{"v":5594,"d":"5,594"},0,{"v":23935,"d":"23,935"},{"$f":"+SUM(X34:AA34)","v":{"v":439952,"d":"439,952"}},{"v":4198,"d":"4,198"},{"v":433574,"d":"433,574"},{"v":2180,"d":"2,180"},0,0,0,0,{"$f":"+SUM(D34,L34,AD34)","v":{"v":690100,"d":"690,100"}},{"$f":"+SUM(AG34,AL34)","v":0},{"$f":"+SUM(AH34:AK34)","v":0},0,0,0,0,0,0,{"$f":"+SUM(AO34,AT34,AX34,AY34,BE34)","v":{"v":765887,"d":"765,887"}},{"$f":"+SUM(AP34:AS34)","v":{"v":84539,"d":"84,539"}},{"v":37090,"d":"37,090"},{"v":3655,"d":"3,655"},{"v":43724,"d":"43,724"},70,{"$f":"+SUM(AU34:AW34)","v":{"v":67057,"d":"67,057"}},{"v":1622,"d":"1,622"},{"v":65435,"d":"65,435"},0,0,{"$f":"+SUM(AZ34:BC34)","v":{"v":614291,"d":"614,291"}},{"v":76370,"d":"76,370"},{"v":130235,"d":"130,235"},{"v":1579,"d":"1,579"},{"v":406107,"d":"406,107"},0,0,0,{"$f":"+SUM(BF34,AN34,AF34)","v":{"v":765887,"d":"765,887"}},{"$f":"SUM(D34,AF34)","v":0},{"$f":"SUM(E34,AG34)","v":0},{"$f":"SUM(F34,AH34)","v":0},{"$f":"SUM(G34,AI34)","v":0},{"$f":"SUM(H34,AJ34)","v":0},{"$f":"SUM(I34,AK34)","v":0},{"$f":"SUM(J34,AL34)","v":0},{"$f":"SUM(K34,AM34)","v":0},{"$f":"SUM(L34,AN34)","v":{"v":1455987,"d":"1,455,987"}},{"$f":"SUM(M34,AO34)","v":{"v":266038,"d":"266,038"}},{"$f":"SUM(N34,AP34)","v":{"v":68599,"d":"68,599"}},{"$f":"SUM(O34,AQ34)","v":{"v":17004,"d":"17,004"}},{"$f":"SUM(P34,AR34)","v":{"v":179615,"d":"179,615"}},{"$f":"SUM(Q34,AS34)","v":820},{"$f":"SUM(R34,AT34)","v":{"v":111771,"d":"111,771"}},{"$f":"SUM(S34,AU34)","v":{"v":40742,"d":"40,742"}},{"$f":"SUM(T34,AV34)","v":{"v":71029,"d":"71,029"}},{"$f":"SUM(U34,AW34)","v":0},{"$f":"SUM(V34,AX34)","v":{"v":23935,"d":"23,935"}},{"$f":"SUM(W34,AY34)","v":{"v":1054243,"d":"1,054,243"}},{"$f":"SUM(X34,AZ34)","v":{"v":80568,"d":"80,568"}},{"$f":"SUM(Y34,BA34)","v":{"v":563809,"d":"563,809"}},{"$f":"SUM(Z34,BB34)","v":{"v":3759,"d":"3,759"}},{"$f":"SUM(AA34,BC34)","v":{"v":406107,"d":"406,107"}},{"$f":"SUM(AB34,BD34)","v":0},{"$f":"SUM(AC34,BE34)","v":0},{"$f":"SUM(AD34,BF34)","v":0},{"$f":"SUM(AE34,BG34)","v":{"v":1455987,"d":"1,455,987"}}]
["京都府","26820","城南衛生管理組合",{"$f":"+SUM(E35,J35)","v":{"v":5792360,"d":"5,792,360"}},{"$f":"+SUM(F35:I35)","v":{"v":5792360,"d":"5,792,360"}},0,{"v":5779870,"d":"5,779,870"},{"v":12490,"d":"12,490"},0,0,0,{"$f":"+SUM(M35,R35,V35,W35,AC35)","v":{"v":1980874,"d":"1,980,874"}},{"$f":"+SUM(N35:Q35)","v":{"v":644162,"d":"644,162"}},{"v":152251,"d":"152,251"},0,{"v":449653,"d":"449,653"},{"v":42258,"d":"42,258"},{"$f":"+SUM(S35:U35)","v":{"v":675176,"d":"675,176"}},{"v":7233,"d":"7,233"},{"v":615452,"d":"615,452"},{"v":52491,"d":"52,491"},0,{"$f":"+SUM(X35:AA35)","v":{"v":661536,"d":"661,536"}},{"v":93106,"d":"93,106"},{"v":445934,"d":"445,934"},{"v":122496,"d":"122,496"},0,0,0,{"v":110705,"d":"110,705"},{"$f":"+SUM(D35,L35,AD35)","v":{"v":7883939,"d":"7,883,939"}},{"$f":"+SUM(AG35,AL35)","v":{"v":97234,"d":"97,234"}},{"$f":"+SUM(AH35:AK35)","v":{"v":97234,"d":"97,234"}},0,{"v":97234,"d":"97,234"},0,0,0,0,{"$f":"+SUM(AO35,AT35,AX35,AY35,BE35)","v":{"v":613477,"d":"613,477"}},{"$f":"+SUM(AP35:AS35)","v":{"v":247592,"d":"247,592"}},{"v":176404,"d":"176,404"},{"v":44077,"d":"44,077"},{"v":27111,"d":"27,111"},0,{"$f":"+SUM(AU35:AW35)","v":{"v":92392,"d":"92,392"}},{"v":1502,"d":"1,502"},{"v":90890,"d":"90,890"},0,0,{"$f":"+SUM(AZ35:BC35)","v":{"v":273493,"d":"273,493"}},{"v":244535,"d":"244,535"},{"v":28512,"d":"28,512"},446,0,0,0,{"v":122383,"d":"122,383"},{"$f":"+SUM(BF35,AN35,AF35)","v":{"v":833094,"d":"833,094"}},{"$f":"SUM(D35,AF35)","v":{"v":5889594,"d":"5,889,594"}},{"$f":"SUM(E35,AG35)","v":{"v":5889594,"d":"5,889,594"}},{"$f":"SUM(F35,AH35)","v":0},{"$f":"SUM(G35,AI35)","v":{"v":5877104,"d":"5,877,104"}},{"$f":"SUM(H35,AJ35)","v":{"v":12490,"d":"12,490"}},{"$f":"SUM(I35,AK35)","v":0},{"$f":"SUM(J35,AL35)","v":0},{"$f":"SUM(K35,AM35)","v":0},{"$f":"SUM(L35,AN35)","v":{"v":2594351,"d":"2,594,351"}},{"$f":"SUM(M35,AO35)","v":{"v":891754,"d":"891,754"}},{"$f":"SUM(N35,AP35)","v":{"v":328655,"d":"328,655"}},{"$f":"SUM(O35,AQ35)","v":{"v":44077,"d":"44,077"}},{"$f":"SUM(P35,AR35)","v":{"v":476764,"d":"476,764"}},{"$f":"SUM(Q35,AS35)","v":{"v":42258,"d":"42,258"}},{"$f":"SUM(R35,AT35)","v":{"v":767568,"d":"767,568"}},{"$f":"SUM(S35,AU35)","v":{"v":8735,"d":"8,735"}},{"$f":"SUM(T35,AV35)","v":{"v":706342,"d":"706,342"}},{"$f":"SUM(U35,AW35)","v":{"v":52491,"d":"52,491"}},{"$f":"SUM(V35,AX35)","v":0},{"$f":"SUM(W35,AY35)","v":{"v":935029,"d":"935,029"}},{"$f":"SUM(X35,AZ35)","v":{"v":337641,"d":"337,641"}},{"$f":"SUM(Y35,BA35)","v":{"v":474446,"d":"474,446"}},{"$f":"SUM(Z35,BB35)","v":{"v":122942,"d":"122,942"}},{"$f":"SUM(AA35,BC35)","v":0},{"$f":"SUM(AB35,BD35)","v":0},{"$f":"SUM(AC35,BE35)","v":0},{"$f":"SUM(AD35,BF35)","v":{"v":233088,"d":"233,088"}},{"$f":"SUM(AE35,BG35)","v":{"v":8717033,"d":"8,717,033"}}]
["京都府","26821","相楽郡西部塵埃処理組合",{"$f":"+SUM(E36,J36)","v":0},{"$f":"+SUM(F36:I36)","v":0},0,0,0,0,0,0,{"$f":"+SUM(M36,R36,V36,W36,AC36)","v":{"v":291398,"d":"291,398"}},{"$f":"+SUM(N36:Q36)","v":{"v":125869,"d":"125,869"}},{"v":20007,"d":"20,007"},0,{"v":105862,"d":"105,862"},0,{"$f":"+SUM(S36:U36)","v":{"v":122391,"d":"122,391"}},0,{"v":122391,"d":"122,391"},0,0,{"$f":"+SUM(X36:AA36)","v":{"v":40656,"d":"40,656"}},0,{"v":20049,"d":"20,049"},{"v":20574,"d":"20,574"},33,0,{"v":2482,"d":"2,482"},{"v":56510,"d":"56,510"},{"$f":"+SUM(D36,L36,AD36)","v":{"v":347908,"d":"347,908"}},{"$f":"+SUM(AG36,AL36)","v":0},{"$f":"+SUM(AH36:AK36)","v":0},0,0,0,0,0,0,{"$f":"+SUM(AO36,AT36,AX36,AY36,BE36)","v":0},{"$f":"+SUM(AP36:AS36)","v":0},0,0,0,0,{"$f":"+SUM(AU36:AW36)","v":0},0,0,0,0,{"$f":"+SUM(AZ36:BC36)","v":0},0,0,0,0,0,0,0,{"$f":"+SUM(BF36,AN36,AF36)","v":0},{"$f":"SUM(D36,AF36)","v":0},{"$f":"SUM(E36,AG36)","v":0},{"$f":"SUM(F36,AH36)","v":0},{"$f":"SUM(G36,AI36)","v":0},{"$f":"SUM(H36,AJ36)","v":0},{"$f":"SUM(I36,AK36)","v":0},{"$f":"SUM(J36,AL36)","v":0},{"$f":"SUM(K36,AM36)","v":0},{"$f":"SUM(L36,AN36)","v":{"v":291398,"d":"291,398"}},{"$f":"SUM(M36,AO36)","v":{"v":125869,"d":"125,869"}},{"$f":"SUM(N36,AP36)","v":{"v":20007,"d":"20,007"}},{"$f":"SUM(O36,AQ36)","v":0},{"$f":"SUM(P36,AR36)","v":{"v":105862,"d":"105,862"}},{"$f":"SUM(Q36,AS36)","v":0},{"$f":"SUM(R36,AT36)","v":{"v":122391,"d":"122,391"}},{"$f":"SUM(S36,AU36)","v":0},{"$f":"SUM(T36,AV36)","v":{"v":122391,"d":"122,391"}},{"$f":"SUM(U36,AW36)","v":0},{"$f":"SUM(V36,AX36)","v":0},{"$f":"SUM(W36,AY36)","v":{"v":40656,"d":"40,656"}},{"$f":"SUM(X36,AZ36)","v":0},{"$f":"SUM(Y36,BA36)","v":{"v":20049,"d":"20,049"}},{"$f":"SUM(Z36,BB36)","v":{"v":20574,"d":"20,574"}},{"$f":"SUM(AA36,BC36)","v":33},{"$f":"SUM(AB36,BD36)","v":0},{"$f":"SUM(AC36,BE36)","v":{"v":2482,"d":"2,482"}},{"$f":"SUM(AD36,BF36)","v":{"v":56510,"d":"56,510"}},{"$f":"SUM(AE36,BG36)","v":{"v":347908,"d":"347,908"}}]
["京都府","26828","乙訓環境衛生組合",{"$f":"+SUM(E37,J37)","v":{"v":1864999,"d":"1,864,999"}},{"$f":"+SUM(F37:I37)","v":{"v":1864999,"d":"1,864,999"}},0,{"v":1795764,"d":"1,795,764"},{"v":69235,"d":"69,235"},0,0,0,{"$f":"+SUM(M37,R37,V37,W37,AC37)","v":{"v":868778,"d":"868,778"}},{"$f":"+SUM(N37:Q37)","v":{"v":284095,"d":"284,095"}},{"v":284095,"d":"284,095"},0,0,0,{"$f":"+SUM(S37:U37)","v":{"v":235812,"d":"235,812"}},0,{"v":219105,"d":"219,105"},{"v":16707,"d":"16,707"},0,{"$f":"+SUM(X37:AA37)","v":{"v":348871,"d":"348,871"}},0,{"v":348871,"d":"348,871"},0,0,0,0,0,{"$f":"+SUM(D37,L37,AD37)","v":{"v":2733777,"d":"2,733,777"}},{"$f":"+SUM(AG37,AL37)","v":0},{"$f":"+SUM(AH37:AK37)","v":0},0,0,0,0,0,0,{"$f":"+SUM(AO37,AT37,AX37,AY37,BE37)","v":0},{"$f":"+SUM(AP37:AS37)","v":0},0,0,0,0,{"$f":"+SUM(AU37:AW37)","v":0},0,0,0,0,{"$f":"+SUM(AZ37:BC37)","v":0},0,0,0,0,0,0,0,{"$f":"+SUM(BF37,AN37,AF37)","v":0},{"$f":"SUM(D37,AF37)","v":{"v":1864999,"d":"1,864,999"}},{"$f":"SUM(E37,AG37)","v":{"v":1864999,"d":"1,864,999"}},{"$f":"SUM(F37,AH37)","v":0},{"$f":"SUM(G37,AI37)","v":{"v":1795764,"d":"1,795,764"}},{"$f":"SUM(H37,AJ37)","v":{"v":69235,"d":"69,235"}},{"$f":"SUM(I37,AK37)","v":0},{"$f":"SUM(J37,AL37)","v":0},{"$f":"SUM(K37,AM37)","v":0},{"$f":"SUM(L37,AN37)","v":{"v":868778,"d":"868,778"}},{"$f":"SUM(M37,AO37)","v":{"v":284095,"d":"284,095"}},{"$f":"SUM(N37,AP37)","v":{"v":284095,"d":"284,095"}},{"$f":"SUM(O37,AQ37)","v":0},{"$f":"SUM(P37,AR37)","v":0},{"$f":"SUM(Q37,AS37)","v":0},{"$f":"SUM(R37,AT37)","v":{"v":235812,"d":"235,812"}},{"$f":"SUM(S37,AU37)","v":0},{"$f":"SUM(T37,AV37)","v":{"v":219105,"d":"219,105"}},{"$f":"SUM(U37,AW37)","v":{"v":16707,"d":"16,707"}},{"$f":"SUM(V37,AX37)","v":0},{"$f":"SUM(W37,AY37)","v":{"v":348871,"d":"348,871"}},{"$f":"SUM(X37,AZ37)","v":0},{"$f":"SUM(Y37,BA37)","v":{"v":348871,"d":"348,871"}},{"$f":"SUM(Z37,BB37)","v":0},{"$f":"SUM(AA37,BC37)","v":0},{"$f":"SUM(AB37,BD37)","v":0},{"$f":"SUM(AC37,BE37)","v":0},{"$f":"SUM(AD37,BF37)","v":0},{"$f":"SUM(AE37,BG37)","v":{"v":2733777,"d":"2,733,777"}}]
["京都府","26843","相楽東部広域連合",{"$f":"+SUM(E38,J38)","v":{"v":38006,"d":"38,006"}},{"$f":"+SUM(F38:I38)","v":{"v":38006,"d":"38,006"}},0,{"v":38006,"d":"38,006"},0,0,0,0,{"$f":"+SUM(M38,R38,V38,W38,AC38)","v":{"v":181042,"d":"181,042"}},{"$f":"+SUM(N38:Q38)","v":{"v":5932,"d":"5,932"}},{"v":5932,"d":"5,932"},0,0,0,{"$f":"+SUM(S38:U38)","v":0},0,0,0,0,{"$f":"+SUM(X38:AA38)","v":{"v":169819,"d":"169,819"}},{"v":68487,"d":"68,487"},{"v":10523,"d":"10,523"},{"v":32758,"d":"32,758"},{"v":58051,"d":"58,051"},0,{"v":5291,"d":"5,291"},{"v":55132,"d":"55,132"},{"$f":"+SUM(D38,L38,AD38)","v":{"v":274180,"d":"274,180"}},{"$f":"+SUM(AG38,AL38)","v":0},{"$f":"+SUM(AH38:AK38)","v":0},0,0,0,0,0,0,{"$f":"+SUM(AO38,AT38,AX38,AY38,BE38)","v":0},{"$f":"+SUM(AP38:AS38)","v":0},0,0,0,0,{"$f":"+SUM(AU38:AW38)","v":0},0,0,0,0,{"$f":"+SUM(AZ38:BC38)","v":0},0,0,0,0,0,0,0,{"$f":"+SUM(BF38,AN38,AF38)","v":0},{"$f":"SUM(D38,AF38)","v":{"v":38006,"d":"38,006"}},{"$f":"SUM(E38,AG38)","v":{"v":38006,"d":"38,006"}},{"$f":"SUM(F38,AH38)","v":0},{"$f":"SUM(G38,AI38)","v":{"v":38006,"d":"38,006"}},{"$f":"SUM(H38,AJ38)","v":0},{"$f":"SUM(I38,AK38)","v":0},{"$f":"SUM(J38,AL38)","v":0},{"$f":"SUM(K38,AM38)","v":0},{"$f":"SUM(L38,AN38)","v":{"v":181042,"d":"181,042"}},{"$f":"SUM(M38,AO38)","v":{"v":5932,"d":"5,932"}},{"$f":"SUM(N38,AP38)","v":{"v":5932,"d":"5,932"}},{"$f":"SUM(O38,AQ38)","v":0},{"$f":"SUM(P38,AR38)","v":0},{"$f":"SUM(Q38,AS38)","v":0},{"$f":"SUM(R38,AT38)","v":0},{"$f":"SUM(S38,AU38)","v":0},{"$f":"SUM(T38,AV38)","v":0},{"$f":"SUM(U38,AW38)","v":0},{"$f":"SUM(V38,AX38)","v":0},{"$f":"SUM(W38,AY38)","v":{"v":169819,"d":"169,819"}},{"$f":"SUM(X38,AZ38)","v":{"v":68487,"d":"68,487"}},{"$f":"SUM(Y38,BA38)","v":{"v":10523,"d":"10,523"}},{"$f":"SUM(Z38,BB38)","v":{"v":32758,"d":"32,758"}},{"$f":"SUM(AA38,BC38)","v":{"v":58051,"d":"58,051"}},{"$f":"SUM(AB38,BD38)","v":0},{"$f":"SUM(AC38,BE38)","v":{"v":5291,"d":"5,291"}},{"$f":"SUM(AD38,BF38)","v":{"v":55132,"d":"55,132"}},{"$f":"SUM(AE38,BG38)","v":{"v":274180,"d":"274,180"}}]
["京都府","26849","相楽郡広域事務組合",{"$f":"+SUM(E39,J39)","v":0},{"$f":"+SUM(F39:I39)","v":0},0,0,0,0,0,0,{"$f":"+SUM(M39,R39,V39,W39,AC39)","v":0},{"$f":"+SUM(N39:Q39)","v":0},0,0,0,0,{"$f":"+SUM(S39:U39)","v":0},0,0,0,0,{"$f":"+SUM(X39:AA39)","v":0},0,0,0,0,0,0,0,{"$f":"+SUM(D39,L39,AD39)","v":0},{"$f":"+SUM(AG39,AL39)","v":0},{"$f":"+SUM(AH39:AK39)","v":0},0,0,0,0,0,0,{"$f":"+SUM(AO39,AT39,AX39,AY39,BE39)","v":{"v":315523,"d":"315,523"}},{"$f":"+SUM(AP39:AS39)","v":0},0,0,0,0,{"$f":"+SUM(AU39:AW39)","v":0},0,0,0,0,{"$f":"+SUM(AZ39:BC39)","v":{"v":315523,"d":"315,523"}},{"v":74484,"d":"74,484"},{"v":205587,"d":"205,587"},0,{"v":35452,"d":"35,452"},0,0,0,{"$f":"+SUM(BF39,AN39,AF39)","v":{"v":315523,"d":"315,523"}},{"$f":"SUM(D39,AF39)","v":0},{"$f":"SUM(E39,AG39)","v":0},{"$f":"SUM(F39,AH39)","v":0},{"$f":"SUM(G39,AI39)","v":0},{"$f":"SUM(H39,AJ39)","v":0},{"$f":"SUM(I39,AK39)","v":0},{"$f":"SUM(J39,AL39)","v":0},{"$f":"SUM(K39,AM39)","v":0},{"$f":"SUM(L39,AN39)","v":{"v":315523,"d":"315,523"}},{"$f":"SUM(M39,AO39)","v":0},{"$f":"SUM(N39,AP39)","v":0},{"$f":"SUM(O39,AQ39)","v":0},{"$f":"SUM(P39,AR39)","v":0},{"$f":"SUM(Q39,AS39)","v":0},{"$f":"SUM(R39,AT39)","v":0},{"$f":"SUM(S39,AU39)","v":0},{"$f":"SUM(T39,AV39)","v":0},{"$f":"SUM(U39,AW39)","v":0},{"$f":"SUM(V39,AX39)","v":0},{"$f":"SUM(W39,AY39)","v":{"v":315523,"d":"315,523"}},{"$f":"SUM(X39,AZ39)","v":{"v":74484,"d":"74,484"}},{"$f":"SUM(Y39,BA39)","v":{"v":205587,"d":"205,587"}},{"$f":"SUM(Z39,BB39)","v":0},{"$f":"SUM(AA39,BC39)","v":{"v":35452,"d":"35,452"}},{"$f":"SUM(AB39,BD39)","v":0},{"$f":"SUM(AC39,BE39)","v":0},{"$f":"SUM(AD39,BF39)","v":0},{"$f":"SUM(AE39,BG39)","v":{"v":315523,"d":"315,523"}}]
["京都府","26861","宮津与謝環境組合",{"$f":"+SUM(E40,J40)","v":0},{"$f":"+SUM(F40:I40)","v":0},0,0,0,0,0,0,{"$f":"+SUM(M40,R40,V40,W40,AC40)","v":{"v":29311,"d":"29,311"}},{"$f":"+SUM(N40:Q40)","v":{"v":29311,"d":"29,311"}},{"v":29311,"d":"29,311"},0,0,0,{"$f":"+SUM(S40:U40)","v":0},0,0,0,0,{"$f":"+SUM(X40:AA40)","v":0},0,0,0,0,0,0,{"v":387534,"d":"387,534"},{"$f":"+SUM(D40,L40,AD40)","v":{"v":416845,"d":"416,845"}},{"$f":"+SUM(AG40,AL40)","v":0},{"$f":"+SUM(AH40:AK40)","v":0},0,0,0,0,0,0,{"$f":"+SUM(AO40,AT40,AX40,AY40,BE40)","v":0},{"$f":"+SUM(AP40:AS40)","v":0},0,0,0,0,{"$f":"+SUM(AU40:AW40)","v":0},0,0,0,0,{"$f":"+SUM(AZ40:BC40)","v":0},0,0,0,0,0,0,0,{"$f":"+SUM(BF40,AN40,AF40)","v":0},{"$f":"SUM(D40,AF40)","v":0},{"$f":"SUM(E40,AG40)","v":0},{"$f":"SUM(F40,AH40)","v":0},{"$f":"SUM(G40,AI40)","v":0},{"$f":"SUM(H40,AJ40)","v":0},{"$f":"SUM(I40,AK40)","v":0},{"$f":"SUM(J40,AL40)","v":0},{"$f":"SUM(K40,AM40)","v":0},{"$f":"SUM(L40,AN40)","v":{"v":29311,"d":"29,311"}},{"$f":"SUM(M40,AO40)","v":{"v":29311,"d":"29,311"}},{"$f":"SUM(N40,AP40)","v":{"v":29311,"d":"29,311"}},{"$f":"SUM(O40,AQ40)","v":0},{"$f":"SUM(P40,AR40)","v":0},{"$f":"SUM(Q40,AS40)","v":0},{"$f":"SUM(R40,AT40)","v":0},{"$f":"SUM(S40,AU40)","v":0},{"$f":"SUM(T40,AV40)","v":0},{"$f":"SUM(U40,AW40)","v":0},{"$f":"SUM(V40,AX40)","v":0},{"$f":"SUM(W40,AY40)","v":0},{"$f":"SUM(X40,AZ40)","v":0},{"$f":"SUM(Y40,BA40)","v":0},{"$f":"SUM(Z40,BB40)","v":0},{"$f":"SUM(AA40,BC40)","v":0},{"$f":"SUM(AB40,BD40)","v":0},{"$f":"SUM(AC40,BE40)","v":0},{"$f":"SUM(AD40,BF40)","v":{"v":387534,"d":"387,534"}},{"$f":"SUM(AE40,BG40)","v":{"v":416845,"d":"416,845"}}]

{"sheet":"組合分担金内訳","index":4,"n_rows":33,"n_cols":57,"rows_kept":33,"merged":[[1,0,5,0],[1,1,5,1],[1,2,5,2],[3,9,5,9],[3,10,5,10],[3,17,5,17],[3,18,5,18],[3,25,5,25],[3,26,5,26],[3,33,5,33],[3,34,5,34],[3,41,5,41],[3,42,5,42],[3,49,5,49],[3,50,5,50]]}
["廃棄物処理事業経費【分担金の合計】（平成28年度実績）"]
["都道府県名","地方公共団体コード","市区町村名","合計（広域団体１+広域団体２+広域団体３+広域団体４+広域団体５+広域団体６）",{"$nulls":5},"広域団体１",{"$nulls":7},"広域団体２",{"$nulls":7},"広域団体３",{"$nulls":7},"広域団体４",{"$nulls":7},"広域団体５",{"$nulls":7},"広域団体６"]
[]
[{"$nulls":3},"ごみ",null,null,"し尿",null,null,"広域団体コード","一部事務組合・広域連合名","ごみ",null,null,"し尿",null,null,"広域団体コード","一部事務組合・広域連合名","ごみ",null,null,"し尿",null,null,"広域団体コード","一部事務組合・広域連合名","ごみ",null,null,"し尿",null,null,"広域団体コード","一部事務組合・広域連合名","ごみ",null,null,"し尿",null,null,"広域団体コード","一部事務組合・広域連合名","ごみ",null,null,"し尿",null,null,"広域団体コード","一部事務組合・広域連合名","ごみ",null,null,"し尿"]
[{"$nulls":3},"建設・改良費","処理及び\n維持管理費","合計","建設・改良費","処理及び\n維持管理費","合計",null,null,"建設・改良費","処理及び\n維持管理費","小計","建設・改良費","処理及び\n維持管理費","小計",null,null,"建設・改良費","処理及び\n維持管理費","小計","建設・改良費","処理及び\n維持管理費","小計",null,null,"建設・改良費","処理及び\n維持管理費","小計","建設・改良費","処理及び\n維持管理費","小計",null,null,"建設・改良費","処理及び\n維持管理費","小計","建設・改良費","処理及び\n維持管理費","小計",null,null,"建設・改良費","処理及び\n維持管理費","小計","建設・改良費","処理及び\n維持管理費","小計",null,null,"建設・改良費","処理及び\n維持管理費","小計","建設・改良費","処理及び\n維持管理費","小計"]
[{"$nulls":3},"（千円）","（千円）","（千円）","（千円）","（千円）","（千円）",null,null,"（千円）","（千円）","（千円）","（千円）","（千円）","（千円）",null,null,"（千円）","（千円）","（千円）","（千円）","（千円）","（千円）",null,null,"（千円）","（千円）","（千円）","（千円）","（千円）","（千円）",null,null,"（千円）","（千円）","（千円）","（千円）","（千円）","（千円）",null,null,"（千円）","（千円）","（千円）","（千円）","（千円）","（千円）",null,null,"（千円）","（千円）","（千円）","（千円）","（千円）","（千円）"]
[{"$f":"'廃棄物事業経費（市町村）'!A7","v":"京都府"},{"$f":"'廃棄物事業経費（市町村）'!B7","v":"26000"},"合計",{"$f":"SUM(L7,T7,AB7,AJ7,AR7,AZ7)","v":{"v":1666081,"d":"1,666,081"}},{"$f":"SUM(M7,U7,AC7,AK7,AS7,BA7)","v":{"v":2994671,"d":"2,994,671"}},{"$f":"SUM(D7:E7)","v":{"v":4660752,"d":"4,660,752"}},{"$f":"SUM(O7,W7,AE7,AM7,AU7,BC7)","v":{"v":97234,"d":"97,234"}},{"$f":"SUM(P7,X7,AF7,AN7,AV7,BD7)","v":{"v":1398047,"d":"1,398,047"}},{"$f":"SUM(G7:H7)","v":{"v":1495281,"d":"1,495,281"}},{"$f":"COUNTIF(J$8:J$1000,\"<>\")","v":19},{"$f":"COUNTIF(K$8:K$1000,\"<>\")","v":19},{"$f":"SUM(L$8:L$1000)","v":{"v":1666081,"d":"1,666,081"}},{"$f":"SUM(M$8:M$1000)","v":{"v":2994671,"d":"2,994,671"}},{"$f":"IF(AND(L7<>\"\",M7<>\"\"),SUM(L7:M7),\"\")","v":{"v":4660752,"d":"4,660,752"}},{"$f":"SUM(O$8:O$1000)","v":{"v":97234,"d":"97,234"}},{"$f":"SUM(P$8:P$1000)","v":{"v":1099576,"d":"1,099,576"}},{"$f":"IF(AND(O7<>\"\",P7<>\"\"),SUM(O7:P7),\"\")","v":{"v":1196810,"d":"1,196,810"}},{"$f":"COUNTIF(R$8:R$1000,\"<>\")","v":5},{"$f":"COUNTIF(S$8:S$1000,\"<>\")","v":5},{"$f":"SUM(T$8:T$1000)","v":0},{"$f":"SUM(U$8:U$1000)","v":0},{"$f":"IF(AND(T7<>\"\",U7<>\"\"),SUM(T7:U7),\"\")","v":0},{"$f":"SUM(W$8:W$1000)","v":0},{"$f":"SUM(X$8:X$1000)","v":{"v":298471,"d":"298,471"}},{"$f":"IF(AND(W7<>\"\",X7<>\"\"),SUM(W7:X7),\"\")","v":{"v":298471,"d":"298,471"}},{"$f":"COUNTIF(Z$8:Z$1000,\"<>\")","v":0},{"$f":"COUNTIF(AA$8:AA$1000,\"<>\")","v":0},{"$f":"SUM(AB$8:AB$1000)","v":0},{"$f":"SUM(AC$8:AC$1000)","v":0},{"$f":"IF(AND(AB7<>\"\",AC7<>\"\"),SUM(AB7:AC7),\"\")","v":0},{"$f":"SUM(AE$8:AE$1000)","v":0},{"$f":"SUM(AF$8:AF$1000)","v":0},{"$f":"IF(AND(AE7<>\"\",AF7<>\"\"),SUM(AE7:AF7),\"\")","v":0},{"$f":"COUNTIF(AH$8:AH$1000,\"<>\")","v":0},{"$f":"COUNTIF(AI$8:AI$1000,\"<>\")","v":0},{"$f":"SUM(AJ$8:AJ$1000)","v":0},{"$f":"SUM(AK$8:AK$1000)","v":0},{"$f":"IF(AND(AJ7<>\"\",AK7<>\"\"),SUM(AJ7:AK7),\"\")","v":0},{"$f":"SUM(AM$8:AM$1000)","v":0},{"$f":"SUM(AN$8:AN$1000)","v":0},{"$f":"IF(AND(AM7<>\"\",AN7<>\"\"),SUM(AM7:AN7),\"\")","v":0},{"$f":"COUNTIF(AP$8:AP$1000,\"<>\")","v":0},{"$f":"COUNTIF(AQ$8:AQ$1000,\"<>\")","v":0},{"$f":"SUM(AR$8:AR$1000)","v":0},{"$f":"SUM(AS$8:AS$1000)","v":0},{"$f":"IF(AND(AR7<>\"\",AS7<>\"\"),SUM(AR7:AS7),\"\")","v":0},{"$f":"SUM(AU$8:AU$1000)","v":0},{"$f":"SUM(AV$8:AV$1000)","v":0},{"$f":"IF(AND(AU7<>\"\",AV7<>\"\"),SUM(AU7:AV7),\"\")","v":0},{"$f":"COUNTIF(AX$8:AX$1000,\"<>\")","v":0},{"$f":"COUNTIF(AY$8:AY$1000,\"<>\")","v":0},{"$f":"SUM(AZ$8:AZ$1000)","v":0},{"$f":"SUM(BA$8:BA$1000)","v":0},{"$f":"IF(AND(AZ7<>\"\",BA7<>\"\"),SUM(AZ7:BA7),\"\")","v":0},{"$f":"SUM(BC$8:BC$1000)","v":0},{"$f":"SUM(BD$8:BD$1000)","v":0},{"$f":"IF(AND(BC7<>\"\",BD7<>\"\"),SUM(BC7:BD7),\"\")","v":0}]
["京都府","26100","京都市",{"$f":"SUM(L8,T8,AB8,AJ8,AR8,AZ8)","v":0},{"$f":"SUM(M8,U8,AC8,AK8,AS8,BA8)","v":0},{"$f":"SUM(D8:E8)","v":0},{"$f":"SUM(O8,W8,AE8,AM8,AU8,BC8)","v":0},{"$f":"SUM(P8,X8,AF8,AN8,AV8,BD8)","v":0},{"$f":"SUM(G8:H8)","v":0},{"$nulls":4},{"$f":"IF(AND(L8<>\"\",M8<>\"\"),SUM(L8:M8),\"\")","v":""},null,null,{"$f":"IF(AND(O8<>\"\",P8<>\"\"),SUM(O8:P8),\"\")","v":""},{"$nulls":4},{"$f":"IF(AND(T8<>\"\",U8<>\"\"),SUM(T8:U8),\"\")","v":""},null,null,{"$f":"IF(AND(W8<>\"\",X8<>\"\"),SUM(W8:X8),\"\")","v":""},{"$nulls":4},{"$f":"IF(AND(AB8<>\"\",AC8<>\"\"),SUM(AB8:AC8),\"\")","v":""},null,null,{"$f":"IF(AND(AE8<>\"\",AF8<>\"\"),SUM(AE8:AF8),\"\")","v":""},{"$nulls":4},{"$f":"IF(AND(AJ8<>\"\",AK8<>\"\"),SUM(AJ8:AK8),\"\")","v":""},null,null,{"$f":"IF(AND(AM8<>\"\",AN8<>\"\"),SUM(AM8:AN8),\"\")","v":""},{"$nulls":4},{"$f":"IF(AND(AR8<>\"\",AS8<>\"\"),SUM(AR8:AS8),\"\")","v":""},null,null,{"$f":"IF(AND(AU8<>\"\",AV8<>\"\"),SUM(AU8:AV8),\"\")","v":""},{"$nulls":4},{"$f":"IF(AND(AZ8<>\"\",BA8<>\"\"),SUM(AZ8:BA8),\"\")","v":""},null,null,{"$f":"IF(AND(BC8<>\"\",BD8<>\"\"),SUM(BC8:BD8),\"\")","v":""}]
["京都府","26201","福知山市",{"$f":"SUM(L9,T9,AB9,AJ9,AR9,AZ9)","v":0},{"$f":"SUM(M9,U9,AC9,AK9,AS9,BA9)","v":0},{"$f":"SUM(D9:E9)","v":0},{"$f":"SUM(O9,W9,AE9,AM9,AU9,BC9)","v":0},{"$f":"SUM(P9,X9,AF9,AN9,AV9,BD9)","v":0},{"$f":"SUM(G9:H9)","v":0},{"$nulls":4},{"$f":"IF(AND(L9<>\"\",M9<>\"\"),SUM(L9:M9),\"\")","v":""},null,null,{"$f":"IF(AND(O9<>\"\",P9<>\"\"),SUM(O9:P9),\"\")","v":""},{"$nulls":4},{"$f":"IF(AND(T9<>\"\",U9<>\"\"),SUM(T9:U9),\"\")","v":""},null,null,{"$f":"IF(AND(W9<>\"\",X9<>\"\"),SUM(W9:X9),\"\")","v":""},{"$nulls":4},{"$f":"IF(AND(AB9<>\"\",AC9<>\"\"),SUM(AB9:AC9),\"\")","v":""},null,null,{"$f":"IF(AND(AE9<>\"\",AF9<>\"\"),SUM(AE9:AF9),\"\")","v":""},{"$nulls":4},{"$f":"IF(AND(AJ9<>\"\",AK9<>\"\"),SUM(AJ9:AK9),\"\")","v":""},null,null,{"$f":"IF(AND(AM9<>\"\",AN9<>\"\"),SUM(AM9:AN9),\"\")","v":""},{"$nulls":4},{"$f":"IF(AND(AR9<>\"\",AS9<>\"\"),SUM(AR9:AS9),\"\")","v":""},null,null,{"$f":"IF(AND(AU9<>\"\",AV9<>\"\"),SUM(AU9:AV9),\"\")","v":""},{"$nulls":4},{"$f":"IF(AND(AZ9<>\"\",BA9<>\"\"),SUM(AZ9:BA9),\"\")","v":""},null,null,{"$f":"IF(AND(BC9<>\"\",BD9<>\"\"),SUM(BC9:BD9),\"\")","v":""}]
["京都府","26202","舞鶴市",{"$f":"SUM(L10,T10,AB10,AJ10,AR10,AZ10)","v":0},{"$f":"SUM(M10,U10,AC10,AK10,AS10,BA10)","v":0},{"$f":"SUM(D10:E10)","v":0},{"$f":"SUM(O10,W10,AE10,AM10,AU10,BC10)","v":0},{"$f":"SUM(P10,X10,AF10,AN10,AV10,BD10)","v":0},{"$f":"SUM(G10:H10)","v":0},{"$nulls":4},{"$f":"IF(AND(L10<>\"\",M10<>\"\"),SUM(L10:M10),\"\")","v":""},null,null,{"$f":"IF(AND(O10<>\"\",P10<>\"\"),SUM(O10:P10),\"\")","v":""},{"$nulls":4},{"$f":"IF(AND(T10<>\"\",U10<>\"\"),SUM(T10:U10),\"\")","v":""},null,null,{"$f":"IF(AND(W10<>\"\",X10<>\"\"),SUM(W10:X10),\"\")","v":""},{"$nulls":4},{"$f":"IF(AND(AB10<>\"\",AC10<>\"\"),SUM(AB10:AC10),\"\")","v":""},null,null,{"$f":"IF(AND(AE10<>\"\",AF10<>\"\"),SUM(AE10:AF10),\"\")","v":""},{"$nulls":4},{"$f":"IF(AND(AJ10<>\"\",AK10<>\"\"),SUM(AJ10:AK10),\"\")","v":""},null,null,{"$f":"IF(AND(AM10<>\"\",AN10<>\"\"),SUM(AM10:AN10),\"\")","v":""},{"$nulls":4},{"$f":"IF(AND(AR10<>\"\",AS10<>\"\"),SUM(AR10:AS10),\"\")","v":""},null,null,{"$f":"IF(AND(AU10<>\"\",AV10<>\"\"),SUM(AU10:AV10),\"\")","v":""},{"$nulls":4},{"$f":"IF(AND(AZ10<>\"\",BA10<>\"\"),SUM(AZ10:BA10),\"\")","v":""},null,null,{"$f":"IF(AND(BC10<>\"\",BD10<>\"\"),SUM(BC10:BD10),\"\")","v":""}]
["京都府","26203","綾部市",{"$f":"SUM(L11,T11,AB11,AJ11,AR11,AZ11)","v":0},{"$f":"SUM(M11,U11,AC11,AK11,AS11,BA11)","v":0},{"$f":"SUM(D11:E11)","v":0},{"$f":"SUM(O11,W11,AE11,AM11,AU11,BC11)","v":0},{"$f":"SUM(P11,X11,AF11,AN11,AV11,BD11)","v":0},{"$f":"SUM(G11:H11)","v":0},{"$nulls":4},{"$f":"IF(AND(L11<>\"\",M11<>\"\"),SUM(L11:M11),\"\")","v":""},null,null,{"$f":"IF(AND(O11<>\"\",P11<>\"\"),SUM(O11:P11),\"\")","v":""},{"$nulls":4},{"$f":"IF(AND(T11<>\"\",U11<>\"\"),SUM(T11:U11),\"\")","v":""},null,null,{"$f":"IF(AND(W11<>\"\",X11<>\"\"),SUM(W11:X11),\"\")","v":""},{"$nulls":4},{"$f":"IF(AND(AB11<>\"\",AC11<>\"\"),SUM(AB11:AC11),\"\")","v":""},null,null,{"$f":"IF(AND(AE11<>\"\",AF11<>\"\"),SUM(AE11:AF11),\"\")","v":""},{"$nulls":4},{"$f":"IF(AND(AJ11<>\"\",AK11<>\"\"),SUM(AJ11:AK11),\"\")","v":""},null,null,{"$f":"IF(AND(AM11<>\"\",AN11<>\"\"),SUM(AM11:AN11),\"\")","v":""},{"$nulls":4},{"$f":"IF(AND(AR11<>\"\",AS11<>\"\"),SUM(AR11:AS11),\"\")","v":""},null,null,{"$f":"IF(AND(AU11<>\"\",AV11<>\"\"),SUM(AU11:AV11),\"\")","v":""},{"$nulls":4},{"$f":"IF(AND(AZ11<>\"\",BA11<>\"\"),SUM(AZ11:BA11),\"\")","v":""},null,null,{"$f":"IF(AND(BC11<>\"\",BD11<>\"\"),SUM(BC11:BD11),\"\")","v":""}]
["京都府","26204","宇治市",{"$f":"SUM(L12,T12,AB12,AJ12,AR12,AZ12)","v":{"v":434293,"d":"434,293"}},{"$f":"SUM(M12,U12,AC12,AK12,AS12,BA12)","v":{"v":696696,"d":"696,696"}},{"$f":"SUM(D12:E12)","v":{"v":1130989,"d":"1,130,989"}},{"$f":"SUM(O12,W12,AE12,AM12,AU12,BC12)","v":{"v":48646,"d":"48,646"}},{"$f":"SUM(P12,X12,AF12,AN12,AV12,BD12)","v":{"v":287080,"d":"287,080"}},{"$f":"SUM(G12:H12)","v":{"v":335726,"d":"335,726"}},"26820","城南衛生管理組合",{"v":434293,"d":"434,293"},{"v":696696,"d":"696,696"},{"$f":"IF(AND(L12<>\"\",M12<>\"\"),SUM(L12:M12),\"\")","v":{"v":1130989,"d":"1,130,989"}},{"v":48646,"d":"48,646"},{"v":287080,"d":"287,080"},{"$f":"IF(AND(O12<>\"\",P12<>\"\"),SUM(O12:P12),\"\")","v":{"v":335726,"d":"335,726"}},{"$nulls":4},{"$f":"IF(AND(T12<>\"\",U12<>\"\"),SUM(T12:U12),\"\")","v":""},null,null,{"$f":"IF(AND(W12<>\"\",X12<>\"\"),SUM(W12:X12),\"\")","v":""},{"$nulls":4},{"$f":"IF(AND(AB12<>\"\",AC12<>\"\"),SUM(AB12:AC12),\"\")","v":""},null,null,{"$f":"IF(AND(AE12<>\"\",AF12<>\"\"),SUM(AE12:AF12),\"\")","v":""},{"$nulls":4},{"$f":"IF(AND(AJ12<>\"\",AK12<>\"\"),SUM(AJ12:AK12),\"\")","v":""},null,null,{"$f":"IF(AND(AM12<>\"\",AN12<>\"\"),SUM(AM12:AN12),\"\")","v":""},{"$nulls":4},{"$f":"IF(AND(AR12<>\"\",AS12<>\"\"),SUM(AR12:AS12),\"\")","v":""},null,null,{"$f":"IF(AND(AU12<>\"\",AV12<>\"\"),SUM(AU12:AV12),\"\")","v":""},{"$nulls":4},{"$f":"IF(AND(AZ12<>\"\",BA12<>\"\"),SUM(AZ12:BA12),\"\")","v":""},null,null,{"$f":"IF(AND(BC12<>\"\",BD12<>\"\"),SUM(BC12:BD12),\"\")","v":""}]
["京都府","26205","宮津市",{"$f":"SUM(L13,T13,AB13,AJ13,AR13,AZ13)","v":{"v":133857,"d":"133,857"}},{"$f":"SUM(M13,U13,AC13,AK13,AS13,BA13)","v":0},{"$f":"SUM(D13:E13)","v":{"v":133857,"d":"133,857"}},{"$f":"SUM(O13,W13,AE13,AM13,AU13,BC13)","v":0},{"$f":"SUM(P13,X13,AF13,AN13,AV13,BD13)","v":0},{"$f":"SUM(G13:H13)","v":0},"26861","宮津与謝環境組合",{"v":133857,"d":"133,857"},0,{"$f":"IF(AND(L13<>\"\",M13<>\"\"),SUM(L13:M13),\"\")","v":{"v":133857,"d":"133,857"}},0,0,{"$f":"IF(AND(O13<>\"\",P13<>\"\"),SUM(O13:P13),\"\")","v":0},{"$nulls":4},{"$f":"IF(AND(T13<>\"\",U13<>\"\"),SUM(T13:U13),\"\")","v":""},null,null,{"$f":"IF(AND(W13<>\"\",X13<>\"\"),SUM(W13:X13),\"\")","v":""},{"$nulls":4},{"$f":"IF(AND(AB13<>\"\",AC13<>\"\"),SUM(AB13:AC13),\"\")","v":""},null,null,{"$f":"IF(AND(AE13<>\"\",AF13<>\"\"),SUM(AE13:AF13),\"\")","v":""},{"$nulls":4},{"$f":"IF(AND(AJ13<>\"\",AK13<>\"\"),SUM(AJ13:AK13),\"\")","v":""},null,null,{"$f":"IF(AND(AM13<>\"\",AN13<>\"\"),SUM(AM13:AN13),\"\")","v":""},{"$nulls":4},{"$f":"IF(AND(AR13<>\"\",AS13<>\"\"),SUM(AR13:AS13),\"\")","v":""},null,null,{"$f":"IF(AND(AU13<>\"\",AV13<>\"\"),SUM(AU13:AV13),\"\")","v":""},{"$nulls":4},{"$f":"IF(AND(AZ13<>\"\",BA13<>\"\"),SUM(AZ13:BA13),\"\")","v":""},null,null,{"$f":"IF(AND(BC13<>\"\",BD13<>\"\"),SUM(BC13:BD13),\"\")","v":""}]
["京都府","26206","亀岡市",{"$f":"SUM(L14,T14,AB14,AJ14,AR14,AZ14)","v":0},{"$f":"SUM(M14,U14,AC14,AK14,AS14,BA14)","v":0},{"$f":"SUM(D14:E14)","v":0},{"$f":"SUM(O14,W14,AE14,AM14,AU14,BC14)","v":0},{"$f":"SUM(P14,X14,AF14,AN14,AV14,BD14)","v":0},{"$f":"SUM(G14:H14)","v":0},{"$nulls":4},{"$f":"IF(AND(L14<>\"\",M14<>\"\"),SUM(L14:M14),\"\")","v":""},null,null,{"$f":"IF(AND(O14<>\"\",P14<>\"\"),SUM(O14:P14),\"\")","v":""},{"$nulls":4},{"$f":"IF(AND(T14<>\"\",U14<>\"\"),SUM(T14:U14),\"\")","v":""},null,null,{"$f":"IF(AND(W14<>\"\",X14<>\"\"),SUM(W14:X14),\"\")","v":""},{"$nulls":4},{"$f":"IF(AND(AB14<>\"\",AC14<>\"\"),SUM(AB14:AC14),\"\")","v":""},null,null,{"$f":"IF(AND(AE14<>\"\",AF14<>\"\"),SUM(AE14:AF14),\"\")","v":""},{"$nulls":4},{"$f":"IF(AND(AJ14<>\"\",AK14<>\"\"),SUM(AJ14:AK14),\"\")","v":""},null,null,{"$f":"IF(AND(AM14<>\"\",AN14<>\"\"),SUM(AM14:AN14),\"\")","v":""},{"$nulls":4},{"$f":"IF(AND(AR14<>\"\",AS14<>\"\"),SUM(AR14:AS14),\"\")","v":""},null,null,{"$f":"IF(AND(AU14<>\"\",AV14<>\"\"),SUM(AU14:AV14),\"\")","v":""},{"$nulls":4},{"$f":"IF(AND(AZ14<>\"\",BA14<>\"\"),SUM(AZ14:BA14),\"\")","v":""},null,null,{"$f":"IF(AND(BC14<>\"\",BD14<>\"\"),SUM(BC14:BD14),\"\")","v":""}]
["京都府","26207","城陽市",{"$f":"SUM(L15,T15,AB15,AJ15,AR15,AZ15)","v":{"v":201312,"d":"201,312"}},{"$f":"SUM(M15,U15,AC15,AK15,AS15,BA15)","v":{"v":322945,"d":"322,945"}},{"$f":"SUM(D15:E15)","v":{"v":524257,"d":"524,257"}},{"$f":"SUM(O15,W15,AE15,AM15,AU15,BC15)","v":{"v":21936,"d":"21,936"}},{"$f":"SUM(P15,X15,AF15,AN15,AV15,BD15)","v":{"v":129453,"d":"129,453"}},{"$f":"SUM(G15:H15)","v":{"v":151389,"d":"151,389"}},"26820","城南衛生管理組合",{"v":201312,"d":"201,312"},{"v":322945,"d":"322,945"},{"$f":"IF(AND(L15<>\"\",M15<>\"\"),SUM(L15:M15),\"\")","v":{"v":524257,"d":"524,257"}},{"v":21936,"d":"21,936"},{"v":129453,"d":"129,453"},{"$f":"IF(AND(O15<>\"\",P15<>\"\"),SUM(O15:P15),\"\")","v":{"v":151389,"d":"151,389"}},{"$nulls":4},{"$f":"IF(AND(T15<>\"\",U15<>\"\"),SUM(T15:U15),\"\")","v":""},null,null,{"$f":"IF(AND(W15<>\"\",X15<>\"\"),SUM(W15:X15),\"\")","v":""},{"$nulls":4},{"$f":"IF(AND(AB15<>\"\",AC15<>\"\"),SUM(AB15:AC15),\"\")","v":""},null,null,{"$f":"IF(AND(AE15<>\"\",AF15<>\"\"),SUM(AE15:AF15),\"\")","v":""},{"$nulls":4},{"$f":"IF(AND(AJ15<>\"\",AK15<>\"\"),SUM(AJ15:AK15),\"\")","v":""},null,null,{"$f":"IF(AND(AM15<>\"\",AN15<>\"\"),SUM(AM15:AN15),\"\")","v":""},{"$nulls":4},{"$f":"IF(AND(AR15<>\"\",AS15<>\"\"),SUM(AR15:AS15),\"\")","v":""},null,null,{"$f":"IF(AND(AU15<>\"\",AV15<>\"\"),SUM(AU15:AV15),\"\")","v":""},{"$nulls":4},{"$f":"IF(AND(AZ15<>\"\",BA15<>\"\"),SUM(AZ15:BA15),\"\")","v":""},null,null,{"$f":"IF(AND(BC15<>\"\",BD15<>\"\"),SUM(BC15:BD15),\"\")","v":""}]
["京都府","26208","向日市",{"$f":"SUM(L16,T16,AB16,AJ16,AR16,AZ16)","v":{"v":144702,"d":"144,702"}},{"$f":"SUM(M16,U16,AC16,AK16,AS16,BA16)","v":{"v":273468,"d":"273,468"}},{"$f":"SUM(D16:E16)","v":{"v":418170,"d":"418,170"}},{"$f":"SUM(O16,W16,AE16,AM16,AU16,BC16)","v":0},{"$f":"SUM(P16,X16,AF16,AN16,AV16,BD16)","v":0},{"$f":"SUM(G16:H16)","v":0},"26828","乙訓環境衛生組合",{"v":144702,"d":"144,702"},{"v":273468,"d":"273,468"},{"$f":"IF(AND(L16<>\"\",M16<>\"\"),SUM(L16:M16),\"\")","v":{"v":418170,"d":"418,170"}},0,0,{"$f":"IF(AND(O16<>\"\",P16<>\"\"),SUM(O16:P16),\"\")","v":0},{"$nulls":4},{"$f":"IF(AND(T16<>\"\",U16<>\"\"),SUM(T16:U16),\"\")","v":""},null,null,{"$f":"IF(AND(W16<>\"\",X16<>\"\"),SUM(W16:X16),\"\")","v":""},{"$nulls":4},{"$f":"IF(AND(AB16<>\"\",AC16<>\"\"),SUM(AB16:AC16),\"\")","v":""},null,null,{"$f":"IF(AND(AE16<>\"\",AF16<>\"\"),SUM(AE16:AF16),\"\")","v":""},{"$nulls":4},{"$f":"IF(AND(AJ16<>\"\",AK16<>\"\"),SUM(AJ16:AK16),\"\")","v":""},null,null,{"$f":"IF(AND(AM16<>\"\",AN16<>\"\"),SUM(AM16:AN16),\"\")","v":""},{"$nulls":4},{"$f":"IF(AND(AR16<>\"\",AS16<>\"\"),SUM(AR16:AS16),\"\")","v":""},null,null,{"$f":"IF(AND(AU16<>\"\",AV16<>\"\"),SUM(AU16:AV16),\"\")","v":""},{"$nulls":4},{"$f":"IF(AND(AZ16<>\"\",BA16<>\"\"),SUM(AZ16:BA16),\"\")","v":""},null,null,{"$f":"IF(AND(BC16<>\"\",BD16<>\"\"),SUM(BC16:BD16),\"\")","v":""}]
["京都府","26209","長岡京市",{"$f":"SUM(L17,T17,AB17,AJ17,AR17,AZ17)","v":{"v":210401,"d":"210,401"}},{"$f":"SUM(M17,U17,AC17,AK17,AS17,BA17)","v":{"v":397630,"d":"397,630"}},{"$f":"SUM(D17:E17)","v":{"v":608031,"d":"608,031"}},{"$f":"SUM(O17,W17,AE17,AM17,AU17,BC17)","v":0},{"$f":"SUM(P17,X17,AF17,AN17,AV17,BD17)","v":0},{"$f":"SUM(G17:H17)","v":0},"26828","乙訓環境衛生組合",{"v":210401,"d":"210,401"},{"v":397630,"d":"397,630"},{"$f":"IF(AND(L17<>\"\",M17<>\"\"),SUM(L17:M17),\"\")","v":{"v":608031,"d":"608,031"}},0,0,{"$f":"IF(AND(O17<>\"\",P17<>\"\"),SUM(O17:P17),\"\")","v":0},{"$nulls":4},{"$f":"IF(AND(T17<>\"\",U17<>\"\"),SUM(T17:U17),\"\")","v":""},null,null,{"$f":"IF(AND(W17<>\"\",X17<>\"\"),SUM(W17:X17),\"\")","v":""},{"$nulls":4},{"$f":"IF(AND(AB17<>\"\",AC17<>\"\"),SUM(AB17:AC17),\"\")","v":""},null,null,{"$f":"IF(AND(AE17<>\"\",AF17<>\"\"),SUM(AE17:AF17),\"\")","v":""},{"$nulls":4},{"$f":"IF(AND(AJ17<>\"\",AK17<>\"\"),SUM(AJ17:AK17),\"\")","v":""},null,null,{"$f":"IF(AND(AM17<>\"\",AN17<>\"\"),SUM(AM17:AN17),\"\")","v":""},{"$nulls":4},{"$f":"IF(AND(AR17<>\"\",AS17<>\"\"),SUM(AR17:AS17),\"\")","v":""},null,null,{"$f":"IF(AND(AU17<>\"\",AV17<>\"\"),SUM(AU17:AV17),\"\")","v":""},{"$nulls":4},{"$f":"IF(AND(AZ17<>\"\",BA17<>\"\"),SUM(AZ17:BA17),\"\")","v":""},null,null,{"$f":"IF(AND(BC17<>\"\",BD17<>\"\"),SUM(BC17:BD17),\"\")","v":""}]
["京都府","26210","八幡市",{"$f":"SUM(L18,T18,AB18,AJ18,AR18,AZ18)","v":{"v":182126,"d":"182,126"}},{"$f":"SUM(M18,U18,AC18,AK18,AS18,BA18)","v":{"v":292167,"d":"292,167"}},{"$f":"SUM(D18:E18)","v":{"v":474293,"d":"474,293"}},{"$f":"SUM(O18,W18,AE18,AM18,AU18,BC18)","v":{"v":10521,"d":"10,521"}},{"$f":"SUM(P18,X18,AF18,AN18,AV18,BD18)","v":{"v":62087,"d":"62,087"}},{"$f":"SUM(G18:H18)","v":{"v":72608,"d":"72,608"}},"26820","城南衛生管理組合",{"v":182126,"d":"182,126"},{"v":292167,"d":"292,167"},{"$f":"IF(AND(L18<>\"\",M18<>\"\"),SUM(L18:M18),\"\")","v":{"v":474293,"d":"474,293"}},{"v":10521,"d":"10,521"},{"v":62087,"d":"62,087"},{"$f":"IF(AND(O18<>\"\",P18<>\"\"),SUM(O18:P18),\"\")","v":{"v":72608,"d":"72,608"}},{"$nulls":4},{"$f":"IF(AND(T18<>\"\",U18<>\"\"),SUM(T18:U18),\"\")","v":""},null,null,{"$f":"IF(AND(W18<>\"\",X18<>\"\"),SUM(W18:X18),\"\")","v":""},{"$nulls":4},{"$f":"IF(AND(AB18<>\"\",AC18<>\"\"),SUM(AB18:AC18),\"\")","v":""},null,null,{"$f":"IF(AND(AE18<>\"\",AF18<>\"\"),SUM(AE18:AF18),\"\")","v":""},{"$nulls":4},{"$f":"IF(AND(AJ18<>\"\",AK18<>\"\"),SUM(AJ18:AK18),\"\")","v":""},null,null,{"$f":"IF(AND(AM18<>\"\",AN18<>\"\"),SUM(AM18:AN18),\"\")","v":""},{"$nulls":4},{"$f":"IF(AND(AR18<>\"\",AS18<>\"\"),SUM(AR18:AS18),\"\")","v":""},null,null,{"$f":"IF(AND(AU18<>\"\",AV18<>\"\"),SUM(AU18:AV18),\"\")","v":""},{"$nulls":4},{"$f":"IF(AND(AZ18<>\"\",BA18<>\"\"),SUM(AZ18:BA18),\"\")","v":""},null,null,{"$f":"IF(AND(BC18<>\"\",BD18<>\"\"),SUM(BC18:BD18),\"\")","v":""}]
["京都府","26211","京田辺市",{"$f":"SUM(L19,T19,AB19,AJ19,AR19,AZ19)","v":0},{"$f":"SUM(M19,U19,AC19,AK19,AS19,BA19)","v":0},{"$f":"SUM(D19:E19)","v":0},{"$f":"SUM(O19,W19,AE19,AM19,AU19,BC19)","v":0},{"$f":"SUM(P19,X19,AF19,AN19,AV19,BD19)","v":0},{"$f":"SUM(G19:H19)","v":0},{"$nulls":4},{"$f":"IF(AND(L19<>\"\",M19<>\"\"),SUM(L19:M19),\"\")","v":""},null,null,{"$f":"IF(AND(O19<>\"\",P19<>\"\"),SUM(O19:P19),\"\")","v":""},{"$nulls":4},{"$f":"IF(AND(T19<>\"\",U19<>\"\"),SUM(T19:U19),\"\")","v":""},null,null,{"$f":"IF(AND(W19<>\"\",X19<>\"\"),SUM(W19:X19),\"\")","v":""},{"$nulls":4},{"$f":"IF(AND(AB19<>\"\",AC19<>\"\"),SUM(AB19:AC19),\"\")","v":""},null,null,{"$f":"IF(AND(AE19<>\"\",AF19<>\"\"),SUM(AE19:AF19),\"\")","v":""},{"$nulls":4},{"$f":"IF(AND(AJ19<>\"\",AK19<>\"\"),SUM(AJ19:AK19),\"\")","v":""},null,null,{"$f":"IF(AND(AM19<>\"\",AN19<>\"\"),SUM(AM19:AN19),\"\")","v":""},{"$nulls":4},{"$f":"IF(AND(AR19<>\"\",AS19<>\"\"),SUM(AR19:AS19),\"\")","v":""},null,null,{"$f":"IF(AND(AU19<>\"\",AV19<>\"\"),SUM(AU19:AV19),\"\")","v":""},{"$nulls":4},{"$f":"IF(AND(AZ19<>\"\",BA19<>\"\"),SUM(AZ19:BA19),\"\")","v":""},null,null,{"$f":"IF(AND(BC19<>\"\",BD19<>\"\"),SUM(BC19:BD19),\"\")","v":""}]
["京都府","26212","京丹後市",{"$f":"SUM(L20,T20,AB20,AJ20,AR20,AZ20)","v":0},{"$f":"SUM(M20,U20,AC20,AK20,AS20,BA20)","v":0},{"$f":"SUM(D20:E20)","v":0},{"$f":"SUM(O20,W20,AE20,AM20,AU20,BC20)","v":0},{"$f":"SUM(P20,X20,AF20,AN20,AV20,BD20)","v":0},{"$f":"SUM(G20:H20)","v":0},{"$nulls":4},{"$f":"IF(AND(L20<>\"\",M20<>\"\"),SUM(L20:M20),\"\")","v":""},null,null,{"$f":"IF(AND(O20<>\"\",P20<>\"\"),SUM(O20:P20),\"\")","v":""},{"$nulls":4},{"$f":"IF(AND(T20<>\"\",U20<>\"\"),SUM(T20:U20),\"\")","v":""},null,null,{"$f":"IF(AND(W20<>\"\",X20<>\"\"),SUM(W20:X20),\"\")","v":""},{"$nulls":4},{"$f":"IF(AND(AB20<>\"\",AC20<>\"\"),SUM(AB20:AC20),\"\")","v":""},null,null,{"$f":"IF(AND(AE20<>\"\",AF20<>\"\"),SUM(AE20:AF20),\"\")","v":""},{"$nulls":4},{"$f":"IF(AND(AJ20<>\"\",AK20<>\"\"),SUM(AJ20:AK20),\"\")","v":""},null,null,{"$f":"IF(AND(AM20<>\"\",AN20<>\"\"),SUM(AM20:AN20),\"\")","v":""},{"$nulls":4},{"$f":"IF(AND(AR20<>\"\",AS20<>\"\"),SUM(AR20:AS20),\"\")","v":""},null,null,{"$f":"IF(AND(AU20<>\"\",AV20<>\"\"),SUM(AU20:AV20),\"\")","v":""},{"$nulls":4},{"$f":"IF(AND(AZ20<>\"\",BA20<>\"\"),SUM(AZ20:BA20),\"\")","v":""},null,null,{"$f":"IF(AND(BC20<>\"\",BD20<>\"\"),SUM(BC20:BD20),\"\")","v":""}]
["京都府","26213","南丹市",{"$f":"SUM(L21,T21,AB21,AJ21,AR21,AZ21)","v":0},{"$f":"SUM(M21,U21,AC21,AK21,AS21,BA21)","v":{"v":254714,"d":"254,714"}},{"$f":"SUM(D21:E21)","v":{"v":254714,"d":"254,714"}},{"$f":"SUM(O21,W21,AE21,AM21,AU21,BC21)","v":0},{"$f":"SUM(P21,X21,AF21,AN21,AV21,BD21)","v":{"v":320228,"d":"320,228"}},{"$f":"SUM(G21:H21)","v":{"v":320228,"d":"320,228"}},"26817","船井郡衛生管理組合",0,{"v":254714,"d":"254,714"},{"$f":"IF(AND(L21<>\"\",M21<>\"\"),SUM(L21:M21),\"\")","v":{"v":254714,"d":"254,714"}},0,{"v":320228,"d":"320,228"},{"$f":"IF(AND(O21<>\"\",P21<>\"\"),SUM(O21:P21),\"\")","v":{"v":320228,"d":"320,228"}},{"$nulls":4},{"$f":"IF(AND(T21<>\"\",U21<>\"\"),SUM(T21:U21),\"\")","v":""},null,null,{"$f":"IF(AND(W21<>\"\",X21<>\"\"),SUM(W21:X21),\"\")","v":""},{"$nulls":4},{"$f":"IF(AND(AB21<>\"\",AC21<>\"\"),SUM(AB21:AC21),\"\")","v":""},null,null,{"$f":"IF(AND(AE21<>\"\",AF21<>\"\"),SUM(AE21:AF21),\"\")","v":""},{"$nulls":4},{"$f":"IF(AND(AJ21<>\"\",AK21<>\"\"),SUM(AJ21:AK21),\"\")","v":""},null,null,{"$f":"IF(AND(AM21<>\"\",AN21<>\"\"),SUM(AM21:AN21),\"\")","v":""},{"$nulls":4},{"$f":"IF(AND(AR21<>\"\",AS21<>\"\"),SUM(AR21:AS21),\"\")","v":""},null,null,{"$f":"IF(AND(AU21<>\"\",AV21<>\"\"),SUM(AU21:AV21),\"\")","v":""},{"$nulls":4},{"$f":"IF(AND(AZ21<>\"\",BA21<>\"\"),SUM(AZ21:BA21),\"\")","v":""},null,null,{"$f":"IF(AND(BC21<>\"\",BD21<>\"\"),SUM(BC21:BD21),\"\")","v":""}]
["京都府","26214","木津川市",{"$f":"SUM(L22,T22,AB22,AJ22,AR22,AZ22)","v":{"v":15917,"d":"15,917"}},{"$f":"SUM(M22,U22,AC22,AK22,AS22,BA22)","v":{"v":112809,"d":"112,809"}},{"$f":"SUM(D22:E22)","v":{"v":128726,"d":"128,726"}},{"$f":"SUM(O22,W22,AE22,AM22,AU22,BC22)","v":0},{"$f":"SUM(P22,X22,AF22,AN22,AV22,BD22)","v":{"v":161328,"d":"161,328"}},{"$f":"SUM(G22:H22)","v":{"v":161328,"d":"161,328"}},"26821","相楽郡西部塵埃処理組合",{"v":15917,"d":"15,917"},{"v":112809,"d":"112,809"},{"$f":"IF(AND(L22<>\"\",M22<>\"\"),SUM(L22:M22),\"\")","v":{"v":128726,"d":"128,726"}},0,0,{"$f":"IF(AND(O22<>\"\",P22<>\"\"),SUM(O22:P22),\"\")","v":0},"26849","相楽郡広域事務組合",0,0,{"$f":"IF(AND(T22<>\"\",U22<>\"\"),SUM(T22:U22),\"\")","v":0},0,{"v":161328,"d":"161,328"},{"$f":"IF(AND(W22<>\"\",X22<>\"\"),SUM(W22:X22),\"\")","v":{"v":161328,"d":"161,328"}},{"$nulls":4},{"$f":"IF(AND(AB22<>\"\",AC22<>\"\"),SUM(AB22:AC22),\"\")","v":""},null,null,{"$f":"IF(AND(AE22<>\"\",AF22<>\"\"),SUM(AE22:AF22),\"\")","v":""},{"$nulls":4},{"$f":"IF(AND(AJ22<>\"\",AK22<>\"\"),SUM(AJ22:AK22),\"\")","v":""},null,null,{"$f":"IF(AND(AM22<>\"\",AN22<>\"\"),SUM(AM22:AN22),\"\")","v":""},{"$nulls":4},{"$f":"IF(AND(AR22<>\"\",AS22<>\"\"),SUM(AR22:AS22),\"\")","v":""},null,null,{"$f":"IF(AND(AU22<>\"\",AV22<>\"\"),SUM(AU22:AV22),\"\")","v":""},{"$nulls":4},{"$f":"IF(AND(AZ22<>\"\",BA22<>\"\"),SUM(AZ22:BA22),\"\")","v":""},null,null,{"$f":"IF(AND(BC22<>\"\",BD22<>\"\"),SUM(BC22:BD22),\"\")","v":""}]
["京都府","26303","大山崎町",{"$f":"SUM(L23,T23,AB23,AJ23,AR23,AZ23)","v":{"v":40908,"d":"40,908"}},{"$f":"SUM(M23,U23,AC23,AK23,AS23,BA23)","v":{"v":77311,"d":"77,311"}},{"$f":"SUM(D23:E23)","v":{"v":118219,"d":"118,219"}},{"$f":"SUM(O23,W23,AE23,AM23,AU23,BC23)","v":0},{"$f":"SUM(P23,X23,AF23,AN23,AV23,BD23)","v":0},{"$f":"SUM(G23:H23)","v":0},"26828","乙訓環境衛生組合",{"v":40908,"d":"40,908"},{"v":77311,"d":"77,311"},{"$f":"IF(AND(L23<>\"\",M23<>\"\"),SUM(L23:M23),\"\")","v":{"v":118219,"d":"118,219"}},0,0,{"$f":"IF(AND(O23<>\"\",P23<>\"\"),SUM(O23:P23),\"\")","v":0},{"$nulls":4},{"$f":"IF(AND(T23<>\"\",U23<>\"\"),SUM(T23:U23),\"\")","v":""},null,null,{"$f":"IF(AND(W23<>\"\",X23<>\"\"),SUM(W23:X23),\"\")","v":""},{"$nulls":4},{"$f":"IF(AND(AB23<>\"\",AC23<>\"\"),SUM(AB23:AC23),\"\")","v":""},null,null,{"$f":"IF(AND(AE23<>\"\",AF23<>\"\"),SUM(AE23:AF23),\"\")","v":""},{"$nulls":4},{"$f":"IF(AND(AJ23<>\"\",AK23<>\"\"),SUM(AJ23:AK23),\"\")","v":""},null,null,{"$f":"IF(AND(AM23<>\"\",AN23<>\"\"),SUM(AM23:AN23),\"\")","v":""},{"$nulls":4},{"$f":"IF(AND(AR23<>\"\",AS23<>\"\"),SUM(AR23:AS23),\"\")","v":""},null,null,{"$f":"IF(AND(AU23<>\"\",AV23<>\"\"),SUM(AU23:AV23),\"\")","v":""},{"$nulls":4},{"$f":"IF(AND(AZ23<>\"\",BA23<>\"\"),SUM(AZ23:BA23),\"\")","v":""},null,null,{"$f":"IF(AND(BC23<>\"\",BD23<>\"\"),SUM(BC23:BD23),\"\")","v":""}]
["京都府","26322","久御山町",{"$f":"SUM(L24,T24,AB24,AJ24,AR24,AZ24)","v":{"v":48653,"d":"48,653"}},{"$f":"SUM(M24,U24,AC24,AK24,AS24,BA24)","v":{"v":78049,"d":"78,049"}},{"$f":"SUM(D24:E24)","v":{"v":126702,"d":"126,702"}},{"$f":"SUM(O24,W24,AE24,AM24,AU24,BC24)","v":{"v":5280,"d":"5,280"}},{"$f":"SUM(P24,X24,AF24,AN24,AV24,BD24)","v":{"v":31158,"d":"31,158"}},{"$f":"SUM(G24:H24)","v":{"v":36438,"d":"36,438"}},"26820","城南衛生管理組合",{"v":48653,"d":"48,653"},{"v":78049,"d":"78,049"},{"$f":"IF(AND(L24<>\"\",M24<>\"\"),SUM(L24:M24),\"\")","v":{"v":126702,"d":"126,702"}},{"v":5280,"d":"5,280"},{"v":31158,"d":"31,158"},{"$f":"IF(AND(O24<>\"\",P24<>\"\"),SUM(O24:P24),\"\")","v":{"v":36438,"d":"36,438"}},{"$nulls":4},{"$f":"IF(AND(T24<>\"\",U24<>\"\"),SUM(T24:U24),\"\")","v":""},null,null,{"$f":"IF(AND(W24<>\"\",X24<>\"\"),SUM(W24:X24),\"\")","v":""},{"$nulls":4},{"$f":"IF(AND(AB24<>\"\",AC24<>\"\"),SUM(AB24:AC24),\"\")","v":""},null,null,{"$f":"IF(AND(AE24<>\"\",AF24<>\"\"),SUM(AE24:AF24),\"\")","v":""},{"$nulls":4},{"$f":"IF(AND(AJ24<>\"\",AK24<>\"\"),SUM(AJ24:AK24),\"\")","v":""},null,null,{"$f":"IF(AND(AM24<>\"\",AN24<>\"\"),SUM(AM24:AN24),\"\")","v":""},{"$nulls":4},{"$f":"IF(AND(AR24<>\"\",AS24<>\"\"),SUM(AR24:AS24),\"\")","v":""},null,null,{"$f":"IF(AND(AU24<>\"\",AV24<>\"\"),SUM(AU24:AV24),\"\")","v":""},{"$nulls":4},{"$f":"IF(AND(AZ24<>\"\",BA24<>\"\"),SUM(AZ24:BA24),\"\")","v":""},null,null,{"$f":"IF(AND(BC24<>\"\",BD24<>\"\"),SUM(BC24:BD24),\"\")","v":""}]
["京都府","26343","井手町",{"$f":"SUM(L25,T25,AB25,AJ25,AR25,AZ25)","v":{"v":23775,"d":"23,775"}},{"$f":"SUM(M25,U25,AC25,AK25,AS25,BA25)","v":{"v":38141,"d":"38,141"}},{"$f":"SUM(D25:E25)","v":{"v":61916,"d":"61,916"}},{"$f":"SUM(O25,W25,AE25,AM25,AU25,BC25)","v":{"v":3607,"d":"3,607"}},{"$f":"SUM(P25,X25,AF25,AN25,AV25,BD25)","v":{"v":21289,"d":"21,289"}},{"$f":"SUM(G25:H25)","v":{"v":24896,"d":"24,896"}},"26820","城南衛生管理組合",{"v":23775,"d":"23,775"},{"v":38141,"d":"38,141"},{"$f":"IF(AND(L25<>\"\",M25<>\"\"),SUM(L25:M25),\"\")","v":{"v":61916,"d":"61,916"}},{"v":3607,"d":"3,607"},{"v":21289,"d":"21,289"},{"$f":"IF(AND(O25<>\"\",P25<>\"\"),SUM(O25:P25),\"\")","v":{"v":24896,"d":"24,896"}},{"$nulls":4},{"$f":"IF(AND(T25<>\"\",U25<>\"\"),SUM(T25:U25),\"\")","v":""},null,null,{"$f":"IF(AND(W25<>\"\",X25<>\"\"),SUM(W25:X25),\"\")","v":""},{"$nulls":4},{"$f":"IF(AND(AB25<>\"\",AC25<>\"\"),SUM(AB25:AC25),\"\")","v":""},null,null,{"$f":"IF(AND(AE25<>\"\",AF25<>\"\"),SUM(AE25:AF25),\"\")","v":""},{"$nulls":4},{"$f":"IF(AND(AJ25<>\"\",AK25<>\"\"),SUM(AJ25:AK25),\"\")","v":""},null,null,{"$f":"IF(AND(AM25<>\"\",AN25<>\"\"),SUM(AM25:AN25),\"\")","v":""},{"$nulls":4},{"$f":"IF(AND(AR25<>\"\",AS25<>\"\"),SUM(AR25:AS25),\"\")","v":""},null,null,{"$f":"IF(AND(AU25<>\"\",AV25<>\"\"),SUM(AU25:AV25),\"\")","v":""},{"$nulls":4},{"$f":"IF(AND(AZ25<>\"\",BA25<>\"\"),SUM(AZ25:BA25),\"\")","v":""},null,null,{"$f":"IF(AND(BC25<>\"\",BD25<>\"\"),SUM(BC25:BD25),\"\")","v":""}]
["京都府","26344","宇治田原町",{"$f":"SUM(L26,T26,AB26,AJ26,AR26,AZ26)","v":{"v":27815,"d":"27,815"}},{"$f":"SUM(M26,U26,AC26,AK26,AS26,BA26)","v":{"v":44620,"d":"44,620"}},{"$f":"SUM(D26:E26)","v":{"v":72435,"d":"72,435"}},{"$f":"SUM(O26,W26,AE26,AM26,AU26,BC26)","v":{"v":7244,"d":"7,244"}},{"$f":"SUM(P26,X26,AF26,AN26,AV26,BD26)","v":{"v":42749,"d":"42,749"}},{"$f":"SUM(G26:H26)","v":{"v":49993,"d":"49,993"}},"26820","城南衛生管理組合",{"v":27815,"d":"27,815"},{"v":44620,"d":"44,620"},{"$f":"IF(AND(L26<>\"\",M26<>\"\"),SUM(L26:M26),\"\")","v":{"v":72435,"d":"72,435"}},{"v":7244,"d":"7,244"},{"v":42749,"d":"42,749"},{"$f":"IF(AND(O26<>\"\",P26<>\"\"),SUM(O26:P26),\"\")","v":{"v":49993,"d":"49,993"}},{"$nulls":4},{"$f":"IF(AND(T26<>\"\",U26<>\"\"),SUM(T26:U26),\"\")","v":""},null,null,{"$f":"IF(AND(W26<>\"\",X26<>\"\"),SUM(W26:X26),\"\")","v":""},{"$nulls":4},{"$f":"IF(AND(AB26<>\"\",AC26<>\"\"),SUM(AB26:AC26),\"\")","v":""},null,null,{"$f":"IF(AND(AE26<>\"\",AF26<>\"\"),SUM(AE26:AF26),\"\")","v":""},{"$nulls":4},{"$f":"IF(AND(AJ26<>\"\",AK26<>\"\"),SUM(AJ26:AK26),\"\")","v":""},null,null,{"$f":"IF(AND(AM26<>\"\",AN26<>\"\"),SUM(AM26:AN26),\"\")","v":""},{"$nulls":4},{"$f":"IF(AND(AR26<>\"\",AS26<>\"\"),SUM(AR26:AS26),\"\")","v":""},null,null,{"$f":"IF(AND(AU26<>\"\",AV26<>\"\"),SUM(AU26:AV26),\"\")","v":""},{"$nulls":4},{"$f":"IF(AND(AZ26<>\"\",BA26<>\"\"),SUM(AZ26:BA26),\"\")","v":""},null,null,{"$f":"IF(AND(BC26<>\"\",BD26<>\"\"),SUM(BC26:BD26),\"\")","v":""}]
["京都府","26364","笠置町",{"$f":"SUM(L27,T27,AB27,AJ27,AR27,AZ27)","v":0},{"$f":"SUM(M27,U27,AC27,AK27,AS27,BA27)","v":{"v":45052,"d":"45,052"}},{"$f":"SUM(D27:E27)","v":{"v":45052,"d":"45,052"}},{"$f":"SUM(O27,W27,AE27,AM27,AU27,BC27)","v":0},{"$f":"SUM(P27,X27,AF27,AN27,AV27,BD27)","v":{"v":26822,"d":"26,822"}},{"$f":"SUM(G27:H27)","v":{"v":26822,"d":"26,822"}},"26843","相楽東部広域連合",0,{"v":45052,"d":"45,052"},{"$f":"IF(AND(L27<>\"\",M27<>\"\"),SUM(L27:M27),\"\")","v":{"v":45052,"d":"45,052"}},0,0,{"$f":"IF(AND(O27<>\"\",P27<>\"\"),SUM(O27:P27),\"\")","v":0},"26849","相楽郡広域事務組合",0,0,{"$f":"IF(AND(T27<>\"\",U27<>\"\"),SUM(T27:U27),\"\")","v":0},0,{"v":26822,"d":"26,822"},{"$f":"IF(AND(W27<>\"\",X27<>\"\"),SUM(W27:X27),\"\")","v":{"v":26822,"d":"26,822"}},{"$nulls":4},{"$f":"IF(AND(AB27<>\"\",AC27<>\"\"),SUM(AB27:AC27),\"\")","v":""},null,null,{"$f":"IF(AND(AE27<>\"\",AF27<>\"\"),SUM(AE27:AF27),\"\")","v":""},{"$nulls":4},{"$f":"IF(AND(AJ27<>\"\",AK27<>\"\"),SUM(AJ27:AK27),\"\")","v":""},null,null,{"$f":"IF(AND(AM27<>\"\",AN27<>\"\"),SUM(AM27:AN27),\"\")","v":""},{"$nulls":4},{"$f":"IF(AND(AR27<>\"\",AS27<>\"\"),SUM(AR27:AS27),\"\")","v":""},null,null,{"$f":"IF(AND(AU27<>\"\",AV27<>\"\"),SUM(AU27:AV27),\"\")","v":""},{"$nulls":4},{"$f":"IF(AND(AZ27<>\"\",BA27<>\"\"),SUM(AZ27:BA27),\"\")","v":""},null,null,{"$f":"IF(AND(BC27<>\"\",BD27<>\"\"),SUM(BC27:BD27),\"\")","v":""}]
["京都府","26365","和束町",{"$f":"SUM(L28,T28,AB28,AJ28,AR28,AZ28)","v":0},{"$f":"SUM(M28,U28,AC28,AK28,AS28,BA28)","v":{"v":109644,"d":"109,644"}},{"$f":"SUM(D28:E28)","v":{"v":109644,"d":"109,644"}},{"$f":"SUM(O28,W28,AE28,AM28,AU28,BC28)","v":0},{"$f":"SUM(P28,X28,AF28,AN28,AV28,BD28)","v":{"v":36746,"d":"36,746"}},{"$f":"SUM(G28:H28)","v":{"v":36746,"d":"36,746"}},"26843","相楽郡東部広域連合",0,{"v":109644,"d":"109,644"},{"$f":"IF(AND(L28<>\"\",M28<>\"\"),SUM(L28:M28),\"\")","v":{"v":109644,"d":"109,644"}},0,0,{"$f":"IF(AND(O28<>\"\",P28<>\"\"),SUM(O28:P28),\"\")","v":0},"26849","相楽郡広域事務組合",0,0,{"$f":"IF(AND(T28<>\"\",U28<>\"\"),SUM(T28:U28),\"\")","v":0},0,{"v":36746,"d":"36,746"},{"$f":"IF(AND(W28<>\"\",X28<>\"\"),SUM(W28:X28),\"\")","v":{"v":36746,"d":"36,746"}},{"$nulls":4},{"$f":"IF(AND(AB28<>\"\",AC28<>\"\"),SUM(AB28:AC28),\"\")","v":""},null,null,{"$f":"IF(AND(AE28<>\"\",AF28<>\"\"),SUM(AE28:AF28),\"\")","v":""},{"$nulls":4},{"$f":"IF(AND(AJ28<>\"\",AK28<>\"\"),SUM(AJ28:AK28),\"\")","v":""},null,null,{"$f":"IF(AND(AM28<>\"\",AN28<>\"\"),SUM(AM28:AN28),\"\")","v":""},{"$nulls":4},{"$f":"IF(AND(AR28<>\"\",AS28<>\"\"),SUM(AR28:AS28),\"\")","v":""},null,null,{"$f":"IF(AND(AU28<>\"\",AV28<>\"\"),SUM(AU28:AV28),\"\")","v":""},{"$nulls":4},{"$f":"IF(AND(AZ28<>\"\",BA28<>\"\"),SUM(AZ28:BA28),\"\")","v":""},null,null,{"$f":"IF(AND(BC28<>\"\",BD28<>\"\"),SUM(BC28:BD28),\"\")","v":""}]
["京都府","26366","精華町",{"$f":"SUM(L29,T29,AB29,AJ29,AR29,AZ29)","v":{"v":28379,"d":"28,379"}},{"$f":"SUM(M29,U29,AC29,AK29,AS29,BA29)","v":{"v":69643,"d":"69,643"}},{"$f":"SUM(D29:E29)","v":{"v":98022,"d":"98,022"}},{"$f":"SUM(O29,W29,AE29,AM29,AU29,BC29)","v":0},{"$f":"SUM(P29,X29,AF29,AN29,AV29,BD29)","v":{"v":42445,"d":"42,445"}},{"$f":"SUM(G29:H29)","v":{"v":42445,"d":"42,445"}},"26821","相楽郡西部塵埃処理組合",{"v":28379,"d":"28,379"},{"v":69643,"d":"69,643"},{"$f":"IF(AND(L29<>\"\",M29<>\"\"),SUM(L29:M29),\"\")","v":{"v":98022,"d":"98,022"}},0,0,{"$f":"IF(AND(O29<>\"\",P29<>\"\"),SUM(O29:P29),\"\")","v":0},"26849","相楽郡広域事務組合",0,0,{"$f":"IF(AND(T29<>\"\",U29<>\"\"),SUM(T29:U29),\"\")","v":0},0,{"v":42445,"d":"42,445"},{"$f":"IF(AND(W29<>\"\",X29<>\"\"),SUM(W29:X29),\"\")","v":{"v":42445,"d":"42,445"}},{"$nulls":4},{"$f":"IF(AND(AB29<>\"\",AC29<>\"\"),SUM(AB29:AC29),\"\")","v":""},null,null,{"$f":"IF(AND(AE29<>\"\",AF29<>\"\"),SUM(AE29:AF29),\"\")","v":""},{"$nulls":4},{"$f":"IF(AND(AJ29<>\"\",AK29<>\"\"),SUM(AJ29:AK29),\"\")","v":""},null,null,{"$f":"IF(AND(AM29<>\"\",AN29<>\"\"),SUM(AM29:AN29),\"\")","v":""},{"$nulls":4},{"$f":"IF(AND(AR29<>\"\",AS29<>\"\"),SUM(AR29:AS29),\"\")","v":""},null,null,{"$f":"IF(AND(AU29<>\"\",AV29<>\"\"),SUM(AU29:AV29),\"\")","v":""},{"$nulls":4},{"$f":"IF(AND(AZ29<>\"\",BA29<>\"\"),SUM(AZ29:BA29),\"\")","v":""},null,null,{"$f":"IF(AND(BC29<>\"\",BD29<>\"\"),SUM(BC29:BD29),\"\")","v":""}]
["京都府","26367","南山城村",{"$f":"SUM(L30,T30,AB30,AJ30,AR30,AZ30)","v":0},{"$f":"SUM(M30,U30,AC30,AK30,AS30,BA30)","v":{"v":69157,"d":"69,157"}},{"$f":"SUM(D30:E30)","v":{"v":69157,"d":"69,157"}},{"$f":"SUM(O30,W30,AE30,AM30,AU30,BC30)","v":0},{"$f":"SUM(P30,X30,AF30,AN30,AV30,BD30)","v":{"v":31130,"d":"31,130"}},{"$f":"SUM(G30:H30)","v":{"v":31130,"d":"31,130"}},"26843","相楽東部広域連合",0,{"v":69157,"d":"69,157"},{"$f":"IF(AND(L30<>\"\",M30<>\"\"),SUM(L30:M30),\"\")","v":{"v":69157,"d":"69,157"}},0,0,{"$f":"IF(AND(O30<>\"\",P30<>\"\"),SUM(O30:P30),\"\")","v":0},"26849","相楽郡広域事務組合",0,0,{"$f":"IF(AND(T30<>\"\",U30<>\"\"),SUM(T30:U30),\"\")","v":0},0,{"v":31130,"d":"31,130"},{"$f":"IF(AND(W30<>\"\",X30<>\"\"),SUM(W30:X30),\"\")","v":{"v":31130,"d":"31,130"}},{"$nulls":4},{"$f":"IF(AND(AB30<>\"\",AC30<>\"\"),SUM(AB30:AC30),\"\")","v":""},null,null,{"$f":"IF(AND(AE30<>\"\",AF30<>\"\"),SUM(AE30:AF30),\"\")","v":""},{"$nulls":4},{"$f":"IF(AND(AJ30<>\"\",AK30<>\"\"),SUM(AJ30:AK30),\"\")","v":""},null,null,{"$f":"IF(AND(AM30<>\"\",AN30<>\"\"),SUM(AM30:AN30),\"\")","v":""},{"$nulls":4},{"$f":"IF(AND(AR30<>\"\",AS30<>\"\"),SUM(AR30:AS30),\"\")","v":""},null,null,{"$f":"IF(AND(AU30<>\"\",AV30<>\"\"),SUM(AU30:AV30),\"\")","v":""},{"$nulls":4},{"$f":"IF(AND(AZ30<>\"\",BA30<>\"\"),SUM(AZ30:BA30),\"\")","v":""},null,null,{"$f":"IF(AND(BC30<>\"\",BD30<>\"\"),SUM(BC30:BD30),\"\")","v":""}]
["京都府","26407","京丹波町",{"$f":"SUM(L31,T31,AB31,AJ31,AR31,AZ31)","v":0},{"$f":"SUM(M31,U31,AC31,AK31,AS31,BA31)","v":{"v":112625,"d":"112,625"}},{"$f":"SUM(D31:E31)","v":{"v":112625,"d":"112,625"}},{"$f":"SUM(O31,W31,AE31,AM31,AU31,BC31)","v":0},{"$f":"SUM(P31,X31,AF31,AN31,AV31,BD31)","v":{"v":205532,"d":"205,532"}},{"$f":"SUM(G31:H31)","v":{"v":205532,"d":"205,532"}},"26817","船井郡衛生管理組合",0,{"v":112625,"d":"112,625"},{"$f":"IF(AND(L31<>\"\",M31<>\"\"),SUM(L31:M31),\"\")","v":{"v":112625,"d":"112,625"}},0,{"v":205532,"d":"205,532"},{"$f":"IF(AND(O31<>\"\",P31<>\"\"),SUM(O31:P31),\"\")","v":{"v":205532,"d":"205,532"}},{"$nulls":4},{"$f":"IF(AND(T31<>\"\",U31<>\"\"),SUM(T31:U31),\"\")","v":""},null,null,{"$f":"IF(AND(W31<>\"\",X31<>\"\"),SUM(W31:X31),\"\")","v":""},{"$nulls":4},{"$f":"IF(AND(AB31<>\"\",AC31<>\"\"),SUM(AB31:AC31),\"\")","v":""},null,null,{"$f":"IF(AND(AE31<>\"\",AF31<>\"\"),SUM(AE31:AF31),\"\")","v":""},{"$nulls":4},{"$f":"IF(AND(AJ31<>\"\",AK31<>\"\"),SUM(AJ31:AK31),\"\")","v":""},null,null,{"$f":"IF(AND(AM31<>\"\",AN31<>\"\"),SUM(AM31:AN31),\"\")","v":""},{"$nulls":4},{"$f":"IF(AND(AR31<>\"\",AS31<>\"\"),SUM(AR31:AS31),\"\")","v":""},null,null,{"$f":"IF(AND(AU31<>\"\",AV31<>\"\"),SUM(AU31:AV31),\"\")","v":""},{"$nulls":4},{"$f":"IF(AND(AZ31<>\"\",BA31<>\"\"),SUM(AZ31:BA31),\"\")","v":""},null,null,{"$f":"IF(AND(BC31<>\"\",BD31<>\"\"),SUM(BC31:BD31),\"\")","v":""}]
["京都府","26463","伊根町",{"$f":"SUM(L32,T32,AB32,AJ32,AR32,AZ32)","v":{"v":15328,"d":"15,328"}},{"$f":"SUM(M32,U32,AC32,AK32,AS32,BA32)","v":0},{"$f":"SUM(D32:E32)","v":{"v":15328,"d":"15,328"}},{"$f":"SUM(O32,W32,AE32,AM32,AU32,BC32)","v":0},{"$f":"SUM(P32,X32,AF32,AN32,AV32,BD32)","v":0},{"$f":"SUM(G32:H32)","v":0},"26861","宮津与謝環境組合",{"v":15328,"d":"15,328"},0,{"$f":"IF(AND(L32<>\"\",M32<>\"\"),SUM(L32:M32),\"\")","v":{"v":15328,"d":"15,328"}},0,0,{"$f":"IF(AND(O32<>\"\",P32<>\"\"),SUM(O32:P32),\"\")","v":0},{"$nulls":4},{"$f":"IF(AND(T32<>\"\",U32<>\"\"),SUM(T32:U32),\"\")","v":""},null,null,{"$f":"IF(AND(W32<>\"\",X32<>\"\"),SUM(W32:X32),\"\")","v":""},{"$nulls":4},{"$f":"IF(AND(AB32<>\"\",AC32<>\"\"),SUM(AB32:AC32),\"\")","v":""},null,null,{"$f":"IF(AND(AE32<>\"\",AF32<>\"\"),SUM(AE32:AF32),\"\")","v":""},{"$nulls":4},{"$f":"IF(AND(AJ32<>\"\",AK32<>\"\"),SUM(AJ32:AK32),\"\")","v":""},null,null,{"$f":"IF(AND(AM32<>\"\",AN32<>\"\"),SUM(AM32:AN32),\"\")","v":""},{"$nulls":4},{"$f":"IF(AND(AR32<>\"\",AS32<>\"\"),SUM(AR32:AS32),\"\")","v":""},null,null,{"$f":"IF(AND(AU32<>\"\",AV32<>\"\"),SUM(AU32:AV32),\"\")","v":""},{"$nulls":4},{"$f":"IF(AND(AZ32<>\"\",BA32<>\"\"),SUM(AZ32:BA32),\"\")","v":""},null,null,{"$f":"IF(AND(BC32<>\"\",BD32<>\"\"),SUM(BC32:BD32),\"\")","v":""}]
["京都府","26465","与謝野町",{"$f":"SUM(L33,T33,AB33,AJ33,AR33,AZ33)","v":{"v":158615,"d":"158,615"}},{"$f":"SUM(M33,U33,AC33,AK33,AS33,BA33)","v":0},{"$f":"SUM(D33:E33)","v":{"v":158615,"d":"158,615"}},{"$f":"SUM(O33,W33,AE33,AM33,AU33,BC33)","v":0},{"$f":"SUM(P33,X33,AF33,AN33,AV33,BD33)","v":0},{"$f":"SUM(G33:H33)","v":0},"26861","宮津与謝環境組合",{"v":158615,"d":"158,615"},0,{"$f":"IF(AND(L33<>\"\",M33<>\"\"),SUM(L33:M33),\"\")","v":{"v":158615,"d":"158,615"}},0,0,{"$f":"IF(AND(O33<>\"\",P33<>\"\"),SUM(O33:P33),\"\")","v":0},{"$nulls":4},{"$f":"IF(AND(T33<>\"\",U33<>\"\"),SUM(T33:U33),\"\")","v":""},null,null,{"$f":"IF(AND(W33<>\"\",X33<>\"\"),SUM(W33:X33),\"\")","v":""},{"$nulls":4},{"$f":"IF(AND(AB33<>\"\",AC33<>\"\"),SUM(AB33:AC33),\"\")","v":""},null,null,{"$f":"IF(AND(AE33<>\"\",AF33<>\"\"),SUM(AE33:AF33),\"\")","v":""},{"$nulls":4},{"$f":"IF(AND(AJ33<>\"\",AK33<>\"\"),SUM(AJ33:AK33),\"\")","v":""},null,null,{"$f":"IF(AND(AM33<>\"\",AN33<>\"\"),SUM(AM33:AN33),\"\")","v":""},{"$nulls":4},{"$f":"IF(AND(AR33<>\"\",AS33<>\"\"),SUM(AR33:AS33),\"\")","v":""},null,null,{"$f":"IF(AND(AU33<>\"\",AV33<>\"\"),SUM(AU33:AV33),\"\")","v":""},{"$nulls":4},{"$f":"IF(AND(AZ33<>\"\",BA33<>\"\"),SUM(AZ33:BA33),\"\")","v":""},null,null,{"$f":"IF(AND(BC33<>\"\",BD33<>\"\"),SUM(BC33:BD33),\"\")","v":""}]

{"sheet":"市町村分担金内訳","index":5,"n_rows":14,"n_cols":125,"rows_kept":14,"merged":[[1,0,5,0],[1,1,5,1],[1,2,5,2],[1,3,2,4],[3,3,4,3],[3,4,4,4],[3,5,5,5],[3,6,5,6],[3,7,4,7],[3,8,4,8],[3,9,5,9],[3,10,5,10],[3,11,4,11],[3,12,4,12],[3,13,5,13],[3,14,5,14],[3,15,4,15],[3,16,4,16],[3,17,5,17],[3,18,5,18],[3,19,4,19],[3,20,4,20],[3,21,5,21],[3,22,5,22],[3,23,4,23],[3,24,4,24],[3,25,5,25],[3,26,5,26],[3,27,4,27],[3,28,4,28],[3,29,5,29],[3,30,5,30],[3,31,4,31],[3,32,4,32],[3,33,5,33],[3,34,5,34],[3,35,4,35],[3,36,4,36],[3,37,5,37],[3,38,5,38],[3,39,4,39],[3,40,4,40],[3,41,5,41],[3,42,5,42],[3,43,4,43],[3,44,4,44],[3,45,5,45],[3,46,5,46],[3,47,4,47],[3,48,4,48],[3,49,5,49],[3,50,5,50],[3,51,4,51],[3,52,4,52],[3,53,5,53],[3,54,5,54],[3,55,4,55],[3,56,4,56],[3,57,5,57],[3,58,5,58],[3,59,4,59],[3,60,4,60],[3,61,5,61],[3,62,5,62],[3,63,4,63],[3,64,4,64],[3,65,5,65],[3,66,5,66],[3,67,4,67],[3,68,4,68],[3,69,5,69],[3,70,5,70],[3,71,4,71],[3,72,4,72],[3,73,5,73],[3,74,5,74],[3,75,4,75],[3,76,4,76],[3,77,5,77],[3,78,5,78],[3,79,4,79],[3,80,4,80],[3,81,5,81],[3,82,5,82],[3,83,4,83],[3,84,4,84],[3,85,5,85],[3,86,5,86],[3,87,4,87],[3,88,4,88],[3,89,5,89],[3,90,5,90],[3,91,4,91],[3,92,4,92],[3,93,5,93],[3,94,5,94],[3,95,4,95],[3,96,4,96],[3,97,5,97],[3,98,5,98],[3,99,4,99],[3,100,4,100],[3,101,5,101],[3,102,5,102],[3,103,4,103],[3,104,4,104],[3,105,5,105],[3,106,5,106],[3,107,4,107],[3,108,4,108],[3,109,5,109],[3,110,5,110],[3,111,4,111],[3,112,4,112],[3,113,5,113],[3,114,5,114],[3,115,4,115],[3,116,4,116],[3,117,5,117],[3,118,5,118],[3,119,4,119],[3,120,4,120],[3,121,5,121],[3,122,5,122],[3,123,4,123],[3,124,4,124]]}
["廃棄物処理事業経費【市区町村分担金の合計（平成28年度実績）"]
["都道府県名","地方公共団体コード","一部事務組合・広域連合名","合計（構成市区町村1+～+構成市区町村30）",null,"構成市区町村1",{"$nulls":3},"構成市区町村2",{"$nulls":3},"構成市区町村3",{"$nulls":3},"構成市区町村4",{"$nulls":3},"構成市区町村5",{"$nulls":3},"構成市区町村6",{"$nulls":3},"構成市区町村7",{"$nulls":3},"構成市区町村8",{"$nulls":3},"構成市区町村9",{"$nulls":3},"構成市区町村10",{"$nulls":3},"構成市区町村11",{"$nulls":3},"構成市区町村12",{"$nulls":3},"構成市区町村13",{"$nulls":3},"構成市区町村14",{"$nulls":3},"構成市区町村15",{"$nulls":3},"構成市区町村16",{"$nulls":3},"構成市区町村17",{"$nulls":3},"構成市区町村18",{"$nulls":3},"構成市区町村19",{"$nulls":3},"構成市区町村20",{"$nulls":3},"構成市区町村21",{"$nulls":3},"構成市区町村22",{"$nulls":3},"構成市区町村23",{"$nulls":3},"構成市区町村24",{"$nulls":3},"構成市区町村25",{"$nulls":3},"構成市区町村26",{"$nulls":3},"構成市区町村27",{"$nulls":3},"構成市区町村28",{"$nulls":3},"構成市区町村29",{"$nulls":3},"構成市区町村30"]
[]
[{"$nulls":3},"ごみ","し尿","市区町村\nコード","市区町村名","ごみ","し尿","市区町村\nコード","市区町村名","ごみ","し尿","市区町村\nコード","市区町村名","ごみ","し尿","市区町村\nコード","市区町村名","ごみ","し尿","市区町村\nコード","市区町村名","ごみ","し尿","市区町村\nコード","市区町村名","ごみ","し尿","市区町村\nコード","市区町村名","ごみ","し尿","市区町村\nコード","市区町村名","ごみ","し尿","市区町村\nコード","市区町村名","ごみ","し尿","市区町村\nコード","市区町村名","ごみ","し尿","市区町村\nコード","市区町村名","ごみ","し尿","市区町村\nコード","市区町村名","ごみ","し尿","市区町村\nコード","市区町村名","ごみ","し尿","市区町村\nコード","市区町村名","ごみ","し尿","市区町村\nコード","市区町村名","ごみ","し尿","市区町村\nコード","市区町村名","ごみ","し尿","市区町村\nコード","市区町村名","ごみ","し尿","市区町村\nコード","市区町村名","ごみ","し尿","市区町村\nコード","市区町村名","ごみ","し尿","市区町村\nコード","市区町村名","ごみ","し尿","市区町村\nコード","市区町村名","ごみ","し尿","市区町村\nコード","市区町村名","ごみ","し尿","市区町村\nコード","市区町村名","ごみ","し尿","市区町村\nコード","市区町村名","ごみ","し尿","市区町村\nコード","市区町村名","ごみ","し尿","市区町村\nコード","市区町村名","ごみ","し尿","市区町村\nコード","市区町村名","ごみ","し尿","市区町村\nコード","市区町村名","ごみ","し尿","市区町村\nコード","市区町村名","ごみ","し尿","市区町村\nコード","市区町村名","ごみ","し尿"]
[]
[{"$nulls":3},"（千円）","（千円）",null,null,"（千円）","（千円）",null,null,"（千円）","（千円）",null,null,"（千円）","（千円）",null,null,"（千円）","（千円）",null,null,"（千円）","（千円）",null,null,"（千円）","（千円）",null,null,"（千円）","（千円）",null,null,"（千円）","（千円）",null,null,"（千円）","（千円）",null,null,"（千円）","（千円）",null,null,"（千円）","（千円）",null,null,"（千円）","（千円）",null,null,"（千円）","（千円）",null,null,"（千円）","（千円）",null,null,"（千円）","（千円）",null,null,"（千円）","（千円）",null,null,"（千円）","（千円）",null,null,"（千円）","（千円）",null,null,"（千円）","（千円）",null,null,"（千円）","（千円）",null,null,"（千円）","（千円）",null,null,"（千円）","（千円）",null,null,"（千円）","（千円）",null,null,"（千円）","（千円）",null,null,"（千円）","（千円）",null,null,"（千円）","（千円）",null,null,"（千円）","（千円）",null,null,"（千円）","（千円）",null,null,"（千円）","（千円）",null,null,"（千円）","（千円）"]
[{"$f":"'廃棄物事業経費（市町村）'!A7","v":"京都府"},{"$f":"'廃棄物事業経費（市町村）'!B7","v":"26000"},"合計",{"$f":"SUM(H7,L7,P7,T7,X7,AB7,AF7,AJ7,AN7,AR7,AV7,AZ7,BD7,BH7,BL7,BP7,BT7,BX7,CB7,CF7,CJ7,CN7,CR7,CV7,CZ7,DD7,DH7,DL7,DP7,DT7)","v":{"v":4660752,"d":"4,660,752"}},{"$f":"SUM(I7,M7,Q7,U7,Y7,AC7,AG7,AK7,AO7,AS7,AW7,BA7,BE7,BI7,BM7,BQ7,BU7,BY7,CC7,CG7,CK7,CO7,CS7,CW7,DA7,DE7,DI7,DM7,DQ7,DU7)","v":{"v":1495281,"d":"1,495,281"}},{"$f":"COUNTIF(F$8:F$1000,\"<>\")","v":7},{"$f":"COUNTIF(G$8:G$1000,\"<>\")","v":7},{"$f":"SUM(H$8:H$1000)","v":{"v":2111508,"d":"2,111,508"}},{"$f":"SUM(I$8:I$1000)","v":{"v":817282,"d":"817,282"}},{"$f":"COUNTIF(J$8:J$1000,\"<>\")","v":7},{"$f":"COUNTIF(K$8:K$1000,\"<>\")","v":7},{"$f":"SUM(L$8:L$1000)","v":{"v":1467907,"d":"1,467,907"}},{"$f":"SUM(M$8:M$1000)","v":{"v":383743,"d":"383,743"}},{"$f":"COUNTIF(N$8:N$1000,\"<>\")","v":5},{"$f":"COUNTIF(O$8:O$1000,\"<>\")","v":5},{"$f":"SUM(P$8:P$1000)","v":{"v":820284,"d":"820,284"}},{"$f":"SUM(Q$8:Q$1000)","v":{"v":109354,"d":"109,354"}},{"$f":"COUNTIF(R$8:R$1000,\"<>\")","v":2},{"$f":"COUNTIF(S$8:S$1000,\"<>\")","v":2},{"$f":"SUM(T$8:T$1000)","v":{"v":126702,"d":"126,702"}},{"$f":"SUM(U$8:U$1000)","v":{"v":78883,"d":"78,883"}},{"$f":"COUNTIF(V$8:V$1000,\"<>\")","v":2},{"$f":"COUNTIF(W$8:W$1000,\"<>\")","v":2},{"$f":"SUM(X$8:X$1000)","v":{"v":72435,"d":"72,435"}},{"$f":"SUM(Y$8:Y$1000)","v":{"v":81123,"d":"81,123"}},{"$f":"COUNTIF(Z$8:Z$1000,\"<>\")","v":1},{"$f":"COUNTIF(AA$8:AA$1000,\"<>\")","v":1},{"$f":"SUM(AB$8:AB$1000)","v":{"v":61916,"d":"61,916"}},{"$f":"SUM(AC$8:AC$1000)","v":{"v":24896,"d":"24,896"}},{"$f":"COUNTIF(AD$8:AD$1000,\"<>\")","v":0},{"$f":"COUNTIF(AE$8:AE$1000,\"<>\")","v":0},{"$f":"SUM(AF$8:AF$1000)","v":0},{"$f":"SUM(AG$8:AG$1000)","v":0},{"$f":"COUNTIF(AH$8:AH$1000,\"<>\")","v":0},{"$f":"COUNTIF(AI$8:AI$1000,\"<>\")","v":0},{"$f":"SUM(AJ$8:AJ$1000)","v":0},{"$f":"SUM(AK$8:AK$1000)","v":0},{"$f":"COUNTIF(AL$8:AL$1000,\"<>\")","v":0},{"$f":"COUNTIF(AM$8:AM$1000,\"<>\")","v":0},{"$f":"SUM(AN$8:AN$1000)","v":0},{"$f":"SUM(AO$8:AO$1000)","v":0},{"$f":"COUNTIF(AP$8:AP$1000,\"<>\")","v":0},{"$f":"COUNTIF(AQ$8:AQ$1000,\"<>\")","v":0},{"$f":"SUM(AR$8:AR$1000)","v":0},{"$f":"SUM(AS$8:AS$1000)","v":0},{"$f":"COUNTIF(AT$8:AT$1000,\"<>\")","v":0},{"$f":"COUNTIF(AU$8:AU$1000,\"<>\")","v":0},{"$f":"SUM(AV$8:AV$1000)","v":0},{"$f":"SUM(AW$8:AW$1000)","v":0},{"$f":"COUNTIF(AX$8:AX$1000,\"<>\")","v":0},{"$f":"COUNTIF(AY$8:AY$1000,\"<>\")","v":0},{"$f":"SUM(AZ$8:AZ$1000)","v":0},{"$f":"SUM(BA$8:BA$1000)","v":0},{"$f":"COUNTIF(BB$8:BB$1000,\"<>\")","v":0},{"$f":"COUNTIF(BC$8:BC$1000,\"<>\")","v":0},{"$f":"SUM(BD$8:BD$1000)","v":0},{"$f":"SUM(BE$8:BE$1000)","v":0},{"$f":"COUNTIF(BF$8:BF$1000,\"<>\")","v":0},{"$f":"COUNTIF(BG$8:BG$1000,\"<>\")","v":0},{"$f":"SUM(BH$8:BH$1000)","v":0},{"$f":"SUM(BI$8:BI$1000)","v":0},{"$f":"COUNTIF(BJ$8:BJ$1000,\"<>\")","v":0},{"$f":"COUNTIF(BK$8:BK$1000,\"<>\")","v":0},{"$f":"SUM(BL$8:BL$1000)","v":0},{"$f":"SUM(BM$8:BM$1000)","v":0},{"$f":"COUNTIF(BN$8:BN$1000,\"<>\")","v":0},{"$f":"COUNTIF(BO$8:BO$1000,\"<>\")","v":0},{"$f":"SUM(BP$8:BP$1000)","v":0},{"$f":"SUM(BQ$8:BQ$1000)","v":0},{"$f":"COUNTIF(BR$8:BR$1000,\"<>\")","v":0},{"$f":"COUNTIF(BS$8:BS$1000,\"<>\")","v":0},{"$f":"SUM(BT$8:BT$1000)","v":0},{"$f":"SUM(BU$8:BU$1000)","v":0},{"$f":"COUNTIF(BV$8:BV$1000,\"<>\")","v":0},{"$f":"COUNTIF(BW$8:BW$1000,\"<>\")","v":0},{"$f":"SUM(BX$8:BX$1000)","v":0},{"$f":"SUM(BY$8:BY$1000)","v":0},{"$f":"COUNTIF(BZ$8:BZ$1000,\"<>\")","v":0},{"$f":"COUNTIF(CA$8:CA$1000,\"<>\")","v":0},{"$f":"SUM(CB$8:CB$1000)","v":0},{"$f":"SUM(CC$8:CC$1000)","v":0},{"$f":"COUNTIF(CD$8:CD$1000,\"<>\")","v":0},{"$f":"COUNTIF(CE$8:CE$1000,\"<>\")","v":0},{"$f":"SUM(CF$8:CF$1000)","v":0},{"$f":"SUM(CG$8:CG$1000)","v":0},{"$f":"COUNTIF(CH$8:CH$1000,\"<>\")","v":0},{"$f":"COUNTIF(CI$8:CI$1000,\"<>\")","v":0},{"$f":"SUM(CJ$8:CJ$1000)","v":0},{"$f":"SUM(CK$8:CK$1000)","v":0},{"$f":"COUNTIF(CL$8:CL$1000,\"<>\")","v":0},{"$f":"COUNTIF(CM$8:CM$1000,\"<>\")","v":0},{"$f":"SUM(CN$8:CN$1000)","v":0},{"$f":"SUM(CO$8:CO$1000)","v":0},{"$f":"COUNTIF(CP$8:CP$1000,\"<>\")","v":0},{"$f":"COUNTIF(CQ$8:CQ$1000,\"<>\")","v":0},{"$f":"SUM(CR$8:CR$1000)","v":0},{"$f":"SUM(CS$8:CS$1000)","v":0},{"$f":"COUNTIF(CT$8:CT$1000,\"<>\")","v":0},{"$f":"COUNTIF(CU$8:CU$1000,\"<>\")","v":0},{"$f":"SUM(CV$8:CV$1000)","v":0},{"$f":"SUM(CW$8:CW$1000)","v":0},{"$f":"COUNTIF(CX$8:CX$1000,\"<>\")","v":0},{"$f":"COUNTIF(CY$8:CY$1000,\"<>\")","v":0},{"$f":"SUM(CZ$8:CZ$1000)","v":0},{"$f":"SUM(DA$8:DA$1000)","v":0},{"$f":"COUNTIF(DB$8:DB$1000,\"<>\")","v":0},{"$f":"COUNTIF(DC$8:DC$1000,\"<>\")","v":0},{"$f":"SUM(DD$8:DD$1000)","v":0},{"$f":"SUM(DE$8:DE$1000)","v":0},{"$f":"COUNTIF(DF$8:DF$1000,\"<>\")","v":0},{"$f":"COUNTIF(DG$8:DG$1000,\"<>\")","v":0},{"$f":"SUM(DH$8:DH$1000)","v":0},{"$f":"SUM(DI$8:DI$1000)","v":0},{"$f":"COUNTIF(DJ$8:DJ$1000,\"<>\")","v":0},{"$f":"COUNTIF(DK$8:DK$1000,\"<>\")","v":0},{"$f":"SUM(DL$8:DL$1000)","v":0},{"$f":"SUM(DM$8:DM$1000)","v":0},{"$f":"COUNTIF(DN$8:DN$1000,\"<>\")","v":0},{"$f":"COUNTIF(DO$8:DO$1000,\"<>\")","v":0},{"$f":"SUM(DP$8:DP$1000)","v":0},{"$f":"SUM(DQ$8:DQ$1000)","v":0},{"$f":"COUNTIF(DR$8:DR$1000,\"<>\")","v":0},{"$f":"COUNTIF(DS$8:DS$1000,\"<>\")","v":0},{"$f":"SUM(DT$8:DT$1000)","v":0},{"$f":"SUM(DU$8:DU$1000)","v":0}]
["京都府","26817","船井郡衛生管理組合",{"$f":"SUM(H8,L8,P8,T8,X8,AB8,AF8,AJ8,AN8,AR8,AV8,AZ8,BD8,BH8,BL8,BP8,BT8,BX8,CB8,CF8,CJ8,CN8,CR8,CV8,CZ8,DD8,DH8,DL8,DP8,DT8)","v":{"v":367339,"d":"367,339"}},{"$f":"SUM(I8,M8,Q8,U8,Y8,AC8,AG8,AK8,AO8,AS8,AW8,BA8,BE8,BI8,BM8,BQ8,BU8,BY8,CC8,CG8,CK8,CO8,CS8,CW8,DA8,DE8,DI8,DM8,DQ8,DU8)","v":{"v":525760,"d":"525,760"}},"26213","南丹市",{"v":254714,"d":"254,714"},{"v":320228,"d":"320,228"},"26407","京丹波町",{"v":112625,"d":"112,625"},{"v":205532,"d":"205,532"}]
["京都府","26820","城南衛生管理組合",{"$f":"SUM(H9,L9,P9,T9,X9,AB9,AF9,AJ9,AN9,AR9,AV9,AZ9,BD9,BH9,BL9,BP9,BT9,BX9,CB9,CF9,CJ9,CN9,CR9,CV9,CZ9,DD9,DH9,DL9,DP9,DT9)","v":{"v":2390592,"d":"2,390,592"}},{"$f":"SUM(I9,M9,Q9,U9,Y9,AC9,AG9,AK9,AO9,AS9,AW9,BA9,BE9,BI9,BM9,BQ9,BU9,BY9,CC9,CG9,CK9,CO9,CS9,CW9,DA9,DE9,DI9,DM9,DQ9,DU9)","v":{"v":671050,"d":"671,050"}},"26204","宇治市",{"v":1130989,"d":"1,130,989"},{"v":335726,"d":"335,726"},"26207","城陽市",{"v":524257,"d":"524,257"},{"v":151389,"d":"151,389"},"26210","八幡市",{"v":474293,"d":"474,293"},{"v":72608,"d":"72,608"},"26322","久御山町",{"v":126702,"d":"126,702"},{"v":36438,"d":"36,438"},"26344","宇治田原町",{"v":72435,"d":"72,435"},{"v":49993,"d":"49,993"},"26343","井手町",{"v":61916,"d":"61,916"},{"v":24896,"d":"24,896"}]
["京都府","26821","相楽郡西部塵埃処理組合",{"$f":"SUM(H10,L10,P10,T10,X10,AB10,AF10,AJ10,AN10,AR10,AV10,AZ10,BD10,BH10,BL10,BP10,BT10,BX10,CB10,CF10,CJ10,CN10,CR10,CV10,CZ10,DD10,DH10,DL10,DP10,DT10)","v":{"v":226748,"d":"226,748"}},{"$f":"SUM(I10,M10,Q10,U10,Y10,AC10,AG10,AK10,AO10,AS10,AW10,BA10,BE10,BI10,BM10,BQ10,BU10,BY10,CC10,CG10,CK10,CO10,CS10,CW10,DA10,DE10,DI10,DM10,DQ10,DU10)","v":0},"26214","木津川市",{"v":128726,"d":"128,726"},0,"26366","精華町",{"v":98022,"d":"98,022"},0]
["京都府","26828","乙訓環境衛生組合",{"$f":"SUM(H11,L11,P11,T11,X11,AB11,AF11,AJ11,AN11,AR11,AV11,AZ11,BD11,BH11,BL11,BP11,BT11,BX11,CB11,CF11,CJ11,CN11,CR11,CV11,CZ11,DD11,DH11,DL11,DP11,DT11)","v":{"v":1144420,"d":"1,144,420"}},{"$f":"SUM(I11,M11,Q11,U11,Y11,AC11,AG11,AK11,AO11,AS11,AW11,BA11,BE11,BI11,BM11,BQ11,BU11,BY11,CC11,CG11,CK11,CO11,CS11,CW11,DA11,DE11,DI11,DM11,DQ11,DU11)","v":0},"26208","向日市",{"v":418170,"d":"418,170"},0,"26209","長岡京市",{"v":608031,"d":"608,031"},0,"26303","大山崎町",{"v":118219,"d":"118,219"},0]
["京都府","26843","相楽東部広域連合",{"$f":"SUM(H12,L12,P12,T12,X12,AB12,AF12,AJ12,AN12,AR12,AV12,AZ12,BD12,BH12,BL12,BP12,BT12,BX12,CB12,CF12,CJ12,CN12,CR12,CV12,CZ12,DD12,DH12,DL12,DP12,DT12)","v":{"v":223853,"d":"223,853"}},{"$f":"SUM(I12,M12,Q12,U12,Y12,AC12,AG12,AK12,AO12,AS12,AW12,BA12,BE12,BI12,BM12,BQ12,BU12,BY12,CC12,CG12,CK12,CO12,CS12,CW12,DA12,DE12,DI12,DM12,DQ12,DU12)","v":0},"26364","笠置町",{"v":45052,"d":"45,052"},0,"26365","和束町",{"v":109644,"d":"109,644"},0,"26367","南山城村",{"v":69157,"d":"69,157"},0]
["京都府","26849","相楽郡広域事務組合",{"$f":"SUM(H13,L13,P13,T13,X13,AB13,AF13,AJ13,AN13,AR13,AV13,AZ13,BD13,BH13,BL13,BP13,BT13,BX13,CB13,CF13,CJ13,CN13,CR13,CV13,CZ13,DD13,DH13,DL13,DP13,DT13)","v":0},{"$f":"SUM(I13,M13,Q13,U13,Y13,AC13,AG13,AK13,AO13,AS13,AW13,BA13,BE13,BI13,BM13,BQ13,BU13,BY13,CC13,CG13,CK13,CO13,CS13,CW13,DA13,DE13,DI13,DM13,DQ13,DU13)","v":{"v":298471,"d":"298,471"}},"26214","木津川市",0,{"v":161328,"d":"161,328"},"26364","笠置町",0,{"v":26822,"d":"26,822"},"26365","和束町",0,{"v":36746,"d":"36,746"},"26366","精華町",0,{"v":42445,"d":"42,445"},"26367","南山城村",0,{"v":31130,"d":"31,130"}]
["京都府","26861","宮津与謝環境組合",{"$f":"SUM(H14,L14,P14,T14,X14,AB14,AF14,AJ14,AN14,AR14,AV14,AZ14,BD14,BH14,BL14,BP14,BT14,BX14,CB14,CF14,CJ14,CN14,CR14,CV14,CZ14,DD14,DH14,DL14,DP14,DT14)","v":{"v":307800,"d":"307,800"}},{"$f":"SUM(I14,M14,Q14,U14,Y14,AC14,AG14,AK14,AO14,AS14,AW14,BA14,BE14,BI14,BM14,BQ14,BU14,BY14,CC14,CG14,CK14,CO14,CS14,CW14,DA14,DE14,DI14,DM14,DQ14,DU14)","v":0},"26205","宮津市",{"v":133857,"d":"133,857"},0,"26463","伊根町",{"v":15328,"d":"15,328"},0,"26465","与謝野町",{"v":158615,"d":"158,615"},0]

{"sheet":"経費集計","index":6,"n_rows":250,"n_cols":38,"rows_kept":250,"merged":[[5,1,5,3],[5,7,5,10],[6,1,6,3],[6,7,13,7],[6,8,9,8],[6,9,6,10],[7,1,7,3],[7,9,7,10],[8,1,8,3],[8,9,8,10],[9,1,9,3],[9,9,9,10],[10,1,10,3],[10,8,10,10],[11,1,11,3],[11,8,11,10],[12,1,12,3],[12,8,12,10],[13,2,13,3],[14,1,14,3],[14,7,29,7],[14,8,17,8],[15,1,15,3],[15,9,17,9],[16,2,16,3],[18,8,20,8],[18,9,18,10],[19,1,19,3],[19,9,19,10],[20,1,20,3],[20,9,20,10],[21,8,21,10],[22,8,25,8],[22,9,22,10],[23,9,23,10],[24,9,24,10],[25,9,25,10],[26,8,26,10],[27,8,27,10],[28,8,28,10],[30,7,30,10],[31,7,31,10]]}
[null,{"$f":"COUNTA(A:A) - 3","v":-3},{"$f":"SUBTOTAL(3,A:A ) - 2","v":-2}]
[null,null,"入力→",null,":市区町村コード(都道府県計は、01000～47000の何れか）",{"$nulls":6},{"$f":"LEFT(D2,2)","v":""},{"$f":"IF(L2<>\"\",VLOOKUP(L2,$AK$6:$AL$52,2,FALSE),\"-\")","v":"-"},{"$nulls":15},{"$f":"IF(VALUE(D2)=0,0,1)","v":0},{"$f":"IF(AC2=0,\"\",VLOOKUP(D2,'廃棄物事業経費（歳入）'!B7:C250,2,FALSE))","v":""},null,{"$f":"IF(AC2=0,1,IF(ISERROR(AD2),1,0))","v":1},null,"=COUNTA('廃棄物事業経費（歳入）'!B7:B250)+6",{"$f":"IF(AC2=0,0,VLOOKUP(D2,AH5:AI250,2,FALSE))","v":0}]
[]
[]
[{"$nulls":12},"（千円）",{"$nulls":20},{"$f":"+'廃棄物事業経費（歳入）'!B5","v":0},5]
[null,"歳入",null,null,"ごみ","し尿",null,"歳出",{"$nulls":3},"ごみ","し尿",{"$nulls":20},{"$f":"+'廃棄物事業経費（歳入）'!B6","v":0},6,null,"01","北海道"]
[null,"国庫支出金",null,null,{"$f":"AF7","v":{"v":0,"d":"0 "}},{"$f":"AF14","v":{"v":0,"d":"0 "}},null,"建設・改良費","工事費","収集運搬施設",null,{"$f":"AF21","v":{"v":0,"d":"0 "}},{"$f":"AF42","v":{"v":0,"d":"0 "}},{"$nulls":15},"国庫支出金","廃棄物事業経費（歳入）","F",{"$f":"IF(AF$2=0,INDIRECT(\"'\"&AD7&\"'!\"&AE7&$AI$2),0)","v":0},null,{"$f":"+'廃棄物事業経費（歳入）'!B7","v":"26000"},7,null,"02","青森県"]
[null,"都道府県支出金",null,null,{"v":0,"d":"0 "},{"v":0,"d":"0 "},{"$nulls":3},"中間処理施設",null,{"v":0,"d":"0 "},{"v":0,"d":"0 "},{"$nulls":15},"都道府県支出金","廃棄物事業経費（歳入）","G",0,null,{"$f":"+'廃棄物事業経費（歳入）'!B8","v":"26100"},8,null,"03","岩手県"]
[null,"地方債",null,null,{"v":0,"d":"0 "},{"v":0,"d":"0 "},{"$nulls":3},"最終処分場",null,{"v":0,"d":"0 "},{"v":0,"d":"0 "},{"$nulls":15},"地方債","廃棄物事業経費（歳入）","H",0,null,{"$f":"+'廃棄物事業経費（歳入）'!B9","v":"26201"},9,null,"04","宮城県"]
[null,"使用料・手数料",null,null,{"v":0,"d":"0 "},{"v":0,"d":"0 "},{"$nulls":3},"その他",null,{"v":0,"d":"0 "},{"v":0,"d":"0 "},{"$nulls":15},"使用料・手数料","廃棄物事業経費（歳入）","I",0,null,{"$f":"+'廃棄物事業経費（歳入）'!B10","v":"26202"},10,null,"05","秋田県"]
[null,"（市区町村分担金）",null,null,{"v":0,"d":"0 "},{"v":0,"d":"0 "},null,null,"調査費",null,null,{"v":0,"d":"0 "},{"v":0,"d":"0 "},{"$nulls":15},"（市区町村分担金）","廃棄物事業経費（歳入）","J",0,null,{"$f":"+'廃棄物事業経費（歳入）'!B11","v":"26203"},11,null,"06","山形県"]
[null,"その他",null,null,{"v":0,"d":"0 "},{"v":0,"d":"0 "},null,null,"（組合分担金）",null,null,{"v":0,"d":"0 "},{"v":0,"d":"0 "},{"$nulls":15},"その他","廃棄物事業経費（歳入）","K",0,null,{"$f":"+'廃棄物事業経費（歳入）'!B12","v":"26204"},12,null,"07","福島県"]
[null,"小計（分担金含む）",null,null,{"$f":"SUM(E7:E12)","v":{"v":0,"d":"0 "}},{"$f":"SUM(F7:F12)","v":{"v":0,"d":"0 "}},null,null,"小計",null,null,{"$f":"SUM(L7:L12)","v":{"v":0,"d":"0 "}},{"$f":"SUM(M7:M12)","v":{"v":0,"d":"0 "}},{"$nulls":15},"一般財源","廃棄物事業経費（歳入）","L",0,null,{"$f":"+'廃棄物事業経費（歳入）'!B13","v":"26205"},13,null,"08","茨城県"]
[null,null,"分担金除く",null,{"$f":"E13-E11","v":{"v":0,"d":"0 "}},{"$f":"F13-F11","v":{"v":0,"d":"0 "}},{"$nulls":4},"分担金除く",{"$f":"L13-L12","v":{"v":0,"d":"0 "}},{"$f":"M13-M12","v":{"v":0,"d":"0 "}},{"$nulls":15},"国庫支出金","廃棄物事業経費（歳入）","O",0,null,{"$f":"+'廃棄物事業経費（歳入）'!B14","v":"26206"},14,null,"09","栃木県"]
[null,"一般財源",null,null,{"$f":"AF13","v":{"v":0,"d":"0 "}},{"$f":"AF20","v":{"v":0,"d":"0 "}},null,"処理及び維持管理費","人件費","一般職",null,{"$f":"AF27","v":{"v":0,"d":"0 "}},{"$f":"AF48","v":{"v":0,"d":"0 "}},{"$nulls":15},"都道府県支出金","廃棄物事業経費（歳入）","P",0,null,{"$f":"+'廃棄物事業経費（歳入）'!B15","v":"26207"},15,null,"10","群馬県"]
[null,"合計",null,null,{"$f":"SUM(E13,E15)","v":{"v":0,"d":"0 "}},{"$f":"SUM(F13,F15)","v":{"v":0,"d":"0 "}},{"$nulls":3},"技能職","収集運搬",{"v":0,"d":"0 "},{"v":0,"d":"0 "},{"$nulls":15},"地方債","廃棄物事業経費（歳入）","Q",0,null,{"$f":"+'廃棄物事業経費（歳入）'!B16","v":"26208"},16,null,"11","埼玉県"]
[null,null,"分担金除く",null,{"$f":"SUM(E14:E15)","v":{"v":0,"d":"0 "}},{"$f":"SUM(F14:F15)","v":{"v":0,"d":"0 "}},{"$nulls":4},"中間処理",{"v":0,"d":"0 "},{"v":0,"d":"0 "},{"$nulls":15},"使用料・手数料","廃棄物事業経費（歳入）","R",0,null,{"$f":"+'廃棄物事業経費（歳入）'!B17","v":"26209"},17,null,"12","千葉県"]
[{"$nulls":10},"最終処分",{"v":0,"d":"0 "},{"v":0,"d":"0 "},{"$nulls":15},"（市区町村分担金）","廃棄物事業経費（歳入）","S",0,null,{"$f":"+'廃棄物事業経費（歳入）'!B18","v":"26210"},18,null,"13","東京都"]
[{"$nulls":8},"処理費","収集運搬費",null,{"v":0,"d":"0 "},{"v":0,"d":"0 "},{"$nulls":15},"その他","廃棄物事業経費（歳入）","T",0,null,{"$f":"+'廃棄物事業経費（歳入）'!B19","v":"26211"},19,null,"14","神奈川県"]
[null,"歳入の市区町村分担金",null,null,{"$f":"E11","v":{"v":0,"d":"0 "}},{"$f":"F11","v":{"v":0,"d":"0 "}},{"$nulls":3},"中間処理費",null,{"v":0,"d":"0 "},{"v":0,"d":"0 "},{"$nulls":15},"一般財源","廃棄物事業経費（歳入）","U",0,null,{"$f":"+'廃棄物事業経費（歳入）'!B20","v":"26212"},20,null,"15","新潟県"]
[null,"歳出の組合分担金　",null,null,{"$f":"L12+L27","v":{"v":0,"d":"0 "}},{"$f":"M12+M27","v":{"v":0,"d":"0 "}},{"$nulls":3},"最終処分費",null,{"v":0,"d":"0 "},{"v":0,"d":"0 "},{"$nulls":14},"ごみ","工事費（収集）","廃棄物事業経費（歳出）","F",0,null,{"$f":"+'廃棄物事業経費（歳入）'!B21","v":"26213"},21,null,"16","富山県"]
[{"$nulls":8},"車両等購入費",null,null,{"v":0,"d":"0 "},{"v":0,"d":"0 "},{"$nulls":14},"ごみ","工事費（中間）","廃棄物事業経費（歳出）","G",0,null,{"$f":"+'廃棄物事業経費（歳入）'!B22","v":"26214"},22,null,"17","石川県"]
[{"$nulls":8},"委託費","収集運搬費",null,{"v":0,"d":"0 "},{"v":0,"d":"0 "},{"$nulls":14},"ごみ","工事費（処分）","廃棄物事業経費（歳出）","H",0,null,{"$f":"+'廃棄物事業経費（歳入）'!B23","v":"26303"},23,null,"18","福井県"]
[{"$nulls":9},"中間処理費",null,{"v":0,"d":"0 "},{"v":0,"d":"0 "},{"$nulls":14},"ごみ","その他","廃棄物事業経費（歳出）","I",0,null,{"$f":"+'廃棄物事業経費（歳入）'!B24","v":"26322"},24,null,"19","山梨県"]
[{"$nulls":9},"最終処分費",null,{"v":0,"d":"0 "},{"v":0,"d":"0 "},{"$nulls":14},"ごみ","調査費","廃棄物事業経費（歳出）","J",0,null,{"$f":"+'廃棄物事業経費（歳入）'!B25","v":"26343"},25,null,"20","長野県"]
[{"$nulls":9},"その他",null,{"v":0,"d":"0 "},{"v":0,"d":"0 "},{"$nulls":14},"ごみ","（組合分担金）","廃棄物事業経費（歳出）","K",0,null,{"$f":"+'廃棄物事業経費（歳入）'!B26","v":"26344"},26,null,"21","岐阜県"]
[{"$nulls":8},"（組合分担金）",null,null,{"v":0,"d":"0 "},{"v":0,"d":"0 "},{"$nulls":14},"ごみ","人件費（一般職）","廃棄物事業経費（歳出）","N",0,null,{"$f":"+'廃棄物事業経費（歳入）'!B27","v":"26364"},27,null,"22","静岡県"]
[{"$nulls":8},"調査研究費",null,null,{"v":0,"d":"0 "},{"v":0,"d":"0 "},{"$nulls":14},"ごみ","人件費（収集）","廃棄物事業経費（歳出）","O",0,null,{"$f":"+'廃棄物事業経費（歳入）'!B28","v":"26365"},28,null,"23","愛知県"]
[{"$nulls":8},"小計",null,null,{"$f":"SUM(L15:L28)","v":{"v":0,"d":"0 "}},{"$f":"SUM(M15:M28)","v":{"v":0,"d":"0 "}},{"$nulls":14},"ごみ","人件費（中間）","廃棄物事業経費（歳出）","P",0,null,{"$f":"+'廃棄物事業経費（歳入）'!B29","v":"26366"},29,null,"24","三重県"]
[{"$nulls":10},"分担金除く",{"$f":"L29-L27","v":{"v":0,"d":"0 "}},{"$f":"M29-M27","v":{"v":0,"d":"0 "}},{"$nulls":14},"ごみ","人件費（処分）","廃棄物事業経費（歳出）","Q",0,null,{"$f":"+'廃棄物事業経費（歳入）'!B30","v":"26367"},30,null,"25","滋賀県"]
[{"$nulls":7},"その他",{"$nulls":3},{"$f":"AF41","v":{"v":0,"d":"0 "}},{"$f":"AF62","v":{"v":0,"d":"0 "}},{"$nulls":14},"ごみ","処理費（収集）","廃棄物事業経費（歳出）","S",0,null,{"$f":"+'廃棄物事業経費（歳入）'!B31","v":"26407"},31,null,"26","京都府"]
[{"$nulls":7},"合計",{"$nulls":3},{"$f":"SUM(L13,L29,L31)","v":{"v":0,"d":"0 "}},{"$f":"SUM(M13,M29,M31)","v":{"v":0,"d":"0 "}},{"$nulls":14},"ごみ","処理費（中間）","廃棄物事業経費（歳出）","T",0,null,{"$f":"+'廃棄物事業経費（歳入）'!B32","v":"26463"},32,null,"27","大阪府"]
[{"$nulls":10},"分担金除く",{"$f":"SUM(L14,L30,L31)","v":{"v":0,"d":"0 "}},{"$f":"SUM(M14,M30,M31)","v":{"v":0,"d":"0 "}},{"$nulls":14},"ごみ","処理費（処分）","廃棄物事業経費（歳出）","U",0,null,{"$f":"+'廃棄物事業経費（歳入）'!B33","v":"26465"},33,null,"28","兵庫県"]
[{"$nulls":27},"ごみ","車両等購入費","廃棄物事業経費（歳出）","V",0,null,{"$f":"+'廃棄物事業経費（歳入）'!B34","v":"26817"},34,null,"29","奈良県"]
[{"$nulls":27},"ごみ","委託費（収集）","廃棄物事業経費（歳出）","X",0,null,{"$f":"+'廃棄物事業経費（歳入）'!B35","v":"26820"},35,null,"30","和歌山県"]
[{"$nulls":27},"ごみ","委託費（中間）","廃棄物事業経費（歳出）","Y",0,null,{"$f":"+'廃棄物事業経費（歳入）'!B36","v":"26821"},36,null,"31","鳥取県"]
[{"$nulls":27},"ごみ","委託費（処分）","廃棄物事業経費（歳出）","Z",0,null,{"$f":"+'廃棄物事業経費（歳入）'!B37","v":"26828"},37,null,"32","島根県"]
[{"$nulls":27},"ごみ","その他","廃棄物事業経費（歳出）","AA",0,null,{"$f":"+'廃棄物事業経費（歳入）'!B38","v":"26843"},38,null,"33","岡山県"]
[{"$nulls":27},"ごみ","（組合分担金）","廃棄物事業経費（歳出）","AB",{"$f":"IF(AF$2=0,INDIRECT(\"'\"&AD39&\"'!\"&AE39&$AI$2),0)","v":0},null,{"$f":"+'廃棄物事業経費（歳入）'!B39","v":"26849"},39,null,"34","広島県"]
[{"$nulls":27},"ごみ","調査研究費","廃棄物事業経費（歳出）","AC",0,null,{"$f":"+'廃棄物事業経費（歳入）'!B40","v":"26861"},40,null,"35","山口県"]
[{"$nulls":27},"ごみ","その他","廃棄物事業経費（歳出）","AD",0,null,{"$f":"+'廃棄物事業経費（歳入）'!B41","v":0},41,null,"36","徳島県"]
[{"$nulls":27},"し尿","工事費（収集）","廃棄物事業経費（歳出）","AH",0,null,{"$f":"+'廃棄物事業経費（歳入）'!B42","v":0},42,null,"37","香川県"]
[{"$nulls":27},"し尿","工事費（中間）","廃棄物事業経費（歳出）","AI",0,null,{"$f":"+'廃棄物事業経費（歳入）'!B43","v":0},43,null,"38","愛媛県"]
[{"$nulls":27},"し尿","工事費（処分）","廃棄物事業経費（歳出）","AJ",0,null,{"$f":"+'廃棄物事業経費（歳入）'!B44","v":0},44,null,"39","高知県"]
[{"$nulls":27},"し尿","その他","廃棄物事業経費（歳出）","AK",0,null,{"$f":"+'廃棄物事業経費（歳入）'!B45","v":0},45,null,"40","福岡県"]
[{"$nulls":27},"し尿","調査費","廃棄物事業経費（歳出）","AL",0,null,{"$f":"+'廃棄物事業経費（歳入）'!B46","v":0},46,null,"41","佐賀県"]
[{"$nulls":27},"し尿","（組合分担金）","廃棄物事業経費（歳出）","AM",0,null,{"$f":"+'廃棄物事業経費（歳入）'!B47","v":0},47,null,"42","長崎県"]
[{"$nulls":27},"し尿","人件費（一般職）","廃棄物事業経費（歳出）","AP",0,null,{"$f":"+'廃棄物事業経費（歳入）'!B48","v":0},48,null,"43","熊本県"]
[{"$nulls":27},"し尿","人件費（収集）","廃棄物事業経費（歳出）","AQ",0,null,{"$f":"+'廃棄物事業経費（歳入）'!B49","v":0},49,null,"44","大分県"]
[{"$nulls":27},"し尿","人件費（中間）","廃棄物事業経費（歳出）","AR",0,null,{"$f":"+'廃棄物事業経費（歳入）'!B50","v":0},50,null,"45","宮崎県"]
[{"$nulls":27},"し尿","人件費（処分）","廃棄物事業経費（歳出）","AS",0,null,{"$f":"+'廃棄物事業経費（歳入）'!B51","v":0},51,null,"46","鹿児島県"]
[{"$nulls":27},"し尿","処理費（収集）","廃棄物事業経費（歳出）","AU",0,null,{"$f":"+'廃棄物事業経費（歳入）'!B52","v":0},52,null,"47","沖縄県"]
[{"$nulls":27},"し尿","処理費（中間）","廃棄物事業経費（歳出）","AV",0,null,{"$f":"+'廃棄物事業経費（歳入）'!B53","v":0},53]
[{"$nulls":27},"し尿","処理費（処分）","廃棄物事業経費（歳出）","AW",0,null,{"$f":"+'廃棄物事業経費（歳入）'!B54","v":0},54]
[{"$nulls":27},"し尿","車両等購入費","廃棄物事業経費（歳出）","AX",0,null,{"$f":"+'廃棄物事業経費（歳入）'!B55","v":0},55]
[{"$nulls":27},"し尿","委託費（収集）","廃棄物事業経費（歳出）","AZ",0,null,{"$f":"+'廃棄物事業経費（歳入）'!B56","v":0},56]
[{"$nulls":27},"し尿","委託費（中間）","廃棄物事業経費（歳出）","BA",0,null,{"$f":"+'廃棄物事業経費（歳入）'!B57","v":0},57]
[{"$nulls":27},"し尿","委託費（処分）","廃棄物事業経費（歳出）","BB",0,null,{"$f":"+'廃棄物事業経費（歳入）'!B58","v":0},58]
[{"$nulls":27},"し尿","その他","廃棄物事業経費（歳出）","BC",0,null,{"$f":"+'廃棄物事業経費（歳入）'!B59","v":0},59]
[{"$nulls":27},"し尿","（組合分担金）","廃棄物事業経費（歳出）","BD",0,null,{"$f":"+'廃棄物事業経費（歳入）'!B60","v":0},60]
[{"$nulls":27},"し尿","調査研究費","廃棄物事業経費（歳出）","BE",0,null,{"$f":"+'廃棄物事業経費（歳入）'!B61","v":0},61]
[{"$nulls":27},"し尿","その他","廃棄物事業経費（歳出）","BF",0,null,{"$f":"+'廃棄物事業経費（歳入）'!B62","v":0},62]
[{"$nulls":33},{"$f":"+'廃棄物事業経費（歳入）'!B63","v":0},63]
[{"$nulls":33},{"$f":"+'廃棄物事業経費（歳入）'!B64","v":0},64]
[{"$nulls":33},{"$f":"+'廃棄物事業経費（歳入）'!B65","v":0},65]
[{"$nulls":33},{"$f":"+'廃棄物事業経費（歳入）'!B66","v":0},66]
[{"$nulls":33},{"$f":"+'廃棄物事業経費（歳入）'!B67","v":0},67]
[{"$nulls":33},{"$f":"+'廃棄物事業経費（歳入）'!B68","v":0},68]
[{"$nulls":33},{"$f":"+'廃棄物事業経費（歳入）'!B69","v":0},69]
[{"$nulls":33},{"$f":"+'廃棄物事業経費（歳入）'!B70","v":0},70]
[{"$nulls":33},{"$f":"+'廃棄物事業経費（歳入）'!B71","v":0},71]
[{"$nulls":33},{"$f":"+'廃棄物事業経費（歳入）'!B72","v":0},72]
[{"$nulls":33},{"$f":"+'廃棄物事業経費（歳入）'!B73","v":0},73]
[{"$nulls":33},{"$f":"+'廃棄物事業経費（歳入）'!B74","v":0},74]
[{"$nulls":33},{"$f":"+'廃棄物事業経費（歳入）'!B75","v":0},75]
[{"$nulls":33},{"$f":"+'廃棄物事業経費（歳入）'!B76","v":0},76]
[{"$nulls":33},{"$f":"+'廃棄物事業経費（歳入）'!B77","v":0},77]
[{"$nulls":33},{"$f":"+'廃棄物事業経費（歳入）'!B78","v":0},78]
[{"$nulls":33},{"$f":"+'廃棄物事業経費（歳入）'!B79","v":0},79]
[{"$nulls":33},{"$f":"+'廃棄物事業経費（歳入）'!B80","v":0},80]
[{"$nulls":33},{"$f":"+'廃棄物事業経費（歳入）'!B81","v":0},81]
[{"$nulls":33},{"$f":"+'廃棄物事業経費（歳入）'!B82","v":0},82]
[{"$nulls":33},{"$f":"+'廃棄物事業経費（歳入）'!B83","v":0},83]
[{"$nulls":33},{"$f":"+'廃棄物事業経費（歳入）'!B84","v":0},84]
[{"$nulls":33},{"$f":"+'廃棄物事業経費（歳入）'!B85","v":0},85]
[{"$nulls":33},{"$f":"+'廃棄物事業経費（歳入）'!B86","v":0},86]
[{"$nulls":33},{"$f":"+'廃棄物事業経費（歳入）'!B87","v":0},87]
[{"$nulls":33},{"$f":"+'廃棄物事業経費（歳入）'!B88","v":0},88]
[{"$nulls":33},{"$f":"+'廃棄物事業経費（歳入）'!B89","v":0},89]
[{"$nulls":33},{"$f":"+'廃棄物事業経費（歳入）'!B90","v":0},90]
[{"$nulls":33},{"$f":"+'廃棄物事業経費（歳入）'!B91","v":0},91]
[{"$nulls":33},{"$f":"+'廃棄物事業経費（歳入）'!B92","v":0},92]
[{"$nulls":33},{"$f":"+'廃棄物事業経費（歳入）'!B93","v":0},93]
[{"$nulls":33},{"$f":"+'廃棄物事業経費（歳入）'!B94","v":0},94]
[{"$nulls":33},{"$f":"+'廃棄物事業経費（歳入）'!B95","v":0},95]
[{"$nulls":33},{"$f":"+'廃棄物事業経費（歳入）'!B96","v":0},96]
[{"$nulls":33},{"$f":"+'廃棄物事業経費（歳入）'!B97","v":0},97]
[{"$nulls":33},{"$f":"+'廃棄物事業経費（歳入）'!B98","v":0},98]
[{"$nulls":33},{"$f":"+'廃棄物事業経費（歳入）'!B99","v":0},99]
[{"$nulls":33},{"$f":"+'廃棄物事業経費（歳入）'!B100","v":0},100]
[{"$nulls":33},{"$f":"+'廃棄物事業経費（歳入）'!B101","v":0},101]
[{"$nulls":33},{"$f":"+'廃棄物事業経費（歳入）'!B102","v":0},102]
[{"$nulls":33},{"$f":"+'廃棄物事業経費（歳入）'!B103","v":0},103]
[{"$nulls":33},{"$f":"+'廃棄物事業経費（歳入）'!B104","v":0},104]
[{"$nulls":33},{"$f":"+'廃棄物事業経費（歳入）'!B105","v":0},105]
[{"$nulls":33},{"$f":"+'廃棄物事業経費（歳入）'!B106","v":0},106]
[{"$nulls":33},{"$f":"+'廃棄物事業経費（歳入）'!B107","v":0},107]
[{"$nulls":33},{"$f":"+'廃棄物事業経費（歳入）'!B108","v":0},108]
[{"$nulls":33},{"$f":"+'廃棄物事業経費（歳入）'!B109","v":0},109]
[{"$nulls":33},{"$f":"+'廃棄物事業経費（歳入）'!B110","v":0},110]
[{"$nulls":33},{"$f":"+'廃棄物事業経費（歳入）'!B111","v":0},111]
[{"$nulls":33},{"$f":"+'廃棄物事業経費（歳入）'!B112","v":0},112]
[{"$nulls":33},{"$f":"+'廃棄物事業経費（歳入）'!B113","v":0},113]
[{"$nulls":33},{"$f":"+'廃棄物事業経費（歳入）'!B114","v":0},114]
[{"$nulls":33},{"$f":"+'廃棄物事業経費（歳入）'!B115","v":0},115]
[{"$nulls":33},{"$f":"+'廃棄物事業経費（歳入）'!B116","v":0},116]
[{"$nulls":33},{"$f":"+'廃棄物事業経費（歳入）'!B117","v":0},117]
[{"$nulls":33},{"$f":"+'廃棄物事業経費（歳入）'!B118","v":0},118]
[{"$nulls":33},{"$f":"+'廃棄物事業経費（歳入）'!B119","v":0},119]
[{"$nulls":33},{"$f":"+'廃棄物事業経費（歳入）'!B120","v":0},120]
[{"$nulls":33},{"$f":"+'廃棄物事業経費（歳入）'!B121","v":0},121]
[{"$nulls":33},{"$f":"+'廃棄物事業経費（歳入）'!B122","v":0},122]
[{"$nulls":33},{"$f":"+'廃棄物事業経費（歳入）'!B123","v":0},123]
[{"$nulls":33},{"$f":"+'廃棄物事業経費（歳入）'!B124","v":0},124]
[{"$nulls":33},{"$f":"+'廃棄物事業経費（歳入）'!B125","v":0},125]
[{"$nulls":33},{"$f":"+'廃棄物事業経費（歳入）'!B126","v":0},126]
[{"$nulls":33},{"$f":"+'廃棄物事業経費（歳入）'!B127","v":0},127]
[{"$nulls":33},{"$f":"+'廃棄物事業経費（歳入）'!B128","v":0},128]
[{"$nulls":33},{"$f":"+'廃棄物事業経費（歳入）'!B129","v":0},129]
[{"$nulls":33},{"$f":"+'廃棄物事業経費（歳入）'!B130","v":0},130]
[{"$nulls":33},{"$f":"+'廃棄物事業経費（歳入）'!B131","v":0},131]
[{"$nulls":33},{"$f":"+'廃棄物事業経費（歳入）'!B132","v":0},132]
[{"$nulls":33},{"$f":"+'廃棄物事業経費（歳入）'!B133","v":0},133]
[{"$nulls":33},{"$f":"+'廃棄物事業経費（歳入）'!B134","v":0},134]
[{"$nulls":33},{"$f":"+'廃棄物事業経費（歳入）'!B135","v":0},135]
[{"$nulls":33},{"$f":"+'廃棄物事業経費（歳入）'!B136","v":0},136]
[{"$nulls":33},{"$f":"+'廃棄物事業経費（歳入）'!B137","v":0},137]
[{"$nulls":33},{"$f":"+'廃棄物事業経費（歳入）'!B138","v":0},138]
[{"$nulls":33},{"$f":"+'廃棄物事業経費（歳入）'!B139","v":0},139]
[{"$nulls":33},{"$f":"+'廃棄物事業経費（歳入）'!B140","v":0},140]
[{"$nulls":33},{"$f":"+'廃棄物事業経費（歳入）'!B141","v":0},141]
[{"$nulls":33},{"$f":"+'廃棄物事業経費（歳入）'!B142","v":0},142]
[{"$nulls":33},{"$f":"+'廃棄物事業経費（歳入）'!B143","v":0},143]
[{"$nulls":33},{"$f":"+'廃棄物事業経費（歳入）'!B144","v":0},144]
[{"$nulls":33},{"$f":"+'廃棄物事業経費（歳入）'!B145","v":0},145]
[{"$nulls":33},{"$f":"+'廃棄物事業経費（歳入）'!B146","v":0},146]
[{"$nulls":33},{"$f":"+'廃棄物事業経費（歳入）'!B147","v":0},147]
[{"$nulls":33},{"$f":"+'廃棄物事業経費（歳入）'!B148","v":0},148]
[{"$nulls":33},{"$f":"+'廃棄物事業経費（歳入）'!B149","v":0},149]
[{"$nulls":33},{"$f":"+'廃棄物事業経費（歳入）'!B150","v":0},150]
[{"$nulls":33},{"$f":"+'廃棄物事業経費（歳入）'!B151","v":0},151]
[{"$nulls":33},{"$f":"+'廃棄物事業経費（歳入）'!B152","v":0},152]
[{"$nulls":33},{"$f":"+'廃棄物事業経費（歳入）'!B153","v":0},153]
[{"$nulls":33},{"$f":"+'廃棄物事業経費（歳入）'!B154","v":0},154]
[{"$nulls":33},{"$f":"+'廃棄物事業経費（歳入）'!B155","v":0},155]
[{"$nulls":33},{"$f":"+'廃棄物事業経費（歳入）'!B156","v":0},156]
[{"$nulls":33},{"$f":"+'廃棄物事業経費（歳入）'!B157","v":0},157]
[{"$nulls":33},{"$f":"+'廃棄物事業経費（歳入）'!B158","v":0},158]
[{"$nulls":33},{"$f":"+'廃棄物事業経費（歳入）'!B159","v":0},159]
[{"$nulls":33},{"$f":"+'廃棄物事業経費（歳入）'!B160","v":0},160]
[{"$nulls":33},{"$f":"+'廃棄物事業経費（歳入）'!B161","v":0},161]
[{"$nulls":33},{"$f":"+'廃棄物事業経費（歳入）'!B162","v":0},162]
[{"$nulls":33},{"$f":"+'廃棄物事業経費（歳入）'!B163","v":0},163]
[{"$nulls":33},{"$f":"+'廃棄物事業経費（歳入）'!B164","v":0},164]
[{"$nulls":33},{"$f":"+'廃棄物事業経費（歳入）'!B165","v":0},165]
[{"$nulls":33},{"$f":"+'廃棄物事業経費（歳入）'!B166","v":0},166]
[{"$nulls":33},{"$f":"+'廃棄物事業経費（歳入）'!B167","v":0},167]
[{"$nulls":33},{"$f":"+'廃棄物事業経費（歳入）'!B168","v":0},168]
[{"$nulls":33},{"$f":"+'廃棄物事業経費（歳入）'!B169","v":0},169]
[{"$nulls":33},{"$f":"+'廃棄物事業経費（歳入）'!B170","v":0},170]
[{"$nulls":33},{"$f":"+'廃棄物事業経費（歳入）'!B171","v":0},171]
[{"$nulls":33},{"$f":"+'廃棄物事業経費（歳入）'!B172","v":0},172]
[{"$nulls":33},{"$f":"+'廃棄物事業経費（歳入）'!B173","v":0},173]
[{"$nulls":33},{"$f":"+'廃棄物事業経費（歳入）'!B174","v":0},174]
[{"$nulls":33},{"$f":"+'廃棄物事業経費（歳入）'!B175","v":0},175]
[{"$nulls":33},{"$f":"+'廃棄物事業経費（歳入）'!B176","v":0},176]
[{"$nulls":33},{"$f":"+'廃棄物事業経費（歳入）'!B177","v":0},177]
[{"$nulls":33},{"$f":"+'廃棄物事業経費（歳入）'!B178","v":0},178]
[{"$nulls":33},{"$f":"+'廃棄物事業経費（歳入）'!B179","v":0},179]
[{"$nulls":33},{"$f":"+'廃棄物事業経費（歳入）'!B180","v":0},180]
[{"$nulls":33},{"$f":"+'廃棄物事業経費（歳入）'!B181","v":0},181]
[{"$nulls":33},{"$f":"+'廃棄物事業経費（歳入）'!B182","v":0},182]
[{"$nulls":33},{"$f":"+'廃棄物事業経費（歳入）'!B183","v":0},183]
[{"$nulls":33},{"$f":"+'廃棄物事業経費（歳入）'!B184","v":0},184]
[{"$nulls":33},{"$f":"+'廃棄物事業経費（歳入）'!B185","v":0},185]
[{"$nulls":33},{"$f":"+'廃棄物事業経費（歳入）'!B186","v":0},186]
[{"$nulls":33},{"$f":"+'廃棄物事業経費（歳入）'!B187","v":0},187]
[{"$nulls":33},{"$f":"+'廃棄物事業経費（歳入）'!B188","v":0},188]
[{"$nulls":33},{"$f":"+'廃棄物事業経費（歳入）'!B189","v":0},189]
[{"$nulls":33},{"$f":"+'廃棄物事業経費（歳入）'!B190","v":0},190]
[{"$nulls":33},{"$f":"+'廃棄物事業経費（歳入）'!B191","v":0},191]
[{"$nulls":33},{"$f":"+'廃棄物事業経費（歳入）'!B192","v":0},192]
[{"$nulls":33},{"$f":"+'廃棄物事業経費（歳入）'!B193","v":0},193]
[{"$nulls":33},{"$f":"+'廃棄物事業経費（歳入）'!B194","v":0},194]
[{"$nulls":33},{"$f":"+'廃棄物事業経費（歳入）'!B195","v":0},195]
[{"$nulls":33},{"$f":"+'廃棄物事業経費（歳入）'!B196","v":0},196]
[{"$nulls":33},{"$f":"+'廃棄物事業経費（歳入）'!B197","v":0},197]
[{"$nulls":33},{"$f":"+'廃棄物事業経費（歳入）'!B198","v":0},198]
[{"$nulls":33},{"$f":"+'廃棄物事業経費（歳入）'!B199","v":0},199]
[{"$nulls":33},{"$f":"+'廃棄物事業経費（歳入）'!B200","v":0},200]
[{"$nulls":33},{"$f":"+'廃棄物事業経費（歳入）'!B201","v":0},201]
[{"$nulls":33},{"$f":"+'廃棄物事業経費（歳入）'!B202","v":0},202]
[{"$nulls":33},{"$f":"+'廃棄物事業経費（歳入）'!B203","v":0},203]
[{"$nulls":33},{"$f":"+'廃棄物事業経費（歳入）'!B204","v":0},204]
[{"$nulls":33},{"$f":"+'廃棄物事業経費（歳入）'!B205","v":0},205]
[{"$nulls":33},{"$f":"+'廃棄物事業経費（歳入）'!B206","v":0},206]
[{"$nulls":33},{"$f":"+'廃棄物事業経費（歳入）'!B207","v":0},207]
[{"$nulls":33},{"$f":"+'廃棄物事業経費（歳入）'!B208","v":0},208]
[{"$nulls":33},{"$f":"+'廃棄物事業経費（歳入）'!B209","v":0},209]
[{"$nulls":33},{"$f":"+'廃棄物事業経費（歳入）'!B210","v":0},210]
[{"$nulls":33},{"$f":"+'廃棄物事業経費（歳入）'!B211","v":0},211]
[{"$nulls":33},{"$f":"+'廃棄物事業経費（歳入）'!B212","v":0},212]
[{"$nulls":33},{"$f":"+'廃棄物事業経費（歳入）'!B213","v":0},213]
[{"$nulls":33},{"$f":"+'廃棄物事業経費（歳入）'!B214","v":0},214]
[{"$nulls":33},{"$f":"+'廃棄物事業経費（歳入）'!B215","v":0},215]
[{"$nulls":33},{"$f":"+'廃棄物事業経費（歳入）'!B216","v":0},216]
[{"$nulls":33},{"$f":"+'廃棄物事業経費（歳入）'!B217","v":0},217]
[{"$nulls":33},{"$f":"+'廃棄物事業経費（歳入）'!B218","v":0},218]
[{"$nulls":33},{"$f":"+'廃棄物事業経費（歳入）'!B219","v":0},219]
[{"$nulls":33},{"$f":"+'廃棄物事業経費（歳入）'!B220","v":0},220]
[{"$nulls":33},{"$f":"+'廃棄物事業経費（歳入）'!B221","v":0},221]
[{"$nulls":33},{"$f":"+'廃棄物事業経費（歳入）'!B222","v":0},222]
[{"$nulls":33},{"$f":"+'廃棄物事業経費（歳入）'!B223","v":0},223]
[{"$nulls":33},{"$f":"+'廃棄物事業経費（歳入）'!B224","v":0},224]
[{"$nulls":33},{"$f":"+'廃棄物事業経費（歳入）'!B225","v":0},225]
[{"$nulls":33},{"$f":"+'廃棄物事業経費（歳入）'!B226","v":0},226]
[{"$nulls":33},{"$f":"+'廃棄物事業経費（歳入）'!B227","v":0},227]
[{"$nulls":33},{"$f":"+'廃棄物事業経費（歳入）'!B228","v":0},228]
[{"$nulls":33},{"$f":"+'廃棄物事業経費（歳入）'!B229","v":0},229]
[{"$nulls":33},{"$f":"+'廃棄物事業経費（歳入）'!B230","v":0},230]
[{"$nulls":33},{"$f":"+'廃棄物事業経費（歳入）'!B231","v":0},231]
[{"$nulls":33},{"$f":"+'廃棄物事業経費（歳入）'!B232","v":0},232]
[{"$nulls":33},{"$f":"+'廃棄物事業経費（歳入）'!B233","v":0},233]
[{"$nulls":33},{"$f":"+'廃棄物事業経費（歳入）'!B234","v":0},234]
[{"$nulls":33},{"$f":"+'廃棄物事業経費（歳入）'!B235","v":0},235]
[{"$nulls":33},{"$f":"+'廃棄物事業経費（歳入）'!B236","v":0},236]
[{"$nulls":33},{"$f":"+'廃棄物事業経費（歳入）'!B237","v":0},237]
[{"$nulls":33},{"$f":"+'廃棄物事業経費（歳入）'!B238","v":0},238]
[{"$nulls":33},{"$f":"+'廃棄物事業経費（歳入）'!B239","v":0},239]
[{"$nulls":33},{"$f":"+'廃棄物事業経費（歳入）'!B240","v":0},240]
[{"$nulls":33},{"$f":"+'廃棄物事業経費（歳入）'!B241","v":0},241]
[{"$nulls":33},{"$f":"+'廃棄物事業経費（歳入）'!B242","v":0},242]
[{"$nulls":33},{"$f":"+'廃棄物事業経費（歳入）'!B243","v":0},243]
[{"$nulls":33},{"$f":"+'廃棄物事業経費（歳入）'!B244","v":0},244]
[{"$nulls":33},{"$f":"+'廃棄物事業経費（歳入）'!B245","v":0},245]
[{"$nulls":33},{"$f":"+'廃棄物事業経費（歳入）'!B246","v":0},246]
[{"$nulls":33},{"$f":"+'廃棄物事業経費（歳入）'!B247","v":0},247]
[{"$nulls":33},{"$f":"+'廃棄物事業経費（歳入）'!B248","v":0},248]
[{"$nulls":33},{"$f":"+'廃棄物事業経費（歳入）'!B249","v":0},249]
[{"$nulls":33},{"$f":"+'廃棄物事業経費（歳入）'!B250","v":0},250]