{"text_format":"3","workbook":"xlsx","n_sheets":24,"sheets":["ごみ処理概要","ごみ搬入量内訳(総括)","ごみ搬入量内訳(直接資源化)","ごみ搬入量内訳(焼却)","ごみ搬入量内訳(粗大)","ごみ搬入量内訳(堆肥化)","ごみ搬入量内訳(飼料化)","ごみ搬入量内訳(メタン化)","ごみ搬入量内訳(燃料化)","ごみ搬入量内訳(セメント)","ごみ搬入量内訳(資源化等)","ごみ搬入量内訳(その他)","ごみ搬入量内訳(直接埋立)","ごみ搬入量内訳(海洋投入)","資源化量内訳","施設資源化量内訳(焼却)","施設資源化量内訳(粗大)","施設資源化量内訳(堆肥化)","施設資源化量内訳(飼料化)","施設資源化量内訳(メタン化)","施設資源化量内訳(燃料化)","施設資源化量内訳(セメント)","施設資源化量内訳(資源化等)","ごみ処理量内訳"],"not_rendered":{"external_links":1,"defined_names":52},"read":"whole","date_system":"1900"}

{"sheet":"ごみ処理概要","index":0,"n_rows":9,"n_cols":31,"rows_kept":9,"merged":[[1,0,5,0],[1,1,5,1],[1,2,5,2],[1,3,4,3],[1,16,4,16],[1,17,1,24],[1,25,4,25],[1,26,4,26],[1,27,1,30],[2,4,3,4],[2,5,3,5],[2,6,2,13],[2,14,3,14],[2,15,3,15],[2,17,4,17],[2,18,4,18],[2,19,4,19],[2,20,4,20],[2,21,4,21],[2,22,4,22],[2,23,4,23],[2,24,3,24],[2,27,3,27],[2,28,3,28],[2,29,3,29],[2,30,3,30],[3,6,4,6],[3,7,4,7],[3,8,4,8],[3,9,4,9],[3,10,4,10],[3,11,4,11],[3,12,4,12],[3,13,4,13]]}
["【災害】ごみ処理の概要（平成28年度実績）"]
["都道府県名","地方公共団体コード","市区町村名","災害量廃棄物\n排出量","ごみ処理量 (直接焼却量+直接最終処分量+焼却以外の中間処理量+直接資源化量)",{"$nulls":11},"減量処理率 (直接資源化量+直接焼却量+焼却以外の中間処理量)/ごみ処理量*100\n\n","中間処理後再生利用量 (焼却施設＋粗大ごみ処理施設+ごみ堆肥化施設+ごみ飼料化施設+メタン化施設+ごみ燃料化施設+その他の資源化等を行う施設)",{"$nulls":7},"リサイクル率 Ｒ\n(直接資源化量+中間処理後再生利用量)/(ごみ処理量)*100","リサイクル率 Ｒ’\n(直接資源化量+中間処理後再生利用量〔固形燃料、焼却灰・飛灰のｾﾒﾝﾄ原料化、セメント等への直接投入、飛灰の山元還元　を除く〕)/(ごみ処理量)*100","最終処分量 (直接最終処分量+焼却残渣量+処理残渣量)"]
[{"$nulls":4},"直接焼却量","直接最終\n処分量\n（海洋投入含む）","焼却以外の中間処理量(粗大ごみ処理施設+ごみ堆肥化施設+ごみ飼料化施設+メタン化施設+ごみ燃料化施設+その他の資源化等を行う施設+その他の施設)",{"$nulls":7},"直接\n資源化量","合計",null,"焼却施設","粗大ごみ\n処理施設","ごみ堆肥化施設","ごみ飼料化施設","メタン化施設","ごみ燃料化施設","その他の資源化等を行う施設（セメント等への直接投入含む）","合計",null,null,"直接最終\n処分量\n（海洋投入含む）","焼却残渣量","処理残渣量","合計"]
[{"$nulls":6},"合計","粗大ごみ\n処理施設","資源化等を行う施設（セメント等への直接投入含む）","ごみ堆肥化施設","ごみ飼料化施設","メタン化施設","ごみ燃料化\n施設","その他の\n施設"]
[]
[{"$nulls":3},"（ｔ）","（ｔ）","（ｔ）","（ｔ）","（ｔ）","（ｔ）","（ｔ）","（ｔ）","（ｔ）","（ｔ）","（ｔ）","（ｔ）","（ｔ）","（％）","（ｔ）","（ｔ）","（ｔ）","（ｔ）","（ｔ）","（ｔ）","（ｔ）","（ｔ）","（％）","（％）","（ｔ）","（ｔ）","（ｔ）","（ｔ）"]
["石川県","17000","合計",{"$f":"SUM($D$8:$D$9)","v":0},{"$f":"SUM($E$8:$E$9)","v":0},{"$f":"SUM($F$8:$F$9)","v":0},{"$f":"SUM($G$8:$G$9)","v":0},{"$f":"SUM($H$8:$H$9)","v":0},{"$f":"SUM($I$8:$I$9)","v":0},{"$f":"SUM($J$8:$J$9)","v":0},{"$f":"SUM($K$8:$K$9)","v":0},{"$f":"SUM($L$8:$L$9)","v":0},{"$f":"SUM($M$8:$M$9)","v":0},{"$f":"SUM($N$8:$N$9)","v":0},{"$f":"SUM($O$8:$O$9)","v":0},{"$f":"SUM($P$8:$P$9)","v":0},{"$f":"IF(P7<>0,(O7+E7+G7)/P7*100,\"-\")","v":"-"},{"$f":"SUM($R$8:$R$9)","v":0},{"$f":"SUM($S$8:$S$9)","v":0},{"$f":"SUM($T$8:$T$9)","v":0},{"$f":"SUM($U$8:$U$9)","v":0},{"$f":"SUM($V$8:$V$9)","v":0},{"$f":"SUM($W$8:$W$9)","v":0},{"$f":"SUM($X$8:$X$9)","v":0},{"$f":"SUM($Y$8:$Y$9)","v":0},"-","-",{"$f":"SUM($AB$8:$AB$9)","v":0},{"$f":"SUM($AC$8:$AC$9)","v":0},{"$f":"SUM($AD$8:$AD$9)","v":0},{"$f":"SUM($AE$8:$AE$9)","v":0}]
["石川県","17207","羽咋市",{"$f":"'ごみ搬入量内訳(総括)'!D8","v":0},{"$f":"ごみ処理量内訳!E8","v":0},{"$f":"ごみ処理量内訳!O8","v":0},{"$f":"SUM(H8:N8)","v":0},{"$f":"ごみ処理量内訳!G8","v":0},{"$f":"ごみ処理量内訳!L8+ごみ処理量内訳!M8","v":0},{"$f":"ごみ処理量内訳!H8","v":0},{"$f":"ごみ処理量内訳!I8","v":0},{"$f":"ごみ処理量内訳!J8","v":0},{"$f":"ごみ処理量内訳!K8","v":0},{"$f":"ごみ処理量内訳!N8","v":0},{"$f":"資源化量内訳!AG8","v":0},{"$f":"SUM(E8,F8,G8,O8)","v":0},{"$f":"IF(P8<>0,(O8+E8+G8)/P8*100,\"-\")","v":"-"},{"$f":"'施設資源化量内訳(焼却)'!D8","v":0},{"$f":"'施設資源化量内訳(粗大)'!D8","v":0},{"$f":"'施設資源化量内訳(堆肥化)'!D8","v":0},{"$f":"'施設資源化量内訳(飼料化)'!D8","v":0},{"$f":"'施設資源化量内訳(メタン化)'!D8","v":0},{"$f":"'施設資源化量内訳(燃料化)'!D8","v":0},{"$f":"'施設資源化量内訳(資源化等)'!D8+'ごみ搬入量内訳(セメント)'!D8","v":0},{"$f":"SUM(R8:X8)","v":0},null,null,{"$f":"ごみ処理量内訳!O8","v":0},{"$f":"ごみ処理量内訳!AO8","v":0},{"$f":"ごみ処理量内訳!AP8","v":0},{"$f":"SUM(AB8:AD8)","v":0}]
["石川県","17209","かほく市",{"$f":"'ごみ搬入量内訳(総括)'!D9","v":0},{"$f":"ごみ処理量内訳!E9","v":0},{"$f":"ごみ処理量内訳!O9","v":0},{"$f":"SUM(H9:N9)","v":0},{"$f":"ごみ処理量内訳!G9","v":0},{"$f":"ごみ処理量内訳!L9+ごみ処理量内訳!M9","v":0},{"$f":"ごみ処理量内訳!H9","v":0},{"$f":"ごみ処理量内訳!I9","v":0},{"$f":"ごみ処理量内訳!J9","v":0},{"$f":"ごみ処理量内訳!K9","v":0},{"$f":"ごみ処理量内訳!N9","v":0},{"$f":"資源化量内訳!AG9","v":0},{"$f":"SUM(E9,F9,G9,O9)","v":0},{"$f":"IF(P9<>0,(O9+E9+G9)/P9*100,\"-\")","v":"-"},{"$f":"'施設資源化量内訳(焼却)'!D9","v":0},{"$f":"'施設資源化量内訳(粗大)'!D9","v":0},{"$f":"'施設資源化量内訳(堆肥化)'!D9","v":0},{"$f":"'施設資源化量内訳(飼料化)'!D9","v":0},{"$f":"'施設資源化量内訳(メタン化)'!D9","v":0},{"$f":"'施設資源化量内訳(燃料化)'!D9","v":0},{"$f":"'施設資源化量内訳(資源化等)'!D9+'ごみ搬入量内訳(セメント)'!D9","v":0},{"$f":"SUM(R9:X9)","v":0},null,null,{"$f":"ごみ処理量内訳!O9","v":0},{"$f":"ごみ処理量内訳!AO9","v":0},{"$f":"ごみ処理量内訳!AP9","v":0},{"$f":"SUM(AB9:AD9)","v":0}]

{"sheet":"ごみ搬入量内訳(総括)","index":1,"n_rows":9,"n_cols":34,"rows_kept":9,"merged":[[1,0,5,0],[1,1,5,1],[1,2,5,2],[2,3,4,3],[2,4,4,4],[2,5,4,5],[2,6,4,6],[2,7,4,7],[2,8,4,8],[2,9,4,9],[2,10,4,10],[2,11,4,11],[2,12,4,12],[2,13,4,13],[2,14,4,14],[2,15,4,15],[2,16,4,16],[2,17,4,17],[2,18,4,18],[2,19,4,19],[2,20,4,20],[2,21,4,21],[2,22,4,22],[2,23,4,23],[2,24,4,24],[2,25,4,25],[2,26,4,26],[2,27,4,27],[2,28,4,28],[2,29,4,29],[2,30,4,30],[2,31,4,31],[2,32,4,32],[2,33,4,33]]}
["【災害】処理施設別ごみ搬入量の状況（平成28年度実績）"]
["都道府県名","地方公共団体コード","市区町村名","合　　計"]
[{"$nulls":3},"合計","木くず","金属くず","コンクリートがら","その他がれき類","石綿含有廃棄物等","ＰＣＢ廃棄物","その他有害物、危険物","混合ごみ","可燃ごみ","不燃ごみ","資源ごみ","粗大ごみ","家電４品目","パソコン","自動車","ＦＲＰ船","鋼船","その他船舶","畳","漁網","タイヤ","その他家電","消火器","ガスボンベ","土石類","津波堆積物","その他","冷凍・冷蔵庫保管物\n（海洋投入）","漂着ごみ","除染廃棄物"]
[]
[]
[{"$nulls":3},"（ｔ）","（ｔ）","（ｔ）","（ｔ）","（ｔ）","（ｔ）","（ｔ）","（ｔ）","（ｔ）","（ｔ）","（ｔ）","（ｔ）","（ｔ）","（ｔ）","（ｔ）","（ｔ）","（ｔ）","（ｔ）","（ｔ）","（ｔ）","（ｔ）","（ｔ）","（ｔ）","（ｔ）","（ｔ）","（ｔ）","（ｔ）","（ｔ）","（ｔ）","（ｔ）","（ｔ）"]
["石川県","17000","合計",{"$f":"SUM($D$8:$D$9)","v":0},{"$f":"SUM($E$8:$E$9)","v":0},{"$f":"SUM($F$8:$F$9)","v":0},{"$f":"SUM($G$8:$G$9)","v":0},{"$f":"SUM($H$8:$H$9)","v":0},{"$f":"SUM($I$8:$I$9)","v":0},{"$f":"SUM($J$8:$J$9)","v":0},{"$f":"SUM($K$8:$K$9)","v":0},{"$f":"SUM($L$8:$L$9)","v":0},{"$f":"SUM($M$8:$M$9)","v":0},{"$f":"SUM($N$8:$N$9)","v":0},{"$f":"SUM($O$8:$O$9)","v":0},{"$f":"SUM($P$8:$P$9)","v":0},{"$f":"SUM($Q$8:$Q$9)","v":0},{"$f":"SUM($R$8:$R$9)","v":0},{"$f":"SUM($S$8:$S$9)","v":0},{"$f":"SUM($T$8:$T$9)","v":0},{"$f":"SUM($U$8:$U$9)","v":0},{"$f":"SUM($V$8:$V$9)","v":0},{"$f":"SUM($W$8:$W$9)","v":0},{"$f":"SUM($X$8:$X$9)","v":0},{"$f":"SUM($Y$8:$Y$9)","v":0},{"$f":"SUM($Z$8:$Z$9)","v":0},{"$f":"SUM($AA$8:$AA$9)","v":0},{"$f":"SUM($AB$8:$AB$9)","v":0},{"$f":"SUM($AC$8:$AC$9)","v":0},{"$f":"SUM($AD$8:$AD$9)","v":0},{"$f":"SUM($AE$8:$AE$9)","v":0},{"$f":"SUM($AF$8:$AF$9)","v":0},{"$f":"SUM($AG$8:$AG$9)","v":0},{"$f":"SUM($AH$8:$AH$9)","v":0}]
["石川県","17207","羽咋市",{"$f":"SUM(E8:AH8)","v":0},{"$f":"'ごみ搬入量内訳(直接資源化)'!E8+'ごみ搬入量内訳(焼却)'!E8+'ごみ搬入量内訳(粗大)'!E8+'ごみ搬入量内訳(堆肥化)'!E8+'ごみ搬入量内訳(飼料化)'!E8+'ごみ搬入量内訳(メタン化)'!E8+'ごみ搬入量内訳(燃料化)'!E8+'ごみ搬入量内訳(セメント)'!E8+'ごみ搬入量内訳(資源化等)'!E8+'ごみ搬入量内訳(その他)'!E8+'ごみ搬入量内訳(直接埋立)'!E8+'ごみ搬入量内訳(海洋投入)'!E8","v":0},{"$f":"'ごみ搬入量内訳(直接資源化)'!F8+'ごみ搬入量内訳(焼却)'!F8+'ごみ搬入量内訳(粗大)'!F8+'ごみ搬入量内訳(堆肥化)'!F8+'ごみ搬入量内訳(飼料化)'!F8+'ごみ搬入量内訳(メタン化)'!F8+'ごみ搬入量内訳(燃料化)'!F8+'ごみ搬入量内訳(セメント)'!F8+'ごみ搬入量内訳(資源化等)'!F8+'ごみ搬入量内訳(その他)'!F8+'ごみ搬入量内訳(直接埋立)'!F8+'ごみ搬入量内訳(海洋投入)'!F8","v":0},{"$f":"'ごみ搬入量内訳(直接資源化)'!G8+'ごみ搬入量内訳(焼却)'!G8+'ごみ搬入量内訳(粗大)'!G8+'ごみ搬入量内訳(堆肥化)'!G8+'ごみ搬入量内訳(飼料化)'!G8+'ごみ搬入量内訳(メタン化)'!G8+'ごみ搬入量内訳(燃料化)'!G8+'ごみ搬入量内訳(セメント)'!G8+'ごみ搬入量内訳(資源化等)'!G8+'ごみ搬入量内訳(その他)'!G8+'ごみ搬入量内訳(直接埋立)'!G8+'ごみ搬入量内訳(海洋投入)'!G8","v":0},{"$f":"'ごみ搬入量内訳(直接資源化)'!H8+'ごみ搬入量内訳(焼却)'!H8+'ごみ搬入量内訳(粗大)'!H8+'ごみ搬入量内訳(堆肥化)'!H8+'ごみ搬入量内訳(飼料化)'!H8+'ごみ搬入量内訳(メタン化)'!H8+'ごみ搬入量内訳(燃料化)'!H8+'ごみ搬入量内訳(セメント)'!H8+'ごみ搬入量内訳(資源化等)'!H8+'ごみ搬入量内訳(その他)'!H8+'ごみ搬入量内訳(直接埋立)'!H8+'ごみ搬入量内訳(海洋投入)'!H8","v":0},{"$f":"'ごみ搬入量内訳(直接資源化)'!I8+'ごみ搬入量内訳(焼却)'!I8+'ごみ搬入量内訳(粗大)'!I8+'ごみ搬入量内訳(堆肥化)'!I8+'ごみ搬入量内訳(飼料化)'!I8+'ごみ搬入量内訳(メタン化)'!I8+'ごみ搬入量内訳(燃料化)'!I8+'ごみ搬入量内訳(セメント)'!I8+'ごみ搬入量内訳(資源化等)'!I8+'ごみ搬入量内訳(その他)'!I8+'ごみ搬入量内訳(直接埋立)'!I8+'ごみ搬入量内訳(海洋投入)'!I8","v":0},{"$f":"'ごみ搬入量内訳(直接資源化)'!J8+'ごみ搬入量内訳(焼却)'!J8+'ごみ搬入量内訳(粗大)'!J8+'ごみ搬入量内訳(堆肥化)'!J8+'ごみ搬入量内訳(飼料化)'!J8+'ごみ搬入量内訳(メタン化)'!J8+'ごみ搬入量内訳(燃料化)'!J8+'ごみ搬入量内訳(セメント)'!J8+'ごみ搬入量内訳(資源化等)'!J8+'ごみ搬入量内訳(その他)'!J8+'ごみ搬入量内訳(直接埋立)'!J8+'ごみ搬入量内訳(海洋投入)'!J8","v":0},{"$f":"'ごみ搬入量内訳(直接資源化)'!K8+'ごみ搬入量内訳(焼却)'!K8+'ごみ搬入量内訳(粗大)'!K8+'ごみ搬入量内訳(堆肥化)'!K8+'ごみ搬入量内訳(飼料化)'!K8+'ごみ搬入量内訳(メタン化)'!K8+'ごみ搬入量内訳(燃料化)'!K8+'ごみ搬入量内訳(セメント)'!K8+'ごみ搬入量内訳(資源化等)'!K8+'ごみ搬入量内訳(その他)'!K8+'ごみ搬入量内訳(直接埋立)'!K8+'ごみ搬入量内訳(海洋投入)'!K8","v":0},{"$f":"'ごみ搬入量内訳(直接資源化)'!L8+'ごみ搬入量内訳(焼却)'!L8+'ごみ搬入量内訳(粗大)'!L8+'ごみ搬入量内訳(堆肥化)'!L8+'ごみ搬入量内訳(飼料化)'!L8+'ごみ搬入量内訳(メタン化)'!L8+'ごみ搬入量内訳(燃料化)'!L8+'ごみ搬入量内訳(セメント)'!L8+'ごみ搬入量内訳(資源化等)'!L8+'ごみ搬入量内訳(その他)'!L8+'ごみ搬入量内訳(直接埋立)'!L8+'ごみ搬入量内訳(海洋投入)'!L8","v":0},{"$f":"'ごみ搬入量内訳(直接資源化)'!M8+'ごみ搬入量内訳(焼却)'!M8+'ごみ搬入量内訳(粗大)'!M8+'ごみ搬入量内訳(堆肥化)'!M8+'ごみ搬入量内訳(飼料化)'!M8+'ごみ搬入量内訳(メタン化)'!M8+'ごみ搬入量内訳(燃料化)'!M8+'ごみ搬入量内訳(セメント)'!M8+'ごみ搬入量内訳(資源化等)'!M8+'ごみ搬入量内訳(その他)'!M8+'ごみ搬入量内訳(直接埋立)'!M8+'ごみ搬入量内訳(海洋投入)'!M8","v":0},{"$f":"'ごみ搬入量内訳(直接資源化)'!N8+'ごみ搬入量内訳(焼却)'!N8+'ごみ搬入量内訳(粗大)'!N8+'ごみ搬入量内訳(堆肥化)'!N8+'ごみ搬入量内訳(飼料化)'!N8+'ごみ搬入量内訳(メタン化)'!N8+'ごみ搬入量内訳(燃料化)'!N8+'ごみ搬入量内訳(セメント)'!N8+'ごみ搬入量内訳(資源化等)'!N8+'ごみ搬入量内訳(その他)'!N8+'ごみ搬入量内訳(直接埋立)'!N8+'ごみ搬入量内訳(海洋投入)'!N8","v":0},{"$f":"'ごみ搬入量内訳(直接資源化)'!O8+'ごみ搬入量内訳(焼却)'!O8+'ごみ搬入量内訳(粗大)'!O8+'ごみ搬入量内訳(堆肥化)'!O8+'ごみ搬入量内訳(飼料化)'!O8+'ごみ搬入量内訳(メタン化)'!O8+'ごみ搬入量内訳(燃料化)'!O8+'ごみ搬入量内訳(セメント)'!O8+'ごみ搬入量内訳(資源化等)'!O8+'ごみ搬入量内訳(その他)'!O8+'ごみ搬入量内訳(直接埋立)'!O8+'ごみ搬入量内訳(海洋投入)'!O8","v":0},{"$f":"'ごみ搬入量内訳(直接資源化)'!P8+'ごみ搬入量内訳(焼却)'!P8+'ごみ搬入量内訳(粗大)'!P8+'ごみ搬入量内訳(堆肥化)'!P8+'ごみ搬入量内訳(飼料化)'!P8+'ごみ搬入量内訳(メタン化)'!P8+'ごみ搬入量内訳(燃料化)'!P8+'ごみ搬入量内訳(セメント)'!P8+'ごみ搬入量内訳(資源化等)'!P8+'ごみ搬入量内訳(その他)'!P8+'ごみ搬入量内訳(直接埋立)'!P8+'ごみ搬入量内訳(海洋投入)'!P8","v":0},{"$f":"'ごみ搬入量内訳(直接資源化)'!Q8+'ごみ搬入量内訳(焼却)'!Q8+'ごみ搬入量内訳(粗大)'!Q8+'ごみ搬入量内訳(堆肥化)'!Q8+'ごみ搬入量内訳(飼料化)'!Q8+'ごみ搬入量内訳(メタン化)'!Q8+'ごみ搬入量内訳(燃料化)'!Q8+'ごみ搬入量内訳(セメント)'!Q8+'ごみ搬入量内訳(資源化等)'!Q8+'ごみ搬入量内訳(その他)'!Q8+'ごみ搬入量内訳(直接埋立)'!Q8+'ごみ搬入量内訳(海洋投入)'!Q8","v":0},{"$f":"'ごみ搬入量内訳(直接資源化)'!R8+'ごみ搬入量内訳(焼却)'!R8+'ごみ搬入量内訳(粗大)'!R8+'ごみ搬入量内訳(堆肥化)'!R8+'ごみ搬入量内訳(飼料化)'!R8+'ごみ搬入量内訳(メタン化)'!R8+'ごみ搬入量内訳(燃料化)'!R8+'ごみ搬入量内訳(セメント)'!R8+'ごみ搬入量内訳(資源化等)'!R8+'ごみ搬入量内訳(その他)'!R8+'ごみ搬入量内訳(直接埋立)'!R8+'ごみ搬入量内訳(海洋投入)'!R8","v":0},{"$f":"'ごみ搬入量内訳(直接資源化)'!S8+'ごみ搬入量内訳(焼却)'!S8+'ごみ搬入量内訳(粗大)'!S8+'ごみ搬入量内訳(堆肥化)'!S8+'ごみ搬入量内訳(飼料化)'!S8+'ごみ搬入量内訳(メタン化)'!S8+'ごみ搬入量内訳(燃料化)'!S8+'ごみ搬入量内訳(セメント)'!S8+'ごみ搬入量内訳(資源化等)'!S8+'ごみ搬入量内訳(その他)'!S8+'ごみ搬入量内訳(直接埋立)'!S8+'ごみ搬入量内訳(海洋投入)'!S8","v":0},{"$f":"'ごみ搬入量内訳(直接資源化)'!T8+'ごみ搬入量内訳(焼却)'!T8+'ごみ搬入量内訳(粗大)'!T8+'ごみ搬入量内訳(堆肥化)'!T8+'ごみ搬入量内訳(飼料化)'!T8+'ごみ搬入量内訳(メタン化)'!T8+'ごみ搬入量内訳(燃料化)'!T8+'ごみ搬入量内訳(セメント)'!T8+'ごみ搬入量内訳(資源化等)'!T8+'ごみ搬入量内訳(その他)'!T8+'ごみ搬入量内訳(直接埋立)'!T8+'ごみ搬入量内訳(海洋投入)'!T8","v":0},{"$f":"'ごみ搬入量内訳(直接資源化)'!U8+'ごみ搬入量内訳(焼却)'!U8+'ごみ搬入量内訳(粗大)'!U8+'ごみ搬入量内訳(堆肥化)'!U8+'ごみ搬入量内訳(飼料化)'!U8+'ごみ搬入量内訳(メタン化)'!U8+'ごみ搬入量内訳(燃料化)'!U8+'ごみ搬入量内訳(セメント)'!U8+'ごみ搬入量内訳(資源化等)'!U8+'ごみ搬入量内訳(その他)'!U8+'ごみ搬入量内訳(直接埋立)'!U8+'ごみ搬入量内訳(海洋投入)'!U8","v":0},{"$f":"'ごみ搬入量内訳(直接資源化)'!V8+'ごみ搬入量内訳(焼却)'!V8+'ごみ搬入量内訳(粗大)'!V8+'ごみ搬入量内訳(堆肥化)'!V8+'ごみ搬入量内訳(飼料化)'!V8+'ごみ搬入量内訳(メタン化)'!V8+'ごみ搬入量内訳(燃料化)'!V8+'ごみ搬入量内訳(セメント)'!V8+'ごみ搬入量内訳(資源化等)'!V8+'ごみ搬入量内訳(その他)'!V8+'ごみ搬入量内訳(直接埋立)'!V8+'ごみ搬入量内訳(海洋投入)'!V8","v":0},{"$f":"'ごみ搬入量内訳(直接資源化)'!W8+'ごみ搬入量内訳(焼却)'!W8+'ごみ搬入量内訳(粗大)'!W8+'ごみ搬入量内訳(堆肥化)'!W8+'ごみ搬入量内訳(飼料化)'!W8+'ごみ搬入量内訳(メタン化)'!W8+'ごみ搬入量内訳(燃料化)'!W8+'ごみ搬入量内訳(セメント)'!W8+'ごみ搬入量内訳(資源化等)'!W8+'ごみ搬入量内訳(その他)'!W8+'ごみ搬入量内訳(直接埋立)'!W8+'ごみ搬入量内訳(海洋投入)'!W8","v":0},{"$f":"'ごみ搬入量内訳(直接資源化)'!X8+'ごみ搬入量内訳(焼却)'!X8+'ごみ搬入量内訳(粗大)'!X8+'ごみ搬入量内訳(堆肥化)'!X8+'ごみ搬入量内訳(飼料化)'!X8+'ごみ搬入量内訳(メタン化)'!X8+'ごみ搬入量内訳(燃料化)'!X8+'ごみ搬入量内訳(セメント)'!X8+'ごみ搬入量内訳(資源化等)'!X8+'ごみ搬入量内訳(その他)'!X8+'ごみ搬入量内訳(直接埋立)'!X8+'ごみ搬入量内訳(海洋投入)'!X8","v":0},{"$f":"'ごみ搬入量内訳(直接資源化)'!Y8+'ごみ搬入量内訳(焼却)'!Y8+'ごみ搬入量内訳(粗大)'!Y8+'ごみ搬入量内訳(堆肥化)'!Y8+'ごみ搬入量内訳(飼料化)'!Y8+'ごみ搬入量内訳(メタン化)'!Y8+'ごみ搬入量内訳(燃料化)'!Y8+'ごみ搬入量内訳(セメント)'!Y8+'ごみ搬入量内訳(資源化等)'!Y8+'ごみ搬入量内訳(その他)'!Y8+'ごみ搬入量内訳(直接埋立)'!Y8+'ごみ搬入量内訳(海洋投入)'!Y8","v":0},{"$f":"'ごみ搬入量内訳(直接資源化)'!Z8+'ごみ搬入量内訳(焼却)'!Z8+'ごみ搬入量内訳(粗大)'!Z8+'ごみ搬入量内訳(堆肥化)'!Z8+'ごみ搬入量内訳(飼料化)'!Z8+'ごみ搬入量内訳(メタン化)'!Z8+'ごみ搬入量内訳(燃料化)'!Z8+'ごみ搬入量内訳(セメント)'!Z8+'ごみ搬入量内訳(資源化等)'!Z8+'ごみ搬入量内訳(その他)'!Z8+'ごみ搬入量内訳(直接埋立)'!Z8+'ごみ搬入量内訳(海洋投入)'!Z8","v":0},{"$f":"'ごみ搬入量内訳(直接資源化)'!AA8+'ごみ搬入量内訳(焼却)'!AA8+'ごみ搬入量内訳(粗大)'!AA8+'ごみ搬入量内訳(堆肥化)'!AA8+'ごみ搬入量内訳(飼料化)'!AA8+'ごみ搬入量内訳(メタン化)'!AA8+'ごみ搬入量内訳(燃料化)'!AA8+'ごみ搬入量内訳(セメント)'!AA8+'ごみ搬入量内訳(資源化等)'!AA8+'ごみ搬入量内訳(その他)'!AA8+'ごみ搬入量内訳(直接埋立)'!AA8+'ごみ搬入量内訳(海洋投入)'!AA8","v":0},{"$f":"'ごみ搬入量内訳(直接資源化)'!AB8+'ごみ搬入量内訳(焼却)'!AB8+'ごみ搬入量内訳(粗大)'!AB8+'ごみ搬入量内訳(堆肥化)'!AB8+'ごみ搬入量内訳(飼料化)'!AB8+'ごみ搬入量内訳(メタン化)'!AB8+'ごみ搬入量内訳(燃料化)'!AB8+'ごみ搬入量内訳(セメント)'!AB8+'ごみ搬入量内訳(資源化等)'!AB8+'ごみ搬入量内訳(その他)'!AB8+'ごみ搬入量内訳(直接埋立)'!AB8+'ごみ搬入量内訳(海洋投入)'!AB8","v":0},{"$f":"'ごみ搬入量内訳(直接資源化)'!AC8+'ごみ搬入量内訳(焼却)'!AC8+'ごみ搬入量内訳(粗大)'!AC8+'ごみ搬入量内訳(堆肥化)'!AC8+'ごみ搬入量内訳(飼料化)'!AC8+'ごみ搬入量内訳(メタン化)'!AC8+'ごみ搬入量内訳(燃料化)'!AC8+'ごみ搬入量内訳(セメント)'!AC8+'ごみ搬入量内訳(資源化等)'!AC8+'ごみ搬入量内訳(その他)'!AC8+'ごみ搬入量内訳(直接埋立)'!AC8+'ごみ搬入量内訳(海洋投入)'!AC8","v":0},{"$f":"'ごみ搬入量内訳(直接資源化)'!AD8+'ごみ搬入量内訳(焼却)'!AD8+'ごみ搬入量内訳(粗大)'!AD8+'ごみ搬入量内訳(堆肥化)'!AD8+'ごみ搬入量内訳(飼料化)'!AD8+'ごみ搬入量内訳(メタン化)'!AD8+'ごみ搬入量内訳(燃料化)'!AD8+'ごみ搬入量内訳(セメント)'!AD8+'ごみ搬入量内訳(資源化等)'!AD8+'ごみ搬入量内訳(その他)'!AD8+'ごみ搬入量内訳(直接埋立)'!AD8+'ごみ搬入量内訳(海洋投入)'!AD8","v":0},{"$f":"'ごみ搬入量内訳(直接資源化)'!AE8+'ごみ搬入量内訳(焼却)'!AE8+'ごみ搬入量内訳(粗大)'!AE8+'ごみ搬入量内訳(堆肥化)'!AE8+'ごみ搬入量内訳(飼料化)'!AE8+'ごみ搬入量内訳(メタン化)'!AE8+'ごみ搬入量内訳(燃料化)'!AE8+'ごみ搬入量内訳(セメント)'!AE8+'ごみ搬入量内訳(資源化等)'!AE8+'ごみ搬入量内訳(その他)'!AE8+'ごみ搬入量内訳(直接埋立)'!AE8+'ごみ搬入量内訳(海洋投入)'!AE8","v":0},{"$f":"'ごみ搬入量内訳(直接資源化)'!AF8+'ごみ搬入量内訳(焼却)'!AF8+'ごみ搬入量内訳(粗大)'!AF8+'ごみ搬入量内訳(堆肥化)'!AF8+'ごみ搬入量内訳(飼料化)'!AF8+'ごみ搬入量内訳(メタン化)'!AF8+'ごみ搬入量内訳(燃料化)'!AF8+'ごみ搬入量内訳(セメント)'!AF8+'ごみ搬入量内訳(資源化等)'!AF8+'ごみ搬入量内訳(その他)'!AF8+'ごみ搬入量内訳(直接埋立)'!AF8+'ごみ搬入量内訳(海洋投入)'!AF8","v":0},{"$f":"'ごみ搬入量内訳(直接資源化)'!AG8+'ごみ搬入量内訳(焼却)'!AG8+'ごみ搬入量内訳(粗大)'!AG8+'ごみ搬入量内訳(堆肥化)'!AG8+'ごみ搬入量内訳(飼料化)'!AG8+'ごみ搬入量内訳(メタン化)'!AG8+'ごみ搬入量内訳(燃料化)'!AG8+'ごみ搬入量内訳(セメント)'!AG8+'ごみ搬入量内訳(資源化等)'!AG8+'ごみ搬入量内訳(その他)'!AG8+'ごみ搬入量内訳(直接埋立)'!AG8+'ごみ搬入量内訳(海洋投入)'!AG8","v":0},{"$f":"'ごみ搬入量内訳(直接資源化)'!AH8+'ごみ搬入量内訳(焼却)'!AH8+'ごみ搬入量内訳(粗大)'!AH8+'ごみ搬入量内訳(堆肥化)'!AH8+'ごみ搬入量内訳(飼料化)'!AH8+'ごみ搬入量内訳(メタン化)'!AH8+'ごみ搬入量内訳(燃料化)'!AH8+'ごみ搬入量内訳(セメント)'!AH8+'ごみ搬入量内訳(資源化等)'!AH8+'ごみ搬入量内訳(その他)'!AH8+'ごみ搬入量内訳(直接埋立)'!AH8+'ごみ搬入量内訳(海洋投入)'!AH8","v":0}]
["石川県","17209","かほく市",{"$f":"SUM(E9:AH9)","v":0},{"$f":"'ごみ搬入量内訳(直接資源化)'!E9+'ごみ搬入量内訳(焼却)'!E9+'ごみ搬入量内訳(粗大)'!E9+'ごみ搬入量内訳(堆肥化)'!E9+'ごみ搬入量内訳(飼料化)'!E9+'ごみ搬入量内訳(メタン化)'!E9+'ごみ搬入量内訳(燃料化)'!E9+'ごみ搬入量内訳(セメント)'!E9+'ごみ搬入量内訳(資源化等)'!E9+'ごみ搬入量内訳(その他)'!E9+'ごみ搬入量内訳(直接埋立)'!E9+'ごみ搬入量内訳(海洋投入)'!E9","v":0},{"$f":"'ごみ搬入量内訳(直接資源化)'!F9+'ごみ搬入量内訳(焼却)'!F9+'ごみ搬入量内訳(粗大)'!F9+'ごみ搬入量内訳(堆肥化)'!F9+'ごみ搬入量内訳(飼料化)'!F9+'ごみ搬入量内訳(メタン化)'!F9+'ごみ搬入量内訳(燃料化)'!F9+'ごみ搬入量内訳(セメント)'!F9+'ごみ搬入量内訳(資源化等)'!F9+'ごみ搬入量内訳(その他)'!F9+'ごみ搬入量内訳(直接埋立)'!F9+'ごみ搬入量内訳(海洋投入)'!F9","v":0},{"$f":"'ごみ搬入量内訳(直接資源化)'!G9+'ごみ搬入量内訳(焼却)'!G9+'ごみ搬入量内訳(粗大)'!G9+'ごみ搬入量内訳(堆肥化)'!G9+'ごみ搬入量内訳(飼料化)'!G9+'ごみ搬入量内訳(メタン化)'!G9+'ごみ搬入量内訳(燃料化)'!G9+'ごみ搬入量内訳(セメント)'!G9+'ごみ搬入量内訳(資源化等)'!G9+'ごみ搬入量内訳(その他)'!G9+'ごみ搬入量内訳(直接埋立)'!G9+'ごみ搬入量内訳(海洋投入)'!G9","v":0},{"$f":"'ごみ搬入量内訳(直接資源化)'!H9+'ごみ搬入量内訳(焼却)'!H9+'ごみ搬入量内訳(粗大)'!H9+'ごみ搬入量内訳(堆肥化)'!H9+'ごみ搬入量内訳(飼料化)'!H9+'ごみ搬入量内訳(メタン化)'!H9+'ごみ搬入量内訳(燃料化)'!H9+'ごみ搬入量内訳(セメント)'!H9+'ごみ搬入量内訳(資源化等)'!H9+'ごみ搬入量内訳(その他)'!H9+'ごみ搬入量内訳(直接埋立)'!H9+'ごみ搬入量内訳(海洋投入)'!H9","v":0},{"$f":"'ごみ搬入量内訳(直接資源化)'!I9+'ごみ搬入量内訳(焼却)'!I9+'ごみ搬入量内訳(粗大)'!I9+'ごみ搬入量内訳(堆肥化)'!I9+'ごみ搬入量内訳(飼料化)'!I9+'ごみ搬入量内訳(メタン化)'!I9+'ごみ搬入量内訳(燃料化)'!I9+'ごみ搬入量内訳(セメント)'!I9+'ごみ搬入量内訳(資源化等)'!I9+'ごみ搬入量内訳(その他)'!I9+'ごみ搬入量内訳(直接埋立)'!I9+'ごみ搬入量内訳(海洋投入)'!I9","v":0},{"$f":"'ごみ搬入量内訳(直接資源化)'!J9+'ごみ搬入量内訳(焼却)'!J9+'ごみ搬入量内訳(粗大)'!J9+'ごみ搬入量内訳(堆肥化)'!J9+'ごみ搬入量内訳(飼料化)'!J9+'ごみ搬入量内訳(メタン化)'!J9+'ごみ搬入量内訳(燃料化)'!J9+'ごみ搬入量内訳(セメント)'!J9+'ごみ搬入量内訳(資源化等)'!J9+'ごみ搬入量内訳(その他)'!J9+'ごみ搬入量内訳(直接埋立)'!J9+'ごみ搬入量内訳(海洋投入)'!J9","v":0},{"$f":"'ごみ搬入量内訳(直接資源化)'!K9+'ごみ搬入量内訳(焼却)'!K9+'ごみ搬入量内訳(粗大)'!K9+'ごみ搬入量内訳(堆肥化)'!K9+'ごみ搬入量内訳(飼料化)'!K9+'ごみ搬入量内訳(メタン化)'!K9+'ごみ搬入量内訳(燃料化)'!K9+'ごみ搬入量内訳(セメント)'!K9+'ごみ搬入量内訳(資源化等)'!K9+'ごみ搬入量内訳(その他)'!K9+'ごみ搬入量内訳(直接埋立)'!K9+'ごみ搬入量内訳(海洋投入)'!K9","v":0},{"$f":"'ごみ搬入量内訳(直接資源化)'!L9+'ごみ搬入量内訳(焼却)'!L9+'ごみ搬入量内訳(粗大)'!L9+'ごみ搬入量内訳(堆肥化)'!L9+'ごみ搬入量内訳(飼料化)'!L9+'ごみ搬入量内訳(メタン化)'!L9+'ごみ搬入量内訳(燃料化)'!L9+'ごみ搬入量内訳(セメント)'!L9+'ごみ搬入量内訳(資源化等)'!L9+'ごみ搬入量内訳(その他)'!L9+'ごみ搬入量内訳(直接埋立)'!L9+'ごみ搬入量内訳(海洋投入)'!L9","v":0},{"$f":"'ごみ搬入量内訳(直接資源化)'!M9+'ごみ搬入量内訳(焼却)'!M9+'ごみ搬入量内訳(粗大)'!M9+'ごみ搬入量内訳(堆肥化)'!M9+'ごみ搬入量内訳(飼料化)'!M9+'ごみ搬入量内訳(メタン化)'!M9+'ごみ搬入量内訳(燃料化)'!M9+'ごみ搬入量内訳(セメント)'!M9+'ごみ搬入量内訳(資源化等)'!M9+'ごみ搬入量内訳(その他)'!M9+'ごみ搬入量内訳(直接埋立)'!M9+'ごみ搬入量内訳(海洋投入)'!M9","v":0},{"$f":"'ごみ搬入量内訳(直接資源化)'!N9+'ごみ搬入量内訳(焼却)'!N9+'ごみ搬入量内訳(粗大)'!N9+'ごみ搬入量内訳(堆肥化)'!N9+'ごみ搬入量内訳(飼料化)'!N9+'ごみ搬入量内訳(メタン化)'!N9+'ごみ搬入量内訳(燃料化)'!N9+'ごみ搬入量内訳(セメント)'!N9+'ごみ搬入量内訳(資源化等)'!N9+'ごみ搬入量内訳(その他)'!N9+'ごみ搬入量内訳(直接埋立)'!N9+'ごみ搬入量内訳(海洋投入)'!N9","v":0},{"$f":"'ごみ搬入量内訳(直接資源化)'!O9+'ごみ搬入量内訳(焼却)'!O9+'ごみ搬入量内訳(粗大)'!O9+'ごみ搬入量内訳(堆肥化)'!O9+'ごみ搬入量内訳(飼料化)'!O9+'ごみ搬入量内訳(メタン化)'!O9+'ごみ搬入量内訳(燃料化)'!O9+'ごみ搬入量内訳(セメント)'!O9+'ごみ搬入量内訳(資源化等)'!O9+'ごみ搬入量内訳(その他)'!O9+'ごみ搬入量内訳(直接埋立)'!O9+'ごみ搬入量内訳(海洋投入)'!O9","v":0},{"$f":"'ごみ搬入量内訳(直接資源化)'!P9+'ごみ搬入量内訳(焼却)'!P9+'ごみ搬入量内訳(粗大)'!P9+'ごみ搬入量内訳(堆肥化)'!P9+'ごみ搬入量内訳(飼料化)'!P9+'ごみ搬入量内訳(メタン化)'!P9+'ごみ搬入量内訳(燃料化)'!P9+'ごみ搬入量内訳(セメント)'!P9+'ごみ搬入量内訳(資源化等)'!P9+'ごみ搬入量内訳(その他)'!P9+'ごみ搬入量内訳(直接埋立)'!P9+'ごみ搬入量内訳(海洋投入)'!P9","v":0},{"$f":"'ごみ搬入量内訳(直接資源化)'!Q9+'ごみ搬入量内訳(焼却)'!Q9+'ごみ搬入量内訳(粗大)'!Q9+'ごみ搬入量内訳(堆肥化)'!Q9+'ごみ搬入量内訳(飼料化)'!Q9+'ごみ搬入量内訳(メタン化)'!Q9+'ごみ搬入量内訳(燃料化)'!Q9+'ごみ搬入量内訳(セメント)'!Q9+'ごみ搬入量内訳(資源化等)'!Q9+'ごみ搬入量内訳(その他)'!Q9+'ごみ搬入量内訳(直接埋立)'!Q9+'ごみ搬入量内訳(海洋投入)'!Q9","v":0},{"$f":"'ごみ搬入量内訳(直接資源化)'!R9+'ごみ搬入量内訳(焼却)'!R9+'ごみ搬入量内訳(粗大)'!R9+'ごみ搬入量内訳(堆肥化)'!R9+'ごみ搬入量内訳(飼料化)'!R9+'ごみ搬入量内訳(メタン化)'!R9+'ごみ搬入量内訳(燃料化)'!R9+'ごみ搬入量内訳(セメント)'!R9+'ごみ搬入量内訳(資源化等)'!R9+'ごみ搬入量内訳(その他)'!R9+'ごみ搬入量内訳(直接埋立)'!R9+'ごみ搬入量内訳(海洋投入)'!R9","v":0},{"$f":"'ごみ搬入量内訳(直接資源化)'!S9+'ごみ搬入量内訳(焼却)'!S9+'ごみ搬入量内訳(粗大)'!S9+'ごみ搬入量内訳(堆肥化)'!S9+'ごみ搬入量内訳(飼料化)'!S9+'ごみ搬入量内訳(メタン化)'!S9+'ごみ搬入量内訳(燃料化)'!S9+'ごみ搬入量内訳(セメント)'!S9+'ごみ搬入量内訳(資源化等)'!S9+'ごみ搬入量内訳(その他)'!S9+'ごみ搬入量内訳(直接埋立)'!S9+'ごみ搬入量内訳(海洋投入)'!S9","v":0},{"$f":"'ごみ搬入量内訳(直接資源化)'!T9+'ごみ搬入量内訳(焼却)'!T9+'ごみ搬入量内訳(粗大)'!T9+'ごみ搬入量内訳(堆肥化)'!T9+'ごみ搬入量内訳(飼料化)'!T9+'ごみ搬入量内訳(メタン化)'!T9+'ごみ搬入量内訳(燃料化)'!T9+'ごみ搬入量内訳(セメント)'!T9+'ごみ搬入量内訳(資源化等)'!T9+'ごみ搬入量内訳(その他)'!T9+'ごみ搬入量内訳(直接埋立)'!T9+'ごみ搬入量内訳(海洋投入)'!T9","v":0},{"$f":"'ごみ搬入量内訳(直接資源化)'!U9+'ごみ搬入量内訳(焼却)'!U9+'ごみ搬入量内訳(粗大)'!U9+'ごみ搬入量内訳(堆肥化)'!U9+'ごみ搬入量内訳(飼料化)'!U9+'ごみ搬入量内訳(メタン化)'!U9+'ごみ搬入量内訳(燃料化)'!U9+'ごみ搬入量内訳(セメント)'!U9+'ごみ搬入量内訳(資源化等)'!U9+'ごみ搬入量内訳(その他)'!U9+'ごみ搬入量内訳(直接埋立)'!U9+'ごみ搬入量内訳(海洋投入)'!U9","v":0},{"$f":"'ごみ搬入量内訳(直接資源化)'!V9+'ごみ搬入量内訳(焼却)'!V9+'ごみ搬入量内訳(粗大)'!V9+'ごみ搬入量内訳(堆肥化)'!V9+'ごみ搬入量内訳(飼料化)'!V9+'ごみ搬入量内訳(メタン化)'!V9+'ごみ搬入量内訳(燃料化)'!V9+'ごみ搬入量内訳(セメント)'!V9+'ごみ搬入量内訳(資源化等)'!V9+'ごみ搬入量内訳(その他)'!V9+'ごみ搬入量内訳(直接埋立)'!V9+'ごみ搬入量内訳(海洋投入)'!V9","v":0},{"$f":"'ごみ搬入量内訳(直接資源化)'!W9+'ごみ搬入量内訳(焼却)'!W9+'ごみ搬入量内訳(粗大)'!W9+'ごみ搬入量内訳(堆肥化)'!W9+'ごみ搬入量内訳(飼料化)'!W9+'ごみ搬入量内訳(メタン化)'!W9+'ごみ搬入量内訳(燃料化)'!W9+'ごみ搬入量内訳(セメント)'!W9+'ごみ搬入量内訳(資源化等)'!W9+'ごみ搬入量内訳(その他)'!W9+'ごみ搬入量内訳(直接埋立)'!W9+'ごみ搬入量内訳(海洋投入)'!W9","v":0},{"$f":"'ごみ搬入量内訳(直接資源化)'!X9+'ごみ搬入量内訳(焼却)'!X9+'ごみ搬入量内訳(粗大)'!X9+'ごみ搬入量内訳(堆肥化)'!X9+'ごみ搬入量内訳(飼料化)'!X9+'ごみ搬入量内訳(メタン化)'!X9+'ごみ搬入量内訳(燃料化)'!X9+'ごみ搬入量内訳(セメント)'!X9+'ごみ搬入量内訳(資源化等)'!X9+'ごみ搬入量内訳(その他)'!X9+'ごみ搬入量内訳(直接埋立)'!X9+'ごみ搬入量内訳(海洋投入)'!X9","v":0},{"$f":"'ごみ搬入量内訳(直接資源化)'!Y9+'ごみ搬入量内訳(焼却)'!Y9+'ごみ搬入量内訳(粗大)'!Y9+'ごみ搬入量内訳(堆肥化)'!Y9+'ごみ搬入量内訳(飼料化)'!Y9+'ごみ搬入量内訳(メタン化)'!Y9+'ごみ搬入量内訳(燃料化)'!Y9+'ごみ搬入量内訳(セメント)'!Y9+'ごみ搬入量内訳(資源化等)'!Y9+'ごみ搬入量内訳(その他)'!Y9+'ごみ搬入量内訳(直接埋立)'!Y9+'ごみ搬入量内訳(海洋投入)'!Y9","v":0},{"$f":"'ごみ搬入量内訳(直接資源化)'!Z9+'ごみ搬入量内訳(焼却)'!Z9+'ごみ搬入量内訳(粗大)'!Z9+'ごみ搬入量内訳(堆肥化)'!Z9+'ごみ搬入量内訳(飼料化)'!Z9+'ごみ搬入量内訳(メタン化)'!Z9+'ごみ搬入量内訳(燃料化)'!Z9+'ごみ搬入量内訳(セメント)'!Z9+'ごみ搬入量内訳(資源化等)'!Z9+'ごみ搬入量内訳(その他)'!Z9+'ごみ搬入量内訳(直接埋立)'!Z9+'ごみ搬入量内訳(海洋投入)'!Z9","v":0},{"$f":"'ごみ搬入量内訳(直接資源化)'!AA9+'ごみ搬入量内訳(焼却)'!AA9+'ごみ搬入量内訳(粗大)'!AA9+'ごみ搬入量内訳(堆肥化)'!AA9+'ごみ搬入量内訳(飼料化)'!AA9+'ごみ搬入量内訳(メタン化)'!AA9+'ごみ搬入量内訳(燃料化)'!AA9+'ごみ搬入量内訳(セメント)'!AA9+'ごみ搬入量内訳(資源化等)'!AA9+'ごみ搬入量内訳(その他)'!AA9+'ごみ搬入量内訳(直接埋立)'!AA9+'ごみ搬入量内訳(海洋投入)'!AA9","v":0},{"$f":"'ごみ搬入量内訳(直接資源化)'!AB9+'ごみ搬入量内訳(焼却)'!AB9+'ごみ搬入量内訳(粗大)'!AB9+'ごみ搬入量内訳(堆肥化)'!AB9+'ごみ搬入量内訳(飼料化)'!AB9+'ごみ搬入量内訳(メタン化)'!AB9+'ごみ搬入量内訳(燃料化)'!AB9+'ごみ搬入量内訳(セメント)'!AB9+'ごみ搬入量内訳(資源化等)'!AB9+'ごみ搬入量内訳(その他)'!AB9+'ごみ搬入量内訳(直接埋立)'!AB9+'ごみ搬入量内訳(海洋投入)'!AB9","v":0},{"$f":"'ごみ搬入量内訳(直接資源化)'!AC9+'ごみ搬入量内訳(焼却)'!AC9+'ごみ搬入量内訳(粗大)'!AC9+'ごみ搬入量内訳(堆肥化)'!AC9+'ごみ搬入量内訳(飼料化)'!AC9+'ごみ搬入量内訳(メタン化)'!AC9+'ごみ搬入量内訳(燃料化)'!AC9+'ごみ搬入量内訳(セメント)'!AC9+'ごみ搬入量内訳(資源化等)'!AC9+'ごみ搬入量内訳(その他)'!AC9+'ごみ搬入量内訳(直接埋立)'!AC9+'ごみ搬入量内訳(海洋投入)'!AC9","v":0},{"$f":"'ごみ搬入量内訳(直接資源化)'!AD9+'ごみ搬入量内訳(焼却)'!AD9+'ごみ搬入量内訳(粗大)'!AD9+'ごみ搬入量内訳(堆肥化)'!AD9+'ごみ搬入量内訳(飼料化)'!AD9+'ごみ搬入量内訳(メタン化)'!AD9+'ごみ搬入量内訳(燃料化)'!AD9+'ごみ搬入量内訳(セメント)'!AD9+'ごみ搬入量内訳(資源化等)'!AD9+'ごみ搬入量内訳(その他)'!AD9+'ごみ搬入量内訳(直接埋立)'!AD9+'ごみ搬入量内訳(海洋投入)'!AD9","v":0},{"$f":"'ごみ搬入量内訳(直接資源化)'!AE9+'ごみ搬入量内訳(焼却)'!AE9+'ごみ搬入量内訳(粗大)'!AE9+'ごみ搬入量内訳(堆肥化)'!AE9+'ごみ搬入量内訳(飼料化)'!AE9+'ごみ搬入量内訳(メタン化)'!AE9+'ごみ搬入量内訳(燃料化)'!AE9+'ごみ搬入量内訳(セメント)'!AE9+'ごみ搬入量内訳(資源化等)'!AE9+'ごみ搬入量内訳(その他)'!AE9+'ごみ搬入量内訳(直接埋立)'!AE9+'ごみ搬入量内訳(海洋投入)'!AE9","v":0},{"$f":"'ごみ搬入量内訳(直接資源化)'!AF9+'ごみ搬入量内訳(焼却)'!AF9+'ごみ搬入量内訳(粗大)'!AF9+'ごみ搬入量内訳(堆肥化)'!AF9+'ごみ搬入量内訳(飼料化)'!AF9+'ごみ搬入量内訳(メタン化)'!AF9+'ごみ搬入量内訳(燃料化)'!AF9+'ごみ搬入量内訳(セメント)'!AF9+'ごみ搬入量内訳(資源化等)'!AF9+'ごみ搬入量内訳(その他)'!AF9+'ごみ搬入量内訳(直接埋立)'!AF9+'ごみ搬入量内訳(海洋投入)'!AF9","v":0},{"$f":"'ごみ搬入量内訳(直接資源化)'!AG9+'ごみ搬入量内訳(焼却)'!AG9+'ごみ搬入量内訳(粗大)'!AG9+'ごみ搬入量内訳(堆肥化)'!AG9+'ごみ搬入量内訳(飼料化)'!AG9+'ごみ搬入量内訳(メタン化)'!AG9+'ごみ搬入量内訳(燃料化)'!AG9+'ごみ搬入量内訳(セメント)'!AG9+'ごみ搬入量内訳(資源化等)'!AG9+'ごみ搬入量内訳(その他)'!AG9+'ごみ搬入量内訳(直接埋立)'!AG9+'ごみ搬入量内訳(海洋投入)'!AG9","v":0},{"$f":"'ごみ搬入量内訳(直接資源化)'!AH9+'ごみ搬入量内訳(焼却)'!AH9+'ごみ搬入量内訳(粗大)'!AH9+'ごみ搬入量内訳(堆肥化)'!AH9+'ごみ搬入量内訳(飼料化)'!AH9+'ごみ搬入量内訳(メタン化)'!AH9+'ごみ搬入量内訳(燃料化)'!AH9+'ごみ搬入量内訳(セメント)'!AH9+'ごみ搬入量内訳(資源化等)'!AH9+'ごみ搬入量内訳(その他)'!AH9+'ごみ搬入量内訳(直接埋立)'!AH9+'ごみ搬入量内訳(海洋投入)'!AH9","v":0}]

{"sheet":"ごみ搬入量内訳(直接資源化)","index":2,"n_rows":9,"n_cols":34,"rows_kept":9,"merged":[[1,0,5,0],[1,1,5,1],[1,2,5,2],[2,3,4,3],[2,4,4,4],[2,5,4,5],[2,6,4,6],[2,7,4,7],[2,8,4,8],[2,9,4,9],[2,10,4,10],[2,11,4,11],[2,12,4,12],[2,13,4,13],[2,14,4,14],[2,15,4,15],[2,16,4,16],[2,17,4,17],[2,18,4,18],[2,19,4,19],[2,20,4,20],[2,21,4,21],[2,22,4,22],[2,23,4,23],[2,24,4,24],[2,25,4,25],[2,26,4,26],[2,27,4,27],[2,28,4,28],[2,29,4,29],[2,30,4,30],[2,31,4,31],[2,32,4,32],[2,33,4,33]]}
["【災害】処理施設別ごみ搬入量の状況（平成28年度実績）"]
["都道府県名","地方公共団体コード","市区町村名","直接資源化"]
[{"$nulls":3},"合計","木くず","金属くず","コンクリートがら","その他がれき類","石綿含有廃棄物等","ＰＣＢ廃棄物","その他有害物、危険物","混合ごみ","可燃ごみ","不燃ごみ","資源ごみ","粗大ごみ","家電４品目","パソコン","自動車","ＦＲＰ船","鋼船","その他船舶","畳","漁網","タイヤ","その他家電","消火器","ガスボンベ","土石類","津波堆積物","その他","冷凍・冷蔵庫保管物\n（海洋投入）","漂着ごみ","除染廃棄物"]
[]
[]
[{"$nulls":3},"（ｔ）","（ｔ）","（ｔ）","（ｔ）","（ｔ）","（ｔ）","（ｔ）","（ｔ）","（ｔ）","（ｔ）","（ｔ）","（ｔ）","（ｔ）","（ｔ）","（ｔ）","（ｔ）","（ｔ）","（ｔ）","（ｔ）","（ｔ）","（ｔ）","（ｔ）","（ｔ）","（ｔ）","（ｔ）","（ｔ）","（ｔ）","（ｔ）","（ｔ）","（ｔ）","（ｔ）"]
["石川県","17000","合計",{"$f":"SUM($D$8:$D$9)","v":0},{"$f":"SUM($E$8:$E$9)","v":0},{"$f":"SUM($F$8:$F$9)","v":0},{"$f":"SUM($G$8:$G$9)","v":0},{"$f":"SUM($H$8:$H$9)","v":0},{"$f":"SUM($I$8:$I$9)","v":0},{"$f":"SUM($J$8:$J$9)","v":0},{"$f":"SUM($K$8:$K$9)","v":0},{"$f":"SUM($L$8:$L$9)","v":0},{"$f":"SUM($M$8:$M$9)","v":0},{"$f":"SUM($N$8:$N$9)","v":0},{"$f":"SUM($O$8:$O$9)","v":0},{"$f":"SUM($P$8:$P$9)","v":0},{"$f":"SUM($Q$8:$Q$9)","v":0},{"$f":"SUM($R$8:$R$9)","v":0},{"$f":"SUM($S$8:$S$9)","v":0},{"$f":"SUM($T$8:$T$9)","v":0},{"$f":"SUM($U$8:$U$9)","v":0},{"$f":"SUM($V$8:$V$9)","v":0},{"$f":"SUM($W$8:$W$9)","v":0},{"$f":"SUM($X$8:$X$9)","v":0},{"$f":"SUM($Y$8:$Y$9)","v":0},{"$f":"SUM($Z$8:$Z$9)","v":0},{"$f":"SUM($AA$8:$AA$9)","v":0},{"$f":"SUM($AB$8:$AB$9)","v":0},{"$f":"SUM($AC$8:$AC$9)","v":0},{"$f":"SUM($AD$8:$AD$9)","v":0},{"$f":"SUM($AE$8:$AE$9)","v":0},{"$f":"SUM($AF$8:$AF$9)","v":0},{"$f":"SUM($AG$8:$AG$9)","v":0},{"$f":"SUM($AH$8:$AH$9)","v":0}]
["石川県","17207","羽咋市",{"$f":"SUM(E8:AH8)","v":0},0,0,0,0,0,0,0,0,0,0,0,0,0,0,0,0,0,0,0,0,0,0,0,0,0,0,0,0,0,0]
["石川県","17209","かほく市",{"$f":"SUM(E9:AH9)","v":0},0,0,0,0,0,0,0,0,0,0,0,0,0,0,0,0,0,0,0,0,0,0,0,0,0,0,0,0,0,0]

{"sheet":"ごみ搬入量内訳(焼却)","index":3,"n_rows":9,"n_cols":34,"rows_kept":9,"merged":[[1,0,5,0],[1,1,5,1],[1,2,5,2],[2,3,4,3],[2,4,4,4],[2,5,4,5],[2,6,4,6],[2,7,4,7],[2,8,4,8],[2,9,4,9],[2,10,4,10],[2,11,4,11],[2,12,4,12],[2,13,4,13],[2,14,4,14],[2,15,4,15],[2,16,4,16],[2,17,4,17],[2,18,4,18],[2,19,4,19],[2,20,4,20],[2,21,4,21],[2,22,4,22],[2,23,4,23],[2,24,4,24],[2,25,4,25],[2,26,4,26],[2,27,4,27],[2,28,4,28],[2,29,4,29],[2,30,4,30],[2,31,4,31],[2,32,4,32],[2,33,4,33]]}
["【災害】処理施設別ごみ搬入量の状況（平成28年度実績）"]
["都道府県名","地方公共団体コード","市区町村名","焼却施設（溶融・炭化含む）"]
[{"$nulls":3},"合計","木くず","金属くず","コンクリートがら","その他がれき類","石綿含有廃棄物等","ＰＣＢ廃棄物","その他有害物、危険物","混合ごみ","可燃ごみ","不燃ごみ","資源ごみ","粗大ごみ","家電４品目","パソコン","自動車","ＦＲＰ船","鋼船","その他船舶","畳","漁網","タイヤ","その他家電","消火器","ガスボンベ","土石類","津波堆積物","その他","冷凍・冷蔵庫保管物\n（海洋投入）","漂着ごみ","除染廃棄物"]
[]
[]
[{"$nulls":3},"（ｔ）","（ｔ）","（ｔ）","（ｔ）","（ｔ）","（ｔ）","（ｔ）","（ｔ）","（ｔ）","（ｔ）","（ｔ）","（ｔ）","（ｔ）","（ｔ）","（ｔ）","（ｔ）","（ｔ）","（ｔ）","（ｔ）","（ｔ）","（ｔ）","（ｔ）","（ｔ）","（ｔ）","（ｔ）","（ｔ）","（ｔ）","（ｔ）","（ｔ）","（ｔ）","（ｔ）"]
["石川県","17000","合計",{"$f":"SUM($D$8:$D$9)","v":0},{"$f":"SUM($E$8:$E$9)","v":0},{"$f":"SUM($F$8:$F$9)","v":0},{"$f":"SUM($G$8:$G$9)","v":0},{"$f":"SUM($H$8:$H$9)","v":0},{"$f":"SUM($I$8:$I$9)","v":0},{"$f":"SUM($J$8:$J$9)","v":0},{"$f":"SUM($K$8:$K$9)","v":0},{"$f":"SUM($L$8:$L$9)","v":0},{"$f":"SUM($M$8:$M$9)","v":0},{"$f":"SUM($N$8:$N$9)","v":0},{"$f":"SUM($O$8:$O$9)","v":0},{"$f":"SUM($P$8:$P$9)","v":0},{"$f":"SUM($Q$8:$Q$9)","v":0},{"$f":"SUM($R$8:$R$9)","v":0},{"$f":"SUM($S$8:$S$9)","v":0},{"$f":"SUM($T$8:$T$9)","v":0},{"$f":"SUM($U$8:$U$9)","v":0},{"$f":"SUM($V$8:$V$9)","v":0},{"$f":"SUM($W$8:$W$9)","v":0},{"$f":"SUM($X$8:$X$9)","v":0},{"$f":"SUM($Y$8:$Y$9)","v":0},{"$f":"SUM($Z$8:$Z$9)","v":0},{"$f":"SUM($AA$8:$AA$9)","v":0},{"$f":"SUM($AB$8:$AB$9)","v":0},{"$f":"SUM($AC$8:$AC$9)","v":0},{"$f":"SUM($AD$8:$AD$9)","v":0},{"$f":"SUM($AE$8:$AE$9)","v":0},{"$f":"SUM($AF$8:$AF$9)","v":0},{"$f":"SUM($AG$8:$AG$9)","v":0},{"$f":"SUM($AH$8:$AH$9)","v":0}]
["石川県","17207","羽咋市",{"$f":"SUM(E8:AH8)","v":0},0,0,0,0,0,0,0,0,0,0,0,0,0,0,0,0,0,0,0,0,0,0,0,0,0,0,0,0,0,0]
["石川県","17209","かほく市",{"$f":"SUM(E9:AH9)","v":0},0,0,0,0,0,0,0,0,0,0,0,0,0,0,0,0,0,0,0,0,0,0,0,0,0,0,0,0,0,0]

{"sheet":"ごみ搬入量内訳(粗大)","index":4,"n_rows":9,"n_cols":34,"rows_kept":9,"merged":[[1,0,5,0],[1,1,5,1],[1,2,5,2],[2,3,4,3],[2,4,4,4],[2,5,4,5],[2,6,4,6],[2,7,4,7],[2,8,4,8],[2,9,4,9],[2,10,4,10],[2,11,4,11],[2,12,4,12],[2,13,4,13],[2,14,4,14],[2,15,4,15],[2,16,4,16],[2,17,4,17],[2,18,4,18],[2,19,4,19],[2,20,4,20],[2,21,4,21],[2,22,4,22],[2,23,4,23],[2,24,4,24],[2,25,4,25],[2,26,4,26],[2,27,4,27],[2,28,4,28],[2,29,4,29],[2,30,4,30],[2,31,4,31],[2,32,4,32],[2,33,4,33]]}
["【災害】処理施設別ごみ搬入量の状況（平成28年度実績）"]
["都道府県名","地方公共団体コード","市区町村名","粗大ごみ処理施設"]
[{"$nulls":3},"合計","木くず","金属くず","コンクリートがら","その他がれき類","石綿含有廃棄物等","ＰＣＢ廃棄物","その他有害物、危険物","混合ごみ","可燃ごみ","不燃ごみ","資源ごみ","粗大ごみ","家電４品目","パソコン","自動車","ＦＲＰ船","鋼船","その他船舶","畳","漁網","タイヤ","その他家電","消火器","ガスボンベ","土石類","津波堆積物","その他","冷凍・冷蔵庫保管物\n（海洋投入）","漂着ごみ","除染廃棄物"]
[]
[]
[{"$nulls":3},"（ｔ）","（ｔ）","（ｔ）","（ｔ）","（ｔ）","（ｔ）","（ｔ）","（ｔ）","（ｔ）","（ｔ）","（ｔ）","（ｔ）","（ｔ）","（ｔ）","（ｔ）","（ｔ）","（ｔ）","（ｔ）","（ｔ）","（ｔ）","（ｔ）","（ｔ）","（ｔ）","（ｔ）","（ｔ）","（ｔ）","（ｔ）","（ｔ）","（ｔ）","（ｔ）","（ｔ）"]
["石川県","17000","合計",{"$f":"SUM($D$8:$D$9)","v":0},{"$f":"SUM($E$8:$E$9)","v":0},{"$f":"SUM($F$8:$F$9)","v":0},{"$f":"SUM($G$8:$G$9)","v":0},{"$f":"SUM($H$8:$H$9)","v":0},{"$f":"SUM($I$8:$I$9)","v":0},{"$f":"SUM($J$8:$J$9)","v":0},{"$f":"SUM($K$8:$K$9)","v":0},{"$f":"SUM($L$8:$L$9)","v":0},{"$f":"SUM($M$8:$M$9)","v":0},{"$f":"SUM($N$8:$N$9)","v":0},{"$f":"SUM($O$8:$O$9)","v":0},{"$f":"SUM($P$8:$P$9)","v":0},{"$f":"SUM($Q$8:$Q$9)","v":0},{"$f":"SUM($R$8:$R$9)","v":0},{"$f":"SUM($S$8:$S$9)","v":0},{"$f":"SUM($T$8:$T$9)","v":0},{"$f":"SUM($U$8:$U$9)","v":0},{"$f":"SUM($V$8:$V$9)","v":0},{"$f":"SUM($W$8:$W$9)","v":0},{"$f":"SUM($X$8:$X$9)","v":0},{"$f":"SUM($Y$8:$Y$9)","v":0},{"$f":"SUM($Z$8:$Z$9)","v":0},{"$f":"SUM($AA$8:$AA$9)","v":0},{"$f":"SUM($AB$8:$AB$9)","v":0},{"$f":"SUM($AC$8:$AC$9)","v":0},{"$f":"SUM($AD$8:$AD$9)","v":0},{"$f":"SUM($AE$8:$AE$9)","v":0},{"$f":"SUM($AF$8:$AF$9)","v":0},{"$f":"SUM($AG$8:$AG$9)","v":0},{"$f":"SUM($AH$8:$AH$9)","v":0}]
["石川県","17207","羽咋市",{"$f":"SUM(E8:AH8)","v":0},0,0,0,0,0,0,0,0,0,0,0,0,0,0,0,0,0,0,0,0,0,0,0,0,0,0,0,0,0,0]
["石川県","17209","かほく市",{"$f":"SUM(E9:AH9)","v":0},0,0,0,0,0,0,0,0,0,0,0,0,0,0,0,0,0,0,0,0,0,0,0,0,0,0,0,0,0,0]

{"sheet":"ごみ搬入量内訳(堆肥化)","index":5,"n_rows":9,"n_cols":34,"rows_kept":9,"merged":[[1,0,5,0],[1,1,5,1],[1,2,5,2],[2,3,4,3],[2,4,4,4],[2,5,4,5],[2,6,4,6],[2,7,4,7],[2,8,4,8],[2,9,4,9],[2,10,4,10],[2,11,4,11],[2,12,4,12],[2,13,4,13],[2,14,4,14],[2,15,4,15],[2,16,4,16],[2,17,4,17],[2,18,4,18],[2,19,4,19],[2,20,4,20],[2,21,4,21],[2,22,4,22],[2,23,4,23],[2,24,4,24],[2,25,4,25],[2,26,4,26],[2,27,4,27],[2,28,4,28],[2,29,4,29],[2,30,4,30],[2,31,4,31],[2,32,4,32],[2,33,4,33]]}
["【災害】処理施設別ごみ搬入量の状況（平成28年度実績）"]
["都道府県名","地方公共団体コード","市区町村名","ごみ堆肥化施設"]
[{"$nulls":3},"合計","木くず","金属くず","コンクリートがら","その他がれき類","石綿含有廃棄物等","ＰＣＢ廃棄物","その他有害物、危険物","混合ごみ","可燃ごみ","不燃ごみ","資源ごみ","粗大ごみ","家電４品目","パソコン","自動車","ＦＲＰ船","鋼船","その他船舶","畳","漁網","タイヤ","その他家電","消火器","ガスボンベ","土石類","津波堆積物","その他","冷凍・冷蔵庫保管物\n（海洋投入）","漂着ごみ","除染廃棄物"]
[]
[]
[{"$nulls":3},"（ｔ）","（ｔ）","（ｔ）","（ｔ）","（ｔ）","（ｔ）","（ｔ）","（ｔ）","（ｔ）","（ｔ）","（ｔ）","（ｔ）","（ｔ）","（ｔ）","（ｔ）","（ｔ）","（ｔ）","（ｔ）","（ｔ）","（ｔ）","（ｔ）","（ｔ）","（ｔ）","（ｔ）","（ｔ）","（ｔ）","（ｔ）","（ｔ）","（ｔ）","（ｔ）","（ｔ）"]
["石川県","17000","合計",{"$f":"SUM($D$8:$D$9)","v":0},{"$f":"SUM($E$8:$E$9)","v":0},{"$f":"SUM($F$8:$F$9)","v":0},{"$f":"SUM($G$8:$G$9)","v":0},{"$f":"SUM($H$8:$H$9)","v":0},{"$f":"SUM($I$8:$I$9)","v":0},{"$f":"SUM($J$8:$J$9)","v":0},{"$f":"SUM($K$8:$K$9)","v":0},{"$f":"SUM($L$8:$L$9)","v":0},{"$f":"SUM($M$8:$M$9)","v":0},{"$f":"SUM($N$8:$N$9)","v":0},{"$f":"SUM($O$8:$O$9)","v":0},{"$f":"SUM($P$8:$P$9)","v":0},{"$f":"SUM($Q$8:$Q$9)","v":0},{"$f":"SUM($R$8:$R$9)","v":0},{"$f":"SUM($S$8:$S$9)","v":0},{"$f":"SUM($T$8:$T$9)","v":0},{"$f":"SUM($U$8:$U$9)","v":0},{"$f":"SUM($V$8:$V$9)","v":0},{"$f":"SUM($W$8:$W$9)","v":0},{"$f":"SUM($X$8:$X$9)","v":0},{"$f":"SUM($Y$8:$Y$9)","v":0},{"$f":"SUM($Z$8:$Z$9)","v":0},{"$f":"SUM($AA$8:$AA$9)","v":0},{"$f":"SUM($AB$8:$AB$9)","v":0},{"$f":"SUM($AC$8:$AC$9)","v":0},{"$f":"SUM($AD$8:$AD$9)","v":0},{"$f":"SUM($AE$8:$AE$9)","v":0},{"$f":"SUM($AF$8:$AF$9)","v":0},{"$f":"SUM($AG$8:$AG$9)","v":0},{"$f":"SUM($AH$8:$AH$9)","v":0}]
["石川県","17207","羽咋市",{"$f":"SUM(E8:AH8)","v":0},0,0,0,0,0,0,0,0,0,0,0,0,0,0,0,0,0,0,0,0,0,0,0,0,0,0,0,0,0,0]
["石川県","17209","かほく市",{"$f":"SUM(E9:AH9)","v":0},0,0,0,0,0,0,0,0,0,0,0,0,0,0,0,0,0,0,0,0,0,0,0,0,0,0,0,0,0,0]

{"sheet":"ごみ搬入量内訳(飼料化)","index":6,"n_rows":9,"n_cols":34,"rows_kept":9,"merged":[[1,0,5,0],[1,1,5,1],[1,2,5,2],[2,3,4,3],[2,4,4,4],[2,5,4,5],[2,6,4,6],[2,7,4,7],[2,8,4,8],[2,9,4,9],[2,10,4,10],[2,11,4,11],[2,12,4,12],[2,13,4,13],[2,14,4,14],[2,15,4,15],[2,16,4,16],[2,17,4,17],[2,18,4,18],[2,19,4,19],[2,20,4,20],[2,21,4,21],[2,22,4,22],[2,23,4,23],[2,24,4,24],[2,25,4,25],[2,26,4,26],[2,27,4,27],[2,28,4,28],[2,29,4,29],[2,30,4,30],[2,31,4,31],[2,32,4,32],[2,33,4,33]]}
["【災害】処理施設別ごみ搬入量の状況（平成28年度実績）"]
["都道府県名","地方公共団体コード","市区町村名","ごみ飼料化施設"]
[{"$nulls":3},"合計","木くず","金属くず","コンクリートがら","その他がれき類","石綿含有廃棄物等","ＰＣＢ廃棄物","その他有害物、危険物","混合ごみ","可燃ごみ","不燃ごみ","資源ごみ","粗大ごみ","家電４品目","パソコン","自動車","ＦＲＰ船","鋼船","その他船舶","畳","漁網","タイヤ","その他家電","消火器","ガスボンベ","土石類","津波堆積物","その他","冷凍・冷蔵庫保管物\n（海洋投入）","漂着ごみ","除染廃棄物"]
[]
[]
[{"$nulls":3},"（ｔ）","（ｔ）","（ｔ）","（ｔ）","（ｔ）","（ｔ）","（ｔ）","（ｔ）","（ｔ）","（ｔ）","（ｔ）","（ｔ）","（ｔ）","（ｔ）","（ｔ）","（ｔ）","（ｔ）","（ｔ）","（ｔ）","（ｔ）","（ｔ）","（ｔ）","（ｔ）","（ｔ）","（ｔ）","（ｔ）","（ｔ）","（ｔ）","（ｔ）","（ｔ）","（ｔ）"]
["石川県","17000","合計",{"$f":"SUM($D$8:$D$9)","v":0},{"$f":"SUM($E$8:$E$9)","v":0},{"$f":"SUM($F$8:$F$9)","v":0},{"$f":"SUM($G$8:$G$9)","v":0},{"$f":"SUM($H$8:$H$9)","v":0},{"$f":"SUM($I$8:$I$9)","v":0},{"$f":"SUM($J$8:$J$9)","v":0},{"$f":"SUM($K$8:$K$9)","v":0},{"$f":"SUM($L$8:$L$9)","v":0},{"$f":"SUM($M$8:$M$9)","v":0},{"$f":"SUM($N$8:$N$9)","v":0},{"$f":"SUM($O$8:$O$9)","v":0},{"$f":"SUM($P$8:$P$9)","v":0},{"$f":"SUM($Q$8:$Q$9)","v":0},{"$f":"SUM($R$8:$R$9)","v":0},{"$f":"SUM($S$8:$S$9)","v":0},{"$f":"SUM($T$8:$T$9)","v":0},{"$f":"SUM($U$8:$U$9)","v":0},{"$f":"SUM($V$8:$V$9)","v":0},{"$f":"SUM($W$8:$W$9)","v":0},{"$f":"SUM($X$8:$X$9)","v":0},{"$f":"SUM($Y$8:$Y$9)","v":0},{"$f":"SUM($Z$8:$Z$9)","v":0},{"$f":"SUM($AA$8:$AA$9)","v":0},{"$f":"SUM($AB$8:$AB$9)","v":0},{"$f":"SUM($AC$8:$AC$9)","v":0},{"$f":"SUM($AD$8:$AD$9)","v":0},{"$f":"SUM($AE$8:$AE$9)","v":0},{"$f":"SUM($AF$8:$AF$9)","v":0},{"$f":"SUM($AG$8:$AG$9)","v":0},{"$f":"SUM($AH$8:$AH$9)","v":0}]
["石川県","17207","羽咋市",{"$f":"SUM(E8:AH8)","v":0},0,0,0,0,0,0,0,0,0,0,0,0,0,0,0,0,0,0,0,0,0,0,0,0,0,0,0,0,0,0]
["石川県","17209","かほく市",{"$f":"SUM(E9:AH9)","v":0},0,0,0,0,0,0,0,0,0,0,0,0,0,0,0,0,0,0,0,0,0,0,0,0,0,0,0,0,0,0]

{"sheet":"ごみ搬入量内訳(メタン化)","index":7,"n_rows":9,"n_cols":34,"rows_kept":9,"merged":[[1,0,5,0],[1,1,5,1],[1,2,5,2],[2,3,4,3],[2,4,4,4],[2,5,4,5],[2,6,4,6],[2,7,4,7],[2,8,4,8],[2,9,4,9],[2,10,4,10],[2,11,4,11],[2,12,4,12],[2,13,4,13],[2,14,4,14],[2,15,4,15],[2,16,4,16],[2,17,4,17],[2,18,4,18],[2,19,4,19],[2,20,4,20],[2,21,4,21],[2,22,4,22],[2,23,4,23],[2,24,4,24],[2,25,4,25],[2,26,4,26],[2,27,4,27],[2,28,4,28],[2,29,4,29],[2,30,4,30],[2,31,4,31],[2,32,4,32],[2,33,4,33]]}
["【災害】処理施設別ごみ搬入量の状況（平成28年度実績）"]
["都道府県名","地方公共団体コード","市区町村名","メタン化施設"]
[{"$nulls":3},"合計","木くず","金属くず","コンクリートがら","その他がれき類","石綿含有廃棄物等","ＰＣＢ廃棄物","その他有害物、危険物","混合ごみ","可燃ごみ","不燃ごみ","資源ごみ","粗大ごみ","家電４品目","パソコン","自動車","ＦＲＰ船","鋼船","その他船舶","畳","漁網","タイヤ","その他家電","消火器","ガスボンベ","土石類","津波堆積物","その他","冷凍・冷蔵庫保管物\n（海洋投入）","漂着ごみ","除染廃棄物"]
[]
[]
[{"$nulls":3},"（ｔ）","（ｔ）","（ｔ）","（ｔ）","（ｔ）","（ｔ）","（ｔ）","（ｔ）","（ｔ）","（ｔ）","（ｔ）","（ｔ）","（ｔ）","（ｔ）","（ｔ）","（ｔ）","（ｔ）","（ｔ）","（ｔ）","（ｔ）","（ｔ）","（ｔ）","（ｔ）","（ｔ）","（ｔ）","（ｔ）","（ｔ）","（ｔ）","（ｔ）","（ｔ）","（ｔ）"]
["石川県","17000","合計",{"$f":"SUM($D$8:$D$9)","v":0},{"$f":"SUM($E$8:$E$9)","v":0},{"$f":"SUM($F$8:$F$9)","v":0},{"$f":"SUM($G$8:$G$9)","v":0},{"$f":"SUM($H$8:$H$9)","v":0},{"$f":"SUM($I$8:$I$9)","v":0},{"$f":"SUM($J$8:$J$9)","v":0},{"$f":"SUM($K$8:$K$9)","v":0},{"$f":"SUM($L$8:$L$9)","v":0},{"$f":"SUM($M$8:$M$9)","v":0},{"$f":"SUM($N$8:$N$9)","v":0},{"$f":"SUM($O$8:$O$9)","v":0},{"$f":"SUM($P$8:$P$9)","v":0},{"$f":"SUM($Q$8:$Q$9)","v":0},{"$f":"SUM($R$8:$R$9)","v":0},{"$f":"SUM($S$8:$S$9)","v":0},{"$f":"SUM($T$8:$T$9)","v":0},{"$f":"SUM($U$8:$U$9)","v":0},{"$f":"SUM($V$8:$V$9)","v":0},{"$f":"SUM($W$8:$W$9)","v":0},{"$f":"SUM($X$8:$X$9)","v":0},{"$f":"SUM($Y$8:$Y$9)","v":0},{"$f":"SUM($Z$8:$Z$9)","v":0},{"$f":"SUM($AA$8:$AA$9)","v":0},{"$f":"SUM($AB$8:$AB$9)","v":0},{"$f":"SUM($AC$8:$AC$9)","v":0},{"$f":"SUM($AD$8:$AD$9)","v":0},{"$f":"SUM($AE$8:$AE$9)","v":0},{"$f":"SUM($AF$8:$AF$9)","v":0},{"$f":"SUM($AG$8:$AG$9)","v":0},{"$f":"SUM($AH$8:$AH$9)","v":0}]
["石川県","17207","羽咋市",{"$f":"SUM(E8:AH8)","v":0},0,0,0,0,0,0,0,0,0,0,0,0,0,0,0,0,0,0,0,0,0,0,0,0,0,0,0,0,0,0]
["石川県","17209","かほく市",{"$f":"SUM(E9:AH9)","v":0},0,0,0,0,0,0,0,0,0,0,0,0,0,0,0,0,0,0,0,0,0,0,0,0,0,0,0,0,0,0]

{"sheet":"ごみ搬入量内訳(燃料化)","index":8,"n_rows":9,"n_cols":34,"rows_kept":9,"merged":[[1,0,5,0],[1,1,5,1],[1,2,5,2],[2,3,4,3],[2,4,4,4],[2,5,4,5],[2,6,4,6],[2,7,4,7],[2,8,4,8],[2,9,4,9],[2,10,4,10],[2,11,4,11],[2,12,4,12],[2,13,4,13],[2,14,4,14],[2,15,4,15],[2,16,4,16],[2,17,4,17],[2,18,4,18],[2,19,4,19],[2,20,4,20],[2,21,4,21],[2,22,4,22],[2,23,4,23],[2,24,4,24],[2,25,4,25],[2,26,4,26],[2,27,4,27],[2,28,4,28],[2,29,4,29],[2,30,4,30],[2,31,4,31],[2,32,4,32],[2,33,4,33]]}
["【災害】処理施設別ごみ搬入量の状況（平成28年度実績）"]
["都道府県名","地方公共団体コード","市区町村名","ごみ燃料化施設"]
[{"$nulls":3},"合計","木くず","金属くず","コンクリートがら","その他がれき類","石綿含有廃棄物等","ＰＣＢ廃棄物","その他有害物、危険物","混合ごみ","可燃ごみ","不燃ごみ","資源ごみ","粗大ごみ","家電４品目","パソコン","自動車","ＦＲＰ船","鋼船","その他船舶","畳","漁網","タイヤ","その他家電","消火器","ガスボンベ","土石類","津波堆積物","その他","冷凍・冷蔵庫保管物\n（海洋投入）","漂着ごみ","除染廃棄物"]
[]
[]
[{"$nulls":3},"（ｔ）","（ｔ）","（ｔ）","（ｔ）","（ｔ）","（ｔ）","（ｔ）","（ｔ）","（ｔ）","（ｔ）","（ｔ）","（ｔ）","（ｔ）","（ｔ）","（ｔ）","（ｔ）","（ｔ）","（ｔ）","（ｔ）","（ｔ）","（ｔ）","（ｔ）","（ｔ）","（ｔ）","（ｔ）","（ｔ）","（ｔ）","（ｔ）","（ｔ）","（ｔ）","（ｔ）"]
["石川県","17000","合計",{"$f":"SUM($D$8:$D$9)","v":0},{"$f":"SUM($E$8:$E$9)","v":0},{"$f":"SUM($F$8:$F$9)","v":0},{"$f":"SUM($G$8:$G$9)","v":0},{"$f":"SUM($H$8:$H$9)","v":0},{"$f":"SUM($I$8:$I$9)","v":0},{"$f":"SUM($J$8:$J$9)","v":0},{"$f":"SUM($K$8:$K$9)","v":0},{"$f":"SUM($L$8:$L$9)","v":0},{"$f":"SUM($M$8:$M$9)","v":0},{"$f":"SUM($N$8:$N$9)","v":0},{"$f":"SUM($O$8:$O$9)","v":0},{"$f":"SUM($P$8:$P$9)","v":0},{"$f":"SUM($Q$8:$Q$9)","v":0},{"$f":"SUM($R$8:$R$9)","v":0},{"$f":"SUM($S$8:$S$9)","v":0},{"$f":"SUM($T$8:$T$9)","v":0},{"$f":"SUM($U$8:$U$9)","v":0},{"$f":"SUM($V$8:$V$9)","v":0},{"$f":"SUM($W$8:$W$9)","v":0},{"$f":"SUM($X$8:$X$9)","v":0},{"$f":"SUM($Y$8:$Y$9)","v":0},{"$f":"SUM($Z$8:$Z$9)","v":0},{"$f":"SUM($AA$8:$AA$9)","v":0},{"$f":"SUM($AB$8:$AB$9)","v":0},{"$f":"SUM($AC$8:$AC$9)","v":0},{"$f":"SUM($AD$8:$AD$9)","v":0},{"$f":"SUM($AE$8:$AE$9)","v":0},{"$f":"SUM($AF$8:$AF$9)","v":0},{"$f":"SUM($AG$8:$AG$9)","v":0},{"$f":"SUM($AH$8:$AH$9)","v":0}]
["石川県","17207","羽咋市",{"$f":"SUM(E8:AH8)","v":0},0,0,0,0,0,0,0,0,0,0,0,0,0,0,0,0,0,0,0,0,0,0,0,0,0,0,0,0,0,0]
["石川県","17209","かほく市",{"$f":"SUM(E9:AH9)","v":0},0,0,0,0,0,0,0,0,0,0,0,0,0,0,0,0,0,0,0,0,0,0,0,0,0,0,0,0,0,0]

{"sheet":"ごみ搬入量内訳(セメント)","index":9,"n_rows":9,"n_cols":34,"rows_kept":9,"merged":[[1,0,5,0],[1,1,5,1],[1,2,5,2],[2,3,4,3],[2,4,4,4],[2,5,4,5],[2,6,4,6],[2,7,4,7],[2,8,4,8],[2,9,4,9],[2,10,4,10],[2,11,4,11],[2,12,4,12],[2,13,4,13],[2,14,4,14],[2,15,4,15],[2,16,4,16],[2,17,4,17],[2,18,4,18],[2,19,4,19],[2,20,4,20],[2,21,4,21],[2,22,4,22],[2,23,4,23],[2,24,4,24],[2,25,4,25],[2,26,4,26],[2,27,4,27],[2,28,4,28],[2,29,4,29],[2,30,4,30],[2,31,4,31],[2,32,4,32],[2,33,4,33]]}
["【災害】処理施設別ごみ搬入量の状況（平成28年度実績）"]
["都道府県名","地方公共団体コード","市区町村名","セメント等への直接投入"]
[{"$nulls":3},"合計","木くず","金属くず","コンクリートがら","その他がれき類","石綿含有廃棄物等","ＰＣＢ廃棄物","その他有害物、危険物","混合ごみ","可燃ごみ","不燃ごみ","資源ごみ","粗大ごみ","家電４品目","パソコン","自動車","ＦＲＰ船","鋼船","その他船舶","畳","漁網","タイヤ","その他家電","消火器","ガスボンベ","土石類","津波堆積物","その他","冷凍・冷蔵庫保管物\n（海洋投入）","漂着ごみ","除染廃棄物"]
[]
[]
[{"$nulls":3},"（ｔ）","（ｔ）","（ｔ）","（ｔ）","（ｔ）","（ｔ）","（ｔ）","（ｔ）","（ｔ）","（ｔ）","（ｔ）","（ｔ）","（ｔ）","（ｔ）","（ｔ）","（ｔ）","（ｔ）","（ｔ）","（ｔ）","（ｔ）","（ｔ）","（ｔ）","（ｔ）","（ｔ）","（ｔ）","（ｔ）","（ｔ）","（ｔ）","（ｔ）","（ｔ）","（ｔ）"]
["石川県","17000","合計",{"$f":"SUM($D$8:$D$9)","v":0},{"$f":"SUM($E$8:$E$9)","v":0},{"$f":"SUM($F$8:$F$9)","v":0},{"$f":"SUM($G$8:$G$9)","v":0},{"$f":"SUM($H$8:$H$9)","v":0},{"$f":"SUM($I$8:$I$9)","v":0},{"$f":"SUM($J$8:$J$9)","v":0},{"$f":"SUM($K$8:$K$9)","v":0},{"$f":"SUM($L$8:$L$9)","v":0},{"$f":"SUM($M$8:$M$9)","v":0},{"$f":"SUM($N$8:$N$9)","v":0},{"$f":"SUM($O$8:$O$9)","v":0},{"$f":"SUM($P$8:$P$9)","v":0},{"$f":"SUM($Q$8:$Q$9)","v":0},{"$f":"SUM($R$8:$R$9)","v":0},{"$f":"SUM($S$8:$S$9)","v":0},{"$f":"SUM($T$8:$T$9)","v":0},{"$f":"SUM($U$8:$U$9)","v":0},{"$f":"SUM($V$8:$V$9)","v":0},{"$f":"SUM($W$8:$W$9)","v":0},{"$f":"SUM($X$8:$X$9)","v":0},{"$f":"SUM($Y$8:$Y$9)","v":0},{"$f":"SUM($Z$8:$Z$9)","v":0},{"$f":"SUM($AA$8:$AA$9)","v":0},{"$f":"SUM($AB$8:$AB$9)","v":0},{"$f":"SUM($AC$8:$AC$9)","v":0},{"$f":"SUM($AD$8:$AD$9)","v":0},{"$f":"SUM($AE$8:$AE$9)","v":0},{"$f":"SUM($AF$8:$AF$9)","v":0},{"$f":"SUM($AG$8:$AG$9)","v":0},{"$f":"SUM($AH$8:$AH$9)","v":0}]
["石川県","17207","羽咋市",{"$f":"SUM(E8:AH8)","v":0},0,0,0,0,0,0,0,0,0,0,0,0,0,0,0,0,0,0,0,0,0,0,0,0,0,0,0,0,0,0]
["石川県","17209","かほく市",{"$f":"SUM(E9:AH9)","v":0},0,0,0,0,0,0,0,0,0,0,0,0,0,0,0,0,0,0,0,0,0,0,0,0,0,0,0,0,0,0]

{"sheet":"ごみ搬入量内訳(資源化等)","index":10,"n_rows":9,"n_cols":34,"rows_kept":9,"merged":[[1,0,5,0],[1,1,5,1],[1,2,5,2],[2,3,4,3],[2,4,4,4],[2,5,4,5],[2,6,4,6],[2,7,4,7],[2,8,4,8],[2,9,4,9],[2,10,4,10],[2,11,4,11],[2,12,4,12],[2,13,4,13],[2,14,4,14],[2,15,4,15],[2,16,4,16],[2,17,4,17],[2,18,4,18],[2,19,4,19],[2,20,4,20],[2,21,4,21],[2,22,4,22],[2,23,4,23],[2,24,4,24],[2,25,4,25],[2,26,4,26],[2,27,4,27],[2,28,4,28],[2,29,4,29],[2,30,4,30],[2,31,4,31],[2,32,4,32],[2,33,4,33]]}
["【災害】処理施設別ごみ搬入量の状況（平成28年度実績）"]
["都道府県名","地方公共団体コード","市区町村名","その他資源化等を行う施設"]
[{"$nulls":3},"合計","木くず","金属くず","コンクリートがら","その他がれき類","石綿含有廃棄物等","ＰＣＢ廃棄物","その他有害物、危険物","混合ごみ","可燃ごみ","不燃ごみ","資源ごみ","粗大ごみ","家電４品目","パソコン","自動車","ＦＲＰ船","鋼船","その他船舶","畳","漁網","タイヤ","その他家電","消火器","ガスボンベ","土石類","津波堆積物","その他","冷凍・冷蔵庫保管物\n（海洋投入）","漂着ごみ","除染廃棄物"]
[]
[]
[{"$nulls":3},"（ｔ）","（ｔ）","（ｔ）","（ｔ）","（ｔ）","（ｔ）","（ｔ）","（ｔ）","（ｔ）","（ｔ）","（ｔ）","（ｔ）","（ｔ）","（ｔ）","（ｔ）","（ｔ）","（ｔ）","（ｔ）","（ｔ）","（ｔ）","（ｔ）","（ｔ）","（ｔ）","（ｔ）","（ｔ）","（ｔ）","（ｔ）","（ｔ）","（ｔ）","（ｔ）","（ｔ）"]
["石川県","17000","合計",{"$f":"SUM($D$8:$D$9)","v":0},{"$f":"SUM($E$8:$E$9)","v":0},{"$f":"SUM($F$8:$F$9)","v":0},{"$f":"SUM($G$8:$G$9)","v":0},{"$f":"SUM($H$8:$H$9)","v":0},{"$f":"SUM($I$8:$I$9)","v":0},{"$f":"SUM($J$8:$J$9)","v":0},{"$f":"SUM($K$8:$K$9)","v":0},{"$f":"SUM($L$8:$L$9)","v":0},{"$f":"SUM($M$8:$M$9)","v":0},{"$f":"SUM($N$8:$N$9)","v":0},{"$f":"SUM($O$8:$O$9)","v":0},{"$f":"SUM($P$8:$P$9)","v":0},{"$f":"SUM($Q$8:$Q$9)","v":0},{"$f":"SUM($R$8:$R$9)","v":0},{"$f":"SUM($S$8:$S$9)","v":0},{"$f":"SUM($T$8:$T$9)","v":0},{"$f":"SUM($U$8:$U$9)","v":0},{"$f":"SUM($V$8:$V$9)","v":0},{"$f":"SUM($W$8:$W$9)","v":0},{"$f":"SUM($X$8:$X$9)","v":0},{"$f":"SUM($Y$8:$Y$9)","v":0},{"$f":"SUM($Z$8:$Z$9)","v":0},{"$f":"SUM($AA$8:$AA$9)","v":0},{"$f":"SUM($AB$8:$AB$9)","v":0},{"$f":"SUM($AC$8:$AC$9)","v":0},{"$f":"SUM($AD$8:$AD$9)","v":0},{"$f":"SUM($AE$8:$AE$9)","v":0},{"$f":"SUM($AF$8:$AF$9)","v":0},{"$f":"SUM($AG$8:$AG$9)","v":0},{"$f":"SUM($AH$8:$AH$9)","v":0}]
["石川県","17207","羽咋市",{"$f":"SUM(E8:AH8)","v":0},0,0,0,0,0,0,0,0,0,0,0,0,0,0,0,0,0,0,0,0,0,0,0,0,0,0,0,0,0,0]
["石川県","17209","かほく市",{"$f":"SUM(E9:AH9)","v":0},0,0,0,0,0,0,0,0,0,0,0,0,0,0,0,0,0,0,0,0,0,0,0,0,0,0,0,0,0,0]

{"sheet":"ごみ搬入量内訳(その他)","index":11,"n_rows":9,"n_cols":34,"rows_kept":9,"merged":[[1,0,5,0],[1,1,5,1],[1,2,5,2],[2,3,4,3],[2,4,4,4],[2,5,4,5],[2,6,4,6],[2,7,4,7],[2,8,4,8],[2,9,4,9],[2,10,4,10],[2,11,4,11],[2,12,4,12],[2,13,4,13],[2,14,4,14],[2,15,4,15],[2,16,4,16],[2,17,4,17],[2,18,4,18],[2,19,4,19],[2,20,4,20],[2,21,4,21],[2,22,4,22],[2,23,4,23],[2,24,4,24],[2,25,4,25],[2,26,4,26],[2,27,4,27],[2,28,4,28],[2,29,4,29],[2,30,4,30],[2,31,4,31],[2,32,4,32],[2,33,4,33]]}
["【災害】処理施設別ごみ搬入量の状況（平成28年度実績）"]
["都道府県名","地方公共団体コード","市区町村名","その他の施設"]
[{"$nulls":3},"合計","木くず","金属くず","コンクリートがら","その他がれき類","石綿含有廃棄物等","ＰＣＢ廃棄物","その他有害物、危険物","混合ごみ","可燃ごみ","不燃ごみ","資源ごみ","粗大ごみ","家電４品目","パソコン","自動車","ＦＲＰ船","鋼船","その他船舶","畳","漁網","タイヤ","その他家電","消火器","ガスボンベ","土石類","津波堆積物","その他","冷凍・冷蔵庫保管物\n（海洋投入）","漂着ごみ","除染廃棄物"]
[]
[]
[{"$nulls":3},"（ｔ）","（ｔ）","（ｔ）","（ｔ）","（ｔ）","（ｔ）","（ｔ）","（ｔ）","（ｔ）","（ｔ）","（ｔ）","（ｔ）","（ｔ）","（ｔ）","（ｔ）","（ｔ）","（ｔ）","（ｔ）","（ｔ）","（ｔ）","（ｔ）","（ｔ）","（ｔ）","（ｔ）","（ｔ）","（ｔ）","（ｔ）","（ｔ）","（ｔ）","（ｔ）","（ｔ）"]
["石川県","17000","合計",{"$f":"SUM($D$8:$D$9)","v":0},{"$f":"SUM($E$8:$E$9)","v":0},{"$f":"SUM($F$8:$F$9)","v":0},{"$f":"SUM($G$8:$G$9)","v":0},{"$f":"SUM($H$8:$H$9)","v":0},{"$f":"SUM($I$8:$I$9)","v":0},{"$f":"SUM($J$8:$J$9)","v":0},{"$f":"SUM($K$8:$K$9)","v":0},{"$f":"SUM($L$8:$L$9)","v":0},{"$f":"SUM($M$8:$M$9)","v":0},{"$f":"SUM($N$8:$N$9)","v":0},{"$f":"SUM($O$8:$O$9)","v":0},{"$f":"SUM($P$8:$P$9)","v":0},{"$f":"SUM($Q$8:$Q$9)","v":0},{"$f":"SUM($R$8:$R$9)","v":0},{"$f":"SUM($S$8:$S$9)","v":0},{"$f":"SUM($T$8:$T$9)","v":0},{"$f":"SUM($U$8:$U$9)","v":0},{"$f":"SUM($V$8:$V$9)","v":0},{"$f":"SUM($W$8:$W$9)","v":0},{"$f":"SUM($X$8:$X$9)","v":0},{"$f":"SUM($Y$8:$Y$9)","v":0},{"$f":"SUM($Z$8:$Z$9)","v":0},{"$f":"SUM($AA$8:$AA$9)","v":0},{"$f":"SUM($AB$8:$AB$9)","v":0},{"$f":"SUM($AC$8:$AC$9)","v":0},{"$f":"SUM($AD$8:$AD$9)","v":0},{"$f":"SUM($AE$8:$AE$9)","v":0},{"$f":"SUM($AF$8:$AF$9)","v":0},{"$f":"SUM($AG$8:$AG$9)","v":0},{"$f":"SUM($AH$8:$AH$9)","v":0}]
["石川県","17207","羽咋市",{"$f":"SUM(E8:AH8)","v":0},0,0,0,0,0,0,0,0,0,0,0,0,0,0,0,0,0,0,0,0,0,0,0,0,0,0,0,0,0,0]
["石川県","17209","かほく市",{"$f":"SUM(E9:AH9)","v":0},0,0,0,0,0,0,0,0,0,0,0,0,0,0,0,0,0,0,0,0,0,0,0,0,0,0,0,0,0,0]

{"sheet":"ごみ搬入量内訳(直接埋立)","index":12,"n_rows":9,"n_cols":34,"rows_kept":9,"merged":[[1,0,5,0],[1,1,5,1],[1,2,5,2],[2,3,4,3],[2,4,4,4],[2,5,4,5],[2,6,4,6],[2,7,4,7],[2,8,4,8],[2,9,4,9],[2,10,4,10],[2,11,4,11],[2,12,4,12],[2,13,4,13],[2,14,4,14],[2,15,4,15],[2,16,4,16],[2,17,4,17],[2,18,4,18],[2,19,4,19],[2,20,4,20],[2,21,4,21],[2,22,4,22],[2,23,4,23],[2,24,4,24],[2,25,4,25],[2,26,4,26],[2,27,4,27],[2,28,4,28],[2,29,4,29],[2,30,4,30],[2,31,4,31],[2,32,4,32],[2,33,4,33]]}
["【災害】処理施設別ごみ搬入量の状況（平成28年度実績）"]
["都道府県名","地方公共団体コード","市区町村名","直接埋立"]
[{"$nulls":3},"合計","木くず","金属くず","コンクリートがら","その他がれき類","石綿含有廃棄物等","ＰＣＢ廃棄物","その他有害物、危険物","混合ごみ","可燃ごみ","不燃ごみ","資源ごみ","粗大ごみ","家電４品目","パソコン","自動車","ＦＲＰ船","鋼船","その他船舶","畳","漁網","タイヤ","その他家電","消火器","ガスボンベ","土石類","津波堆積物","その他","冷凍・冷蔵庫保管物\n（海洋投入）","漂着ごみ","除染廃棄物"]
[]
[]
[{"$nulls":3},"（ｔ）","（ｔ）","（ｔ）","（ｔ）","（ｔ）","（ｔ）","（ｔ）","（ｔ）","（ｔ）","（ｔ）","（ｔ）","（ｔ）","（ｔ）","（ｔ）","（ｔ）","（ｔ）","（ｔ）","（ｔ）","（ｔ）","（ｔ）","（ｔ）","（ｔ）","（ｔ）","（ｔ）","（ｔ）","（ｔ）","（ｔ）","（ｔ）","（ｔ）","（ｔ）","（ｔ）"]
["石川県","17000","合計",{"$f":"SUM($D$8:$D$9)","v":0},{"$f":"SUM($E$8:$E$9)","v":0},{"$f":"SUM($F$8:$F$9)","v":0},{"$f":"SUM($G$8:$G$9)","v":0},{"$f":"SUM($H$8:$H$9)","v":0},{"$f":"SUM($I$8:$I$9)","v":0},{"$f":"SUM($J$8:$J$9)","v":0},{"$f":"SUM($K$8:$K$9)","v":0},{"$f":"SUM($L$8:$L$9)","v":0},{"$f":"SUM($M$8:$M$9)","v":0},{"$f":"SUM($N$8:$N$9)","v":0},{"$f":"SUM($O$8:$O$9)","v":0},{"$f":"SUM($P$8:$P$9)","v":0},{"$f":"SUM($Q$8:$Q$9)","v":0},{"$f":"SUM($R$8:$R$9)","v":0},{"$f":"SUM($S$8:$S$9)","v":0},{"$f":"SUM($T$8:$T$9)","v":0},{"$f":"SUM($U$8:$U$9)","v":0},{"$f":"SUM($V$8:$V$9)","v":0},{"$f":"SUM($W$8:$W$9)","v":0},{"$f":"SUM($X$8:$X$9)","v":0},{"$f":"SUM($Y$8:$Y$9)","v":0},{"$f":"SUM($Z$8:$Z$9)","v":0},{"$f":"SUM($AA$8:$AA$9)","v":0},{"$f":"SUM($AB$8:$AB$9)","v":0},{"$f":"SUM($AC$8:$AC$9)","v":0},{"$f":"SUM($AD$8:$AD$9)","v":0},{"$f":"SUM($AE$8:$AE$9)","v":0},{"$f":"SUM($AF$8:$AF$9)","v":0},{"$f":"SUM($AG$8:$AG$9)","v":0},{"$f":"SUM($AH$8:$AH$9)","v":0}]
["石川県","17207","羽咋市",{"$f":"SUM(E8:AH8)","v":0},0,0,0,0,0,0,0,0,0,0,0,0,0,0,0,0,0,0,0,0,0,0,0,0,0,0,0,0,0,0]
["石川県","17209","かほく市",{"$f":"SUM(E9:AH9)","v":0},0,0,0,0,0,0,0,0,0,0,0,0,0,0,0,0,0,0,0,0,0,0,0,0,0,0,0,0,0,0]

{"sheet":"ごみ搬入量内訳(海洋投入)","index":13,"n_rows":9,"n_cols":34,"rows_kept":9,"merged":[[1,0,5,0],[1,1,5,1],[1,2,5,2],[2,3,4,3],[2,4,4,4],[2,5,4,5],[2,6,4,6],[2,7,4,7],[2,8,4,8],[2,9,4,9],[2,10,4,10],[2,11,4,11],[2,12,4,12],[2,13,4,13],[2,14,4,14],[2,15,4,15],[2,16,4,16],[2,17,4,17],[2,18,4,18],[2,19,4,19],[2,20,4,20],[2,21,4,21],[2,22,4,22],[2,23,4,23],[2,24,4,24],[2,25,4,25],[2,26,4,26],[2,27,4,27],[2,28,4,28],[2,29,4,29],[2,30,4,30],[2,31,4,31],[2,32,4,32],[2,33,4,33]]}
["【災害】処理施設別ごみ搬入量の状況（平成28年度実績）"]
["都道府県名","地方公共団体コード","市区町村名","海洋投入"]
[{"$nulls":3},"合計","木くず","金属くず","コンクリートがら","その他がれき類","石綿含有廃棄物等","ＰＣＢ廃棄物","その他有害物、危険物","混合ごみ","可燃ごみ","不燃ごみ","資源ごみ","粗大ごみ","家電４品目","パソコン","自動車","ＦＲＰ船","鋼船","その他船舶","畳","漁網","タイヤ","その他家電","消火器","ガスボンベ","土石類","津波堆積物","その他","冷凍・冷蔵庫保管物\n（海洋投入）","漂着ごみ","除染廃棄物"]
[]
[]
[{"$nulls":3},"（ｔ）","（ｔ）","（ｔ）","（ｔ）","（ｔ）","（ｔ）","（ｔ）","（ｔ）","（ｔ）","（ｔ）","（ｔ）","（ｔ）","（ｔ）","（ｔ）","（ｔ）","（ｔ）","（ｔ）","（ｔ）","（ｔ）","（ｔ）","（ｔ）","（ｔ）","（ｔ）","（ｔ）","（ｔ）","（ｔ）","（ｔ）","（ｔ）","（ｔ）","（ｔ）","（ｔ）"]
["石川県","17000","合計",{"$f":"SUM($D$8:$D$9)","v":0},0,0,0,0,0,0,0,0,0,0,0,0,0,0,0,0,0,0,0,0,0,0,0,0,0,0,0,{"$f":"SUM($AF$8:$AF$9)","v":0},0,{"$f":"SUM($AH$8:$AH$9)","v":0}]
["石川県","17207","羽咋市",{"$f":"SUM(E8:AH8)","v":0},{"$f":"E7","v":0},{"$f":"F7","v":0},0,0,0,0,0,0,0,0,0,0,0,0,0,0,0,0,0,0,0,0,0,0,0,0,0,0,{"$f":"AG7","v":0},0]
["石川県","17209","かほく市",{"$f":"SUM(E9:AH9)","v":0},{"$f":"E8","v":0},0,0,0,0,0,0,0,0,0,0,0,0,0,0,0,0,0,0,0,0,0,0,0,0,0,0,0,{"$f":"AG8","v":0},0]

{"sheet":"資源化量内訳","index":14,"n_rows":9,"n_cols":90,"rows_kept":9,"merged":[[1,0,5,0],[1,1,5,1],[1,2,5,2],[2,3,4,3],[2,4,4,4],[2,5,4,5],[2,6,4,6],[2,7,4,7],[2,8,4,8],[2,9,4,9],[2,10,4,10],[2,11,4,11],[2,12,4,12],[2,13,4,13],[2,14,4,14],[2,15,4,15],[2,16,4,16],[2,17,4,17],[2,18,4,18],[2,19,4,19],[2,20,4,20],[2,21,4,21],[2,22,4,22],[2,23,4,23],[2,24,4,24],[2,25,4,25],[2,26,4,26],[2,27,4,27],[2,28,4,28],[2,29,4,29],[2,30,4,30],[2,31,4,31],[2,32,4,32],[2,33,4,33],[2,34,4,34],[2,35,4,35],[2,36,4,36],[2,37,4,37],[2,38,4,38],[2,39,4,39],[2,40,4,40],[2,41,4,41],[2,42,4,42],[2,43,4,43],[2,44,4,44],[2,45,4,45],[2,46,4,46],[2,47,4,47],[2,48,4,48],[2,49,4,49],[2,50,4,50],[2,51,4,51],[2,52,4,52],[2,53,4,53],[2,54,4,54],[2,55,4,55],[2,56,4,56],[2,57,4,57],[2,58,4,58],[2,59,4,59],[2,60,4,60],[2,61,4,61],[2,62,4,62],[2,63,4,63],[2,64,4,64],[2,65,4,65],[2,66,4,66],[2,67,4,67],[2,68,4,68],[2,69,4,69],[2,70,4,70],[2,71,4,71],[2,72,4,72],[2,73,4,73],[2,74,4,74],[2,75,4,75],[2,76,4,76],[2,77,4,77],[2,78,4,78],[2,79,4,79],[2,80,4,80],[2,81,4,81],[2,82,4,82],[2,83,4,83],[2,84,4,84],[2,85,4,85],[2,86,4,86],[2,87,4,87],[2,88,4,88],[2,89,4,89]]}
["【災害】ごみ資源化の状況（平成28年度実績）"]
["都道府県名","地方公共団体コード","市区町村名","資源化量 (直接資源化量+中間処理後再生利用量）",{"$nulls":28},"直接資源化量",{"$nulls":28},"中間処理後再生利用量"]
[{"$nulls":3},"合計","木くず","金属くず","コンクリートがら","その他がれき類","石綿含有廃棄物等","ＰＣＢ廃棄物","その他有害物、危険物","混合ごみ","可燃ごみ","不燃ごみ","資源ごみ","粗大ごみ","家電４品目","パソコン","自動車","ＦＲＰ船","鋼船","その他船舶","畳","漁網","タイヤ","その他家電","消火器","ガスボンベ","土石類","津波堆積物","その他","漂着ごみ","合計","木くず","金属くず","コンクリートがら","その他がれき類","石綿含有廃棄物等","ＰＣＢ廃棄物","その他有害物、危険物","混合ごみ","可燃ごみ","不燃ごみ","資源ごみ","粗大ごみ","家電４品目","パソコン","自動車","ＦＲＰ船","鋼船","その他船舶","畳","漁網","タイヤ","その他家電","消火器","ガスボンベ","土石類","津波堆積物","その他","漂着ごみ","合計","木くず","金属くず","コンクリートがら","その他がれき類","石綿含有廃棄物等","ＰＣＢ廃棄物","その他有害物、危険物","混合ごみ","可燃ごみ","不燃ごみ","資源ごみ","粗大ごみ","家電４品目","パソコン","自動車","ＦＲＰ船","鋼船","その他船舶","畳","漁網","タイヤ","その他家電","消火器","ガスボンベ","土石類","津波堆積物","その他","漂着ごみ"]
[]
[]
[{"$nulls":3},"（ｔ）","（ｔ）","（ｔ）","（ｔ）","（ｔ）","（ｔ）","（ｔ）","（ｔ）","（ｔ）","（ｔ）","（ｔ）","（ｔ）","（ｔ）","（ｔ）","（ｔ）","（ｔ）","（ｔ）","（ｔ）","（ｔ）","（ｔ）","（ｔ）","（ｔ）","（ｔ）","（ｔ）","（ｔ）","（ｔ）","（ｔ）","（ｔ）","（ｔ）","（ｔ）","（ｔ）","（ｔ）","（ｔ）","（ｔ）","（ｔ）","（ｔ）","（ｔ）","（ｔ）","（ｔ）","（ｔ）","（ｔ）","（ｔ）","（ｔ）","（ｔ）","（ｔ）","（ｔ）","（ｔ）","（ｔ）","（ｔ）","（ｔ）","（ｔ）","（ｔ）","（ｔ）","（ｔ）","（ｔ）","（ｔ）","（ｔ）","（ｔ）","（ｔ）","（ｔ）","（ｔ）","（ｔ）","（ｔ）","（ｔ）","（ｔ）","（ｔ）","（ｔ）","（ｔ）","（ｔ）","（ｔ）","（ｔ）","（ｔ）","（ｔ）","（ｔ）","（ｔ）","（ｔ）","（ｔ）","（ｔ）","（ｔ）","（ｔ）","（ｔ）","（ｔ）","（ｔ）","（ｔ）","（ｔ）","（ｔ）","（ｔ）"]
["石川県","17000","合計",{"$f":"SUM($D$8:$D$9)","v":0},{"$f":"SUM($E$8:$E$9)","v":0},{"$f":"SUM($F$8:$F$9)","v":0},{"$f":"SUM($G$8:$G$9)","v":0},{"$f":"SUM($H$8:$H$9)","v":0},{"$f":"SUM($I$8:$I$9)","v":0},{"$f":"SUM($J$8:$J$9)","v":0},{"$f":"SUM($K$8:$K$9)","v":0},{"$f":"SUM($L$8:$L$9)","v":0},{"$f":"SUM($M$8:$M$9)","v":0},{"$f":"SUM($N$8:$N$9)","v":0},{"$f":"SUM($O$8:$O$9)","v":0},{"$f":"SUM($P$8:$P$9)","v":0},{"$f":"SUM($Q$8:$Q$9)","v":0},{"$f":"SUM($R$8:$R$9)","v":0},{"$f":"SUM($S$8:$S$9)","v":0},{"$f":"SUM($T$8:$T$9)","v":0},{"$f":"SUM($U$8:$U$9)","v":0},{"$f":"SUM($V$8:$V$9)","v":0},{"$f":"SUM($W$8:$W$9)","v":0},{"$f":"SUM($X$8:$X$9)","v":0},{"$f":"SUM($Y$8:$Y$9)","v":0},{"$f":"SUM($Z$8:$Z$9)","v":0},{"$f":"SUM($AA$8:$AA$9)","v":0},{"$f":"SUM($AB$8:$AB$9)","v":0},{"$f":"SUM($AC$8:$AC$9)","v":0},{"$f":"SUM($AD$8:$AD$9)","v":0},{"$f":"SUM($AE$8:$AE$9)","v":0},{"$f":"SUM($AF$8:$AF$9)","v":0},{"$f":"SUM($AG$8:$AG$9)","v":0},{"$f":"SUM($AH$8:$AH$9)","v":0},{"$f":"SUM($AI$8:$AI$9)","v":0},{"$f":"SUM($AJ$8:$AJ$9)","v":0},{"$f":"SUM($AK$8:$AK$9)","v":0},{"$f":"SUM($AL$8:$AL$9)","v":0},{"$f":"SUM($AM$8:$AM$9)","v":0},{"$f":"SUM($AN$8:$AN$9)","v":0},{"$f":"SUM($AO$8:$AO$9)","v":0},{"$f":"SUM($AP$8:$AP$9)","v":0},{"$f":"SUM($AQ$8:$AQ$9)","v":0},{"$f":"SUM($AR$8:$AR$9)","v":0},{"$f":"SUM($AS$8:$AS$9)","v":0},{"$f":"SUM($AT$8:$AT$9)","v":0},{"$f":"SUM($AU$8:$AU$9)","v":0},{"$f":"SUM($AV$8:$AV$9)","v":0},{"$f":"SUM($AW$8:$AW$9)","v":0},{"$f":"SUM($AX$8:$AX$9)","v":0},{"$f":"SUM($AY$8:$AY$9)","v":0},{"$f":"SUM($AZ$8:$AZ$9)","v":0},{"$f":"SUM($BA$8:$BA$9)","v":0},{"$f":"SUM($BB$8:$BB$9)","v":0},{"$f":"SUM($BC$8:$BC$9)","v":0},{"$f":"SUM($BD$8:$BD$9)","v":0},{"$f":"SUM($BE$8:$BE$9)","v":0},{"$f":"SUM($BF$8:$BF$9)","v":0},{"$f":"SUM($BG$8:$BG$9)","v":0},{"$f":"SUM($BH$8:$BH$9)","v":0},{"$f":"SUM($BI$8:$BI$9)","v":0},{"$f":"SUM($BJ$8:$BJ$9)","v":0},{"$f":"SUM($BK$8:$BK$9)","v":0},{"$f":"SUM($BL$8:$BL$9)","v":0},{"$f":"SUM($BM$8:$BM$9)","v":0},{"$f":"SUM($BN$8:$BN$9)","v":0},{"$f":"SUM($BO$8:$BO$9)","v":0},{"$f":"SUM($BP$8:$BP$9)","v":0},{"$f":"SUM($BQ$8:$BQ$9)","v":0},{"$f":"SUM($BR$8:$BR$9)","v":0},{"$f":"SUM($BS$8:$BS$9)","v":0},{"$f":"SUM($BT$8:$BT$9)","v":0},{"$f":"SUM($BU$8:$BU$9)","v":0},{"$f":"SUM($BV$8:$BV$9)","v":0},{"$f":"SUM($BW$8:$BW$9)","v":0},{"$f":"SUM($BX$8:$BX$9)","v":0},{"$f":"SUM($BY$8:$BY$9)","v":0},{"$f":"SUM($BZ$8:$BZ$9)","v":0},{"$f":"SUM($CA$8:$CA$9)","v":0},{"$f":"SUM($CB$8:$CB$9)","v":0},{"$f":"SUM($CC$8:$CC$9)","v":0},{"$f":"SUM($CD$8:$CD$9)","v":0},{"$f":"SUM($CE$8:$CE$9)","v":0},{"$f":"SUM($CF$8:$CF$9)","v":0},{"$f":"SUM($CG$8:$CG$9)","v":0},{"$f":"SUM($CH$8:$CH$9)","v":0},{"$f":"SUM($CI$8:$CI$9)","v":0},{"$f":"SUM($CJ$8:$CJ$9)","v":0},{"$f":"SUM($CK$8:$CK$9)","v":0},{"$f":"SUM($CL$8:$CL$9)","v":0}]
["石川県","17207","羽咋市",{"$f":"SUM(E8:AF8)","v":0},{"$f":"AH8+BK8","v":0},{"$f":"AI8+BL8","v":0},{"$f":"AJ8+BM8","v":0},{"$f":"AK8+BN8","v":0},{"$f":"AL8+BO8","v":0},{"$f":"AM8+BP8","v":0},{"$f":"AN8+BQ8","v":0},{"$f":"AO8+BR8","v":0},{"$f":"AP8+BS8","v":0},{"$f":"AQ8+BT8","v":0},{"$f":"AR8+BU8","v":0},{"$f":"AS8+BV8","v":0},{"$f":"AT8+BW8","v":0},{"$f":"AU8+BX8","v":0},{"$f":"AV8+BY8","v":0},{"$f":"AW8+BZ8","v":0},{"$f":"AX8+CA8","v":0},{"$f":"AY8+CB8","v":0},{"$f":"AZ8+CC8","v":0},{"$f":"BA8+CD8","v":0},{"$f":"BB8+CE8","v":0},{"$f":"BC8+CF8","v":0},{"$f":"BD8+CG8","v":0},{"$f":"BE8+CH8","v":0},{"$f":"BF8+CI8","v":0},{"$f":"BG8+CJ8","v":0},{"$f":"BH8+CK8","v":0},{"$f":"BI8+CL8","v":0},{"$f":"SUM(AH8:BI8)","v":0},0,0,0,0,0,0,0,0,0,0,0,0,0,0,0,0,0,0,0,0,0,0,0,0,0,0,0,0,{"$f":"SUM(BK8:CL8)","v":0},{"$f":"'施設資源化量内訳(焼却)'!E8+'施設資源化量内訳(粗大)'!E8+'施設資源化量内訳(堆肥化)'!E8+'施設資源化量内訳(飼料化)'!E8+'施設資源化量内訳(メタン化)'!E8+'施設資源化量内訳(燃料化)'!E8+'施設資源化量内訳(セメント)'!E8+'施設資源化量内訳(資源化等)'!E8","v":0},{"$f":"'施設資源化量内訳(焼却)'!F8+'施設資源化量内訳(粗大)'!F8+'施設資源化量内訳(堆肥化)'!F8+'施設資源化量内訳(飼料化)'!F8+'施設資源化量内訳(メタン化)'!F8+'施設資源化量内訳(燃料化)'!F8+'施設資源化量内訳(セメント)'!F8+'施設資源化量内訳(資源化等)'!F8","v":0},{"$f":"'施設資源化量内訳(焼却)'!G8+'施設資源化量内訳(粗大)'!G8+'施設資源化量内訳(堆肥化)'!G8+'施設資源化量内訳(飼料化)'!G8+'施設資源化量内訳(メタン化)'!G8+'施設資源化量内訳(燃料化)'!G8+'施設資源化量内訳(セメント)'!G8+'施設資源化量内訳(資源化等)'!G8","v":0},{"$f":"'施設資源化量内訳(焼却)'!H8+'施設資源化量内訳(粗大)'!H8+'施設資源化量内訳(堆肥化)'!H8+'施設資源化量内訳(飼料化)'!H8+'施設資源化量内訳(メタン化)'!H8+'施設資源化量内訳(燃料化)'!H8+'施設資源化量内訳(セメント)'!H8+'施設資源化量内訳(資源化等)'!H8","v":0},{"$f":"'施設資源化量内訳(焼却)'!I8+'施設資源化量内訳(粗大)'!I8+'施設資源化量内訳(堆肥化)'!I8+'施設資源化量内訳(飼料化)'!I8+'施設資源化量内訳(メタン化)'!I8+'施設資源化量内訳(燃料化)'!I8+'施設資源化量内訳(セメント)'!I8+'施設資源化量内訳(資源化等)'!I8","v":0},{"$f":"'施設資源化量内訳(焼却)'!J8+'施設資源化量内訳(粗大)'!J8+'施設資源化量内訳(堆肥化)'!J8+'施設資源化量内訳(飼料化)'!J8+'施設資源化量内訳(メタン化)'!J8+'施設資源化量内訳(燃料化)'!J8+'施設資源化量内訳(セメント)'!J8+'施設資源化量内訳(資源化等)'!J8","v":0},{"$f":"'施設資源化量内訳(焼却)'!K8+'施設資源化量内訳(粗大)'!K8+'施設資源化量内訳(堆肥化)'!K8+'施設資源化量内訳(飼料化)'!K8+'施設資源化量内訳(メタン化)'!K8+'施設資源化量内訳(燃料化)'!K8+'施設資源化量内訳(セメント)'!K8+'施設資源化量内訳(資源化等)'!K8","v":0},{"$f":"'施設資源化量内訳(焼却)'!L8+'施設資源化量内訳(粗大)'!L8+'施設資源化量内訳(堆肥化)'!L8+'施設資源化量内訳(飼料化)'!L8+'施設資源化量内訳(メタン化)'!L8+'施設資源化量内訳(燃料化)'!L8+'施設資源化量内訳(セメント)'!L8+'施設資源化量内訳(資源化等)'!L8","v":0},{"$f":"'施設資源化量内訳(焼却)'!M8+'施設資源化量内訳(粗大)'!M8+'施設資源化量内訳(堆肥化)'!M8+'施設資源化量内訳(飼料化)'!M8+'施設資源化量内訳(メタン化)'!M8+'施設資源化量内訳(燃料化)'!M8+'施設資源化量内訳(セメント)'!M8+'施設資源化量内訳(資源化等)'!M8","v":0},{"$f":"'施設資源化量内訳(焼却)'!N8+'施設資源化量内訳(粗大)'!N8+'施設資源化量内訳(堆肥化)'!N8+'施設資源化量内訳(飼料化)'!N8+'施設資源化量内訳(メタン化)'!N8+'施設資源化量内訳(燃料化)'!N8+'施設資源化量内訳(セメント)'!N8+'施設資源化量内訳(資源化等)'!N8","v":0},{"$f":"'施設資源化量内訳(焼却)'!O8+'施設資源化量内訳(粗大)'!O8+'施設資源化量内訳(堆肥化)'!O8+'施設資源化量内訳(飼料化)'!O8+'施設資源化量内訳(メタン化)'!O8+'施設資源化量内訳(燃料化)'!O8+'施設資源化量内訳(セメント)'!O8+'施設資源化量内訳(資源化等)'!O8","v":0},{"$f":"'施設資源化量内訳(焼却)'!P8+'施設資源化量内訳(粗大)'!P8+'施設資源化量内訳(堆肥化)'!P8+'施設資源化量内訳(飼料化)'!P8+'施設資源化量内訳(メタン化)'!P8+'施設資源化量内訳(燃料化)'!P8+'施設資源化量内訳(セメント)'!P8+'施設資源化量内訳(資源化等)'!P8","v":0},{"$f":"'施設資源化量内訳(焼却)'!Q8+'施設資源化量内訳(粗大)'!Q8+'施設資源化量内訳(堆肥化)'!Q8+'施設資源化量内訳(飼料化)'!Q8+'施設資源化量内訳(メタン化)'!Q8+'施設資源化量内訳(燃料化)'!Q8+'施設資源化量内訳(セメント)'!Q8+'施設資源化量内訳(資源化等)'!Q8","v":0},{"$f":"'施設資源化量内訳(焼却)'!R8+'施設資源化量内訳(粗大)'!R8+'施設資源化量内訳(堆肥化)'!R8+'施設資源化量内訳(飼料化)'!R8+'施設資源化量内訳(メタン化)'!R8+'施設資源化量内訳(燃料化)'!R8+'施設資源化量内訳(セメント)'!R8+'施設資源化量内訳(資源化等)'!R8","v":0},{"$f":"'施設資源化量内訳(焼却)'!S8+'施設資源化量内訳(粗大)'!S8+'施設資源化量内訳(堆肥化)'!S8+'施設資源化量内訳(飼料化)'!S8+'施設資源化量内訳(メタン化)'!S8+'施設資源化量内訳(燃料化)'!S8+'施設資源化量内訳(セメント)'!S8+'施設資源化量内訳(資源化等)'!S8","v":0},{"$f":"'施設資源化量内訳(焼却)'!T8+'施設資源化量内訳(粗大)'!T8+'施設資源化量内訳(堆肥化)'!T8+'施設資源化量内訳(飼料化)'!T8+'施設資源化量内訳(メタン化)'!T8+'施設資源化量内訳(燃料化)'!T8+'施設資源化量内訳(セメント)'!T8+'施設資源化量内訳(資源化等)'!T8","v":0},{"$f":"'施設資源化量内訳(焼却)'!U8+'施設資源化量内訳(粗大)'!U8+'施設資源化量内訳(堆肥化)'!U8+'施設資源化量内訳(飼料化)'!U8+'施設資源化量内訳(メタン化)'!U8+'施設資源化量内訳(燃料化)'!U8+'施設資源化量内訳(セメント)'!U8+'施設資源化量内訳(資源化等)'!U8","v":0},{"$f":"'施設資源化量内訳(焼却)'!V8+'施設資源化量内訳(粗大)'!V8+'施設資源化量内訳(堆肥化)'!V8+'施設資源化量内訳(飼料化)'!V8+'施設資源化量内訳(メタン化)'!V8+'施設資源化量内訳(燃料化)'!V8+'施設資源化量内訳(セメント)'!V8+'施設資源化量内訳(資源化等)'!V8","v":0},{"$f":"'施設資源化量内訳(焼却)'!W8+'施設資源化量内訳(粗大)'!W8+'施設資源化量内訳(堆肥化)'!W8+'施設資源化量内訳(飼料化)'!W8+'施設資源化量内訳(メタン化)'!W8+'施設資源化量内訳(燃料化)'!W8+'施設資源化量内訳(セメント)'!W8+'施設資源化量内訳(資源化等)'!W8","v":0},{"$f":"'施設資源化量内訳(焼却)'!X8+'施設資源化量内訳(粗大)'!X8+'施設資源化量内訳(堆肥化)'!X8+'施設資源化量内訳(飼料化)'!X8+'施設資源化量内訳(メタン化)'!X8+'施設資源化量内訳(燃料化)'!X8+'施設資源化量内訳(セメント)'!X8+'施設資源化量内訳(資源化等)'!X8","v":0},{"$f":"'施設資源化量内訳(焼却)'!Y8+'施設資源化量内訳(粗大)'!Y8+'施設資源化量内訳(堆肥化)'!Y8+'施設資源化量内訳(飼料化)'!Y8+'施設資源化量内訳(メタン化)'!Y8+'施設資源化量内訳(燃料化)'!Y8+'施設資源化量内訳(セメント)'!Y8+'施設資源化量内訳(資源化等)'!Y8","v":0},{"$f":"'施設資源化量内訳(焼却)'!Z8+'施設資源化量内訳(粗大)'!Z8+'施設資源化量内訳(堆肥化)'!Z8+'施設資源化量内訳(飼料化)'!Z8+'施設資源化量内訳(メタン化)'!Z8+'施設資源化量内訳(燃料化)'!Z8+'施設資源化量内訳(セメント)'!Z8+'施設資源化量内訳(資源化等)'!Z8","v":0},{"$f":"'施設資源化量内訳(焼却)'!AA8+'施設資源化量内訳(粗大)'!AA8+'施設資源化量内訳(堆肥化)'!AA8+'施設資源化量内訳(飼料化)'!AA8+'施設資源化量内訳(メタン化)'!AA8+'施設資源化量内訳(燃料化)'!AA8+'施設資源化量内訳(セメント)'!AA8+'施設資源化量内訳(資源化等)'!AA8","v":0},{"$f":"'施設資源化量内訳(焼却)'!AB8+'施設資源化量内訳(粗大)'!AB8+'施設資源化量内訳(堆肥化)'!AB8+'施設資源化量内訳(飼料化)'!AB8+'施設資源化量内訳(メタン化)'!AB8+'施設資源化量内訳(燃料化)'!AB8+'施設資源化量内訳(セメント)'!AB8+'施設資源化量内訳(資源化等)'!AB8","v":0},{"$f":"'施設資源化量内訳(焼却)'!AC8+'施設資源化量内訳(粗大)'!AC8+'施設資源化量内訳(堆肥化)'!AC8+'施設資源化量内訳(飼料化)'!AC8+'施設資源化量内訳(メタン化)'!AC8+'施設資源化量内訳(燃料化)'!AC8+'施設資源化量内訳(セメント)'!AC8+'施設資源化量内訳(資源化等)'!AC8","v":0},{"$f":"'施設資源化量内訳(焼却)'!AD8+'施設資源化量内訳(粗大)'!AD8+'施設資源化量内訳(堆肥化)'!AD8+'施設資源化量内訳(飼料化)'!AD8+'施設資源化量内訳(メタン化)'!AD8+'施設資源化量内訳(燃料化)'!AD8+'施設資源化量内訳(セメント)'!AD8+'施設資源化量内訳(資源化等)'!AD8","v":0},{"$f":"'施設資源化量内訳(焼却)'!AE8+'施設資源化量内訳(粗大)'!AE8+'施設資源化量内訳(堆肥化)'!AE8+'施設資源化量内訳(飼料化)'!AE8+'施設資源化量内訳(メタン化)'!AE8+'施設資源化量内訳(燃料化)'!AE8+'施設資源化量内訳(セメント)'!AE8+'施設資源化量内訳(資源化等)'!AE8","v":0},{"$f":"'施設資源化量内訳(焼却)'!AF8+'施設資源化量内訳(粗大)'!AF8+'施設資源化量内訳(堆肥化)'!AF8+'施設資源化量内訳(飼料化)'!AF8+'施設資源化量内訳(メタン化)'!AF8+'施設資源化量内訳(燃料化)'!AF8+'施設資源化量内訳(セメント)'!AF8+'施設資源化量内訳(資源化等)'!AF8","v":0}]
["石川県","17209","かほく市",{"$f":"SUM(E9:AF9)","v":0},{"$f":"AH9+BK9","v":0},{"$f":"AI9+BL9","v":0},0,0,0,0,0,0,0,0,0,0,0,0,0,0,0,0,0,0,0,0,0,0,0,0,0,0,{"$f":"SUM(AH9:BI9)","v":0},0,0,0,0,0,0,0,0,0,0,0,0,0,0,0,0,0,0,0,0,0,0,0,0,0,0,0,0,{"$f":"SUM(BK9:CL9)","v":0},{"$f":"'施設資源化量内訳(焼却)'!E9+'施設資源化量内訳(粗大)'!E9+'施設資源化量内訳(堆肥化)'!E9+'施設資源化量内訳(飼料化)'!E9+'施設資源化量内訳(メタン化)'!E9+'施設資源化量内訳(燃料化)'!E9+'施設資源化量内訳(セメント)'!E9+'施設資源化量内訳(資源化等)'!E9","v":0},{"$f":"'施設資源化量内訳(焼却)'!F9+'施設資源化量内訳(粗大)'!F9+'施設資源化量内訳(堆肥化)'!F9+'施設資源化量内訳(飼料化)'!F9+'施設資源化量内訳(メタン化)'!F9+'施設資源化量内訳(燃料化)'!F9+'施設資源化量内訳(セメント)'!F9+'施設資源化量内訳(資源化等)'!F9","v":0},{"$f":"'施設資源化量内訳(焼却)'!G9+'施設資源化量内訳(粗大)'!G9+'施設資源化量内訳(堆肥化)'!G9+'施設資源化量内訳(飼料化)'!G9+'施設資源化量内訳(メタン化)'!G9+'施設資源化量内訳(燃料化)'!G9+'施設資源化量内訳(セメント)'!G9+'施設資源化量内訳(資源化等)'!G9","v":0},{"$f":"'施設資源化量内訳(焼却)'!H9+'施設資源化量内訳(粗大)'!H9+'施設資源化量内訳(堆肥化)'!H9+'施設資源化量内訳(飼料化)'!H9+'施設資源化量内訳(メタン化)'!H9+'施設資源化量内訳(燃料化)'!H9+'施設資源化量内訳(セメント)'!H9+'施設資源化量内訳(資源化等)'!H9","v":0},{"$f":"'施設資源化量内訳(焼却)'!I9+'施設資源化量内訳(粗大)'!I9+'施設資源化量内訳(堆肥化)'!I9+'施設資源化量内訳(飼料化)'!I9+'施設資源化量内訳(メタン化)'!I9+'施設資源化量内訳(燃料化)'!I9+'施設資源化量内訳(セメント)'!I9+'施設資源化量内訳(資源化等)'!I9","v":0},{"$f":"'施設資源化量内訳(焼却)'!J9+'施設資源化量内訳(粗大)'!J9+'施設資源化量内訳(堆肥化)'!J9+'施設資源化量内訳(飼料化)'!J9+'施設資源化量内訳(メタン化)'!J9+'施設資源化量内訳(燃料化)'!J9+'施設資源化量内訳(セメント)'!J9+'施設資源化量内訳(資源化等)'!J9","v":0},{"$f":"'施設資源化量内訳(焼却)'!K9+'施設資源化量内訳(粗大)'!K9+'施設資源化量内訳(堆肥化)'!K9+'施設資源化量内訳(飼料化)'!K9+'施設資源化量内訳(メタン化)'!K9+'施設資源化量内訳(燃料化)'!K9+'施設資源化量内訳(セメント)'!K9+'施設資源化量内訳(資源化等)'!K9","v":0},{"$f":"'施設資源化量内訳(焼却)'!L9+'施設資源化量内訳(粗大)'!L9+'施設資源化量内訳(堆肥化)'!L9+'施設資源化量内訳(飼料化)'!L9+'施設資源化量内訳(メタン化)'!L9+'施設資源化量内訳(燃料化)'!L9+'施設資源化量内訳(セメント)'!L9+'施設資源化量内訳(資源化等)'!L9","v":0},{"$f":"'施設資源化量内訳(焼却)'!M9+'施設資源化量内訳(粗大)'!M9+'施設資源化量内訳(堆肥化)'!M9+'施設資源化量内訳(飼料化)'!M9+'施設資源化量内訳(メタン化)'!M9+'施設資源化量内訳(燃料化)'!M9+'施設資源化量内訳(セメント)'!M9+'施設資源化量内訳(資源化等)'!M9","v":0},{"$f":"'施設資源化量内訳(焼却)'!N9+'施設資源化量内訳(粗大)'!N9+'施設資源化量内訳(堆肥化)'!N9+'施設資源化量内訳(飼料化)'!N9+'施設資源化量内訳(メタン化)'!N9+'施設資源化量内訳(燃料化)'!N9+'施設資源化量内訳(セメント)'!N9+'施設資源化量内訳(資源化等)'!N9","v":0},{"$f":"'施設資源化量内訳(焼却)'!O9+'施設資源化量内訳(粗大)'!O9+'施設資源化量内訳(堆肥化)'!O9+'施設資源化量内訳(飼料化)'!O9+'施設資源化量内訳(メタン化)'!O9+'施設資源化量内訳(燃料化)'!O9+'施設資源化量内訳(セメント)'!O9+'施設資源化量内訳(資源化等)'!O9","v":0},{"$f":"'施設資源化量内訳(焼却)'!P9+'施設資源化量内訳(粗大)'!P9+'施設資源化量内訳(堆肥化)'!P9+'施設資源化量内訳(飼料化)'!P9+'施設資源化量内訳(メタン化)'!P9+'施設資源化量内訳(燃料化)'!P9+'施設資源化量内訳(セメント)'!P9+'施設資源化量内訳(資源化等)'!P9","v":0},{"$f":"'施設資源化量内訳(焼却)'!Q9+'施設資源化量内訳(粗大)'!Q9+'施設資源化量内訳(堆肥化)'!Q9+'施設資源化量内訳(飼料化)'!Q9+'施設資源化量内訳(メタン化)'!Q9+'施設資源化量内訳(燃料化)'!Q9+'施設資源化量内訳(セメント)'!Q9+'施設資源化量内訳(資源化等)'!Q9","v":0},{"$f":"'施設資源化量内訳(焼却)'!R9+'施設資源化量内訳(粗大)'!R9+'施設資源化量内訳(堆肥化)'!R9+'施設資源化量内訳(飼料化)'!R9+'施設資源化量内訳(メタン化)'!R9+'施設資源化量内訳(燃料化)'!R9+'施設資源化量内訳(セメント)'!R9+'施設資源化量内訳(資源化等)'!R9","v":0},{"$f":"'施設資源化量内訳(焼却)'!S9+'施設資源化量内訳(粗大)'!S9+'施設資源化量内訳(堆肥化)'!S9+'施設資源化量内訳(飼料化)'!S9+'施設資源化量内訳(メタン化)'!S9+'施設資源化量内訳(燃料化)'!S9+'施設資源化量内訳(セメント)'!S9+'施設資源化量内訳(資源化等)'!S9","v":0},{"$f":"'施設資源化量内訳(焼却)'!T9+'施設資源化量内訳(粗大)'!T9+'施設資源化量内訳(堆肥化)'!T9+'施設資源化量内訳(飼料化)'!T9+'施設資源化量内訳(メタン化)'!T9+'施設資源化量内訳(燃料化)'!T9+'施設資源化量内訳(セメント)'!T9+'施設資源化量内訳(資源化等)'!T9","v":0},{"$f":"'施設資源化量内訳(焼却)'!U9+'施設資源化量内訳(粗大)'!U9+'施設資源化量内訳(堆肥化)'!U9+'施設資源化量内訳(飼料化)'!U9+'施設資源化量内訳(メタン化)'!U9+'施設資源化量内訳(燃料化)'!U9+'施設資源化量内訳(セメント)'!U9+'施設資源化量内訳(資源化等)'!U9","v":0},{"$f":"'施設資源化量内訳(焼却)'!V9+'施設資源化量内訳(粗大)'!V9+'施設資源化量内訳(堆肥化)'!V9+'施設資源化量内訳(飼料化)'!V9+'施設資源化量内訳(メタン化)'!V9+'施設資源化量内訳(燃料化)'!V9+'施設資源化量内訳(セメント)'!V9+'施設資源化量内訳(資源化等)'!V9","v":0},{"$f":"'施設資源化量内訳(焼却)'!W9+'施設資源化量内訳(粗大)'!W9+'施設資源化量内訳(堆肥化)'!W9+'施設資源化量内訳(飼料化)'!W9+'施設資源化量内訳(メタン化)'!W9+'施設資源化量内訳(燃料化)'!W9+'施設資源化量内訳(セメント)'!W9+'施設資源化量内訳(資源化等)'!W9","v":0},{"$f":"'施設資源化量内訳(焼却)'!X9+'施設資源化量内訳(粗大)'!X9+'施設資源化量内訳(堆肥化)'!X9+'施設資源化量内訳(飼料化)'!X9+'施設資源化量内訳(メタン化)'!X9+'施設資源化量内訳(燃料化)'!X9+'施設資源化量内訳(セメント)'!X9+'施設資源化量内訳(資源化等)'!X9","v":0},{"$f":"'施設資源化量内訳(焼却)'!Y9+'施設資源化量内訳(粗大)'!Y9+'施設資源化量内訳(堆肥化)'!Y9+'施設資源化量内訳(飼料化)'!Y9+'施設資源化量内訳(メタン化)'!Y9+'施設資源化量内訳(燃料化)'!Y9+'施設資源化量内訳(セメント)'!Y9+'施設資源化量内訳(資源化等)'!Y9","v":0},{"$f":"'施設資源化量内訳(焼却)'!Z9+'施設資源化量内訳(粗大)'!Z9+'施設資源化量内訳(堆肥化)'!Z9+'施設資源化量内訳(飼料化)'!Z9+'施設資源化量内訳(メタン化)'!Z9+'施設資源化量内訳(燃料化)'!Z9+'施設資源化量内訳(セメント)'!Z9+'施設資源化量内訳(資源化等)'!Z9","v":0},{"$f":"'施設資源化量内訳(焼却)'!AA9+'施設資源化量内訳(粗大)'!AA9+'施設資源化量内訳(堆肥化)'!AA9+'施設資源化量内訳(飼料化)'!AA9+'施設資源化量内訳(メタン化)'!AA9+'施設資源化量内訳(燃料化)'!AA9+'施設資源化量内訳(セメント)'!AA9+'施設資源化量内訳(資源化等)'!AA9","v":0},{"$f":"'施設資源化量内訳(焼却)'!AB9+'施設資源化量内訳(粗大)'!AB9+'施設資源化量内訳(堆肥化)'!AB9+'施設資源化量内訳(飼料化)'!AB9+'施設資源化量内訳(メタン化)'!AB9+'施設資源化量内訳(燃料化)'!AB9+'施設資源化量内訳(セメント)'!AB9+'施設資源化量内訳(資源化等)'!AB9","v":0},{"$f":"'施設資源化量内訳(焼却)'!AC9+'施設資源化量内訳(粗大)'!AC9+'施設資源化量内訳(堆肥化)'!AC9+'施設資源化量内訳(飼料化)'!AC9+'施設資源化量内訳(メタン化)'!AC9+'施設資源化量内訳(燃料化)'!AC9+'施設資源化量内訳(セメント)'!AC9+'施設資源化量内訳(資源化等)'!AC9","v":0},{"$f":"'施設資源化量内訳(焼却)'!AD9+'施設資源化量内訳(粗大)'!AD9+'施設資源化量内訳(堆肥化)'!AD9+'施設資源化量内訳(飼料化)'!AD9+'施設資源化量内訳(メタン化)'!AD9+'施設資源化量内訳(燃料化)'!AD9+'施設資源化量内訳(セメント)'!AD9+'施設資源化量内訳(資源化等)'!AD9","v":0},{"$f":"'施設資源化量内訳(焼却)'!AE9+'施設資源化量内訳(粗大)'!AE9+'施設資源化量内訳(堆肥化)'!AE9+'施設資源化量内訳(飼料化)'!AE9+'施設資源化量内訳(メタン化)'!AE9+'施設資源化量内訳(燃料化)'!AE9+'施設資源化量内訳(セメント)'!AE9+'施設資源化量内訳(資源化等)'!AE9","v":0},{"$f":"'施設資源化量内訳(焼却)'!AF9+'施設資源化量内訳(粗大)'!AF9+'施設資源化量内訳(堆肥化)'!AF9+'施設資源化量内訳(飼料化)'!AF9+'施設資源化量内訳(メタン化)'!AF9+'施設資源化量内訳(燃料化)'!AF9+'施設資源化量内訳(セメント)'!AF9+'施設資源化量内訳(資源化等)'!AF9","v":0}]

{"sheet":"施設資源化量内訳(焼却)","index":15,"n_rows":9,"n_cols":32,"rows_kept":9,"merged":[[1,0,5,0],[1,1,5,1],[1,2,5,2],[2,3,4,3],[2,4,4,4],[2,5,4,5],[2,6,4,6],[2,7,4,7],[2,8,4,8],[2,9,4,9],[2,10,4,10],[2,11,4,11],[2,12,4,12],[2,13,4,13],[2,14,4,14],[2,15,4,15],[2,16,4,16],[2,17,4,17],[2,18,4,18],[2,19,4,19],[2,20,4,20],[2,21,4,21],[2,22,4,22],[2,23,4,23],[2,24,4,24],[2,25,4,25],[2,26,4,26],[2,27,4,27],[2,28,4,28],[2,29,4,29],[2,30,4,30],[2,31,4,31]]}
["【災害】中間処理後の再生利用量の状況（平成28年度実績）"]
["都道府県名","地方公共団体コード","市区町村名","焼却施設（溶融・炭化含む）"]
[{"$nulls":3},"合計","木くず","金属くず","コンクリートがら","その他がれき類","石綿含有廃棄物等","ＰＣＢ廃棄物","その他有害物、危険物","混合ごみ","可燃ごみ","不燃ごみ","資源ごみ","粗大ごみ","家電４品目","パソコン","自動車","ＦＲＰ船","鋼船","その他船舶","畳","漁網","タイヤ","その他家電","消火器","ガスボンベ","土石類","津波堆積物","その他","漂着ごみ"]
[]
[]
[{"$nulls":3},"（ｔ）","（ｔ）","（ｔ）","（ｔ）","（ｔ）","（ｔ）","（ｔ）","（ｔ）","（ｔ）","（ｔ）","（ｔ）","（ｔ）","（ｔ）","（ｔ）","（ｔ）","（ｔ）","（ｔ）","（ｔ）","（ｔ）","（ｔ）","（ｔ）","（ｔ）","（ｔ）","（ｔ）","（ｔ）","（ｔ）","（ｔ）","（ｔ）","（ｔ）"]
["石川県","17000","合計",{"$f":"SUM($D$8:$D$9)","v":0},{"$f":"SUM($E$8:$E$9)","v":0},{"$f":"SUM($F$8:$F$9)","v":0},{"$f":"SUM($G$8:$G$9)","v":0},{"$f":"SUM($H$8:$H$9)","v":0},{"$f":"SUM($I$8:$I$9)","v":0},{"$f":"SUM($J$8:$J$9)","v":0},{"$f":"SUM($K$8:$K$9)","v":0},{"$f":"SUM($L$8:$L$9)","v":0},{"$f":"SUM($M$8:$M$9)","v":0},{"$f":"SUM($N$8:$N$9)","v":0},{"$f":"SUM($O$8:$O$9)","v":0},{"$f":"SUM($P$8:$P$9)","v":0},{"$f":"SUM($Q$8:$Q$9)","v":0},{"$f":"SUM($R$8:$R$9)","v":0},{"$f":"SUM($S$8:$S$9)","v":0},{"$f":"SUM($T$8:$T$9)","v":0},{"$f":"SUM($U$8:$U$9)","v":0},{"$f":"SUM($V$8:$V$9)","v":0},{"$f":"SUM($W$8:$W$9)","v":0},{"$f":"SUM($X$8:$X$9)","v":0},{"$f":"SUM($Y$8:$Y$9)","v":0},{"$f":"SUM($Z$8:$Z$9)","v":0},{"$f":"SUM($AA$8:$AA$9)","v":0},{"$f":"SUM($AB$8:$AB$9)","v":0},{"$f":"SUM($AC$8:$AC$9)","v":0},{"$f":"SUM($AD$8:$AD$9)","v":0},{"$f":"SUM($AE$8:$AE$9)","v":0},{"$f":"SUM($AF$8:$AF$9)","v":0}]
["石川県","17207","羽咋市",{"$f":"SUM(E8:AF8)","v":0},0,0,0,0,0,0,0,0,0,0,0,0,0,0,0,0,0,0,0,0,0,0,0,0,0,0,0,0]
["石川県","17209","かほく市",{"$f":"SUM(E9:AF9)","v":0},0,0,0,0,0,0,0,0,0,0,0,0,0,0,0,0,0,0,0,0,0,0,0,0,0,0,0,0]

{"sheet":"施設資源化量内訳(粗大)","index":16,"n_rows":9,"n_cols":32,"rows_kept":9,"merged":[[1,0,5,0],[1,1,5,1],[1,2,5,2],[2,3,4,3],[2,4,4,4],[2,5,4,5],[2,6,4,6],[2,7,4,7],[2,8,4,8],[2,9,4,9],[2,10,4,10],[2,11,4,11],[2,12,4,12],[2,13,4,13],[2,14,4,14],[2,15,4,15],[2,16,4,16],[2,17,4,17],[2,18,4,18],[2,19,4,19],[2,20,4,20],[2,21,4,21],[2,22,4,22],[2,23,4,23],[2,24,4,24],[2,25,4,25],[2,26,4,26],[2,27,4,27],[2,28,4,28],[2,29,4,29],[2,30,4,30],[2,31,4,31]]}
["【災害】中間処理後の再生利用量の状況（平成28年度実績）"]
["都道府県名","地方公共団体コード","市区町村名","粗大ごみ処理施設"]
[{"$nulls":3},"合計","木くず","金属くず","コンクリートがら","その他がれき類","石綿含有廃棄物等","ＰＣＢ廃棄物","その他有害物、危険物","混合ごみ","可燃ごみ","不燃ごみ","資源ごみ","粗大ごみ","家電４品目","パソコン","自動車","ＦＲＰ船","鋼船","その他船舶","畳","漁網","タイヤ","その他家電","消火器","ガスボンベ","土石類","津波堆積物","その他","漂着ごみ"]
[]
[]
[{"$nulls":3},"（ｔ）","（ｔ）","（ｔ）","（ｔ）","（ｔ）","（ｔ）","（ｔ）","（ｔ）","（ｔ）","（ｔ）","（ｔ）","（ｔ）","（ｔ）","（ｔ）","（ｔ）","（ｔ）","（ｔ）","（ｔ）","（ｔ）","（ｔ）","（ｔ）","（ｔ）","（ｔ）","（ｔ）","（ｔ）","（ｔ）","（ｔ）","（ｔ）","（ｔ）"]
["石川県","17000","合計",{"$f":"SUM($D$8:$D$9)","v":0},{"$f":"SUM($E$8:$E$9)","v":0},{"$f":"SUM($F$8:$F$9)","v":0},{"$f":"SUM($G$8:$G$9)","v":0},{"$f":"SUM($H$8:$H$9)","v":0},{"$f":"SUM($I$8:$I$9)","v":0},{"$f":"SUM($J$8:$J$9)","v":0},{"$f":"SUM($K$8:$K$9)","v":0},{"$f":"SUM($L$8:$L$9)","v":0},{"$f":"SUM($M$8:$M$9)","v":0},{"$f":"SUM($N$8:$N$9)","v":0},{"$f":"SUM($O$8:$O$9)","v":0},{"$f":"SUM($P$8:$P$9)","v":0},{"$f":"SUM($Q$8:$Q$9)","v":0},{"$f":"SUM($R$8:$R$9)","v":0},{"$f":"SUM($S$8:$S$9)","v":0},{"$f":"SUM($T$8:$T$9)","v":0},{"$f":"SUM($U$8:$U$9)","v":0},{"$f":"SUM($V$8:$V$9)","v":0},{"$f":"SUM($W$8:$W$9)","v":0},{"$f":"SUM($X$8:$X$9)","v":0},{"$f":"SUM($Y$8:$Y$9)","v":0},{"$f":"SUM($Z$8:$Z$9)","v":0},{"$f":"SUM($AA$8:$AA$9)","v":0},{"$f":"SUM($AB$8:$AB$9)","v":0},{"$f":"SUM($AC$8:$AC$9)","v":0},{"$f":"SUM($AD$8:$AD$9)","v":0},{"$f":"SUM($AE$8:$AE$9)","v":0},{"$f":"SUM($AF$8:$AF$9)","v":0}]
["石川県","17207","羽咋市",{"$f":"SUM(E8:AF8)","v":0},0,0,0,0,0,0,0,0,0,0,0,0,0,0,0,0,0,0,0,0,0,0,0,0,0,0,0,0]
["石川県","17209","かほく市",{"$f":"SUM(E9:AF9)","v":0},0,0,0,0,0,0,0,0,0,0,0,0,0,0,0,0,0,0,0,0,0,0,0,0,0,0,0,0]

{"sheet":"施設資源化量内訳(堆肥化)","index":17,"n_rows":9,"n_cols":32,"rows_kept":9,"merged":[[1,0,5,0],[1,1,5,1],[1,2,5,2],[2,3,4,3],[2,4,4,4],[2,5,4,5],[2,6,4,6],[2,7,4,7],[2,8,4,8],[2,9,4,9],[2,10,4,10],[2,11,4,11],[2,12,4,12],[2,13,4,13],[2,14,4,14],[2,15,4,15],[2,16,4,16],[2,17,4,17],[2,18,4,18],[2,19,4,19],[2,20,4,20],[2,21,4,21],[2,22,4,22],[2,23,4,23],[2,24,4,24],[2,25,4,25],[2,26,4,26],[2,27,4,27],[2,28,4,28],[2,29,4,29],[2,30,4,30],[2,31,4,31]]}
["【災害】中間処理後の再生利用量の状況（平成28年度実績）"]
["都道府県名","地方公共団体コード","市区町村名","ごみ堆肥化施設"]
[{"$nulls":3},"合計","木くず","金属くず","コンクリートがら","その他がれき類","石綿含有廃棄物等","ＰＣＢ廃棄物","その他有害物、危険物","混合ごみ","可燃ごみ","不燃ごみ","資源ごみ","粗大ごみ","家電４品目","パソコン","自動車","ＦＲＰ船","鋼船","その他船舶","畳","漁網","タイヤ","その他家電","消火器","ガスボンベ","土石類","津波堆積物","その他","漂着ごみ"]
[]
[]
[{"$nulls":3},"（ｔ）","（ｔ）","（ｔ）","（ｔ）","（ｔ）","（ｔ）","（ｔ）","（ｔ）","（ｔ）","（ｔ）","（ｔ）","（ｔ）","（ｔ）","（ｔ）","（ｔ）","（ｔ）","（ｔ）","（ｔ）","（ｔ）","（ｔ）","（ｔ）","（ｔ）","（ｔ）","（ｔ）","（ｔ）","（ｔ）","（ｔ）","（ｔ）","（ｔ）"]
["石川県","17000","合計",{"$f":"SUM($D$8:$D$9)","v":0},{"$f":"SUM($E$8:$E$9)","v":0},{"$f":"SUM($F$8:$F$9)","v":0},{"$f":"SUM($G$8:$G$9)","v":0},{"$f":"SUM($H$8:$H$9)","v":0},{"$f":"SUM($I$8:$I$9)","v":0},{"$f":"SUM($J$8:$J$9)","v":0},{"$f":"SUM($K$8:$K$9)","v":0},{"$f":"SUM($L$8:$L$9)","v":0},{"$f":"SUM($M$8:$M$9)","v":0},{"$f":"SUM($N$8:$N$9)","v":0},{"$f":"SUM($O$8:$O$9)","v":0},{"$f":"SUM($P$8:$P$9)","v":0},{"$f":"SUM($Q$8:$Q$9)","v":0},{"$f":"SUM($R$8:$R$9)","v":0},{"$f":"SUM($S$8:$S$9)","v":0},{"$f":"SUM($T$8:$T$9)","v":0},{"$f":"SUM($U$8:$U$9)","v":0},{"$f":"SUM($V$8:$V$9)","v":0},{"$f":"SUM($W$8:$W$9)","v":0},{"$f":"SUM($X$8:$X$9)","v":0},{"$f":"SUM($Y$8:$Y$9)","v":0},{"$f":"SUM($Z$8:$Z$9)","v":0},{"$f":"SUM($AA$8:$AA$9)","v":0},{"$f":"SUM($AB$8:$AB$9)","v":0},{"$f":"SUM($AC$8:$AC$9)","v":0},{"$f":"SUM($AD$8:$AD$9)","v":0},{"$f":"SUM($AE$8:$AE$9)","v":0},{"$f":"SUM($AF$8:$AF$9)","v":0}]
["石川県","17207","羽咋市",{"$f":"SUM(E8:AF8)","v":0},0,0,0,0,0,0,0,0,0,0,0,0,0,0,0,0,0,0,0,0,0,0,0,0,0,0,0,0]
["石川県","17209","かほく市",{"$f":"SUM(E9:AF9)","v":0},0,0,0,0,0,0,0,0,0,0,0,0,0,0,0,0,0,0,0,0,0,0,0,0,0,0,0,0]

{"sheet":"施設資源化量内訳(飼料化)","index":18,"n_rows":9,"n_cols":32,"rows_kept":9,"merged":[[1,0,5,0],[1,1,5,1],[1,2,5,2],[2,3,4,3],[2,4,4,4],[2,5,4,5],[2,6,4,6],[2,7,4,7],[2,8,4,8],[2,9,4,9],[2,10,4,10],[2,11,4,11],[2,12,4,12],[2,13,4,13],[2,14,4,14],[2,15,4,15],[2,16,4,16],[2,17,4,17],[2,18,4,18],[2,19,4,19],[2,20,4,20],[2,21,4,21],[2,22,4,22],[2,23,4,23],[2,24,4,24],[2,25,4,25],[2,26,4,26],[2,27,4,27],[2,28,4,28],[2,29,4,29],[2,30,4,30],[2,31,4,31]]}
["【災害】中間処理後の再生利用量の状況（平成28年度実績）"]
["都道府県名","地方公共団体コード","市区町村名","ごみ飼料化施設"]
[{"$nulls":3},"合計","木くず","金属くず","コンクリートがら","その他がれき類","石綿含有廃棄物等","ＰＣＢ廃棄物","その他有害物、危険物","混合ごみ","可燃ごみ","不燃ごみ","資源ごみ","粗大ごみ","家電４品目","パソコン","自動車","ＦＲＰ船","鋼船","その他船舶","畳","漁網","タイヤ","その他家電","消火器","ガスボンベ","土石類","津波堆積物","その他","漂着ごみ"]
[]
[]
[{"$nulls":3},"（ｔ）","（ｔ）","（ｔ）","（ｔ）","（ｔ）","（ｔ）","（ｔ）","（ｔ）","（ｔ）","（ｔ）","（ｔ）","（ｔ）","（ｔ）","（ｔ）","（ｔ）","（ｔ）","（ｔ）","（ｔ）","（ｔ）","（ｔ）","（ｔ）","（ｔ）","（ｔ）","（ｔ）","（ｔ）","（ｔ）","（ｔ）","（ｔ）","（ｔ）"]
["石川県","17000","合計",{"$f":"SUM($D$8:$D$9)","v":0},{"$f":"SUM($E$8:$E$9)","v":0},{"$f":"SUM($F$8:$F$9)","v":0},{"$f":"SUM($G$8:$G$9)","v":0},{"$f":"SUM($H$8:$H$9)","v":0},{"$f":"SUM($I$8:$I$9)","v":0},{"$f":"SUM($J$8:$J$9)","v":0},{"$f":"SUM($K$8:$K$9)","v":0},{"$f":"SUM($L$8:$L$9)","v":0},{"$f":"SUM($M$8:$M$9)","v":0},{"$f":"SUM($N$8:$N$9)","v":0},{"$f":"SUM($O$8:$O$9)","v":0},{"$f":"SUM($P$8:$P$9)","v":0},{"$f":"SUM($Q$8:$Q$9)","v":0},{"$f":"SUM($R$8:$R$9)","v":0},{"$f":"SUM($S$8:$S$9)","v":0},{"$f":"SUM($T$8:$T$9)","v":0},{"$f":"SUM($U$8:$U$9)","v":0},{"$f":"SUM($V$8:$V$9)","v":0},{"$f":"SUM($W$8:$W$9)","v":0},{"$f":"SUM($X$8:$X$9)","v":0},{"$f":"SUM($Y$8:$Y$9)","v":0},{"$f":"SUM($Z$8:$Z$9)","v":0},{"$f":"SUM($AA$8:$AA$9)","v":0},{"$f":"SUM($AB$8:$AB$9)","v":0},{"$f":"SUM($AC$8:$AC$9)","v":0},{"$f":"SUM($AD$8:$AD$9)","v":0},{"$f":"SUM($AE$8:$AE$9)","v":0},{"$f":"SUM($AF$8:$AF$9)","v":0}]
["石川県","17207","羽咋市",{"$f":"SUM(E8:AF8)","v":0},0,0,0,0,0,0,0,0,0,0,0,0,0,0,0,0,0,0,0,0,0,0,0,0,0,0,0,0]
["石川県","17209","かほく市",{"$f":"SUM(E9:AF9)","v":0},0,0,0,0,0,0,0,0,0,0,0,0,0,0,0,0,0,0,0,0,0,0,0,0,0,0,0,0]

{"sheet":"施設資源化量内訳(メタン化)","index":19,"n_rows":9,"n_cols":32,"rows_kept":9,"merged":[[1,0,5,0],[1,1,5,1],[1,2,5,2],[2,3,4,3],[2,4,4,4],[2,5,4,5],[2,6,4,6],[2,7,4,7],[2,8,4,8],[2,9,4,9],[2,10,4,10],[2,11,4,11],[2,12,4,12],[2,13,4,13],[2,14,4,14],[2,15,4,15],[2,16,4,16],[2,17,4,17],[2,18,4,18],[2,19,4,19],[2,20,4,20],[2,21,4,21],[2,22,4,22],[2,23,4,23],[2,24,4,24],[2,25,4,25],[2,26,4,26],[2,27,4,27],[2,28,4,28],[2,29,4,29],[2,30,4,30],[2,31,4,31]]}
["【災害】中間処理後の再生利用量の状況（平成28年度実績）"]
["都道府県名","地方公共団体コード","市区町村名","メタン化施設"]
[{"$nulls":3},"合計","木くず","金属くず","コンクリートがら","その他がれき類","石綿含有廃棄物等","ＰＣＢ廃棄物","その他有害物、危険物","混合ごみ","可燃ごみ","不燃ごみ","資源ごみ","粗大ごみ","家電４品目","パソコン","自動車","ＦＲＰ船","鋼船","その他船舶","畳","漁網","タイヤ","その他家電","消火器","ガスボンベ","土石類","津波堆積物","その他","漂着ごみ"]
[]
[]
[{"$nulls":3},"（ｔ）","（ｔ）","（ｔ）","（ｔ）","（ｔ）","（ｔ）","（ｔ）","（ｔ）","（ｔ）","（ｔ）","（ｔ）","（ｔ）","（ｔ）","（ｔ）","（ｔ）","（ｔ）","（ｔ）","（ｔ）","（ｔ）","（ｔ）","（ｔ）","（ｔ）","（ｔ）","（ｔ）","（ｔ）","（ｔ）","（ｔ）","（ｔ）","（ｔ）"]
["石川県","17000","合計",{"$f":"SUM($D$8:$D$9)","v":0},{"$f":"SUM($E$8:$E$9)","v":0},{"$f":"SUM($F$8:$F$9)","v":0},{"$f":"SUM($G$8:$G$9)","v":0},{"$f":"SUM($H$8:$H$9)","v":0},{"$f":"SUM($I$8:$I$9)","v":0},{"$f":"SUM($J$8:$J$9)","v":0},{"$f":"SUM($K$8:$K$9)","v":0},{"$f":"SUM($L$8:$L$9)","v":0},{"$f":"SUM($M$8:$M$9)","v":0},{"$f":"SUM($N$8:$N$9)","v":0},{"$f":"SUM($O$8:$O$9)","v":0},{"$f":"SUM($P$8:$P$9)","v":0},{"$f":"SUM($Q$8:$Q$9)","v":0},{"$f":"SUM($R$8:$R$9)","v":0},{"$f":"SUM($S$8:$S$9)","v":0},{"$f":"SUM($T$8:$T$9)","v":0},{"$f":"SUM($U$8:$U$9)","v":0},{"$f":"SUM($V$8:$V$9)","v":0},{"$f":"SUM($W$8:$W$9)","v":0},{"$f":"SUM($X$8:$X$9)","v":0},{"$f":"SUM($Y$8:$Y$9)","v":0},{"$f":"SUM($Z$8:$Z$9)","v":0},{"$f":"SUM($AA$8:$AA$9)","v":0},{"$f":"SUM($AB$8:$AB$9)","v":0},{"$f":"SUM($AC$8:$AC$9)","v":0},{"$f":"SUM($AD$8:$AD$9)","v":0},{"$f":"SUM($AE$8:$AE$9)","v":0},{"$f":"SUM($AF$8:$AF$9)","v":0}]
["石川県","17207","羽咋市",{"$f":"SUM(E8:AF8)","v":0},0,0,0,0,0,0,0,0,0,0,0,0,0,0,0,0,0,0,0,0,0,0,0,0,0,0,0,0]
["石川県","17209","かほく市",{"$f":"SUM(E9:AF9)","v":0},0,0,0,0,0,0,0,0,0,0,0,0,0,0,0,0,0,0,0,0,0,0,0,0,0,0,0,0]

{"sheet":"施設資源化量内訳(燃料化)","index":20,"n_rows":9,"n_cols":32,"rows_kept":9,"merged":[[1,0,5,0],[1,1,5,1],[1,2,5,2],[2,3,4,3],[2,4,4,4],[2,5,4,5],[2,6,4,6],[2,7,4,7],[2,8,4,8],[2,9,4,9],[2,10,4,10],[2,11,4,11],[2,12,4,12],[2,13,4,13],[2,14,4,14],[2,15,4,15],[2,16,4,16],[2,17,4,17],[2,18,4,18],[2,19,4,19],[2,20,4,20],[2,21,4,21],[2,22,4,22],[2,23,4,23],[2,24,4,24],[2,25,4,25],[2,26,4,26],[2,27,4,27],[2,28,4,28],[2,29,4,29],[2,30,4,30],[2,31,4,31]]}
["【災害】中間処理後の再生利用量の状況（平成28年度実績）"]
["都道府県名","地方公共団体コード","市区町村名","ごみ燃料化施設"]
[{"$nulls":3},"合計","木くず","金属くず","コンクリートがら","その他がれき類","石綿含有廃棄物等","ＰＣＢ廃棄物","その他有害物、危険物","混合ごみ","可燃ごみ","不燃ごみ","資源ごみ","粗大ごみ","家電４品目","パソコン","自動車","ＦＲＰ船","鋼船","その他船舶","畳","漁網","タイヤ","その他家電","消火器","ガスボンベ","土石類","津波堆積物","その他","漂着ごみ"]
[]
[]
[{"$nulls":3},"（ｔ）","（ｔ）","（ｔ）","（ｔ）","（ｔ）","（ｔ）","（ｔ）","（ｔ）","（ｔ）","（ｔ）","（ｔ）","（ｔ）","（ｔ）","（ｔ）","（ｔ）","（ｔ）","（ｔ）","（ｔ）","（ｔ）","（ｔ）","（ｔ）","（ｔ）","（ｔ）","（ｔ）","（ｔ）","（ｔ）","（ｔ）","（ｔ）","（ｔ）"]
["石川県","17000","合計",{"$f":"SUM($D$8:$D$9)","v":0},{"$f":"SUM($E$8:$E$9)","v":0},{"$f":"SUM($F$8:$F$9)","v":0},{"$f":"SUM($G$8:$G$9)","v":0},{"$f":"SUM($H$8:$H$9)","v":0},{"$f":"SUM($I$8:$I$9)","v":0},{"$f":"SUM($J$8:$J$9)","v":0},{"$f":"SUM($K$8:$K$9)","v":0},{"$f":"SUM($L$8:$L$9)","v":0},{"$f":"SUM($M$8:$M$9)","v":0},{"$f":"SUM($N$8:$N$9)","v":0},{"$f":"SUM($O$8:$O$9)","v":0},{"$f":"SUM($P$8:$P$9)","v":0},{"$f":"SUM($Q$8:$Q$9)","v":0},{"$f":"SUM($R$8:$R$9)","v":0},{"$f":"SUM($S$8:$S$9)","v":0},{"$f":"SUM($T$8:$T$9)","v":0},{"$f":"SUM($U$8:$U$9)","v":0},{"$f":"SUM($V$8:$V$9)","v":0},{"$f":"SUM($W$8:$W$9)","v":0},{"$f":"SUM($X$8:$X$9)","v":0},{"$f":"SUM($Y$8:$Y$9)","v":0},{"$f":"SUM($Z$8:$Z$9)","v":0},{"$f":"SUM($AA$8:$AA$9)","v":0},{"$f":"SUM($AB$8:$AB$9)","v":0},{"$f":"SUM($AC$8:$AC$9)","v":0},{"$f":"SUM($AD$8:$AD$9)","v":0},{"$f":"SUM($AE$8:$AE$9)","v":0},{"$f":"SUM($AF$8:$AF$9)","v":0}]
["石川県","17207","羽咋市",{"$f":"SUM(E8:AF8)","v":0},0,0,0,0,0,0,0,0,0,0,0,0,0,0,0,0,0,0,0,0,0,0,0,0,0,0,0,0]
["石川県","17209","かほく市",{"$f":"SUM(E9:AF9)","v":0},0,0,0,0,0,0,0,0,0,0,0,0,0,0,0,0,0,0,0,0,0,0,0,0,0,0,0,0]

{"sheet":"施設資源化量内訳(セメント)","index":21,"n_rows":9,"n_cols":32,"rows_kept":9,"merged":[[1,0,5,0],[1,1,5,1],[1,2,5,2],[2,3,4,3],[2,4,4,4],[2,5,4,5],[2,6,4,6],[2,7,4,7],[2,8,4,8],[2,9,4,9],[2,10,4,10],[2,11,4,11],[2,12,4,12],[2,13,4,13],[2,14,4,14],[2,15,4,15],[2,16,4,16],[2,17,4,17],[2,18,4,18],[2,19,4,19],[2,20,4,20],[2,21,4,21],[2,22,4,22],[2,23,4,23],[2,24,4,24],[2,25,4,25],[2,26,4,26],[2,27,4,27],[2,28,4,28],[2,29,4,29],[2,30,4,30],[2,31,4,31]]}
["【災害】中間処理後の再生利用量の状況（平成28年度実績）"]
["都道府県名","地方公共団体コード","市区町村名","セメント等への直接投入"]
[{"$nulls":3},"合計","木くず","金属くず","コンクリートがら","その他がれき類","石綿含有廃棄物等","ＰＣＢ廃棄物","その他有害物、危険物","混合ごみ","可燃ごみ","不燃ごみ","資源ごみ","粗大ごみ","家電４品目","パソコン","自動車","ＦＲＰ船","鋼船","その他船舶","畳","漁網","タイヤ","その他家電","消火器","ガスボンベ","土石類","津波堆積物","その他","漂着ごみ"]
[]
[]
[{"$nulls":3},"（ｔ）","（ｔ）","（ｔ）","（ｔ）","（ｔ）","（ｔ）","（ｔ）","（ｔ）","（ｔ）","（ｔ）","（ｔ）","（ｔ）","（ｔ）","（ｔ）","（ｔ）","（ｔ）","（ｔ）","（ｔ）","（ｔ）","（ｔ）","（ｔ）","（ｔ）","（ｔ）","（ｔ）","（ｔ）","（ｔ）","（ｔ）","（ｔ）","（ｔ）"]
["石川県","17000","合計",{"$f":"SUM($D$8:$D$9)","v":0},{"$f":"SUM($E$8:$E$9)","v":0},{"$f":"SUM($F$8:$F$9)","v":0},{"$f":"SUM($G$8:$G$9)","v":0},{"$f":"SUM($H$8:$H$9)","v":0},{"$f":"SUM($I$8:$I$9)","v":0},{"$f":"SUM($J$8:$J$9)","v":0},{"$f":"SUM($K$8:$K$9)","v":0},{"$f":"SUM($L$8:$L$9)","v":0},{"$f":"SUM($M$8:$M$9)","v":0},{"$f":"SUM($N$8:$N$9)","v":0},{"$f":"SUM($O$8:$O$9)","v":0},{"$f":"SUM($P$8:$P$9)","v":0},{"$f":"SUM($Q$8:$Q$9)","v":0},{"$f":"SUM($R$8:$R$9)","v":0},{"$f":"SUM($S$8:$S$9)","v":0},{"$f":"SUM($T$8:$T$9)","v":0},{"$f":"SUM($U$8:$U$9)","v":0},{"$f":"SUM($V$8:$V$9)","v":0},{"$f":"SUM($W$8:$W$9)","v":0},{"$f":"SUM($X$8:$X$9)","v":0},{"$f":"SUM($Y$8:$Y$9)","v":0},{"$f":"SUM($Z$8:$Z$9)","v":0},{"$f":"SUM($AA$8:$AA$9)","v":0},{"$f":"SUM($AB$8:$AB$9)","v":0},{"$f":"SUM($AC$8:$AC$9)","v":0},{"$f":"SUM($AD$8:$AD$9)","v":0},{"$f":"SUM($AE$8:$AE$9)","v":0},{"$f":"SUM($AF$8:$AF$9)","v":0}]
["石川県","17207","羽咋市",{"$f":"SUM(E8:AF8)","v":0},0,0,0,0,0,0,0,0,0,0,0,0,0,0,0,0,0,0,0,0,0,0,0,0,0,0,0,0]
["石川県","17209","かほく市",{"$f":"SUM(E9:AF9)","v":0},0,0,0,0,0,0,0,0,0,0,0,0,0,0,0,0,0,0,0,0,0,0,0,0,0,0,0,0]

{"sheet":"施設資源化量内訳(資源化等)","index":22,"n_rows":9,"n_cols":32,"rows_kept":9,"merged":[[1,0,5,0],[1,1,5,1],[1,2,5,2],[2,3,4,3],[2,4,4,4],[2,5,4,5],[2,6,4,6],[2,7,4,7],[2,8,4,8],[2,9,4,9],[2,10,4,10],[2,11,4,11],[2,12,4,12],[2,13,4,13],[2,14,4,14],[2,15,4,15],[2,16,4,16],[2,17,4,17],[2,18,4,18],[2,19,4,19],[2,20,4,20],[2,21,4,21],[2,22,4,22],[2,23,4,23],[2,24,4,24],[2,25,4,25],[2,26,4,26],[2,27,4,27],[2,28,4,28],[2,29,4,29],[2,30,4,30],[2,31,4,31]]}
["【災害】中間処理後の再生利用量の状況（平成28年度実績）"]
["都道府県名","地方公共団体コード","市区町村名","その他資源化等を行う施設"]
[{"$nulls":3},"合計","木くず","金属くず","コンクリートがら","その他がれき類","石綿含有廃棄物等","ＰＣＢ廃棄物","その他有害物、危険物","混合ごみ","可燃ごみ","不燃ごみ","資源ごみ","粗大ごみ","家電４品目","パソコン","自動車","ＦＲＰ船","鋼船","その他船舶","畳","漁網","タイヤ","その他家電","消火器","ガスボンベ","土石類","津波堆積物","その他","漂着ごみ"]
[]
[]
[{"$nulls":3},"（ｔ）","（ｔ）","（ｔ）","（ｔ）","（ｔ）","（ｔ）","（ｔ）","（ｔ）","（ｔ）","（ｔ）","（ｔ）","（ｔ）","（ｔ）","（ｔ）","（ｔ）","（ｔ）","（ｔ）","（ｔ）","（ｔ）","（ｔ）","（ｔ）","（ｔ）","（ｔ）","（ｔ）","（ｔ）","（ｔ）","（ｔ）","（ｔ）","（ｔ）"]
["石川県","17000","合計",{"$f":"SUM($D$8:$D$9)","v":0},{"$f":"SUM($E$8:$E$9)","v":0},{"$f":"SUM($F$8:$F$9)","v":0},{"$f":"SUM($G$8:$G$9)","v":0},{"$f":"SUM($H$8:$H$9)","v":0},{"$f":"SUM($I$8:$I$9)","v":0},{"$f":"SUM($J$8:$J$9)","v":0},{"$f":"SUM($K$8:$K$9)","v":0},{"$f":"SUM($L$8:$L$9)","v":0},{"$f":"SUM($M$8:$M$9)","v":0},{"$f":"SUM($N$8:$N$9)","v":0},{"$f":"SUM($O$8:$O$9)","v":0},{"$f":"SUM($P$8:$P$9)","v":0},{"$f":"SUM($Q$8:$Q$9)","v":0},{"$f":"SUM($R$8:$R$9)","v":0},{"$f":"SUM($S$8:$S$9)","v":0},{"$f":"SUM($T$8:$T$9)","v":0},{"$f":"SUM($U$8:$U$9)","v":0},{"$f":"SUM($V$8:$V$9)","v":0},{"$f":"SUM($W$8:$W$9)","v":0},{"$f":"SUM($X$8:$X$9)","v":0},{"$f":"SUM($Y$8:$Y$9)","v":0},{"$f":"SUM($Z$8:$Z$9)","v":0},{"$f":"SUM($AA$8:$AA$9)","v":0},{"$f":"SUM($AB$8:$AB$9)","v":0},{"$f":"SUM($AC$8:$AC$9)","v":0},{"$f":"SUM($AD$8:$AD$9)","v":0},{"$f":"SUM($AE$8:$AE$9)","v":0},{"$f":"SUM($AF$8:$AF$9)","v":0}]
["石川県","17207","羽咋市",{"$f":"SUM(E8:AF8)","v":0},0,0,0,0,0,0,0,0,0,0,0,0,0,0,0,0,0,0,0,0,0,0,0,0,0,0,0,0]
["石川県","17209","かほく市",{"$f":"SUM(E9:AF9)","v":0},0,0,0,0,0,0,0,0,0,0,0,0,0,0,0,0,0,0,0,0,0,0,0,0,0,0,0,0]

{"sheet":"ごみ処理量内訳","index":23,"n_rows":9,"n_cols":61,"rows_kept":9,"merged":[[1,0,5,0],[1,1,5,1],[1,2,5,2],[2,3,4,3],[2,4,4,4],[2,5,2,13],[2,14,4,14],[2,15,4,15],[2,16,4,16],[2,17,4,17],[2,18,2,26],[2,27,4,27],[2,28,4,28],[2,38,4,38],[2,39,4,39],[2,40,4,40],[2,50,4,50],[2,51,4,51],[2,52,4,52],[2,53,4,53],[2,54,4,54],[2,55,4,55],[2,56,4,56],[2,57,4,57],[2,58,4,58],[2,59,4,59],[2,60,4,60],[3,5,4,5],[3,6,4,6],[3,7,4,7],[3,8,4,8],[3,9,4,9],[3,10,4,10],[3,11,4,11],[3,12,4,12],[3,13,4,13],[3,18,4,18],[3,19,4,19],[3,20,4,20],[3,21,4,21],[3,22,4,22],[3,23,4,23],[3,24,4,24],[3,25,4,25],[3,26,4,26],[3,29,4,29],[3,30,4,30],[3,31,4,31],[3,32,4,32],[3,33,4,33],[3,34,4,34],[3,35,4,35],[3,36,4,36],[3,37,4,37],[3,41,4,41],[3,42,4,42],[3,43,4,43],[3,44,4,44],[3,45,4,45],[3,46,4,46],[3,47,4,47],[3,48,4,48],[3,49,4,49]]}
["【災害】ごみ処理の状況（平成28年度実績）"]
["都道府県名","地方公共団体コード","市区町村名","処理量（直接焼却量+焼却以外の中間処理量+直接最終処分量+直接資源化量)",{"$nulls":12},"焼却処理量 (直接焼却量+焼却施設以外の中間処理施設からの搬入量)",{"$nulls":10},"中間処理後再生利用量",{"$nulls":10},"最終処分量 (直接最終処分量+焼却残渣量+焼却施設以外の中間処理施設からの残渣量)",{"$nulls":11},"中間処理後保管量"]
[{"$nulls":3},"合計","直接焼却量","焼却以外の中間処理量 (粗大ごみ処理施設+ごみ堆肥化施設+ごみ飼料化施設+メタン化施設+ごみ燃料化施設+その他の資源化等を行う施設+その他の施設)",{"$nulls":8},"直接\n最終処分量\n（海洋投入\n含む）","直接\n資源化量 ","合計","直接焼却量","焼却施設以外の中間処理施設からの搬入量",{"$nulls":8},"合計","焼却施設における資源化量","焼却施設以外の中間処理施設における資源化量",{"$nulls":8},"合計","直接最終\n処分量\n（海洋投入含む）","焼却残渣量","焼却施設以外の中間処理施設からの残渣量",{"$nulls":8},"合計","焼却処理残渣の保管量","粗大ごみ\n処理施設","ごみ堆肥化施設","ごみ飼料化施設","メタン化施設","ごみ燃料化\n施設","その他の資源化等を行う施設","セメント等への直接投入","その他の\n施設","直接最終\n処分"]
[{"$nulls":5},"合計","粗大ごみ\n処理施設","ごみ堆肥化施設","ごみ飼料化施設","メタン化施設","ごみ燃料化\n施設","その他の資源化等を行う施設","セメント等への直接投入","その他の\n施設",{"$nulls":4},"合計","粗大ごみ\n処理施設","ごみ堆肥化施設","ごみ飼料化施設","メタン化施設","ごみ燃料化\n施設","その他の資源化等を行う施設","セメント等への直接投入","その他の\n施設",null,null,"合計","粗大ごみ\n処理施設","ごみ堆肥化施設","ごみ飼料化施設","メタン化施設","ごみ燃料化\n施設","その他の資源化等を行う施設","セメント等への直接投入","その他の\n施設",{"$nulls":3},"合計","粗大ごみ\n処理施設","ごみ堆肥化施設","ごみ飼料化施設","メタン化施設","ごみ燃料化\n施設","その他の資源化等を行う施設","セメント等への直接投入","その他の\n施設"]
[]
[{"$nulls":3},"（ｔ）","（ｔ）","（ｔ）","（ｔ）","（ｔ）","（ｔ）","（ｔ）","（ｔ）","（ｔ）","（ｔ）","（ｔ）","（ｔ）","（ｔ）","（ｔ）","（ｔ）","（ｔ）","（ｔ）","（ｔ）","（ｔ）","（ｔ）","（ｔ）","（ｔ）","（ｔ）","（ｔ）","（ｔ）","（ｔ）","（ｔ）","（ｔ）","（ｔ）","（ｔ）","（ｔ）","（ｔ）","（ｔ）","（ｔ）","（ｔ）","（ｔ）","（ｔ）","（ｔ）","（ｔ）","（ｔ）","（ｔ）","（ｔ）","（ｔ）","（ｔ）","（ｔ）","（ｔ）","（ｔ）","（ｔ）","（ｔ）","（ｔ）","（ｔ）","（ｔ）","（ｔ）","（ｔ）","（ｔ）","（ｔ）","（ｔ）","（ｔ）"]
["石川県","17000","合計",{"$f":"SUM($D$8:$D$9)","v":0},{"$f":"SUM($E$8:$E$9)","v":0},{"$f":"SUM($F$8:$F$9)","v":0},{"$f":"SUM($G$8:$G$9)","v":0},{"$f":"SUM($H$8:$H$9)","v":0},{"$f":"SUM($I$8:$I$9)","v":0},{"$f":"SUM($J$8:$J$9)","v":0},{"$f":"SUM($K$8:$K$9)","v":0},{"$f":"SUM($L$8:$L$9)","v":0},{"$f":"SUM($M$8:$M$9)","v":0},{"$f":"SUM($N$8:$N$9)","v":0},{"$f":"SUM($O$8:$O$9)","v":0},{"$f":"SUM($P$8:$P$9)","v":0},{"$f":"SUM($Q$8:$Q$9)","v":0},{"$f":"SUM($R$8:$R$9)","v":0},{"$f":"SUM($S$8:$S$9)","v":0},{"$f":"SUM($T$8:$T$9)","v":0},{"$f":"SUM($U$8:$U$9)","v":0},{"$f":"SUM($V$8:$V$9)","v":0},{"$f":"SUM($W$8:$W$9)","v":0},{"$f":"SUM($X$8:$X$9)","v":0},{"$f":"SUM($Y$8:$Y$9)","v":0},{"$f":"SUM($Z$8:$Z$9)","v":0},{"$f":"SUM($AA$8:$AA$9)","v":0},{"$f":"SUM($AB$8:$AB$9)","v":0},{"$f":"SUM($AC$8:$AC$9)","v":0},{"$f":"SUM($AD$8:$AD$9)","v":0},{"$f":"SUM($AE$8:$AE$9)","v":0},{"$f":"SUM($AF$8:$AF$9)","v":0},{"$f":"SUM($AG$8:$AG$9)","v":0},{"$f":"SUM($AH$8:$AH$9)","v":0},{"$f":"SUM($AI$8:$AI$9)","v":0},{"$f":"SUM($AJ$8:$AJ$9)","v":0},{"$f":"SUM($AK$8:$AK$9)","v":0},{"$f":"SUM($AL$8:$AL$9)","v":0},{"$f":"SUM($AM$8:$AM$9)","v":0},{"$f":"SUM($AN$8:$AN$9)","v":0},{"$f":"SUM($AO$8:$AO$9)","v":0},{"$f":"SUM($AP$8:$AP$9)","v":0},{"$f":"SUM($AQ$8:$AQ$9)","v":0},{"$f":"SUM($AR$8:$AR$9)","v":0},{"$f":"SUM($AS$8:$AS$9)","v":0},{"$f":"SUM($AT$8:$AT$9)","v":0},{"$f":"SUM($AU$8:$AU$9)","v":0},{"$f":"SUM($AV$8:$AV$9)","v":0},{"$f":"SUM($AW$8:$AW$9)","v":0},{"$f":"SUM($AX$8:$AX$9)","v":0},{"$f":"SUM($AY$8:$AY$9)","v":0},{"$f":"SUM($AZ$8:$AZ$9)","v":0},{"$f":"SUM($BA$8:$BA$9)","v":0},{"$f":"SUM($BB$8:$BB$9)","v":0},{"$f":"SUM($BC$8:$BC$9)","v":0},{"$f":"SUM($BD$8:$BD$9)","v":0},{"$f":"SUM($BE$8:$BE$9)","v":0},{"$f":"SUM($BF$8:$BF$9)","v":0},{"$f":"SUM($BG$8:$BG$9)","v":0},{"$f":"SUM($BH$8:$BH$9)","v":0},"-"]
["石川県","17207","羽咋市",{"$f":"SUM(E8,F8,O8,P8)","v":0},{"$f":"R8","v":0},{"$f":"SUM(G8:N8)","v":0},0,0,0,0,0,0,0,0,{"$f":"AN8","v":0},{"$f":"資源化量内訳!AG8","v":0},{"$f":"SUM(R8:S8)","v":0},0,{"$f":"SUM(T8:AA8)","v":0},0,0,0,0,0,0,0,0,{"$f":"SUM(AC8:AD8)","v":0},0,{"$f":"SUM(AE8:AK8)","v":0},0,0,0,0,0,0,0,"-",{"$f":"SUM(AN8:AP8)","v":0},0,0,{"$f":"SUM(AQ8:AX8)","v":0},0,0,0,0,0,0,0,0,{"$f":"SUM(AZ8:BI8)","v":0},0,0,0,0,0,0,0,0,0,"-"]
["石川県","17209","かほく市",{"$f":"SUM(E9,F9,O9,P9)","v":0},{"$f":"R9","v":0},{"$f":"SUM(G9:N9)","v":0},0,0,0,0,0,0,0,0,{"$f":"AN9","v":0},{"$f":"資源化量内訳!AG9","v":0},{"$f":"SUM(R9:S9)","v":0},0,{"$f":"SUM(T9:AA9)","v":0},0,0,0,0,0,0,0,0,{"$f":"SUM(AC9:AD9)","v":0},0,{"$f":"SUM(AE9:AK9)","v":0},0,0,0,0,0,0,0,"-",{"$f":"SUM(AN9:AP9)","v":0},0,0,{"$f":"SUM(AQ9:AX9)","v":0},0,0,0,0,0,0,0,0,{"$f":"SUM(AZ9:BI9)","v":0},0,0,0,0,0,0,0,0,0,"-"]