{"text_format":"3","workbook":"xlsx","n_sheets":9,"sheets":["ごみ処理概要","ごみ搬入量内訳","施設区分別搬入量内訳","ごみ処理量内訳","資源化量内訳","施設資源化量内訳","災害廃棄物搬入量","ごみ集計結果","ごみフローシート"],"not_rendered":{"defined_names":17},"read":"whole","date_system":"1900"}

{"sheet":"ごみ処理概要","index":0,"n_rows":51,"n_cols":43,"rows_kept":51,"merged":[[1,0,5,0],[1,1,5,1],[1,2,5,2],[1,3,1,4],[1,7,1,10],[1,11,1,13],[1,14,3,14],[1,27,4,27],[1,28,1,35],[1,36,4,36],[1,37,4,37],[1,38,1,41],[2,4,3,4],[2,5,3,5],[2,7,3,7],[2,8,3,8],[2,9,3,9],[2,10,3,10],[2,11,4,11],[2,12,4,12],[2,13,4,13],[2,15,3,15],[2,16,3,16],[2,17,2,24],[2,25,3,25],[2,26,3,26],[2,28,3,28],[2,29,3,29],[2,30,3,30],[2,31,3,31],[2,32,3,32],[2,33,3,33],[2,34,3,34],[2,35,3,35],[2,38,3,38],[2,39,3,39],[2,40,3,40],[2,41,3,41],[3,17,4,17],[3,18,4,18],[3,19,4,19],[3,20,4,20],[3,21,4,21],[3,22,4,22],[3,23,4,23],[3,24,4,24]]}
["ごみ処理の概要（平成28年度実績）"]
["都道府県名","地方公共団体コード","市区町村名","総人口",null,null,"外国人人口","ごみ総排出量 (計画収集量+直接搬入量+集団回収量)",{"$nulls":3},"１人１日当たりの排出量",null,null,"自家処理量","ごみ処理量 (直接焼却量+直接最終処分量+焼却以外の中間処理量+直接資源化量)",{"$nulls":11},"減量処理率 (直接資源化量+直接焼却量+焼却以外の中間処理量)/ごみ処理量*100\n\n","中間処理後再生利用量 (焼却施設＋粗大ごみ処理施設+ごみ堆肥化施設+ごみ飼料化施設+メタン化施設+ごみ燃料化施設+その他の資源化等を行う施設+その他の施設)",{"$nulls":7},"リサイクル率 Ｒ\n(直接資源化量+中間処理後再生利用量+集団回収量)/(ごみ処理量+集団回収量)*100","リサイクル率 Ｒ’\n(直接資源化量+中間処理後再生利用量〔固形燃料、焼却灰・飛灰のｾﾒﾝﾄ原料化、セメント等への直接投入、飛灰の山元還元　を除く〕+集団回収量)/(ごみ処理量+集団回収量)*100","最終処分量 (直接最終処分量+焼却残渣量+処理残渣量)"]
[{"$nulls":4},"計画収集人口","自家処理人口",null,"計画収集量","直接搬入量","集団回収量","合計","合計\n(ごみ総排出量)*10^6/総人口/365","生活系ごみ\n(生活系ごみ搬入量+集団回収量)*10^6/総人口/365","事業系ごみ\n(事業系ごみ搬入量)*10^6/総人口/365",null,"直接焼却量","直接最終\n処分量","焼却以外の中間処理量(粗大ごみ処理施設+ごみ堆肥化施設+ごみ飼料化施設+メタン化施設+ごみ燃料化施設+その他の資源化等を行う施設+その他の施設)",{"$nulls":7},"直接\n資源化量","合計",null,"焼却施設","粗大ごみ\n処理施設","ごみ堆肥化施設","ごみ飼料化施設","メタン化施設","ごみ燃料化施設","その他の資源化等を行う施設","合計",null,null,"直接最終\n処分量","焼却残渣量","処理残渣量","合計"]
[{"$nulls":17},"合計","粗大ごみ\n処理施設","資源化等を行う施設","ごみ堆肥化施設","ごみ飼料化施設","メタン化施設","ごみ燃料化\n施設","その他の\n施設"]
[]
[{"$nulls":3},"（人）","（人）","（人）","（人）","（ｔ）","（ｔ）","（ｔ）","（ｔ）","（g/人日)","（g/人日)","（g/人日)","（ｔ）","（ｔ）","（ｔ）","（ｔ）","（ｔ）","（ｔ）","（ｔ）","（ｔ）","（ｔ）","（ｔ）","（ｔ）","（ｔ）","（ｔ）","（％）","（ｔ）","（ｔ）","（ｔ）","（ｔ）","（ｔ）","（ｔ）","（ｔ）","（ｔ）","（％）","（％）","（ｔ）","（ｔ）","（ｔ）","（ｔ）"]
["茨城県","08000","合計",{"$f":"+E7+F7","v":{"v":2957724,"d":"2,957,724"}},{"$f":"SUM(E$8:E$1000)","v":{"v":2957724,"d":"2,957,724"}},{"$f":"SUM(F$8:F$1000)","v":0},{"$f":"SUM(G$8:G$1000)","v":{"v":56334,"d":"56,334"}},{"$f":"SUM(ごみ搬入量内訳!E7,+ごみ搬入量内訳!AD7)","v":{"v":945257,"d":"945,257"}},{"$f":"ごみ搬入量内訳!BC7","v":{"v":84110,"d":"84,110"}},{"$f":"資源化量内訳!BO7","v":{"v":31924,"d":"31,924"}},{"$f":"SUM(H7:J7)","v":{"v":1061291,"d":"1,061,291"}},{"$f":"IF(D7<>0,K7/D7/365*1000000,\"-\")","v":{"v":983.0689325111017,"d":"983"}},{"$f":"IF(D7<>0,(ごみ搬入量内訳!BR7+ごみ処理概要!J7)/ごみ処理概要!D7/365*1000000,\"-\")","v":{"v":708.4862716450448,"d":"708"}},{"$f":"IF(D7<>0,ごみ搬入量内訳!CM7/ごみ処理概要!D7/365*1000000,\"-\")","v":{"v":274.5826608660569,"d":"275"}},{"$f":"ごみ搬入量内訳!DH7","v":{"v":12701,"d":"12,701"}},{"$f":"ごみ処理量内訳!E7","v":{"v":793577,"d":"793,577"}},{"$f":"ごみ処理量内訳!N7","v":511},{"$f":"SUM(S7:Y7)","v":{"v":150923,"d":"150,923"}},{"$f":"ごみ処理量内訳!G7","v":{"v":43643,"d":"43,643"}},{"$f":"ごみ処理量内訳!L7","v":{"v":64006,"d":"64,006"}},{"$f":"ごみ処理量内訳!H7","v":{"v":2852,"d":"2,852"}},{"$f":"ごみ処理量内訳!I7","v":0},{"$f":"ごみ処理量内訳!J7","v":0},{"$f":"ごみ処理量内訳!K7","v":{"v":40124,"d":"40,124"}},{"$f":"ごみ処理量内訳!M7","v":298},{"$f":"資源化量内訳!Y7","v":{"v":91541,"d":"91,541"}},{"$f":"SUM(P7,Q7,R7,Z7)","v":{"v":1036552,"d":"1,036,552"}},{"$f":"IF(AA7<>0,(Z7+P7+R7)/AA7*100,\"-\")","v":{"v":99.95070194259429,"d":"100.0"}},{"$f":"施設資源化量内訳!Y7","v":{"v":30127,"d":"30,127"}},{"$f":"施設資源化量内訳!AT7","v":{"v":14868,"d":"14,868"}},{"$f":"施設資源化量内訳!BO7","v":{"v":1267,"d":"1,267"}},{"$f":"施設資源化量内訳!CJ7","v":0},{"$f":"施設資源化量内訳!DE7","v":0},{"$f":"施設資源化量内訳!DZ7","v":{"v":25236,"d":"25,236"}},{"$f":"施設資源化量内訳!EU7","v":{"v":43542,"d":"43,542"}},{"$f":"SUM(AC7:AI7)","v":{"v":115040,"d":"115,040"}},{"$f":"IF((AA7+J7)<>0,(Z7+AJ7+J7)/(AA7+J7)*100,\"-\")","v":{"v":22.321980091270184,"d":"22.3"}},{"$f":"IF((AA7+J7)<>0,(資源化量内訳!D7-資源化量内訳!R7-資源化量内訳!T7-資源化量内訳!V7-資源化量内訳!U7)/(AA7+J7)*100,\"-\")","v":{"v":19.96844103189964,"d":"20.0"}},{"$f":"ごみ処理量内訳!AA7","v":511},{"$f":"ごみ処理量内訳!AB7","v":{"v":73418,"d":"73,418"}},{"$f":"ごみ処理量内訳!AC7","v":{"v":7862,"d":"7,862"}},{"$f":"SUM(AM7:AO7)","v":{"v":81791,"d":"81,791"}}]
["茨城県","08201","水戸市",{"v":271047,"d":"271,047"},{"v":271047,"d":"271,047"},0,{"v":3241,"d":"3,241"},{"$f":"SUM(ごみ搬入量内訳!E8,+ごみ搬入量内訳!AD8)","v":{"v":106511,"d":"106,511"}},{"$f":"ごみ搬入量内訳!BC8","v":{"v":6230,"d":"6,230"}},{"$f":"資源化量内訳!BO8","v":{"v":4533,"d":"4,533"}},{"v":117274,"d":"117,274"},{"v":1185.3982155751082,"d":"1,185"},{"$f":"IF(D8<>0,(ごみ搬入量内訳!BR8+ごみ処理概要!J8)/ごみ処理概要!D8/365*1000000,\"-\")","v":{"v":777.3306868732416,"d":"777"}},{"$f":"IF(D8<>0,ごみ搬入量内訳!CM8/ごみ処理概要!D8/365*1000000,\"-\")","v":{"v":408.0675287018665,"d":"408"}},{"$f":"ごみ搬入量内訳!DH8","v":0},{"$f":"ごみ処理量内訳!E8","v":{"v":92433,"d":"92,433"}},{"$f":"ごみ処理量内訳!N8","v":0},{"v":7815,"d":"7,815"},{"$f":"ごみ処理量内訳!G8","v":{"v":1368,"d":"1,368"}},{"$f":"ごみ処理量内訳!L8","v":{"v":6447,"d":"6,447"}},{"$f":"ごみ処理量内訳!H8","v":0},{"$f":"ごみ処理量内訳!I8","v":0},{"$f":"ごみ処理量内訳!J8","v":0},{"$f":"ごみ処理量内訳!K8","v":0},{"$f":"ごみ処理量内訳!M8","v":0},{"$f":"資源化量内訳!Y8","v":{"v":12362,"d":"12,362"}},{"v":112610,"d":"112,610"},{"v":100,"d":"100.0"},{"$f":"施設資源化量内訳!Y8","v":293},{"$f":"施設資源化量内訳!AT8","v":204},{"$f":"施設資源化量内訳!BO8","v":0},{"$f":"施設資源化量内訳!CJ8","v":0},{"$f":"施設資源化量内訳!DE8","v":0},{"$f":"施設資源化量内訳!DZ8","v":0},{"$f":"施設資源化量内訳!EU8","v":{"v":4884,"d":"4,884"}},{"v":5381,"d":"5,381"},{"v":19.01607437064101,"d":"19.0"},{"$f":"IF((AA8+J8)<>0,(資源化量内訳!D8-資源化量内訳!R8-資源化量内訳!T8-資源化量内訳!V8-資源化量内訳!U8)/(AA8+J8)*100,\"-\")","v":{"v":19.01607437064101,"d":"19.0"}},{"$f":"ごみ処理量内訳!AA8","v":0},{"$f":"ごみ処理量内訳!AB8","v":{"v":9455,"d":"9,455"}},{"$f":"ごみ処理量内訳!AC8","v":171},{"v":9626,"d":"9,626"},"081201"]
["茨城県","08202","日立市",{"v":185039,"d":"185,039"},{"v":185039,"d":"185,039"},0,{"v":1671,"d":"1,671"},{"$f":"SUM(ごみ搬入量内訳!E9,+ごみ搬入量内訳!AD9)","v":{"v":53065,"d":"53,065"}},{"$f":"ごみ搬入量内訳!BC9","v":{"v":9572,"d":"9,572"}},{"$f":"資源化量内訳!BO9","v":181},{"v":62818,"d":"62,818"},{"v":930.0964098867864,"d":"930"},{"$f":"IF(D9<>0,(ごみ搬入量内訳!BR9+ごみ処理概要!J9)/ごみ処理概要!D9/365*1000000,\"-\")","v":{"v":676.5697005599782,"d":"677"}},{"$f":"IF(D9<>0,ごみ搬入量内訳!CM9/ごみ処理概要!D9/365*1000000,\"-\")","v":{"v":253.52670932680834,"d":"254"}},{"$f":"ごみ搬入量内訳!DH9","v":0},{"$f":"ごみ処理量内訳!E9","v":{"v":51119,"d":"51,119"}},{"$f":"ごみ処理量内訳!N9","v":0},{"v":7736,"d":"7,736"},{"$f":"ごみ処理量内訳!G9","v":{"v":3166,"d":"3,166"}},{"$f":"ごみ処理量内訳!L9","v":{"v":4570,"d":"4,570"}},{"$f":"ごみ処理量内訳!H9","v":0},{"$f":"ごみ処理量内訳!I9","v":0},{"$f":"ごみ処理量内訳!J9","v":0},{"$f":"ごみ処理量内訳!K9","v":0},{"$f":"ごみ処理量内訳!M9","v":0},{"$f":"資源化量内訳!Y9","v":{"v":2425,"d":"2,425"}},{"v":61280,"d":"61,280"},{"v":100,"d":"100.0"},{"$f":"施設資源化量内訳!Y9","v":{"v":4075,"d":"4,075"}},{"$f":"施設資源化量内訳!AT9","v":{"v":1722,"d":"1,722"}},{"$f":"施設資源化量内訳!BO9","v":0},{"$f":"施設資源化量内訳!CJ9","v":0},{"$f":"施設資源化量内訳!DE9","v":0},{"$f":"施設資源化量内訳!DZ9","v":0},{"$f":"施設資源化量内訳!EU9","v":{"v":4570,"d":"4,570"}},{"v":10367,"d":"10,367"},{"v":21.10769431021298,"d":"21.1"},{"$f":"IF((AA9+J9)<>0,(資源化量内訳!D9-資源化量内訳!R9-資源化量内訳!T9-資源化量内訳!V9-資源化量内訳!U9)/(AA9+J9)*100,\"-\")","v":{"v":21.10769431021298,"d":"21.1"}},{"$f":"ごみ処理量内訳!AA9","v":0},{"$f":"ごみ処理量内訳!AB9","v":{"v":1130,"d":"1,130"}},{"$f":"ごみ処理量内訳!AC9","v":917},{"v":2047,"d":"2,047"},"081202"]
["茨城県","08203","土浦市",{"v":143699,"d":"143,699"},{"v":143699,"d":"143,699"},0,{"v":3543,"d":"3,543"},{"$f":"SUM(ごみ搬入量内訳!E10,+ごみ搬入量内訳!AD10)","v":{"v":56141,"d":"56,141"}},{"$f":"ごみ搬入量内訳!BC10","v":{"v":3207,"d":"3,207"}},{"$f":"資源化量内訳!BO10","v":{"v":2653,"d":"2,653"}},{"v":62001,"d":"62,001"},{"v":1182.0941928938792,"d":"1,182"},{"$f":"IF(D10<>0,(ごみ搬入量内訳!BR10+ごみ処理概要!J10)/ごみ処理概要!D10/365*1000000,\"-\")","v":{"v":729.7026022907282,"d":"730"}},{"$f":"IF(D10<>0,ごみ搬入量内訳!CM10/ごみ処理概要!D10/365*1000000,\"-\")","v":{"v":452.3915906031509,"d":"452"}},{"$f":"ごみ搬入量内訳!DH10","v":0},{"$f":"ごみ処理量内訳!E10","v":{"v":43540,"d":"43,540"}},{"$f":"ごみ処理量内訳!N10","v":0},{"v":10511,"d":"10,511"},{"$f":"ごみ処理量内訳!G10","v":{"v":3559,"d":"3,559"}},{"$f":"ごみ処理量内訳!L10","v":{"v":6931,"d":"6,931"}},{"$f":"ごみ処理量内訳!H10","v":0},{"$f":"ごみ処理量内訳!I10","v":0},{"$f":"ごみ処理量内訳!J10","v":0},{"$f":"ごみ処理量内訳!K10","v":21},{"$f":"ごみ処理量内訳!M10","v":0},{"$f":"資源化量内訳!Y10","v":{"v":6060,"d":"6,060"}},{"v":60111,"d":"60,111"},{"v":100,"d":"100.0"},{"$f":"施設資源化量内訳!Y10","v":260},{"$f":"施設資源化量内訳!AT10","v":{"v":1088,"d":"1,088"}},{"$f":"施設資源化量内訳!BO10","v":0},{"$f":"施設資源化量内訳!CJ10","v":0},{"$f":"施設資源化量内訳!DE10","v":0},{"$f":"施設資源化量内訳!DZ10","v":21},{"$f":"施設資源化量内訳!EU10","v":{"v":6902,"d":"6,902"}},{"v":8271,"d":"8,271"},{"v":27.060098145433685,"d":"27.1"},{"$f":"IF((AA10+J10)<>0,(資源化量内訳!D10-資源化量内訳!R10-資源化量内訳!T10-資源化量内訳!V10-資源化量内訳!U10)/(AA10+J10)*100,\"-\")","v":{"v":27.060098145433685,"d":"27.1"}},{"$f":"ごみ処理量内訳!AA10","v":0},{"$f":"ごみ処理量内訳!AB10","v":{"v":5646,"d":"5,646"}},{"$f":"ごみ処理量内訳!AC10","v":{"v":1207,"d":"1,207"}},{"v":6853,"d":"6,853"},"081203"]
["茨城県","08204","古河市",{"v":144394,"d":"144,394"},{"v":144394,"d":"144,394"},0,{"v":2960,"d":"2,960"},{"$f":"SUM(ごみ搬入量内訳!E11,+ごみ搬入量内訳!AD11)","v":{"v":45026,"d":"45,026"}},{"$f":"ごみ搬入量内訳!BC11","v":{"v":2555,"d":"2,555"}},{"$f":"資源化量内訳!BO11","v":{"v":2280,"d":"2,280"}},{"v":49861,"d":"49,861"},{"v":946.0606358439742,"d":"946"},{"$f":"IF(D11<>0,(ごみ搬入量内訳!BR11+ごみ処理概要!J11)/ごみ処理概要!D11/365*1000000,\"-\")","v":{"v":737.0814368069406,"d":"737"}},{"$f":"IF(D11<>0,ごみ搬入量内訳!CM11/ごみ処理概要!D11/365*1000000,\"-\")","v":{"v":208.97919903703354,"d":"209"}},{"$f":"ごみ搬入量内訳!DH11","v":0},{"$f":"ごみ処理量内訳!E11","v":{"v":41267,"d":"41,267"}},{"$f":"ごみ処理量内訳!N11","v":0},{"v":4702,"d":"4,702"},{"$f":"ごみ処理量内訳!G11","v":0},{"$f":"ごみ処理量内訳!L11","v":{"v":4702,"d":"4,702"}},{"$f":"ごみ処理量内訳!H11","v":0},{"$f":"ごみ処理量内訳!I11","v":0},{"$f":"ごみ処理量内訳!J11","v":0},{"$f":"ごみ処理量内訳!K11","v":0},{"$f":"ごみ処理量内訳!M11","v":0},{"$f":"資源化量内訳!Y11","v":{"v":1612,"d":"1,612"}},{"v":47581,"d":"47,581"},{"v":100,"d":"100.0"},{"$f":"施設資源化量内訳!Y11","v":{"v":1314,"d":"1,314"}},{"$f":"施設資源化量内訳!AT11","v":0},{"$f":"施設資源化量内訳!BO11","v":0},{"$f":"施設資源化量内訳!CJ11","v":0},{"$f":"施設資源化量内訳!DE11","v":0},{"$f":"施設資源化量内訳!DZ11","v":0},{"$f":"施設資源化量内訳!EU11","v":{"v":3083,"d":"3,083"}},{"v":4397,"d":"4,397"},{"v":16.62421531858567,"d":"16.6"},{"$f":"IF((AA11+J11)<>0,(資源化量内訳!D11-資源化量内訳!R11-資源化量内訳!T11-資源化量内訳!V11-資源化量内訳!U11)/(AA11+J11)*100,\"-\")","v":{"v":16.62421531858567,"d":"16.6"}},{"$f":"ごみ処理量内訳!AA11","v":0},{"$f":"ごみ処理量内訳!AB11","v":{"v":4803,"d":"4,803"}},{"$f":"ごみ処理量内訳!AC11","v":0},{"v":4803,"d":"4,803"},"081204"]
["茨城県","08205","石岡市",{"v":76917,"d":"76,917"},{"v":76917,"d":"76,917"},0,927,{"$f":"SUM(ごみ搬入量内訳!E12,+ごみ搬入量内訳!AD12)","v":{"v":26642,"d":"26,642"}},{"$f":"ごみ搬入量内訳!BC12","v":{"v":3756,"d":"3,756"}},{"$f":"資源化量内訳!BO12","v":375},{"v":30773,"d":"30,773"},{"v":1096.111250323022,"d":"1,096"},{"$f":"IF(D12<>0,(ごみ搬入量内訳!BR12+ごみ処理概要!J12)/ごみ処理概要!D12/365*1000000,\"-\")","v":{"v":721.1473816020506,"d":"721"}},{"$f":"IF(D12<>0,ごみ搬入量内訳!CM12/ごみ処理概要!D12/365*1000000,\"-\")","v":{"v":374.96386872097145,"d":"375"}},{"$f":"ごみ搬入量内訳!DH12","v":0},{"$f":"ごみ処理量内訳!E12","v":{"v":23432,"d":"23,432"}},{"$f":"ごみ処理量内訳!N12","v":0},{"v":2672,"d":"2,672"},{"$f":"ごみ処理量内訳!G12","v":{"v":1850,"d":"1,850"}},{"$f":"ごみ処理量内訳!L12","v":822},{"$f":"ごみ処理量内訳!H12","v":0},{"$f":"ごみ処理量内訳!I12","v":0},{"$f":"ごみ処理量内訳!J12","v":0},{"$f":"ごみ処理量内訳!K12","v":0},{"$f":"ごみ処理量内訳!M12","v":0},{"$f":"資源化量内訳!Y12","v":{"v":4304,"d":"4,304"}},{"v":30408,"d":"30,408"},{"v":100,"d":"100.0"},{"$f":"施設資源化量内訳!Y12","v":{"v":2283,"d":"2,283"}},{"$f":"施設資源化量内訳!AT12","v":{"v":1105,"d":"1,105"}},{"$f":"施設資源化量内訳!BO12","v":0},{"$f":"施設資源化量内訳!CJ12","v":0},{"$f":"施設資源化量内訳!DE12","v":0},{"$f":"施設資源化量内訳!DZ12","v":0},{"$f":"施設資源化量内訳!EU12","v":730},{"v":4118,"d":"4,118"},{"v":28.577461585940288,"d":"28.6"},{"$f":"IF((AA12+J12)<>0,(資源化量内訳!D12-資源化量内訳!R12-資源化量内訳!T12-資源化量内訳!V12-資源化量内訳!U12)/(AA12+J12)*100,\"-\")","v":{"v":28.577461585940288,"d":"28.6"}},{"$f":"ごみ処理量内訳!AA12","v":0},{"$f":"ごみ処理量内訳!AB12","v":741},{"$f":"ごみ処理量内訳!AC12","v":120},861,"081205"]
["茨城県","08207","結城市",{"v":52650,"d":"52,650"},{"v":52650,"d":"52,650"},0,{"v":1965,"d":"1,965"},{"$f":"SUM(ごみ搬入量内訳!E13,+ごみ搬入量内訳!AD13)","v":{"v":20285,"d":"20,285"}},{"$f":"ごみ搬入量内訳!BC13","v":481},{"$f":"資源化量内訳!BO13","v":0},{"v":20766,"d":"20,766"},{"v":1080.5916559341215,"d":"1,081"},{"$f":"IF(D13<>0,(ごみ搬入量内訳!BR13+ごみ処理概要!J13)/ごみ処理概要!D13/365*1000000,\"-\")","v":{"v":700.8286825638423,"d":"701"}},{"$f":"IF(D13<>0,ごみ搬入量内訳!CM13/ごみ処理概要!D13/365*1000000,\"-\")","v":{"v":379.7629733702793,"d":"380"}},{"$f":"ごみ搬入量内訳!DH13","v":0},{"$f":"ごみ処理量内訳!E13","v":{"v":19135,"d":"19,135"}},{"$f":"ごみ処理量内訳!N13","v":0},14,{"$f":"ごみ処理量内訳!G13","v":0},{"$f":"ごみ処理量内訳!L13","v":0},{"$f":"ごみ処理量内訳!H13","v":0},{"$f":"ごみ処理量内訳!I13","v":0},{"$f":"ごみ処理量内訳!J13","v":0},{"$f":"ごみ処理量内訳!K13","v":0},{"$f":"ごみ処理量内訳!M13","v":14},{"$f":"資源化量内訳!Y13","v":{"v":1617,"d":"1,617"}},{"v":20766,"d":"20,766"},{"v":100,"d":"100.0"},{"$f":"施設資源化量内訳!Y13","v":{"v":1763,"d":"1,763"}},{"$f":"施設資源化量内訳!AT13","v":0},{"$f":"施設資源化量内訳!BO13","v":0},{"$f":"施設資源化量内訳!CJ13","v":0},{"$f":"施設資源化量内訳!DE13","v":0},{"$f":"施設資源化量内訳!DZ13","v":0},{"$f":"施設資源化量内訳!EU13","v":0},{"v":1763,"d":"1,763"},{"v":16.276605990561492,"d":"16.3"},{"$f":"IF((AA13+J13)<>0,(資源化量内訳!D13-資源化量内訳!R13-資源化量内訳!T13-資源化量内訳!V13-資源化量内訳!U13)/(AA13+J13)*100,\"-\")","v":{"v":16.276605990561492,"d":"16.3"}},{"$f":"ごみ処理量内訳!AA13","v":0},{"$f":"ごみ処理量内訳!AB13","v":933},{"$f":"ごみ処理量内訳!AC13","v":0},933,"081207"]
["茨城県","08208","龍ケ崎市",{"v":78393,"d":"78,393"},{"v":78393,"d":"78,393"},0,{"v":1382,"d":"1,382"},{"$f":"SUM(ごみ搬入量内訳!E14,+ごみ搬入量内訳!AD14)","v":{"v":28397,"d":"28,397"}},{"$f":"ごみ搬入量内訳!BC14","v":892},{"$f":"資源化量内訳!BO14","v":204},{"v":29493,"d":"29,493"},{"v":1030.7392206705622,"d":"1,031"},{"$f":"IF(D14<>0,(ごみ搬入量内訳!BR14+ごみ処理概要!J14)/ごみ処理概要!D14/365*1000000,\"-\")","v":{"v":750.4164563197476,"d":"750"}},{"$f":"IF(D14<>0,ごみ搬入量内訳!CM14/ごみ処理概要!D14/365*1000000,\"-\")","v":{"v":280.3227643508148,"d":"280"}},{"$f":"ごみ搬入量内訳!DH14","v":0},{"$f":"ごみ処理量内訳!E14","v":{"v":23451,"d":"23,451"}},{"$f":"ごみ処理量内訳!N14","v":0},{"v":1454,"d":"1,454"},{"$f":"ごみ処理量内訳!G14","v":{"v":1105,"d":"1,105"}},{"$f":"ごみ処理量内訳!L14","v":349},{"$f":"ごみ処理量内訳!H14","v":0},{"$f":"ごみ処理量内訳!I14","v":0},{"$f":"ごみ処理量内訳!J14","v":0},{"$f":"ごみ処理量内訳!K14","v":0},{"$f":"ごみ処理量内訳!M14","v":0},{"$f":"資源化量内訳!Y14","v":{"v":4864,"d":"4,864"}},{"v":29769,"d":"29,769"},{"v":100,"d":"100.0"},{"$f":"施設資源化量内訳!Y14","v":{"v":2060,"d":"2,060"}},{"$f":"施設資源化量内訳!AT14","v":450},{"$f":"施設資源化量内訳!BO14","v":0},{"$f":"施設資源化量内訳!CJ14","v":0},{"$f":"施設資源化量内訳!DE14","v":0},{"$f":"施設資源化量内訳!DZ14","v":0},{"$f":"施設資源化量内訳!EU14","v":292},{"v":2802,"d":"2,802"},{"v":26.256964601474657,"d":"26.3"},{"$f":"IF((AA14+J14)<>0,(資源化量内訳!D14-資源化量内訳!R14-資源化量内訳!T14-資源化量内訳!V14-資源化量内訳!U14)/(AA14+J14)*100,\"-\")","v":{"v":26.256964601474657,"d":"26.3"}},{"$f":"ごみ処理量内訳!AA14","v":0},{"$f":"ごみ処理量内訳!AB14","v":{"v":2762,"d":"2,762"}},{"$f":"ごみ処理量内訳!AC14","v":501},{"v":3263,"d":"3,263"},"081208"]
["茨城県","08210","下妻市",{"v":44530,"d":"44,530"},{"v":44530,"d":"44,530"},0,{"v":1760,"d":"1,760"},{"$f":"SUM(ごみ搬入量内訳!E15,+ごみ搬入量内訳!AD15)","v":{"v":13291,"d":"13,291"}},{"$f":"ごみ搬入量内訳!BC15","v":{"v":3408,"d":"3,408"}},{"$f":"資源化量内訳!BO15","v":250},{"v":16949,"d":"16,949"},{"v":1042.7939914295118,"d":"1,043"},{"$f":"IF(D15<>0,(ごみ搬入量内訳!BR15+ごみ処理概要!J15)/ごみ処理概要!D15/365*1000000,\"-\")","v":{"v":653.6458413444531,"d":"654"}},{"$f":"IF(D15<>0,ごみ搬入量内訳!CM15/ごみ処理概要!D15/365*1000000,\"-\")","v":{"v":389.1481500850589,"d":"389"}},{"$f":"ごみ搬入量内訳!DH15","v":0},{"$f":"ごみ処理量内訳!E15","v":{"v":13418,"d":"13,418"}},{"$f":"ごみ処理量内訳!N15","v":0},768,{"$f":"ごみ処理量内訳!G15","v":755},{"$f":"ごみ処理量内訳!L15","v":13},{"$f":"ごみ処理量内訳!H15","v":0},{"$f":"ごみ処理量内訳!I15","v":0},{"$f":"ごみ処理量内訳!J15","v":0},{"$f":"ごみ処理量内訳!K15","v":0},{"$f":"ごみ処理量内訳!M15","v":0},{"$f":"資源化量内訳!Y15","v":{"v":2513,"d":"2,513"}},{"v":16699,"d":"16,699"},{"v":100,"d":"100.0"},{"$f":"施設資源化量内訳!Y15","v":0},{"$f":"施設資源化量内訳!AT15","v":251},{"$f":"施設資源化量内訳!BO15","v":0},{"$f":"施設資源化量内訳!CJ15","v":0},{"$f":"施設資源化量内訳!DE15","v":0},{"$f":"施設資源化量内訳!DZ15","v":0},{"$f":"施設資源化量内訳!EU15","v":11},262,{"v":17.84766062894566,"d":"17.8"},{"$f":"IF((AA15+J15)<>0,(資源化量内訳!D15-資源化量内訳!R15-資源化量内訳!T15-資源化量内訳!V15-資源化量内訳!U15)/(AA15+J15)*100,\"-\")","v":{"v":17.84766062894566,"d":"17.8"}},{"$f":"ごみ処理量内訳!AA15","v":0},{"$f":"ごみ処理量内訳!AB15","v":{"v":2082,"d":"2,082"}},{"$f":"ごみ処理量内訳!AC15","v":316},{"v":2398,"d":"2,398"},"081210"]
["茨城県","08211","常総市",{"v":64264,"d":"64,264"},{"v":64264,"d":"64,264"},0,{"v":4260,"d":"4,260"},{"$f":"SUM(ごみ搬入量内訳!E16,+ごみ搬入量内訳!AD16)","v":{"v":17506,"d":"17,506"}},{"$f":"ごみ搬入量内訳!BC16","v":{"v":1038,"d":"1,038"}},{"$f":"資源化量内訳!BO16","v":{"v":1384,"d":"1,384"}},{"v":19928,"d":"19,928"},{"v":849.5776838350024,"d":"850"},{"$f":"IF(D16<>0,(ごみ搬入量内訳!BR16+ごみ処理概要!J16)/ごみ処理概要!D16/365*1000000,\"-\")","v":{"v":631.7263207079019,"d":"632"}},{"$f":"IF(D16<>0,ごみ搬入量内訳!CM16/ごみ処理概要!D16/365*1000000,\"-\")","v":{"v":217.8513631271007,"d":"218"}},{"$f":"ごみ搬入量内訳!DH16","v":0},{"$f":"ごみ処理量内訳!E16","v":{"v":13861,"d":"13,861"}},{"$f":"ごみ処理量内訳!N16","v":0},{"v":3596,"d":"3,596"},{"$f":"ごみ処理量内訳!G16","v":541},{"$f":"ごみ処理量内訳!L16","v":{"v":2049,"d":"2,049"}},{"$f":"ごみ処理量内訳!H16","v":{"v":1006,"d":"1,006"}},{"$f":"ごみ処理量内訳!I16","v":0},{"$f":"ごみ処理量内訳!J16","v":0},{"$f":"ごみ処理量内訳!K16","v":0},{"$f":"ごみ処理量内訳!M16","v":0},{"$f":"資源化量内訳!Y16","v":{"v":1120,"d":"1,120"}},{"v":18577,"d":"18,577"},{"v":100,"d":"100.0"},{"$f":"施設資源化量内訳!Y16","v":39},{"$f":"施設資源化量内訳!AT16","v":199},{"$f":"施設資源化量内訳!BO16","v":394},{"$f":"施設資源化量内訳!CJ16","v":0},{"$f":"施設資源化量内訳!DE16","v":0},{"$f":"施設資源化量内訳!DZ16","v":0},{"$f":"施設資源化量内訳!EU16","v":450},{"v":1082,"d":"1,082"},{"v":17.965031812033466,"d":"18.0"},{"$f":"IF((AA16+J16)<>0,(資源化量内訳!D16-資源化量内訳!R16-資源化量内訳!T16-資源化量内訳!V16-資源化量内訳!U16)/(AA16+J16)*100,\"-\")","v":{"v":17.965031812033466,"d":"18.0"}},{"$f":"ごみ処理量内訳!AA16","v":0},{"$f":"ごみ処理量内訳!AB16","v":{"v":1282,"d":"1,282"}},{"$f":"ごみ処理量内訳!AC16","v":146},{"v":1428,"d":"1,428"},"081211"]
["茨城県","08212","常陸太田市",{"v":53967,"d":"53,967"},{"v":53967,"d":"53,967"},0,127,{"$f":"SUM(ごみ搬入量内訳!E17,+ごみ搬入量内訳!AD17)","v":{"v":13238,"d":"13,238"}},{"$f":"ごみ搬入量内訳!BC17","v":{"v":2830,"d":"2,830"}},{"$f":"資源化量内訳!BO17","v":431},{"v":16499,"d":"16,499"},{"v":837.5996391503585,"d":"838"},{"$f":"IF(D17<>0,(ごみ搬入量内訳!BR17+ごみ処理概要!J17)/ごみ処理概要!D17/365*1000000,\"-\")","v":{"v":670.5264582034024,"d":"671"}},{"$f":"IF(D17<>0,ごみ搬入量内訳!CM17/ごみ処理概要!D17/365*1000000,\"-\")","v":{"v":167.07318094695614,"d":"167"}},{"$f":"ごみ搬入量内訳!DH17","v":0},{"$f":"ごみ処理量内訳!E17","v":{"v":14257,"d":"14,257"}},{"$f":"ごみ処理量内訳!N17","v":0},892,{"$f":"ごみ処理量内訳!G17","v":0},{"$f":"ごみ処理量内訳!L17","v":892},{"$f":"ごみ処理量内訳!H17","v":0},{"$f":"ごみ処理量内訳!I17","v":0},{"$f":"ごみ処理量内訳!J17","v":0},{"$f":"ごみ処理量内訳!K17","v":0},{"$f":"ごみ処理量内訳!M17","v":0},{"$f":"資源化量内訳!Y17","v":930},{"v":16079,"d":"16,079"},{"v":100,"d":"100.0"},{"$f":"施設資源化量内訳!Y17","v":0},{"$f":"施設資源化量内訳!AT17","v":0},{"$f":"施設資源化量内訳!BO17","v":0},{"$f":"施設資源化量内訳!CJ17","v":0},{"$f":"施設資源化量内訳!DE17","v":0},{"$f":"施設資源化量内訳!DZ17","v":0},{"$f":"施設資源化量内訳!EU17","v":869},869,{"v":13.506965475469412,"d":"13.5"},{"$f":"IF((AA17+J17)<>0,(資源化量内訳!D17-資源化量内訳!R17-資源化量内訳!T17-資源化量内訳!V17-資源化量内訳!U17)/(AA17+J17)*100,\"-\")","v":{"v":13.506965475469412,"d":"13.5"}},{"$f":"ごみ処理量内訳!AA17","v":0},{"$f":"ごみ処理量内訳!AB17","v":{"v":1578,"d":"1,578"}},{"$f":"ごみ処理量内訳!AC17","v":20},{"v":1598,"d":"1,598"},"081212"]
["茨城県","08214","高萩市",{"v":29736,"d":"29,736"},{"v":29736,"d":"29,736"},0,151,{"$f":"SUM(ごみ搬入量内訳!E18,+ごみ搬入量内訳!AD18)","v":{"v":8144,"d":"8,144"}},{"$f":"ごみ搬入量内訳!BC18","v":{"v":1225,"d":"1,225"}},{"$f":"資源化量内訳!BO18","v":45},{"v":9414,"d":"9,414"},{"v":867.3587847026436,"d":"867"},{"$f":"IF(D18<>0,(ごみ搬入量内訳!BR18+ごみ処理概要!J18)/ごみ処理概要!D18/365*1000000,\"-\")","v":{"v":650.1966160661309,"d":"650"}},{"$f":"IF(D18<>0,ごみ搬入量内訳!CM18/ごみ処理概要!D18/365*1000000,\"-\")","v":{"v":217.16216863651272,"d":"217"}},{"$f":"ごみ搬入量内訳!DH18","v":0},{"$f":"ごみ処理量内訳!E18","v":{"v":7026,"d":"7,026"}},{"$f":"ごみ処理量内訳!N18","v":0},{"v":2297,"d":"2,297"},{"$f":"ごみ処理量内訳!G18","v":0},{"$f":"ごみ処理量内訳!L18","v":{"v":2013,"d":"2,013"}},{"$f":"ごみ処理量内訳!H18","v":0},{"$f":"ごみ処理量内訳!I18","v":0},{"$f":"ごみ処理量内訳!J18","v":0},{"$f":"ごみ処理量内訳!K18","v":0},{"$f":"ごみ処理量内訳!M18","v":284},{"$f":"資源化量内訳!Y18","v":0},{"v":9323,"d":"9,323"},{"v":100,"d":"100.0"},{"$f":"施設資源化量内訳!Y18","v":0},{"$f":"施設資源化量内訳!AT18","v":0},{"$f":"施設資源化量内訳!BO18","v":0},{"$f":"施設資源化量内訳!CJ18","v":0},{"$f":"施設資源化量内訳!DE18","v":0},{"$f":"施設資源化量内訳!DZ18","v":0},{"$f":"施設資源化量内訳!EU18","v":{"v":2013,"d":"2,013"}},{"v":2013,"d":"2,013"},{"v":21.968403074295473,"d":"22.0"},{"$f":"IF((AA18+J18)<>0,(資源化量内訳!D18-資源化量内訳!R18-資源化量内訳!T18-資源化量内訳!V18-資源化量内訳!U18)/(AA18+J18)*100,\"-\")","v":{"v":21.968403074295473,"d":"22.0"}},{"$f":"ごみ処理量内訳!AA18","v":0},{"$f":"ごみ処理量内訳!AB18","v":702},{"$f":"ごみ処理量内訳!AC18","v":284},986,"081214"]
["茨城県","08215","北茨城市",{"v":44770,"d":"44,770"},{"v":44770,"d":"44,770"},0,238,{"$f":"SUM(ごみ搬入量内訳!E19,+ごみ搬入量内訳!AD19)","v":{"v":12876,"d":"12,876"}},{"$f":"ごみ搬入量内訳!BC19","v":{"v":2821,"d":"2,821"}},{"$f":"資源化量内訳!BO19","v":0},{"v":15697,"d":"15,697"},{"v":960.5869879842483,"d":"961"},{"$f":"IF(D19<>0,(ごみ搬入量内訳!BR19+ごみ処理概要!J19)/ごみ処理概要!D19/365*1000000,\"-\")","v":{"v":777.2450362736788,"d":"777"}},{"$f":"IF(D19<>0,ごみ搬入量内訳!CM19/ごみ処理概要!D19/365*1000000,\"-\")","v":{"v":183.34195171056942,"d":"183"}},{"$f":"ごみ搬入量内訳!DH19","v":{"v":12701,"d":"12,701"}},{"$f":"ごみ処理量内訳!E19","v":{"v":13484,"d":"13,484"}},{"$f":"ごみ処理量内訳!N19","v":511},566,{"$f":"ごみ処理量内訳!G19","v":0},{"$f":"ごみ処理量内訳!L19","v":566},{"$f":"ごみ処理量内訳!H19","v":0},{"$f":"ごみ処理量内訳!I19","v":0},{"$f":"ごみ処理量内訳!J19","v":0},{"$f":"ごみ処理量内訳!K19","v":0},{"$f":"ごみ処理量内訳!M19","v":0},{"$f":"資源化量内訳!Y19","v":{"v":1573,"d":"1,573"}},{"v":16134,"d":"16,134"},{"v":96.83277550514443,"d":"96.8"},{"$f":"施設資源化量内訳!Y19","v":0},{"$f":"施設資源化量内訳!AT19","v":0},{"$f":"施設資源化量内訳!BO19","v":0},{"$f":"施設資源化量内訳!CJ19","v":0},{"$f":"施設資源化量内訳!DE19","v":0},{"$f":"施設資源化量内訳!DZ19","v":0},{"$f":"施設資源化量内訳!EU19","v":566},566,{"v":13.25771662328003,"d":"13.3"},{"$f":"IF((AA19+J19)<>0,(資源化量内訳!D19-資源化量内訳!R19-資源化量内訳!T19-資源化量内訳!V19-資源化量内訳!U19)/(AA19+J19)*100,\"-\")","v":{"v":13.25771662328003,"d":"13.3"}},{"$f":"ごみ処理量内訳!AA19","v":511},{"$f":"ごみ処理量内訳!AB19","v":{"v":1635,"d":"1,635"}},{"$f":"ごみ処理量内訳!AC19","v":0},{"v":2146,"d":"2,146"},"081215"]
["茨城県","08216","笠間市",{"v":77564,"d":"77,564"},{"v":77564,"d":"77,564"},0,590,{"$f":"SUM(ごみ搬入量内訳!E20,+ごみ搬入量内訳!AD20)","v":{"v":21004,"d":"21,004"}},{"$f":"ごみ搬入量内訳!BC20","v":{"v":4132,"d":"4,132"}},{"$f":"資源化量内訳!BO20","v":836},{"v":25972,"d":"25,972"},{"v":917.3864728941475,"d":"917"},{"$f":"IF(D20<>0,(ごみ搬入量内訳!BR20+ごみ処理概要!J20)/ごみ処理概要!D20/365*1000000,\"-\")","v":{"v":694.1505839102026,"d":"694"}},{"$f":"IF(D20<>0,ごみ搬入量内訳!CM20/ごみ処理概要!D20/365*1000000,\"-\")","v":{"v":223.23588898394468,"d":"223"}},{"$f":"ごみ搬入量内訳!DH20","v":0},{"$f":"ごみ処理量内訳!E20","v":{"v":21957,"d":"21,957"}},{"$f":"ごみ処理量内訳!N20","v":0},{"v":2371,"d":"2,371"},{"$f":"ごみ処理量内訳!G20","v":{"v":2308,"d":"2,308"}},{"$f":"ごみ処理量内訳!L20","v":63},{"$f":"ごみ処理量内訳!H20","v":0},{"$f":"ごみ処理量内訳!I20","v":0},{"$f":"ごみ処理量内訳!J20","v":0},{"$f":"ごみ処理量内訳!K20","v":0},{"$f":"ごみ処理量内訳!M20","v":0},{"$f":"資源化量内訳!Y20","v":{"v":3546,"d":"3,546"}},{"v":27874,"d":"27,874"},{"v":100,"d":"100.0"},{"$f":"施設資源化量内訳!Y20","v":{"v":1479,"d":"1,479"}},{"$f":"施設資源化量内訳!AT20","v":675},{"$f":"施設資源化量内訳!BO20","v":0},{"$f":"施設資源化量内訳!CJ20","v":0},{"$f":"施設資源化量内訳!DE20","v":0},{"$f":"施設資源化量内訳!DZ20","v":0},{"$f":"施設資源化量内訳!EU20","v":57},{"v":2211,"d":"2,211"},{"v":22.96412399860676,"d":"23.0"},{"$f":"IF((AA20+J20)<>0,(資源化量内訳!D20-資源化量内訳!R20-資源化量内訳!T20-資源化量内訳!V20-資源化量内訳!U20)/(AA20+J20)*100,\"-\")","v":{"v":22.96412399860676,"d":"23.0"}},{"$f":"ごみ処理量内訳!AA20","v":0},{"$f":"ごみ処理量内訳!AB20","v":{"v":1870,"d":"1,870"}},{"$f":"ごみ処理量内訳!AC20","v":343},{"v":2213,"d":"2,213"},"081216"]
["茨城県","08217","取手市",{"v":108471,"d":"108,471"},{"v":108471,"d":"108,471"},0,{"v":1531,"d":"1,531"},{"$f":"SUM(ごみ搬入量内訳!E21,+ごみ搬入量内訳!AD21)","v":{"v":33735,"d":"33,735"}},{"$f":"ごみ搬入量内訳!BC21","v":445},{"$f":"資源化量内訳!BO21","v":{"v":1592,"d":"1,592"}},{"v":35772,"d":"35,772"},{"v":903.51780155115,"d":"904"},{"$f":"IF(D21<>0,(ごみ搬入量内訳!BR21+ごみ処理概要!J21)/ごみ処理概要!D21/365*1000000,\"-\")","v":{"v":708.8063307874853,"d":"709"}},{"$f":"IF(D21<>0,ごみ搬入量内訳!CM21/ごみ処理概要!D21/365*1000000,\"-\")","v":{"v":194.71147076366475,"d":"195"}},{"$f":"ごみ搬入量内訳!DH21","v":0},{"$f":"ごみ処理量内訳!E21","v":{"v":23210,"d":"23,210"}},{"$f":"ごみ処理量内訳!N21","v":0},{"v":6829,"d":"6,829"},{"$f":"ごみ処理量内訳!G21","v":717},{"$f":"ごみ処理量内訳!L21","v":{"v":5769,"d":"5,769"}},{"$f":"ごみ処理量内訳!H21","v":343},{"$f":"ごみ処理量内訳!I21","v":0},{"$f":"ごみ処理量内訳!J21","v":0},{"$f":"ごみ処理量内訳!K21","v":0},{"$f":"ごみ処理量内訳!M21","v":0},{"$f":"資源化量内訳!Y21","v":{"v":4141,"d":"4,141"}},{"v":34180,"d":"34,180"},{"v":100,"d":"100.0"},{"$f":"施設資源化量内訳!Y21","v":{"v":1602,"d":"1,602"}},{"$f":"施設資源化量内訳!AT21","v":310},{"$f":"施設資源化量内訳!BO21","v":87},{"$f":"施設資源化量内訳!CJ21","v":0},{"$f":"施設資源化量内訳!DE21","v":0},{"$f":"施設資源化量内訳!DZ21","v":0},{"$f":"施設資源化量内訳!EU21","v":{"v":1771,"d":"1,771"}},{"v":3770,"d":"3,770"},{"v":26.56547020015655,"d":"26.6"},{"$f":"IF((AA21+J21)<>0,(資源化量内訳!D21-資源化量内訳!R21-資源化量内訳!T21-資源化量内訳!V21-資源化量内訳!U21)/(AA21+J21)*100,\"-\")","v":{"v":26.56547020015655,"d":"26.6"}},{"$f":"ごみ処理量内訳!AA21","v":0},{"$f":"ごみ処理量内訳!AB21","v":{"v":1104,"d":"1,104"}},{"$f":"ごみ処理量内訳!AC21","v":0},{"v":1104,"d":"1,104"},"081217"]
["茨城県","08219","牛久市",{"v":85038,"d":"85,038"},{"v":85038,"d":"85,038"},0,{"v":1094,"d":"1,094"},{"$f":"SUM(ごみ搬入量内訳!E22,+ごみ搬入量内訳!AD22)","v":{"v":26400,"d":"26,400"}},{"$f":"ごみ搬入量内訳!BC22","v":{"v":2416,"d":"2,416"}},{"$f":"資源化量内訳!BO22","v":322},{"v":29138,"d":"29,138"},{"v":938.75840196502,"d":"939"},{"$f":"IF(D22<>0,(ごみ搬入量内訳!BR22+ごみ処理概要!J22)/ごみ処理概要!D22/365*1000000,\"-\")","v":{"v":729.6657384756596,"d":"730"}},{"$f":"IF(D22<>0,ごみ搬入量内訳!CM22/ごみ処理概要!D22/365*1000000,\"-\")","v":{"v":209.0926634893603,"d":"209"}},{"$f":"ごみ搬入量内訳!DH22","v":0},{"$f":"ごみ処理量内訳!E22","v":{"v":23433,"d":"23,433"}},{"$f":"ごみ処理量内訳!N22","v":0},{"v":3040,"d":"3,040"},{"$f":"ごみ処理量内訳!G22","v":0},{"$f":"ごみ処理量内訳!L22","v":{"v":2916,"d":"2,916"}},{"$f":"ごみ処理量内訳!H22","v":84},{"$f":"ごみ処理量内訳!I22","v":0},{"$f":"ごみ処理量内訳!J22","v":0},{"$f":"ごみ処理量内訳!K22","v":40},{"$f":"ごみ処理量内訳!M22","v":0},{"$f":"資源化量内訳!Y22","v":{"v":2343,"d":"2,343"}},{"v":28816,"d":"28,816"},{"v":100,"d":"100.0"},{"$f":"施設資源化量内訳!Y22","v":{"v":1234,"d":"1,234"}},{"$f":"施設資源化量内訳!AT22","v":0},{"$f":"施設資源化量内訳!BO22","v":17},{"$f":"施設資源化量内訳!CJ22","v":0},{"$f":"施設資源化量内訳!DE22","v":0},{"$f":"施設資源化量内訳!DZ22","v":32},{"$f":"施設資源化量内訳!EU22","v":{"v":1491,"d":"1,491"}},{"v":2774,"d":"2,774"},{"v":18.666346351842954,"d":"18.7"},{"$f":"IF((AA22+J22)<>0,(資源化量内訳!D22-資源化量内訳!R22-資源化量内訳!T22-資源化量内訳!V22-資源化量内訳!U22)/(AA22+J22)*100,\"-\")","v":{"v":18.666346351842954,"d":"18.7"}},{"$f":"ごみ処理量内訳!AA22","v":0},{"$f":"ごみ処理量内訳!AB22","v":{"v":1694,"d":"1,694"}},{"$f":"ごみ処理量内訳!AC22","v":0},{"v":1694,"d":"1,694"},"081219"]
["茨城県","08220","つくば市",{"v":226253,"d":"226,253"},{"v":226253,"d":"226,253"},0,{"v":8429,"d":"8,429"},{"$f":"SUM(ごみ搬入量内訳!E23,+ごみ搬入量内訳!AD23)","v":{"v":88121,"d":"88,121"}},{"$f":"ごみ搬入量内訳!BC23","v":{"v":3241,"d":"3,241"}},{"$f":"資源化量内訳!BO23","v":{"v":1374,"d":"1,374"}},{"v":92736,"d":"92,736"},{"v":1122.9518851759417,"d":"1,123"},{"$f":"IF(D23<>0,(ごみ搬入量内訳!BR23+ごみ処理概要!J23)/ごみ処理概要!D23/365*1000000,\"-\")","v":{"v":695.2575638291695,"d":"695"}},{"$f":"IF(D23<>0,ごみ搬入量内訳!CM23/ごみ処理概要!D23/365*1000000,\"-\")","v":{"v":427.6943213467721,"d":"428"}},{"$f":"ごみ搬入量内訳!DH23","v":0},{"$f":"ごみ処理量内訳!E23","v":{"v":71254,"d":"71,254"}},{"$f":"ごみ処理量内訳!N23","v":0},{"v":9838,"d":"9,838"},{"$f":"ごみ処理量内訳!G23","v":{"v":4660,"d":"4,660"}},{"$f":"ごみ処理量内訳!L23","v":{"v":5178,"d":"5,178"}},{"$f":"ごみ処理量内訳!H23","v":0},{"$f":"ごみ処理量内訳!I23","v":0},{"$f":"ごみ処理量内訳!J23","v":0},{"$f":"ごみ処理量内訳!K23","v":0},{"$f":"ごみ処理量内訳!M23","v":0},{"$f":"資源化量内訳!Y23","v":{"v":10270,"d":"10,270"}},{"v":91362,"d":"91,362"},{"v":100,"d":"100.0"},{"$f":"施設資源化量内訳!Y23","v":247},{"$f":"施設資源化量内訳!AT23","v":717},{"$f":"施設資源化量内訳!BO23","v":0},{"$f":"施設資源化量内訳!CJ23","v":0},{"$f":"施設資源化量内訳!DE23","v":0},{"$f":"施設資源化量内訳!DZ23","v":0},{"$f":"施設資源化量内訳!EU23","v":{"v":3724,"d":"3,724"}},{"v":4688,"d":"4,688"},{"v":17.61128364389234,"d":"17.6"},{"$f":"IF((AA23+J23)<>0,(資源化量内訳!D23-資源化量内訳!R23-資源化量内訳!T23-資源化量内訳!V23-資源化量内訳!U23)/(AA23+J23)*100,\"-\")","v":{"v":17.61128364389234,"d":"17.6"}},{"$f":"ごみ処理量内訳!AA23","v":0},{"$f":"ごみ処理量内訳!AB23","v":{"v":10892,"d":"10,892"}},{"$f":"ごみ処理量内訳!AC23","v":498},{"v":11390,"d":"11,390"},"081220"]
["茨城県","08221","ひたちなか市",{"v":159499,"d":"159,499"},{"v":159499,"d":"159,499"},0,{"v":1465,"d":"1,465"},{"$f":"SUM(ごみ搬入量内訳!E24,+ごみ搬入量内訳!AD24)","v":{"v":51094,"d":"51,094"}},{"$f":"ごみ搬入量内訳!BC24","v":{"v":2868,"d":"2,868"}},{"$f":"資源化量内訳!BO24","v":{"v":5707,"d":"5,707"}},{"v":59669,"d":"59,669"},{"v":1024.9387916461365,"d":"1,025"},{"$f":"IF(D24<>0,(ごみ搬入量内訳!BR24+ごみ処理概要!J24)/ごみ処理概要!D24/365*1000000,\"-\")","v":{"v":773.6382080636567,"d":"774"}},{"$f":"IF(D24<>0,ごみ搬入量内訳!CM24/ごみ処理概要!D24/365*1000000,\"-\")","v":{"v":251.30058358247965,"d":"251"}},{"$f":"ごみ搬入量内訳!DH24","v":0},{"$f":"ごみ処理量内訳!E24","v":{"v":51146,"d":"51,146"}},{"$f":"ごみ処理量内訳!N24","v":0},{"v":2102,"d":"2,102"},{"$f":"ごみ処理量内訳!G24","v":{"v":2102,"d":"2,102"}},{"$f":"ごみ処理量内訳!L24","v":0},{"$f":"ごみ処理量内訳!H24","v":0},{"$f":"ごみ処理量内訳!I24","v":0},{"$f":"ごみ処理量内訳!J24","v":0},{"$f":"ごみ処理量内訳!K24","v":0},{"$f":"ごみ処理量内訳!M24","v":0},{"$f":"資源化量内訳!Y24","v":340},{"v":53588,"d":"53,588"},{"v":100,"d":"100.0"},{"$f":"施設資源化量内訳!Y24","v":{"v":2480,"d":"2,480"}},{"$f":"施設資源化量内訳!AT24","v":{"v":1152,"d":"1,152"}},{"$f":"施設資源化量内訳!BO24","v":0},{"$f":"施設資源化量内訳!CJ24","v":0},{"$f":"施設資源化量内訳!DE24","v":0},{"$f":"施設資源化量内訳!DZ24","v":0},{"$f":"施設資源化量内訳!EU24","v":0},{"v":3632,"d":"3,632"},{"v":16.323467408719118,"d":"16.3"},{"$f":"IF((AA24+J24)<>0,(資源化量内訳!D24-資源化量内訳!R24-資源化量内訳!T24-資源化量内訳!V24-資源化量内訳!U24)/(AA24+J24)*100,\"-\")","v":{"v":16.323467408719118,"d":"16.3"}},{"$f":"ごみ処理量内訳!AA24","v":0},{"$f":"ごみ処理量内訳!AB24","v":{"v":2592,"d":"2,592"}},{"$f":"ごみ処理量内訳!AC24","v":0},{"v":2592,"d":"2,592"},"081221"]
["茨城県","08222","鹿嶋市",{"v":67754,"d":"67,754"},{"v":67754,"d":"67,754"},0,884,{"$f":"SUM(ごみ搬入量内訳!E25,+ごみ搬入量内訳!AD25)","v":{"v":19628,"d":"19,628"}},{"$f":"ごみ搬入量内訳!BC25","v":{"v":3144,"d":"3,144"}},{"$f":"資源化量内訳!BO25","v":{"v":1139,"d":"1,139"}},{"v":23911,"d":"23,911"},{"v":966.8741187397924,"d":"967"},{"$f":"IF(D25<>0,(ごみ搬入量内訳!BR25+ごみ処理概要!J25)/ごみ処理概要!D25/365*1000000,\"-\")","v":{"v":749.0838128750221,"d":"749"}},{"$f":"IF(D25<>0,ごみ搬入量内訳!CM25/ごみ処理概要!D25/365*1000000,\"-\")","v":{"v":217.79030586477023,"d":"218"}},{"$f":"ごみ搬入量内訳!DH25","v":0},{"$f":"ごみ処理量内訳!E25","v":{"v":1215,"d":"1,215"}},{"$f":"ごみ処理量内訳!N25","v":0},{"v":22772,"d":"22,772"},{"$f":"ごみ処理量内訳!G25","v":{"v":4244,"d":"4,244"}},{"$f":"ごみ処理量内訳!L25","v":439},{"$f":"ごみ処理量内訳!H25","v":0},{"$f":"ごみ処理量内訳!I25","v":0},{"$f":"ごみ処理量内訳!J25","v":0},{"$f":"ごみ処理量内訳!K25","v":{"v":18089,"d":"18,089"}},{"$f":"ごみ処理量内訳!M25","v":0},{"$f":"資源化量内訳!Y25","v":413},{"v":24400,"d":"24,400"},{"v":100,"d":"100.0"},{"$f":"施設資源化量内訳!Y25","v":0},{"$f":"施設資源化量内訳!AT25","v":921},{"$f":"施設資源化量内訳!BO25","v":0},{"$f":"施設資源化量内訳!CJ25","v":0},{"$f":"施設資源化量内訳!DE25","v":0},{"$f":"施設資源化量内訳!DZ25","v":{"v":11028,"d":"11,028"}},{"$f":"施設資源化量内訳!EU25","v":148},{"v":12097,"d":"12,097"},{"v":53.44375269196131,"d":"53.4"},{"$f":"IF((AA25+J25)<>0,(資源化量内訳!D25-資源化量内訳!R25-資源化量内訳!T25-資源化量内訳!V25-資源化量内訳!U25)/(AA25+J25)*100,\"-\")","v":{"v":10.403696307607973,"d":"10.4"}},{"$f":"ごみ処理量内訳!AA25","v":0},{"$f":"ごみ処理量内訳!AB25","v":101},{"$f":"ごみ処理量内訳!AC25","v":143},244,"081222"]
["茨城県","08223","潮来市",{"v":29037,"d":"29,037"},{"v":29037,"d":"29,037"},0,314,{"$f":"SUM(ごみ搬入量内訳!E26,+ごみ搬入量内訳!AD26)","v":{"v":9727,"d":"9,727"}},{"$f":"ごみ搬入量内訳!BC26","v":{"v":1159,"d":"1,159"}},{"$f":"資源化量内訳!BO26","v":40},{"v":10926,"d":"10,926"},{"v":1030.9001127989277,"d":"1,031"},{"$f":"IF(D26<>0,(ごみ搬入量内訳!BR26+ごみ処理概要!J26)/ごみ処理概要!D26/365*1000000,\"-\")","v":{"v":716.1387384352793,"d":"716"}},{"$f":"IF(D26<>0,ごみ搬入量内訳!CM26/ごみ処理概要!D26/365*1000000,\"-\")","v":{"v":314.7613743636485,"d":"315"}},{"$f":"ごみ搬入量内訳!DH26","v":0},{"$f":"ごみ処理量内訳!E26","v":{"v":7882,"d":"7,882"}},{"$f":"ごみ処理量内訳!N26","v":0},{"v":2056,"d":"2,056"},{"$f":"ごみ処理量内訳!G26","v":793},{"$f":"ごみ処理量内訳!L26","v":{"v":1263,"d":"1,263"}},{"$f":"ごみ処理量内訳!H26","v":0},{"$f":"ごみ処理量内訳!I26","v":0},{"$f":"ごみ処理量内訳!J26","v":0},{"$f":"ごみ処理量内訳!K26","v":0},{"$f":"ごみ処理量内訳!M26","v":0},{"$f":"資源化量内訳!Y26","v":948},{"v":10886,"d":"10,886"},{"v":100,"d":"100.0"},{"$f":"施設資源化量内訳!Y26","v":{"v":1150,"d":"1,150"}},{"$f":"施設資源化量内訳!AT26","v":157},{"$f":"施設資源化量内訳!BO26","v":0},{"$f":"施設資源化量内訳!CJ26","v":0},{"$f":"施設資源化量内訳!DE26","v":0},{"$f":"施設資源化量内訳!DZ26","v":0},{"$f":"施設資源化量内訳!EU26","v":{"v":1236,"d":"1,236"}},{"v":2543,"d":"2,543"},{"v":32.31740801757276,"d":"32.3"},{"$f":"IF((AA26+J26)<>0,(資源化量内訳!D26-資源化量内訳!R26-資源化量内訳!T26-資源化量内訳!V26-資源化量内訳!U26)/(AA26+J26)*100,\"-\")","v":{"v":32.31740801757276,"d":"32.3"}},{"$f":"ごみ処理量内訳!AA26","v":0},{"$f":"ごみ処理量内訳!AB26","v":0},{"$f":"ごみ処理量内訳!AC26","v":440},440,"081223"]
["茨城県","08224","守谷市",{"v":66067,"d":"66,067"},{"v":66067,"d":"66,067"},0,756,{"$f":"SUM(ごみ搬入量内訳!E27,+ごみ搬入量内訳!AD27)","v":{"v":18397,"d":"18,397"}},{"$f":"ごみ搬入量内訳!BC27","v":341},{"$f":"資源化量内訳!BO27","v":911},{"v":19649,"d":"19,649"},{"v":814.8224788824795,"d":"815"},{"$f":"IF(D27<>0,(ごみ搬入量内訳!BR27+ごみ処理概要!J27)/ごみ処理概要!D27/365*1000000,\"-\")","v":{"v":648.3663014569477,"d":"648"}},{"$f":"IF(D27<>0,ごみ搬入量内訳!CM27/ごみ処理概要!D27/365*1000000,\"-\")","v":{"v":166.4561774255317,"d":"166"}},{"$f":"ごみ搬入量内訳!DH27","v":0},{"$f":"ごみ処理量内訳!E27","v":{"v":13448,"d":"13,448"}},{"$f":"ごみ処理量内訳!N27","v":0},{"v":4208,"d":"4,208"},{"$f":"ごみ処理量内訳!G27","v":449},{"$f":"ごみ処理量内訳!L27","v":{"v":3269,"d":"3,269"}},{"$f":"ごみ処理量内訳!H27","v":490},{"$f":"ごみ処理量内訳!I27","v":0},{"$f":"ごみ処理量内訳!J27","v":0},{"$f":"ごみ処理量内訳!K27","v":0},{"$f":"ごみ処理量内訳!M27","v":0},{"$f":"資源化量内訳!Y27","v":{"v":1082,"d":"1,082"}},{"v":18738,"d":"18,738"},{"v":100,"d":"100.0"},{"$f":"施設資源化量内訳!Y27","v":929},{"$f":"施設資源化量内訳!AT27","v":194},{"$f":"施設資源化量内訳!BO27","v":7},{"$f":"施設資源化量内訳!CJ27","v":0},{"$f":"施設資源化量内訳!DE27","v":0},{"$f":"施設資源化量内訳!DZ27","v":0},{"$f":"施設資源化量内訳!EU27","v":941},{"v":2071,"d":"2,071"},{"v":20.682986411522215,"d":"20.7"},{"$f":"IF((AA27+J27)<>0,(資源化量内訳!D27-資源化量内訳!R27-資源化量内訳!T27-資源化量内訳!V27-資源化量内訳!U27)/(AA27+J27)*100,\"-\")","v":{"v":20.682986411522215,"d":"20.7"}},{"$f":"ごみ処理量内訳!AA27","v":0},{"$f":"ごみ処理量内訳!AB27","v":640},{"$f":"ごみ処理量内訳!AC27","v":0},640,"081224"]
["茨城県","08225","常陸大宮市",{"v":43388,"d":"43,388"},{"v":43388,"d":"43,388"},0,257,{"$f":"SUM(ごみ搬入量内訳!E28,+ごみ搬入量内訳!AD28)","v":{"v":12777,"d":"12,777"}},{"$f":"ごみ搬入量内訳!BC28","v":{"v":1416,"d":"1,416"}},{"$f":"資源化量内訳!BO28","v":273},{"v":14466,"d":"14,466"},{"v":913.452491756448,"d":"913"},{"$f":"IF(D28<>0,(ごみ搬入量内訳!BR28+ごみ処理概要!J28)/ごみ処理概要!D28/365*1000000,\"-\")","v":{"v":695.7292654619484,"d":"696"}},{"$f":"IF(D28<>0,ごみ搬入量内訳!CM28/ごみ処理概要!D28/365*1000000,\"-\")","v":{"v":217.72322629449974,"d":"218"}},{"$f":"ごみ搬入量内訳!DH28","v":0},{"$f":"ごみ処理量内訳!E28","v":{"v":11800,"d":"11,800"}},{"$f":"ごみ処理量内訳!N28","v":0},{"v":2393,"d":"2,393"},{"$f":"ごみ処理量内訳!G28","v":{"v":1165,"d":"1,165"}},{"$f":"ごみ処理量内訳!L28","v":{"v":1228,"d":"1,228"}},{"$f":"ごみ処理量内訳!H28","v":0},{"$f":"ごみ処理量内訳!I28","v":0},{"$f":"ごみ処理量内訳!J28","v":0},{"$f":"ごみ処理量内訳!K28","v":0},{"$f":"ごみ処理量内訳!M28","v":0},{"$f":"資源化量内訳!Y28","v":0},{"v":14193,"d":"14,193"},{"v":100,"d":"100.0"},{"$f":"施設資源化量内訳!Y28","v":53},{"$f":"施設資源化量内訳!AT28","v":544},{"$f":"施設資源化量内訳!BO28","v":0},{"$f":"施設資源化量内訳!CJ28","v":0},{"$f":"施設資源化量内訳!DE28","v":0},{"$f":"施設資源化量内訳!DZ28","v":0},{"$f":"施設資源化量内訳!EU28","v":{"v":1204,"d":"1,204"}},{"v":1801,"d":"1,801"},{"v":14.337066224249964,"d":"14.3"},{"$f":"IF((AA28+J28)<>0,(資源化量内訳!D28-資源化量内訳!R28-資源化量内訳!T28-資源化量内訳!V28-資源化量内訳!U28)/(AA28+J28)*100,\"-\")","v":{"v":14.337066224249964,"d":"14.3"}},{"$f":"ごみ処理量内訳!AA28","v":0},{"$f":"ごみ処理量内訳!AB28","v":{"v":1711,"d":"1,711"}},{"$f":"ごみ処理量内訳!AC28","v":121},{"v":1832,"d":"1,832"},"081225"]
["茨城県","08226","那珂市",{"v":55446,"d":"55,446"},{"v":55446,"d":"55,446"},0,216,{"$f":"SUM(ごみ搬入量内訳!E29,+ごみ搬入量内訳!AD29)","v":{"v":14100,"d":"14,100"}},{"$f":"ごみ搬入量内訳!BC29","v":{"v":2672,"d":"2,672"}},{"$f":"資源化量内訳!BO29","v":194},{"v":16966,"d":"16,966"},{"v":838.3326440288195,"d":"838"},{"$f":"IF(D29<>0,(ごみ搬入量内訳!BR29+ごみ処理概要!J29)/ごみ処理概要!D29/365*1000000,\"-\")","v":{"v":681.1020373271982,"d":"681"}},{"$f":"IF(D29<>0,ごみ搬入量内訳!CM29/ごみ処理概要!D29/365*1000000,\"-\")","v":{"v":157.23060670162107,"d":"157"}},{"$f":"ごみ搬入量内訳!DH29","v":0},{"$f":"ごみ処理量内訳!E29","v":{"v":14532,"d":"14,532"}},{"$f":"ごみ処理量内訳!N29","v":0},{"v":2240,"d":"2,240"},{"$f":"ごみ処理量内訳!G29","v":979},{"$f":"ごみ処理量内訳!L29","v":{"v":1261,"d":"1,261"}},{"$f":"ごみ処理量内訳!H29","v":0},{"$f":"ごみ処理量内訳!I29","v":0},{"$f":"ごみ処理量内訳!J29","v":0},{"$f":"ごみ処理量内訳!K29","v":0},{"$f":"ごみ処理量内訳!M29","v":0},{"$f":"資源化量内訳!Y29","v":0},{"v":16772,"d":"16,772"},{"v":100,"d":"100.0"},{"$f":"施設資源化量内訳!Y29","v":65},{"$f":"施設資源化量内訳!AT29","v":480},{"$f":"施設資源化量内訳!BO29","v":0},{"$f":"施設資源化量内訳!CJ29","v":0},{"$f":"施設資源化量内訳!DE29","v":0},{"$f":"施設資源化量内訳!DZ29","v":0},{"$f":"施設資源化量内訳!EU29","v":{"v":1225,"d":"1,225"}},{"v":1770,"d":"1,770"},{"v":11.576093363196982,"d":"11.6"},{"$f":"IF((AA29+J29)<>0,(資源化量内訳!D29-資源化量内訳!R29-資源化量内訳!T29-資源化量内訳!V29-資源化量内訳!U29)/(AA29+J29)*100,\"-\")","v":{"v":11.576093363196982,"d":"11.6"}},{"$f":"ごみ処理量内訳!AA29","v":0},{"$f":"ごみ処理量内訳!AB29","v":{"v":2109,"d":"2,109"}},{"$f":"ごみ処理量内訳!AC29","v":89},{"v":2198,"d":"2,198"},"081226"]
["茨城県","08227","筑西市",{"v":105067,"d":"105,067"},{"v":105067,"d":"105,067"},0,{"v":2122,"d":"2,122"},{"$f":"SUM(ごみ搬入量内訳!E30,+ごみ搬入量内訳!AD30)","v":{"v":30092,"d":"30,092"}},{"$f":"ごみ搬入量内訳!BC30","v":889},{"$f":"資源化量内訳!BO30","v":123},{"v":31104,"d":"31,104"},{"v":811.0675888353563,"d":"811"},{"$f":"IF(D30<>0,(ごみ搬入量内訳!BR30+ごみ処理概要!J30)/ごみ処理概要!D30/365*1000000,\"-\")","v":{"v":692.8912027563364,"d":"693"}},{"$f":"IF(D30<>0,ごみ搬入量内訳!CM30/ごみ処理概要!D30/365*1000000,\"-\")","v":{"v":118.17638607901988,"d":"118"}},{"$f":"ごみ搬入量内訳!DH30","v":0},{"$f":"ごみ処理量内訳!E30","v":{"v":27893,"d":"27,893"}},{"$f":"ごみ処理量内訳!N30","v":0},{"v":1986,"d":"1,986"},{"$f":"ごみ処理量内訳!G30","v":{"v":1821,"d":"1,821"}},{"$f":"ごみ処理量内訳!L30","v":165},{"$f":"ごみ処理量内訳!H30","v":0},{"$f":"ごみ処理量内訳!I30","v":0},{"$f":"ごみ処理量内訳!J30","v":0},{"$f":"ごみ処理量内訳!K30","v":0},{"$f":"ごみ処理量内訳!M30","v":0},{"$f":"資源化量内訳!Y30","v":{"v":2385,"d":"2,385"}},{"v":32264,"d":"32,264"},{"v":100,"d":"100.0"},{"$f":"施設資源化量内訳!Y30","v":{"v":2175,"d":"2,175"}},{"$f":"施設資源化量内訳!AT30","v":559},{"$f":"施設資源化量内訳!BO30","v":0},{"$f":"施設資源化量内訳!CJ30","v":0},{"$f":"施設資源化量内訳!DE30","v":0},{"$f":"施設資源化量内訳!DZ30","v":0},{"$f":"施設資源化量内訳!EU30","v":165},{"v":2899,"d":"2,899"},{"v":16.694970204094236,"d":"16.7"},{"$f":"IF((AA30+J30)<>0,(資源化量内訳!D30-資源化量内訳!R30-資源化量内訳!T30-資源化量内訳!V30-資源化量内訳!U30)/(AA30+J30)*100,\"-\")","v":{"v":16.694970204094236,"d":"16.7"}},{"$f":"ごみ処理量内訳!AA30","v":0},{"$f":"ごみ処理量内訳!AB30","v":{"v":1392,"d":"1,392"}},{"$f":"ごみ処理量内訳!AC30","v":0},{"v":1392,"d":"1,392"},"081227"]
["茨城県","08228","坂東市",{"v":55783,"d":"55,783"},{"v":55783,"d":"55,783"},0,{"v":2082,"d":"2,082"},{"$f":"SUM(ごみ搬入量内訳!E31,+ごみ搬入量内訳!AD31)","v":{"v":15029,"d":"15,029"}},{"$f":"ごみ搬入量内訳!BC31","v":{"v":1597,"d":"1,597"}},{"$f":"資源化量内訳!BO31","v":957},{"v":17583,"d":"17,583"},{"v":863.571388052382,"d":"864"},{"$f":"IF(D31<>0,(ごみ搬入量内訳!BR31+ごみ処理概要!J31)/ごみ処理概要!D31/365*1000000,\"-\")","v":{"v":655.8682998379975,"d":"656"}},{"$f":"IF(D31<>0,ごみ搬入量内訳!CM31/ごみ処理概要!D31/365*1000000,\"-\")","v":{"v":207.70308821438456,"d":"208"}},{"$f":"ごみ搬入量内訳!DH31","v":0},{"$f":"ごみ処理量内訳!E31","v":{"v":12945,"d":"12,945"}},{"$f":"ごみ処理量内訳!N31","v":0},{"v":1939,"d":"1,939"},{"$f":"ごみ処理量内訳!G31","v":{"v":1136,"d":"1,136"}},{"$f":"ごみ処理量内訳!L31","v":803},{"$f":"ごみ処理量内訳!H31","v":0},{"$f":"ごみ処理量内訳!I31","v":0},{"$f":"ごみ処理量内訳!J31","v":0},{"$f":"ごみ処理量内訳!K31","v":0},{"$f":"ごみ処理量内訳!M31","v":0},{"$f":"資源化量内訳!Y31","v":{"v":1742,"d":"1,742"}},{"v":16626,"d":"16,626"},{"v":100,"d":"100.0"},{"$f":"施設資源化量内訳!Y31","v":747},{"$f":"施設資源化量内訳!AT31","v":141},{"$f":"施設資源化量内訳!BO31","v":0},{"$f":"施設資源化量内訳!CJ31","v":0},{"$f":"施設資源化量内訳!DE31","v":0},{"$f":"施設資源化量内訳!DZ31","v":0},{"$f":"施設資源化量内訳!EU31","v":716},{"v":1604,"d":"1,604"},{"v":24.47250184837627,"d":"24.5"},{"$f":"IF((AA31+J31)<>0,(資源化量内訳!D31-資源化量内訳!R31-資源化量内訳!T31-資源化量内訳!V31-資源化量内訳!U31)/(AA31+J31)*100,\"-\")","v":{"v":24.47250184837627,"d":"24.5"}},{"$f":"ごみ処理量内訳!AA31","v":0},{"$f":"ごみ処理量内訳!AB31","v":748},{"$f":"ごみ処理量内訳!AC31","v":0},748,"081228"]
["茨城県","08229","稲敷市",{"v":42217,"d":"42,217"},{"v":42217,"d":"42,217"},0,923,{"$f":"SUM(ごみ搬入量内訳!E32,+ごみ搬入量内訳!AD32)","v":{"v":12779,"d":"12,779"}},{"$f":"ごみ搬入量内訳!BC32","v":{"v":1626,"d":"1,626"}},{"$f":"資源化量内訳!BO32","v":321},{"v":14726,"d":"14,726"},{"v":955.6625406696841,"d":"956"},{"$f":"IF(D32<>0,(ごみ搬入量内訳!BR32+ごみ処理概要!J32)/ごみ処理概要!D32/365*1000000,\"-\")","v":{"v":704.1245800805427,"d":"704"}},{"$f":"IF(D32<>0,ごみ搬入量内訳!CM32/ごみ処理概要!D32/365*1000000,\"-\")","v":{"v":251.53796058914136,"d":"252"}},{"$f":"ごみ搬入量内訳!DH32","v":0},{"$f":"ごみ処理量内訳!E32","v":{"v":11121,"d":"11,121"}},{"$f":"ごみ処理量内訳!N32","v":0},{"v":1910,"d":"1,910"},{"$f":"ごみ処理量内訳!G32","v":{"v":1352,"d":"1,352"}},{"$f":"ごみ処理量内訳!L32","v":558},{"$f":"ごみ処理量内訳!H32","v":0},{"$f":"ごみ処理量内訳!I32","v":0},{"$f":"ごみ処理量内訳!J32","v":0},{"$f":"ごみ処理量内訳!K32","v":0},{"$f":"ごみ処理量内訳!M32","v":0},{"$f":"資源化量内訳!Y32","v":{"v":1924,"d":"1,924"}},{"v":14955,"d":"14,955"},{"v":100,"d":"100.0"},{"$f":"施設資源化量内訳!Y32","v":103},{"$f":"施設資源化量内訳!AT32","v":0},{"$f":"施設資源化量内訳!BO32","v":0},{"$f":"施設資源化量内訳!CJ32","v":0},{"$f":"施設資源化量内訳!DE32","v":0},{"$f":"施設資源化量内訳!DZ32","v":0},{"$f":"施設資源化量内訳!EU32","v":405},508,{"v":18.021733438072793,"d":"18.0"},{"$f":"IF((AA32+J32)<>0,(資源化量内訳!D32-資源化量内訳!R32-資源化量内訳!T32-資源化量内訳!V32-資源化量内訳!U32)/(AA32+J32)*100,\"-\")","v":{"v":18.021733438072793,"d":"18.0"}},{"$f":"ごみ処理量内訳!AA32","v":0},{"$f":"ごみ処理量内訳!AB32","v":{"v":1757,"d":"1,757"}},{"$f":"ごみ処理量内訳!AC32","v":153},{"v":1910,"d":"1,910"},"081229"]
["茨城県","08230","かすみがうら市",{"v":42761,"d":"42,761"},{"v":42761,"d":"42,761"},0,{"v":1027,"d":"1,027"},{"$f":"SUM(ごみ搬入量内訳!E33,+ごみ搬入量内訳!AD33)","v":{"v":15082,"d":"15,082"}},{"$f":"ごみ搬入量内訳!BC33","v":{"v":1518,"d":"1,518"}},{"$f":"資源化量内訳!BO33","v":140},{"v":16740,"d":"16,740"},{"v":1072.54305789458,"d":"1,073"},{"$f":"IF(D33<>0,(ごみ搬入量内訳!BR33+ごみ処理概要!J33)/ごみ処理概要!D33/365*1000000,\"-\")","v":{"v":737.5815819881961,"d":"738"}},{"$f":"IF(D33<>0,ごみ搬入量内訳!CM33/ごみ処理概要!D33/365*1000000,\"-\")","v":{"v":334.9614759063837,"d":"335"}},{"$f":"ごみ搬入量内訳!DH33","v":0},{"$f":"ごみ処理量内訳!E33","v":{"v":12917,"d":"12,917"}},{"$f":"ごみ処理量内訳!N33","v":0},{"v":2060,"d":"2,060"},{"$f":"ごみ処理量内訳!G33","v":{"v":1155,"d":"1,155"}},{"$f":"ごみ処理量内訳!L33","v":528},{"$f":"ごみ処理量内訳!H33","v":377},{"$f":"ごみ処理量内訳!I33","v":0},{"$f":"ごみ処理量内訳!J33","v":0},{"$f":"ごみ処理量内訳!K33","v":0},{"$f":"ごみ処理量内訳!M33","v":0},{"$f":"資源化量内訳!Y33","v":{"v":1625,"d":"1,625"}},{"v":16602,"d":"16,602"},{"v":100,"d":"100.0"},{"$f":"施設資源化量内訳!Y33","v":318},{"$f":"施設資源化量内訳!AT33","v":463},{"$f":"施設資源化量内訳!BO33","v":377},{"$f":"施設資源化量内訳!CJ33","v":0},{"$f":"施設資源化量内訳!DE33","v":0},{"$f":"施設資源化量内訳!DZ33","v":0},{"$f":"施設資源化量内訳!EU33","v":367},{"v":1525,"d":"1,525"},{"v":19.65117668140007,"d":"19.7"},{"$f":"IF((AA33+J33)<>0,(資源化量内訳!D33-資源化量内訳!R33-資源化量内訳!T33-資源化量内訳!V33-資源化量内訳!U33)/(AA33+J33)*100,\"-\")","v":{"v":19.65117668140007,"d":"19.7"}},{"$f":"ごみ処理量内訳!AA33","v":0},{"$f":"ごみ処理量内訳!AB33","v":{"v":1457,"d":"1,457"}},{"$f":"ごみ処理量内訳!AC33","v":192},{"v":1649,"d":"1,649"},"081230"]
["茨城県","08231","桜川市",{"v":43829,"d":"43,829"},{"v":43829,"d":"43,829"},0,316,{"$f":"SUM(ごみ搬入量内訳!E34,+ごみ搬入量内訳!AD34)","v":{"v":10843,"d":"10,843"}},{"$f":"ごみ搬入量内訳!BC34","v":104},{"$f":"資源化量内訳!BO34","v":0},{"v":10947,"d":"10,947"},{"v":684.2907851403821,"d":"684"},{"$f":"IF(D34<>0,(ごみ搬入量内訳!BR34+ごみ処理概要!J34)/ごみ処理概要!D34/365*1000000,\"-\")","v":{"v":569.6484813176489,"d":"570"}},{"$f":"IF(D34<>0,ごみ搬入量内訳!CM34/ごみ処理概要!D34/365*1000000,\"-\")","v":{"v":114.64230382273324,"d":"115"}},{"$f":"ごみ搬入量内訳!DH34","v":0},{"$f":"ごみ処理量内訳!E34","v":{"v":10270,"d":"10,270"}},{"$f":"ごみ処理量内訳!N34","v":0},105,{"$f":"ごみ処理量内訳!G34","v":0},{"$f":"ごみ処理量内訳!L34","v":105},{"$f":"ごみ処理量内訳!H34","v":0},{"$f":"ごみ処理量内訳!I34","v":0},{"$f":"ごみ処理量内訳!J34","v":0},{"$f":"ごみ処理量内訳!K34","v":0},{"$f":"ごみ処理量内訳!M34","v":0},{"$f":"資源化量内訳!Y34","v":0},{"v":10375,"d":"10,375"},{"v":100,"d":"100.0"},{"$f":"施設資源化量内訳!Y34","v":{"v":1592,"d":"1,592"}},{"$f":"施設資源化量内訳!AT34","v":0},{"$f":"施設資源化量内訳!BO34","v":0},{"$f":"施設資源化量内訳!CJ34","v":0},{"$f":"施設資源化量内訳!DE34","v":0},{"$f":"施設資源化量内訳!DZ34","v":0},{"$f":"施設資源化量内訳!EU34","v":105},{"v":1697,"d":"1,697"},{"v":16.356626506024096,"d":"16.4"},{"$f":"IF((AA34+J34)<>0,(資源化量内訳!D34-資源化量内訳!R34-資源化量内訳!T34-資源化量内訳!V34-資源化量内訳!U34)/(AA34+J34)*100,\"-\")","v":{"v":16.356626506024096,"d":"16.4"}},{"$f":"ごみ処理量内訳!AA34","v":0},{"$f":"ごみ処理量内訳!AB34","v":528},{"$f":"ごみ処理量内訳!AC34","v":0},528,"081231"]
["茨城県","08232","神栖市",{"v":94956,"d":"94,956"},{"v":94956,"d":"94,956"},0,{"v":2251,"d":"2,251"},{"$f":"SUM(ごみ搬入量内訳!E35,+ごみ搬入量内訳!AD35)","v":{"v":33089,"d":"33,089"}},{"$f":"ごみ搬入量内訳!BC35","v":{"v":3525,"d":"3,525"}},{"$f":"資源化量内訳!BO35","v":{"v":1079,"d":"1,079"}},{"v":37693,"d":"37,693"},{"v":1087.5404729631084,"d":"1,088"},{"$f":"IF(D35<>0,(ごみ搬入量内訳!BR35+ごみ処理概要!J35)/ごみ処理概要!D35/365*1000000,\"-\")","v":{"v":691.9426849176576,"d":"692"}},{"$f":"IF(D35<>0,ごみ搬入量内訳!CM35/ごみ処理概要!D35/365*1000000,\"-\")","v":{"v":395.5977880454509,"d":"396"}},{"$f":"ごみ搬入量内訳!DH35","v":0},{"$f":"ごみ処理量内訳!E35","v":0},{"$f":"ごみ処理量内訳!N35","v":0},{"v":27078,"d":"27,078"},{"$f":"ごみ処理量内訳!G35","v":0},{"$f":"ごみ処理量内訳!L35","v":{"v":5104,"d":"5,104"}},{"$f":"ごみ処理量内訳!H35","v":0},{"$f":"ごみ処理量内訳!I35","v":0},{"$f":"ごみ処理量内訳!J35","v":0},{"$f":"ごみ処理量内訳!K35","v":{"v":21974,"d":"21,974"}},{"$f":"ごみ処理量内訳!M35","v":0},{"$f":"資源化量内訳!Y35","v":{"v":9536,"d":"9,536"}},{"v":36614,"d":"36,614"},{"v":100,"d":"100.0"},{"$f":"施設資源化量内訳!Y35","v":0},{"$f":"施設資源化量内訳!AT35","v":0},{"$f":"施設資源化量内訳!BO35","v":0},{"$f":"施設資源化量内訳!CJ35","v":0},{"$f":"施設資源化量内訳!DE35","v":0},{"$f":"施設資源化量内訳!DZ35","v":{"v":14155,"d":"14,155"}},{"$f":"施設資源化量内訳!EU35","v":{"v":1758,"d":"1,758"}},{"v":15913,"d":"15,913"},{"v":70.37911548563393,"d":"70.4"},{"$f":"IF((AA35+J35)<>0,(資源化量内訳!D35-資源化量内訳!R35-資源化量内訳!T35-資源化量内訳!V35-資源化量内訳!U35)/(AA35+J35)*100,\"-\")","v":{"v":32.825723609158196,"d":"32.8"}},{"$f":"ごみ処理量内訳!AA35","v":0},{"$f":"ごみ処理量内訳!AB35","v":261},{"$f":"ごみ処理量内訳!AC35","v":558},819,"081232"]
["茨城県","08233","行方市",{"v":36316,"d":"36,316"},{"v":36316,"d":"36,316"},0,948,{"$f":"SUM(ごみ搬入量内訳!E36,+ごみ搬入量内訳!AD36)","v":{"v":8910,"d":"8,910"}},{"$f":"ごみ搬入量内訳!BC36","v":{"v":1751,"d":"1,751"}},{"$f":"資源化量内訳!BO36","v":114},{"v":10775,"d":"10,775"},{"v":812.8799412161438,"d":"813"},{"$f":"IF(D36<>0,(ごみ搬入量内訳!BR36+ごみ処理概要!J36)/ごみ処理概要!D36/365*1000000,\"-\")","v":{"v":626.8417105860732,"d":"627"}},{"$f":"IF(D36<>0,ごみ搬入量内訳!CM36/ごみ処理概要!D36/365*1000000,\"-\")","v":{"v":186.03823063007061,"d":"186"}},{"$f":"ごみ搬入量内訳!DH36","v":0},{"$f":"ごみ処理量内訳!E36","v":{"v":9098,"d":"9,098"}},{"$f":"ごみ処理量内訳!N36","v":0},{"v":1250,"d":"1,250"},{"$f":"ごみ処理量内訳!G36","v":{"v":1250,"d":"1,250"}},{"$f":"ごみ処理量内訳!L36","v":0},{"$f":"ごみ処理量内訳!H36","v":0},{"$f":"ごみ処理量内訳!I36","v":0},{"$f":"ごみ処理量内訳!J36","v":0},{"$f":"ごみ処理量内訳!K36","v":0},{"$f":"ごみ処理量内訳!M36","v":0},{"$f":"資源化量内訳!Y36","v":313},{"v":10661,"d":"10,661"},{"v":100,"d":"100.0"},{"$f":"施設資源化量内訳!Y36","v":0},{"$f":"施設資源化量内訳!AT36","v":725},{"$f":"施設資源化量内訳!BO36","v":0},{"$f":"施設資源化量内訳!CJ36","v":0},{"$f":"施設資源化量内訳!DE36","v":0},{"$f":"施設資源化量内訳!DZ36","v":0},{"$f":"施設資源化量内訳!EU36","v":0},725,{"v":10.691415313225058,"d":"10.7"},{"$f":"IF((AA36+J36)<>0,(資源化量内訳!D36-資源化量内訳!R36-資源化量内訳!T36-資源化量内訳!V36-資源化量内訳!U36)/(AA36+J36)*100,\"-\")","v":{"v":10.691415313225058,"d":"10.7"}},{"$f":"ごみ処理量内訳!AA36","v":0},{"$f":"ごみ処理量内訳!AB36","v":{"v":1285,"d":"1,285"}},{"$f":"ごみ処理量内訳!AC36","v":362},{"v":1647,"d":"1,647"},"081233"]
["茨城県","08234","鉾田市",{"v":50279,"d":"50,279"},{"v":50279,"d":"50,279"},0,{"v":2201,"d":"2,201"},{"$f":"SUM(ごみ搬入量内訳!E37,+ごみ搬入量内訳!AD37)","v":{"v":10190,"d":"10,190"}},{"$f":"ごみ搬入量内訳!BC37","v":{"v":1969,"d":"1,969"}},{"$f":"資源化量内訳!BO37","v":0},{"v":12159,"d":"12,159"},{"v":662.549548859828,"d":"663"},{"$f":"IF(D37<>0,(ごみ搬入量内訳!BR37+ごみ処理概要!J37)/ごみ処理概要!D37/365*1000000,\"-\")","v":{"v":569.5343272212289,"d":"570"}},{"$f":"IF(D37<>0,ごみ搬入量内訳!CM37/ごみ処理概要!D37/365*1000000,\"-\")","v":{"v":93.01522163859909,"d":"93"}},{"$f":"ごみ搬入量内訳!DH37","v":0},{"$f":"ごみ処理量内訳!E37","v":{"v":10837,"d":"10,837"}},{"$f":"ごみ処理量内訳!N37","v":0},{"v":1068,"d":"1,068"},{"$f":"ごみ処理量内訳!G37","v":253},{"$f":"ごみ処理量内訳!L37","v":815},{"$f":"ごみ処理量内訳!H37","v":0},{"$f":"ごみ処理量内訳!I37","v":0},{"$f":"ごみ処理量内訳!J37","v":0},{"$f":"ごみ処理量内訳!K37","v":0},{"$f":"ごみ処理量内訳!M37","v":0},{"$f":"資源化量内訳!Y37","v":305},{"v":12210,"d":"12,210"},{"v":100,"d":"100.0"},{"$f":"施設資源化量内訳!Y37","v":{"v":1010,"d":"1,010"}},{"$f":"施設資源化量内訳!AT37","v":154},{"$f":"施設資源化量内訳!BO37","v":0},{"$f":"施設資源化量内訳!CJ37","v":0},{"$f":"施設資源化量内訳!DE37","v":0},{"$f":"施設資源化量内訳!DZ37","v":0},{"$f":"施設資源化量内訳!EU37","v":815},{"v":1979,"d":"1,979"},{"v":18.70597870597871,"d":"18.7"},{"$f":"IF((AA37+J37)<>0,(資源化量内訳!D37-資源化量内訳!R37-資源化量内訳!T37-資源化量内訳!V37-資源化量内訳!U37)/(AA37+J37)*100,\"-\")","v":{"v":18.70597870597871,"d":"18.7"}},{"$f":"ごみ処理量内訳!AA37","v":0},{"$f":"ごみ処理量内訳!AB37","v":429},{"$f":"ごみ処理量内訳!AC37","v":67},496,"081234"]
["茨城県","08235","つくばみらい市",{"v":50836,"d":"50,836"},{"v":50836,"d":"50,836"},0,470,{"$f":"SUM(ごみ搬入量内訳!E38,+ごみ搬入量内訳!AD38)","v":{"v":12761,"d":"12,761"}},{"$f":"ごみ搬入量内訳!BC38","v":114},{"$f":"資源化量内訳!BO38","v":386},{"v":13261,"d":"13,261"},{"v":714.6806760822069,"d":"715"},{"$f":"IF(D38<>0,(ごみ搬入量内訳!BR38+ごみ処理概要!J38)/ごみ処理概要!D38/365*1000000,\"-\")","v":{"v":614.9239509914772,"d":"615"}},{"$f":"IF(D38<>0,ごみ搬入量内訳!CM38/ごみ処理概要!D38/365*1000000,\"-\")","v":{"v":99.75672509072957,"d":"100"}},{"$f":"ごみ搬入量内訳!DH38","v":0},{"$f":"ごみ処理量内訳!E38","v":{"v":9332,"d":"9,332"}},{"$f":"ごみ処理量内訳!N38","v":0},{"v":2940,"d":"2,940"},{"$f":"ごみ処理量内訳!G38","v":252},{"$f":"ごみ処理量内訳!L38","v":{"v":2518,"d":"2,518"}},{"$f":"ごみ処理量内訳!H38","v":170},{"$f":"ごみ処理量内訳!I38","v":0},{"$f":"ごみ処理量内訳!J38","v":0},{"$f":"ごみ処理量内訳!K38","v":0},{"$f":"ごみ処理量内訳!M38","v":0},{"$f":"資源化量内訳!Y38","v":603},{"v":12875,"d":"12,875"},{"v":100,"d":"100.0"},{"$f":"施設資源化量内訳!Y38","v":645},{"$f":"施設資源化量内訳!AT38","v":109},{"$f":"施設資源化量内訳!BO38","v":3},{"$f":"施設資源化量内訳!CJ38","v":0},{"$f":"施設資源化量内訳!DE38","v":0},{"$f":"施設資源化量内訳!DZ38","v":0},{"$f":"施設資源化量内訳!EU38","v":720},{"v":1477,"d":"1,477"},{"v":18.595882663449213,"d":"18.6"},{"$f":"IF((AA38+J38)<>0,(資源化量内訳!D38-資源化量内訳!R38-資源化量内訳!T38-資源化量内訳!V38-資源化量内訳!U38)/(AA38+J38)*100,\"-\")","v":{"v":18.595882663449213,"d":"18.6"}},{"$f":"ごみ処理量内訳!AA38","v":0},{"$f":"ごみ処理量内訳!AB38","v":444},{"$f":"ごみ処理量内訳!AC38","v":0},444,"081235"]
["茨城県","08236","小美玉市",{"v":52170,"d":"52,170"},{"v":52170,"d":"52,170"},0,{"v":1163,"d":"1,163"},{"$f":"SUM(ごみ搬入量内訳!E39,+ごみ搬入量内訳!AD39)","v":{"v":14606,"d":"14,606"}},{"$f":"ごみ搬入量内訳!BC39","v":{"v":2879,"d":"2,879"}},{"$f":"資源化量内訳!BO39","v":225},{"v":17710,"d":"17,710"},{"v":930.0469224689568,"d":"930"},{"$f":"IF(D39<>0,(ごみ搬入量内訳!BR39+ごみ処理概要!J39)/ごみ処理概要!D39/365*1000000,\"-\")","v":{"v":646.6215559774289,"d":"647"}},{"$f":"IF(D39<>0,ごみ搬入量内訳!CM39/ごみ処理概要!D39/365*1000000,\"-\")","v":{"v":283.42536649152794,"d":"283"}},{"$f":"ごみ搬入量内訳!DH39","v":0},{"$f":"ごみ処理量内訳!E39","v":{"v":14964,"d":"14,964"}},{"$f":"ごみ処理量内訳!N39","v":0},{"v":1385,"d":"1,385"},{"$f":"ごみ処理量内訳!G39","v":845},{"$f":"ごみ処理量内訳!L39","v":540},{"$f":"ごみ処理量内訳!H39","v":0},{"$f":"ごみ処理量内訳!I39","v":0},{"$f":"ごみ処理量内訳!J39","v":0},{"$f":"ごみ処理量内訳!K39","v":0},{"$f":"ごみ処理量内訳!M39","v":0},{"$f":"資源化量内訳!Y39","v":{"v":1349,"d":"1,349"}},{"v":17698,"d":"17,698"},{"v":100,"d":"100.0"},{"$f":"施設資源化量内訳!Y39","v":993},{"$f":"施設資源化量内訳!AT39","v":588},{"$f":"施設資源化量内訳!BO39","v":0},{"$f":"施設資源化量内訳!CJ39","v":0},{"$f":"施設資源化量内訳!DE39","v":0},{"$f":"施設資源化量内訳!DZ39","v":0},{"$f":"施設資源化量内訳!EU39","v":356},{"v":1937,"d":"1,937"},{"v":19.58935446074876,"d":"19.6"},{"$f":"IF((AA39+J39)<>0,(資源化量内訳!D39-資源化量内訳!R39-資源化量内訳!T39-資源化量内訳!V39-資源化量内訳!U39)/(AA39+J39)*100,\"-\")","v":{"v":19.58935446074876,"d":"19.6"}},{"$f":"ごみ処理量内訳!AA39","v":0},{"$f":"ごみ処理量内訳!AB39","v":906},{"$f":"ごみ処理量内訳!AC39","v":98},{"v":1004,"d":"1,004"},"081236"]
["茨城県","08302","茨城町",{"v":33322,"d":"33,322"},{"v":33322,"d":"33,322"},0,495,{"$f":"SUM(ごみ搬入量内訳!E40,+ごみ搬入量内訳!AD40)","v":{"v":10001,"d":"10,001"}},{"$f":"ごみ搬入量内訳!BC40","v":535},{"$f":"資源化量内訳!BO40","v":57},{"v":10593,"d":"10,593"},{"v":870.9536584904621,"d":"871"},{"$f":"IF(D40<>0,(ごみ搬入量内訳!BR40+ごみ処理概要!J40)/ごみ処理概要!D40/365*1000000,\"-\")","v":{"v":626.92548343149,"d":"627"}},{"$f":"IF(D40<>0,ごみ搬入量内訳!CM40/ごみ処理概要!D40/365*1000000,\"-\")","v":{"v":244.0281750589721,"d":"244"}},{"$f":"ごみ搬入量内訳!DH40","v":0},{"$f":"ごみ処理量内訳!E40","v":{"v":8750,"d":"8,750"}},{"$f":"ごみ処理量内訳!N40","v":0},663,{"$f":"ごみ処理量内訳!G40","v":256},{"$f":"ごみ処理量内訳!L40","v":407},{"$f":"ごみ処理量内訳!H40","v":0},{"$f":"ごみ処理量内訳!I40","v":0},{"$f":"ごみ処理量内訳!J40","v":0},{"$f":"ごみ処理量内訳!K40","v":0},{"$f":"ごみ処理量内訳!M40","v":0},{"$f":"資源化量内訳!Y40","v":{"v":1123,"d":"1,123"}},{"v":10536,"d":"10,536"},{"v":100,"d":"100.0"},{"$f":"施設資源化量内訳!Y40","v":0},{"$f":"施設資源化量内訳!AT40","v":132},{"$f":"施設資源化量内訳!BO40","v":0},{"$f":"施設資源化量内訳!CJ40","v":0},{"$f":"施設資源化量内訳!DE40","v":0},{"$f":"施設資源化量内訳!DZ40","v":0},{"$f":"施設資源化量内訳!EU40","v":407},539,{"v":16.22769753610875,"d":"16.2"},{"$f":"IF((AA40+J40)<>0,(資源化量内訳!D40-資源化量内訳!R40-資源化量内訳!T40-資源化量内訳!V40-資源化量内訳!U40)/(AA40+J40)*100,\"-\")","v":{"v":16.22769753610875,"d":"16.2"}},{"$f":"ごみ処理量内訳!AA40","v":0},{"$f":"ごみ処理量内訳!AB40","v":{"v":1107,"d":"1,107"}},{"$f":"ごみ処理量内訳!AC40","v":124},{"v":1231,"d":"1,231"},"081302"]
["茨城県","08309","大洗町",{"v":17431,"d":"17,431"},{"v":17431,"d":"17,431"},0,736,{"$f":"SUM(ごみ搬入量内訳!E41,+ごみ搬入量内訳!AD41)","v":{"v":8298,"d":"8,298"}},{"$f":"ごみ搬入量内訳!BC41","v":839},{"$f":"資源化量内訳!BO41","v":0},{"v":9137,"d":"9,137"},{"v":1436.1124842136862,"d":"1,436"},{"$f":"IF(D41<>0,(ごみ搬入量内訳!BR41+ごみ処理概要!J41)/ごみ処理概要!D41/365*1000000,\"-\")","v":{"v":855.5062111825648,"d":"856"}},{"$f":"IF(D41<>0,ごみ搬入量内訳!CM41/ごみ処理概要!D41/365*1000000,\"-\")","v":{"v":580.6062730311215,"d":"581"}},{"$f":"ごみ搬入量内訳!DH41","v":0},{"$f":"ごみ処理量内訳!E41","v":{"v":8812,"d":"8,812"}},{"$f":"ごみ処理量内訳!N41","v":0},332,{"$f":"ごみ処理量内訳!G41","v":332},{"$f":"ごみ処理量内訳!L41","v":0},{"$f":"ごみ処理量内訳!H41","v":0},{"$f":"ごみ処理量内訳!I41","v":0},{"$f":"ごみ処理量内訳!J41","v":0},{"$f":"ごみ処理量内訳!K41","v":0},{"$f":"ごみ処理量内訳!M41","v":0},{"$f":"資源化量内訳!Y41","v":846},{"v":9990,"d":"9,990"},{"v":100,"d":"100.0"},{"$f":"施設資源化量内訳!Y41","v":29},{"$f":"施設資源化量内訳!AT41","v":205},{"$f":"施設資源化量内訳!BO41","v":0},{"$f":"施設資源化量内訳!CJ41","v":0},{"$f":"施設資源化量内訳!DE41","v":0},{"$f":"施設資源化量内訳!DZ41","v":0},{"$f":"施設資源化量内訳!EU41","v":0},234,{"v":10.81081081081081,"d":"10.8"},{"$f":"IF((AA41+J41)<>0,(資源化量内訳!D41-資源化量内訳!R41-資源化量内訳!T41-資源化量内訳!V41-資源化量内訳!U41)/(AA41+J41)*100,\"-\")","v":{"v":10.81081081081081,"d":"10.8"}},{"$f":"ごみ処理量内訳!AA41","v":0},{"$f":"ごみ処理量内訳!AB41","v":{"v":1323,"d":"1,323"}},{"$f":"ごみ処理量内訳!AC41","v":88},{"v":1411,"d":"1,411"},"081309"]
["茨城県","08310","城里町",{"v":20442,"d":"20,442"},{"v":20442,"d":"20,442"},0,68,{"$f":"SUM(ごみ搬入量内訳!E42,+ごみ搬入量内訳!AD42)","v":{"v":4973,"d":"4,973"}},{"$f":"ごみ搬入量内訳!BC42","v":674},{"$f":"資源化量内訳!BO42","v":242},{"v":5889,"d":"5,889"},{"v":789.2694734048755,"d":"789"},{"$f":"IF(D42<>0,(ごみ搬入量内訳!BR42+ごみ処理概要!J42)/ごみ処理概要!D42/365*1000000,\"-\")","v":{"v":651.0903552047691,"d":"651"}},{"$f":"IF(D42<>0,ごみ搬入量内訳!CM42/ごみ処理概要!D42/365*1000000,\"-\")","v":{"v":138.17911820010642,"d":"138"}},{"$f":"ごみ搬入量内訳!DH42","v":0},{"$f":"ごみ処理量内訳!E42","v":{"v":5027,"d":"5,027"}},{"$f":"ごみ処理量内訳!N42","v":0},603,{"$f":"ごみ処理量内訳!G42","v":303},{"$f":"ごみ処理量内訳!L42","v":300},{"$f":"ごみ処理量内訳!H42","v":0},{"$f":"ごみ処理量内訳!I42","v":0},{"$f":"ごみ処理量内訳!J42","v":0},{"$f":"ごみ処理量内訳!K42","v":0},{"$f":"ごみ処理量内訳!M42","v":0},{"$f":"資源化量内訳!Y42","v":0},{"v":5630,"d":"5,630"},{"v":100,"d":"100.0"},{"$f":"施設資源化量内訳!Y42","v":91},{"$f":"施設資源化量内訳!AT42","v":170},{"$f":"施設資源化量内訳!BO42","v":0},{"$f":"施設資源化量内訳!CJ42","v":0},{"$f":"施設資源化量内訳!DE42","v":0},{"$f":"施設資源化量内訳!DZ42","v":0},{"$f":"施設資源化量内訳!EU42","v":222},483,{"v":12.346730245231608,"d":"12.3"},{"$f":"IF((AA42+J42)<>0,(資源化量内訳!D42-資源化量内訳!R42-資源化量内訳!T42-資源化量内訳!V42-資源化量内訳!U42)/(AA42+J42)*100,\"-\")","v":{"v":12.346730245231608,"d":"12.3"}},{"$f":"ごみ処理量内訳!AA42","v":0},{"$f":"ごみ処理量内訳!AB42","v":531},{"$f":"ごみ処理量内訳!AC42","v":38},569,"081310"]
["茨城県","08341","東海村",{"v":38374,"d":"38,374"},{"v":38374,"d":"38,374"},0,292,{"$f":"SUM(ごみ搬入量内訳!E43,+ごみ搬入量内訳!AD43)","v":{"v":12281,"d":"12,281"}},{"$f":"ごみ搬入量内訳!BC43","v":986},{"$f":"資源化量内訳!BO43","v":48},{"v":13315,"d":"13,315"},{"v":950.6293859069818,"d":"951"},{"$f":"IF(D43<>0,(ごみ搬入量内訳!BR43+ごみ処理概要!J43)/ごみ処理概要!D43/365*1000000,\"-\")","v":{"v":759.3611827643003,"d":"759"}},{"$f":"IF(D43<>0,ごみ搬入量内訳!CM43/ごみ処理概要!D43/365*1000000,\"-\")","v":{"v":191.26820314268153,"d":"191"}},{"$f":"ごみ搬入量内訳!DH43","v":0},{"$f":"ごみ処理量内訳!E43","v":{"v":9546,"d":"9,546"}},{"$f":"ごみ処理量内訳!N43","v":0},{"v":1808,"d":"1,808"},{"$f":"ごみ処理量内訳!G43","v":755},{"$f":"ごみ処理量内訳!L43","v":671},{"$f":"ごみ処理量内訳!H43","v":382},{"$f":"ごみ処理量内訳!I43","v":0},{"$f":"ごみ処理量内訳!J43","v":0},{"$f":"ごみ処理量内訳!K43","v":0},{"$f":"ごみ処理量内訳!M43","v":0},{"$f":"資源化量内訳!Y43","v":{"v":2295,"d":"2,295"}},{"v":13649,"d":"13,649"},{"v":100,"d":"100.0"},{"$f":"施設資源化量内訳!Y43","v":0},{"$f":"施設資源化量内訳!AT43","v":0},{"$f":"施設資源化量内訳!BO43","v":382},{"$f":"施設資源化量内訳!CJ43","v":0},{"$f":"施設資源化量内訳!DE43","v":0},{"$f":"施設資源化量内訳!DZ43","v":0},{"$f":"施設資源化量内訳!EU43","v":671},{"v":1053,"d":"1,053"},{"v":24.793750456304302,"d":"24.8"},{"$f":"IF((AA43+J43)<>0,(資源化量内訳!D43-資源化量内訳!R43-資源化量内訳!T43-資源化量内訳!V43-資源化量内訳!U43)/(AA43+J43)*100,\"-\")","v":{"v":24.793750456304302,"d":"24.8"}},{"$f":"ごみ処理量内訳!AA43","v":0},{"$f":"ごみ処理量内訳!AB43","v":420},{"$f":"ごみ処理量内訳!AC43","v":149},569,"081341"]
["茨城県","08364","大子町",{"v":18268,"d":"18,268"},{"v":18268,"d":"18,268"},0,82,{"$f":"SUM(ごみ搬入量内訳!E44,+ごみ搬入量内訳!AD44)","v":{"v":5509,"d":"5,509"}},{"$f":"ごみ搬入量内訳!BC44","v":{"v":1204,"d":"1,204"}},{"$f":"資源化量内訳!BO44","v":0},{"v":6713,"d":"6,713"},{"v":1006.7758277817937,"d":"1,007"},{"$f":"IF(D44<>0,(ごみ搬入量内訳!BR44+ごみ処理概要!J44)/ごみ処理概要!D44/365*1000000,\"-\")","v":{"v":769.0669514174048,"d":"769"}},{"$f":"IF(D44<>0,ごみ搬入量内訳!CM44/ごみ処理概要!D44/365*1000000,\"-\")","v":{"v":237.70887636438897,"d":"238"}},{"$f":"ごみ搬入量内訳!DH44","v":0},{"$f":"ごみ処理量内訳!E44","v":{"v":5357,"d":"5,357"}},{"$f":"ごみ処理量内訳!N44","v":0},264,{"$f":"ごみ処理量内訳!G44","v":0},{"$f":"ごみ処理量内訳!L44","v":264},{"$f":"ごみ処理量内訳!H44","v":0},{"$f":"ごみ処理量内訳!I44","v":0},{"$f":"ごみ処理量内訳!J44","v":0},{"$f":"ごみ処理量内訳!K44","v":0},{"$f":"ごみ処理量内訳!M44","v":0},{"$f":"資源化量内訳!Y44","v":{"v":1092,"d":"1,092"}},{"v":6713,"d":"6,713"},{"v":100,"d":"100.0"},{"$f":"施設資源化量内訳!Y44","v":0},{"$f":"施設資源化量内訳!AT44","v":0},{"$f":"施設資源化量内訳!BO44","v":0},{"$f":"施設資源化量内訳!CJ44","v":0},{"$f":"施設資源化量内訳!DE44","v":0},{"$f":"施設資源化量内訳!DZ44","v":0},{"$f":"施設資源化量内訳!EU44","v":264},264,{"v":20.199612691792048,"d":"20.2"},{"$f":"IF((AA44+J44)<>0,(資源化量内訳!D44-資源化量内訳!R44-資源化量内訳!T44-資源化量内訳!V44-資源化量内訳!U44)/(AA44+J44)*100,\"-\")","v":{"v":20.199612691792048,"d":"20.2"}},{"$f":"ごみ処理量内訳!AA44","v":0},{"$f":"ごみ処理量内訳!AB44","v":508},{"$f":"ごみ処理量内訳!AC44","v":0},508,"081364"]
["茨城県","08442","美浦村",{"v":16081,"d":"16,081"},{"v":16081,"d":"16,081"},0,290,{"$f":"SUM(ごみ搬入量内訳!E45,+ごみ搬入量内訳!AD45)","v":{"v":5278,"d":"5,278"}},{"$f":"ごみ搬入量内訳!BC45","v":436},{"$f":"資源化量内訳!BO45","v":251},{"v":5965,"d":"5,965"},{"v":1016.2592968984924,"d":"1,016"},{"$f":"IF(D45<>0,(ごみ搬入量内訳!BR45+ごみ処理概要!J45)/ごみ処理概要!D45/365*1000000,\"-\")","v":{"v":737.3629902727034,"d":"737"}},{"$f":"IF(D45<>0,ごみ搬入量内訳!CM45/ごみ処理概要!D45/365*1000000,\"-\")","v":{"v":278.8963066257891,"d":"279"}},{"$f":"ごみ搬入量内訳!DH45","v":0},{"$f":"ごみ処理量内訳!E45","v":{"v":4184,"d":"4,184"}},{"$f":"ごみ処理量内訳!N45","v":0},750,{"$f":"ごみ処理量内訳!G45","v":510},{"$f":"ごみ処理量内訳!L45","v":240},{"$f":"ごみ処理量内訳!H45","v":0},{"$f":"ごみ処理量内訳!I45","v":0},{"$f":"ごみ処理量内訳!J45","v":0},{"$f":"ごみ処理量内訳!K45","v":0},{"$f":"ごみ処理量内訳!M45","v":0},{"$f":"資源化量内訳!Y45","v":{"v":1001,"d":"1,001"}},{"v":5935,"d":"5,935"},{"v":100,"d":"100.0"},{"$f":"施設資源化量内訳!Y45","v":39},{"$f":"施設資源化量内訳!AT45","v":0},{"$f":"施設資源化量内訳!BO45","v":0},{"$f":"施設資源化量内訳!CJ45","v":0},{"$f":"施設資源化量内訳!DE45","v":0},{"$f":"施設資源化量内訳!DZ45","v":0},{"$f":"施設資源化量内訳!EU45","v":193},232,{"v":23.989654057549306,"d":"24.0"},{"$f":"IF((AA45+J45)<>0,(資源化量内訳!D45-資源化量内訳!R45-資源化量内訳!T45-資源化量内訳!V45-資源化量内訳!U45)/(AA45+J45)*100,\"-\")","v":{"v":23.989654057549306,"d":"24.0"}},{"$f":"ごみ処理量内訳!AA45","v":0},{"$f":"ごみ処理量内訳!AB45","v":703},{"$f":"ごみ処理量内訳!AC45","v":47},750,"081442"]
["茨城県","08443","阿見町",{"v":47481,"d":"47,481"},{"v":47481,"d":"47,481"},0,759,{"$f":"SUM(ごみ搬入量内訳!E46,+ごみ搬入量内訳!AD46)","v":{"v":16138,"d":"16,138"}},{"$f":"ごみ搬入量内訳!BC46","v":{"v":1851,"d":"1,851"}},{"$f":"資源化量内訳!BO46","v":{"v":2886,"d":"2,886"}},{"v":20875,"d":"20,875"},{"v":1204.5192987072262,"d":"1,205"},{"$f":"IF(D46<>0,(ごみ搬入量内訳!BR46+ごみ処理概要!J46)/ごみ処理概要!D46/365*1000000,\"-\")","v":{"v":952.7675525870045,"d":"953"}},{"$f":"IF(D46<>0,ごみ搬入量内訳!CM46/ごみ処理概要!D46/365*1000000,\"-\")","v":{"v":251.75174612022175,"d":"252"}},{"$f":"ごみ搬入量内訳!DH46","v":0},{"$f":"ごみ処理量内訳!E46","v":{"v":15513,"d":"15,513"}},{"$f":"ごみ処理量内訳!N46","v":0},{"v":1790,"d":"1,790"},{"$f":"ごみ処理量内訳!G46","v":{"v":1669,"d":"1,669"}},{"$f":"ごみ処理量内訳!L46","v":121},{"$f":"ごみ処理量内訳!H46","v":0},{"$f":"ごみ処理量内訳!I46","v":0},{"$f":"ごみ処理量内訳!J46","v":0},{"$f":"ごみ処理量内訳!K46","v":0},{"$f":"ごみ処理量内訳!M46","v":0},{"$f":"資源化量内訳!Y46","v":713},{"v":18016,"d":"18,016"},{"v":100,"d":"100.0"},{"$f":"施設資源化量内訳!Y46","v":0},{"$f":"施設資源化量内訳!AT46","v":659},{"$f":"施設資源化量内訳!BO46","v":0},{"$f":"施設資源化量内訳!CJ46","v":0},{"$f":"施設資源化量内訳!DE46","v":0},{"$f":"施設資源化量内訳!DZ46","v":0},{"$f":"施設資源化量内訳!EU46","v":105},764,{"v":20.87360061238159,"d":"20.9"},{"$f":"IF((AA46+J46)<>0,(資源化量内訳!D46-資源化量内訳!R46-資源化量内訳!T46-資源化量内訳!V46-資源化量内訳!U46)/(AA46+J46)*100,\"-\")","v":{"v":20.87360061238159,"d":"20.9"}},{"$f":"ごみ処理量内訳!AA46","v":0},{"$f":"ごみ処理量内訳!AB46","v":{"v":2132,"d":"2,132"}},{"$f":"ごみ処理量内訳!AC46","v":352},{"v":2484,"d":"2,484"},"081443"]
["茨城県","08447","河内町",{"v":9284,"d":"9,284"},{"v":9284,"d":"9,284"},0,97,{"$f":"SUM(ごみ搬入量内訳!E47,+ごみ搬入量内訳!AD47)","v":{"v":2697,"d":"2,697"}},{"$f":"ごみ搬入量内訳!BC47","v":322},{"$f":"資源化量内訳!BO47","v":8},{"v":3027,"d":"3,027"},{"v":893.2734473213601,"d":"893"},{"$f":"IF(D47<>0,(ごみ搬入量内訳!BR47+ごみ処理概要!J47)/ごみ処理概要!D47/365*1000000,\"-\")","v":{"v":716.2123081099904,"d":"716"}},{"$f":"IF(D47<>0,ごみ搬入量内訳!CM47/ごみ処理概要!D47/365*1000000,\"-\")","v":{"v":177.06113921136966,"d":"177"}},{"$f":"ごみ搬入量内訳!DH47","v":0},{"$f":"ごみ処理量内訳!E47","v":{"v":2292,"d":"2,292"}},{"$f":"ごみ処理量内訳!N47","v":0},201,{"$f":"ごみ処理量内訳!G47","v":147},{"$f":"ごみ処理量内訳!L47","v":54},{"$f":"ごみ処理量内訳!H47","v":0},{"$f":"ごみ処理量内訳!I47","v":0},{"$f":"ごみ処理量内訳!J47","v":0},{"$f":"ごみ処理量内訳!K47","v":0},{"$f":"ごみ処理量内訳!M47","v":0},{"$f":"資源化量内訳!Y47","v":526},{"v":3019,"d":"3,019"},{"v":100,"d":"100.0"},{"$f":"施設資源化量内訳!Y47","v":201},{"$f":"施設資源化量内訳!AT47","v":60},{"$f":"施設資源化量内訳!BO47","v":0},{"$f":"施設資源化量内訳!CJ47","v":0},{"$f":"施設資源化量内訳!DE47","v":0},{"$f":"施設資源化量内訳!DZ47","v":0},{"$f":"施設資源化量内訳!EU47","v":45},306,{"v":27.750247770069375,"d":"27.8"},{"$f":"IF((AA47+J47)<>0,(資源化量内訳!D47-資源化量内訳!R47-資源化量内訳!T47-資源化量内訳!V47-資源化量内訳!U47)/(AA47+J47)*100,\"-\")","v":{"v":27.750247770069375,"d":"27.8"}},{"$f":"ごみ処理量内訳!AA47","v":0},{"$f":"ごみ処理量内訳!AB47","v":270},{"$f":"ごみ処理量内訳!AC47","v":67},337,"081447"]
["茨城県","08521","八千代町",{"v":23835,"d":"23,835"},{"v":23835,"d":"23,835"},0,{"v":1064,"d":"1,064"},{"$f":"SUM(ごみ搬入量内訳!E48,+ごみ搬入量内訳!AD48)","v":{"v":4909,"d":"4,909"}},{"$f":"ごみ搬入量内訳!BC48","v":658},{"$f":"資源化量内訳!BO48","v":37},{"v":5604,"d":"5,604"},{"v":644.1545902049191,"d":"644"},{"$f":"IF(D48<>0,(ごみ搬入量内訳!BR48+ごみ処理概要!J48)/ごみ処理概要!D48/365*1000000,\"-\")","v":{"v":440.7010526134296,"d":"441"}},{"$f":"IF(D48<>0,ごみ搬入量内訳!CM48/ごみ処理概要!D48/365*1000000,\"-\")","v":{"v":203.45353759148946,"d":"203"}},{"$f":"ごみ搬入量内訳!DH48","v":0},{"$f":"ごみ処理量内訳!E48","v":{"v":4621,"d":"4,621"}},{"$f":"ごみ処理量内訳!N48","v":0},308,{"$f":"ごみ処理量内訳!G48","v":300},{"$f":"ごみ処理量内訳!L48","v":8},{"$f":"ごみ処理量内訳!H48","v":0},{"$f":"ごみ処理量内訳!I48","v":0},{"$f":"ごみ処理量内訳!J48","v":0},{"$f":"ごみ処理量内訳!K48","v":0},{"$f":"ごみ処理量内訳!M48","v":0},{"$f":"資源化量内訳!Y48","v":638},{"v":5567,"d":"5,567"},{"v":100,"d":"100.0"},{"$f":"施設資源化量内訳!Y48","v":0},{"$f":"施設資源化量内訳!AT48","v":100},{"$f":"施設資源化量内訳!BO48","v":0},{"$f":"施設資源化量内訳!CJ48","v":0},{"$f":"施設資源化量内訳!DE48","v":0},{"$f":"施設資源化量内訳!DZ48","v":0},{"$f":"施設資源化量内訳!EU48","v":7},107,{"v":13.95431834403997,"d":"14.0"},{"$f":"IF((AA48+J48)<>0,(資源化量内訳!D48-資源化量内訳!R48-資源化量内訳!T48-資源化量内訳!V48-資源化量内訳!U48)/(AA48+J48)*100,\"-\")","v":{"v":13.95431834403997,"d":"14.0"}},{"$f":"ごみ処理量内訳!AA48","v":0},{"$f":"ごみ処理量内訳!AB48","v":717},{"$f":"ごみ処理量内訳!AC48","v":125},842,"081521"]
["茨城県","08542","五霞町",{"v":8879,"d":"8,879"},{"v":8879,"d":"8,879"},0,138,{"$f":"SUM(ごみ搬入量内訳!E49,+ごみ搬入量内訳!AD49)","v":{"v":3271,"d":"3,271"}},{"$f":"ごみ搬入量内訳!BC49","v":122},{"$f":"資源化量内訳!BO49","v":114},{"v":3507,"d":"3,507"},{"v":1082.1285255188864,"d":"1,082"},{"$f":"IF(D49<>0,(ごみ搬入量内訳!BR49+ごみ処理概要!J49)/ごみ処理概要!D49/365*1000000,\"-\")","v":{"v":798.2510680117932,"d":"798"}},{"$f":"IF(D49<>0,ごみ搬入量内訳!CM49/ごみ処理概要!D49/365*1000000,\"-\")","v":{"v":283.87745750709314,"d":"284"}},{"$f":"ごみ搬入量内訳!DH49","v":0},{"$f":"ごみ処理量内訳!E49","v":{"v":2960,"d":"2,960"}},{"$f":"ごみ処理量内訳!N49","v":0},352,{"$f":"ごみ処理量内訳!G49","v":352},{"$f":"ごみ処理量内訳!L49","v":0},{"$f":"ごみ処理量内訳!H49","v":0},{"$f":"ごみ処理量内訳!I49","v":0},{"$f":"ごみ処理量内訳!J49","v":0},{"$f":"ごみ処理量内訳!K49","v":0},{"$f":"ごみ処理量内訳!M49","v":0},{"$f":"資源化量内訳!Y49","v":81},{"v":3393,"d":"3,393"},{"v":100,"d":"100.0"},{"$f":"施設資源化量内訳!Y49","v":166},{"$f":"施設資源化量内訳!AT49","v":151},{"$f":"施設資源化量内訳!BO49","v":0},{"$f":"施設資源化量内訳!CJ49","v":0},{"$f":"施設資源化量内訳!DE49","v":0},{"$f":"施設資源化量内訳!DZ49","v":0},{"$f":"施設資源化量内訳!EU49","v":0},317,{"v":14.59937268320502,"d":"14.6"},{"$f":"IF((AA49+J49)<>0,(資源化量内訳!D49-資源化量内訳!R49-資源化量内訳!T49-資源化量内訳!V49-資源化量内訳!U49)/(AA49+J49)*100,\"-\")","v":{"v":14.59937268320502,"d":"14.6"}},{"$f":"ごみ処理量内訳!AA49","v":0},{"$f":"ごみ処理量内訳!AB49","v":166},{"$f":"ごみ処理量内訳!AC49","v":0},166,"081542"]
["茨城県","08546","境町",{"v":25418,"d":"25,418"},{"v":25418,"d":"25,418"},0,763,{"$f":"SUM(ごみ搬入量内訳!E50,+ごみ搬入量内訳!AD50)","v":{"v":7650,"d":"7,650"}},{"$f":"ごみ搬入量内訳!BC50","v":587},{"$f":"資源化量内訳!BO50","v":212},{"v":8449,"d":"8,449"},{"v":910.691053799648,"d":"911"},{"$f":"IF(D50<>0,(ごみ搬入量内訳!BR50+ごみ処理概要!J50)/ごみ処理概要!D50/365*1000000,\"-\")","v":{"v":701.6923612540785,"d":"702"}},{"$f":"IF(D50<>0,ごみ搬入量内訳!CM50/ごみ処理概要!D50/365*1000000,\"-\")","v":{"v":208.99869254556958,"d":"209"}},{"$f":"ごみ搬入量内訳!DH50","v":0},{"$f":"ごみ処理量内訳!E50","v":{"v":6703,"d":"6,703"}},{"$f":"ごみ処理量内訳!N50","v":0},915,{"$f":"ごみ処理量内訳!G50","v":915},{"$f":"ごみ処理量内訳!L50","v":0},{"$f":"ごみ処理量内訳!H50","v":0},{"$f":"ごみ処理量内訳!I50","v":0},{"$f":"ごみ処理量内訳!J50","v":0},{"$f":"ごみ処理量内訳!K50","v":0},{"$f":"ごみ処理量内訳!M50","v":0},{"$f":"資源化量内訳!Y50","v":619},{"v":8237,"d":"8,237"},{"v":100,"d":"100.0"},{"$f":"施設資源化量内訳!Y50","v":328},{"$f":"施設資源化量内訳!AT50","v":369},{"$f":"施設資源化量内訳!BO50","v":0},{"$f":"施設資源化量内訳!CJ50","v":0},{"$f":"施設資源化量内訳!DE50","v":0},{"$f":"施設資源化量内訳!DZ50","v":0},{"$f":"施設資源化量内訳!EU50","v":0},697,{"v":18.084980471061666,"d":"18.1"},{"$f":"IF((AA50+J50)<>0,(資源化量内訳!D50-資源化量内訳!R50-資源化量内訳!T50-資源化量内訳!V50-資源化量内訳!U50)/(AA50+J50)*100,\"-\")","v":{"v":18.084980471061666,"d":"18.1"}},{"$f":"ごみ処理量内訳!AA50","v":0},{"$f":"ごみ処理量内訳!AB50","v":383},{"$f":"ごみ処理量内訳!AC50","v":0},383,"081546"]
["茨城県","08564","利根町",{"v":16772,"d":"16,772"},{"v":16772,"d":"16,772"},0,286,{"$f":"SUM(ごみ搬入量内訳!E51,+ごみ搬入量内訳!AD51)","v":{"v":4766,"d":"4,766"}},{"$f":"ごみ搬入量内訳!BC51","v":75},{"$f":"資源化量内訳!BO51","v":0},{"v":4841,"d":"4,841"},{"v":790.7830728970985,"d":"791"},{"$f":"IF(D51<>0,(ごみ搬入量内訳!BR51+ごみ処理概要!J51)/ごみ処理概要!D51/365*1000000,\"-\")","v":{"v":722.5022787489914,"d":"723"}},{"$f":"IF(D51<>0,ごみ搬入量内訳!CM51/ごみ処理概要!D51/365*1000000,\"-\")","v":{"v":68.28079414810725,"d":"68"}},{"$f":"ごみ搬入量内訳!DH51","v":0},{"$f":"ごみ処理量内訳!E51","v":{"v":4135,"d":"4,135"}},{"$f":"ごみ処理量内訳!N51","v":0},344,{"$f":"ごみ処理量内訳!G51","v":279},{"$f":"ごみ処理量内訳!L51","v":65},{"$f":"ごみ処理量内訳!H51","v":0},{"$f":"ごみ処理量内訳!I51","v":0},{"$f":"ごみ処理量内訳!J51","v":0},{"$f":"ごみ処理量内訳!K51","v":0},{"$f":"ごみ処理量内訳!M51","v":0},{"$f":"資源化量内訳!Y51","v":362},{"v":4841,"d":"4,841"},{"v":100,"d":"100.0"},{"$f":"施設資源化量内訳!Y51","v":364},{"$f":"施設資源化量内訳!AT51","v":114},{"$f":"施設資源化量内訳!BO51","v":0},{"$f":"施設資源化量内訳!CJ51","v":0},{"$f":"施設資源化量内訳!DE51","v":0},{"$f":"施設資源化量内訳!DZ51","v":0},{"$f":"施設資源化量内訳!EU51","v":54},532,{"v":18.46725883082008,"d":"18.5"},{"$f":"IF((AA51+J51)<>0,(資源化量内訳!D51-資源化量内訳!R51-資源化量内訳!T51-資源化量内訳!V51-資源化量内訳!U51)/(AA51+J51)*100,\"-\")","v":{"v":18.46725883082008,"d":"18.5"}},{"$f":"ごみ処理量内訳!AA51","v":0},{"$f":"ごみ処理量内訳!AB51","v":489},{"$f":"ごみ処理量内訳!AC51","v":126},615,"081564"]

{"sheet":"ごみ搬入量内訳","index":1,"n_rows":51,"n_cols":117,"rows_kept":51,"merged":[[1,0,5,0],[1,1,5,1],[1,2,5,2],[2,112,3,112],[2,113,3,113],[2,114,3,114],[2,115,3,115],[2,116,3,116],[3,5,3,8],[3,9,3,12],[3,13,3,16],[3,17,3,20],[3,21,3,24],[3,25,3,28],[3,30,3,33],[3,34,3,37],[3,38,3,41],[3,42,3,45],[3,46,3,49],[3,50,3,53]]}
["ごみ搬入量の状況（平成28年度実績）"]
["都道府県名","地方公共団体コード","市区町村名","ごみ搬入量 (生活系ごみ収集量+事業系ごみ収集量+直接搬入量)",{"$nulls":65},"生活系ごみ搬入量",{"$nulls":20},"事業系ごみ搬入量",{"$nulls":20},"自家処理量","家電４品目収集量(直営+委託+許可+直接搬入)"]
[{"$nulls":4},"生活系ごみ収集量 (混合ごみ+可燃ごみ+不燃ごみ+資源ごみ+その他+粗大ごみ)",{"$nulls":24},"事業系ごみ収集量 (混合ごみ+可燃ごみ+不燃ごみ+資源ごみ+その他+粗大ごみ)",{"$nulls":24},"直接搬入量",{"$nulls":15},"生活系ごみ収集量＋直接搬入量",{"$nulls":20},"事業系ごみ収集量＋直接搬入量",{"$nulls":20},"合計","直営","委託","許可","直接搬入"]
[{"$nulls":5},"混合ごみ (直営+委託+許可)",{"$nulls":3},"可燃ごみ (直営+委託+許可)",{"$nulls":3},"不燃ごみ (直営+委託+許可)",{"$nulls":3},"資源ごみ (直営+委託+許可)",{"$nulls":3},"その他のごみ (直営+委託+許可)",{"$nulls":3},"粗大ごみ (直営+委託+許可)",{"$nulls":4},"混合ごみ (直営+委託+許可)",{"$nulls":3},"可燃ごみ (直営+委託+許可)",{"$nulls":3},"不燃ごみ (直営+委託+許可)",{"$nulls":3},"資源ごみ (直営+委託+許可)",{"$nulls":3},"その他のごみ (直営+委託+許可)",{"$nulls":3},"粗大ごみ (直営+委託+許可)",{"$nulls":4},"直接搬入量（生活系ごみ）",{"$nulls":6},"直接搬入量（事業系ごみ）",{"$nulls":13},"生活系ごみ収集量 (混合ごみ+可燃ごみ+不燃ごみ+資源ごみ+その他+粗大ごみ)",{"$nulls":6},"直接搬入量(混合ごみ+可燃ごみ+不燃ごみ+資源ごみ+その他+粗大ごみ)",{"$nulls":13},"事業系ごみ収集量 (混合ごみ+可燃ごみ+不燃ごみ+資源ごみ+その他+粗大ごみ)",{"$nulls":6},"直接搬入量(混合ごみ+可燃ごみ+不燃ごみ+資源ごみ+その他+粗大ごみ)"]
[{"$nulls":3},"合計","合計","合計","直営","委託","許可","合計","直営","委託","許可","合計","直営","委託","許可","合計","直営","委託","許可","合計","直営","委託","許可","合計","直営","委託","許可","合計","合計","直営","委託","許可","合計","直営","委託","許可","合計","直営","委託","許可","合計","直営","委託","許可","合計","直営","委託","許可","合計","直営","委託","許可","合計","合計","混合ごみ","可燃ごみ","不燃ごみ","資源ごみ","その他のごみ","粗大ごみ","合計","混合ごみ","可燃ごみ","不燃ごみ","資源ごみ","その他のごみ","粗大ごみ","合計","混合ごみ","可燃ごみ","不燃ごみ","資源ごみ","その他のごみ","粗大ごみ","合計","混合ごみ","可燃ごみ","不燃ごみ","資源ごみ","その他のごみ","粗大ごみ","合計","混合ごみ","可燃ごみ","不燃ごみ","資源ごみ","その他のごみ","粗大ごみ","合計","混合ごみ","可燃ごみ","不燃ごみ","資源ごみ","その他のごみ","粗大ごみ","合計","混合ごみ","可燃ごみ","不燃ごみ","資源ごみ","その他のごみ","粗大ごみ","合計","混合ごみ","可燃ごみ","不燃ごみ","資源ごみ","その他のごみ","粗大ごみ"]
[{"$nulls":3},"（ｔ）","（ｔ）","（ｔ）","（ｔ）","（ｔ）","（ｔ）","（ｔ）","（ｔ）","（ｔ）","（ｔ）","（ｔ）","（ｔ）","（ｔ）","（ｔ）","（ｔ）","（ｔ）","（ｔ）","（ｔ）","（ｔ）","（ｔ）","（ｔ）","（ｔ）","（ｔ）","（ｔ）","（ｔ）","（ｔ）","（ｔ）","（ｔ）","（ｔ）","（ｔ）","（ｔ）","（ｔ）","（ｔ）","（ｔ）","（ｔ）","（ｔ）","（ｔ）","（ｔ）","（ｔ）","（ｔ）","（ｔ）","（ｔ）","（ｔ）","（ｔ）","（ｔ）","（ｔ）","（ｔ）","（ｔ）","（ｔ）","（ｔ）","（ｔ）","（ｔ）","（ｔ）","（ｔ）","（ｔ）","（ｔ）","（ｔ）","（ｔ）","（ｔ）","（ｔ）","（ｔ）","（ｔ）","（ｔ）","（ｔ）","（ｔ）","（ｔ）","（ｔ）","（ｔ）","（ｔ）","（ｔ）","（ｔ）","（ｔ）","（ｔ）","（ｔ）","（ｔ）","（ｔ）","（ｔ）","（ｔ）","（ｔ）","（ｔ）","（ｔ）","（ｔ）","（ｔ）","（ｔ）","（ｔ）","（ｔ）","（ｔ）","（ｔ）","（ｔ）","（ｔ）","（ｔ）","（ｔ）","（ｔ）","（ｔ）","（ｔ）","（ｔ）","（ｔ）","（ｔ）","（ｔ）","（ｔ）","（ｔ）","（ｔ）","（ｔ）","（ｔ）","（ｔ）","（ｔ）","（ｔ）","（ｔ）","（ｔ）","(t)","（ｔ）","（ｔ）","（ｔ）","（ｔ）"]
[{"$f":"ごみ処理概要!A7","v":"茨城県"},{"$f":"ごみ処理概要!B7","v":"08000"},"合計",{"$f":"SUM(E7,AD7,BC7)","v":{"v":1029367,"d":"1,029,367"}},{"$f":"SUM(F7,J7,N7,R7,V7,Z7)","v":{"v":683013,"d":"683,013"}},{"$f":"SUM(G7:I7)","v":96},{"$f":"SUM(G$8:G$1000)","v":39},{"$f":"SUM(H$8:H$1000)","v":3},{"$f":"SUM(I$8:I$1000)","v":54},{"$f":"SUM(K7:M7)","v":{"v":570453,"d":"570,453"}},{"$f":"SUM(K$8:K$1000)","v":{"v":65901,"d":"65,901"}},{"$f":"SUM(L$8:L$1000)","v":{"v":500107,"d":"500,107"}},{"$f":"SUM(M$8:M$1000)","v":{"v":4445,"d":"4,445"}},{"$f":"SUM(O7:Q7)","v":{"v":35139,"d":"35,139"}},{"$f":"SUM(O$8:O$1000)","v":{"v":3382,"d":"3,382"}},{"$f":"SUM(P$8:P$1000)","v":{"v":31695,"d":"31,695"}},{"$f":"SUM(Q$8:Q$1000)","v":62},{"$f":"SUM(S7:U7)","v":{"v":71035,"d":"71,035"}},{"$f":"SUM(S$8:S$1000)","v":{"v":3714,"d":"3,714"}},{"$f":"SUM(T$8:T$1000)","v":{"v":67319,"d":"67,319"}},{"$f":"SUM(U$8:U$1000)","v":2},{"$f":"SUM(W7:Y7)","v":326},{"$f":"SUM(W$8:W$1000)","v":94},{"$f":"SUM(X$8:X$1000)","v":232},{"$f":"SUM(Y$8:Y$1000)","v":0},{"$f":"SUM(AA7:AC7)","v":{"v":5964,"d":"5,964"}},{"$f":"SUM(AA$8:AA$1000)","v":790},{"$f":"SUM(AB$8:AB$1000)","v":{"v":5174,"d":"5,174"}},{"$f":"SUM(AC$8:AC$1000)","v":0},{"$f":"SUM(AE7,AI7,AM7,AQ7,AU7,AY7)","v":{"v":262244,"d":"262,244"}},{"$f":"SUM(AF7:AH7)","v":{"v":13438,"d":"13,438"}},{"$f":"SUM(AF$8:AF$1000)","v":0},{"$f":"SUM(AG$8:AG$1000)","v":827},{"$f":"SUM(AH$8:AH$1000)","v":{"v":12611,"d":"12,611"}},{"$f":"SUM(AJ7:AL7)","v":{"v":190409,"d":"190,409"}},{"$f":"SUM(AJ$8:AJ$1000)","v":{"v":1094,"d":"1,094"}},{"$f":"SUM(AK$8:AK$1000)","v":853},{"$f":"SUM(AL$8:AL$1000)","v":{"v":188462,"d":"188,462"}},{"$f":"SUM(AN7:AP7)","v":{"v":4188,"d":"4,188"}},{"$f":"SUM(AN$8:AN$1000)","v":40},{"$f":"SUM(AO$8:AO$1000)","v":107},{"$f":"SUM(AP$8:AP$1000)","v":{"v":4041,"d":"4,041"}},{"$f":"SUM(AR7:AT7)","v":{"v":53414,"d":"53,414"}},{"$f":"SUM(AR$8:AR$1000)","v":484},{"$f":"SUM(AS$8:AS$1000)","v":32},{"$f":"SUM(AT$8:AT$1000)","v":{"v":52898,"d":"52,898"}},{"$f":"SUM(AV7:AX7)","v":3},{"$f":"SUM(AV$8:AV$1000)","v":0},{"$f":"SUM(AW$8:AW$1000)","v":0},{"$f":"SUM(AX$8:AX$1000)","v":3},{"$f":"SUM(AZ7:BB7)","v":792},{"$f":"SUM(AZ$8:AZ$1000)","v":1},{"$f":"SUM(BA$8:BA$1000)","v":2},{"$f":"SUM(BB$8:BB$1000)","v":789},{"$f":"SUM(BD7,BK7)","v":{"v":84110,"d":"84,110"}},{"$f":"SUM(BE7:BJ7)","v":{"v":49923,"d":"49,923"}},{"$f":"SUM(BE$8:BE$1000)","v":{"v":5887,"d":"5,887"}},{"v":25108,"d":"25,108"},{"v":4509,"d":"4,509"},{"v":2901,"d":"2,901"},108,{"v":11410,"d":"11,410"},{"$f":"SUM(BL7:BQ7)","v":{"v":34187,"d":"34,187"}},{"$f":"SUM(BL$8:BL$1000)","v":{"v":3656,"d":"3,656"}},{"v":24199,"d":"24,199"},{"v":1486,"d":"1,486"},{"v":3057,"d":"3,057"},423,{"v":1366,"d":"1,366"},{"$f":"SUM(BY7,CF7)","v":{"v":732936,"d":"732,936"}},{"v":5983,"d":"5,983"},{"v":595561,"d":"595,561"},{"v":39648,"d":"39,648"},{"v":73936,"d":"73,936"},434,{"v":17374,"d":"17,374"},{"$f":"SUM(BZ7:CE7)","v":{"v":683013,"d":"683,013"}},{"$f":"F7","v":96},{"$f":"J7","v":{"v":570453,"d":"570,453"}},{"$f":"N7","v":{"v":35139,"d":"35,139"}},{"$f":"R7","v":{"v":71035,"d":"71,035"}},{"$f":"V7","v":326},{"$f":"Z7","v":{"v":5964,"d":"5,964"}},{"$f":"SUM(CG7:CL7)","v":{"v":49923,"d":"49,923"}},{"$f":"BE7","v":{"v":5887,"d":"5,887"}},{"v":25108,"d":"25,108"},{"v":4509,"d":"4,509"},{"v":2901,"d":"2,901"},108,{"v":11410,"d":"11,410"},{"$f":"SUM(CT7,DA7)","v":{"v":296431,"d":"296,431"}},{"v":17094,"d":"17,094"},{"v":214608,"d":"214,608"},{"v":5674,"d":"5,674"},{"v":56471,"d":"56,471"},426,{"v":2158,"d":"2,158"},{"$f":"SUM(CU7:CZ7)","v":{"v":262244,"d":"262,244"}},{"$f":"AE7","v":{"v":13438,"d":"13,438"}},{"$f":"AI7","v":{"v":190409,"d":"190,409"}},{"$f":"AM7","v":{"v":4188,"d":"4,188"}},{"$f":"AQ7","v":{"v":53414,"d":"53,414"}},{"$f":"AU7","v":3},{"$f":"AY7","v":792},{"$f":"SUM(DB7:DG7)","v":{"v":34187,"d":"34,187"}},{"$f":"BL7","v":{"v":3656,"d":"3,656"}},{"v":24199,"d":"24,199"},{"v":1486,"d":"1,486"},{"v":3057,"d":"3,057"},423,{"v":1366,"d":"1,366"},{"$f":"SUM(DH$8:DH$1000)","v":{"v":12701,"d":"12,701"}},{"$f":"SUM(DJ7:DM7)","v":63},{"$f":"SUM(DJ$8:DJ$1000)","v":12},{"$f":"SUM(DK$8:DK$1000)","v":29},{"$f":"SUM(DL$8:DL$1000)","v":7},{"$f":"SUM(DM$8:DM$1000)","v":15}]
["茨城県","08201","水戸市",{"v":112741,"d":"112,741"},{"v":70822,"d":"70,822"},0,0,0,0,{"v":64242,"d":"64,242"},{"v":56621,"d":"56,621"},{"v":3176,"d":"3,176"},{"v":4445,"d":"4,445"},{"v":3130,"d":"3,130"},{"v":2814,"d":"2,814"},254,62,{"v":3442,"d":"3,442"},0,{"v":3442,"d":"3,442"},0,0,0,0,0,8,1,7,0,{"v":35689,"d":"35,689"},0,0,0,0,{"v":23007,"d":"23,007"},0,0,{"v":23007,"d":"23,007"},303,0,0,303,{"v":12377,"d":"12,377"},0,0,{"v":12377,"d":"12,377"},0,0,0,0,2,0,0,2,{"v":6230,"d":"6,230"},{"v":1548,"d":"1,548"},0,{"v":1177,"d":"1,177"},200,56,0,115,{"v":4682,"d":"4,682"},0,{"v":4005,"d":"4,005"},669,3,0,5,{"$f":"SUM(BY8,CF8)","v":{"v":72370,"d":"72,370"}},{"$f":"SUM(BZ8,CG8)","v":0},{"$f":"SUM(CA8,CH8)","v":{"v":65419,"d":"65,419"}},{"$f":"SUM(CB8,CI8)","v":{"v":3330,"d":"3,330"}},{"$f":"SUM(CC8,CJ8)","v":{"v":3498,"d":"3,498"}},{"$f":"SUM(CD8,CK8)","v":0},{"$f":"SUM(CE8,CL8)","v":123},{"v":70822,"d":"70,822"},0,{"v":64242,"d":"64,242"},{"v":3130,"d":"3,130"},{"v":3442,"d":"3,442"},0,8,{"v":1548,"d":"1,548"},{"$f":"BE8","v":0},{"$f":"BF8","v":{"v":1177,"d":"1,177"}},{"$f":"BG8","v":200},{"$f":"BH8","v":56},{"$f":"BI8","v":0},{"$f":"BJ8","v":115},{"$f":"SUM(CT8,DA8)","v":{"v":40371,"d":"40,371"}},{"$f":"SUM(CU8,DB8)","v":0},{"$f":"SUM(CV8,DC8)","v":{"v":27012,"d":"27,012"}},{"$f":"SUM(CW8,DD8)","v":972},{"$f":"SUM(CX8,DE8)","v":{"v":12380,"d":"12,380"}},{"$f":"SUM(CY8,DF8)","v":0},{"$f":"SUM(CZ8,DG8)","v":7},{"v":35689,"d":"35,689"},0,{"v":23007,"d":"23,007"},303,{"v":12377,"d":"12,377"},0,2,{"v":4682,"d":"4,682"},{"$f":"BL8","v":0},{"$f":"BM8","v":{"v":4005,"d":"4,005"}},{"$f":"BN8","v":669},{"$f":"BO8","v":3},{"$f":"BP8","v":0},{"$f":"BQ8","v":5},0,1,0,0,0,1]
["茨城県","08202","日立市",{"v":62637,"d":"62,637"},{"v":39627,"d":"39,627"},93,39,0,54,{"v":35525,"d":"35,525"},0,{"v":35525,"d":"35,525"},0,189,0,189,0,{"v":3557,"d":"3,557"},0,{"v":3557,"d":"3,557"},0,30,0,30,0,233,0,233,0,{"v":13438,"d":"13,438"},{"v":13438,"d":"13,438"},0,827,{"v":12611,"d":"12,611"},0,0,0,0,0,0,0,0,0,0,0,0,0,0,0,0,0,0,0,0,{"v":9572,"d":"9,572"},{"v":5887,"d":"5,887"},{"v":5887,"d":"5,887"},0,0,0,0,0,{"v":3685,"d":"3,685"},{"v":3656,"d":"3,656"},0,0,22,7,0,{"v":45514,"d":"45,514"},{"v":5980,"d":"5,980"},{"v":35525,"d":"35,525"},189,{"v":3557,"d":"3,557"},30,233,{"v":39627,"d":"39,627"},93,{"v":35525,"d":"35,525"},189,{"v":3557,"d":"3,557"},30,233,{"v":5887,"d":"5,887"},{"v":5887,"d":"5,887"},0,0,0,0,0,{"v":17123,"d":"17,123"},{"v":17094,"d":"17,094"},0,0,22,7,0,{"v":13438,"d":"13,438"},{"v":13438,"d":"13,438"},0,0,0,0,0,{"v":3685,"d":"3,685"},{"v":3656,"d":"3,656"},0,0,22,7,0,0,0,0,0,0,0]
["茨城県","08203","土浦市",{"v":59348,"d":"59,348"},{"v":34174,"d":"34,174"},0,0,0,0,{"v":23848,"d":"23,848"},0,{"v":23848,"d":"23,848"},0,{"v":1978,"d":"1,978"},0,{"v":1978,"d":"1,978"},0,{"v":8076,"d":"8,076"},9,{"v":8067,"d":"8,067"},0,0,0,0,0,272,0,272,0,{"v":21967,"d":"21,967"},0,0,0,0,{"v":15880,"d":"15,880"},74,279,{"v":15527,"d":"15,527"},836,30,99,707,{"v":5219,"d":"5,219"},0,0,{"v":5219,"d":"5,219"},0,0,0,0,32,1,0,31,{"v":3207,"d":"3,207"},{"v":1446,"d":"1,446"},0,774,101,0,0,571,{"v":1761,"d":"1,761"},0,{"v":1682,"d":"1,682"},13,0,0,66,{"v":35620,"d":"35,620"},0,{"v":24622,"d":"24,622"},{"v":2079,"d":"2,079"},{"v":8076,"d":"8,076"},0,843,{"v":34174,"d":"34,174"},0,{"v":23848,"d":"23,848"},{"v":1978,"d":"1,978"},{"v":8076,"d":"8,076"},0,272,{"v":1446,"d":"1,446"},0,774,101,0,0,571,{"v":23728,"d":"23,728"},0,{"v":17562,"d":"17,562"},849,{"v":5219,"d":"5,219"},0,98,{"v":21967,"d":"21,967"},0,{"v":15880,"d":"15,880"},836,{"v":5219,"d":"5,219"},0,32,{"v":1761,"d":"1,761"},0,{"v":1682,"d":"1,682"},13,0,0,66,0,2,2,0,0,0]
["茨城県","08204","古河市",{"v":47581,"d":"47,581"},{"v":35942,"d":"35,942"},0,0,0,0,{"v":29511,"d":"29,511"},0,{"v":29511,"d":"29,511"},0,{"v":1298,"d":"1,298"},0,{"v":1298,"d":"1,298"},0,{"v":4678,"d":"4,678"},0,{"v":4678,"d":"4,678"},0,0,0,0,0,455,0,455,0,{"v":9084,"d":"9,084"},0,0,0,0,{"v":9008,"d":"9,008"},0,0,{"v":9008,"d":"9,008"},9,0,0,9,60,0,0,60,0,0,0,0,7,0,0,7,{"v":2555,"d":"2,555"},625,0,460,32,4,0,129,{"v":1930,"d":"1,930"},0,{"v":1615,"d":"1,615"},40,26,0,249,{"v":36567,"d":"36,567"},0,{"v":29971,"d":"29,971"},{"v":1330,"d":"1,330"},{"v":4682,"d":"4,682"},0,584,{"v":35942,"d":"35,942"},0,{"v":29511,"d":"29,511"},{"v":1298,"d":"1,298"},{"v":4678,"d":"4,678"},0,455,625,0,460,32,4,0,129,{"v":11014,"d":"11,014"},0,{"v":10623,"d":"10,623"},49,86,0,256,{"v":9084,"d":"9,084"},0,{"v":9008,"d":"9,008"},9,60,0,7,{"v":1930,"d":"1,930"},0,{"v":1615,"d":"1,615"},40,26,0,249,0,0,0,0,0,0]
["茨城県","08205","石岡市",{"v":30398,"d":"30,398"},{"v":17706,"d":"17,706"},0,0,0,0,{"v":15606,"d":"15,606"},184,{"v":15422,"d":"15,422"},0,967,4,963,0,967,5,962,0,0,0,0,0,166,1,165,0,{"v":8936,"d":"8,936"},0,0,0,0,{"v":4758,"d":"4,758"},0,0,{"v":4758,"d":"4,758"},57,0,0,57,{"v":4118,"d":"4,118"},0,0,{"v":4118,"d":"4,118"},0,0,0,0,3,0,0,3,{"v":3756,"d":"3,756"},{"v":2165,"d":"2,165"},0,{"v":1495,"d":"1,495"},109,29,0,532,{"v":1591,"d":"1,591"},0,{"v":1537,"d":"1,537"},18,2,0,34,{"v":19871,"d":"19,871"},0,{"v":17101,"d":"17,101"},{"v":1076,"d":"1,076"},996,0,698,{"v":17706,"d":"17,706"},0,{"v":15606,"d":"15,606"},967,967,0,166,{"v":2165,"d":"2,165"},0,{"v":1495,"d":"1,495"},109,29,0,532,{"v":10527,"d":"10,527"},0,{"v":6295,"d":"6,295"},75,{"v":4120,"d":"4,120"},0,37,{"v":8936,"d":"8,936"},0,{"v":4758,"d":"4,758"},57,{"v":4118,"d":"4,118"},0,3,{"v":1591,"d":"1,591"},0,{"v":1537,"d":"1,537"},18,2,0,34,0,9,8,0,1,0]
["茨城県","08207","結城市",{"v":20766,"d":"20,766"},{"v":12987,"d":"12,987"},0,0,0,0,{"v":10621,"d":"10,621"},194,{"v":10427,"d":"10,427"},0,497,21,476,0,{"v":1617,"d":"1,617"},0,{"v":1617,"d":"1,617"},0,14,0,14,0,238,0,238,0,{"v":7298,"d":"7,298"},0,0,0,0,{"v":7136,"d":"7,136"},0,0,{"v":7136,"d":"7,136"},162,0,0,162,0,0,0,0,0,0,0,0,0,0,0,0,481,481,0,383,98,0,0,0,0,0,0,0,0,0,0,{"v":13468,"d":"13,468"},0,{"v":11004,"d":"11,004"},595,{"v":1617,"d":"1,617"},14,238,{"v":12987,"d":"12,987"},0,{"v":10621,"d":"10,621"},497,{"v":1617,"d":"1,617"},14,238,481,0,383,98,0,0,0,{"v":7298,"d":"7,298"},0,{"v":7136,"d":"7,136"},162,0,0,0,{"v":7298,"d":"7,298"},0,{"v":7136,"d":"7,136"},162,0,0,0,0,0,0,0,0,0,0,0,1,1,0,0,0]
["茨城県","08208","龍ケ崎市",{"v":29289,"d":"29,289"},{"v":20616,"d":"20,616"},0,0,0,0,{"v":17348,"d":"17,348"},185,{"v":17163,"d":"17,163"},0,813,10,803,0,{"v":2392,"d":"2,392"},210,{"v":2182,"d":"2,182"},0,0,0,0,0,63,63,0,0,{"v":7781,"d":"7,781"},0,0,0,0,{"v":5372,"d":"5,372"},0,0,{"v":5372,"d":"5,372"},76,0,0,76,{"v":2326,"d":"2,326"},0,0,{"v":2326,"d":"2,326"},0,0,0,0,7,0,0,7,892,652,0,408,84,0,0,160,240,0,210,4,0,0,26,{"v":21268,"d":"21,268"},0,{"v":17756,"d":"17,756"},897,{"v":2392,"d":"2,392"},0,223,{"v":20616,"d":"20,616"},0,{"v":17348,"d":"17,348"},813,{"v":2392,"d":"2,392"},0,63,652,0,408,84,0,0,160,{"v":8021,"d":"8,021"},0,{"v":5582,"d":"5,582"},80,{"v":2326,"d":"2,326"},0,33,{"v":7781,"d":"7,781"},0,{"v":5372,"d":"5,372"},76,{"v":2326,"d":"2,326"},0,7,240,0,210,4,0,0,26,0,0,0,0,0,0]
["茨城県","08210","下妻市",{"v":16699,"d":"16,699"},{"v":9251,"d":"9,251"},0,0,0,0,{"v":8017,"d":"8,017"},0,{"v":8017,"d":"8,017"},0,440,0,440,0,751,131,620,0,13,13,0,0,30,0,30,0,{"v":4040,"d":"4,040"},0,0,0,0,{"v":3364,"d":"3,364"},163,0,{"v":3201,"d":"3,201"},62,10,0,52,614,0,0,614,0,0,0,0,0,0,0,0,{"v":3408,"d":"3,408"},{"v":1123,"d":"1,123"},0,613,71,0,0,439,{"v":2285,"d":"2,285"},0,{"v":1116,"d":"1,116"},21,{"v":1148,"d":"1,148"},0,0,{"v":10374,"d":"10,374"},0,{"v":8630,"d":"8,630"},511,751,13,469,{"v":9251,"d":"9,251"},0,{"v":8017,"d":"8,017"},440,751,13,30,{"v":1123,"d":"1,123"},0,613,71,0,0,439,{"v":6325,"d":"6,325"},0,{"v":4480,"d":"4,480"},83,{"v":1762,"d":"1,762"},0,0,{"v":4040,"d":"4,040"},0,{"v":3364,"d":"3,364"},62,614,0,0,{"v":2285,"d":"2,285"},0,{"v":1116,"d":"1,116"},21,{"v":1148,"d":"1,148"},0,0,0,2,0,2,0,0]
["茨城県","08211","常総市",{"v":18544,"d":"18,544"},{"v":12887,"d":"12,887"},0,0,0,0,{"v":10013,"d":"10,013"},24,{"v":9989,"d":"9,989"},0,{"v":1538,"d":"1,538"},2,{"v":1536,"d":"1,536"},0,{"v":1194,"d":"1,194"},1,{"v":1193,"d":"1,193"},0,20,20,0,0,122,26,96,0,{"v":4619,"d":"4,619"},0,0,0,0,{"v":3013,"d":"3,013"},0,0,{"v":3013,"d":"3,013"},48,0,0,48,{"v":1558,"d":"1,558"},0,0,{"v":1558,"d":"1,558"},0,0,0,0,0,0,0,0,{"v":1038,"d":"1,038"},547,0,212,42,0,0,293,491,0,483,8,0,0,0,{"v":13434,"d":"13,434"},0,{"v":10225,"d":"10,225"},{"v":1580,"d":"1,580"},{"v":1194,"d":"1,194"},20,415,{"v":12887,"d":"12,887"},0,{"v":10013,"d":"10,013"},{"v":1538,"d":"1,538"},{"v":1194,"d":"1,194"},20,122,547,0,212,42,0,0,293,{"v":5110,"d":"5,110"},0,{"v":3496,"d":"3,496"},56,{"v":1558,"d":"1,558"},0,0,{"v":4619,"d":"4,619"},0,{"v":3013,"d":"3,013"},48,{"v":1558,"d":"1,558"},0,0,491,0,483,8,0,0,0,0,0,0,0,0,0]
["茨城県","08212","常陸太田市",{"v":16068,"d":"16,068"},{"v":11298,"d":"11,298"},0,0,0,0,{"v":9518,"d":"9,518"},0,{"v":9518,"d":"9,518"},0,0,0,0,0,{"v":1780,"d":"1,780"},0,{"v":1780,"d":"1,780"},0,0,0,0,0,0,0,0,0,{"v":1940,"d":"1,940"},0,0,0,0,{"v":1929,"d":"1,929"},0,0,{"v":1929,"d":"1,929"},0,0,0,0,11,0,0,11,0,0,0,0,0,0,0,0,{"v":2830,"d":"2,830"},{"v":1479,"d":"1,479"},0,{"v":1469,"d":"1,469"},0,10,0,0,{"v":1351,"d":"1,351"},0,{"v":1341,"d":"1,341"},0,10,0,0,{"v":12777,"d":"12,777"},0,{"v":10987,"d":"10,987"},0,{"v":1790,"d":"1,790"},0,0,{"v":11298,"d":"11,298"},0,{"v":9518,"d":"9,518"},0,{"v":1780,"d":"1,780"},0,0,{"v":1479,"d":"1,479"},0,{"v":1469,"d":"1,469"},0,10,0,0,{"v":3291,"d":"3,291"},0,{"v":3270,"d":"3,270"},0,21,0,0,{"v":1940,"d":"1,940"},0,{"v":1929,"d":"1,929"},0,11,0,0,{"v":1351,"d":"1,351"},0,{"v":1341,"d":"1,341"},0,10,0,0,0,2,0,0,0,2]
["茨城県","08214","高萩市",{"v":9369,"d":"9,369"},{"v":6474,"d":"6,474"},0,0,0,0,{"v":5126,"d":"5,126"},0,{"v":5126,"d":"5,126"},0,76,0,76,0,{"v":1207,"d":"1,207"},0,{"v":1207,"d":"1,207"},0,0,0,0,0,65,0,65,0,{"v":1670,"d":"1,670"},0,0,0,0,{"v":1589,"d":"1,589"},0,0,{"v":1589,"d":"1,589"},6,0,0,6,72,0,0,72,1,0,0,1,2,0,0,2,{"v":1225,"d":"1,225"},538,0,82,33,92,94,237,687,0,229,11,31,394,22,{"v":7012,"d":"7,012"},0,{"v":5208,"d":"5,208"},109,{"v":1299,"d":"1,299"},94,302,{"v":6474,"d":"6,474"},0,{"v":5126,"d":"5,126"},76,{"v":1207,"d":"1,207"},0,65,538,0,82,33,92,94,237,{"v":2357,"d":"2,357"},0,{"v":1818,"d":"1,818"},17,103,395,24,{"v":1670,"d":"1,670"},0,{"v":1589,"d":"1,589"},6,72,1,2,687,0,229,11,31,394,22,0,0,0,0,0,0]
["茨城県","08215","北茨城市",{"v":15697,"d":"15,697"},{"v":10868,"d":"10,868"},0,0,0,0,{"v":8661,"d":"8,661"},{"v":2673,"d":"2,673"},{"v":5988,"d":"5,988"},0,193,193,0,0,{"v":1990,"d":"1,990"},{"v":1990,"d":"1,990"},0,0,0,0,0,0,24,24,0,0,{"v":2008,"d":"2,008"},0,0,0,0,{"v":2008,"d":"2,008"},0,0,{"v":2008,"d":"2,008"},0,0,0,0,0,0,0,0,0,0,0,0,0,0,0,0,{"v":2821,"d":"2,821"},{"v":1833,"d":"1,833"},0,{"v":1515,"d":"1,515"},318,0,0,0,988,0,988,0,0,0,0,{"v":12701,"d":"12,701"},0,{"v":10176,"d":"10,176"},511,{"v":1990,"d":"1,990"},0,24,{"v":10868,"d":"10,868"},0,{"v":8661,"d":"8,661"},193,{"v":1990,"d":"1,990"},0,24,{"v":1833,"d":"1,833"},0,{"v":1515,"d":"1,515"},318,0,0,0,{"v":2996,"d":"2,996"},0,{"v":2996,"d":"2,996"},0,0,0,0,{"v":2008,"d":"2,008"},0,{"v":2008,"d":"2,008"},0,0,0,0,988,0,988,0,0,0,0,{"v":12701,"d":"12,701"},3,0,0,0,3]
["茨城県","08216","笠間市",{"v":25136,"d":"25,136"},{"v":16117,"d":"16,117"},0,0,0,0,{"v":14643,"d":"14,643"},0,{"v":14643,"d":"14,643"},0,286,0,286,0,{"v":1157,"d":"1,157"},0,{"v":1157,"d":"1,157"},0,0,0,0,0,31,0,31,0,{"v":4887,"d":"4,887"},0,0,0,0,{"v":4843,"d":"4,843"},0,0,{"v":4843,"d":"4,843"},17,0,0,17,8,0,0,8,0,0,0,0,19,0,0,19,{"v":4132,"d":"4,132"},{"v":2699,"d":"2,699"},0,{"v":1177,"d":"1,177"},237,220,0,{"v":1065,"d":"1,065"},{"v":1433,"d":"1,433"},0,{"v":1294,"d":"1,294"},41,21,0,77,{"v":18816,"d":"18,816"},0,{"v":15820,"d":"15,820"},523,{"v":1377,"d":"1,377"},0,{"v":1096,"d":"1,096"},{"v":16117,"d":"16,117"},0,{"v":14643,"d":"14,643"},286,{"v":1157,"d":"1,157"},0,31,{"v":2699,"d":"2,699"},0,{"v":1177,"d":"1,177"},237,220,0,{"v":1065,"d":"1,065"},{"v":6320,"d":"6,320"},0,{"v":6137,"d":"6,137"},58,29,0,96,{"v":4887,"d":"4,887"},0,{"v":4843,"d":"4,843"},17,8,0,19,{"v":1433,"d":"1,433"},0,{"v":1294,"d":"1,294"},41,21,0,77,0,0,0,0,0,0]
["茨城県","08217","取手市",{"v":34180,"d":"34,180"},{"v":26079,"d":"26,079"},0,0,0,0,{"v":18354,"d":"18,354"},32,{"v":18322,"d":"18,322"},0,{"v":3508,"d":"3,508"},6,{"v":3502,"d":"3,502"},0,{"v":3852,"d":"3,852"},0,{"v":3852,"d":"3,852"},0,29,29,0,0,336,46,290,0,{"v":7656,"d":"7,656"},0,0,0,0,{"v":4799,"d":"4,799"},0,0,{"v":4799,"d":"4,799"},112,0,0,112,{"v":2745,"d":"2,745"},0,0,{"v":2745,"d":"2,745"},0,0,0,0,0,0,0,0,445,392,0,7,4,0,0,381,53,0,50,3,0,0,0,{"v":26471,"d":"26,471"},0,{"v":18361,"d":"18,361"},{"v":3512,"d":"3,512"},{"v":3852,"d":"3,852"},29,717,{"v":26079,"d":"26,079"},0,{"v":18354,"d":"18,354"},{"v":3508,"d":"3,508"},{"v":3852,"d":"3,852"},29,336,392,0,7,4,0,0,381,{"v":7709,"d":"7,709"},0,{"v":4849,"d":"4,849"},115,{"v":2745,"d":"2,745"},0,0,{"v":7656,"d":"7,656"},0,{"v":4799,"d":"4,799"},112,{"v":2745,"d":"2,745"},0,0,53,0,50,3,0,0,0,0,7,1,0,6,0]
["茨城県","08219","牛久市",{"v":28816,"d":"28,816"},{"v":20733,"d":"20,733"},0,0,0,0,{"v":16555,"d":"16,555"},0,{"v":16555,"d":"16,555"},0,551,0,551,0,{"v":3599,"d":"3,599"},64,{"v":3535,"d":"3,535"},0,9,0,9,0,19,0,19,0,{"v":5667,"d":"5,667"},0,0,0,0,{"v":5556,"d":"5,556"},0,0,{"v":5556,"d":"5,556"},49,0,0,49,33,0,32,1,0,0,0,0,29,0,0,29,{"v":2416,"d":"2,416"},{"v":1593,"d":"1,593"},0,572,463,0,0,558,823,0,750,21,0,0,52,{"v":22326,"d":"22,326"},0,{"v":17127,"d":"17,127"},{"v":1014,"d":"1,014"},{"v":3599,"d":"3,599"},9,577,{"v":20733,"d":"20,733"},0,{"v":16555,"d":"16,555"},551,{"v":3599,"d":"3,599"},9,19,{"v":1593,"d":"1,593"},0,572,463,0,0,558,{"v":6490,"d":"6,490"},0,{"v":6306,"d":"6,306"},70,33,0,81,{"v":5667,"d":"5,667"},0,{"v":5556,"d":"5,556"},49,33,0,29,823,0,750,21,0,0,52,0,5,0,0,0,5]
["茨城県","08220","つくば市",{"v":91362,"d":"91,362"},{"v":52814,"d":"52,814"},0,0,0,0,{"v":45565,"d":"45,565"},0,{"v":45565,"d":"45,565"},0,{"v":2014,"d":"2,014"},0,{"v":2014,"d":"2,014"},0,{"v":4924,"d":"4,924"},52,{"v":4872,"d":"4,872"},0,44,0,44,0,267,0,267,0,{"v":35307,"d":"35,307"},0,0,0,0,{"v":24344,"d":"24,344"},0,0,{"v":24344,"d":"24,344"},474,0,0,474,{"v":10277,"d":"10,277"},0,0,{"v":10277,"d":"10,277"},0,0,0,0,212,0,0,212,{"v":3241,"d":"3,241"},{"v":3228,"d":"3,228"},0,{"v":1344,"d":"1,344"},260,191,0,{"v":1433,"d":"1,433"},13,0,0,0,13,0,0,{"v":56042,"d":"56,042"},0,{"v":46909,"d":"46,909"},{"v":2274,"d":"2,274"},{"v":5115,"d":"5,115"},44,{"v":1700,"d":"1,700"},{"v":52814,"d":"52,814"},0,{"v":45565,"d":"45,565"},{"v":2014,"d":"2,014"},{"v":4924,"d":"4,924"},44,267,{"v":3228,"d":"3,228"},0,{"v":1344,"d":"1,344"},260,191,0,{"v":1433,"d":"1,433"},{"v":35320,"d":"35,320"},0,{"v":24344,"d":"24,344"},474,{"v":10290,"d":"10,290"},0,212,{"v":35307,"d":"35,307"},0,{"v":24344,"d":"24,344"},474,{"v":10277,"d":"10,277"},0,212,13,0,0,0,13,0,0,0,0,0,0,0,0]
["茨城県","08221","ひたちなか市",{"v":53962,"d":"53,962"},{"v":37180,"d":"37,180"},0,0,0,0,{"v":34524,"d":"34,524"},{"v":1287,"d":"1,287"},{"v":33237,"d":"33,237"},0,{"v":1910,"d":"1,910"},269,{"v":1641,"d":"1,641"},0,704,484,220,0,10,0,10,0,32,0,32,0,{"v":13914,"d":"13,914"},0,0,0,0,{"v":13851,"d":"13,851"},0,0,{"v":13851,"d":"13,851"},63,0,0,63,0,0,0,0,0,0,0,0,0,0,0,0,{"v":2868,"d":"2,868"},{"v":2152,"d":"2,152"},0,{"v":2079,"d":"2,079"},73,0,0,0,716,0,692,24,0,0,0,{"v":39332,"d":"39,332"},0,{"v":36603,"d":"36,603"},{"v":1983,"d":"1,983"},704,10,32,{"v":37180,"d":"37,180"},0,{"v":34524,"d":"34,524"},{"v":1910,"d":"1,910"},704,10,32,{"v":2152,"d":"2,152"},0,{"v":2079,"d":"2,079"},73,0,0,0,{"v":14630,"d":"14,630"},0,{"v":14543,"d":"14,543"},87,0,0,0,{"v":13914,"d":"13,914"},0,{"v":13851,"d":"13,851"},63,0,0,0,716,0,692,24,0,0,0,0,0,0,0,0,0]
["茨城県","08222","鹿嶋市",{"v":22772,"d":"22,772"},{"v":14965,"d":"14,965"},0,0,0,0,{"v":12251,"d":"12,251"},0,{"v":12251,"d":"12,251"},0,{"v":2603,"d":"2,603"},0,{"v":2603,"d":"2,603"},0,0,0,0,0,0,0,0,0,111,0,111,0,{"v":4663,"d":"4,663"},0,0,0,0,{"v":4375,"d":"4,375"},0,0,{"v":4375,"d":"4,375"},288,0,0,288,0,0,0,0,0,0,0,0,0,0,0,0,{"v":3144,"d":"3,144"},{"v":2421,"d":"2,421"},0,{"v":1080,"d":"1,080"},449,439,0,453,723,0,383,340,0,0,0,{"v":17386,"d":"17,386"},0,{"v":13331,"d":"13,331"},{"v":3052,"d":"3,052"},439,0,564,{"v":14965,"d":"14,965"},0,{"v":12251,"d":"12,251"},{"v":2603,"d":"2,603"},0,0,111,{"v":2421,"d":"2,421"},0,{"v":1080,"d":"1,080"},449,439,0,453,{"v":5386,"d":"5,386"},0,{"v":4758,"d":"4,758"},628,0,0,0,{"v":4663,"d":"4,663"},0,{"v":4375,"d":"4,375"},288,0,0,0,723,0,383,340,0,0,0,0,0,0,0,0,0]
["茨城県","08223","潮来市",{"v":10886,"d":"10,886"},{"v":6777,"d":"6,777"},0,0,0,0,{"v":5090,"d":"5,090"},0,{"v":5090,"d":"5,090"},0,428,0,428,0,{"v":1259,"d":"1,259"},0,{"v":1259,"d":"1,259"},0,0,0,0,0,0,0,0,0,{"v":2950,"d":"2,950"},0,0,0,0,{"v":1992,"d":"1,992"},0,0,{"v":1992,"d":"1,992"},2,0,0,2,948,0,0,948,0,0,0,0,8,0,0,8,{"v":1159,"d":"1,159"},773,0,493,58,0,0,222,386,0,307,75,4,0,0,{"v":7550,"d":"7,550"},0,{"v":5583,"d":"5,583"},486,{"v":1259,"d":"1,259"},0,222,{"v":6777,"d":"6,777"},0,{"v":5090,"d":"5,090"},428,{"v":1259,"d":"1,259"},0,0,773,0,493,58,0,0,222,{"v":3336,"d":"3,336"},0,{"v":2299,"d":"2,299"},77,952,0,8,{"v":2950,"d":"2,950"},0,{"v":1992,"d":"1,992"},2,948,0,8,386,0,307,75,4,0,0,0,0,0,0,0,0]
["茨城県","08224","守谷市",{"v":18738,"d":"18,738"},{"v":14456,"d":"14,456"},0,0,0,0,{"v":9554,"d":"9,554"},17,{"v":9537,"d":"9,537"},0,{"v":2087,"d":"2,087"},5,{"v":2082,"d":"2,082"},0,{"v":2606,"d":"2,606"},0,{"v":2606,"d":"2,606"},0,16,16,0,0,193,22,171,0,{"v":3941,"d":"3,941"},0,0,0,0,{"v":3814,"d":"3,814"},0,0,{"v":3814,"d":"3,814"},127,0,0,127,0,0,0,0,0,0,0,0,0,0,0,0,341,268,0,9,3,0,0,256,73,0,71,1,1,0,0,{"v":14724,"d":"14,724"},0,{"v":9563,"d":"9,563"},{"v":2090,"d":"2,090"},{"v":2606,"d":"2,606"},16,449,{"v":14456,"d":"14,456"},0,{"v":9554,"d":"9,554"},{"v":2087,"d":"2,087"},{"v":2606,"d":"2,606"},16,193,268,0,9,3,0,0,256,{"v":4014,"d":"4,014"},0,{"v":3885,"d":"3,885"},128,1,0,0,{"v":3941,"d":"3,941"},0,{"v":3814,"d":"3,814"},127,0,0,0,73,0,71,1,1,0,0,0,0,0,0,0,0]
["茨城県","08225","常陸大宮市",{"v":14193,"d":"14,193"},{"v":9941,"d":"9,941"},0,0,0,0,{"v":7750,"d":"7,750"},85,{"v":7665,"d":"7,665"},0,0,0,0,0,{"v":1486,"d":"1,486"},8,{"v":1478,"d":"1,478"},0,0,0,0,0,705,58,647,0,{"v":2836,"d":"2,836"},0,0,0,0,{"v":2823,"d":"2,823"},0,0,{"v":2823,"d":"2,823"},0,0,0,0,10,0,0,10,0,0,0,0,3,0,0,3,{"v":1416,"d":"1,416"},804,0,643,0,19,0,142,612,0,584,0,14,0,14,{"v":10745,"d":"10,745"},0,{"v":8393,"d":"8,393"},0,{"v":1505,"d":"1,505"},0,847,{"v":9941,"d":"9,941"},0,{"v":7750,"d":"7,750"},0,{"v":1486,"d":"1,486"},0,705,804,0,643,0,19,0,142,{"v":3448,"d":"3,448"},0,{"v":3407,"d":"3,407"},0,24,0,17,{"v":2836,"d":"2,836"},0,{"v":2823,"d":"2,823"},0,10,0,3,612,0,584,0,14,0,14,0,0,0,0,0,0]
["茨城県","08226","那珂市",{"v":16772,"d":"16,772"},{"v":12009,"d":"12,009"},0,0,0,0,{"v":10113,"d":"10,113"},354,{"v":9759,"d":"9,759"},0,0,0,0,0,{"v":1558,"d":"1,558"},21,{"v":1537,"d":"1,537"},0,0,0,0,0,338,42,296,0,{"v":2091,"d":"2,091"},0,0,0,0,{"v":2073,"d":"2,073"},0,0,{"v":2073,"d":"2,073"},0,0,0,0,2,0,0,2,0,0,0,0,16,0,0,16,{"v":2672,"d":"2,672"},{"v":1581,"d":"1,581"},0,{"v":1287,"d":"1,287"},0,31,0,263,{"v":1091,"d":"1,091"},0,{"v":1059,"d":"1,059"},0,14,0,18,{"v":13590,"d":"13,590"},0,{"v":11400,"d":"11,400"},0,{"v":1589,"d":"1,589"},0,601,{"v":12009,"d":"12,009"},0,{"v":10113,"d":"10,113"},0,{"v":1558,"d":"1,558"},0,338,{"v":1581,"d":"1,581"},0,{"v":1287,"d":"1,287"},0,31,0,263,{"v":3182,"d":"3,182"},0,{"v":3132,"d":"3,132"},0,16,0,34,{"v":2091,"d":"2,091"},0,{"v":2073,"d":"2,073"},0,2,0,16,{"v":1091,"d":"1,091"},0,{"v":1059,"d":"1,059"},0,14,0,18,0,0,0,0,0,0]
["茨城県","08227","筑西市",{"v":30981,"d":"30,981"},{"v":25560,"d":"25,560"},0,0,0,0,{"v":21524,"d":"21,524"},97,{"v":21427,"d":"21,427"},0,{"v":1462,"d":"1,462"},37,{"v":1425,"d":"1,425"},0,{"v":2551,"d":"2,551"},0,{"v":2551,"d":"2,551"},0,0,0,0,0,23,0,23,0,{"v":4532,"d":"4,532"},0,0,0,0,{"v":4377,"d":"4,377"},0,0,{"v":4377,"d":"4,377"},155,0,0,155,0,0,0,0,0,0,0,0,0,0,0,0,889,889,0,695,194,0,0,0,0,0,0,0,0,0,0,{"v":26449,"d":"26,449"},0,{"v":22219,"d":"22,219"},{"v":1656,"d":"1,656"},{"v":2551,"d":"2,551"},0,23,{"v":25560,"d":"25,560"},0,{"v":21524,"d":"21,524"},{"v":1462,"d":"1,462"},{"v":2551,"d":"2,551"},0,23,889,0,695,194,0,0,0,{"v":4532,"d":"4,532"},0,{"v":4377,"d":"4,377"},155,0,0,0,{"v":4532,"d":"4,532"},0,{"v":4377,"d":"4,377"},155,0,0,0,0,0,0,0,0,0,0,0,0,0,0,0,0]
["茨城県","08228","坂東市",{"v":16626,"d":"16,626"},{"v":12205,"d":"12,205"},3,0,3,0,{"v":9919,"d":"9,919"},241,{"v":9678,"d":"9,678"},0,512,8,504,0,{"v":1320,"d":"1,320"},16,{"v":1304,"d":"1,304"},0,0,0,0,0,451,76,375,0,{"v":2824,"d":"2,824"},0,0,0,0,{"v":2800,"d":"2,800"},0,0,{"v":2800,"d":"2,800"},0,0,0,0,24,0,0,24,0,0,0,0,0,0,0,0,{"v":1597,"d":"1,597"},192,0,61,21,5,0,105,{"v":1405,"d":"1,405"},0,165,0,{"v":1190,"d":"1,190"},0,50,{"v":12397,"d":"12,397"},3,{"v":9980,"d":"9,980"},533,{"v":1325,"d":"1,325"},0,556,{"v":12205,"d":"12,205"},3,{"v":9919,"d":"9,919"},512,{"v":1320,"d":"1,320"},0,451,192,0,61,21,5,0,105,{"v":4229,"d":"4,229"},0,{"v":2965,"d":"2,965"},0,{"v":1214,"d":"1,214"},0,50,{"v":2824,"d":"2,824"},0,{"v":2800,"d":"2,800"},0,24,0,0,{"v":1405,"d":"1,405"},0,165,0,{"v":1190,"d":"1,190"},0,50,0,7,0,7,0,0]
["茨城県","08229","稲敷市",{"v":14405,"d":"14,405"},{"v":9696,"d":"9,696"},0,0,0,0,{"v":8331,"d":"8,331"},0,{"v":8331,"d":"8,331"},0,538,0,538,0,702,0,702,0,45,0,45,0,80,0,80,0,{"v":3083,"d":"3,083"},0,0,0,0,{"v":2266,"d":"2,266"},0,0,{"v":2266,"d":"2,266"},6,0,0,6,609,0,0,609,1,0,0,1,201,0,0,201,{"v":1626,"d":"1,626"},833,0,60,5,0,6,762,793,0,464,9,0,11,309,{"v":10529,"d":"10,529"},0,{"v":8391,"d":"8,391"},543,702,51,842,{"v":9696,"d":"9,696"},0,{"v":8331,"d":"8,331"},538,702,45,80,833,0,60,5,0,6,762,{"v":3876,"d":"3,876"},0,{"v":2730,"d":"2,730"},15,609,12,510,{"v":3083,"d":"3,083"},0,{"v":2266,"d":"2,266"},6,609,1,201,793,0,464,9,0,11,309,0,7,0,7,0,0]
["茨城県","08230","かすみがうら市",{"v":16600,"d":"16,600"},{"v":10276,"d":"10,276"},0,0,0,0,{"v":8792,"d":"8,792"},0,{"v":8792,"d":"8,792"},0,391,0,391,0,830,0,830,0,0,0,0,0,263,0,263,0,{"v":4806,"d":"4,806"},0,0,0,0,{"v":3095,"d":"3,095"},0,0,{"v":3095,"d":"3,095"},6,0,0,6,{"v":1696,"d":"1,696"},0,0,{"v":1696,"d":"1,696"},0,0,0,0,9,0,0,9,{"v":1518,"d":"1,518"},{"v":1096,"d":"1,096"},0,660,24,2,0,410,422,0,370,1,0,0,51,{"v":11372,"d":"11,372"},0,{"v":9452,"d":"9,452"},415,832,0,673,{"v":10276,"d":"10,276"},0,{"v":8792,"d":"8,792"},391,830,0,263,{"v":1096,"d":"1,096"},0,660,24,2,0,410,{"v":5228,"d":"5,228"},0,{"v":3465,"d":"3,465"},7,{"v":1696,"d":"1,696"},0,60,{"v":4806,"d":"4,806"},0,{"v":3095,"d":"3,095"},6,{"v":1696,"d":"1,696"},0,9,422,0,370,1,0,0,51,0,2,0,2,0,0]
["茨城県","08231","桜川市",{"v":10947,"d":"10,947"},{"v":9009,"d":"9,009"},0,0,0,0,{"v":8419,"d":"8,419"},0,{"v":8419,"d":"8,419"},0,256,0,256,0,0,0,0,0,0,0,0,0,334,334,0,0,{"v":1834,"d":"1,834"},0,0,0,0,{"v":1771,"d":"1,771"},0,0,{"v":1771,"d":"1,771"},63,0,0,63,0,0,0,0,0,0,0,0,0,0,0,0,104,104,0,80,24,0,0,0,0,0,0,0,0,0,0,{"v":9113,"d":"9,113"},0,{"v":8499,"d":"8,499"},280,0,0,334,{"v":9009,"d":"9,009"},0,{"v":8419,"d":"8,419"},256,0,0,334,104,0,80,24,0,0,0,{"v":1834,"d":"1,834"},0,{"v":1771,"d":"1,771"},63,0,0,0,{"v":1834,"d":"1,834"},0,{"v":1771,"d":"1,771"},63,0,0,0,0,0,0,0,0,0,0,0,0,0,0,0,0]
["茨城県","08232","神栖市",{"v":36614,"d":"36,614"},{"v":19788,"d":"19,788"},0,0,0,0,{"v":16228,"d":"16,228"},0,{"v":16228,"d":"16,228"},0,{"v":1977,"d":"1,977"},0,{"v":1977,"d":"1,977"},0,{"v":1455,"d":"1,455"},0,{"v":1455,"d":"1,455"},0,39,0,39,0,89,0,89,0,{"v":13301,"d":"13,301"},0,0,0,0,{"v":4862,"d":"4,862"},0,0,{"v":4862,"d":"4,862"},{"v":1076,"d":"1,076"},0,0,{"v":1076,"d":"1,076"},{"v":7253,"d":"7,253"},0,0,{"v":7253,"d":"7,253"},1,0,0,1,109,0,0,109,{"v":3525,"d":"3,525"},{"v":3115,"d":"3,115"},0,600,794,764,1,956,410,0,284,57,22,1,46,{"v":22903,"d":"22,903"},0,{"v":16828,"d":"16,828"},{"v":2771,"d":"2,771"},{"v":2219,"d":"2,219"},40,{"v":1045,"d":"1,045"},{"v":19788,"d":"19,788"},0,{"v":16228,"d":"16,228"},{"v":1977,"d":"1,977"},{"v":1455,"d":"1,455"},39,89,{"v":3115,"d":"3,115"},0,600,794,764,1,956,{"v":13711,"d":"13,711"},0,{"v":5146,"d":"5,146"},{"v":1133,"d":"1,133"},{"v":7275,"d":"7,275"},2,155,{"v":13301,"d":"13,301"},0,{"v":4862,"d":"4,862"},{"v":1076,"d":"1,076"},{"v":7253,"d":"7,253"},1,109,410,0,284,57,22,1,46,0,0,0,0,0,0]
["茨城県","08233","行方市",{"v":10661,"d":"10,661"},{"v":7055,"d":"7,055"},0,0,0,0,{"v":5934,"d":"5,934"},0,{"v":5934,"d":"5,934"},0,383,0,383,0,732,0,732,0,0,0,0,0,6,6,0,0,{"v":1855,"d":"1,855"},0,0,0,0,{"v":1855,"d":"1,855"},0,0,{"v":1855,"d":"1,855"},0,0,0,0,0,0,0,0,0,0,0,0,0,0,0,0,{"v":1751,"d":"1,751"},{"v":1140,"d":"1,140"},0,746,144,45,0,205,611,0,563,32,5,0,11,{"v":8195,"d":"8,195"},0,{"v":6680,"d":"6,680"},527,777,0,211,{"v":7055,"d":"7,055"},0,{"v":5934,"d":"5,934"},383,732,0,6,{"v":1140,"d":"1,140"},0,746,144,45,0,205,{"v":2466,"d":"2,466"},0,{"v":2418,"d":"2,418"},32,5,0,11,{"v":1855,"d":"1,855"},0,{"v":1855,"d":"1,855"},0,0,0,0,611,0,563,32,5,0,11,0,0,0,0,0,0]
["茨城県","08234","鉾田市",{"v":12159,"d":"12,159"},{"v":8787,"d":"8,787"},0,0,0,0,{"v":7728,"d":"7,728"},0,{"v":7728,"d":"7,728"},0,742,0,742,0,309,0,309,0,7,0,7,0,1,0,1,0,{"v":1403,"d":"1,403"},0,0,0,0,{"v":1391,"d":"1,391"},0,0,{"v":1391,"d":"1,391"},9,0,0,9,0,0,0,0,0,0,0,0,3,0,0,3,{"v":1969,"d":"1,969"},{"v":1665,"d":"1,665"},0,{"v":1072,"d":"1,072"},161,74,6,352,304,0,282,5,16,0,1,{"v":10452,"d":"10,452"},0,{"v":8800,"d":"8,800"},903,383,13,353,{"v":8787,"d":"8,787"},0,{"v":7728,"d":"7,728"},742,309,7,1,{"v":1665,"d":"1,665"},0,{"v":1072,"d":"1,072"},161,74,6,352,{"v":1707,"d":"1,707"},0,{"v":1673,"d":"1,673"},14,16,0,4,{"v":1403,"d":"1,403"},0,{"v":1391,"d":"1,391"},9,0,0,3,304,0,282,5,16,0,1,0,3,0,0,0,3]
["茨城県","08235","つくばみらい市",{"v":12875,"d":"12,875"},{"v":10923,"d":"10,923"},0,0,0,0,{"v":7498,"d":"7,498"},17,{"v":7481,"d":"7,481"},0,{"v":1673,"d":"1,673"},2,{"v":1671,"d":"1,671"},0,{"v":1582,"d":"1,582"},0,{"v":1582,"d":"1,582"},0,16,16,0,0,154,27,127,0,{"v":1838,"d":"1,838"},0,0,0,0,{"v":1821,"d":"1,821"},0,0,{"v":1821,"d":"1,821"},17,0,0,17,0,0,0,0,0,0,0,0,0,0,0,0,114,101,0,2,1,0,0,98,13,0,11,0,2,0,0,{"v":11024,"d":"11,024"},0,{"v":7500,"d":"7,500"},{"v":1674,"d":"1,674"},{"v":1582,"d":"1,582"},16,252,{"v":10923,"d":"10,923"},0,{"v":7498,"d":"7,498"},{"v":1673,"d":"1,673"},{"v":1582,"d":"1,582"},16,154,101,0,2,1,0,0,98,{"v":1851,"d":"1,851"},0,{"v":1832,"d":"1,832"},17,2,0,0,{"v":1838,"d":"1,838"},0,{"v":1821,"d":"1,821"},17,0,0,0,13,0,11,0,2,0,0,0,0,0,0,0,0]
["茨城県","08236","小美玉市",{"v":17485,"d":"17,485"},{"v":10842,"d":"10,842"},0,0,0,0,{"v":9724,"d":"9,724"},2,{"v":9722,"d":"9,722"},0,536,0,536,0,560,0,560,0,0,0,0,0,22,0,22,0,{"v":3764,"d":"3,764"},0,0,0,0,{"v":2809,"d":"2,809"},0,0,{"v":2809,"d":"2,809"},24,0,0,24,931,0,0,931,0,0,0,0,0,0,0,0,{"v":2879,"d":"2,879"},{"v":1246,"d":"1,246"},0,881,91,152,0,122,{"v":1633,"d":"1,633"},0,{"v":1550,"d":"1,550"},24,33,0,26,{"v":12088,"d":"12,088"},0,{"v":10605,"d":"10,605"},627,712,0,144,{"v":10842,"d":"10,842"},0,{"v":9724,"d":"9,724"},536,560,0,22,{"v":1246,"d":"1,246"},0,881,91,152,0,122,{"v":5397,"d":"5,397"},0,{"v":4359,"d":"4,359"},48,964,0,26,{"v":3764,"d":"3,764"},0,{"v":2809,"d":"2,809"},24,931,0,0,{"v":1633,"d":"1,633"},0,{"v":1550,"d":"1,550"},24,33,0,26,0,5,0,5,0,0]
["茨城県","08302","茨城町",{"v":10536,"d":"10,536"},{"v":7176,"d":"7,176"},0,0,0,0,{"v":6454,"d":"6,454"},0,{"v":6454,"d":"6,454"},0,200,0,200,0,511,0,511,0,0,0,0,0,11,0,11,0,{"v":2825,"d":"2,825"},0,0,0,0,{"v":1914,"d":"1,914"},0,0,{"v":1914,"d":"1,914"},7,0,0,7,904,0,0,904,0,0,0,0,0,0,0,0,535,392,0,240,37,115,0,0,143,0,142,1,0,0,0,{"v":7568,"d":"7,568"},0,{"v":6694,"d":"6,694"},237,626,0,11,{"v":7176,"d":"7,176"},0,{"v":6454,"d":"6,454"},200,511,0,11,392,0,240,37,115,0,0,{"v":2968,"d":"2,968"},0,{"v":2056,"d":"2,056"},8,904,0,0,{"v":2825,"d":"2,825"},0,{"v":1914,"d":"1,914"},7,904,0,0,143,0,142,1,0,0,0,0,0,0,0,0,0]
["茨城県","08309","大洗町",{"v":9137,"d":"9,137"},{"v":4998,"d":"4,998"},0,0,0,0,{"v":3991,"d":"3,991"},0,{"v":3991,"d":"3,991"},0,129,0,129,0,846,0,846,0,0,0,0,0,32,0,32,0,{"v":3300,"d":"3,300"},0,0,0,0,{"v":3256,"d":"3,256"},0,574,{"v":2682,"d":"2,682"},35,0,8,27,0,0,0,0,0,0,0,0,9,0,2,7,839,445,0,338,17,0,0,90,394,0,386,2,0,0,6,{"v":5443,"d":"5,443"},0,{"v":4329,"d":"4,329"},146,846,0,122,{"v":4998,"d":"4,998"},0,{"v":3991,"d":"3,991"},129,846,0,32,445,0,338,17,0,0,90,{"v":3694,"d":"3,694"},0,{"v":3642,"d":"3,642"},37,0,0,15,{"v":3300,"d":"3,300"},0,{"v":3256,"d":"3,256"},35,0,0,9,394,0,386,2,0,0,6,0,1,0,0,0,1]
["茨城県","08310","城里町",{"v":5647,"d":"5,647"},{"v":4244,"d":"4,244"},0,0,0,0,{"v":3698,"d":"3,698"},0,{"v":3698,"d":"3,698"},0,0,0,0,0,272,18,254,0,9,0,9,0,265,0,265,0,729,0,0,0,0,717,0,0,717,0,0,0,0,8,0,0,8,0,0,0,0,4,0,0,4,674,372,0,335,0,22,0,15,302,0,277,0,15,0,10,{"v":4616,"d":"4,616"},0,{"v":4033,"d":"4,033"},0,294,9,280,{"v":4244,"d":"4,244"},0,{"v":3698,"d":"3,698"},0,272,9,265,372,0,335,0,22,0,15,{"v":1031,"d":"1,031"},0,994,0,23,0,14,729,0,717,0,8,0,4,302,0,277,0,15,0,10,0,0,0,0,0,0]
["茨城県","08341","東海村",{"v":13267,"d":"13,267"},{"v":9836,"d":"9,836"},0,0,0,0,{"v":6954,"d":"6,954"},221,{"v":6733,"d":"6,733"},0,489,0,489,0,{"v":2393,"d":"2,393"},0,{"v":2393,"d":"2,393"},0,0,0,0,0,0,0,0,0,{"v":2445,"d":"2,445"},0,0,0,0,{"v":2367,"d":"2,367"},0,0,{"v":2367,"d":"2,367"},39,0,0,39,39,0,0,39,0,0,0,0,0,0,0,0,986,752,0,177,204,371,0,0,234,0,48,23,163,0,0,{"v":10588,"d":"10,588"},0,{"v":7131,"d":"7,131"},693,{"v":2764,"d":"2,764"},0,0,{"v":9836,"d":"9,836"},0,{"v":6954,"d":"6,954"},489,{"v":2393,"d":"2,393"},0,0,752,0,177,204,371,0,0,{"v":2679,"d":"2,679"},0,{"v":2415,"d":"2,415"},62,202,0,0,{"v":2445,"d":"2,445"},0,{"v":2367,"d":"2,367"},39,39,0,0,234,0,48,23,163,0,0,0,0,0,0,0,0]
["茨城県","08364","大子町",{"v":6713,"d":"6,713"},{"v":4130,"d":"4,130"},0,0,0,0,{"v":3429,"d":"3,429"},{"v":3429,"d":"3,429"},0,0,0,0,0,0,701,701,0,0,0,0,0,0,0,0,0,0,{"v":1379,"d":"1,379"},0,0,0,0,895,857,0,38,0,0,0,0,484,484,0,0,0,0,0,0,0,0,0,0,{"v":1204,"d":"1,204"},998,0,857,0,141,0,0,206,0,176,0,30,0,0,{"v":5128,"d":"5,128"},0,{"v":4286,"d":"4,286"},0,842,0,0,{"v":4130,"d":"4,130"},0,{"v":3429,"d":"3,429"},0,701,0,0,998,0,857,0,141,0,0,{"v":1585,"d":"1,585"},0,{"v":1071,"d":"1,071"},0,514,0,0,{"v":1379,"d":"1,379"},0,895,0,484,0,0,206,0,176,0,30,0,0,0,0,0,0,0,0]
["茨城県","08442","美浦村",{"v":5714,"d":"5,714"},{"v":3951,"d":"3,951"},0,0,0,0,{"v":3281,"d":"3,281"},0,{"v":3281,"d":"3,281"},0,234,0,234,0,341,0,341,0,17,0,17,0,78,0,78,0,{"v":1327,"d":"1,327"},0,0,0,0,802,0,0,802,2,0,0,2,411,0,0,411,0,0,0,0,112,0,0,112,436,126,0,11,1,0,1,113,310,0,90,3,0,10,207,{"v":4077,"d":"4,077"},0,{"v":3292,"d":"3,292"},235,341,18,191,{"v":3951,"d":"3,951"},0,{"v":3281,"d":"3,281"},234,341,17,78,126,0,11,1,0,1,113,{"v":1637,"d":"1,637"},0,892,5,411,10,319,{"v":1327,"d":"1,327"},0,802,2,411,0,112,310,0,90,3,0,10,207,0,4,0,4,0,0]
["茨城県","08443","阿見町",{"v":17989,"d":"17,989"},{"v":12275,"d":"12,275"},0,0,0,0,{"v":10578,"d":"10,578"},0,{"v":10578,"d":"10,578"},0,410,0,410,0,{"v":1241,"d":"1,241"},0,{"v":1241,"d":"1,241"},0,0,0,0,0,46,0,46,0,{"v":3863,"d":"3,863"},0,0,0,0,{"v":3814,"d":"3,814"},0,0,{"v":3814,"d":"3,814"},43,0,0,43,6,0,0,6,0,0,0,0,0,0,0,0,{"v":1851,"d":"1,851"},{"v":1351,"d":"1,351"},0,615,72,112,0,552,500,0,489,8,3,0,0,{"v":13626,"d":"13,626"},0,{"v":11193,"d":"11,193"},482,{"v":1353,"d":"1,353"},0,598,{"v":12275,"d":"12,275"},0,{"v":10578,"d":"10,578"},410,{"v":1241,"d":"1,241"},0,46,{"v":1351,"d":"1,351"},0,615,72,112,0,552,{"v":4363,"d":"4,363"},0,{"v":4303,"d":"4,303"},51,9,0,0,{"v":3863,"d":"3,863"},0,{"v":3814,"d":"3,814"},43,6,0,0,500,0,489,8,3,0,0,0,2,0,2,0,0]
["茨城県","08447","河内町",{"v":3019,"d":"3,019"},{"v":2373,"d":"2,373"},0,0,0,0,{"v":1919,"d":"1,919"},41,{"v":1878,"d":"1,878"},0,125,2,123,0,311,0,311,0,0,0,0,0,18,4,14,0,324,0,0,0,0,322,0,0,322,1,0,0,1,0,0,0,0,0,0,0,0,1,0,0,1,322,46,0,32,5,0,0,9,276,0,5,1,269,0,1,{"v":2419,"d":"2,419"},0,{"v":1951,"d":"1,951"},130,311,0,27,{"v":2373,"d":"2,373"},0,{"v":1919,"d":"1,919"},125,311,0,18,46,0,32,5,0,0,9,600,0,327,2,269,0,2,324,0,322,1,0,0,1,276,0,5,1,269,0,1,0,0,0,0,0,0]
["茨城県","08521","八千代町",{"v":5567,"d":"5,567"},{"v":3438,"d":"3,438"},0,0,0,0,{"v":2917,"d":"2,917"},0,{"v":2917,"d":"2,917"},0,172,0,172,0,333,0,333,0,8,0,8,0,8,0,8,0,{"v":1471,"d":"1,471"},0,0,0,0,{"v":1153,"d":"1,153"},0,0,{"v":1153,"d":"1,153"},13,0,0,13,305,0,0,305,0,0,0,0,0,0,0,0,658,359,0,162,26,0,0,171,299,0,268,31,0,0,0,{"v":3797,"d":"3,797"},0,{"v":3079,"d":"3,079"},198,333,8,179,{"v":3438,"d":"3,438"},0,{"v":2917,"d":"2,917"},172,333,8,8,359,0,162,26,0,0,171,{"v":1770,"d":"1,770"},0,{"v":1421,"d":"1,421"},44,305,0,0,{"v":1471,"d":"1,471"},0,{"v":1153,"d":"1,153"},13,305,0,0,299,0,268,31,0,0,0,0,0,0,0,0,0]
["茨城県","08542","五霞町",{"v":3393,"d":"3,393"},{"v":2351,"d":"2,351"},0,0,0,0,{"v":1979,"d":"1,979"},0,{"v":1979,"d":"1,979"},0,64,0,64,0,223,0,223,0,0,0,0,0,85,0,85,0,920,0,0,0,0,919,0,0,919,0,0,0,0,1,0,0,1,0,0,0,0,0,0,0,0,122,122,0,62,5,1,0,54,0,0,0,0,0,0,0,{"v":2473,"d":"2,473"},0,{"v":2041,"d":"2,041"},69,224,0,139,{"v":2351,"d":"2,351"},0,{"v":1979,"d":"1,979"},64,223,0,85,122,0,62,5,1,0,54,920,0,919,0,1,0,0,920,0,919,0,1,0,0,0,0,0,0,0,0,0,0,0,0,0,0,0]
["茨城県","08546","境町",{"v":8237,"d":"8,237"},{"v":6020,"d":"6,020"},0,0,0,0,{"v":5117,"d":"5,117"},155,{"v":4962,"d":"4,962"},0,140,7,133,0,599,2,595,2,0,0,0,0,164,56,108,0,{"v":1630,"d":"1,630"},0,0,0,0,{"v":1263,"d":"1,263"},0,0,{"v":1263,"d":"1,263"},0,0,0,0,365,0,0,365,0,0,0,0,2,0,0,2,587,278,0,98,42,6,0,132,309,0,225,0,0,0,84,{"v":6298,"d":"6,298"},0,{"v":5215,"d":"5,215"},182,605,0,296,{"v":6020,"d":"6,020"},0,{"v":5117,"d":"5,117"},140,599,0,164,278,0,98,42,6,0,132,{"v":1939,"d":"1,939"},0,{"v":1488,"d":"1,488"},0,365,0,86,{"v":1630,"d":"1,630"},0,{"v":1263,"d":"1,263"},0,365,0,2,309,0,225,0,0,0,84,0,0,0,0,0,0]
["茨城県","08564","利根町",{"v":4841,"d":"4,841"},{"v":4357,"d":"4,357"},0,0,0,0,{"v":3604,"d":"3,604"},42,{"v":3562,"d":"3,562"},0,200,2,198,0,427,2,425,0,0,0,0,0,126,4,122,0,409,0,0,0,0,406,0,0,406,1,0,0,1,0,0,0,0,0,0,0,0,2,0,0,2,75,66,0,45,6,0,0,15,9,0,8,0,0,0,1,{"v":4423,"d":"4,423"},0,{"v":3649,"d":"3,649"},206,427,0,141,{"v":4357,"d":"4,357"},0,{"v":3604,"d":"3,604"},200,427,0,126,66,0,45,6,0,0,15,418,0,414,1,0,0,3,409,0,406,1,0,0,2,9,0,8,0,0,0,1,0,0,0,0,0,0]

{"sheet":"施設区分別搬入量内訳","index":2,"n_rows":51,"n_cols":144,"rows_kept":51,"merged":[[1,0,5,0],[1,1,5,1],[1,2,5,2]]}
["処理施設別ごみ搬入量の状況（平成28年度実績）"]
["都道府県名","地方公共団体コード","市区町村名","処理施設別のごみ搬入量(処理施設+直接資源化+直接埋立)"]
[{"$nulls":4},"焼却施設（収集ごみ＋直接搬入ごみ）",{"$nulls":14},"粗大ごみ処理施設（収集ごみ＋直接搬入ごみ）",{"$nulls":14},"ごみ堆肥化施設（収集ごみ＋直接搬入ごみ）",{"$nulls":14},"ごみ飼料化施設（収集ごみ＋直接搬入ごみ）",{"$nulls":14},"メタン化施設（収集ごみ＋直接搬入ごみ）",{"$nulls":14},"ごみ燃料化施設（収集ごみ＋直接搬入ごみ）",{"$nulls":14},"その他の資源化等を行う施設（収集ごみ＋直接搬入ごみ）　＋　セメント等への直接投入（収集ごみ＋直接搬入ごみ）",{"$nulls":14},"その他の施設（収集ごみ＋直接搬入ごみ）",{"$nulls":14},"直接資源化（収集ごみ＋直接搬入ごみ）",{"$nulls":4},"直接埋立（収集ごみ＋直接搬入ごみ）"]
[{"$nulls":5},"収集ごみ (混合ごみ+可燃ごみ+不燃ごみ+資源ごみ+その他+粗大ごみ)",{"$nulls":6},"直接搬入ごみ (混合ごみ+可燃ごみ+不燃ごみ+資源ごみ+その他+粗大ごみ)",{"$nulls":7},"収集ごみ (混合ごみ+可燃ごみ+不燃ごみ+資源ごみ+その他+粗大ごみ)",{"$nulls":6},"直接搬入ごみ (混合ごみ+可燃ごみ+不燃ごみ+資源ごみ+その他+粗大ごみ)",{"$nulls":7},"収集ごみ (混合ごみ+可燃ごみ+不燃ごみ+資源ごみ+その他+粗大ごみ)",{"$nulls":6},"直接搬入ごみ (混合ごみ+可燃ごみ+不燃ごみ+資源ごみ+その他+粗大ごみ)",{"$nulls":7},"収集ごみ (混合ごみ+可燃ごみ+不燃ごみ+資源ごみ+その他+粗大ごみ)",{"$nulls":6},"直接搬入ごみ (混合ごみ+可燃ごみ+不燃ごみ+資源ごみ+その他+粗大ごみ)",{"$nulls":7},"収集ごみ (混合ごみ+可燃ごみ+不燃ごみ+資源ごみ+その他+粗大ごみ)",{"$nulls":6},"直接搬入ごみ (混合ごみ+可燃ごみ+不燃ごみ+資源ごみ+その他+粗大ごみ)",{"$nulls":7},"収集ごみ (混合ごみ+可燃ごみ+不燃ごみ+資源ごみ+その他+粗大ごみ)",{"$nulls":6},"直接搬入ごみ (混合ごみ+可燃ごみ+不燃ごみ+資源ごみ+その他+粗大ごみ)",{"$nulls":7},"収集ごみ (混合ごみ+可燃ごみ+不燃ごみ+資源ごみ+その他+粗大ごみ)",{"$nulls":6},"直接搬入ごみ (混合ごみ+可燃ごみ+不燃ごみ+資源ごみ+その他+粗大ごみ)",{"$nulls":7},"収集ごみ (混合ごみ+可燃ごみ+不燃ごみ+資源ごみ+その他+粗大ごみ)",{"$nulls":6},"直接搬入ごみ (混合ごみ+可燃ごみ+不燃ごみ+資源ごみ+その他+粗大ごみ)",{"$nulls":7},"収集ごみ",null,"直接搬入ごみ",null,null,"収集ごみ (混合ごみ+可燃ごみ+不燃ごみ+資源ごみ+その他+粗大ごみ)",{"$nulls":6},"直接搬入ごみ (混合ごみ+可燃ごみ+不燃ごみ+資源ごみ+その他+粗大ごみ)"]
[{"$nulls":3},"合計","合計","合計","混合ごみ","可燃ごみ","不燃ごみ","資源ごみ","その他","粗大ごみ","合計","混合ごみ","可燃ごみ","不燃ごみ","資源ごみ","その他","粗大ごみ","合計","合計","混合ごみ","可燃ごみ","不燃ごみ","資源ごみ","その他","粗大ごみ","合計","混合ごみ","可燃ごみ","不燃ごみ","資源ごみ","その他","粗大ごみ","合計","合計","混合ごみ","可燃ごみ","不燃ごみ","資源ごみ","その他","粗大ごみ","合計","混合ごみ","可燃ごみ","不燃ごみ","資源ごみ","その他","粗大ごみ","合計","合計","混合ごみ","可燃ごみ","不燃ごみ","資源ごみ","その他","粗大ごみ","合計","混合ごみ","可燃ごみ","不燃ごみ","資源ごみ","その他","粗大ごみ","合計","合計","混合ごみ","可燃ごみ","不燃ごみ","資源ごみ","その他","粗大ごみ","合計","混合ごみ","可燃ごみ","不燃ごみ","資源ごみ","その他","粗大ごみ","合計","合計","混合ごみ","可燃ごみ","不燃ごみ","資源ごみ","その他","粗大ごみ","合計","混合ごみ","可燃ごみ","不燃ごみ","資源ごみ","その他","粗大ごみ","合計","合計","混合ごみ","可燃ごみ","不燃ごみ","資源ごみ","その他","粗大ごみ","合計","混合ごみ","可燃ごみ","不燃ごみ","資源ごみ","その他","粗大ごみ","合計","合計","混合ごみ","可燃ごみ","不燃ごみ","資源ごみ","その他","粗大ごみ","合計","混合ごみ","可燃ごみ","不燃ごみ","資源ごみ","その他","粗大ごみ","合計","資源ごみ","その他","資源ごみ","その他","合計","合計","混合ごみ","可燃ごみ","不燃ごみ","資源ごみ","その他","粗大ごみ","合計","混合ごみ","可燃ごみ","不燃ごみ","資源ごみ","その他","粗大ごみ"]
[{"$nulls":3},"（ｔ）","（ｔ）","（ｔ）","（ｔ）","（ｔ）","（ｔ）","（ｔ）","（ｔ）","（ｔ）","（ｔ）","（ｔ）","（ｔ）","（ｔ）","（ｔ）","（ｔ）","（ｔ）","（ｔ）","（ｔ）","（ｔ）","（ｔ）","（ｔ）","（ｔ）","（ｔ）","（ｔ）","（ｔ）","（ｔ）","（ｔ）","（ｔ）","（ｔ）","（ｔ）","（ｔ）","（ｔ）","（ｔ）","（ｔ）","（ｔ）","（ｔ）","（ｔ）","（ｔ）","（ｔ）","（ｔ）","（ｔ）","（ｔ）","（ｔ）","（ｔ）","（ｔ）","（ｔ）","（ｔ）","（ｔ）","（ｔ）","（ｔ）","（ｔ）","（ｔ）","（ｔ）","（ｔ）","（ｔ）","（ｔ）","（ｔ）","（ｔ）","（ｔ）","（ｔ）","（ｔ）","（ｔ）","（ｔ）","（ｔ）","（ｔ）","（ｔ）","（ｔ）","（ｔ）","（ｔ）","（ｔ）","（ｔ）","（ｔ）","（ｔ）","（ｔ）","（ｔ）","（ｔ）","（ｔ）","（ｔ）","（ｔ）","（ｔ）","（ｔ）","（ｔ）","（ｔ）","（ｔ）","（ｔ）","（ｔ）","（ｔ）","（ｔ）","（ｔ）","（ｔ）","（ｔ）","（ｔ）","（ｔ）","（ｔ）","（ｔ）","（ｔ）","（ｔ）","（ｔ）","（ｔ）","（ｔ）","（ｔ）","（ｔ）","（ｔ）","（ｔ）","（ｔ）","（ｔ）","（ｔ）","（ｔ）","（ｔ）","（ｔ）","（ｔ）","（ｔ）","（ｔ）","（ｔ）","（ｔ）","（ｔ）","（ｔ）","（ｔ）","（ｔ）","（ｔ）","（ｔ）","（ｔ）","（ｔ）","（ｔ）","（ｔ）","（ｔ）","（ｔ）","（ｔ）","（ｔ）","（ｔ）","（ｔ）","（ｔ）","（ｔ）","（ｔ）","（ｔ）","（ｔ）","（ｔ）","（ｔ）","（ｔ）","（ｔ）","（ｔ）"]
[{"$f":"ごみ処理概要!A7","v":"茨城県"},{"$f":"ごみ処理概要!B7","v":"08000"},"合計",{"$f":"SUM(E7,T7,AI7,AX7,BM7,CB7,CQ7,DF7,DU7,DZ7)","v":{"v":1029367,"d":"1,029,367"}},{"$f":"SUM(F7,M7)","v":{"v":797148,"d":"797,148"}},{"$f":"SUM(G7:L7)","v":{"v":739530,"d":"739,530"}},{"$f":"SUM(G$8:G$1000)","v":{"v":12990,"d":"12,990"}},{"v":723146,"d":"723,146"},{"v":2782,"d":"2,782"},4,0,608,{"$f":"SUM(N7:S7)","v":{"v":57618,"d":"57,618"}},{"$f":"SUM(N$8:N$1000)","v":{"v":9161,"d":"9,161"}},{"v":46960,"d":"46,960"},288,0,0,{"v":1209,"d":"1,209"},{"$f":"SUM(U7,AB7)","v":{"v":41177,"d":"41,177"}},{"$f":"SUM(V7:AA7)","v":{"v":27678,"d":"27,678"}},{"$f":"SUM(V$8:V$1000)","v":541},0,{"v":18117,"d":"18,117"},{"v":3878,"d":"3,878"},30,{"v":5112,"d":"5,112"},{"$f":"SUM(AC7:AH7)","v":{"v":13499,"d":"13,499"}},{"$f":"SUM(AC$8:AC$1000)","v":382},0,{"v":3700,"d":"3,700"},321,0,{"v":9096,"d":"9,096"},{"$f":"SUM(AJ7,AQ7)","v":{"v":2470,"d":"2,470"}},{"$f":"SUM(AK7:AP7)","v":{"v":2470,"d":"2,470"}},{"$f":"SUM(AK$8:AK$1000)","v":0},0,0,{"v":2470,"d":"2,470"},0,0,{"$f":"SUM(AR7:AW7)","v":0},{"$f":"SUM(AR$8:AR$1000)","v":0},0,0,0,0,0,{"$f":"SUM(AY7,BF7)","v":0},{"$f":"SUM(AZ7:BE7)","v":0},{"$f":"SUM(AZ$8:AZ$1000)","v":0},0,0,0,0,0,{"$f":"SUM(BG7:BL7)","v":0},{"$f":"SUM(BG$8:BG$1000)","v":0},0,0,0,0,0,{"$f":"SUM(BN7,BU7)","v":0},{"$f":"SUM(BO7:BT7)","v":0},{"$f":"SUM(BO$8:BO$1000)","v":0},0,0,0,0,0,{"$f":"SUM(BV7:CA7)","v":0},{"$f":"SUM(BV$8:BV$1000)","v":0},0,0,0,0,0,{"$f":"SUM(CC7,CJ7)","v":{"v":40266,"d":"40,266"}},{"$f":"SUM(CD7:CI7)","v":{"v":37919,"d":"37,919"}},{"$f":"SUM(CD$8:CD$1000)","v":0},{"v":37716,"d":"37,716"},0,61,0,142,{"$f":"SUM(CK7:CP7)","v":{"v":2347,"d":"2,347"}},{"$f":"SUM(CK$8:CK$1000)","v":0},{"v":2347,"d":"2,347"},0,0,0,0,{"$f":"SUM(CR7,CY7)","v":{"v":59377,"d":"59,377"}},{"$f":"SUM(CS7:CX7)","v":{"v":53498,"d":"53,498"}},{"$f":"SUM(CS$8:CS$1000)","v":3},0,{"v":18153,"d":"18,153"},{"v":34424,"d":"34,424"},172,746,{"$f":"SUM(CZ7:DE7)","v":{"v":5879,"d":"5,879"}},{"$f":"SUM(CZ$8:CZ$1000)","v":0},0,{"v":1631,"d":"1,631"},{"v":1402,"d":"1,402"},501,{"v":2345,"d":"2,345"},{"$f":"SUM(DG7,DN7)","v":658},{"$f":"SUM(DH7:DM7)","v":474},{"$f":"SUM(DH$8:DH$1000)","v":0},0,82,220,24,148,{"$f":"SUM(DO7:DT7)","v":184},{"$f":"SUM(DO$8:DO$1000)","v":0},0,58,0,0,126,{"$f":"SUM(DV7:DY7)","v":{"v":87760,"d":"87,760"}},{"$f":"SUM(DV$8:DV$1000)","v":{"v":83392,"d":"83,392"}},{"$f":"SUM(DW$8:DW$1000)","v":103},{"$f":"SUM(DX$8:DX$1000)","v":{"v":4235,"d":"4,235"}},{"$f":"SUM(DY$8:DY$1000)","v":30},{"$f":"SUM(EA7,EH7)","v":511},{"$f":"SUM(EB7:EG7)","v":193},{"$f":"SUM(EB$8:EB$1000)","v":0},0,193,0,0,0,{"$f":"SUM(EI7:EN7)","v":318},{"$f":"SUM(EI$8:EI$1000)","v":0},0,318,0,0,0]
["茨城県","08201","水戸市",{"v":112741,"d":"112,741"},{"v":92431,"d":"92,431"},{"v":87249,"d":"87,249"},0,{"v":87249,"d":"87,249"},0,0,0,0,{"v":5182,"d":"5,182"},0,{"v":5182,"d":"5,182"},0,0,0,0,{"v":1368,"d":"1,368"},357,0,0,263,84,0,10,{"v":1011,"d":"1,011"},0,0,869,22,0,120,0,0,0,0,0,0,0,0,0,0,0,0,0,0,0,0,0,0,0,0,0,0,0,0,0,0,0,0,0,0,0,0,0,0,0,0,0,0,0,0,0,0,0,0,0,0,0,0,0,0,0,0,0,0,0,0,0,0,0,0,{"v":6447,"d":"6,447"},{"v":6444,"d":"6,444"},0,0,{"v":3170,"d":"3,170"},{"v":3274,"d":"3,274"},0,0,3,0,0,0,3,0,0,0,0,0,0,0,0,0,0,0,0,0,0,0,0,0,{"v":12495,"d":"12,495"},{"v":12461,"d":"12,461"},0,34,0,0,0,0,0,0,0,0,0,0,0,0,0,0,0,0]
["茨城県","08202","日立市",{"v":62637,"d":"62,637"},{"v":57676,"d":"57,676"},{"v":48515,"d":"48,515"},{"v":12990,"d":"12,990"},{"v":35525,"d":"35,525"},0,0,0,0,{"v":9161,"d":"9,161"},{"v":9161,"d":"9,161"},0,0,0,0,0,{"v":2507,"d":"2,507"},{"v":2125,"d":"2,125"},541,0,189,{"v":1132,"d":"1,132"},30,233,382,382,0,0,0,0,0,0,0,0,0,0,0,0,0,0,0,0,0,0,0,0,0,0,0,0,0,0,0,0,0,0,0,0,0,0,0,0,0,0,0,0,0,0,0,0,0,0,0,0,0,0,0,0,0,0,0,0,0,0,0,0,0,0,0,0,0,29,0,0,0,0,0,0,0,29,0,0,0,22,7,0,0,0,0,0,0,0,0,0,0,0,0,0,0,0,0,{"v":2425,"d":"2,425"},{"v":2425,"d":"2,425"},0,0,0,0,0,0,0,0,0,0,0,0,0,0,0,0,0,0]
["茨城県","08203","土浦市",{"v":59348,"d":"59,348"},{"v":42777,"d":"42,777"},{"v":39877,"d":"39,877"},0,{"v":39728,"d":"39,728"},0,0,0,149,{"v":2900,"d":"2,900"},0,{"v":2456,"d":"2,456"},0,0,0,444,{"v":3559,"d":"3,559"},{"v":3252,"d":"3,252"},0,0,{"v":2814,"d":"2,814"},283,0,155,307,0,0,114,0,0,193,0,0,0,0,0,0,0,0,0,0,0,0,0,0,0,0,0,0,0,0,0,0,0,0,0,0,0,0,0,0,0,0,0,0,0,0,0,0,0,0,0,0,0,0,0,21,21,0,0,0,21,0,0,0,0,0,0,0,0,0,{"v":6931,"d":"6,931"},{"v":6931,"d":"6,931"},0,0,0,{"v":6931,"d":"6,931"},0,0,0,0,0,0,0,0,0,0,0,0,0,0,0,0,0,0,0,0,0,0,0,0,{"v":6060,"d":"6,060"},{"v":6060,"d":"6,060"},0,0,0,0,0,0,0,0,0,0,0,0,0,0,0,0,0,0]
["茨城県","08204","古河市",{"v":47581,"d":"47,581"},{"v":41267,"d":"41,267"},{"v":39158,"d":"39,158"},0,{"v":38519,"d":"38,519"},639,0,0,0,{"v":2109,"d":"2,109"},0,{"v":2075,"d":"2,075"},34,0,0,0,0,0,0,0,0,0,0,0,0,0,0,0,0,0,0,0,0,0,0,0,0,0,0,0,0,0,0,0,0,0,0,0,0,0,0,0,0,0,0,0,0,0,0,0,0,0,0,0,0,0,0,0,0,0,0,0,0,0,0,0,0,0,0,0,0,0,0,0,0,0,0,0,0,0,0,{"v":4702,"d":"4,702"},{"v":4261,"d":"4,261"},0,0,668,{"v":3131,"d":"3,131"},0,462,441,0,0,38,25,0,378,0,0,0,0,0,0,0,0,0,0,0,0,0,0,0,{"v":1612,"d":"1,612"},{"v":1607,"d":"1,607"},0,5,0,0,0,0,0,0,0,0,0,0,0,0,0,0,0,0]
["茨城県","08205","石岡市",{"v":30398,"d":"30,398"},{"v":23432,"d":"23,432"},{"v":20400,"d":"20,400"},0,{"v":20364,"d":"20,364"},0,0,0,36,{"v":3032,"d":"3,032"},0,{"v":3032,"d":"3,032"},0,0,0,0,{"v":1850,"d":"1,850"},{"v":1157,"d":"1,157"},0,0,{"v":1024,"d":"1,024"},0,0,133,693,0,0,127,0,0,566,0,0,0,0,0,0,0,0,0,0,0,0,0,0,0,0,0,0,0,0,0,0,0,0,0,0,0,0,0,0,0,0,0,0,0,0,0,0,0,0,0,0,0,0,0,0,0,0,0,0,0,0,0,0,0,0,0,0,0,0,812,781,0,0,0,781,0,0,31,0,0,0,31,0,0,0,0,0,0,0,0,0,0,0,0,0,0,0,0,0,{"v":4304,"d":"4,304"},{"v":4304,"d":"4,304"},0,0,0,0,0,0,0,0,0,0,0,0,0,0,0,0,0,0]
["茨城県","08207","結城市",{"v":20766,"d":"20,766"},{"v":19135,"d":"19,135"},{"v":18654,"d":"18,654"},0,{"v":17757,"d":"17,757"},659,0,0,238,481,0,383,98,0,0,0,0,0,0,0,0,0,0,0,0,0,0,0,0,0,0,0,0,0,0,0,0,0,0,0,0,0,0,0,0,0,0,0,0,0,0,0,0,0,0,0,0,0,0,0,0,0,0,0,0,0,0,0,0,0,0,0,0,0,0,0,0,0,0,0,0,0,0,0,0,0,0,0,0,0,0,0,0,0,0,0,0,0,0,0,0,0,0,0,0,0,14,14,0,0,0,0,14,0,0,0,0,0,0,0,0,{"v":1617,"d":"1,617"},{"v":1617,"d":"1,617"},0,0,0,0,0,0,0,0,0,0,0,0,0,0,0,0,0,0]
["茨城県","08208","龍ケ崎市",{"v":29289,"d":"29,289"},{"v":23466,"d":"23,466"},{"v":22755,"d":"22,755"},0,{"v":22720,"d":"22,720"},0,0,0,35,711,0,618,0,0,0,93,{"v":1105,"d":"1,105"},924,0,0,889,0,0,35,181,0,0,88,0,0,93,0,0,0,0,0,0,0,0,0,0,0,0,0,0,0,0,0,0,0,0,0,0,0,0,0,0,0,0,0,0,0,0,0,0,0,0,0,0,0,0,0,0,0,0,0,0,0,0,0,0,0,0,0,0,0,0,0,0,0,0,349,349,0,0,0,349,0,0,0,0,0,0,0,0,0,0,0,0,0,0,0,0,0,0,0,0,0,0,0,0,{"v":4369,"d":"4,369"},{"v":4369,"d":"4,369"},0,0,0,0,0,0,0,0,0,0,0,0,0,0,0,0,0,0]
["茨城県","08210","下妻市",{"v":16699,"d":"16,699"},{"v":13418,"d":"13,418"},{"v":11381,"d":"11,381"},0,{"v":11381,"d":"11,381"},0,0,0,0,{"v":2037,"d":"2,037"},0,{"v":1729,"d":"1,729"},0,0,0,308,755,532,0,0,502,0,0,30,223,0,0,92,0,0,131,0,0,0,0,0,0,0,0,0,0,0,0,0,0,0,0,0,0,0,0,0,0,0,0,0,0,0,0,0,0,0,0,0,0,0,0,0,0,0,0,0,0,0,0,0,0,0,0,0,0,0,0,0,0,0,0,0,0,0,0,13,13,0,0,0,0,13,0,0,0,0,0,0,0,0,0,0,0,0,0,0,0,0,0,0,0,0,0,0,0,{"v":2513,"d":"2,513"},{"v":1365,"d":"1,365"},0,{"v":1148,"d":"1,148"},0,0,0,0,0,0,0,0,0,0,0,0,0,0,0,0]
["茨城県","08211","常総市",{"v":18544,"d":"18,544"},{"v":13861,"d":"13,861"},{"v":13026,"d":"13,026"},0,{"v":13026,"d":"13,026"},0,0,0,0,835,0,695,0,0,0,140,542,362,0,0,240,0,0,122,180,0,0,27,0,0,153,{"v":1006,"d":"1,006"},{"v":1006,"d":"1,006"},0,0,0,{"v":1006,"d":"1,006"},0,0,0,0,0,0,0,0,0,0,0,0,0,0,0,0,0,0,0,0,0,0,0,0,0,0,0,0,0,0,0,0,0,0,0,0,0,0,0,0,0,0,0,0,0,0,0,0,0,0,0,0,0,0,{"v":2050,"d":"2,050"},{"v":2027,"d":"2,027"},0,0,{"v":1346,"d":"1,346"},661,20,0,23,0,0,23,0,0,0,0,0,0,0,0,0,0,0,0,0,0,0,0,0,0,{"v":1085,"d":"1,085"},{"v":1085,"d":"1,085"},0,0,0,0,0,0,0,0,0,0,0,0,0,0,0,0,0,0]
["茨城県","08212","常陸太田市",{"v":16068,"d":"16,068"},{"v":14257,"d":"14,257"},{"v":11447,"d":"11,447"},0,{"v":11447,"d":"11,447"},0,0,0,0,{"v":2810,"d":"2,810"},0,{"v":2810,"d":"2,810"},0,0,0,0,0,0,0,0,0,0,0,0,0,0,0,0,0,0,0,0,0,0,0,0,0,0,0,0,0,0,0,0,0,0,0,0,0,0,0,0,0,0,0,0,0,0,0,0,0,0,0,0,0,0,0,0,0,0,0,0,0,0,0,0,0,0,0,0,0,0,0,0,0,0,0,0,0,0,0,881,869,0,0,0,869,0,0,12,0,0,0,12,0,0,0,0,0,0,0,0,0,0,0,0,0,0,0,0,0,930,922,0,8,0,0,0,0,0,0,0,0,0,0,0,0,0,0,0,0]
["茨城県","08214","高萩市",{"v":9369,"d":"9,369"},{"v":7026,"d":"7,026"},{"v":6715,"d":"6,715"},0,{"v":6715,"d":"6,715"},0,0,0,0,311,0,311,0,0,0,0,0,0,0,0,0,0,0,0,0,0,0,0,0,0,0,0,0,0,0,0,0,0,0,0,0,0,0,0,0,0,0,0,0,0,0,0,0,0,0,0,0,0,0,0,0,0,0,0,0,0,0,0,0,0,0,0,0,0,0,0,0,0,0,0,0,0,0,0,0,0,0,0,0,0,0,{"v":2059,"d":"2,059"},{"v":1315,"d":"1,315"},0,0,0,{"v":1279,"d":"1,279"},1,35,744,0,0,0,123,488,133,284,114,0,0,82,0,0,32,170,0,0,44,0,0,126,0,0,0,0,0,0,0,0,0,0,0,0,0,0,0,0,0,0,0,0]
["茨城県","08215","北茨城市",{"v":15697,"d":"15,697"},{"v":13172,"d":"13,172"},{"v":10669,"d":"10,669"},0,{"v":10669,"d":"10,669"},0,0,0,0,{"v":2503,"d":"2,503"},0,{"v":2503,"d":"2,503"},0,0,0,0,24,24,0,0,0,0,0,24,0,0,0,0,0,0,0,0,0,0,0,0,0,0,0,0,0,0,0,0,0,0,0,0,0,0,0,0,0,0,0,0,0,0,0,0,0,0,0,0,0,0,0,0,0,0,0,0,0,0,0,0,0,0,0,0,0,0,0,0,0,0,0,0,0,0,0,0,0,0,0,0,0,0,0,0,0,0,0,0,0,0,0,0,0,0,0,0,0,0,0,0,0,0,0,0,0,{"v":1990,"d":"1,990"},{"v":1990,"d":"1,990"},0,0,0,511,193,0,0,193,0,0,0,318,0,0,318,0,0,0]
["茨城県","08216","笠間市",{"v":25136,"d":"25,136"},{"v":21957,"d":"21,957"},{"v":19486,"d":"19,486"},0,{"v":19486,"d":"19,486"},0,0,0,0,{"v":2471,"d":"2,471"},0,{"v":2471,"d":"2,471"},0,0,0,0,{"v":2308,"d":"2,308"},793,0,0,303,440,0,50,{"v":1515,"d":"1,515"},0,0,278,95,0,{"v":1142,"d":"1,142"},0,0,0,0,0,0,0,0,0,0,0,0,0,0,0,0,0,0,0,0,0,0,0,0,0,0,0,0,0,0,0,0,0,0,0,0,0,0,0,0,0,0,0,0,0,0,0,0,0,0,0,0,0,0,0,0,0,0,0,0,63,48,0,0,0,48,0,0,15,0,0,0,15,0,0,0,0,0,0,0,0,0,0,0,0,0,0,0,0,0,808,677,0,131,0,0,0,0,0,0,0,0,0,0,0,0,0,0,0,0]
["茨城県","08217","取手市",{"v":34180,"d":"34,180"},{"v":23210,"d":"23,210"},{"v":23153,"d":"23,153"},0,{"v":23153,"d":"23,153"},0,0,0,0,57,0,57,0,0,0,0,717,336,0,0,0,0,0,336,381,0,0,0,0,0,381,343,343,0,0,0,343,0,0,0,0,0,0,0,0,0,0,0,0,0,0,0,0,0,0,0,0,0,0,0,0,0,0,0,0,0,0,0,0,0,0,0,0,0,0,0,0,0,0,0,0,0,0,0,0,0,0,0,0,0,0,{"v":5769,"d":"5,769"},{"v":5762,"d":"5,762"},0,0,{"v":3620,"d":"3,620"},{"v":2113,"d":"2,113"},29,0,7,0,0,7,0,0,0,0,0,0,0,0,0,0,0,0,0,0,0,0,0,0,{"v":4141,"d":"4,141"},{"v":4141,"d":"4,141"},0,0,0,0,0,0,0,0,0,0,0,0,0,0,0,0,0,0]
["茨城県","08219","牛久市",{"v":28816,"d":"28,816"},{"v":23433,"d":"23,433"},{"v":22111,"d":"22,111"},0,{"v":22111,"d":"22,111"},0,0,0,0,{"v":1322,"d":"1,322"},0,{"v":1322,"d":"1,322"},0,0,0,0,0,0,0,0,0,0,0,0,0,0,0,0,0,0,0,84,84,0,0,0,84,0,0,0,0,0,0,0,0,0,0,0,0,0,0,0,0,0,0,0,0,0,0,0,0,0,0,0,0,0,0,0,0,0,0,0,0,0,0,0,40,40,0,0,0,40,0,0,0,0,0,0,0,0,0,{"v":2916,"d":"2,916"},{"v":1822,"d":"1,822"},0,0,600,{"v":1165,"d":"1,165"},9,48,{"v":1094,"d":"1,094"},0,0,484,0,0,610,0,0,0,0,0,0,0,0,0,0,0,0,0,0,0,{"v":2343,"d":"2,343"},{"v":2343,"d":"2,343"},0,0,0,0,0,0,0,0,0,0,0,0,0,0,0,0,0,0]
["茨城県","08220","つくば市",{"v":91362,"d":"91,362"},{"v":71253,"d":"71,253"},{"v":69909,"d":"69,909"},0,{"v":69909,"d":"69,909"},0,0,0,0,{"v":1344,"d":"1,344"},0,{"v":1344,"d":"1,344"},0,0,0,0,{"v":4660,"d":"4,660"},{"v":2967,"d":"2,967"},0,0,{"v":2488,"d":"2,488"},0,0,479,{"v":1693,"d":"1,693"},0,0,260,0,0,{"v":1433,"d":"1,433"},0,0,0,0,0,0,0,0,0,0,0,0,0,0,0,0,0,0,0,0,0,0,0,0,0,0,0,0,0,0,0,0,0,0,0,0,0,0,0,0,0,0,0,0,0,0,0,0,0,0,0,0,0,0,0,0,0,0,0,0,{"v":5178,"d":"5,178"},{"v":4974,"d":"4,974"},0,0,0,{"v":4930,"d":"4,930"},44,0,204,0,0,0,204,0,0,0,0,0,0,0,0,0,0,0,0,0,0,0,0,0,{"v":10271,"d":"10,271"},{"v":10271,"d":"10,271"},0,0,0,0,0,0,0,0,0,0,0,0,0,0,0,0,0,0]
["茨城県","08221","ひたちなか市",{"v":53962,"d":"53,962"},{"v":51146,"d":"51,146"},{"v":48375,"d":"48,375"},0,{"v":48375,"d":"48,375"},0,0,0,0,{"v":2771,"d":"2,771"},0,{"v":2771,"d":"2,771"},0,0,0,0,{"v":2102,"d":"2,102"},{"v":2005,"d":"2,005"},0,0,{"v":1973,"d":"1,973"},0,0,32,97,0,0,97,0,0,0,0,0,0,0,0,0,0,0,0,0,0,0,0,0,0,0,0,0,0,0,0,0,0,0,0,0,0,0,0,0,0,0,0,0,0,0,0,0,0,0,0,0,0,0,0,0,0,0,0,0,0,0,0,0,0,0,0,0,0,0,0,0,0,0,0,0,0,0,0,0,0,0,0,0,0,230,230,0,0,0,220,10,0,0,0,0,0,0,0,0,484,484,0,0,0,0,0,0,0,0,0,0,0,0,0,0,0,0,0,0]
["茨城県","08222","鹿嶋市",{"v":22772,"d":"22,772"},0,0,0,0,0,0,0,0,0,0,0,0,0,0,0,{"v":4244,"d":"4,244"},{"v":3002,"d":"3,002"},0,0,{"v":2891,"d":"2,891"},0,0,111,{"v":1242,"d":"1,242"},0,0,789,0,0,453,0,0,0,0,0,0,0,0,0,0,0,0,0,0,0,0,0,0,0,0,0,0,0,0,0,0,0,0,0,0,0,0,0,0,0,0,0,0,0,0,0,0,0,0,0,{"v":18089,"d":"18,089"},{"v":16626,"d":"16,626"},0,{"v":16626,"d":"16,626"},0,0,0,0,{"v":1463,"d":"1,463"},0,{"v":1463,"d":"1,463"},0,0,0,0,439,0,0,0,0,0,0,0,439,0,0,0,439,0,0,0,0,0,0,0,0,0,0,0,0,0,0,0,0,0,0,0,0,0,0,0,0,0,0,0,0,0,0,0,0,0,0,0,0,0]
["茨城県","08223","潮来市",{"v":10886,"d":"10,886"},{"v":7882,"d":"7,882"},{"v":7082,"d":"7,082"},0,{"v":7082,"d":"7,082"},0,0,0,0,800,0,800,0,0,0,0,793,438,0,0,430,0,0,8,355,0,0,133,0,0,222,0,0,0,0,0,0,0,0,0,0,0,0,0,0,0,0,0,0,0,0,0,0,0,0,0,0,0,0,0,0,0,0,0,0,0,0,0,0,0,0,0,0,0,0,0,0,0,0,0,0,0,0,0,0,0,0,0,0,0,0,{"v":1263,"d":"1,263"},{"v":1259,"d":"1,259"},0,0,0,{"v":1259,"d":"1,259"},0,0,4,0,0,0,4,0,0,0,0,0,0,0,0,0,0,0,0,0,0,0,0,0,948,948,0,0,0,0,0,0,0,0,0,0,0,0,0,0,0,0,0,0]
["茨城県","08224","守谷市",{"v":18738,"d":"18,738"},{"v":13448,"d":"13,448"},{"v":13368,"d":"13,368"},0,{"v":13368,"d":"13,368"},0,0,0,0,80,0,80,0,0,0,0,449,193,0,0,0,0,0,193,256,0,0,0,0,0,256,490,490,0,0,0,490,0,0,0,0,0,0,0,0,0,0,0,0,0,0,0,0,0,0,0,0,0,0,0,0,0,0,0,0,0,0,0,0,0,0,0,0,0,0,0,0,0,0,0,0,0,0,0,0,0,0,0,0,0,0,{"v":3269,"d":"3,269"},{"v":3264,"d":"3,264"},0,0,{"v":2214,"d":"2,214"},{"v":1034,"d":"1,034"},16,0,5,0,0,4,1,0,0,0,0,0,0,0,0,0,0,0,0,0,0,0,0,0,{"v":1082,"d":"1,082"},{"v":1082,"d":"1,082"},0,0,0,0,0,0,0,0,0,0,0,0,0,0,0,0,0,0]
["茨城県","08225","常陸大宮市",{"v":14193,"d":"14,193"},{"v":11800,"d":"11,800"},{"v":10573,"d":"10,573"},0,{"v":10573,"d":"10,573"},0,0,0,0,{"v":1227,"d":"1,227"},0,{"v":1227,"d":"1,227"},0,0,0,0,{"v":1165,"d":"1,165"},997,0,0,0,289,0,708,168,0,0,0,12,0,156,0,0,0,0,0,0,0,0,0,0,0,0,0,0,0,0,0,0,0,0,0,0,0,0,0,0,0,0,0,0,0,0,0,0,0,0,0,0,0,0,0,0,0,0,0,0,0,0,0,0,0,0,0,0,0,0,0,0,0,0,{"v":1228,"d":"1,228"},{"v":1207,"d":"1,207"},0,0,0,{"v":1207,"d":"1,207"},0,0,21,0,0,0,21,0,0,0,0,0,0,0,0,0,0,0,0,0,0,0,0,0,0,0,0,0,0,0,0,0,0,0,0,0,0,0,0,0,0,0,0,0]
["茨城県","08226","那珂市",{"v":16772,"d":"16,772"},{"v":14532,"d":"14,532"},{"v":12186,"d":"12,186"},0,{"v":12186,"d":"12,186"},0,0,0,0,{"v":2346,"d":"2,346"},0,{"v":2346,"d":"2,346"},0,0,0,0,979,678,0,0,0,324,0,354,301,0,0,0,20,0,281,0,0,0,0,0,0,0,0,0,0,0,0,0,0,0,0,0,0,0,0,0,0,0,0,0,0,0,0,0,0,0,0,0,0,0,0,0,0,0,0,0,0,0,0,0,0,0,0,0,0,0,0,0,0,0,0,0,0,0,0,{"v":1261,"d":"1,261"},{"v":1236,"d":"1,236"},0,0,0,{"v":1236,"d":"1,236"},0,0,25,0,0,0,25,0,0,0,0,0,0,0,0,0,0,0,0,0,0,0,0,0,0,0,0,0,0,0,0,0,0,0,0,0,0,0,0,0,0,0,0,0]
["茨城県","08227","筑西市",{"v":30981,"d":"30,981"},{"v":27893,"d":"27,893"},{"v":27066,"d":"27,066"},0,{"v":25901,"d":"25,901"},{"v":1165,"d":"1,165"},0,0,0,827,0,695,132,0,0,0,23,23,0,0,0,0,0,23,0,0,0,0,0,0,0,0,0,0,0,0,0,0,0,0,0,0,0,0,0,0,0,0,0,0,0,0,0,0,0,0,0,0,0,0,0,0,0,0,0,0,0,0,0,0,0,0,0,0,0,0,0,0,0,0,0,0,0,0,0,0,0,0,0,0,0,696,634,0,0,452,182,0,0,62,0,0,62,0,0,0,0,0,0,0,0,0,0,0,0,0,0,0,0,0,0,{"v":2369,"d":"2,369"},{"v":2369,"d":"2,369"},0,0,0,0,0,0,0,0,0,0,0,0,0,0,0,0,0,0]
["茨城県","08228","坂東市",{"v":16626,"d":"16,626"},{"v":12945,"d":"12,945"},{"v":12719,"d":"12,719"},0,{"v":12719,"d":"12,719"},0,0,0,0,226,0,226,0,0,0,0,{"v":1136,"d":"1,136"},960,0,0,512,0,0,448,176,0,0,21,0,0,155,0,0,0,0,0,0,0,0,0,0,0,0,0,0,0,0,0,0,0,0,0,0,0,0,0,0,0,0,0,0,0,0,0,0,0,0,0,0,0,0,0,0,0,0,0,0,0,0,0,0,0,0,0,0,0,0,0,0,0,0,803,798,3,0,0,792,0,3,5,0,0,0,5,0,0,0,0,0,0,0,0,0,0,0,0,0,0,0,0,0,{"v":1742,"d":"1,742"},552,0,{"v":1190,"d":"1,190"},0,0,0,0,0,0,0,0,0,0,0,0,0,0,0,0]
["茨城県","08229","稲敷市",{"v":14405,"d":"14,405"},{"v":11121,"d":"11,121"},{"v":10597,"d":"10,597"},0,{"v":10597,"d":"10,597"},0,0,0,0,524,0,524,0,0,0,0,{"v":1352,"d":"1,352"},281,0,0,0,0,0,281,{"v":1071,"d":"1,071"},0,0,0,0,0,{"v":1071,"d":"1,071"},0,0,0,0,0,0,0,0,0,0,0,0,0,0,0,0,0,0,0,0,0,0,0,0,0,0,0,0,0,0,0,0,0,0,0,0,0,0,0,0,0,0,0,0,0,0,0,0,0,0,0,0,0,0,0,0,0,0,0,0,544,544,0,0,544,0,0,0,0,0,0,0,0,0,0,14,0,0,0,0,0,0,0,14,0,0,14,0,0,0,{"v":1374,"d":"1,374"},{"v":1311,"d":"1,311"},46,0,17,0,0,0,0,0,0,0,0,0,0,0,0,0,0,0]
["茨城県","08230","かすみがうら市",{"v":16600,"d":"16,600"},{"v":12917,"d":"12,917"},{"v":11887,"d":"11,887"},0,{"v":11887,"d":"11,887"},0,0,0,0,{"v":1030,"d":"1,030"},0,{"v":1030,"d":"1,030"},0,0,0,0,{"v":1155,"d":"1,155"},669,0,0,397,0,0,272,486,0,0,25,0,0,461,377,377,0,0,0,377,0,0,0,0,0,0,0,0,0,0,0,0,0,0,0,0,0,0,0,0,0,0,0,0,0,0,0,0,0,0,0,0,0,0,0,0,0,0,0,0,0,0,0,0,0,0,0,0,0,0,0,0,0,0,528,526,0,0,0,526,0,0,2,0,0,0,2,0,0,0,0,0,0,0,0,0,0,0,0,0,0,0,0,0,{"v":1623,"d":"1,623"},{"v":1623,"d":"1,623"},0,0,0,0,0,0,0,0,0,0,0,0,0,0,0,0,0,0]
["茨城県","08231","桜川市",{"v":10947,"d":"10,947"},{"v":10689,"d":"10,689"},{"v":10585,"d":"10,585"},0,{"v":10190,"d":"10,190"},319,0,0,76,104,0,80,24,0,0,0,0,0,0,0,0,0,0,0,0,0,0,0,0,0,0,0,0,0,0,0,0,0,0,0,0,0,0,0,0,0,0,0,0,0,0,0,0,0,0,0,0,0,0,0,0,0,0,0,0,0,0,0,0,0,0,0,0,0,0,0,142,142,0,0,0,0,0,142,0,0,0,0,0,0,0,0,0,0,0,0,0,0,0,0,0,0,0,0,0,0,116,116,0,0,0,0,0,116,0,0,0,0,0,0,0,0,0,0,0,0,0,0,0,0,0,0,0,0,0,0,0,0,0,0,0]
["茨城県","08232","神栖市",{"v":36614,"d":"36,614"},0,0,0,0,0,0,0,0,0,0,0,0,0,0,0,0,0,0,0,0,0,0,0,0,0,0,0,0,0,0,0,0,0,0,0,0,0,0,0,0,0,0,0,0,0,0,0,0,0,0,0,0,0,0,0,0,0,0,0,0,0,0,0,0,0,0,0,0,0,0,0,0,0,0,0,{"v":21974,"d":"21,974"},{"v":21090,"d":"21,090"},0,{"v":21090,"d":"21,090"},0,0,0,0,884,0,884,0,0,0,0,{"v":5104,"d":"5,104"},{"v":3251,"d":"3,251"},0,0,{"v":3053,"d":"3,053"},0,0,198,{"v":1853,"d":"1,853"},0,0,851,0,0,{"v":1002,"d":"1,002"},0,0,0,0,0,0,0,0,0,0,0,0,0,0,0,{"v":9536,"d":"9,536"},{"v":8708,"d":"8,708"},40,786,2,0,0,0,0,0,0,0,0,0,0,0,0,0,0,0]
["茨城県","08233","行方市",{"v":10661,"d":"10,661"},{"v":9098,"d":"9,098"},{"v":7789,"d":"7,789"},0,{"v":7789,"d":"7,789"},0,0,0,0,{"v":1309,"d":"1,309"},0,{"v":1309,"d":"1,309"},0,0,0,0,{"v":1250,"d":"1,250"},808,0,0,383,419,0,6,442,0,0,176,50,0,216,0,0,0,0,0,0,0,0,0,0,0,0,0,0,0,0,0,0,0,0,0,0,0,0,0,0,0,0,0,0,0,0,0,0,0,0,0,0,0,0,0,0,0,0,0,0,0,0,0,0,0,0,0,0,0,0,0,0,0,0,0,0,0,0,0,0,0,0,0,0,0,0,0,0,0,0,0,0,0,0,0,0,0,0,0,0,0,0,0,0,313,313,0,0,0,0,0,0,0,0,0,0,0,0,0,0,0,0,0,0]
["茨城県","08234","鉾田市",{"v":12159,"d":"12,159"},{"v":10568,"d":"10,568"},{"v":9123,"d":"9,123"},0,{"v":9119,"d":"9,119"},0,4,0,0,{"v":1445,"d":"1,445"},0,{"v":1354,"d":"1,354"},0,0,0,91,244,195,0,0,191,0,0,4,49,0,0,9,0,0,40,0,0,0,0,0,0,0,0,0,0,0,0,0,0,0,0,0,0,0,0,0,0,0,0,0,0,0,0,0,0,0,0,0,0,0,0,0,0,0,0,0,0,0,0,0,0,0,0,0,0,0,0,0,0,0,0,0,0,0,0,{"v":1042,"d":"1,042"},654,0,0,560,87,7,0,388,0,0,157,3,6,222,0,0,0,0,0,0,0,0,0,0,0,0,0,0,0,305,218,0,87,0,0,0,0,0,0,0,0,0,0,0,0,0,0,0,0]
["茨城県","08235","つくばみらい市",{"v":12875,"d":"12,875"},{"v":9332,"d":"9,332"},{"v":9319,"d":"9,319"},0,{"v":9319,"d":"9,319"},0,0,0,0,13,0,13,0,0,0,0,252,154,0,0,0,0,0,154,98,0,0,0,0,0,98,170,170,0,0,0,170,0,0,0,0,0,0,0,0,0,0,0,0,0,0,0,0,0,0,0,0,0,0,0,0,0,0,0,0,0,0,0,0,0,0,0,0,0,0,0,0,0,0,0,0,0,0,0,0,0,0,0,0,0,0,{"v":2518,"d":"2,518"},{"v":2515,"d":"2,515"},0,0,{"v":1690,"d":"1,690"},809,16,0,3,0,0,1,2,0,0,0,0,0,0,0,0,0,0,0,0,0,0,0,0,0,603,603,0,0,0,0,0,0,0,0,0,0,0,0,0,0,0,0,0,0]
["茨城県","08236","小美玉市",{"v":17485,"d":"17,485"},{"v":14964,"d":"14,964"},{"v":12533,"d":"12,533"},0,{"v":12533,"d":"12,533"},0,0,0,0,{"v":2431,"d":"2,431"},0,{"v":2431,"d":"2,431"},0,0,0,0,845,582,0,0,560,0,0,22,263,0,0,115,0,0,148,0,0,0,0,0,0,0,0,0,0,0,0,0,0,0,0,0,0,0,0,0,0,0,0,0,0,0,0,0,0,0,0,0,0,0,0,0,0,0,0,0,0,0,0,0,0,0,0,0,0,0,0,0,0,0,0,0,0,0,0,327,184,0,0,0,184,0,0,143,0,0,0,143,0,0,0,0,0,0,0,0,0,0,0,0,0,0,0,0,0,{"v":1349,"d":"1,349"},{"v":1307,"d":"1,307"},0,42,0,0,0,0,0,0,0,0,0,0,0,0,0,0,0,0]
["茨城県","08302","茨城町",{"v":10536,"d":"10,536"},{"v":8750,"d":"8,750"},{"v":8368,"d":"8,368"},0,{"v":8368,"d":"8,368"},0,0,0,0,382,0,382,0,0,0,0,256,218,0,0,207,0,0,11,38,0,0,38,0,0,0,0,0,0,0,0,0,0,0,0,0,0,0,0,0,0,0,0,0,0,0,0,0,0,0,0,0,0,0,0,0,0,0,0,0,0,0,0,0,0,0,0,0,0,0,0,0,0,0,0,0,0,0,0,0,0,0,0,0,0,0,407,292,0,0,0,292,0,0,115,0,0,0,115,0,0,0,0,0,0,0,0,0,0,0,0,0,0,0,0,0,{"v":1123,"d":"1,123"},{"v":1123,"d":"1,123"},0,0,0,0,0,0,0,0,0,0,0,0,0,0,0,0,0,0]
["茨城県","08309","大洗町",{"v":9137,"d":"9,137"},{"v":7971,"d":"7,971"},{"v":7247,"d":"7,247"},0,{"v":7247,"d":"7,247"},0,0,0,0,724,0,724,0,0,0,0,320,205,0,0,164,0,0,41,115,0,0,19,0,0,96,0,0,0,0,0,0,0,0,0,0,0,0,0,0,0,0,0,0,0,0,0,0,0,0,0,0,0,0,0,0,0,0,0,0,0,0,0,0,0,0,0,0,0,0,0,0,0,0,0,0,0,0,0,0,0,0,0,0,0,0,0,0,0,0,0,0,0,0,0,0,0,0,0,0,0,0,0,0,0,0,0,0,0,0,0,0,0,0,0,0,846,846,0,0,0,0,0,0,0,0,0,0,0,0,0,0,0,0,0,0]
["茨城県","08310","城里町",{"v":5647,"d":"5,647"},{"v":5027,"d":"5,027"},{"v":4415,"d":"4,415"},0,{"v":4415,"d":"4,415"},0,0,0,0,612,0,612,0,0,0,0,294,269,0,0,0,0,0,269,25,0,0,0,0,0,25,0,0,0,0,0,0,0,0,0,0,0,0,0,0,0,0,0,0,0,0,0,0,0,0,0,0,0,0,0,0,0,0,0,0,0,0,0,0,0,0,0,0,0,0,0,0,0,0,0,0,0,0,0,0,0,0,0,0,0,0,326,289,0,0,0,280,9,0,37,0,0,0,37,0,0,0,0,0,0,0,0,0,0,0,0,0,0,0,0,0,0,0,0,0,0,0,0,0,0,0,0,0,0,0,0,0,0,0,0,0]
["茨城県","08341","東海村",{"v":13267,"d":"13,267"},{"v":9546,"d":"9,546"},{"v":9321,"d":"9,321"},0,{"v":9321,"d":"9,321"},0,0,0,0,225,0,225,0,0,0,0,755,528,0,0,528,0,0,0,227,0,0,227,0,0,0,0,0,0,0,0,0,0,0,0,0,0,0,0,0,0,0,0,0,0,0,0,0,0,0,0,0,0,0,0,0,0,0,0,0,0,0,0,0,0,0,0,0,0,0,0,0,0,0,0,0,0,0,0,0,0,0,0,0,0,0,671,550,0,0,0,550,0,0,121,0,0,0,121,0,0,0,0,0,0,0,0,0,0,0,0,0,0,0,0,0,{"v":2295,"d":"2,295"},{"v":1882,"d":"1,882"},0,413,0,0,0,0,0,0,0,0,0,0,0,0,0,0,0,0]
["茨城県","08364","大子町",{"v":6713,"d":"6,713"},{"v":5357,"d":"5,357"},{"v":4324,"d":"4,324"},0,{"v":4324,"d":"4,324"},0,0,0,0,{"v":1033,"d":"1,033"},0,{"v":1033,"d":"1,033"},0,0,0,0,0,0,0,0,0,0,0,0,0,0,0,0,0,0,0,0,0,0,0,0,0,0,0,0,0,0,0,0,0,0,0,0,0,0,0,0,0,0,0,0,0,0,0,0,0,0,0,0,0,0,0,0,0,0,0,0,0,0,0,0,0,0,0,0,0,0,0,0,0,0,0,0,0,0,0,264,215,0,0,0,215,0,0,49,0,0,0,49,0,0,0,0,0,0,0,0,0,0,0,0,0,0,0,0,0,{"v":1092,"d":"1,092"},970,0,122,0,0,0,0,0,0,0,0,0,0,0,0,0,0,0,0]
["茨城県","08442","美浦村",{"v":5714,"d":"5,714"},{"v":4184,"d":"4,184"},{"v":4083,"d":"4,083"},0,{"v":4083,"d":"4,083"},0,0,0,0,101,0,101,0,0,0,0,510,190,0,0,0,0,0,190,320,0,0,0,0,0,320,0,0,0,0,0,0,0,0,0,0,0,0,0,0,0,0,0,0,0,0,0,0,0,0,0,0,0,0,0,0,0,0,0,0,0,0,0,0,0,0,0,0,0,0,0,0,0,0,0,0,0,0,0,0,0,0,0,0,0,0,240,236,0,0,236,0,0,0,4,0,0,4,0,0,0,0,0,0,0,0,0,0,0,0,0,0,0,0,0,0,780,752,17,0,11,0,0,0,0,0,0,0,0,0,0,0,0,0,0,0]
["茨城県","08443","阿見町",{"v":17989,"d":"17,989"},{"v":15496,"d":"15,496"},{"v":14392,"d":"14,392"},0,{"v":14392,"d":"14,392"},0,0,0,0,{"v":1104,"d":"1,104"},0,{"v":1104,"d":"1,104"},0,0,0,0,{"v":1665,"d":"1,665"},918,0,0,453,419,0,46,747,0,0,80,115,0,552,0,0,0,0,0,0,0,0,0,0,0,0,0,0,0,0,0,0,0,0,0,0,0,0,0,0,0,0,0,0,0,0,0,0,0,0,0,0,0,0,0,0,0,0,0,0,0,0,0,0,0,0,0,0,0,0,0,0,0,0,121,121,0,0,0,121,0,0,0,0,0,0,0,0,0,0,0,0,0,0,0,0,0,0,0,0,0,0,0,0,707,707,0,0,0,0,0,0,0,0,0,0,0,0,0,0,0,0,0,0]
["茨城県","08447","河内町",{"v":3019,"d":"3,019"},{"v":2292,"d":"2,292"},{"v":2251,"d":"2,251"},0,{"v":2241,"d":"2,241"},0,0,0,10,41,0,37,0,0,0,4,147,135,0,0,126,0,0,9,12,0,0,6,0,0,6,0,0,0,0,0,0,0,0,0,0,0,0,0,0,0,0,0,0,0,0,0,0,0,0,0,0,0,0,0,0,0,0,0,0,0,0,0,0,0,0,0,0,0,0,0,0,0,0,0,0,0,0,0,0,0,0,0,0,0,0,54,54,0,0,0,54,0,0,0,0,0,0,0,0,0,0,0,0,0,0,0,0,0,0,0,0,0,0,0,0,526,257,0,269,0,0,0,0,0,0,0,0,0,0,0,0,0,0,0,0]
["茨城県","08521","八千代町",{"v":5567,"d":"5,567"},{"v":4621,"d":"4,621"},{"v":4070,"d":"4,070"},0,{"v":4070,"d":"4,070"},0,0,0,0,551,0,430,0,0,0,121,300,193,0,0,185,0,0,8,107,0,0,57,0,0,50,0,0,0,0,0,0,0,0,0,0,0,0,0,0,0,0,0,0,0,0,0,0,0,0,0,0,0,0,0,0,0,0,0,0,0,0,0,0,0,0,0,0,0,0,0,0,0,0,0,0,0,0,0,0,0,0,0,0,0,0,8,8,0,0,0,0,8,0,0,0,0,0,0,0,0,0,0,0,0,0,0,0,0,0,0,0,0,0,0,0,638,638,0,0,0,0,0,0,0,0,0,0,0,0,0,0,0,0,0,0]
["茨城県","08542","五霞町",{"v":3393,"d":"3,393"},{"v":2960,"d":"2,960"},{"v":2898,"d":"2,898"},0,{"v":2898,"d":"2,898"},0,0,0,0,62,0,62,0,0,0,0,352,292,0,0,64,143,0,85,60,0,0,5,1,0,54,0,0,0,0,0,0,0,0,0,0,0,0,0,0,0,0,0,0,0,0,0,0,0,0,0,0,0,0,0,0,0,0,0,0,0,0,0,0,0,0,0,0,0,0,0,0,0,0,0,0,0,0,0,0,0,0,0,0,0,0,0,0,0,0,0,0,0,0,0,0,0,0,0,0,0,0,0,0,0,0,0,0,0,0,0,0,0,0,0,0,81,81,0,0,0,0,0,0,0,0,0,0,0,0,0,0,0,0,0,0]
["茨城県","08546","境町",{"v":8237,"d":"8,237"},{"v":6703,"d":"6,703"},{"v":6380,"d":"6,380"},0,{"v":6380,"d":"6,380"},0,0,0,0,323,0,323,0,0,0,0,915,651,0,0,140,345,0,166,264,0,0,42,6,0,216,0,0,0,0,0,0,0,0,0,0,0,0,0,0,0,0,0,0,0,0,0,0,0,0,0,0,0,0,0,0,0,0,0,0,0,0,0,0,0,0,0,0,0,0,0,0,0,0,0,0,0,0,0,0,0,0,0,0,0,0,0,0,0,0,0,0,0,0,0,0,0,0,0,0,0,0,0,0,0,0,0,0,0,0,0,0,0,0,0,0,619,619,0,0,0,0,0,0,0,0,0,0,0,0,0,0,0,0,0,0]
["茨城県","08564","利根町",{"v":4841,"d":"4,841"},{"v":4135,"d":"4,135"},{"v":4074,"d":"4,074"},0,{"v":4010,"d":"4,010"},0,0,0,64,61,0,53,0,0,0,8,279,265,0,0,201,0,0,64,14,0,0,6,0,0,8,0,0,0,0,0,0,0,0,0,0,0,0,0,0,0,0,0,0,0,0,0,0,0,0,0,0,0,0,0,0,0,0,0,0,0,0,0,0,0,0,0,0,0,0,0,0,0,0,0,0,0,0,0,0,0,0,0,0,0,0,65,65,0,0,0,65,0,0,0,0,0,0,0,0,0,0,0,0,0,0,0,0,0,0,0,0,0,0,0,0,362,362,0,0,0,0,0,0,0,0,0,0,0,0,0,0,0,0,0,0]

{"sheet":"ごみ処理量内訳","index":3,"n_rows":51,"n_cols":45,"rows_kept":51,"merged":[[1,0,5,0],[1,1,5,1],[1,2,5,2],[2,3,4,3],[2,4,4,4],[2,5,2,12],[2,13,4,13],[2,14,4,14],[2,15,4,15],[2,16,4,16],[2,17,2,24],[2,25,4,25],[2,26,4,26],[2,27,4,27],[2,36,4,36],[2,37,4,37],[2,38,4,38],[2,39,4,39],[2,40,4,40],[2,41,4,41],[2,42,4,42],[2,43,4,43],[2,44,4,44],[3,5,4,5],[3,6,4,6],[3,7,4,7],[3,8,4,8],[3,9,4,9],[3,10,4,10],[3,11,4,11],[3,12,4,12],[3,17,4,17],[3,18,4,18],[3,19,4,19],[3,20,4,20],[3,21,4,21],[3,22,4,22],[3,23,4,23],[3,24,4,24],[3,28,4,28],[3,29,4,29],[3,30,4,30],[3,31,4,31],[3,32,4,32],[3,33,4,33],[3,34,4,34],[3,35,4,35]]}
["ごみ処理の状況（平成28年度実績）"]
["都道府県名","地方公共団体コード","市区町村名","処理量（直接焼却量+焼却以外の中間処理量+直接最終処分量+直接資源化量)",{"$nulls":11},"焼却処理量 (直接焼却量+焼却施設以外の中間処理施設からの搬入量)",{"$nulls":9},"最終処分量 (直接最終処分量+焼却残渣量+焼却施設以外の中間処理施設からの残渣量)",{"$nulls":10},"処理残渣保管量"]
[{"$nulls":3},"合計","直接焼却量","焼却以外の中間処理量 (粗大ごみ処理施設+ごみ堆肥化施設+ごみ飼料化施設+メタン化施設+ごみ燃料化施設+その他の資源化等を行う施設+その他の施設)",{"$nulls":7},"直接\n最終処分量","直接\n資源化量 ","合計","直接焼却量","焼却施設以外の中間処理施設からの搬入量",{"$nulls":7},"合計","直接最終\n処分量","焼却残渣量","焼却施設以外の中間処理施設からの残渣量",{"$nulls":7},"合計","焼却処理残渣の保管量","粗大ごみ\n処理施設","ごみ堆肥化施設","ごみ飼料化施設","メタン化施設","ごみ燃料化\n施設","その他の資源化等を行う施設","その他の\n施設"]
[{"$nulls":5},"合計","粗大ごみ\n処理施設","ごみ堆肥化施設","ごみ飼料化施設","メタン化施設","ごみ燃料化\n施設","その他の資源化等を行う施設","その他の\n施設",{"$nulls":4},"合計","粗大ごみ\n処理施設","ごみ堆肥化施設","ごみ飼料化施設","メタン化施設","ごみ燃料化\n施設","その他の資源化等を行う施設","その他の\n施設",{"$nulls":3},"合計","粗大ごみ\n処理施設","ごみ堆肥化施設","ごみ飼料化施設","メタン化施設","ごみ燃料化\n施設","その他の資源化等を行う施設","その他の\n施設"]
[]
[{"$nulls":3},"（ｔ）","（ｔ）","（ｔ）","（ｔ）","（ｔ）","（ｔ）","（ｔ）","（ｔ）","（ｔ）","（ｔ）","（ｔ）","（ｔ）","（ｔ）","（ｔ）","（ｔ）","（ｔ）","（ｔ）","（ｔ）","（ｔ）","（ｔ）","（ｔ）","（ｔ）","（ｔ）","（ｔ）","（ｔ）","（ｔ）","（ｔ）","（ｔ）","（ｔ）","（ｔ）","（ｔ）","（ｔ）","（ｔ）","（ｔ）","（ｔ）","（ｔ）","（ｔ）","（ｔ）","（ｔ）","（ｔ）","（ｔ）","（ｔ）"]
[{"$f":"ごみ処理概要!A7","v":"茨城県"},{"$f":"ごみ処理概要!B7","v":"08000"},"合計",{"$f":"SUM(E7,F7,N7,O7)","v":{"v":1036552,"d":"1,036,552"}},{"$f":"+Q7","v":{"v":793577,"d":"793,577"}},{"$f":"SUM(G7:M7)","v":{"v":150923,"d":"150,923"}},{"$f":"SUM(G$8:G$1000)","v":{"v":43643,"d":"43,643"}},{"v":2852,"d":"2,852"},0,0,{"v":40124,"d":"40,124"},{"v":64006,"d":"64,006"},298,{"$f":"+AA7","v":511},{"$f":"+資源化量内訳!Y7","v":{"v":91541,"d":"91,541"}},{"$f":"+SUM(Q7,R7)","v":{"v":825118,"d":"825,118"}},{"$f":"SUM(Q$8:Q$1000)","v":{"v":793577,"d":"793,577"}},{"$f":"+SUM(S7,T7,U7,V7,W7,X7,Y7)","v":{"v":31541,"d":"31,541"}},{"$f":"SUM(S$8:S$1000)","v":{"v":15793,"d":"15,793"}},89,0,0,0,{"v":15645,"d":"15,645"},14,{"$f":"SUM(AA7:AC7)","v":{"v":81791,"d":"81,791"}},{"$f":"SUM(AA$8:AA$1000)","v":511},{"$f":"SUM(AB$8:AB$1000)","v":{"v":73418,"d":"73,418"}},{"$f":"SUM(AD7:AJ7)","v":{"v":7862,"d":"7,862"}},{"$f":"SUM(AD$8:AD$1000)","v":{"v":6676,"d":"6,676"}},0,0,0,0,902,284,{"$f":"SUM(AL7:AS7)","v":45},{"$f":"SUM(AL$8:AL$1000)","v":45},0,0,0,0,0,0,0]
["茨城県","08201","水戸市",{"v":112610,"d":"112,610"},{"v":92433,"d":"92,433"},{"v":7815,"d":"7,815"},{"v":1368,"d":"1,368"},0,0,0,0,{"v":6447,"d":"6,447"},0,0,{"$f":"+資源化量内訳!Y8","v":{"v":12362,"d":"12,362"}},{"v":93031,"d":"93,031"},{"v":92433,"d":"92,433"},598,34,0,0,0,0,564,0,{"v":9626,"d":"9,626"},0,{"v":9455,"d":"9,455"},171,171,0,0,0,0,0,0,0,0,0,0,0,0,0,0,0]
["茨城県","08202","日立市",{"v":61280,"d":"61,280"},{"v":51119,"d":"51,119"},{"v":7736,"d":"7,736"},{"v":3166,"d":"3,166"},0,0,0,0,{"v":4570,"d":"4,570"},0,0,{"$f":"+資源化量内訳!Y9","v":{"v":2425,"d":"2,425"}},{"v":51646,"d":"51,646"},{"v":51119,"d":"51,119"},527,527,0,0,0,0,0,0,{"v":2047,"d":"2,047"},0,{"v":1130,"d":"1,130"},917,917,0,0,0,0,0,0,0,0,0,0,0,0,0,0,0]
["茨城県","08203","土浦市",{"v":60111,"d":"60,111"},{"v":43540,"d":"43,540"},{"v":10511,"d":"10,511"},{"v":3559,"d":"3,559"},0,0,0,21,{"v":6931,"d":"6,931"},0,0,{"$f":"+資源化量内訳!Y10","v":{"v":6060,"d":"6,060"}},{"v":44726,"d":"44,726"},{"v":43540,"d":"43,540"},{"v":1186,"d":"1,186"},{"v":1169,"d":"1,169"},0,0,0,0,17,0,{"v":6853,"d":"6,853"},0,{"v":5646,"d":"5,646"},{"v":1207,"d":"1,207"},{"v":1195,"d":"1,195"},0,0,0,0,12,0,0,0,0,0,0,0,0,0,0]
["茨城県","08204","古河市",{"v":47581,"d":"47,581"},{"v":41267,"d":"41,267"},{"v":4702,"d":"4,702"},0,0,0,0,0,{"v":4702,"d":"4,702"},0,0,{"$f":"+資源化量内訳!Y11","v":{"v":1612,"d":"1,612"}},{"v":42886,"d":"42,886"},{"v":41267,"d":"41,267"},{"v":1619,"d":"1,619"},0,0,0,0,0,{"v":1619,"d":"1,619"},0,{"v":4803,"d":"4,803"},0,{"v":4803,"d":"4,803"},0,0,0,0,0,0,0,0,0,0,0,0,0,0,0,0,0]
["茨城県","08205","石岡市",{"v":30408,"d":"30,408"},{"v":23432,"d":"23,432"},{"v":2672,"d":"2,672"},{"v":1850,"d":"1,850"},0,0,0,0,822,0,0,{"$f":"+資源化量内訳!Y12","v":{"v":4304,"d":"4,304"}},{"v":23811,"d":"23,811"},{"v":23432,"d":"23,432"},379,333,0,0,0,0,46,0,861,0,741,120,74,0,0,0,0,46,0,0,0,0,0,0,0,0,0,0]
["茨城県","08207","結城市",{"v":20766,"d":"20,766"},{"v":19135,"d":"19,135"},14,0,0,0,0,0,0,14,0,{"$f":"+資源化量内訳!Y13","v":{"v":1617,"d":"1,617"}},{"v":19149,"d":"19,149"},{"v":19135,"d":"19,135"},14,0,0,0,0,0,0,14,933,0,933,0,0,0,0,0,0,0,0,0,0,0,0,0,0,0,0,0]
["茨城県","08208","龍ケ崎市",{"v":29769,"d":"29,769"},{"v":23451,"d":"23,451"},{"v":1454,"d":"1,454"},{"v":1105,"d":"1,105"},0,0,0,0,349,0,0,{"$f":"+資源化量内訳!Y14","v":{"v":4864,"d":"4,864"}},{"v":23605,"d":"23,605"},{"v":23451,"d":"23,451"},154,154,0,0,0,0,0,0,{"v":3263,"d":"3,263"},0,{"v":2762,"d":"2,762"},501,501,0,0,0,0,0,0,0,0,0,0,0,0,0,0,0]
["茨城県","08210","下妻市",{"v":16699,"d":"16,699"},{"v":13418,"d":"13,418"},768,755,0,0,0,0,13,0,0,{"$f":"+資源化量内訳!Y15","v":{"v":2513,"d":"2,513"}},{"v":13606,"d":"13,606"},{"v":13418,"d":"13,418"},188,188,0,0,0,0,0,0,{"v":2398,"d":"2,398"},0,{"v":2082,"d":"2,082"},316,316,0,0,0,0,0,0,0,0,0,0,0,0,0,0,0]
["茨城県","08211","常総市",{"v":18577,"d":"18,577"},{"v":13861,"d":"13,861"},{"v":3596,"d":"3,596"},541,{"v":1006,"d":"1,006"},0,0,0,{"v":2049,"d":"2,049"},0,0,{"$f":"+資源化量内訳!Y16","v":{"v":1120,"d":"1,120"}},{"v":15474,"d":"15,474"},{"v":13861,"d":"13,861"},{"v":1613,"d":"1,613"},191,4,0,0,0,{"v":1418,"d":"1,418"},0,{"v":1428,"d":"1,428"},0,{"v":1282,"d":"1,282"},146,146,0,0,0,0,0,0,0,0,0,0,0,0,0,0,0]
["茨城県","08212","常陸太田市",{"v":16079,"d":"16,079"},{"v":14257,"d":"14,257"},892,0,0,0,0,0,892,0,0,{"$f":"+資源化量内訳!Y17","v":930},{"v":14257,"d":"14,257"},{"v":14257,"d":"14,257"},0,0,0,0,0,0,0,0,{"v":1598,"d":"1,598"},0,{"v":1578,"d":"1,578"},20,0,0,0,0,0,20,0,0,0,0,0,0,0,0,0,0]
["茨城県","08214","高萩市",{"v":9323,"d":"9,323"},{"v":7026,"d":"7,026"},{"v":2297,"d":"2,297"},0,0,0,0,0,{"v":2013,"d":"2,013"},284,0,{"$f":"+資源化量内訳!Y18","v":0},{"v":7026,"d":"7,026"},{"v":7026,"d":"7,026"},0,0,0,0,0,0,0,0,986,0,702,284,0,0,0,0,0,0,284,0,0,0,0,0,0,0,0,0]
["茨城県","08215","北茨城市",{"v":16134,"d":"16,134"},{"v":13484,"d":"13,484"},566,0,0,0,0,0,566,0,511,{"$f":"+資源化量内訳!Y19","v":{"v":1573,"d":"1,573"}},{"v":13484,"d":"13,484"},{"v":13484,"d":"13,484"},0,0,0,0,0,0,0,0,{"v":2146,"d":"2,146"},511,{"v":1635,"d":"1,635"},0,0,0,0,0,0,0,0,0,0,0,0,0,0,0,0,0]
["茨城県","08216","笠間市",{"v":27874,"d":"27,874"},{"v":21957,"d":"21,957"},{"v":2371,"d":"2,371"},{"v":2308,"d":"2,308"},0,0,0,0,63,0,0,{"$f":"+資源化量内訳!Y20","v":{"v":3546,"d":"3,546"}},{"v":22071,"d":"22,071"},{"v":21957,"d":"21,957"},114,114,0,0,0,0,0,0,{"v":2213,"d":"2,213"},0,{"v":1870,"d":"1,870"},343,343,0,0,0,0,0,0,0,0,0,0,0,0,0,0,0]
["茨城県","08217","取手市",{"v":34180,"d":"34,180"},{"v":23210,"d":"23,210"},{"v":6829,"d":"6,829"},717,343,0,0,0,{"v":5769,"d":"5,769"},0,0,{"$f":"+資源化量内訳!Y21","v":{"v":4141,"d":"4,141"}},{"v":27627,"d":"27,627"},{"v":23210,"d":"23,210"},{"v":4417,"d":"4,417"},388,21,0,0,0,{"v":4008,"d":"4,008"},0,{"v":1104,"d":"1,104"},0,{"v":1104,"d":"1,104"},0,0,0,0,0,0,0,0,0,0,0,0,0,0,0,0,0]
["茨城県","08219","牛久市",{"v":28816,"d":"28,816"},{"v":23433,"d":"23,433"},{"v":3040,"d":"3,040"},0,84,0,0,40,{"v":2916,"d":"2,916"},0,0,{"$f":"+資源化量内訳!Y22","v":{"v":2343,"d":"2,343"}},{"v":24858,"d":"24,858"},{"v":23433,"d":"23,433"},{"v":1425,"d":"1,425"},0,0,0,0,0,{"v":1425,"d":"1,425"},0,{"v":1694,"d":"1,694"},0,{"v":1694,"d":"1,694"},0,0,0,0,0,0,0,0,0,0,0,0,0,0,0,0,0]
["茨城県","08220","つくば市",{"v":91362,"d":"91,362"},{"v":71254,"d":"71,254"},{"v":9838,"d":"9,838"},{"v":4660,"d":"4,660"},0,0,0,0,{"v":5178,"d":"5,178"},0,0,{"$f":"+資源化量内訳!Y23","v":{"v":10270,"d":"10,270"}},{"v":76153,"d":"76,153"},{"v":71254,"d":"71,254"},{"v":4899,"d":"4,899"},{"v":3445,"d":"3,445"},0,0,0,0,{"v":1454,"d":"1,454"},0,{"v":11390,"d":"11,390"},0,{"v":10892,"d":"10,892"},498,498,0,0,0,0,0,0,0,0,0,0,0,0,0,0,0]
["茨城県","08221","ひたちなか市",{"v":53588,"d":"53,588"},{"v":51146,"d":"51,146"},{"v":2102,"d":"2,102"},{"v":2102,"d":"2,102"},0,0,0,0,0,0,0,{"$f":"+資源化量内訳!Y24","v":340},{"v":51146,"d":"51,146"},{"v":51146,"d":"51,146"},0,0,0,0,0,0,0,0,{"v":2592,"d":"2,592"},0,{"v":2592,"d":"2,592"},0,0,0,0,0,0,0,0,0,0,0,0,0,0,0,0,0]
["茨城県","08222","鹿嶋市",{"v":24400,"d":"24,400"},{"v":1215,"d":"1,215"},{"v":22772,"d":"22,772"},{"v":4244,"d":"4,244"},0,0,0,{"v":18089,"d":"18,089"},439,0,0,{"$f":"+資源化量内訳!Y25","v":413},{"v":2691,"d":"2,691"},{"v":1215,"d":"1,215"},{"v":1476,"d":"1,476"},{"v":1476,"d":"1,476"},0,0,0,0,0,0,244,0,101,143,143,0,0,0,0,0,0,0,0,0,0,0,0,0,0,0]
["茨城県","08223","潮来市",{"v":10886,"d":"10,886"},{"v":7882,"d":"7,882"},{"v":2056,"d":"2,056"},793,0,0,0,0,{"v":1263,"d":"1,263"},0,0,{"$f":"+資源化量内訳!Y26","v":948},{"v":8105,"d":"8,105"},{"v":7882,"d":"7,882"},223,196,0,0,0,0,27,0,440,0,0,440,440,0,0,0,0,0,0,0,0,0,0,0,0,0,0,0]
["茨城県","08224","守谷市",{"v":18738,"d":"18,738"},{"v":13448,"d":"13,448"},{"v":4208,"d":"4,208"},449,490,0,0,0,{"v":3269,"d":"3,269"},0,0,{"$f":"+資源化量内訳!Y27","v":{"v":1082,"d":"1,082"}},{"v":16009,"d":"16,009"},{"v":13448,"d":"13,448"},{"v":2561,"d":"2,561"},243,47,0,0,0,{"v":2271,"d":"2,271"},0,640,0,640,0,0,0,0,0,0,0,0,0,0,0,0,0,0,0,0,0]
["茨城県","08225","常陸大宮市",{"v":14193,"d":"14,193"},{"v":11800,"d":"11,800"},{"v":2393,"d":"2,393"},{"v":1165,"d":"1,165"},0,0,0,0,{"v":1228,"d":"1,228"},0,0,{"$f":"+資源化量内訳!Y28","v":0},{"v":12300,"d":"12,300"},{"v":11800,"d":"11,800"},500,500,0,0,0,0,0,0,{"v":1832,"d":"1,832"},0,{"v":1711,"d":"1,711"},121,121,0,0,0,0,0,0,0,0,0,0,0,0,0,0,0]
["茨城県","08226","那珂市",{"v":16772,"d":"16,772"},{"v":14532,"d":"14,532"},{"v":2240,"d":"2,240"},979,0,0,0,0,{"v":1261,"d":"1,261"},0,0,{"$f":"+資源化量内訳!Y29","v":0},{"v":14942,"d":"14,942"},{"v":14532,"d":"14,532"},410,410,0,0,0,0,0,0,{"v":2198,"d":"2,198"},0,{"v":2109,"d":"2,109"},89,89,0,0,0,0,0,0,0,0,0,0,0,0,0,0,0]
["茨城県","08227","筑西市",{"v":32264,"d":"32,264"},{"v":27893,"d":"27,893"},{"v":1986,"d":"1,986"},{"v":1821,"d":"1,821"},0,0,0,0,165,0,0,{"$f":"+資源化量内訳!Y30","v":{"v":2385,"d":"2,385"}},{"v":29155,"d":"29,155"},{"v":27893,"d":"27,893"},{"v":1262,"d":"1,262"},{"v":1262,"d":"1,262"},0,0,0,0,0,0,{"v":1392,"d":"1,392"},0,{"v":1392,"d":"1,392"},0,0,0,0,0,0,0,0,0,0,0,0,0,0,0,0,0]
["茨城県","08228","坂東市",{"v":16626,"d":"16,626"},{"v":12945,"d":"12,945"},{"v":1939,"d":"1,939"},{"v":1136,"d":"1,136"},0,0,0,0,803,0,0,{"$f":"+資源化量内訳!Y31","v":{"v":1742,"d":"1,742"}},{"v":14027,"d":"14,027"},{"v":12945,"d":"12,945"},{"v":1082,"d":"1,082"},995,0,0,0,0,87,0,748,0,748,0,0,0,0,0,0,0,0,0,0,0,0,0,0,0,0,0]
["茨城県","08229","稲敷市",{"v":14955,"d":"14,955"},{"v":11121,"d":"11,121"},{"v":1910,"d":"1,910"},{"v":1352,"d":"1,352"},0,0,0,0,558,0,0,{"$f":"+資源化量内訳!Y32","v":{"v":1924,"d":"1,924"}},{"v":12473,"d":"12,473"},{"v":11121,"d":"11,121"},{"v":1352,"d":"1,352"},{"v":1352,"d":"1,352"},0,0,0,0,0,0,{"v":1910,"d":"1,910"},0,{"v":1757,"d":"1,757"},153,0,0,0,0,0,153,0,0,0,0,0,0,0,0,0,0]
["茨城県","08230","かすみがうら市",{"v":16602,"d":"16,602"},{"v":12917,"d":"12,917"},{"v":2060,"d":"2,060"},{"v":1155,"d":"1,155"},377,0,0,0,528,0,0,{"$f":"+資源化量内訳!Y33","v":{"v":1625,"d":"1,625"}},{"v":13578,"d":"13,578"},{"v":12917,"d":"12,917"},661,559,0,0,0,0,102,0,{"v":1649,"d":"1,649"},0,{"v":1457,"d":"1,457"},192,133,0,0,0,0,59,0,0,0,0,0,0,0,0,0,0]
["茨城県","08231","桜川市",{"v":10375,"d":"10,375"},{"v":10270,"d":"10,270"},105,0,0,0,0,0,105,0,0,{"$f":"+資源化量内訳!Y34","v":0},{"v":10270,"d":"10,270"},{"v":10270,"d":"10,270"},0,0,0,0,0,0,0,0,528,0,528,0,0,0,0,0,0,0,0,0,0,0,0,0,0,0,0,0]
["茨城県","08232","神栖市",{"v":36614,"d":"36,614"},0,{"v":27078,"d":"27,078"},0,0,0,0,{"v":21974,"d":"21,974"},{"v":5104,"d":"5,104"},0,0,{"$f":"+資源化量内訳!Y35","v":{"v":9536,"d":"9,536"}},829,0,829,0,0,0,0,0,829,0,819,0,261,558,0,0,0,0,0,558,0,0,0,0,0,0,0,0,0,0]
["茨城県","08233","行方市",{"v":10661,"d":"10,661"},{"v":9098,"d":"9,098"},{"v":1250,"d":"1,250"},{"v":1250,"d":"1,250"},0,0,0,0,0,0,0,{"$f":"+資源化量内訳!Y36","v":313},{"v":9261,"d":"9,261"},{"v":9098,"d":"9,098"},163,163,0,0,0,0,0,0,{"v":1647,"d":"1,647"},0,{"v":1285,"d":"1,285"},362,362,0,0,0,0,0,0,0,0,0,0,0,0,0,0,0]
["茨城県","08234","鉾田市",{"v":12210,"d":"12,210"},{"v":10837,"d":"10,837"},{"v":1068,"d":"1,068"},253,0,0,0,0,815,0,0,{"$f":"+資源化量内訳!Y37","v":305},{"v":10869,"d":"10,869"},{"v":10837,"d":"10,837"},32,32,0,0,0,0,0,0,496,0,429,67,67,0,0,0,0,0,0,0,0,0,0,0,0,0,0,0]
["茨城県","08235","つくばみらい市",{"v":12875,"d":"12,875"},{"v":9332,"d":"9,332"},{"v":2940,"d":"2,940"},252,170,0,0,0,{"v":2518,"d":"2,518"},0,0,{"$f":"+資源化量内訳!Y38","v":603},{"v":11232,"d":"11,232"},{"v":9332,"d":"9,332"},{"v":1900,"d":"1,900"},136,17,0,0,0,{"v":1747,"d":"1,747"},0,444,0,444,0,0,0,0,0,0,0,0,0,0,0,0,0,0,0,0,0]
["茨城県","08236","小美玉市",{"v":17698,"d":"17,698"},{"v":14964,"d":"14,964"},{"v":1385,"d":"1,385"},845,0,0,0,0,540,0,0,{"$f":"+資源化量内訳!Y39","v":{"v":1349,"d":"1,349"}},{"v":14964,"d":"14,964"},{"v":14964,"d":"14,964"},0,0,0,0,0,0,0,0,{"v":1004,"d":"1,004"},0,906,98,98,0,0,0,0,0,0,20,20,0,0,0,0,0,0,0]
["茨城県","08302","茨城町",{"v":10536,"d":"10,536"},{"v":8750,"d":"8,750"},663,256,0,0,0,0,407,0,0,{"$f":"+資源化量内訳!Y40","v":{"v":1123,"d":"1,123"}},{"v":8750,"d":"8,750"},{"v":8750,"d":"8,750"},0,0,0,0,0,0,0,0,{"v":1231,"d":"1,231"},0,{"v":1107,"d":"1,107"},124,124,0,0,0,0,0,0,25,25,0,0,0,0,0,0,0]
["茨城県","08309","大洗町",{"v":9990,"d":"9,990"},{"v":8812,"d":"8,812"},332,332,0,0,0,0,0,0,0,{"$f":"+資源化量内訳!Y41","v":846},{"v":8851,"d":"8,851"},{"v":8812,"d":"8,812"},39,39,0,0,0,0,0,0,{"v":1411,"d":"1,411"},0,{"v":1323,"d":"1,323"},88,88,0,0,0,0,0,0,0,0,0,0,0,0,0,0,0]
["茨城県","08310","城里町",{"v":5630,"d":"5,630"},{"v":5027,"d":"5,027"},603,303,0,0,0,0,300,0,0,{"$f":"+資源化量内訳!Y42","v":0},{"v":5135,"d":"5,135"},{"v":5027,"d":"5,027"},108,93,0,0,0,0,15,0,569,0,531,38,31,0,0,0,0,7,0,0,0,0,0,0,0,0,0,0]
["茨城県","08341","東海村",{"v":13649,"d":"13,649"},{"v":9546,"d":"9,546"},{"v":1808,"d":"1,808"},755,382,0,0,0,671,0,0,{"$f":"+資源化量内訳!Y43","v":{"v":2295,"d":"2,295"}},{"v":9546,"d":"9,546"},{"v":9546,"d":"9,546"},0,0,0,0,0,0,0,0,569,0,420,149,149,0,0,0,0,0,0,0,0,0,0,0,0,0,0,0]
["茨城県","08364","大子町",{"v":6713,"d":"6,713"},{"v":5357,"d":"5,357"},264,0,0,0,0,0,264,0,0,{"$f":"+資源化量内訳!Y44","v":{"v":1092,"d":"1,092"}},{"v":5357,"d":"5,357"},{"v":5357,"d":"5,357"},0,0,0,0,0,0,0,0,508,0,508,0,0,0,0,0,0,0,0,0,0,0,0,0,0,0,0,0]
["茨城県","08442","美浦村",{"v":5935,"d":"5,935"},{"v":4184,"d":"4,184"},750,510,0,0,0,0,240,0,0,{"$f":"+資源化量内訳!Y45","v":{"v":1001,"d":"1,001"}},{"v":4694,"d":"4,694"},{"v":4184,"d":"4,184"},510,510,0,0,0,0,0,0,750,0,703,47,0,0,0,0,0,47,0,0,0,0,0,0,0,0,0,0]
["茨城県","08443","阿見町",{"v":18016,"d":"18,016"},{"v":15513,"d":"15,513"},{"v":1790,"d":"1,790"},{"v":1669,"d":"1,669"},0,0,0,0,121,0,0,{"$f":"+資源化量内訳!Y46","v":713},{"v":15959,"d":"15,959"},{"v":15513,"d":"15,513"},446,430,0,0,0,0,16,0,{"v":2484,"d":"2,484"},0,{"v":2132,"d":"2,132"},352,352,0,0,0,0,0,0,0,0,0,0,0,0,0,0,0]
["茨城県","08447","河内町",{"v":3019,"d":"3,019"},{"v":2292,"d":"2,292"},201,147,0,0,0,0,54,0,0,{"$f":"+資源化量内訳!Y47","v":526},{"v":2312,"d":"2,312"},{"v":2292,"d":"2,292"},20,20,0,0,0,0,0,0,337,0,270,67,67,0,0,0,0,0,0,0,0,0,0,0,0,0,0,0]
["茨城県","08521","八千代町",{"v":5567,"d":"5,567"},{"v":4621,"d":"4,621"},308,300,0,0,0,0,8,0,0,{"$f":"+資源化量内訳!Y48","v":638},{"v":4696,"d":"4,696"},{"v":4621,"d":"4,621"},75,75,0,0,0,0,0,0,842,0,717,125,125,0,0,0,0,0,0,0,0,0,0,0,0,0,0,0]
["茨城県","08542","五霞町",{"v":3393,"d":"3,393"},{"v":2960,"d":"2,960"},352,352,0,0,0,0,0,0,0,{"$f":"+資源化量内訳!Y49","v":81},{"v":3160,"d":"3,160"},{"v":2960,"d":"2,960"},200,200,0,0,0,0,0,0,166,0,166,0,0,0,0,0,0,0,0,0,0,0,0,0,0,0,0,0]
["茨城県","08546","境町",{"v":8237,"d":"8,237"},{"v":6703,"d":"6,703"},915,915,0,0,0,0,0,0,0,{"$f":"+資源化量内訳!Y50","v":619},{"v":7223,"d":"7,223"},{"v":6703,"d":"6,703"},520,520,0,0,0,0,0,0,383,0,383,0,0,0,0,0,0,0,0,0,0,0,0,0,0,0,0,0]
["茨城県","08564","利根町",{"v":4841,"d":"4,841"},{"v":4135,"d":"4,135"},344,279,0,0,0,0,65,0,0,{"$f":"+資源化量内訳!Y51","v":362},{"v":4174,"d":"4,174"},{"v":4135,"d":"4,135"},39,39,0,0,0,0,0,0,615,0,489,126,126,0,0,0,0,0,0,0,0,0,0,0,0,0,0,0]

{"sheet":"資源化量内訳","index":4,"n_rows":51,"n_cols":88,"rows_kept":51,"merged":[[1,0,5,0],[1,1,5,1],[1,2,5,2],[1,87,5,87],[2,3,4,3],[2,4,4,4],[2,5,4,5],[2,6,4,6],[2,7,4,7],[2,8,4,8],[2,9,4,9],[2,10,4,10],[2,11,4,11],[2,12,4,12],[2,13,4,13],[2,14,4,14],[2,15,4,15],[2,16,4,16],[2,17,4,17],[2,18,4,18],[2,19,4,19],[2,20,4,20],[2,21,4,21],[2,22,4,22],[2,23,4,23],[2,24,4,24],[2,25,4,25],[2,26,4,26],[2,27,4,27],[2,28,4,28],[2,29,4,29],[2,30,4,30],[2,31,4,31],[2,32,4,32],[2,33,4,33],[2,34,4,34],[2,35,4,35],[2,36,4,36],[2,37,4,37],[2,38,4,38],[2,39,4,39],[2,40,4,40],[2,41,4,41],[2,42,4,42],[2,43,4,43],[2,44,4,44],[2,45,4,45],[2,46,4,46],[2,47,4,47],[2,48,4,48],[2,49,4,49],[2,50,4,50],[2,51,4,51],[2,52,4,52],[2,53,4,53],[2,54,4,54],[2,55,4,55],[2,56,4,56],[2,57,4,57],[2,58,4,58],[2,59,4,59],[2,60,4,60],[2,61,4,61],[2,62,4,62],[2,63,4,63],[2,64,4,64],[2,65,4,65],[2,66,4,66],[2,67,4,67],[2,68,4,68],[2,69,4,69],[2,70,4,70],[2,71,4,71],[2,72,4,72],[2,73,4,73],[2,74,4,74],[2,75,4,75],[2,76,4,76],[2,77,4,77],[2,78,4,78],[2,79,4,79],[2,80,4,80],[2,81,4,81],[2,82,4,82],[2,83,4,83],[2,84,4,84],[2,85,4,85],[2,86,4,86]]}
["ごみ資源化の状況（平成28年度実績）"]
["都道府県名","地方公共団体コード","市区町村名","資源化量 (直接資源化量+中間処理後再生利用量+集団回収量)",{"$nulls":20},"直接資源化量 (紙類+金属類+ガラス類+ペットボトル+容器包装プラスチック+プラスチック類+布類+廃食用油+その他)",{"$nulls":20},"中間処理後再生利用量 (紙類+金属類+ガラス類+ペットボトル+容器包装プラスチック+プラスチック類+布類+肥料+飼料+溶融スラグ+固形燃料+燃料+焼却灰・飛灰+セメント直接投入+廃食用油+その他)",{"$nulls":20},"集団回収量 (紙類+金属類+ガラス類+ペットボトル+容器包装プラスチック+プラスチック類+布類+廃食用油+その他)",{"$nulls":20},"最終処分場の有無"]
[{"$nulls":3},"合計","紙類(02、03を除く)","紙パック","紙製容器包装","金属類","ガラス類","ペットボトル","白色トレイ","容器包装プラスチック(07を除く)","プラスチック類(07,08を除く)","布類","肥料","飼料","溶融スラグ","固形燃料\n（RDF,RPF）","燃料\n（14を除く）","焼却灰・飛灰のセメント原料化","セメント等への直接投入","飛灰の山元還元","廃食用油（BDF)","その他","合計","紙類(02、03を除く)","紙パック","紙製容器包装","金属類","ガラス類","ペットボトル","白色トレイ","容器包装プラスチック(07を除く)","プラスチック類(07,08を除く)","布類","肥料","飼料","溶融スラグ","固形燃料\n（RDF,RPF）","燃料\n（14を除く）","焼却灰・飛灰のセメント原料化","セメント等への直接投入","飛灰の山元還元","廃食用油（BDF)","その他","合計","紙類(02、03を除く)","紙パック","紙製容器包装","金属類","ガラス類","ペットボトル","白色トレイ","容器包装プラスチック(07を除く)","プラスチック類(07,08を除く)","布類","肥料","飼料","溶融スラグ","固形燃料\n（RDF,RPF）","燃料\n（14を除く）","焼却灰・飛灰のセメント原料化","セメント等への直接投入","飛灰の山元還元","廃食用油（BDF)","その他","合計","紙類(02、03を除く)","紙パック","紙製容器包装","金属類","ガラス類","ペットボトル","白色トレイ","容器包装プラスチック(07を除く)","プラスチック類(07,08を除く)","布類","肥料","飼料","溶融スラグ","固形燃料\n（RDF,RPF）","燃料\n（14を除く）","焼却灰・飛灰のセメント原料化","セメント等への直接投入","飛灰の山元還元","廃食用油（BDF)","その他"]
[]
[]
[{"$nulls":3},"（ｔ）","（ｔ）","（ｔ）","（ｔ）","（ｔ）","（ｔ）","（ｔ）","（ｔ）","（ｔ）","（ｔ）","（ｔ）","（ｔ）","（ｔ）","（ｔ）","（ｔ）","（ｔ）","（ｔ）","（ｔ）","（ｔ）","（ｔ）","（ｔ）","（ｔ）","（ｔ）","（ｔ）","（ｔ）","（ｔ）","（ｔ）","（ｔ）","（ｔ）","（ｔ）","（ｔ）","（ｔ）","（ｔ）","（ｔ）","（ｔ）","（ｔ）","（ｔ）","（ｔ）","（ｔ）","（ｔ）","（ｔ）","（ｔ）","（ｔ）","（ｔ）","（ｔ）","（ｔ）","（ｔ）","（ｔ）","（ｔ）","（ｔ）","（ｔ）","（ｔ）","（ｔ）","（ｔ）","（ｔ）","（ｔ）","（ｔ）","（ｔ）","（ｔ）","（ｔ）","（ｔ）","（ｔ）","（ｔ）","（ｔ）","（ｔ）","（ｔ）","（ｔ）","（ｔ）","（ｔ）","（ｔ）","（ｔ）","（ｔ）","（ｔ）","（ｔ）","（ｔ）","（ｔ）","（ｔ）","（ｔ）","（ｔ）","（ｔ）","（ｔ）","（ｔ）","（ｔ）","（ｔ）"]
[{"$f":"ごみ処理概要!A7","v":"茨城県"},{"$f":"ごみ処理概要!B7","v":"08000"},"合計",{"$f":"SUM(Y7,AT7,BO7)","v":{"v":238505,"d":"238,505"}},{"v":108550,"d":"108,550"},552,{"v":1335,"d":"1,335"},{"v":26398,"d":"26,398"},{"v":18674,"d":"18,674"},{"v":6648,"d":"6,648"},101,{"v":2782,"d":"2,782"},612,{"v":3253,"d":"3,253"},874,16,{"v":26784,"d":"26,784"},{"v":25147,"d":"25,147"},0,0,0,0,132,{"v":16647,"d":"16,647"},{"$f":"SUM(Z7:AS7)","v":{"v":91541,"d":"91,541"}},{"$f":"SUM(Z$8:Z$1000)","v":{"v":71752,"d":"71,752"}},185,{"v":1038,"d":"1,038"},{"v":5065,"d":"5,065"},{"v":3156,"d":"3,156"},{"v":1703,"d":"1,703"},15,219,0,{"v":2209,"d":"2,209"},"-","-","-","-","-","-","-","-",53,{"v":6146,"d":"6,146"},{"$f":"施設資源化量内訳!D7","v":{"v":115040,"d":"115,040"}},{"$f":"施設資源化量内訳!E7","v":{"v":9710,"d":"9,710"}},{"$f":"施設資源化量内訳!F7","v":315},{"$f":"施設資源化量内訳!G7","v":53},{"$f":"施設資源化量内訳!H7","v":{"v":19810,"d":"19,810"}},{"$f":"施設資源化量内訳!I7","v":{"v":13918,"d":"13,918"}},{"$f":"施設資源化量内訳!J7","v":{"v":4293,"d":"4,293"}},{"$f":"施設資源化量内訳!K7","v":70},{"$f":"施設資源化量内訳!L7","v":{"v":2210,"d":"2,210"}},{"$f":"施設資源化量内訳!M7","v":611},{"$f":"施設資源化量内訳!N7","v":672},{"$f":"施設資源化量内訳!O7","v":874},{"$f":"施設資源化量内訳!P7","v":16},{"$f":"施設資源化量内訳!Q7","v":{"v":26784,"d":"26,784"}},{"$f":"施設資源化量内訳!R7","v":{"v":25147,"d":"25,147"}},{"$f":"施設資源化量内訳!S7","v":0},{"$f":"施設資源化量内訳!T7","v":0},{"$f":"施設資源化量内訳!U7","v":0},{"$f":"施設資源化量内訳!V7","v":0},{"$f":"施設資源化量内訳!W7","v":78},{"$f":"施設資源化量内訳!X7","v":{"v":10479,"d":"10,479"}},{"$f":"SUM(BP7:CI7)","v":{"v":31924,"d":"31,924"}},{"$f":"SUM(BP$8:BP$1000)","v":{"v":27088,"d":"27,088"}},52,244,{"v":1523,"d":"1,523"},{"v":1600,"d":"1,600"},652,16,353,1,372,"-","-","-","-","-","-","-","-",1,22,{"$f":"+COUNTIF(CJ$8:CJ$1000,\"有る\")","v":22}]
["茨城県","08201","水戸市",{"$f":"SUM(Y8,AT8,BO8)","v":{"v":22276,"d":"22,276"}},{"$f":"SUM(Z8,AU8,BP8)","v":{"v":14663,"d":"14,663"}},{"$f":"SUM(AA8,AV8,BQ8)","v":9},{"$f":"SUM(AB8,AW8,BR8)","v":0},{"$f":"SUM(AC8,AX8,BS8)","v":{"v":2232,"d":"2,232"}},{"$f":"SUM(AD8,AY8,BT8)","v":{"v":1420,"d":"1,420"}},{"$f":"SUM(AE8,AZ8,BU8)","v":614},{"$f":"SUM(AF8,BA8,BV8)","v":0},{"$f":"SUM(AG8,BB8,BW8)","v":0},{"$f":"SUM(AH8,BC8,BX8)","v":0},{"$f":"SUM(AI8,BD8,BY8)","v":78},{"$f":"SUM(AJ8,BE8,BZ8)","v":0},{"$f":"SUM(AK8,BF8,CA8)","v":0},{"$f":"SUM(AL8,BG8,CB8)","v":0},{"$f":"SUM(AM8,BH8,CC8)","v":0},{"$f":"SUM(AN8,BI8,CD8)","v":0},{"$f":"SUM(AO8,BJ8,CE8)","v":0},{"$f":"SUM(AP8,BK8,CF8)","v":0},{"$f":"SUM(AQ8,BL8,CG8)","v":0},{"$f":"SUM(AR8,BM8,CH8)","v":0},{"$f":"SUM(AS8,BN8,CI8)","v":{"v":3260,"d":"3,260"}},{"v":12362,"d":"12,362"},{"v":9007,"d":"9,007"},0,0,469,13,397,0,0,0,0,"-","-","-","-","-","-","-","-",0,{"v":2476,"d":"2,476"},{"$f":"施設資源化量内訳!D8","v":{"v":5381,"d":"5,381"}},{"$f":"施設資源化量内訳!E8","v":{"v":2171,"d":"2,171"}},{"$f":"施設資源化量内訳!F8","v":1},{"$f":"施設資源化量内訳!G8","v":0},{"$f":"施設資源化量内訳!H8","v":{"v":1417,"d":"1,417"}},{"$f":"施設資源化量内訳!I8","v":849},{"$f":"施設資源化量内訳!J8","v":100},{"$f":"施設資源化量内訳!K8","v":0},{"$f":"施設資源化量内訳!L8","v":0},{"$f":"施設資源化量内訳!M8","v":0},{"$f":"施設資源化量内訳!N8","v":59},{"$f":"施設資源化量内訳!O8","v":0},{"$f":"施設資源化量内訳!P8","v":0},{"$f":"施設資源化量内訳!Q8","v":0},{"$f":"施設資源化量内訳!R8","v":0},{"$f":"施設資源化量内訳!S8","v":0},{"$f":"施設資源化量内訳!T8","v":0},{"$f":"施設資源化量内訳!U8","v":0},{"$f":"施設資源化量内訳!V8","v":0},{"$f":"施設資源化量内訳!W8","v":0},{"$f":"施設資源化量内訳!X8","v":784},{"v":4533,"d":"4,533"},{"v":3485,"d":"3,485"},8,0,346,558,117,0,0,0,19,"-","-","-","-","-","-","-","-",0,0,"有る"]
["茨城県","08202","日立市",{"v":12973,"d":"12,973"},{"v":4680,"d":"4,680"},50,0,{"v":1315,"d":"1,315"},{"v":1162,"d":"1,162"},461,52,64,0,240,0,0,{"v":3906,"d":"3,906"},0,0,0,0,0,22,{"v":1021,"d":"1,021"},{"v":2425,"d":"2,425"},{"v":2024,"d":"2,024"},5,0,114,6,104,0,0,0,172,"-","-","-","-","-","-","-","-",0,0,{"$f":"施設資源化量内訳!D9","v":{"v":10367,"d":"10,367"}},{"$f":"施設資源化量内訳!E9","v":{"v":2483,"d":"2,483"}},{"$f":"施設資源化量内訳!F9","v":45},{"$f":"施設資源化量内訳!G9","v":0},{"$f":"施設資源化量内訳!H9","v":{"v":1196,"d":"1,196"}},{"$f":"施設資源化量内訳!I9","v":{"v":1155,"d":"1,155"}},{"$f":"施設資源化量内訳!J9","v":356},{"$f":"施設資源化量内訳!K9","v":52},{"$f":"施設資源化量内訳!L9","v":64},{"$f":"施設資源化量内訳!M9","v":0},{"$f":"施設資源化量内訳!N9","v":67},{"$f":"施設資源化量内訳!O9","v":0},{"$f":"施設資源化量内訳!P9","v":0},{"$f":"施設資源化量内訳!Q9","v":{"v":3906,"d":"3,906"}},{"$f":"施設資源化量内訳!R9","v":0},{"$f":"施設資源化量内訳!S9","v":0},{"$f":"施設資源化量内訳!T9","v":0},{"$f":"施設資源化量内訳!U9","v":0},{"$f":"施設資源化量内訳!V9","v":0},{"$f":"施設資源化量内訳!W9","v":22},{"$f":"施設資源化量内訳!X9","v":{"v":1021,"d":"1,021"}},181,173,0,0,5,1,1,0,0,0,1,"-","-","-","-","-","-","-","-",0,0,"有る"]
["茨城県","08203","土浦市",{"v":16984,"d":"16,984"},{"v":8578,"d":"8,578"},0,0,{"v":1332,"d":"1,332"},745,267,0,789,0,218,0,0,57,0,0,0,0,0,21,{"v":4977,"d":"4,977"},{"v":6060,"d":"6,060"},{"v":5921,"d":"5,921"},0,0,131,0,0,0,0,0,8,"-","-","-","-","-","-","-","-",0,0,{"$f":"施設資源化量内訳!D10","v":{"v":8271,"d":"8,271"}},{"$f":"施設資源化量内訳!E10","v":95},{"$f":"施設資源化量内訳!F10","v":0},{"$f":"施設資源化量内訳!G10","v":0},{"$f":"施設資源化量内訳!H10","v":{"v":1194,"d":"1,194"}},{"$f":"施設資源化量内訳!I10","v":737},{"$f":"施設資源化量内訳!J10","v":267},{"$f":"施設資源化量内訳!K10","v":0},{"$f":"施設資源化量内訳!L10","v":789},{"$f":"施設資源化量内訳!M10","v":0},{"$f":"施設資源化量内訳!N10","v":134},{"$f":"施設資源化量内訳!O10","v":0},{"$f":"施設資源化量内訳!P10","v":0},{"$f":"施設資源化量内訳!Q10","v":57},{"$f":"施設資源化量内訳!R10","v":0},{"$f":"施設資源化量内訳!S10","v":0},{"$f":"施設資源化量内訳!T10","v":0},{"$f":"施設資源化量内訳!U10","v":0},{"$f":"施設資源化量内訳!V10","v":0},{"$f":"施設資源化量内訳!W10","v":21},{"$f":"施設資源化量内訳!X10","v":{"v":4977,"d":"4,977"}},{"v":2653,"d":"2,653"},{"v":2562,"d":"2,562"},0,0,7,8,0,0,0,0,76,"-","-","-","-","-","-","-","-",0,0,"有る"]
["茨城県","08204","古河市",{"v":8289,"d":"8,289"},{"v":3587,"d":"3,587"},0,0,{"v":1276,"d":"1,276"},989,496,0,702,0,111,0,0,{"v":1128,"d":"1,128"},0,0,0,0,0,0,0,{"v":1612,"d":"1,612"},{"v":1504,"d":"1,504"},0,0,0,0,0,0,0,0,108,"-","-","-","-","-","-","-","-",0,0,{"$f":"施設資源化量内訳!D11","v":{"v":4397,"d":"4,397"}},{"$f":"施設資源化量内訳!E11","v":13},{"$f":"施設資源化量内訳!F11","v":0},{"$f":"施設資源化量内訳!G11","v":0},{"$f":"施設資源化量内訳!H11","v":{"v":1077,"d":"1,077"}},{"$f":"施設資源化量内訳!I11","v":982},{"$f":"施設資源化量内訳!J11","v":495},{"$f":"施設資源化量内訳!K11","v":0},{"$f":"施設資源化量内訳!L11","v":702},{"$f":"施設資源化量内訳!M11","v":0},{"$f":"施設資源化量内訳!N11","v":0},{"$f":"施設資源化量内訳!O11","v":0},{"$f":"施設資源化量内訳!P11","v":0},{"$f":"施設資源化量内訳!Q11","v":{"v":1128,"d":"1,128"}},{"$f":"施設資源化量内訳!R11","v":0},{"$f":"施設資源化量内訳!S11","v":0},{"$f":"施設資源化量内訳!T11","v":0},{"$f":"施設資源化量内訳!U11","v":0},{"$f":"施設資源化量内訳!V11","v":0},{"$f":"施設資源化量内訳!W11","v":0},{"$f":"施設資源化量内訳!X11","v":0},{"v":2280,"d":"2,280"},{"v":2070,"d":"2,070"},0,0,199,7,1,0,0,0,3,"-","-","-","-","-","-","-","-",0,0,"有る"]
["茨城県","08205","石岡市",{"v":8797,"d":"8,797"},{"v":4559,"d":"4,559"},0,0,{"v":1004,"d":"1,004"},609,140,0,9,0,41,0,0,{"v":2250,"d":"2,250"},0,0,0,0,0,0,185,{"v":4304,"d":"4,304"},{"v":3783,"d":"3,783"},0,0,383,28,38,0,0,0,31,"-","-","-","-","-","-","-","-",0,41,{"$f":"施設資源化量内訳!D12","v":{"v":4118,"d":"4,118"}},{"$f":"施設資源化量内訳!E12","v":443},{"$f":"施設資源化量内訳!F12","v":0},{"$f":"施設資源化量内訳!G12","v":0},{"$f":"施設資源化量内訳!H12","v":597},{"$f":"施設資源化量内訳!I12","v":568},{"$f":"施設資源化量内訳!J12","v":102},{"$f":"施設資源化量内訳!K12","v":0},{"$f":"施設資源化量内訳!L12","v":9},{"$f":"施設資源化量内訳!M12","v":0},{"$f":"施設資源化量内訳!N12","v":5},{"$f":"施設資源化量内訳!O12","v":0},{"$f":"施設資源化量内訳!P12","v":0},{"$f":"施設資源化量内訳!Q12","v":{"v":2250,"d":"2,250"}},{"$f":"施設資源化量内訳!R12","v":0},{"$f":"施設資源化量内訳!S12","v":0},{"$f":"施設資源化量内訳!T12","v":0},{"$f":"施設資源化量内訳!U12","v":0},{"$f":"施設資源化量内訳!V12","v":0},{"$f":"施設資源化量内訳!W12","v":0},{"$f":"施設資源化量内訳!X12","v":144},375,333,0,0,24,13,0,0,0,0,5,"-","-","-","-","-","-","-","-",0,0,"無い"]
["茨城県","08207","結城市",{"v":3380,"d":"3,380"},866,8,112,118,289,122,1,10,0,91,0,0,{"v":1356,"d":"1,356"},0,0,0,0,0,0,407,{"v":1617,"d":"1,617"},866,8,112,118,289,122,1,10,0,91,"-","-","-","-","-","-","-","-",0,0,{"$f":"施設資源化量内訳!D13","v":{"v":1763,"d":"1,763"}},{"$f":"施設資源化量内訳!E13","v":0},{"$f":"施設資源化量内訳!F13","v":0},{"$f":"施設資源化量内訳!G13","v":0},{"$f":"施設資源化量内訳!H13","v":0},{"$f":"施設資源化量内訳!I13","v":0},{"$f":"施設資源化量内訳!J13","v":0},{"$f":"施設資源化量内訳!K13","v":0},{"$f":"施設資源化量内訳!L13","v":0},{"$f":"施設資源化量内訳!M13","v":0},{"$f":"施設資源化量内訳!N13","v":0},{"$f":"施設資源化量内訳!O13","v":0},{"$f":"施設資源化量内訳!P13","v":0},{"$f":"施設資源化量内訳!Q13","v":{"v":1356,"d":"1,356"}},{"$f":"施設資源化量内訳!R13","v":0},{"$f":"施設資源化量内訳!S13","v":0},{"$f":"施設資源化量内訳!T13","v":0},{"$f":"施設資源化量内訳!U13","v":0},{"$f":"施設資源化量内訳!V13","v":0},{"$f":"施設資源化量内訳!W13","v":0},{"$f":"施設資源化量内訳!X13","v":407},0,0,0,0,0,0,0,0,0,0,0,"-","-","-","-","-","-","-","-",0,0,"無い"]
["茨城県","08208","龍ケ崎市",{"v":7870,"d":"7,870"},{"v":3679,"d":"3,679"},20,0,834,400,283,3,11,0,70,0,0,{"v":2045,"d":"2,045"},0,0,0,0,0,0,525,{"v":4864,"d":"4,864"},{"v":3482,"d":"3,482"},20,0,197,398,163,3,11,0,65,"-","-","-","-","-","-","-","-",0,525,{"$f":"施設資源化量内訳!D14","v":{"v":2802,"d":"2,802"}},{"$f":"施設資源化量内訳!E14","v":0},{"$f":"施設資源化量内訳!F14","v":0},{"$f":"施設資源化量内訳!G14","v":0},{"$f":"施設資源化量内訳!H14","v":637},{"$f":"施設資源化量内訳!I14","v":0},{"$f":"施設資源化量内訳!J14","v":120},{"$f":"施設資源化量内訳!K14","v":0},{"$f":"施設資源化量内訳!L14","v":0},{"$f":"施設資源化量内訳!M14","v":0},{"$f":"施設資源化量内訳!N14","v":0},{"$f":"施設資源化量内訳!O14","v":0},{"$f":"施設資源化量内訳!P14","v":0},{"$f":"施設資源化量内訳!Q14","v":{"v":2045,"d":"2,045"}},{"$f":"施設資源化量内訳!R14","v":0},{"$f":"施設資源化量内訳!S14","v":0},{"$f":"施設資源化量内訳!T14","v":0},{"$f":"施設資源化量内訳!U14","v":0},{"$f":"施設資源化量内訳!V14","v":0},{"$f":"施設資源化量内訳!W14","v":0},{"$f":"施設資源化量内訳!X14","v":0},204,197,0,0,0,2,0,0,0,0,5,"-","-","-","-","-","-","-","-",0,0,"有る"]
["茨城県","08210","下妻市",{"v":3025,"d":"3,025"},{"v":2061,"d":"2,061"},7,0,403,333,167,4,0,0,24,0,0,0,0,0,0,0,0,0,26,{"v":2513,"d":"2,513"},{"v":1823,"d":"1,823"},5,0,141,327,164,4,0,0,23,"-","-","-","-","-","-","-","-",0,26,{"$f":"施設資源化量内訳!D15","v":262},{"$f":"施設資源化量内訳!E15","v":0},{"$f":"施設資源化量内訳!F15","v":0},{"$f":"施設資源化量内訳!G15","v":0},{"$f":"施設資源化量内訳!H15","v":259},{"$f":"施設資源化量内訳!I15","v":3},{"$f":"施設資源化量内訳!J15","v":0},{"$f":"施設資源化量内訳!K15","v":0},{"$f":"施設資源化量内訳!L15","v":0},{"$f":"施設資源化量内訳!M15","v":0},{"$f":"施設資源化量内訳!N15","v":0},{"$f":"施設資源化量内訳!O15","v":0},{"$f":"施設資源化量内訳!P15","v":0},{"$f":"施設資源化量内訳!Q15","v":0},{"$f":"施設資源化量内訳!R15","v":0},{"$f":"施設資源化量内訳!S15","v":0},{"$f":"施設資源化量内訳!T15","v":0},{"$f":"施設資源化量内訳!U15","v":0},{"$f":"施設資源化量内訳!V15","v":0},{"$f":"施設資源化量内訳!W15","v":0},{"$f":"施設資源化量内訳!X15","v":0},250,238,2,0,3,3,3,0,0,0,1,"-","-","-","-","-","-","-","-",0,0,"有る"]
["茨城県","08211","常総市",{"v":3586,"d":"3,586"},{"v":2303,"d":"2,303"},263,53,229,139,58,0,0,0,38,378,16,0,0,0,0,0,0,0,109,{"v":1120,"d":"1,120"},869,0,0,58,130,58,0,0,0,2,"-","-","-","-","-","-","-","-",0,3,{"$f":"施設資源化量内訳!D16","v":{"v":1082,"d":"1,082"}},{"$f":"施設資源化量内訳!E16","v":122},{"$f":"施設資源化量内訳!F16","v":263},{"$f":"施設資源化量内訳!G16","v":53},{"$f":"施設資源化量内訳!H16","v":155},{"$f":"施設資源化量内訳!I16","v":0},{"$f":"施設資源化量内訳!J16","v":0},{"$f":"施設資源化量内訳!K16","v":0},{"$f":"施設資源化量内訳!L16","v":0},{"$f":"施設資源化量内訳!M16","v":0},{"$f":"施設資源化量内訳!N16","v":0},{"$f":"施設資源化量内訳!O16","v":378},{"$f":"施設資源化量内訳!P16","v":16},{"$f":"施設資源化量内訳!Q16","v":0},{"$f":"施設資源化量内訳!R16","v":0},{"$f":"施設資源化量内訳!S16","v":0},{"$f":"施設資源化量内訳!T16","v":0},{"$f":"施設資源化量内訳!U16","v":0},{"$f":"施設資源化量内訳!V16","v":0},{"$f":"施設資源化量内訳!W16","v":0},{"$f":"施設資源化量内訳!X16","v":95},{"v":1384,"d":"1,384"},{"v":1312,"d":"1,312"},0,0,16,9,0,0,0,0,36,"-","-","-","-","-","-","-","-",0,11,"有る"]
["茨城県","08212","常陸太田市",{"v":2230,"d":"2,230"},832,3,170,448,621,63,10,0,0,54,0,0,0,0,0,0,0,0,0,29,930,423,0,170,277,0,0,0,0,0,49,"-","-","-","-","-","-","-","-",0,11,{"$f":"施設資源化量内訳!D17","v":869},{"$f":"施設資源化量内訳!E17","v":0},{"$f":"施設資源化量内訳!F17","v":3},{"$f":"施設資源化量内訳!G17","v":0},{"$f":"施設資源化量内訳!H17","v":165},{"$f":"施設資源化量内訳!I17","v":610},{"$f":"施設資源化量内訳!J17","v":63},{"$f":"施設資源化量内訳!K17","v":10},{"$f":"施設資源化量内訳!L17","v":0},{"$f":"施設資源化量内訳!M17","v":0},{"$f":"施設資源化量内訳!N17","v":0},{"$f":"施設資源化量内訳!O17","v":0},{"$f":"施設資源化量内訳!P17","v":0},{"$f":"施設資源化量内訳!Q17","v":0},{"$f":"施設資源化量内訳!R17","v":0},{"$f":"施設資源化量内訳!S17","v":0},{"$f":"施設資源化量内訳!T17","v":0},{"$f":"施設資源化量内訳!U17","v":0},{"$f":"施設資源化量内訳!V17","v":0},{"$f":"施設資源化量内訳!W17","v":0},{"$f":"施設資源化量内訳!X17","v":18},431,409,0,0,6,11,0,0,0,0,5,"-","-","-","-","-","-","-","-",0,0,"無い"]
["茨城県","08214","高萩市",{"v":2058,"d":"2,058"},811,0,0,208,240,66,7,0,0,141,0,0,0,0,0,0,0,0,0,585,0,0,0,0,0,0,0,0,0,0,0,"-","-","-","-","-","-","-","-",0,0,{"$f":"施設資源化量内訳!D18","v":{"v":2013,"d":"2,013"}},{"$f":"施設資源化量内訳!E18","v":766},{"$f":"施設資源化量内訳!F18","v":0},{"$f":"施設資源化量内訳!G18","v":0},{"$f":"施設資源化量内訳!H18","v":208},{"$f":"施設資源化量内訳!I18","v":240},{"$f":"施設資源化量内訳!J18","v":66},{"$f":"施設資源化量内訳!K18","v":7},{"$f":"施設資源化量内訳!L18","v":0},{"$f":"施設資源化量内訳!M18","v":0},{"$f":"施設資源化量内訳!N18","v":141},{"$f":"施設資源化量内訳!O18","v":0},{"$f":"施設資源化量内訳!P18","v":0},{"$f":"施設資源化量内訳!Q18","v":0},{"$f":"施設資源化量内訳!R18","v":0},{"$f":"施設資源化量内訳!S18","v":0},{"$f":"施設資源化量内訳!T18","v":0},{"$f":"施設資源化量内訳!U18","v":0},{"$f":"施設資源化量内訳!V18","v":0},{"$f":"施設資源化量内訳!W18","v":0},{"$f":"施設資源化量内訳!X18","v":585},45,45,0,0,0,0,0,0,0,0,0,"-","-","-","-","-","-","-","-",0,0,"無い"]
["茨城県","08215","北茨城市",{"v":2139,"d":"2,139"},{"v":1002,"d":"1,002"},0,0,324,373,239,0,0,0,201,0,0,0,0,0,0,0,0,0,0,{"v":1573,"d":"1,573"},{"v":1002,"d":"1,002"},0,0,324,37,9,0,0,0,201,"-","-","-","-","-","-","-","-",0,0,{"$f":"施設資源化量内訳!D19","v":566},{"$f":"施設資源化量内訳!E19","v":0},{"$f":"施設資源化量内訳!F19","v":0},{"$f":"施設資源化量内訳!G19","v":0},{"$f":"施設資源化量内訳!H19","v":0},{"$f":"施設資源化量内訳!I19","v":336},{"$f":"施設資源化量内訳!J19","v":230},{"$f":"施設資源化量内訳!K19","v":0},{"$f":"施設資源化量内訳!L19","v":0},{"$f":"施設資源化量内訳!M19","v":0},{"$f":"施設資源化量内訳!N19","v":0},{"$f":"施設資源化量内訳!O19","v":0},{"$f":"施設資源化量内訳!P19","v":0},{"$f":"施設資源化量内訳!Q19","v":0},{"$f":"施設資源化量内訳!R19","v":0},{"$f":"施設資源化量内訳!S19","v":0},{"$f":"施設資源化量内訳!T19","v":0},{"$f":"施設資源化量内訳!U19","v":0},{"$f":"施設資源化量内訳!V19","v":0},{"$f":"施設資源化量内訳!W19","v":0},{"$f":"施設資源化量内訳!X19","v":0},0,0,0,0,0,0,0,0,0,0,0,"-","-","-","-","-","-","-","-",0,0,"無い"]
["茨城県","08216","笠間市",{"v":6593,"d":"6,593"},{"v":2942,"d":"2,942"},2,0,618,420,106,1,0,0,79,0,0,{"v":1479,"d":"1,479"},0,0,0,0,0,4,942,{"v":3546,"d":"3,546"},{"v":2168,"d":"2,168"},2,0,118,187,50,0,0,0,77,"-","-","-","-","-","-","-","-",3,941,{"$f":"施設資源化量内訳!D20","v":{"v":2211,"d":"2,211"}},{"$f":"施設資源化量内訳!E20","v":0},{"$f":"施設資源化量内訳!F20","v":0},{"$f":"施設資源化量内訳!G20","v":0},{"$f":"施設資源化量内訳!H20","v":473},{"$f":"施設資源化量内訳!I20","v":202},{"$f":"施設資源化量内訳!J20","v":56},{"$f":"施設資源化量内訳!K20","v":1},{"$f":"施設資源化量内訳!L20","v":0},{"$f":"施設資源化量内訳!M20","v":0},{"$f":"施設資源化量内訳!N20","v":0},{"$f":"施設資源化量内訳!O20","v":0},{"$f":"施設資源化量内訳!P20","v":0},{"$f":"施設資源化量内訳!Q20","v":{"v":1479,"d":"1,479"}},{"$f":"施設資源化量内訳!R20","v":0},{"$f":"施設資源化量内訳!S20","v":0},{"$f":"施設資源化量内訳!T20","v":0},{"$f":"施設資源化量内訳!U20","v":0},{"$f":"施設資源化量内訳!V20","v":0},{"$f":"施設資源化量内訳!W20","v":0},{"$f":"施設資源化量内訳!X20","v":0},836,774,0,0,27,31,0,0,0,0,2,"-","-","-","-","-","-","-","-",1,1,"有る"]
["茨城県","08217","取手市",{"v":9503,"d":"9,503"},{"v":4437,"d":"4,437"},16,0,{"v":1678,"d":"1,678"},762,178,0,0,350,165,87,0,{"v":1489,"d":"1,489"},0,0,0,0,0,0,341,{"v":4141,"d":"4,141"},{"v":2953,"d":"2,953"},1,0,{"v":1030,"d":"1,030"},32,4,0,0,0,121,"-","-","-","-","-","-","-","-",0,0,{"$f":"施設資源化量内訳!D21","v":{"v":3770,"d":"3,770"}},{"$f":"施設資源化量内訳!E21","v":0},{"$f":"施設資源化量内訳!F21","v":0},{"$f":"施設資源化量内訳!G21","v":0},{"$f":"施設資源化量内訳!H21","v":600},{"$f":"施設資源化量内訳!I21","v":729},{"$f":"施設資源化量内訳!J21","v":174},{"$f":"施設資源化量内訳!K21","v":0},{"$f":"施設資源化量内訳!L21","v":0},{"$f":"施設資源化量内訳!M21","v":350},{"$f":"施設資源化量内訳!N21","v":0},{"$f":"施設資源化量内訳!O21","v":87},{"$f":"施設資源化量内訳!P21","v":0},{"$f":"施設資源化量内訳!Q21","v":{"v":1489,"d":"1,489"}},{"$f":"施設資源化量内訳!R21","v":0},{"$f":"施設資源化量内訳!S21","v":0},{"$f":"施設資源化量内訳!T21","v":0},{"$f":"施設資源化量内訳!U21","v":0},{"$f":"施設資源化量内訳!V21","v":0},{"$f":"施設資源化量内訳!W21","v":0},{"$f":"施設資源化量内訳!X21","v":341},{"v":1592,"d":"1,592"},{"v":1484,"d":"1,484"},15,0,48,1,0,0,0,0,44,"-","-","-","-","-","-","-","-",0,0,"無い"]
["茨城県","08219","牛久市",{"v":5439,"d":"5,439"},{"v":2259,"d":"2,259"},22,3,730,503,145,0,0,0,147,17,0,{"v":1152,"d":"1,152"},0,0,0,0,0,32,429,{"v":2343,"d":"2,343"},{"v":1941,"d":"1,941"},22,3,0,0,0,0,0,0,146,"-","-","-","-","-","-","-","-",0,231,{"$f":"施設資源化量内訳!D22","v":{"v":2774,"d":"2,774"}},{"$f":"施設資源化量内訳!E22","v":0},{"$f":"施設資源化量内訳!F22","v":0},{"$f":"施設資源化量内訳!G22","v":0},{"$f":"施設資源化量内訳!H22","v":727},{"$f":"施設資源化量内訳!I22","v":503},{"$f":"施設資源化量内訳!J22","v":145},{"$f":"施設資源化量内訳!K22","v":0},{"$f":"施設資源化量内訳!L22","v":0},{"$f":"施設資源化量内訳!M22","v":0},{"$f":"施設資源化量内訳!N22","v":0},{"$f":"施設資源化量内訳!O22","v":17},{"$f":"施設資源化量内訳!P22","v":0},{"$f":"施設資源化量内訳!Q22","v":{"v":1152,"d":"1,152"}},{"$f":"施設資源化量内訳!R22","v":0},{"$f":"施設資源化量内訳!S22","v":0},{"$f":"施設資源化量内訳!T22","v":0},{"$f":"施設資源化量内訳!U22","v":0},{"$f":"施設資源化量内訳!V22","v":0},{"$f":"施設資源化量内訳!W22","v":32},{"$f":"施設資源化量内訳!X22","v":198},322,318,0,0,3,0,0,0,0,0,1,"-","-","-","-","-","-","-","-",0,0,"無い"]
["茨城県","08220","つくば市",{"v":16332,"d":"16,332"},{"v":12661,"d":"12,661"},42,0,{"v":1561,"d":"1,561"},976,609,0,0,0,186,0,0,247,0,0,0,0,0,9,41,{"v":10270,"d":"10,270"},{"v":9655,"d":"9,655"},42,0,383,39,142,0,0,0,0,"-","-","-","-","-","-","-","-",9,0,{"$f":"施設資源化量内訳!D23","v":{"v":4688,"d":"4,688"}},{"$f":"施設資源化量内訳!E23","v":{"v":1677,"d":"1,677"}},{"$f":"施設資源化量内訳!F23","v":0},{"$f":"施設資源化量内訳!G23","v":0},{"$f":"施設資源化量内訳!H23","v":{"v":1166,"d":"1,166"}},{"$f":"施設資源化量内訳!I23","v":929},{"$f":"施設資源化量内訳!J23","v":467},{"$f":"施設資源化量内訳!K23","v":0},{"$f":"施設資源化量内訳!L23","v":0},{"$f":"施設資源化量内訳!M23","v":0},{"$f":"施設資源化量内訳!N23","v":161},{"$f":"施設資源化量内訳!O23","v":0},{"$f":"施設資源化量内訳!P23","v":0},{"$f":"施設資源化量内訳!Q23","v":247},{"$f":"施設資源化量内訳!R23","v":0},{"$f":"施設資源化量内訳!S23","v":0},{"$f":"施設資源化量内訳!T23","v":0},{"$f":"施設資源化量内訳!U23","v":0},{"$f":"施設資源化量内訳!V23","v":0},{"$f":"施設資源化量内訳!W23","v":0},{"$f":"施設資源化量内訳!X23","v":41},{"v":1374,"d":"1,374"},{"v":1329,"d":"1,329"},0,0,12,8,0,0,0,0,25,"-","-","-","-","-","-","-","-",0,0,"無い"]
["茨城県","08221","ひたちなか市",{"v":9679,"d":"9,679"},{"v":4148,"d":"4,148"},41,0,{"v":1802,"d":"1,802"},818,220,0,353,0,117,0,0,{"v":2137,"d":"2,137"},0,0,0,0,0,32,11,340,244,41,0,0,0,0,0,0,0,23,"-","-","-","-","-","-","-","-",32,0,{"$f":"施設資源化量内訳!D24","v":{"v":3632,"d":"3,632"}},{"$f":"施設資源化量内訳!E24","v":0},{"$f":"施設資源化量内訳!F24","v":0},{"$f":"施設資源化量内訳!G24","v":0},{"$f":"施設資源化量内訳!H24","v":{"v":1321,"d":"1,321"}},{"$f":"施設資源化量内訳!I24","v":173},{"$f":"施設資源化量内訳!J24","v":0},{"$f":"施設資源化量内訳!K24","v":0},{"$f":"施設資源化量内訳!L24","v":0},{"$f":"施設資源化量内訳!M24","v":0},{"$f":"施設資源化量内訳!N24","v":0},{"$f":"施設資源化量内訳!O24","v":0},{"$f":"施設資源化量内訳!P24","v":0},{"$f":"施設資源化量内訳!Q24","v":{"v":2137,"d":"2,137"}},{"$f":"施設資源化量内訳!R24","v":0},{"$f":"施設資源化量内訳!S24","v":0},{"$f":"施設資源化量内訳!T24","v":0},{"$f":"施設資源化量内訳!U24","v":0},{"$f":"施設資源化量内訳!V24","v":0},{"$f":"施設資源化量内訳!W24","v":0},{"$f":"施設資源化量内訳!X24","v":1},{"v":5707,"d":"5,707"},{"v":3904,"d":"3,904"},0,0,481,645,220,0,353,0,94,"-","-","-","-","-","-","-","-",0,10,"有る"]
["茨城県","08222","鹿嶋市",{"v":13649,"d":"13,649"},851,4,320,689,420,287,0,0,0,86,0,0,0,{"v":10992,"d":"10,992"},0,0,0,0,0,0,413,225,0,109,0,0,0,0,0,0,79,"-","-","-","-","-","-","-","-",0,0,{"$f":"施設資源化量内訳!D25","v":{"v":12097,"d":"12,097"}},{"$f":"施設資源化量内訳!E25","v":0},{"$f":"施設資源化量内訳!F25","v":0},{"$f":"施設資源化量内訳!G25","v":0},{"$f":"施設資源化量内訳!H25","v":606},{"$f":"施設資源化量内訳!I25","v":298},{"$f":"施設資源化量内訳!J25","v":201},{"$f":"施設資源化量内訳!K25","v":0},{"$f":"施設資源化量内訳!L25","v":0},{"$f":"施設資源化量内訳!M25","v":0},{"$f":"施設資源化量内訳!N25","v":0},{"$f":"施設資源化量内訳!O25","v":0},{"$f":"施設資源化量内訳!P25","v":0},{"$f":"施設資源化量内訳!Q25","v":0},{"$f":"施設資源化量内訳!R25","v":{"v":10992,"d":"10,992"}},{"$f":"施設資源化量内訳!S25","v":0},{"$f":"施設資源化量内訳!T25","v":0},{"$f":"施設資源化量内訳!U25","v":0},{"$f":"施設資源化量内訳!V25","v":0},{"$f":"施設資源化量内訳!W25","v":0},{"$f":"施設資源化量内訳!X25","v":0},{"v":1139,"d":"1,139"},626,4,211,83,122,86,0,0,0,7,"-","-","-","-","-","-","-","-",0,0,"無い"]
["茨城県","08223","潮来市",{"v":3531,"d":"3,531"},{"v":1429,"d":"1,429"},1,0,252,144,117,0,342,0,96,0,0,{"v":1150,"d":"1,150"},0,0,0,0,0,0,0,948,907,0,0,10,20,10,0,0,0,1,"-","-","-","-","-","-","-","-",0,0,{"$f":"施設資源化量内訳!D26","v":{"v":2543,"d":"2,543"}},{"$f":"施設資源化量内訳!E26","v":483},{"$f":"施設資源化量内訳!F26","v":1},{"$f":"施設資源化量内訳!G26","v":0},{"$f":"施設資源化量内訳!H26","v":241},{"$f":"施設資源化量内訳!I26","v":124},{"$f":"施設資源化量内訳!J26","v":107},{"$f":"施設資源化量内訳!K26","v":0},{"$f":"施設資源化量内訳!L26","v":342},{"$f":"施設資源化量内訳!M26","v":0},{"$f":"施設資源化量内訳!N26","v":95},{"$f":"施設資源化量内訳!O26","v":0},{"$f":"施設資源化量内訳!P26","v":0},{"$f":"施設資源化量内訳!Q26","v":{"v":1150,"d":"1,150"}},{"$f":"施設資源化量内訳!R26","v":0},{"$f":"施設資源化量内訳!S26","v":0},{"$f":"施設資源化量内訳!T26","v":0},{"$f":"施設資源化量内訳!U26","v":0},{"$f":"施設資源化量内訳!V26","v":0},{"$f":"施設資源化量内訳!W26","v":0},{"$f":"施設資源化量内訳!X26","v":0},40,39,0,0,1,0,0,0,0,0,0,"-","-","-","-","-","-","-","-",0,0,"有る"]
["茨城県","08224","守谷市",{"v":4064,"d":"4,064"},{"v":1814,"d":"1,814"},0,0,359,419,89,0,0,140,161,7,0,863,0,0,0,0,0,0,212,{"v":1082,"d":"1,082"},928,0,0,0,0,0,0,0,0,154,"-","-","-","-","-","-","-","-",0,0,{"$f":"施設資源化量内訳!D27","v":{"v":2071,"d":"2,071"}},{"$f":"施設資源化量内訳!E27","v":0},{"$f":"施設資源化量内訳!F27","v":0},{"$f":"施設資源化量内訳!G27","v":0},{"$f":"施設資源化量内訳!H27","v":345},{"$f":"施設資源化量内訳!I27","v":419},{"$f":"施設資源化量内訳!J27","v":85},{"$f":"施設資源化量内訳!K27","v":0},{"$f":"施設資源化量内訳!L27","v":0},{"$f":"施設資源化量内訳!M27","v":140},{"$f":"施設資源化量内訳!N27","v":0},{"$f":"施設資源化量内訳!O27","v":7},{"$f":"施設資源化量内訳!P27","v":0},{"$f":"施設資源化量内訳!Q27","v":863},{"$f":"施設資源化量内訳!R27","v":0},{"$f":"施設資源化量内訳!S27","v":0},{"$f":"施設資源化量内訳!T27","v":0},{"$f":"施設資源化量内訳!U27","v":0},{"$f":"施設資源化量内訳!V27","v":0},{"$f":"施設資源化量内訳!W27","v":0},{"$f":"施設資源化量内訳!X27","v":212},911,886,0,0,14,0,4,0,0,0,7,"-","-","-","-","-","-","-","-",0,0,"無い"]
["茨城県","08225","常陸大宮市",{"v":2074,"d":"2,074"},868,2,0,531,534,63,0,0,1,2,0,0,0,0,0,0,0,0,0,73,0,0,0,0,0,0,0,0,0,0,0,"-","-","-","-","-","-","-","-",0,0,{"$f":"施設資源化量内訳!D28","v":{"v":1801,"d":"1,801"}},{"$f":"施設資源化量内訳!E28","v":624},{"$f":"施設資源化量内訳!F28","v":1},{"$f":"施設資源化量内訳!G28","v":0},{"$f":"施設資源化量内訳!H28","v":524},{"$f":"施設資源化量内訳!I28","v":516},{"$f":"施設資源化量内訳!J28","v":63},{"$f":"施設資源化量内訳!K28","v":0},{"$f":"施設資源化量内訳!L28","v":0},{"$f":"施設資源化量内訳!M28","v":0},{"$f":"施設資源化量内訳!N28","v":0},{"$f":"施設資源化量内訳!O28","v":0},{"$f":"施設資源化量内訳!P28","v":0},{"$f":"施設資源化量内訳!Q28","v":0},{"$f":"施設資源化量内訳!R28","v":0},{"$f":"施設資源化量内訳!S28","v":0},{"$f":"施設資源化量内訳!T28","v":0},{"$f":"施設資源化量内訳!U28","v":0},{"$f":"施設資源化量内訳!V28","v":0},{"$f":"施設資源化量内訳!W28","v":0},{"$f":"施設資源化量内訳!X28","v":73},273,244,1,0,7,18,0,0,0,1,2,"-","-","-","-","-","-","-","-",0,0,"無い"]
["茨城県","08226","那珂市",{"v":1964,"d":"1,964"},810,1,0,470,529,75,0,0,0,1,0,0,0,0,0,0,0,0,0,78,0,0,0,0,0,0,0,0,0,0,0,"-","-","-","-","-","-","-","-",0,0,{"$f":"施設資源化量内訳!D29","v":{"v":1770,"d":"1,770"}},{"$f":"施設資源化量内訳!E29","v":624},{"$f":"施設資源化量内訳!F29","v":1},{"$f":"施設資源化量内訳!G29","v":0},{"$f":"施設資源化量内訳!H29","v":467},{"$f":"施設資源化量内訳!I29","v":525},{"$f":"施設資源化量内訳!J29","v":75},{"$f":"施設資源化量内訳!K29","v":0},{"$f":"施設資源化量内訳!L29","v":0},{"$f":"施設資源化量内訳!M29","v":0},{"$f":"施設資源化量内訳!N29","v":0},{"$f":"施設資源化量内訳!O29","v":0},{"$f":"施設資源化量内訳!P29","v":0},{"$f":"施設資源化量内訳!Q29","v":0},{"$f":"施設資源化量内訳!R29","v":0},{"$f":"施設資源化量内訳!S29","v":0},{"$f":"施設資源化量内訳!T29","v":0},{"$f":"施設資源化量内訳!U29","v":0},{"$f":"施設資源化量内訳!V29","v":0},{"$f":"施設資源化量内訳!W29","v":0},{"$f":"施設資源化量内訳!X29","v":78},194,186,0,0,3,4,0,0,0,0,1,"-","-","-","-","-","-","-","-",0,0,"無い"]
["茨城県","08227","筑西市",{"v":5407,"d":"5,407"},{"v":1366,"d":"1,366"},16,457,887,462,165,0,0,0,14,0,0,{"v":2023,"d":"2,023"},0,0,0,0,0,0,17,{"v":2385,"d":"2,385"},{"v":1289,"d":"1,289"},16,425,171,456,0,0,0,0,11,"-","-","-","-","-","-","-","-",0,17,{"$f":"施設資源化量内訳!D30","v":{"v":2899,"d":"2,899"}},{"$f":"施設資源化量内訳!E30","v":0},{"$f":"施設資源化量内訳!F30","v":0},{"$f":"施設資源化量内訳!G30","v":0},{"$f":"施設資源化量内訳!H30","v":711},{"$f":"施設資源化量内訳!I30","v":0},{"$f":"施設資源化量内訳!J30","v":165},{"$f":"施設資源化量内訳!K30","v":0},{"$f":"施設資源化量内訳!L30","v":0},{"$f":"施設資源化量内訳!M30","v":0},{"$f":"施設資源化量内訳!N30","v":0},{"$f":"施設資源化量内訳!O30","v":0},{"$f":"施設資源化量内訳!P30","v":0},{"$f":"施設資源化量内訳!Q30","v":{"v":2023,"d":"2,023"}},{"$f":"施設資源化量内訳!R30","v":0},{"$f":"施設資源化量内訳!S30","v":0},{"$f":"施設資源化量内訳!T30","v":0},{"$f":"施設資源化量内訳!U30","v":0},{"$f":"施設資源化量内訳!V30","v":0},{"$f":"施設資源化量内訳!W30","v":0},{"$f":"施設資源化量内訳!X30","v":0},123,77,0,32,5,6,0,0,0,0,3,"-","-","-","-","-","-","-","-",0,0,"無い"]
["茨城県","08228","坂東市",{"v":4303,"d":"4,303"},{"v":2550,"d":"2,550"},0,1,454,395,134,0,0,0,128,0,0,641,0,0,0,0,0,0,0,{"v":1742,"d":"1,742"},{"v":1631,"d":"1,631"},0,0,0,0,0,0,0,0,111,"-","-","-","-","-","-","-","-",0,0,{"$f":"施設資源化量内訳!D31","v":{"v":1604,"d":"1,604"}},{"$f":"施設資源化量内訳!E31","v":9},{"$f":"施設資源化量内訳!F31","v":0},{"$f":"施設資源化量内訳!G31","v":0},{"$f":"施設資源化量内訳!H31","v":442},{"$f":"施設資源化量内訳!I31","v":381},{"$f":"施設資源化量内訳!J31","v":131},{"$f":"施設資源化量内訳!K31","v":0},{"$f":"施設資源化量内訳!L31","v":0},{"$f":"施設資源化量内訳!M31","v":0},{"$f":"施設資源化量内訳!N31","v":0},{"$f":"施設資源化量内訳!O31","v":0},{"$f":"施設資源化量内訳!P31","v":0},{"$f":"施設資源化量内訳!Q31","v":641},{"$f":"施設資源化量内訳!R31","v":0},{"$f":"施設資源化量内訳!S31","v":0},{"$f":"施設資源化量内訳!T31","v":0},{"$f":"施設資源化量内訳!U31","v":0},{"$f":"施設資源化量内訳!V31","v":0},{"$f":"施設資源化量内訳!W31","v":0},{"$f":"施設資源化量内訳!X31","v":0},957,910,0,1,12,14,3,0,0,0,17,"-","-","-","-","-","-","-","-",0,0,"有る"]
["茨城県","08229","稲敷市",{"v":2753,"d":"2,753"},{"v":1448,"d":"1,448"},0,83,407,499,50,0,124,0,1,0,0,89,0,0,0,0,0,0,52,{"v":1924,"d":"1,924"},{"v":1134,"d":"1,134"},0,83,264,231,50,0,124,0,0,"-","-","-","-","-","-","-","-",0,38,{"$f":"施設資源化量内訳!D32","v":508},{"$f":"施設資源化量内訳!E32","v":0},{"$f":"施設資源化量内訳!F32","v":0},{"$f":"施設資源化量内訳!G32","v":0},{"$f":"施設資源化量内訳!H32","v":139},{"$f":"施設資源化量内訳!I32","v":266},{"$f":"施設資源化量内訳!J32","v":0},{"$f":"施設資源化量内訳!K32","v":0},{"$f":"施設資源化量内訳!L32","v":0},{"$f":"施設資源化量内訳!M32","v":0},{"$f":"施設資源化量内訳!N32","v":0},{"$f":"施設資源化量内訳!O32","v":0},{"$f":"施設資源化量内訳!P32","v":0},{"$f":"施設資源化量内訳!Q32","v":89},{"$f":"施設資源化量内訳!R32","v":0},{"$f":"施設資源化量内訳!S32","v":0},{"$f":"施設資源化量内訳!T32","v":0},{"$f":"施設資源化量内訳!U32","v":0},{"$f":"施設資源化量内訳!V32","v":0},{"$f":"施設資源化量内訳!W32","v":0},{"$f":"施設資源化量内訳!X32","v":14},321,314,0,0,4,2,0,0,0,0,1,"-","-","-","-","-","-","-","-",0,0,"無い"]
["茨城県","08230","かすみがうら市",{"v":3290,"d":"3,290"},{"v":1619,"d":"1,619"},3,0,586,291,83,0,25,0,52,0,0,254,0,0,0,0,0,0,377,{"v":1625,"d":"1,625"},{"v":1435,"d":"1,435"},2,0,119,21,1,0,6,0,41,"-","-","-","-","-","-","-","-",0,0,{"$f":"施設資源化量内訳!D33","v":{"v":1525,"d":"1,525"}},{"$f":"施設資源化量内訳!E33","v":54},{"$f":"施設資源化量内訳!F33","v":0},{"$f":"施設資源化量内訳!G33","v":0},{"$f":"施設資源化量内訳!H33","v":463},{"$f":"施設資源化量内訳!I33","v":267},{"$f":"施設資源化量内訳!J33","v":81},{"$f":"施設資源化量内訳!K33","v":0},{"$f":"施設資源化量内訳!L33","v":19},{"$f":"施設資源化量内訳!M33","v":0},{"$f":"施設資源化量内訳!N33","v":10},{"$f":"施設資源化量内訳!O33","v":0},{"$f":"施設資源化量内訳!P33","v":0},{"$f":"施設資源化量内訳!Q33","v":254},{"$f":"施設資源化量内訳!R33","v":0},{"$f":"施設資源化量内訳!S33","v":0},{"$f":"施設資源化量内訳!T33","v":0},{"$f":"施設資源化量内訳!U33","v":0},{"$f":"施設資源化量内訳!V33","v":0},{"$f":"施設資源化量内訳!W33","v":0},{"$f":"施設資源化量内訳!X33","v":377},140,130,1,0,4,3,1,0,0,0,1,"-","-","-","-","-","-","-","-",0,0,"無い"]
["茨城県","08231","桜川市",{"v":1697,"d":"1,697"},0,0,0,58,0,0,0,0,0,0,0,0,768,0,0,0,0,0,0,871,0,0,0,0,0,0,0,0,0,0,0,"-","-","-","-","-","-","-","-",0,0,{"$f":"施設資源化量内訳!D34","v":{"v":1697,"d":"1,697"}},{"$f":"施設資源化量内訳!E34","v":0},{"$f":"施設資源化量内訳!F34","v":0},{"$f":"施設資源化量内訳!G34","v":0},{"$f":"施設資源化量内訳!H34","v":58},{"$f":"施設資源化量内訳!I34","v":0},{"$f":"施設資源化量内訳!J34","v":0},{"$f":"施設資源化量内訳!K34","v":0},{"$f":"施設資源化量内訳!L34","v":0},{"$f":"施設資源化量内訳!M34","v":0},{"$f":"施設資源化量内訳!N34","v":0},{"$f":"施設資源化量内訳!O34","v":0},{"$f":"施設資源化量内訳!P34","v":0},{"$f":"施設資源化量内訳!Q34","v":768},{"$f":"施設資源化量内訳!R34","v":0},{"$f":"施設資源化量内訳!S34","v":0},{"$f":"施設資源化量内訳!T34","v":0},{"$f":"施設資源化量内訳!U34","v":0},{"$f":"施設資源化量内訳!V34","v":0},{"$f":"施設資源化量内訳!W34","v":0},{"$f":"施設資源化量内訳!X34","v":871},0,0,0,0,0,0,0,0,0,0,0,"-","-","-","-","-","-","-","-",0,0,"無い"]
["茨城県","08232","神栖市",{"v":26528,"d":"26,528"},{"v":8982,"d":"8,982"},8,0,{"v":1550,"d":"1,550"},583,451,6,87,0,337,0,0,0,{"v":14155,"d":"14,155"},0,0,0,0,3,366,{"v":9536,"d":"9,536"},{"v":8075,"d":"8,075"},8,0,469,54,218,6,0,0,337,"-","-","-","-","-","-","-","-",3,366,{"$f":"施設資源化量内訳!D35","v":{"v":15913,"d":"15,913"}},{"$f":"施設資源化量内訳!E35","v":0},{"$f":"施設資源化量内訳!F35","v":0},{"$f":"施設資源化量内訳!G35","v":0},{"$f":"施設資源化量内訳!H35","v":{"v":1081,"d":"1,081"}},{"$f":"施設資源化量内訳!I35","v":435},{"$f":"施設資源化量内訳!J35","v":155},{"$f":"施設資源化量内訳!K35","v":0},{"$f":"施設資源化量内訳!L35","v":87},{"$f":"施設資源化量内訳!M35","v":0},{"$f":"施設資源化量内訳!N35","v":0},{"$f":"施設資源化量内訳!O35","v":0},{"$f":"施設資源化量内訳!P35","v":0},{"$f":"施設資源化量内訳!Q35","v":0},{"$f":"施設資源化量内訳!R35","v":{"v":14155,"d":"14,155"}},{"$f":"施設資源化量内訳!S35","v":0},{"$f":"施設資源化量内訳!T35","v":0},{"$f":"施設資源化量内訳!U35","v":0},{"$f":"施設資源化量内訳!V35","v":0},{"$f":"施設資源化量内訳!W35","v":0},{"$f":"施設資源化量内訳!X35","v":0},{"v":1079,"d":"1,079"},907,0,0,0,94,78,0,0,0,0,"-","-","-","-","-","-","-","-",0,0,"無い"]
["茨城県","08233","行方市",{"v":1152,"d":"1,152"},456,0,0,418,193,75,0,0,0,0,0,0,0,0,0,0,0,0,0,10,313,313,0,0,0,0,0,0,0,0,0,"-","-","-","-","-","-","-","-",0,0,{"$f":"施設資源化量内訳!D36","v":725},{"$f":"施設資源化量内訳!E36","v":40},{"$f":"施設資源化量内訳!F36","v":0},{"$f":"施設資源化量内訳!G36","v":0},{"$f":"施設資源化量内訳!H36","v":418},{"$f":"施設資源化量内訳!I36","v":182},{"$f":"施設資源化量内訳!J36","v":75},{"$f":"施設資源化量内訳!K36","v":0},{"$f":"施設資源化量内訳!L36","v":0},{"$f":"施設資源化量内訳!M36","v":0},{"$f":"施設資源化量内訳!N36","v":0},{"$f":"施設資源化量内訳!O36","v":0},{"$f":"施設資源化量内訳!P36","v":0},{"$f":"施設資源化量内訳!Q36","v":0},{"$f":"施設資源化量内訳!R36","v":0},{"$f":"施設資源化量内訳!S36","v":0},{"$f":"施設資源化量内訳!T36","v":0},{"$f":"施設資源化量内訳!U36","v":0},{"$f":"施設資源化量内訳!V36","v":0},{"$f":"施設資源化量内訳!W36","v":0},{"$f":"施設資源化量内訳!X36","v":10},114,103,0,0,0,11,0,0,0,0,0,"-","-","-","-","-","-","-","-",0,0,"有る"]
["茨城県","08234","鉾田市",{"v":2284,"d":"2,284"},285,0,0,409,524,58,0,0,0,0,0,0,{"v":1000,"d":"1,000"},0,0,0,0,0,0,8,305,277,0,0,0,28,0,0,0,0,0,"-","-","-","-","-","-","-","-",0,0,{"$f":"施設資源化量内訳!D37","v":{"v":1979,"d":"1,979"}},{"$f":"施設資源化量内訳!E37","v":8},{"$f":"施設資源化量内訳!F37","v":0},{"$f":"施設資源化量内訳!G37","v":0},{"$f":"施設資源化量内訳!H37","v":409},{"$f":"施設資源化量内訳!I37","v":496},{"$f":"施設資源化量内訳!J37","v":58},{"$f":"施設資源化量内訳!K37","v":0},{"$f":"施設資源化量内訳!L37","v":0},{"$f":"施設資源化量内訳!M37","v":0},{"$f":"施設資源化量内訳!N37","v":0},{"$f":"施設資源化量内訳!O37","v":0},{"$f":"施設資源化量内訳!P37","v":0},{"$f":"施設資源化量内訳!Q37","v":{"v":1000,"d":"1,000"}},{"$f":"施設資源化量内訳!R37","v":0},{"$f":"施設資源化量内訳!S37","v":0},{"$f":"施設資源化量内訳!T37","v":0},{"$f":"施設資源化量内訳!U37","v":0},{"$f":"施設資源化量内訳!V37","v":0},{"$f":"施設資源化量内訳!W37","v":0},{"$f":"施設資源化量内訳!X37","v":8},0,0,0,0,0,0,0,0,0,0,0,"-","-","-","-","-","-","-","-",0,0,"有る"]
["茨城県","08235","つくばみらい市",{"v":2466,"d":"2,466"},898,0,0,256,312,71,0,0,121,79,3,0,599,0,0,0,0,0,0,127,603,531,0,0,0,0,0,0,0,0,72,"-","-","-","-","-","-","-","-",0,0,{"$f":"施設資源化量内訳!D38","v":{"v":1477,"d":"1,477"}},{"$f":"施設資源化量内訳!E38","v":0},{"$f":"施設資源化量内訳!F38","v":0},{"$f":"施設資源化量内訳!G38","v":0},{"$f":"施設資源化量内訳!H38","v":246},{"$f":"施設資源化量内訳!I38","v":310},{"$f":"施設資源化量内訳!J38","v":71},{"$f":"施設資源化量内訳!K38","v":0},{"$f":"施設資源化量内訳!L38","v":0},{"$f":"施設資源化量内訳!M38","v":121},{"$f":"施設資源化量内訳!N38","v":0},{"$f":"施設資源化量内訳!O38","v":3},{"$f":"施設資源化量内訳!P38","v":0},{"$f":"施設資源化量内訳!Q38","v":599},{"$f":"施設資源化量内訳!R38","v":0},{"$f":"施設資源化量内訳!S38","v":0},{"$f":"施設資源化量内訳!T38","v":0},{"$f":"施設資源化量内訳!U38","v":0},{"$f":"施設資源化量内訳!V38","v":0},{"$f":"施設資源化量内訳!W38","v":0},{"$f":"施設資源化量内訳!X38","v":127},386,367,0,0,10,2,0,0,0,0,7,"-","-","-","-","-","-","-","-",0,0,"無い"]
["茨城県","08236","小美玉市",{"v":3511,"d":"3,511"},{"v":1600,"d":"1,600"},0,0,363,431,46,0,0,0,0,0,0,993,0,0,0,0,0,0,78,{"v":1349,"d":"1,349"},{"v":1349,"d":"1,349"},0,0,0,0,0,0,0,0,0,"-","-","-","-","-","-","-","-",0,0,{"$f":"施設資源化量内訳!D39","v":{"v":1937,"d":"1,937"}},{"$f":"施設資源化量内訳!E39","v":41},{"$f":"施設資源化量内訳!F39","v":0},{"$f":"施設資源化量内訳!G39","v":0},{"$f":"施設資源化量内訳!H39","v":356},{"$f":"施設資源化量内訳!I39","v":423},{"$f":"施設資源化量内訳!J39","v":46},{"$f":"施設資源化量内訳!K39","v":0},{"$f":"施設資源化量内訳!L39","v":0},{"$f":"施設資源化量内訳!M39","v":0},{"$f":"施設資源化量内訳!N39","v":0},{"$f":"施設資源化量内訳!O39","v":0},{"$f":"施設資源化量内訳!P39","v":0},{"$f":"施設資源化量内訳!Q39","v":993},{"$f":"施設資源化量内訳!R39","v":0},{"$f":"施設資源化量内訳!S39","v":0},{"$f":"施設資源化量内訳!T39","v":0},{"$f":"施設資源化量内訳!U39","v":0},{"$f":"施設資源化量内訳!V39","v":0},{"$f":"施設資源化量内訳!W39","v":0},{"$f":"施設資源化量内訳!X39","v":78},225,210,0,0,7,8,0,0,0,0,0,"-","-","-","-","-","-","-","-",0,0,"無い"]
["茨城県","08302","茨城町",{"v":1719,"d":"1,719"},{"v":1100,"d":"1,100"},3,0,221,330,55,3,0,0,0,0,0,0,0,0,0,0,0,0,7,{"v":1123,"d":"1,123"},{"v":1057,"d":"1,057"},0,0,19,21,19,0,0,0,0,"-","-","-","-","-","-","-","-",0,7,{"$f":"施設資源化量内訳!D40","v":539},{"$f":"施設資源化量内訳!E40","v":20},{"$f":"施設資源化量内訳!F40","v":0},{"$f":"施設資源化量内訳!G40","v":0},{"$f":"施設資源化量内訳!H40","v":190},{"$f":"施設資源化量内訳!I40","v":308},{"$f":"施設資源化量内訳!J40","v":21},{"$f":"施設資源化量内訳!K40","v":0},{"$f":"施設資源化量内訳!L40","v":0},{"$f":"施設資源化量内訳!M40","v":0},{"$f":"施設資源化量内訳!N40","v":0},{"$f":"施設資源化量内訳!O40","v":0},{"$f":"施設資源化量内訳!P40","v":0},{"$f":"施設資源化量内訳!Q40","v":0},{"$f":"施設資源化量内訳!R40","v":0},{"$f":"施設資源化量内訳!S40","v":0},{"$f":"施設資源化量内訳!T40","v":0},{"$f":"施設資源化量内訳!U40","v":0},{"$f":"施設資源化量内訳!V40","v":0},{"$f":"施設資源化量内訳!W40","v":0},{"$f":"施設資源化量内訳!X40","v":0},57,23,3,0,12,1,15,3,0,0,0,"-","-","-","-","-","-","-","-",0,0,"無い"]
["茨城県","08309","大洗町",{"v":1080,"d":"1,080"},615,0,0,202,194,52,0,0,0,7,0,0,0,0,0,0,0,0,0,10,846,592,0,0,55,146,46,0,0,0,7,"-","-","-","-","-","-","-","-",0,0,{"$f":"施設資源化量内訳!D41","v":234},{"$f":"施設資源化量内訳!E41","v":23},{"$f":"施設資源化量内訳!F41","v":0},{"$f":"施設資源化量内訳!G41","v":0},{"$f":"施設資源化量内訳!H41","v":147},{"$f":"施設資源化量内訳!I41","v":48},{"$f":"施設資源化量内訳!J41","v":6},{"$f":"施設資源化量内訳!K41","v":0},{"$f":"施設資源化量内訳!L41","v":0},{"$f":"施設資源化量内訳!M41","v":0},{"$f":"施設資源化量内訳!N41","v":0},{"$f":"施設資源化量内訳!O41","v":0},{"$f":"施設資源化量内訳!P41","v":0},{"$f":"施設資源化量内訳!Q41","v":0},{"$f":"施設資源化量内訳!R41","v":0},{"$f":"施設資源化量内訳!S41","v":0},{"$f":"施設資源化量内訳!T41","v":0},{"$f":"施設資源化量内訳!U41","v":0},{"$f":"施設資源化量内訳!V41","v":0},{"$f":"施設資源化量内訳!W41","v":0},{"$f":"施設資源化量内訳!X41","v":10},0,0,0,0,0,0,0,0,0,0,0,"-","-","-","-","-","-","-","-",0,0,"有る"]
["茨城県","08310","城里町",725,242,0,0,237,135,17,0,0,0,0,0,0,91,0,0,0,0,0,3,0,0,0,0,0,0,0,0,0,0,0,0,"-","-","-","-","-","-","-","-",0,0,{"$f":"施設資源化量内訳!D42","v":483},{"$f":"施設資源化量内訳!E42","v":0},{"$f":"施設資源化量内訳!F42","v":0},{"$f":"施設資源化量内訳!G42","v":0},{"$f":"施設資源化量内訳!H42","v":237},{"$f":"施設資源化量内訳!I42","v":135},{"$f":"施設資源化量内訳!J42","v":17},{"$f":"施設資源化量内訳!K42","v":0},{"$f":"施設資源化量内訳!L42","v":0},{"$f":"施設資源化量内訳!M42","v":0},{"$f":"施設資源化量内訳!N42","v":0},{"$f":"施設資源化量内訳!O42","v":0},{"$f":"施設資源化量内訳!P42","v":0},{"$f":"施設資源化量内訳!Q42","v":91},{"$f":"施設資源化量内訳!R42","v":0},{"$f":"施設資源化量内訳!S42","v":0},{"$f":"施設資源化量内訳!T42","v":0},{"$f":"施設資源化量内訳!U42","v":0},{"$f":"施設資源化量内訳!V42","v":0},{"$f":"施設資源化量内訳!W42","v":3},{"$f":"施設資源化量内訳!X42","v":0},242,242,0,0,0,0,0,0,0,0,0,"-","-","-","-","-","-","-","-",0,0,"無い"]
["茨城県","08341","東海村",{"v":3396,"d":"3,396"},{"v":1056,"d":"1,056"},10,89,255,179,46,0,194,0,121,382,0,0,0,0,0,0,0,0,{"v":1064,"d":"1,064"},{"v":2295,"d":"2,295"},{"v":1017,"d":"1,017"},9,89,0,0,0,0,0,0,120,"-","-","-","-","-","-","-","-",0,{"v":1060,"d":"1,060"},{"$f":"施設資源化量内訳!D43","v":{"v":1053,"d":"1,053"}},{"$f":"施設資源化量内訳!E43","v":0},{"$f":"施設資源化量内訳!F43","v":0},{"$f":"施設資源化量内訳!G43","v":0},{"$f":"施設資源化量内訳!H43","v":248},{"$f":"施設資源化量内訳!I43","v":179},{"$f":"施設資源化量内訳!J43","v":46},{"$f":"施設資源化量内訳!K43","v":0},{"$f":"施設資源化量内訳!L43","v":194},{"$f":"施設資源化量内訳!M43","v":0},{"$f":"施設資源化量内訳!N43","v":0},{"$f":"施設資源化量内訳!O43","v":382},{"$f":"施設資源化量内訳!P43","v":0},{"$f":"施設資源化量内訳!Q43","v":0},{"$f":"施設資源化量内訳!R43","v":0},{"$f":"施設資源化量内訳!S43","v":0},{"$f":"施設資源化量内訳!T43","v":0},{"$f":"施設資源化量内訳!U43","v":0},{"$f":"施設資源化量内訳!V43","v":0},{"$f":"施設資源化量内訳!W43","v":0},{"$f":"施設資源化量内訳!X43","v":4},48,39,1,0,7,0,0,0,0,0,1,"-","-","-","-","-","-","-","-",0,0,"有る"]
["茨城県","08364","大子町",{"v":1356,"d":"1,356"},785,0,0,219,292,41,0,4,0,0,0,0,0,0,0,0,0,0,0,15,{"v":1092,"d":"1,092"},785,0,0,0,292,0,0,0,0,0,"-","-","-","-","-","-","-","-",0,15,{"$f":"施設資源化量内訳!D44","v":264},{"$f":"施設資源化量内訳!E44","v":0},{"$f":"施設資源化量内訳!F44","v":0},{"$f":"施設資源化量内訳!G44","v":0},{"$f":"施設資源化量内訳!H44","v":219},{"$f":"施設資源化量内訳!I44","v":0},{"$f":"施設資源化量内訳!J44","v":41},{"$f":"施設資源化量内訳!K44","v":0},{"$f":"施設資源化量内訳!L44","v":4},{"$f":"施設資源化量内訳!M44","v":0},{"$f":"施設資源化量内訳!N44","v":0},{"$f":"施設資源化量内訳!O44","v":0},{"$f":"施設資源化量内訳!P44","v":0},{"$f":"施設資源化量内訳!Q44","v":0},{"$f":"施設資源化量内訳!R44","v":0},{"$f":"施設資源化量内訳!S44","v":0},{"$f":"施設資源化量内訳!T44","v":0},{"$f":"施設資源化量内訳!U44","v":0},{"$f":"施設資源化量内訳!V44","v":0},{"$f":"施設資源化量内訳!W44","v":0},{"$f":"施設資源化量内訳!X44","v":0},0,0,0,0,0,0,0,0,0,0,0,"-","-","-","-","-","-","-","-",0,0,"有る"]
["茨城県","08442","美浦村",{"v":1484,"d":"1,484"},881,0,47,197,217,17,0,68,0,2,0,0,34,0,0,0,0,0,0,21,{"v":1001,"d":"1,001"},638,0,47,115,100,17,0,68,0,0,"-","-","-","-","-","-","-","-",0,16,{"$f":"施設資源化量内訳!D45","v":232},{"$f":"施設資源化量内訳!E45","v":0},{"$f":"施設資源化量内訳!F45","v":0},{"$f":"施設資源化量内訳!G45","v":0},{"$f":"施設資源化量内訳!H45","v":77},{"$f":"施設資源化量内訳!I45","v":116},{"$f":"施設資源化量内訳!J45","v":0},{"$f":"施設資源化量内訳!K45","v":0},{"$f":"施設資源化量内訳!L45","v":0},{"$f":"施設資源化量内訳!M45","v":0},{"$f":"施設資源化量内訳!N45","v":0},{"$f":"施設資源化量内訳!O45","v":0},{"$f":"施設資源化量内訳!P45","v":0},{"$f":"施設資源化量内訳!Q45","v":34},{"$f":"施設資源化量内訳!R45","v":0},{"$f":"施設資源化量内訳!S45","v":0},{"$f":"施設資源化量内訳!T45","v":0},{"$f":"施設資源化量内訳!U45","v":0},{"$f":"施設資源化量内訳!V45","v":0},{"$f":"施設資源化量内訳!W45","v":0},{"$f":"施設資源化量内訳!X45","v":5},251,243,0,0,5,1,0,0,0,0,2,"-","-","-","-","-","-","-","-",0,0,"無い"]
["茨城県","08443","阿見町",{"v":4363,"d":"4,363"},{"v":3198,"d":"3,198"},15,0,573,256,226,13,0,0,76,0,0,0,0,0,0,0,0,6,0,713,635,2,0,0,0,0,0,0,0,70,"-","-","-","-","-","-","-","-",6,0,{"$f":"施設資源化量内訳!D46","v":764},{"$f":"施設資源化量内訳!E46","v":0},{"$f":"施設資源化量内訳!F46","v":0},{"$f":"施設資源化量内訳!G46","v":0},{"$f":"施設資源化量内訳!H46","v":412},{"$f":"施設資源化量内訳!I46","v":247},{"$f":"施設資源化量内訳!J46","v":105},{"$f":"施設資源化量内訳!K46","v":0},{"$f":"施設資源化量内訳!L46","v":0},{"$f":"施設資源化量内訳!M46","v":0},{"$f":"施設資源化量内訳!N46","v":0},{"$f":"施設資源化量内訳!O46","v":0},{"$f":"施設資源化量内訳!P46","v":0},{"$f":"施設資源化量内訳!Q46","v":0},{"$f":"施設資源化量内訳!R46","v":0},{"$f":"施設資源化量内訳!S46","v":0},{"$f":"施設資源化量内訳!T46","v":0},{"$f":"施設資源化量内訳!U46","v":0},{"$f":"施設資源化量内訳!V46","v":0},{"$f":"施設資源化量内訳!W46","v":0},{"$f":"施設資源化量内訳!X46","v":0},{"v":2886,"d":"2,886"},{"v":2563,"d":"2,563"},13,0,161,9,121,13,0,0,6,"-","-","-","-","-","-","-","-",0,0,"有る"]
["茨城県","08447","河内町",840,204,0,0,89,56,17,0,0,0,5,0,0,200,0,0,0,0,0,0,269,526,197,0,0,0,55,0,0,0,0,5,"-","-","-","-","-","-","-","-",0,269,{"$f":"施設資源化量内訳!D47","v":306},{"$f":"施設資源化量内訳!E47","v":0},{"$f":"施設資源化量内訳!F47","v":0},{"$f":"施設資源化量内訳!G47","v":0},{"$f":"施設資源化量内訳!H47","v":89},{"$f":"施設資源化量内訳!I47","v":0},{"$f":"施設資源化量内訳!J47","v":17},{"$f":"施設資源化量内訳!K47","v":0},{"$f":"施設資源化量内訳!L47","v":0},{"$f":"施設資源化量内訳!M47","v":0},{"$f":"施設資源化量内訳!N47","v":0},{"$f":"施設資源化量内訳!O47","v":0},{"$f":"施設資源化量内訳!P47","v":0},{"$f":"施設資源化量内訳!Q47","v":200},{"$f":"施設資源化量内訳!R47","v":0},{"$f":"施設資源化量内訳!S47","v":0},{"$f":"施設資源化量内訳!T47","v":0},{"$f":"施設資源化量内訳!U47","v":0},{"$f":"施設資源化量内訳!V47","v":0},{"$f":"施設資源化量内訳!W47","v":0},{"$f":"施設資源化量内訳!X47","v":0},8,7,0,0,0,1,0,0,0,0,0,"-","-","-","-","-","-","-","-",0,0,"有る"]
["茨城県","08521","八千代町",782,378,0,0,187,159,58,0,0,0,0,0,0,0,0,0,0,0,0,0,0,638,347,0,0,77,157,57,0,0,0,0,"-","-","-","-","-","-","-","-",0,0,{"$f":"施設資源化量内訳!D48","v":107},{"$f":"施設資源化量内訳!E48","v":0},{"$f":"施設資源化量内訳!F48","v":0},{"$f":"施設資源化量内訳!G48","v":0},{"$f":"施設資源化量内訳!H48","v":105},{"$f":"施設資源化量内訳!I48","v":2},{"$f":"施設資源化量内訳!J48","v":0},{"$f":"施設資源化量内訳!K48","v":0},{"$f":"施設資源化量内訳!L48","v":0},{"$f":"施設資源化量内訳!M48","v":0},{"$f":"施設資源化量内訳!N48","v":0},{"$f":"施設資源化量内訳!O48","v":0},{"$f":"施設資源化量内訳!P48","v":0},{"$f":"施設資源化量内訳!Q48","v":0},{"$f":"施設資源化量内訳!R48","v":0},{"$f":"施設資源化量内訳!S48","v":0},{"$f":"施設資源化量内訳!T48","v":0},{"$f":"施設資源化量内訳!U48","v":0},{"$f":"施設資源化量内訳!V48","v":0},{"$f":"施設資源化量内訳!W48","v":0},{"$f":"施設資源化量内訳!X48","v":0},37,31,0,0,5,0,1,0,0,0,0,"-","-","-","-","-","-","-","-",0,0,"有る"]
["茨城県","08542","五霞町",512,193,0,0,93,52,31,0,0,0,0,0,0,143,0,0,0,0,0,0,0,81,81,0,0,0,0,0,0,0,0,0,"-","-","-","-","-","-","-","-",0,0,{"$f":"施設資源化量内訳!D49","v":317},{"$f":"施設資源化量内訳!E49","v":0},{"$f":"施設資源化量内訳!F49","v":0},{"$f":"施設資源化量内訳!G49","v":0},{"$f":"施設資源化量内訳!H49","v":91},{"$f":"施設資源化量内訳!I49","v":52},{"$f":"施設資源化量内訳!J49","v":31},{"$f":"施設資源化量内訳!K49","v":0},{"$f":"施設資源化量内訳!L49","v":0},{"$f":"施設資源化量内訳!M49","v":0},{"$f":"施設資源化量内訳!N49","v":0},{"$f":"施設資源化量内訳!O49","v":0},{"$f":"施設資源化量内訳!P49","v":0},{"$f":"施設資源化量内訳!Q49","v":143},{"$f":"施設資源化量内訳!R49","v":0},{"$f":"施設資源化量内訳!S49","v":0},{"$f":"施設資源化量内訳!T49","v":0},{"$f":"施設資源化量内訳!U49","v":0},{"$f":"施設資源化量内訳!V49","v":0},{"$f":"施設資源化量内訳!W49","v":0},{"$f":"施設資源化量内訳!X49","v":0},114,112,0,0,2,0,0,0,0,0,0,"-","-","-","-","-","-","-","-",0,0,"有る"]
["茨城県","08546","境町",{"v":1528,"d":"1,528"},596,4,0,177,183,67,0,0,0,74,0,0,328,0,0,0,0,0,0,99,619,386,0,0,23,3,34,0,0,0,74,"-","-","-","-","-","-","-","-",0,99,{"$f":"施設資源化量内訳!D50","v":697},{"$f":"施設資源化量内訳!E50","v":14},{"$f":"施設資源化量内訳!F50","v":0},{"$f":"施設資源化量内訳!G50","v":0},{"$f":"施設資源化量内訳!H50","v":150},{"$f":"施設資源化量内訳!I50","v":173},{"$f":"施設資源化量内訳!J50","v":32},{"$f":"施設資源化量内訳!K50","v":0},{"$f":"施設資源化量内訳!L50","v":0},{"$f":"施設資源化量内訳!M50","v":0},{"$f":"施設資源化量内訳!N50","v":0},{"$f":"施設資源化量内訳!O50","v":0},{"$f":"施設資源化量内訳!P50","v":0},{"$f":"施設資源化量内訳!Q50","v":328},{"$f":"施設資源化量内訳!R50","v":0},{"$f":"施設資源化量内訳!S50","v":0},{"$f":"施設資源化量内訳!T50","v":0},{"$f":"施設資源化量内訳!U50","v":0},{"$f":"施設資源化量内訳!V50","v":0},{"$f":"施設資源化量内訳!W50","v":0},{"$f":"施設資源化量内訳!X50","v":0},212,196,4,0,4,7,1,0,0,0,0,"-","-","-","-","-","-","-","-",0,0,"有る"]
["茨城県","08564","利根町",894,258,2,0,147,86,23,1,0,0,10,0,0,362,0,0,0,0,0,0,5,362,258,2,0,0,86,0,1,0,0,10,"-","-","-","-","-","-","-","-",0,5,{"$f":"施設資源化量内訳!D51","v":532},{"$f":"施設資源化量内訳!E51","v":0},{"$f":"施設資源化量内訳!F51","v":0},{"$f":"施設資源化量内訳!G51","v":0},{"$f":"施設資源化量内訳!H51","v":147},{"$f":"施設資源化量内訳!I51","v":0},{"$f":"施設資源化量内訳!J51","v":23},{"$f":"施設資源化量内訳!K51","v":0},{"$f":"施設資源化量内訳!L51","v":0},{"$f":"施設資源化量内訳!M51","v":0},{"$f":"施設資源化量内訳!N51","v":0},{"$f":"施設資源化量内訳!O51","v":0},{"$f":"施設資源化量内訳!P51","v":0},{"$f":"施設資源化量内訳!Q51","v":362},{"$f":"施設資源化量内訳!R51","v":0},{"$f":"施設資源化量内訳!S51","v":0},{"$f":"施設資源化量内訳!T51","v":0},{"$f":"施設資源化量内訳!U51","v":0},{"$f":"施設資源化量内訳!V51","v":0},{"$f":"施設資源化量内訳!W51","v":0},{"$f":"施設資源化量内訳!X51","v":0},0,0,0,0,0,0,0,0,0,0,0,"-","-","-","-","-","-","-","-",0,0,"有る"]

{"sheet":"施設資源化量内訳","index":5,"n_rows":51,"n_cols":171,"rows_kept":51,"merged":[[1,0,5,0],[1,1,5,1],[1,2,5,2],[2,3,4,3],[2,4,4,4],[2,5,4,5],[2,6,4,6],[2,7,4,7],[2,8,4,8],[2,9,4,9],[2,10,4,10],[2,11,4,11],[2,12,4,12],[2,13,4,13],[2,14,4,14],[2,15,4,15],[2,16,4,16],[2,17,4,17],[2,18,4,18],[2,19,4,19],[2,20,4,20],[2,21,4,21],[2,22,4,22],[2,23,4,23],[3,24,4,24],[3,25,4,25],[3,26,4,26],[3,27,4,27],[3,28,4,28],[3,29,4,29],[3,30,4,30],[3,31,4,31],[3,32,4,32],[3,33,4,33],[3,34,4,34],[3,35,4,35],[3,36,4,36],[3,37,4,37],[3,38,4,38],[3,39,4,39],[3,40,4,40],[3,41,4,41],[3,42,4,42],[3,43,4,43],[3,44,4,44],[3,45,4,45],[3,46,4,46],[3,47,4,47],[3,48,4,48],[3,49,4,49],[3,50,4,50],[3,51,4,51],[3,52,4,52],[3,53,4,53],[3,54,4,54],[3,55,4,55],[3,56,4,56],[3,57,4,57],[3,58,4,58],[3,59,4,59],[3,60,4,60],[3,61,4,61],[3,62,4,62],[3,63,4,63],[3,64,4,64],[3,65,4,65],[3,66,4,66],[3,67,4,67],[3,68,4,68],[3,69,4,69],[3,70,4,70],[3,71,4,71],[3,72,4,72],[3,73,4,73],[3,74,4,74],[3,75,4,75],[3,76,4,76],[3,77,4,77],[3,78,4,78],[3,79,4,79],[3,80,4,80],[3,81,4,81],[3,82,4,82],[3,83,4,83],[3,84,4,84],[3,85,4,85],[3,86,4,86],[3,87,4,87],[3,88,4,88],[3,89,4,89],[3,90,4,90],[3,91,4,91],[3,92,4,92],[3,93,4,93],[3,94,4,94],[3,95,4,95],[3,96,4,96],[3,97,4,97],[3,98,4,98],[3,99,4,99],[3,100,4,100],[3,101,4,101],[3,102,4,102],[3,103,4,103],[3,104,4,104],[3,105,4,105],[3,106,4,106],[3,107,4,107],[3,108,4,108],[3,109,4,109],[3,110,4,110],[3,111,4,111],[3,112,4,112],[3,113,4,113],[3,114,4,114],[3,115,4,115],[3,116,4,116],[3,117,4,117],[3,118,4,118],[3,119,4,119],[3,120,4,120],[3,121,4,121],[3,122,4,122],[3,123,4,123],[3,124,4,124],[3,125,4,125],[3,126,4,126],[3,127,4,127],[3,128,4,128],[3,129,4,129],[3,130,4,130],[3,131,4,131],[3,132,4,132],[3,133,4,133],[3,134,4,134],[3,135,4,135],[3,136,4,136],[3,137,4,137],[3,138,4,138],[3,139,4,139],[3,140,4,140],[3,141,4,141],[3,142,4,142],[3,143,4,143],[3,144,4,144],[3,145,4,145],[3,146,4,146],[3,147,4,147],[3,148,4,148],[3,149,4,149],[3,150,4,150],[3,151,4,151],[3,152,4,152],[3,153,4,153],[3,154,4,154],[3,155,4,155],[3,156,4,156],[3,157,4,157],[3,158,4,158],[3,159,4,159],[3,160,4,160],[3,161,4,161],[3,162,4,162],[3,163,4,163],[3,164,4,164],[3,165,4,165],[3,166,4,166],[3,167,4,167],[3,168,4,168],[3,169,4,169],[3,170,4,170]]}
["中間処理後の再生利用量の状況（平成28年度実績）"]
["都道府県名","地方公共団体コード","市区町村名","中間処理後再生利用量 (紙類+金属類+ガラス類+ペットボトル+容器包装プラスチック+プラスチック類+布類+肥料+飼料+溶融スラグ+固形燃料+燃料+焼却灰・飛灰+セメント直接投入+廃食用油+その他)"]
[{"$nulls":3},"合計","紙類(02、03を除く)","紙パック","紙製容器包装","金属類","ガラス類","ペットボトル","白色トレイ","容器包装プラスチック（07を除く）","プラスチック類（07,08を除く）","布類","肥料","飼料","溶融スラグ","固形燃料\n（RDF,RPF）","燃料\n（14を除く）","焼却灰・飛灰のセメント原料化","セメント等への直接投入","飛灰の山元還元","廃食用油（BDF)","その他","焼却施設処理に伴う資源化量(紙類+金属類+ガラス類+ペットボトル+容器包装プラスチック+プラスチック類+布類+溶融スラグ+焼却灰・飛灰+その他)",{"$nulls":20},"粗大ごみ処理施設処理に伴う資源化量(紙類+金属類+ガラス類+ペットボトル+容器包装プラスチック+プラスチック類+布類+その他)",{"$nulls":20},"ごみ堆肥化施設処理に伴う資源化量(紙類+金属類+ガラス類+ペットボトル+容器包装プラスチック+プラスチック類+布類+肥料+飼料+その他)",{"$nulls":20},"ごみ飼料化施設処理に伴う資源化量 (紙類+金属類+ガラス類+ペットボトル+容器包装プラスチック+プラスチック類+布類+肥料+飼料+その他)",{"$nulls":20},"メタン化施設処理に伴う資源化量 (紙類+金属類+ガラス類+プラスチック+容器包装プラスチック+プラスチック類+布類+肥料+飼料+燃料+その他)",{"$nulls":20},"ごみ燃料化施設処理に伴う資源化量 (紙類+金属類+ガラス類+ペットボトル+容器包装プラスチック+プラスチック類+布類+固形燃料+燃料+廃食用油+その他)",{"$nulls":20},"その他の資源化等を行う施設処理に伴う資源化量  (紙類+金属類+ガラス類+ペットボトル+容器包装プラスチック+プラスチック類+布類+肥料+飼料+焼却灰・飛灰+セメント直接投入+廃食用油+その他)"]
[{"$nulls":24},"合計","紙類(02、03を除く)","紙パック","紙製容器包装","金属類","ガラス類","ペットボトル","白色トレイ","容器包装プラスチック（07を除く）","プラスチック類(07,08を除く)","布類","肥料","飼料","溶融スラグ","固形燃料\n（RDF,RPF）","燃料\n（14を除く）","焼却灰・飛灰のセメント原料化","セメント等への直接投入","飛灰の山元還元","廃食用油（BDF)","その他","合計","紙類(02、03を除く)","紙パック","紙製容器包装","金属類","ガラス類","ペットボトル","白色トレイ","容器包装プラスチック（07を除く）","プラスチック類(07,08を除く)","布類","肥料","飼料","溶融スラグ","固形燃料\n（RDF,RPF）","燃料\n（14を除く）","焼却灰・飛灰のセメント原料化","セメント等への直接投入","飛灰の山元還元","廃食用油（BDF)","その他","合計","紙類(02、03を除く)","紙パック","紙製容器包装","金属類","ガラス類","ペットボトル","白色トレイ","容器包装プラスチック（07を除く）","プラスチック類(07,08を除く)","布類","肥料","飼料","溶融スラグ","固形燃料\n（RDF,RPF）","燃料\n（14を除く）","焼却灰・飛灰のセメント原料化","セメント等への直接投入","飛灰の山元還元","廃食用油（BDF)","その他","合計","紙類(02、03を除く)","紙パック","紙製容器包装","金属類","ガラス類","ペットボトル","白色トレイ","容器包装プラスチック（07を除く）","プラスチック類(07,08を除く)","布類","肥料","飼料","溶融スラグ","固形燃料\n（RDF,RPF）","燃料\n（14を除く）","焼却灰・飛灰のセメント原料化","セメント等への直接投入","飛灰の山元還元","廃食用油（BDF)","その他","合計","紙類(02、03を除く)","紙パック","紙製容器包装","金属類","ガラス類","ペットボトル","白色トレイ","容器包装プラスチック（07を除く）","プラスチック類(07,08を除く)","布類","肥料","飼料","溶融スラグ","固形燃料\n（RDF,RPF）","燃料\n（14を除く）","焼却灰・飛灰のセメント原料化","セメント等への直接投入","飛灰の山元還元","廃食用油（BDF)","その他","合計","紙類(02、03を除く)","紙パック","紙製容器包装","金属類","ガラス類","ペットボトル","白色トレイ","容器包装プラスチック（07を除く）","プラスチック類(07,08を除く)","布類","肥料","飼料","溶融スラグ","固形燃料\n（RDF,RPF）","燃料\n（14を除く）","焼却灰・飛灰のセメント原料化","セメント等への直接投入","飛灰の山元還元","廃食用油（BDF)","その他","合計","紙類(02、03を除く)","紙パック","紙製容器包装","金属類","ガラス類","ペットボトル","白色トレイ","容器包装プラスチック（07を除く）","プラスチック類(07,08を除く)","布類","肥料","飼料","溶融スラグ","固形燃料\n（RDF,RPF）","燃料\n（14を除く）","焼却灰・飛灰のセメント原料化","セメント等への直接投入","飛灰の山元還元","廃食用油（BDF)","その他"]
[]
[{"$nulls":3},"（ｔ）","（ｔ）","（ｔ）","（ｔ）","（ｔ）","（ｔ）","（ｔ）","（ｔ）",null,"（ｔ）","（ｔ）","（ｔ）","（ｔ）","（ｔ）","（ｔ）","（ｔ）","（ｔ）","（ｔ）","（ｔ）","（ｔ）","（ｔ）","（ｔ）","（ｔ）","（ｔ）","（ｔ）","（ｔ）","（ｔ）","（ｔ）","（ｔ）","（ｔ）","（ｔ）","（ｔ）","（ｔ）","（ｔ）","（ｔ）","（ｔ）","（ｔ）","（ｔ）","（ｔ）","（ｔ）","（ｔ）","（ｔ）","（ｔ）","（ｔ）","（ｔ）","（ｔ）","（ｔ）","（ｔ）","（ｔ）","（ｔ）","（ｔ）","（ｔ）","（ｔ）","（ｔ）","（ｔ）","（ｔ）","（ｔ）","（ｔ）","（ｔ）","（ｔ）","（ｔ）","（ｔ）","（ｔ）","（ｔ）","（ｔ）","（ｔ）","（ｔ）","（ｔ）","（ｔ）","（ｔ）","（ｔ）","（ｔ）","（ｔ）","（ｔ）","（ｔ）","（ｔ）","（ｔ）","（ｔ）","（ｔ）","（ｔ）","（ｔ）","（ｔ）","（ｔ）","（ｔ）","（ｔ）","（ｔ）","（ｔ）","（ｔ）","（ｔ）","（ｔ）","（ｔ）","（ｔ）","（ｔ）","（ｔ）","（ｔ）","（ｔ）","（ｔ）","（ｔ）","（ｔ）","（ｔ）","（ｔ）","（ｔ）","（ｔ）","（ｔ）","（ｔ）","（ｔ）","（ｔ）","（ｔ）","（ｔ）","（ｔ）","（ｔ）","（ｔ）","（ｔ）","（ｔ）","（ｔ）","（ｔ）","（ｔ）","（ｔ）","（ｔ）","（ｔ）","（ｔ）","（ｔ）","（ｔ）","（ｔ）","（ｔ）","（ｔ）","（ｔ）","（ｔ）","（ｔ）","（ｔ）","（ｔ）","（ｔ）","（ｔ）","（ｔ）","（ｔ）","（ｔ）","（ｔ）","（ｔ）","（ｔ）","（ｔ）","（ｔ）","（ｔ）","（ｔ）","（ｔ）","（ｔ）","（ｔ）","（ｔ）","（ｔ）","（ｔ）","（ｔ）","（ｔ）","（ｔ）","（ｔ）","（ｔ）","（ｔ）","（ｔ）","（ｔ）","（ｔ）","（ｔ）","（ｔ）","（ｔ）","（ｔ）","（ｔ）","（ｔ）","（ｔ）","（ｔ）","（ｔ）","（ｔ）"]
[{"$f":"ごみ処理概要!A7","v":"茨城県"},{"$f":"ごみ処理概要!B7","v":"08000"},"合計",{"$f":"SUM(Y7,AT7,BO7,CJ7,DE7,DZ7,EU7)","v":{"v":115040,"d":"115,040"}},{"v":9710,"d":"9,710"},315,53,{"v":19810,"d":"19,810"},{"v":13918,"d":"13,918"},{"v":4293,"d":"4,293"},70,{"v":2210,"d":"2,210"},611,672,874,16,{"v":26784,"d":"26,784"},{"v":25147,"d":"25,147"},0,0,0,0,78,{"v":10479,"d":"10,479"},{"$f":"SUM(Z7:AS7)","v":{"v":30127,"d":"30,127"}},{"$f":"SUM(Z$8:Z$1000)","v":501},0,0,{"v":1338,"d":"1,338"},0,8,0,0,0,17,"-","-",{"v":26784,"d":"26,784"},"-","-",0,"-",0,"-",{"v":1479,"d":"1,479"},{"$f":"SUM(AU7:BN7)","v":{"v":14868,"d":"14,868"}},{"$f":"SUM(AU$8:AU$1000)","v":637},22,0,{"v":10808,"d":"10,808"},{"v":2007,"d":"2,007"},337,0,0,0,67,"-","-","-","-","-","-","-","-","-",990,{"$f":"SUM(BP7:CI7)","v":{"v":1267,"d":"1,267"}},{"$f":"SUM(BP$8:BP$1000)","v":0},0,0,0,0,0,0,0,0,0,874,16,"-","-","-","-","-","-","-",377,{"$f":"SUM(CK7:DD7)","v":0},{"$f":"SUM(CK$8:CK$1000)","v":0},0,0,0,0,0,0,0,0,0,0,0,"-","-","-","-","-","-","-",0,{"$f":"SUM(DF7:DY7)","v":0},{"$f":"SUM(DF$8:DF$1000)","v":0},0,0,0,0,0,0,0,0,0,0,0,"-","-",0,"-","-","-","-",0,{"$f":"SUM(EA7:ET7)","v":{"v":25236,"d":"25,236"}},{"$f":"SUM(EA$8:EA$1000)","v":0},0,0,36,0,0,0,0,0,0,"-","-","-",{"v":25147,"d":"25,147"},0,"-","-","-",53,0,{"$f":"SUM(EV7:FO7)","v":{"v":43542,"d":"43,542"}},{"$f":"SUM(EV$8:EV$1000)","v":{"v":8572,"d":"8,572"}},293,53,{"v":7628,"d":"7,628"},{"v":11911,"d":"11,911"},{"v":3948,"d":"3,948"},70,{"v":2210,"d":"2,210"},611,588,0,0,"-","-","-",0,0,0,25,{"v":7633,"d":"7,633"}]
["茨城県","08201","水戸市",{"$f":"SUM(Y8,AT8,BO8,CJ8,DE8,DZ8,EU8)","v":{"v":5381,"d":"5,381"}},{"$f":"SUM(Z8,AU8,BP8,CK8,DF8,EA8,EV8)","v":{"v":2171,"d":"2,171"}},{"$f":"SUM(AA8,AV8,BQ8,CL8,DG8,EB8,EW8)","v":1},{"$f":"SUM(AB8,AW8,BR8,CM8,DH8,EC8,EX8)","v":0},{"$f":"SUM(AC8,AX8,BS8,CN8,DI8,ED8,EY8)","v":{"v":1417,"d":"1,417"}},{"$f":"SUM(AD8,AY8,BT8,CO8,DJ8,EE8,EZ8)","v":849},{"$f":"SUM(AE8,AZ8,BU8,CP8,DK8,EF8,FA8)","v":100},{"$f":"SUM(AF8,BA8,BV8,CQ8,DL8,EG8,FB8)","v":0},{"$f":"SUM(AG8,BB8,BW8,CR8,DM8,EH8,FC8)","v":0},{"$f":"SUM(AH8,BC8,BX8,CS8,DN8,EI8,FD8)","v":0},{"$f":"SUM(AI8,BD8,BY8,CT8,DO8,EJ8,FE8)","v":59},{"$f":"SUM(AJ8,BE8,BZ8,CU8,DP8,EK8,FF8)","v":0},{"$f":"SUM(AK8,BF8,CA8,CV8,DQ8,EL8,FG8)","v":0},{"$f":"SUM(AL8,BG8,CB8,CW8,DR8,EM8,FH8)","v":0},{"$f":"SUM(AM8,BH8,CC8,CX8,DS8,EN8,FI8)","v":0},{"$f":"SUM(AN8,BI8,CD8,CY8,DT8,EO8,FJ8)","v":0},{"$f":"SUM(AO8,BJ8,CE8,CZ8,DU8,EP8,FK8)","v":0},{"$f":"SUM(AP8,BK8,CF8,DA8,DV8,EQ8,FL8)","v":0},{"$f":"SUM(AQ8,BL8,CG8,DB8,DW8,ER8,FM8)","v":0},{"$f":"SUM(AR8,BM8,CH8,DC8,DX8,ES8,FN8)","v":0},{"$f":"SUM(AS8,BN8,CI8,DD8,DY8,ET8,FO8)","v":784},293,293,0,0,0,0,0,0,0,0,0,"-","-",0,"-","-",0,"-",0,"-",0,204,0,0,0,118,86,0,0,0,0,0,"-","-","-","-","-","-","-","-","-",0,0,0,0,0,0,0,0,0,0,0,0,0,0,"-","-","-","-","-","-","-",0,0,0,0,0,0,0,0,0,0,0,0,0,0,"-","-","-","-","-","-","-",0,0,0,0,0,0,0,0,0,0,0,0,0,0,"-","-",0,"-","-","-","-",0,0,0,0,0,0,0,0,0,0,0,0,"-","-","-",0,0,"-","-","-",0,0,{"v":4884,"d":"4,884"},{"v":1878,"d":"1,878"},1,0,{"v":1299,"d":"1,299"},763,100,0,0,0,59,0,0,"-","-","-",0,0,0,0,784]
["茨城県","08202","日立市",{"v":10367,"d":"10,367"},{"v":2483,"d":"2,483"},45,0,{"v":1196,"d":"1,196"},{"v":1155,"d":"1,155"},356,52,64,0,67,0,0,{"v":3906,"d":"3,906"},0,0,0,0,0,22,{"v":1021,"d":"1,021"},{"v":4075,"d":"4,075"},0,0,0,0,0,0,0,0,0,0,"-","-",{"v":3906,"d":"3,906"},"-","-",0,"-",0,"-",169,{"v":1722,"d":"1,722"},583,22,0,{"v":1033,"d":"1,033"},2,15,0,0,0,67,"-","-","-","-","-","-","-","-","-",0,0,0,0,0,0,0,0,0,0,0,0,0,0,"-","-","-","-","-","-","-",0,0,0,0,0,0,0,0,0,0,0,0,0,0,"-","-","-","-","-","-","-",0,0,0,0,0,0,0,0,0,0,0,0,0,0,"-","-",0,"-","-","-","-",0,0,0,0,0,0,0,0,0,0,0,0,"-","-","-",0,0,"-","-","-",0,0,{"v":4570,"d":"4,570"},{"v":1900,"d":"1,900"},23,0,163,{"v":1153,"d":"1,153"},341,52,64,0,0,0,0,"-","-","-",0,0,0,22,852]
["茨城県","08203","土浦市",{"v":8271,"d":"8,271"},95,0,0,{"v":1194,"d":"1,194"},737,267,0,789,0,134,0,0,57,0,0,0,0,0,21,{"v":4977,"d":"4,977"},260,95,0,0,106,0,0,0,0,0,2,"-","-",57,"-","-",0,"-",0,"-",0,{"v":1088,"d":"1,088"},0,0,0,{"v":1088,"d":"1,088"},0,0,0,0,0,0,"-","-","-","-","-","-","-","-","-",0,0,0,0,0,0,0,0,0,0,0,0,0,0,"-","-","-","-","-","-","-",0,0,0,0,0,0,0,0,0,0,0,0,0,0,"-","-","-","-","-","-","-",0,0,0,0,0,0,0,0,0,0,0,0,0,0,"-","-",0,"-","-","-","-",0,21,0,0,0,0,0,0,0,0,0,0,"-","-","-",0,0,"-","-","-",21,0,{"v":6902,"d":"6,902"},0,0,0,0,737,267,0,789,0,132,0,0,"-","-","-",0,0,0,0,{"v":4977,"d":"4,977"}]
["茨城県","08204","古河市",{"v":4397,"d":"4,397"},13,0,0,{"v":1077,"d":"1,077"},982,495,0,702,0,0,0,0,{"v":1128,"d":"1,128"},0,0,0,0,0,0,0,{"v":1314,"d":"1,314"},0,0,0,186,0,0,0,0,0,0,"-","-",{"v":1128,"d":"1,128"},"-","-",0,"-",0,"-",0,0,0,0,0,0,0,0,0,0,0,0,"-","-","-","-","-","-","-","-","-",0,0,0,0,0,0,0,0,0,0,0,0,0,0,"-","-","-","-","-","-","-",0,0,0,0,0,0,0,0,0,0,0,0,0,0,"-","-","-","-","-","-","-",0,0,0,0,0,0,0,0,0,0,0,0,0,0,"-","-",0,"-","-","-","-",0,0,0,0,0,0,0,0,0,0,0,0,"-","-","-",0,0,"-","-","-",0,0,{"v":3083,"d":"3,083"},13,0,0,891,982,495,0,702,0,0,0,0,"-","-","-",0,0,0,0,0]
["茨城県","08205","石岡市",{"v":4118,"d":"4,118"},443,0,0,597,568,102,0,9,0,5,0,0,{"v":2250,"d":"2,250"},0,0,0,0,0,0,144,{"v":2283,"d":"2,283"},28,0,0,0,0,0,0,0,0,5,"-","-",{"v":2250,"d":"2,250"},"-","-",0,"-",0,"-",0,{"v":1105,"d":"1,105"},0,0,0,597,364,0,0,0,0,0,"-","-","-","-","-","-","-","-","-",144,0,0,0,0,0,0,0,0,0,0,0,0,0,"-","-","-","-","-","-","-",0,0,0,0,0,0,0,0,0,0,0,0,0,0,"-","-","-","-","-","-","-",0,0,0,0,0,0,0,0,0,0,0,0,0,0,"-","-",0,"-","-","-","-",0,0,0,0,0,0,0,0,0,0,0,0,"-","-","-",0,0,"-","-","-",0,0,730,415,0,0,0,204,102,0,9,0,0,0,0,"-","-","-",0,0,0,0,0]
["茨城県","08207","結城市",{"v":1763,"d":"1,763"},0,0,0,0,0,0,0,0,0,0,0,0,{"v":1356,"d":"1,356"},0,0,0,0,0,0,407,{"v":1763,"d":"1,763"},0,0,0,0,0,0,0,0,0,0,"-","-",{"v":1356,"d":"1,356"},"-","-",0,"-",0,"-",407,0,0,0,0,0,0,0,0,0,0,0,"-","-","-","-","-","-","-","-","-",0,0,0,0,0,0,0,0,0,0,0,0,0,0,"-","-","-","-","-","-","-",0,0,0,0,0,0,0,0,0,0,0,0,0,0,"-","-","-","-","-","-","-",0,0,0,0,0,0,0,0,0,0,0,0,0,0,"-","-",0,"-","-","-","-",0,0,0,0,0,0,0,0,0,0,0,0,"-","-","-",0,0,"-","-","-",0,0,0,0,0,0,0,0,0,0,0,0,0,0,0,"-","-","-",0,0,0,0,0]
["茨城県","08208","龍ケ崎市",{"v":2802,"d":"2,802"},0,0,0,637,0,120,0,0,0,0,0,0,{"v":2045,"d":"2,045"},0,0,0,0,0,0,0,{"v":2060,"d":"2,060"},0,0,0,15,0,0,0,0,0,0,"-","-",{"v":2045,"d":"2,045"},"-","-",0,"-",0,"-",0,450,0,0,0,450,0,0,0,0,0,0,"-","-","-","-","-","-","-","-","-",0,0,0,0,0,0,0,0,0,0,0,0,0,0,"-","-","-","-","-","-","-",0,0,0,0,0,0,0,0,0,0,0,0,0,0,"-","-","-","-","-","-","-",0,0,0,0,0,0,0,0,0,0,0,0,0,0,"-","-",0,"-","-","-","-",0,0,0,0,0,0,0,0,0,0,0,0,"-","-","-",0,0,"-","-","-",0,0,292,0,0,0,172,0,120,0,0,0,0,0,0,"-","-","-",0,0,0,0,0]
["茨城県","08210","下妻市",262,0,0,0,259,3,0,0,0,0,0,0,0,0,0,0,0,0,0,0,0,0,0,0,0,0,0,0,0,0,0,0,"-","-",0,"-","-",0,"-",0,"-",0,251,0,0,0,251,0,0,0,0,0,0,"-","-","-","-","-","-","-","-","-",0,0,0,0,0,0,0,0,0,0,0,0,0,0,"-","-","-","-","-","-","-",0,0,0,0,0,0,0,0,0,0,0,0,0,0,"-","-","-","-","-","-","-",0,0,0,0,0,0,0,0,0,0,0,0,0,0,"-","-",0,"-","-","-","-",0,0,0,0,0,0,0,0,0,0,0,0,"-","-","-",0,0,"-","-","-",0,0,11,0,0,0,8,3,0,0,0,0,0,0,0,"-","-","-",0,0,0,0,0]
["茨城県","08211","常総市",{"v":1082,"d":"1,082"},122,263,53,155,0,0,0,0,0,0,378,16,0,0,0,0,0,0,0,95,39,0,0,0,39,0,0,0,0,0,0,"-","-",0,"-","-",0,"-",0,"-",0,199,0,0,0,116,0,0,0,0,0,0,"-","-","-","-","-","-","-","-","-",83,394,0,0,0,0,0,0,0,0,0,0,378,16,"-","-","-","-","-","-","-",0,0,0,0,0,0,0,0,0,0,0,0,0,0,"-","-","-","-","-","-","-",0,0,0,0,0,0,0,0,0,0,0,0,0,0,"-","-",0,"-","-","-","-",0,0,0,0,0,0,0,0,0,0,0,0,"-","-","-",0,0,"-","-","-",0,0,450,122,263,53,0,0,0,0,0,0,0,0,0,"-","-","-",0,0,0,0,12]
["茨城県","08212","常陸太田市",869,0,3,0,165,610,63,10,0,0,0,0,0,0,0,0,0,0,0,0,18,0,0,0,0,0,0,0,0,0,0,0,"-","-",0,"-","-",0,"-",0,"-",0,0,0,0,0,0,0,0,0,0,0,0,"-","-","-","-","-","-","-","-","-",0,0,0,0,0,0,0,0,0,0,0,0,0,0,"-","-","-","-","-","-","-",0,0,0,0,0,0,0,0,0,0,0,0,0,0,"-","-","-","-","-","-","-",0,0,0,0,0,0,0,0,0,0,0,0,0,0,"-","-",0,"-","-","-","-",0,0,0,0,0,0,0,0,0,0,0,0,"-","-","-",0,0,"-","-","-",0,0,869,0,3,0,165,610,63,10,0,0,0,0,0,"-","-","-",0,0,0,0,18]
["茨城県","08214","高萩市",{"v":2013,"d":"2,013"},766,0,0,208,240,66,7,0,0,141,0,0,0,0,0,0,0,0,0,585,0,0,0,0,0,0,0,0,0,0,0,"-","-",0,"-","-",0,"-",0,"-",0,0,0,0,0,0,0,0,0,0,0,0,"-","-","-","-","-","-","-","-","-",0,0,0,0,0,0,0,0,0,0,0,0,0,0,"-","-","-","-","-","-","-",0,0,0,0,0,0,0,0,0,0,0,0,0,0,"-","-","-","-","-","-","-",0,0,0,0,0,0,0,0,0,0,0,0,0,0,"-","-",0,"-","-","-","-",0,0,0,0,0,0,0,0,0,0,0,0,"-","-","-",0,0,"-","-","-",0,0,{"v":2013,"d":"2,013"},766,0,0,208,240,66,7,0,0,141,0,0,"-","-","-",0,0,0,0,585]
["茨城県","08215","北茨城市",566,0,0,0,0,336,230,0,0,0,0,0,0,0,0,0,0,0,0,0,0,0,0,0,0,0,0,0,0,0,0,0,"-","-",0,"-","-",0,"-",0,"-",0,0,0,0,0,0,0,0,0,0,0,0,"-","-","-","-","-","-","-","-","-",0,0,0,0,0,0,0,0,0,0,0,0,0,0,"-","-","-","-","-","-","-",0,0,0,0,0,0,0,0,0,0,0,0,0,0,"-","-","-","-","-","-","-",0,0,0,0,0,0,0,0,0,0,0,0,0,0,"-","-",0,"-","-","-","-",0,0,0,0,0,0,0,0,0,0,0,0,"-","-","-",0,0,"-","-","-",0,0,566,0,0,0,0,336,230,0,0,0,0,0,0,"-","-","-",0,0,0,0,0]
["茨城県","08216","笠間市",{"v":2211,"d":"2,211"},0,0,0,473,202,56,1,0,0,0,0,0,{"v":1479,"d":"1,479"},0,0,0,0,0,0,0,{"v":1479,"d":"1,479"},0,0,0,0,0,0,0,0,0,0,"-","-",{"v":1479,"d":"1,479"},"-","-",0,"-",0,"-",0,675,0,0,0,473,202,0,0,0,0,0,"-","-","-","-","-","-","-","-","-",0,0,0,0,0,0,0,0,0,0,0,0,0,0,"-","-","-","-","-","-","-",0,0,0,0,0,0,0,0,0,0,0,0,0,0,"-","-","-","-","-","-","-",0,0,0,0,0,0,0,0,0,0,0,0,0,0,"-","-",0,"-","-","-","-",0,0,0,0,0,0,0,0,0,0,0,0,"-","-","-",0,0,"-","-","-",0,0,57,0,0,0,0,0,56,1,0,0,0,0,0,"-","-","-",0,0,0,0,0]
["茨城県","08217","取手市",{"v":3770,"d":"3,770"},0,0,0,600,729,174,0,0,350,0,87,0,{"v":1489,"d":"1,489"},0,0,0,0,0,0,341,{"v":1602,"d":"1,602"},0,0,0,113,0,0,0,0,0,0,"-","-",{"v":1489,"d":"1,489"},"-","-",0,"-",0,"-",0,310,0,0,0,0,0,0,0,0,0,0,"-","-","-","-","-","-","-","-","-",310,87,0,0,0,0,0,0,0,0,0,0,87,0,"-","-","-","-","-","-","-",0,0,0,0,0,0,0,0,0,0,0,0,0,0,"-","-","-","-","-","-","-",0,0,0,0,0,0,0,0,0,0,0,0,0,0,"-","-",0,"-","-","-","-",0,0,0,0,0,0,0,0,0,0,0,0,"-","-","-",0,0,"-","-","-",0,0,{"v":1771,"d":"1,771"},0,0,0,487,729,174,0,0,350,0,0,0,"-","-","-",0,0,0,0,31]
["茨城県","08219","牛久市",{"v":2774,"d":"2,774"},0,0,0,727,503,145,0,0,0,0,17,0,{"v":1152,"d":"1,152"},0,0,0,0,0,32,198,{"v":1234,"d":"1,234"},0,0,0,82,0,0,0,0,0,0,"-","-",{"v":1152,"d":"1,152"},"-","-",0,"-",0,"-",0,0,0,0,0,0,0,0,0,0,0,0,"-","-","-","-","-","-","-","-","-",0,17,0,0,0,0,0,0,0,0,0,0,17,0,"-","-","-","-","-","-","-",0,0,0,0,0,0,0,0,0,0,0,0,0,0,"-","-","-","-","-","-","-",0,0,0,0,0,0,0,0,0,0,0,0,0,0,"-","-",0,"-","-","-","-",0,32,0,0,0,0,0,0,0,0,0,0,"-","-","-",0,0,"-","-","-",32,0,{"v":1491,"d":"1,491"},0,0,0,645,503,145,0,0,0,0,0,0,"-","-","-",0,0,0,0,198]
["茨城県","08220","つくば市",{"v":4688,"d":"4,688"},{"v":1677,"d":"1,677"},0,0,{"v":1166,"d":"1,166"},929,467,0,0,0,161,0,0,247,0,0,0,0,0,0,41,247,0,0,0,0,0,0,0,0,0,0,"-","-",247,"-","-",0,"-",0,"-",0,717,0,0,0,707,0,0,0,0,0,0,"-","-","-","-","-","-","-","-","-",10,0,0,0,0,0,0,0,0,0,0,0,0,0,"-","-","-","-","-","-","-",0,0,0,0,0,0,0,0,0,0,0,0,0,0,"-","-","-","-","-","-","-",0,0,0,0,0,0,0,0,0,0,0,0,0,0,"-","-",0,"-","-","-","-",0,0,0,0,0,0,0,0,0,0,0,0,"-","-","-",0,0,"-","-","-",0,0,{"v":3724,"d":"3,724"},{"v":1677,"d":"1,677"},0,0,459,929,467,0,0,0,161,0,0,"-","-","-",0,0,0,0,31]
["茨城県","08221","ひたちなか市",{"v":3632,"d":"3,632"},0,0,0,{"v":1321,"d":"1,321"},173,0,0,0,0,0,0,0,{"v":2137,"d":"2,137"},0,0,0,0,0,0,1,{"v":2480,"d":"2,480"},0,0,0,343,0,0,0,0,0,0,"-","-",{"v":2137,"d":"2,137"},"-","-",0,"-",0,"-",0,{"v":1152,"d":"1,152"},0,0,0,978,173,0,0,0,0,0,"-","-","-","-","-","-","-","-","-",1,0,0,0,0,0,0,0,0,0,0,0,0,0,"-","-","-","-","-","-","-",0,0,0,0,0,0,0,0,0,0,0,0,0,0,"-","-","-","-","-","-","-",0,0,0,0,0,0,0,0,0,0,0,0,0,0,"-","-",0,"-","-","-","-",0,0,0,0,0,0,0,0,0,0,0,0,"-","-","-",0,0,"-","-","-",0,0,0,0,0,0,0,0,0,0,0,0,0,0,0,"-","-","-",0,0,0,0,0]
["茨城県","08222","鹿嶋市",{"v":12097,"d":"12,097"},0,0,0,606,298,201,0,0,0,0,0,0,0,{"v":10992,"d":"10,992"},0,0,0,0,0,0,0,0,0,0,0,0,0,0,0,0,0,"-","-",0,"-","-",0,"-",0,"-",0,921,0,0,0,516,221,184,0,0,0,0,"-","-","-","-","-","-","-","-","-",0,0,0,0,0,0,0,0,0,0,0,0,0,0,"-","-","-","-","-","-","-",0,0,0,0,0,0,0,0,0,0,0,0,0,0,"-","-","-","-","-","-","-",0,0,0,0,0,0,0,0,0,0,0,0,0,0,"-","-",0,"-","-","-","-",0,{"v":11028,"d":"11,028"},0,0,0,36,0,0,0,0,0,0,"-","-","-",{"v":10992,"d":"10,992"},0,"-","-","-",0,0,148,0,0,0,54,77,17,0,0,0,0,0,0,"-","-","-",0,0,0,0,0]
["茨城県","08223","潮来市",{"v":2543,"d":"2,543"},483,1,0,241,124,107,0,342,0,95,0,0,{"v":1150,"d":"1,150"},0,0,0,0,0,0,0,{"v":1150,"d":"1,150"},0,0,0,0,0,0,0,0,0,0,"-","-",{"v":1150,"d":"1,150"},"-","-",0,"-",0,"-",0,157,0,0,0,157,0,0,0,0,0,0,"-","-","-","-","-","-","-","-","-",0,0,0,0,0,0,0,0,0,0,0,0,0,0,"-","-","-","-","-","-","-",0,0,0,0,0,0,0,0,0,0,0,0,0,0,"-","-","-","-","-","-","-",0,0,0,0,0,0,0,0,0,0,0,0,0,0,"-","-",0,"-","-","-","-",0,0,0,0,0,0,0,0,0,0,0,0,"-","-","-",0,0,"-","-","-",0,0,{"v":1236,"d":"1,236"},483,1,0,84,124,107,0,342,0,95,0,0,"-","-","-",0,0,0,0,0]
["茨城県","08224","守谷市",{"v":2071,"d":"2,071"},0,0,0,345,419,85,0,0,140,0,7,0,863,0,0,0,0,0,0,212,929,0,0,0,66,0,0,0,0,0,0,"-","-",863,"-","-",0,"-",0,"-",0,194,0,0,0,0,0,0,0,0,0,0,"-","-","-","-","-","-","-","-","-",194,7,0,0,0,0,0,0,0,0,0,0,7,0,"-","-","-","-","-","-","-",0,0,0,0,0,0,0,0,0,0,0,0,0,0,"-","-","-","-","-","-","-",0,0,0,0,0,0,0,0,0,0,0,0,0,0,"-","-",0,"-","-","-","-",0,0,0,0,0,0,0,0,0,0,0,0,"-","-","-",0,0,"-","-","-",0,0,941,0,0,0,279,419,85,0,0,140,0,0,0,"-","-","-",0,0,0,0,18]
["茨城県","08225","常陸大宮市",{"v":1801,"d":"1,801"},624,1,0,524,516,63,0,0,0,0,0,0,0,0,0,0,0,0,0,73,53,0,0,0,0,0,0,0,0,0,0,"-","-",0,"-","-",0,"-",0,"-",53,544,0,0,0,524,0,0,0,0,0,0,"-","-","-","-","-","-","-","-","-",20,0,0,0,0,0,0,0,0,0,0,0,0,0,"-","-","-","-","-","-","-",0,0,0,0,0,0,0,0,0,0,0,0,0,0,"-","-","-","-","-","-","-",0,0,0,0,0,0,0,0,0,0,0,0,0,0,"-","-",0,"-","-","-","-",0,0,0,0,0,0,0,0,0,0,0,0,"-","-","-",0,0,"-","-","-",0,0,{"v":1204,"d":"1,204"},624,1,0,0,516,63,0,0,0,0,0,0,"-","-","-",0,0,0,0,0]
["茨城県","08226","那珂市",{"v":1770,"d":"1,770"},624,1,0,467,525,75,0,0,0,0,0,0,0,0,0,0,0,0,0,78,65,0,0,0,0,0,0,0,0,0,0,"-","-",0,"-","-",0,"-",0,"-",65,480,0,0,0,467,0,0,0,0,0,0,"-","-","-","-","-","-","-","-","-",13,0,0,0,0,0,0,0,0,0,0,0,0,0,"-","-","-","-","-","-","-",0,0,0,0,0,0,0,0,0,0,0,0,0,0,"-","-","-","-","-","-","-",0,0,0,0,0,0,0,0,0,0,0,0,0,0,"-","-",0,"-","-","-","-",0,0,0,0,0,0,0,0,0,0,0,0,"-","-","-",0,0,"-","-","-",0,0,{"v":1225,"d":"1,225"},624,1,0,0,525,75,0,0,0,0,0,0,"-","-","-",0,0,0,0,0]
["茨城県","08227","筑西市",{"v":2899,"d":"2,899"},0,0,0,711,0,165,0,0,0,0,0,0,{"v":2023,"d":"2,023"},0,0,0,0,0,0,0,{"v":2175,"d":"2,175"},0,0,0,152,0,0,0,0,0,0,"-","-",{"v":2023,"d":"2,023"},"-","-",0,"-",0,"-",0,559,0,0,0,559,0,0,0,0,0,0,"-","-","-","-","-","-","-","-","-",0,0,0,0,0,0,0,0,0,0,0,0,0,0,"-","-","-","-","-","-","-",0,0,0,0,0,0,0,0,0,0,0,0,0,0,"-","-","-","-","-","-","-",0,0,0,0,0,0,0,0,0,0,0,0,0,0,"-","-",0,"-","-","-","-",0,0,0,0,0,0,0,0,0,0,0,0,"-","-","-",0,0,"-","-","-",0,0,165,0,0,0,0,0,165,0,0,0,0,0,0,"-","-","-",0,0,0,0,0]
["茨城県","08228","坂東市",{"v":1604,"d":"1,604"},9,0,0,442,381,131,0,0,0,0,0,0,641,0,0,0,0,0,0,0,747,0,0,0,106,0,0,0,0,0,0,"-","-",641,"-","-",0,"-",0,"-",0,141,0,0,0,141,0,0,0,0,0,0,"-","-","-","-","-","-","-","-","-",0,0,0,0,0,0,0,0,0,0,0,0,0,0,"-","-","-","-","-","-","-",0,0,0,0,0,0,0,0,0,0,0,0,0,0,"-","-","-","-","-","-","-",0,0,0,0,0,0,0,0,0,0,0,0,0,0,"-","-",0,"-","-","-","-",0,0,0,0,0,0,0,0,0,0,0,0,"-","-","-",0,0,"-","-","-",0,0,716,9,0,0,195,381,131,0,0,0,0,0,0,"-","-","-",0,0,0,0,0]
["茨城県","08229","稲敷市",508,0,0,0,139,266,0,0,0,0,0,0,0,89,0,0,0,0,0,0,14,103,0,0,0,0,0,0,0,0,0,0,"-","-",89,"-","-",0,"-",0,"-",14,0,0,0,0,0,0,0,0,0,0,0,"-","-","-","-","-","-","-","-","-",0,0,0,0,0,0,0,0,0,0,0,0,0,0,"-","-","-","-","-","-","-",0,0,0,0,0,0,0,0,0,0,0,0,0,0,"-","-","-","-","-","-","-",0,0,0,0,0,0,0,0,0,0,0,0,0,0,"-","-",0,"-","-","-","-",0,0,0,0,0,0,0,0,0,0,0,0,"-","-","-",0,0,"-","-","-",0,0,405,0,0,0,139,266,0,0,0,0,0,0,0,"-","-","-",0,0,0,0,0]
["茨城県","08230","かすみがうら市",{"v":1525,"d":"1,525"},54,0,0,463,267,81,0,19,0,10,0,0,254,0,0,0,0,0,0,377,318,54,0,0,0,0,0,0,0,0,10,"-","-",254,"-","-",0,"-",0,"-",0,463,0,0,0,463,0,0,0,0,0,0,"-","-","-","-","-","-","-","-","-",0,377,0,0,0,0,0,0,0,0,0,0,0,0,"-","-","-","-","-","-","-",377,0,0,0,0,0,0,0,0,0,0,0,0,0,"-","-","-","-","-","-","-",0,0,0,0,0,0,0,0,0,0,0,0,0,0,"-","-",0,"-","-","-","-",0,0,0,0,0,0,0,0,0,0,0,0,"-","-","-",0,0,"-","-","-",0,0,367,0,0,0,0,267,81,0,19,0,0,0,0,"-","-","-",0,0,0,0,0]
["茨城県","08231","桜川市",{"v":1697,"d":"1,697"},0,0,0,58,0,0,0,0,0,0,0,0,768,0,0,0,0,0,0,871,{"v":1592,"d":"1,592"},0,0,0,58,0,0,0,0,0,0,"-","-",768,"-","-",0,"-",0,"-",766,0,0,0,0,0,0,0,0,0,0,0,"-","-","-","-","-","-","-","-","-",0,0,0,0,0,0,0,0,0,0,0,0,0,0,"-","-","-","-","-","-","-",0,0,0,0,0,0,0,0,0,0,0,0,0,0,"-","-","-","-","-","-","-",0,0,0,0,0,0,0,0,0,0,0,0,0,0,"-","-",0,"-","-","-","-",0,0,0,0,0,0,0,0,0,0,0,0,"-","-","-",0,0,"-","-","-",0,0,105,0,0,0,0,0,0,0,0,0,0,0,0,"-","-","-",0,0,0,0,105]
["茨城県","08232","神栖市",{"v":15913,"d":"15,913"},0,0,0,{"v":1081,"d":"1,081"},435,155,0,87,0,0,0,0,0,{"v":14155,"d":"14,155"},0,0,0,0,0,0,0,0,0,0,0,0,0,0,0,0,0,"-","-",0,"-","-",0,"-",0,"-",0,0,0,0,0,0,0,0,0,0,0,0,"-","-","-","-","-","-","-","-","-",0,0,0,0,0,0,0,0,0,0,0,0,0,0,"-","-","-","-","-","-","-",0,0,0,0,0,0,0,0,0,0,0,0,0,0,"-","-","-","-","-","-","-",0,0,0,0,0,0,0,0,0,0,0,0,0,0,"-","-",0,"-","-","-","-",0,{"v":14155,"d":"14,155"},0,0,0,0,0,0,0,0,0,0,"-","-","-",{"v":14155,"d":"14,155"},0,"-","-","-",0,0,{"v":1758,"d":"1,758"},0,0,0,{"v":1081,"d":"1,081"},435,155,0,87,0,0,0,0,"-","-","-",0,0,0,0,0]
["茨城県","08233","行方市",725,40,0,0,418,182,75,0,0,0,0,0,0,0,0,0,0,0,0,0,10,0,0,0,0,0,0,0,0,0,0,0,"-","-",0,"-","-",0,"-",0,"-",0,725,40,0,0,418,182,75,0,0,0,0,"-","-","-","-","-","-","-","-","-",10,0,0,0,0,0,0,0,0,0,0,0,0,0,"-","-","-","-","-","-","-",0,0,0,0,0,0,0,0,0,0,0,0,0,0,"-","-","-","-","-","-","-",0,0,0,0,0,0,0,0,0,0,0,0,0,0,"-","-",0,"-","-","-","-",0,0,0,0,0,0,0,0,0,0,0,0,"-","-","-",0,0,"-","-","-",0,0,0,0,0,0,0,0,0,0,0,0,0,0,0,"-","-","-",0,0,0,0,0]
["茨城県","08234","鉾田市",{"v":1979,"d":"1,979"},8,0,0,409,496,58,0,0,0,0,0,0,{"v":1000,"d":"1,000"},0,0,0,0,0,0,8,{"v":1010,"d":"1,010"},8,0,0,0,0,2,0,0,0,0,"-","-",{"v":1000,"d":"1,000"},"-","-",0,"-",0,"-",0,154,0,0,0,87,59,0,0,0,0,0,"-","-","-","-","-","-","-","-","-",8,0,0,0,0,0,0,0,0,0,0,0,0,0,"-","-","-","-","-","-","-",0,0,0,0,0,0,0,0,0,0,0,0,0,0,"-","-","-","-","-","-","-",0,0,0,0,0,0,0,0,0,0,0,0,0,0,"-","-",0,"-","-","-","-",0,0,0,0,0,0,0,0,0,0,0,0,"-","-","-",0,0,"-","-","-",0,0,815,0,0,0,322,437,56,0,0,0,0,0,0,"-","-","-",0,0,0,0,0]
["茨城県","08235","つくばみらい市",{"v":1477,"d":"1,477"},0,0,0,246,310,71,0,0,121,0,3,0,599,0,0,0,0,0,0,127,645,0,0,0,46,0,0,0,0,0,0,"-","-",599,"-","-",0,"-",0,"-",0,109,0,0,0,0,0,0,0,0,0,0,"-","-","-","-","-","-","-","-","-",109,3,0,0,0,0,0,0,0,0,0,0,3,0,"-","-","-","-","-","-","-",0,0,0,0,0,0,0,0,0,0,0,0,0,0,"-","-","-","-","-","-","-",0,0,0,0,0,0,0,0,0,0,0,0,0,0,"-","-",0,"-","-","-","-",0,0,0,0,0,0,0,0,0,0,0,0,"-","-","-",0,0,"-","-","-",0,0,720,0,0,0,200,310,71,0,0,121,0,0,0,"-","-","-",0,0,0,0,18]
["茨城県","08236","小美玉市",{"v":1937,"d":"1,937"},41,0,0,356,423,46,0,0,0,0,0,0,993,0,0,0,0,0,0,78,993,0,0,0,0,0,0,0,0,0,0,"-","-",993,"-","-",0,"-",0,"-",0,588,0,0,0,312,198,0,0,0,0,0,"-","-","-","-","-","-","-","-","-",78,0,0,0,0,0,0,0,0,0,0,0,0,0,"-","-","-","-","-","-","-",0,0,0,0,0,0,0,0,0,0,0,0,0,0,"-","-","-","-","-","-","-",0,0,0,0,0,0,0,0,0,0,0,0,0,0,"-","-",0,"-","-","-","-",0,0,0,0,0,0,0,0,0,0,0,0,"-","-","-",0,0,"-","-","-",0,0,356,41,0,0,44,225,46,0,0,0,0,0,0,"-","-","-",0,0,0,0,0]
["茨城県","08302","茨城町",539,20,0,0,190,308,21,0,0,0,0,0,0,0,0,0,0,0,0,0,0,0,0,0,0,0,0,0,0,0,0,0,"-","-",0,"-","-",0,"-",0,"-",0,132,0,0,0,132,0,0,0,0,0,0,"-","-","-","-","-","-","-","-","-",0,0,0,0,0,0,0,0,0,0,0,0,0,0,"-","-","-","-","-","-","-",0,0,0,0,0,0,0,0,0,0,0,0,0,0,"-","-","-","-","-","-","-",0,0,0,0,0,0,0,0,0,0,0,0,0,0,"-","-",0,"-","-","-","-",0,0,0,0,0,0,0,0,0,0,0,0,"-","-","-",0,0,"-","-","-",0,0,407,20,0,0,58,308,21,0,0,0,0,0,0,"-","-","-",0,0,0,0,0]
["茨城県","08309","大洗町",234,23,0,0,147,48,6,0,0,0,0,0,0,0,0,0,0,0,0,0,10,29,23,0,0,0,0,6,0,0,0,0,"-","-",0,"-","-",0,"-",0,"-",0,205,0,0,0,147,48,0,0,0,0,0,"-","-","-","-","-","-","-","-","-",10,0,0,0,0,0,0,0,0,0,0,0,0,0,"-","-","-","-","-","-","-",0,0,0,0,0,0,0,0,0,0,0,0,0,0,"-","-","-","-","-","-","-",0,0,0,0,0,0,0,0,0,0,0,0,0,0,"-","-",0,"-","-","-","-",0,0,0,0,0,0,0,0,0,0,0,0,"-","-","-",0,0,"-","-","-",0,0,0,0,0,0,0,0,0,0,0,0,0,0,0,"-","-","-",0,0,0,0,0]
["茨城県","08310","城里町",483,0,0,0,237,135,17,0,0,0,0,0,0,91,0,0,0,0,0,3,0,91,0,0,0,0,0,0,0,0,0,0,"-","-",91,"-","-",0,"-",0,"-",0,170,0,0,0,170,0,0,0,0,0,0,"-","-","-","-","-","-","-","-","-",0,0,0,0,0,0,0,0,0,0,0,0,0,0,"-","-","-","-","-","-","-",0,0,0,0,0,0,0,0,0,0,0,0,0,0,"-","-","-","-","-","-","-",0,0,0,0,0,0,0,0,0,0,0,0,0,0,"-","-",0,"-","-","-","-",0,0,0,0,0,0,0,0,0,0,0,0,"-","-","-",0,0,"-","-","-",0,0,222,0,0,0,67,135,17,0,0,0,0,0,0,"-","-","-",0,0,0,3,0]
["茨城県","08341","東海村",{"v":1053,"d":"1,053"},0,0,0,248,179,46,0,194,0,0,382,0,0,0,0,0,0,0,0,4,0,0,0,0,0,0,0,0,0,0,0,"-","-",0,"-","-",0,"-",0,"-",0,0,0,0,0,0,0,0,0,0,0,0,"-","-","-","-","-","-","-","-","-",0,382,0,0,0,0,0,0,0,0,0,0,382,0,"-","-","-","-","-","-","-",0,0,0,0,0,0,0,0,0,0,0,0,0,0,"-","-","-","-","-","-","-",0,0,0,0,0,0,0,0,0,0,0,0,0,0,"-","-",0,"-","-","-","-",0,0,0,0,0,0,0,0,0,0,0,0,"-","-","-",0,0,"-","-","-",0,0,671,0,0,0,248,179,46,0,194,0,0,0,0,"-","-","-",0,0,0,0,4]
["茨城県","08364","大子町",264,0,0,0,219,0,41,0,4,0,0,0,0,0,0,0,0,0,0,0,0,0,0,0,0,0,0,0,0,0,0,0,"-","-",0,"-","-",0,"-",0,"-",0,0,0,0,0,0,0,0,0,0,0,0,"-","-","-","-","-","-","-","-","-",0,0,0,0,0,0,0,0,0,0,0,0,0,0,"-","-","-","-","-","-","-",0,0,0,0,0,0,0,0,0,0,0,0,0,0,"-","-","-","-","-","-","-",0,0,0,0,0,0,0,0,0,0,0,0,0,0,"-","-",0,"-","-","-","-",0,0,0,0,0,0,0,0,0,0,0,0,"-","-","-",0,0,"-","-","-",0,0,264,0,0,0,219,0,41,0,4,0,0,0,0,"-","-","-",0,0,0,0,0]
["茨城県","08442","美浦村",232,0,0,0,77,116,0,0,0,0,0,0,0,34,0,0,0,0,0,0,5,39,0,0,0,0,0,0,0,0,0,0,"-","-",34,"-","-",0,"-",0,"-",5,0,0,0,0,0,0,0,0,0,0,0,"-","-","-","-","-","-","-","-","-",0,0,0,0,0,0,0,0,0,0,0,0,0,0,"-","-","-","-","-","-","-",0,0,0,0,0,0,0,0,0,0,0,0,0,0,"-","-","-","-","-","-","-",0,0,0,0,0,0,0,0,0,0,0,0,0,0,"-","-",0,"-","-","-","-",0,0,0,0,0,0,0,0,0,0,0,0,"-","-","-",0,0,"-","-","-",0,0,193,0,0,0,77,116,0,0,0,0,0,0,0,"-","-","-",0,0,0,0,0]
["茨城県","08443","阿見町",764,0,0,0,412,247,105,0,0,0,0,0,0,0,0,0,0,0,0,0,0,0,0,0,0,0,0,0,0,0,0,0,"-","-",0,"-","-",0,"-",0,"-",0,659,0,0,0,412,247,0,0,0,0,0,"-","-","-","-","-","-","-","-","-",0,0,0,0,0,0,0,0,0,0,0,0,0,0,"-","-","-","-","-","-","-",0,0,0,0,0,0,0,0,0,0,0,0,0,0,"-","-","-","-","-","-","-",0,0,0,0,0,0,0,0,0,0,0,0,0,0,"-","-",0,"-","-","-","-",0,0,0,0,0,0,0,0,0,0,0,0,"-","-","-",0,0,"-","-","-",0,0,105,0,0,0,0,0,105,0,0,0,0,0,0,"-","-","-",0,0,0,0,0]
["茨城県","08447","河内町",306,0,0,0,89,0,17,0,0,0,0,0,0,200,0,0,0,0,0,0,0,201,0,0,0,1,0,0,0,0,0,0,"-","-",200,"-","-",0,"-",0,"-",0,60,0,0,0,60,0,0,0,0,0,0,"-","-","-","-","-","-","-","-","-",0,0,0,0,0,0,0,0,0,0,0,0,0,0,"-","-","-","-","-","-","-",0,0,0,0,0,0,0,0,0,0,0,0,0,0,"-","-","-","-","-","-","-",0,0,0,0,0,0,0,0,0,0,0,0,0,0,"-","-",0,"-","-","-","-",0,0,0,0,0,0,0,0,0,0,0,0,"-","-","-",0,0,"-","-","-",0,0,45,0,0,0,28,0,17,0,0,0,0,0,0,"-","-","-",0,0,0,0,0]
["茨城県","08521","八千代町",107,0,0,0,105,2,0,0,0,0,0,0,0,0,0,0,0,0,0,0,0,0,0,0,0,0,0,0,0,0,0,0,"-","-",0,"-","-",0,"-",0,"-",0,100,0,0,0,100,0,0,0,0,0,0,"-","-","-","-","-","-","-","-","-",0,0,0,0,0,0,0,0,0,0,0,0,0,0,"-","-","-","-","-","-","-",0,0,0,0,0,0,0,0,0,0,0,0,0,0,"-","-","-","-","-","-","-",0,0,0,0,0,0,0,0,0,0,0,0,0,0,"-","-",0,"-","-","-","-",0,0,0,0,0,0,0,0,0,0,0,0,"-","-","-",0,0,"-","-","-",0,0,7,0,0,0,5,2,0,0,0,0,0,0,0,"-","-","-",0,0,0,0,0]
["茨城県","08542","五霞町",317,0,0,0,91,52,31,0,0,0,0,0,0,143,0,0,0,0,0,0,0,166,0,0,0,23,0,0,0,0,0,0,"-","-",143,"-","-",0,"-",0,"-",0,151,0,0,0,68,52,31,0,0,0,0,"-","-","-","-","-","-","-","-","-",0,0,0,0,0,0,0,0,0,0,0,0,0,0,"-","-","-","-","-","-","-",0,0,0,0,0,0,0,0,0,0,0,0,0,0,"-","-","-","-","-","-","-",0,0,0,0,0,0,0,0,0,0,0,0,0,0,"-","-",0,"-","-","-","-",0,0,0,0,0,0,0,0,0,0,0,0,"-","-","-",0,0,"-","-","-",0,0,0,0,0,0,0,0,0,0,0,0,0,0,0,"-","-","-",0,0,0,0,0]
["茨城県","08546","境町",697,14,0,0,150,173,32,0,0,0,0,0,0,328,0,0,0,0,0,0,0,328,0,0,0,0,0,0,0,0,0,0,"-","-",328,"-","-",0,"-",0,"-",0,369,14,0,0,150,173,32,0,0,0,0,"-","-","-","-","-","-","-","-","-",0,0,0,0,0,0,0,0,0,0,0,0,0,0,"-","-","-","-","-","-","-",0,0,0,0,0,0,0,0,0,0,0,0,0,0,"-","-","-","-","-","-","-",0,0,0,0,0,0,0,0,0,0,0,0,0,0,"-","-",0,"-","-","-","-",0,0,0,0,0,0,0,0,0,0,0,0,"-","-","-",0,0,"-","-","-",0,0,0,0,0,0,0,0,0,0,0,0,0,0,0,"-","-","-",0,0,0,0,0]
["茨城県","08564","利根町",532,0,0,0,147,0,23,0,0,0,0,0,0,362,0,0,0,0,0,0,0,364,0,0,0,2,0,0,0,0,0,0,"-","-",362,"-","-",0,"-",0,"-",0,114,0,0,0,114,0,0,0,0,0,0,"-","-","-","-","-","-","-","-","-",0,0,0,0,0,0,0,0,0,0,0,0,0,0,"-","-","-","-","-","-","-",0,0,0,0,0,0,0,0,0,0,0,0,0,0,"-","-","-","-","-","-","-",0,0,0,0,0,0,0,0,0,0,0,0,0,0,"-","-",0,"-","-","-","-",0,0,0,0,0,0,0,0,0,0,0,0,"-","-","-",0,0,"-","-","-",0,0,54,0,0,0,31,0,23,0,0,0,0,0,0,"-","-","-",0,0,0,0,0]

{"sheet":"災害廃棄物搬入量","index":6,"n_rows":51,"n_cols":103,"rows_kept":51,"merged":[[1,0,5,0],[1,1,5,1],[1,2,5,2],[1,79,1,86],[2,3,3,3],[2,4,4,4],[2,5,2,12],[2,13,4,13],[2,14,4,14],[2,15,4,15],[2,16,4,16],[2,17,4,17],[2,18,4,18],[2,19,4,19],[2,20,4,20],[2,21,4,21],[2,22,4,22],[2,23,4,23],[2,24,4,24],[2,25,4,25],[2,26,4,26],[2,27,4,27],[2,28,4,28],[2,29,4,29],[2,30,4,30],[2,31,4,31],[2,32,4,32],[2,33,4,33],[2,34,4,34],[2,35,4,35],[2,36,4,36],[2,37,4,37],[2,38,4,38],[2,39,4,39],[2,40,4,40],[2,41,4,41],[2,42,4,42],[2,43,4,43],[2,44,4,44],[2,45,4,45],[2,46,4,46],[2,47,4,47],[2,48,4,48],[2,49,4,49],[2,50,4,50],[2,51,4,51],[2,52,4,52],[2,53,4,53],[2,54,4,54],[2,55,4,55],[2,56,4,56],[2,57,4,57],[2,58,4,58],[2,59,4,59],[2,60,4,60],[2,61,4,61],[2,62,4,62],[2,63,4,63],[2,64,4,64],[2,65,4,65],[2,66,4,66],[2,67,4,67],[2,68,4,68],[2,69,4,69],[2,70,4,70],[2,71,4,71],[2,72,4,72],[2,73,4,73],[2,74,4,74],[2,75,4,75],[2,76,4,76],[2,77,4,77],[2,78,4,78],[2,79,4,79],[2,80,4,80],[2,81,4,81],[2,82,4,82],[2,83,4,83],[2,84,4,84],[2,85,4,85],[2,86,4,86],[2,87,4,87],[2,88,4,88],[2,89,4,89],[2,90,4,90],[2,91,4,91],[2,92,4,92],[2,93,4,93],[2,94,4,94],[2,95,4,95],[2,96,4,96],[2,97,4,97],[2,98,4,98],[2,99,4,99],[2,100,4,100],[2,101,4,101],[2,102,4,102],[3,5,4,5],[3,6,4,6],[3,7,4,7],[3,8,4,8],[3,9,4,9],[3,10,4,10],[3,11,4,11],[3,12,4,12]]}
["災害廃棄物の処理処分状況（平成28年度実績）"]
["都道府県名","地方公共団体コード","市区町村名","災害廃棄物の搬入量(焼却施設+焼却以外の中間処理施設+直接最終処分量+直接資源化量)",{"$nulls":11},"収集区分別の搬入量(がれき類+混合ごみ+可燃ごみ+不燃ごみ+資源ごみ+その他+粗大ごみ)",{"$nulls":7},"焼却施設の搬入量(がれき類+混合ごみ+可燃ごみ+不燃ごみ+資源ごみ+その他+粗大ごみ)",{"$nulls":7},"粗大ごみ処理施設の搬入量(がれき類+混合ごみ+可燃ごみ+不燃ごみ+資源ごみ+その他+粗大ごみ)",{"$nulls":7},"ごみ堆肥化施設の搬入量(がれき類+混合ごみ+可燃ごみ+不燃ごみ+資源ごみ+その他+粗大ごみ)",{"$nulls":7},"ごみ飼料化施設の搬入量(がれき類+混合ごみ+可燃ごみ+不燃ごみ+資源ごみ+その他+粗大ごみ)",{"$nulls":7},"メタン化施設の搬入量(がれき類+混合ごみ+可燃ごみ+不燃ごみ+資源ごみ+その他+粗大ごみ)",{"$nulls":7},"ごみ燃料化施設の搬入量(がれき類+混合ごみ+可燃ごみ+不燃ごみ+資源ごみ+その他+粗大ごみ)",{"$nulls":7},"その他の資源化等を行う施設の搬入量(がれき類+混合ごみ+可燃ごみ+不燃ごみ+資源ごみ+その他+粗大ごみ)",{"$nulls":7},"その他の施設の搬入量(がれき類+混合ごみ+可燃ごみ+不燃ごみ+資源ごみ+その他+粗大ごみ)",{"$nulls":7},"直接最終処分量(がれき類+混合ごみ+可燃ごみ+不燃ごみ+資源ごみ+その他+粗大ごみ)",{"$nulls":7},"直接資源化量(がれき類+混合ごみ+可燃ごみ+不燃ごみ+資源ごみ+その他+粗大ごみ)"]
[{"$nulls":3},"合計","焼却施設","焼却以外の中間処理施設搬入量(粗大ごみ処理施設+ごみ堆肥化施設+ごみ飼料化施設+メタン化施設+ごみ燃料化施設+その他の資源化等を行う施設+その他の施設)",{"$nulls":7},"直接最終処分量","直接資源化量","合計","がれき類","混合ごみ","可燃ごみ","不燃ごみ","資源ごみ","その他","粗大ごみ","合計","がれき類","混合ごみ","可燃ごみ","不燃ごみ","資源ごみ","その他","粗大ごみ","合計","がれき類","混合ごみ","可燃ごみ","不燃ごみ","資源ごみ","その他","粗大ごみ","合計","がれき類","混合ごみ","可燃ごみ","不燃ごみ","資源ごみ","その他","粗大ごみ","合計","がれき類","混合ごみ","可燃ごみ","不燃ごみ","資源ごみ","その他","粗大ごみ","合計","がれき類","混合ごみ","可燃ごみ","不燃ごみ","資源ごみ","その他","粗大ごみ","合計","がれき類","混合ごみ","可燃ごみ","不燃ごみ","資源ごみ","その他","粗大ごみ","合計","がれき類","混合ごみ","可燃ごみ","不燃ごみ","資源ごみ","その他","粗大ごみ","合計","がれき類","混合ごみ","可燃ごみ","不燃ごみ","資源ごみ","その他","粗大ごみ","合計","がれき類","混合ごみ","可燃ごみ","不燃ごみ","資源ごみ","その他","粗大ごみ","合計","がれき類","混合ごみ","可燃ごみ","不燃ごみ","資源ごみ","その他","粗大ごみ"]
[{"$nulls":5},"合計","粗大ごみ処理施設","ごみ堆肥化施設","ごみ飼料化施設","メタン化施設","ごみ燃料化施設","その他の資源化等を行う施設","その他の施設"]
[]
[{"$nulls":3},"（ｔ）","（ｔ）","（ｔ）","（ｔ）","（ｔ）","（ｔ）","（ｔ）","（ｔ）","（ｔ）","（ｔ）","（ｔ）","（ｔ）","（ｔ）","（ｔ）","（ｔ）","（ｔ）","（ｔ）","（ｔ）","（ｔ）","（ｔ）","（ｔ）","（ｔ）","（ｔ）","（ｔ）","（ｔ）","（ｔ）","（ｔ）","（ｔ）","（ｔ）","（ｔ）","（ｔ）","（ｔ）","（ｔ）","（ｔ）","（ｔ）","（ｔ）","（ｔ）","（ｔ）","（ｔ）","（ｔ）","（ｔ）","（ｔ）","（ｔ）","（ｔ）","（ｔ）","（ｔ）","（ｔ）","（ｔ）","（ｔ）","（ｔ）","（ｔ）","（ｔ）","（ｔ）","（ｔ）","（ｔ）","（ｔ）","（ｔ）","（ｔ）","（ｔ）","（ｔ）","（ｔ）","（ｔ）","（ｔ）","（ｔ）","（ｔ）","（ｔ）","（ｔ）","（ｔ）","（ｔ）","（ｔ）","（ｔ）","（ｔ）","（ｔ）","（ｔ）","（ｔ）","（ｔ）","（ｔ）","（ｔ）","（ｔ）","（ｔ）","（ｔ）","（ｔ）","（ｔ）","（ｔ）","（ｔ）","（ｔ）","（ｔ）","（ｔ）","（ｔ）","（ｔ）","（ｔ）","（ｔ）","（ｔ）","（ｔ）","（ｔ）","（ｔ）","（ｔ）","（ｔ）","（ｔ）","（ｔ）"]
[{"$f":"ごみ処理概要!A7","v":"茨城県"},{"$f":"ごみ処理概要!B7","v":"08000"},"合計",{"$f":"SUM(E7,F7,N7,O7)","v":0},{"$f":"X7","v":0},{"$f":"SUM(G7:M7)","v":0},{"$f":"AF7","v":0},{"$f":"AN7","v":0},{"$f":"AV7","v":0},{"$f":"BD7","v":0},{"$f":"BL7","v":0},{"$f":"BT7","v":0},{"$f":"CB7","v":0},{"$f":"CJ7","v":0},{"$f":"CR7","v":0},{"$f":"SUM(Q7:W7)","v":0},{"$f":"0","v":0},{"$f":"0","v":0},{"$f":"0","v":0},{"$f":"0","v":0},{"$f":"0","v":0},{"$f":"0","v":0},{"$f":"0","v":0},{"$f":"SUM(Y7:AE7)","v":0},{"$f":"0","v":0},{"$f":"0","v":0},{"$f":"0","v":0},{"$f":"0","v":0},{"$f":"0","v":0},{"$f":"0","v":0},{"$f":"0","v":0},{"$f":"SUM(AG7:AM7)","v":0},{"$f":"0","v":0},{"$f":"0","v":0},{"$f":"0","v":0},{"$f":"0","v":0},{"$f":"0","v":0},{"$f":"0","v":0},{"$f":"0","v":0},{"$f":"SUM(AO7:AU7)","v":0},{"$f":"0","v":0},{"$f":"0","v":0},{"$f":"0","v":0},{"$f":"0","v":0},{"$f":"0","v":0},{"$f":"0","v":0},{"$f":"0","v":0},{"$f":"SUM(AW7:BC7)","v":0},{"$f":"0","v":0},{"$f":"0","v":0},{"$f":"0","v":0},{"$f":"0","v":0},{"$f":"0","v":0},{"$f":"0","v":0},{"$f":"0","v":0},{"$f":"SUM(BE7:BK7)","v":0},{"$f":"0","v":0},{"$f":"0","v":0},{"$f":"0","v":0},{"$f":"0","v":0},{"$f":"0","v":0},{"$f":"0","v":0},{"$f":"0","v":0},{"$f":"SUM(BM7:BS7)","v":0},{"$f":"0","v":0},{"$f":"0","v":0},{"$f":"0","v":0},{"$f":"0","v":0},{"$f":"0","v":0},{"$f":"0","v":0},{"$f":"0","v":0},{"$f":"SUM(BU7:CA7)","v":0},{"$f":"0","v":0},{"$f":"0","v":0},{"$f":"0","v":0},{"$f":"0","v":0},{"$f":"0","v":0},{"$f":"0","v":0},{"$f":"0","v":0},{"$f":"SUM(CC7:CI7)","v":0},{"$f":"0","v":0},{"$f":"0","v":0},{"$f":"0","v":0},{"$f":"0","v":0},{"$f":"0","v":0},{"$f":"0","v":0},{"$f":"0","v":0},{"$f":"SUM(CK7:CQ7)","v":0},{"$f":"0","v":0},{"$f":"0","v":0},{"$f":"0","v":0},{"$f":"0","v":0},{"$f":"0","v":0},{"$f":"0","v":0},{"$f":"0","v":0},{"$f":"SUM(CS7:CY7)","v":0},{"$f":"0","v":0},{"$f":"0","v":0},{"$f":"0","v":0},{"$f":"0","v":0},{"$f":"0","v":0},{"$f":"0","v":0},{"$f":"0","v":0}]
["茨城県","08201","水戸市",0,0,0,0,0,0,0,0,0,0,0,0,0,{"$f":"0","v":0},{"$f":"0","v":0},{"$f":"0","v":0},{"$f":"0","v":0},{"$f":"0","v":0},{"$f":"0","v":0},{"$f":"0","v":0},0,{"$f":"0","v":0},{"$f":"0","v":0},{"$f":"0","v":0},{"$f":"0","v":0},{"$f":"0","v":0},{"$f":"0","v":0},{"$f":"0","v":0},0,{"$f":"0","v":0},{"$f":"0","v":0},{"$f":"0","v":0},{"$f":"0","v":0},{"$f":"0","v":0},{"$f":"0","v":0},{"$f":"0","v":0},0,{"$f":"0","v":0},{"$f":"0","v":0},{"$f":"0","v":0},{"$f":"0","v":0},{"$f":"0","v":0},{"$f":"0","v":0},{"$f":"0","v":0},0,{"$f":"0","v":0},{"$f":"0","v":0},{"$f":"0","v":0},{"$f":"0","v":0},{"$f":"0","v":0},{"$f":"0","v":0},{"$f":"0","v":0},0,{"$f":"0","v":0},{"$f":"0","v":0},{"$f":"0","v":0},{"$f":"0","v":0},{"$f":"0","v":0},{"$f":"0","v":0},{"$f":"0","v":0},0,{"$f":"0","v":0},{"$f":"0","v":0},{"$f":"0","v":0},{"$f":"0","v":0},{"$f":"0","v":0},{"$f":"0","v":0},{"$f":"0","v":0},0,{"$f":"0","v":0},{"$f":"0","v":0},{"$f":"0","v":0},{"$f":"0","v":0},{"$f":"0","v":0},{"$f":"0","v":0},{"$f":"0","v":0},0,{"$f":"0","v":0},{"$f":"0","v":0},{"$f":"0","v":0},{"$f":"0","v":0},{"$f":"0","v":0},{"$f":"0","v":0},{"$f":"0","v":0},0,{"$f":"0","v":0},{"$f":"0","v":0},{"$f":"0","v":0},{"$f":"0","v":0},{"$f":"0","v":0},{"$f":"0","v":0},{"$f":"0","v":0},0,{"$f":"0","v":0},{"$f":"0","v":0},{"$f":"0","v":0},{"$f":"0","v":0},{"$f":"0","v":0},{"$f":"0","v":0},{"$f":"0","v":0}]
["茨城県","08202","日立市",0,0,0,0,0,0,0,0,0,0,0,0,0,{"$f":"0","v":0},{"$f":"0","v":0},{"$f":"0","v":0},{"$f":"0","v":0},{"$f":"0","v":0},{"$f":"0","v":0},{"$f":"0","v":0},0,{"$f":"0","v":0},{"$f":"0","v":0},{"$f":"0","v":0},{"$f":"0","v":0},{"$f":"0","v":0},{"$f":"0","v":0},{"$f":"0","v":0},0,{"$f":"0","v":0},{"$f":"0","v":0},{"$f":"0","v":0},{"$f":"0","v":0},{"$f":"0","v":0},{"$f":"0","v":0},{"$f":"0","v":0},0,{"$f":"0","v":0},{"$f":"0","v":0},{"$f":"0","v":0},{"$f":"0","v":0},{"$f":"0","v":0},{"$f":"0","v":0},{"$f":"0","v":0},0,{"$f":"0","v":0},{"$f":"0","v":0},{"$f":"0","v":0},{"$f":"0","v":0},{"$f":"0","v":0},{"$f":"0","v":0},{"$f":"0","v":0},0,{"$f":"0","v":0},{"$f":"0","v":0},{"$f":"0","v":0},{"$f":"0","v":0},{"$f":"0","v":0},{"$f":"0","v":0},{"$f":"0","v":0},0,{"$f":"0","v":0},{"$f":"0","v":0},{"$f":"0","v":0},{"$f":"0","v":0},{"$f":"0","v":0},{"$f":"0","v":0},{"$f":"0","v":0},0,{"$f":"0","v":0},{"$f":"0","v":0},{"$f":"0","v":0},{"$f":"0","v":0},{"$f":"0","v":0},{"$f":"0","v":0},{"$f":"0","v":0},0,{"$f":"0","v":0},{"$f":"0","v":0},{"$f":"0","v":0},{"$f":"0","v":0},{"$f":"0","v":0},{"$f":"0","v":0},{"$f":"0","v":0},0,{"$f":"0","v":0},{"$f":"0","v":0},{"$f":"0","v":0},{"$f":"0","v":0},{"$f":"0","v":0},{"$f":"0","v":0},{"$f":"0","v":0},0,{"$f":"0","v":0},{"$f":"0","v":0},{"$f":"0","v":0},{"$f":"0","v":0},{"$f":"0","v":0},{"$f":"0","v":0},{"$f":"0","v":0}]
["茨城県","08203","土浦市",0,0,0,0,0,0,0,0,0,0,0,0,0,{"$f":"0","v":0},{"$f":"0","v":0},{"$f":"0","v":0},{"$f":"0","v":0},{"$f":"0","v":0},{"$f":"0","v":0},{"$f":"0","v":0},0,{"$f":"0","v":0},{"$f":"0","v":0},{"$f":"0","v":0},{"$f":"0","v":0},{"$f":"0","v":0},{"$f":"0","v":0},{"$f":"0","v":0},0,{"$f":"0","v":0},{"$f":"0","v":0},{"$f":"0","v":0},{"$f":"0","v":0},{"$f":"0","v":0},{"$f":"0","v":0},{"$f":"0","v":0},0,{"$f":"0","v":0},{"$f":"0","v":0},{"$f":"0","v":0},{"$f":"0","v":0},{"$f":"0","v":0},{"$f":"0","v":0},{"$f":"0","v":0},0,{"$f":"0","v":0},{"$f":"0","v":0},{"$f":"0","v":0},{"$f":"0","v":0},{"$f":"0","v":0},{"$f":"0","v":0},{"$f":"0","v":0},0,{"$f":"0","v":0},{"$f":"0","v":0},{"$f":"0","v":0},{"$f":"0","v":0},{"$f":"0","v":0},{"$f":"0","v":0},{"$f":"0","v":0},0,{"$f":"0","v":0},{"$f":"0","v":0},{"$f":"0","v":0},{"$f":"0","v":0},{"$f":"0","v":0},{"$f":"0","v":0},{"$f":"0","v":0},0,{"$f":"0","v":0},{"$f":"0","v":0},{"$f":"0","v":0},{"$f":"0","v":0},{"$f":"0","v":0},{"$f":"0","v":0},{"$f":"0","v":0},0,{"$f":"0","v":0},{"$f":"0","v":0},{"$f":"0","v":0},{"$f":"0","v":0},{"$f":"0","v":0},{"$f":"0","v":0},{"$f":"0","v":0},0,{"$f":"0","v":0},{"$f":"0","v":0},{"$f":"0","v":0},{"$f":"0","v":0},{"$f":"0","v":0},{"$f":"0","v":0},{"$f":"0","v":0},0,{"$f":"0","v":0},{"$f":"0","v":0},{"$f":"0","v":0},{"$f":"0","v":0},{"$f":"0","v":0},{"$f":"0","v":0},{"$f":"0","v":0}]
["茨城県","08204","古河市",0,0,0,0,0,0,0,0,0,0,0,0,0,{"$f":"0","v":0},{"$f":"0","v":0},{"$f":"0","v":0},{"$f":"0","v":0},{"$f":"0","v":0},{"$f":"0","v":0},{"$f":"0","v":0},0,{"$f":"0","v":0},{"$f":"0","v":0},{"$f":"0","v":0},{"$f":"0","v":0},{"$f":"0","v":0},{"$f":"0","v":0},{"$f":"0","v":0},0,{"$f":"0","v":0},{"$f":"0","v":0},{"$f":"0","v":0},{"$f":"0","v":0},{"$f":"0","v":0},{"$f":"0","v":0},{"$f":"0","v":0},0,{"$f":"0","v":0},{"$f":"0","v":0},{"$f":"0","v":0},{"$f":"0","v":0},{"$f":"0","v":0},{"$f":"0","v":0},{"$f":"0","v":0},0,{"$f":"0","v":0},{"$f":"0","v":0},{"$f":"0","v":0},{"$f":"0","v":0},{"$f":"0","v":0},{"$f":"0","v":0},{"$f":"0","v":0},0,{"$f":"0","v":0},{"$f":"0","v":0},{"$f":"0","v":0},{"$f":"0","v":0},{"$f":"0","v":0},{"$f":"0","v":0},{"$f":"0","v":0},0,{"$f":"0","v":0},{"$f":"0","v":0},{"$f":"0","v":0},{"$f":"0","v":0},{"$f":"0","v":0},{"$f":"0","v":0},{"$f":"0","v":0},0,{"$f":"0","v":0},{"$f":"0","v":0},{"$f":"0","v":0},{"$f":"0","v":0},{"$f":"0","v":0},{"$f":"0","v":0},{"$f":"0","v":0},0,{"$f":"0","v":0},{"$f":"0","v":0},{"$f":"0","v":0},{"$f":"0","v":0},{"$f":"0","v":0},{"$f":"0","v":0},{"$f":"0","v":0},0,{"$f":"0","v":0},{"$f":"0","v":0},{"$f":"0","v":0},{"$f":"0","v":0},{"$f":"0","v":0},{"$f":"0","v":0},{"$f":"0","v":0},0,{"$f":"0","v":0},{"$f":"0","v":0},{"$f":"0","v":0},{"$f":"0","v":0},{"$f":"0","v":0},{"$f":"0","v":0},{"$f":"0","v":0}]
["茨城県","08205","石岡市",0,0,0,0,0,0,0,0,0,0,0,0,0,{"$f":"0","v":0},{"$f":"0","v":0},{"$f":"0","v":0},{"$f":"0","v":0},{"$f":"0","v":0},{"$f":"0","v":0},{"$f":"0","v":0},0,{"$f":"0","v":0},{"$f":"0","v":0},{"$f":"0","v":0},{"$f":"0","v":0},{"$f":"0","v":0},{"$f":"0","v":0},{"$f":"0","v":0},0,{"$f":"0","v":0},{"$f":"0","v":0},{"$f":"0","v":0},{"$f":"0","v":0},{"$f":"0","v":0},{"$f":"0","v":0},{"$f":"0","v":0},0,{"$f":"0","v":0},{"$f":"0","v":0},{"$f":"0","v":0},{"$f":"0","v":0},{"$f":"0","v":0},{"$f":"0","v":0},{"$f":"0","v":0},0,{"$f":"0","v":0},{"$f":"0","v":0},{"$f":"0","v":0},{"$f":"0","v":0},{"$f":"0","v":0},{"$f":"0","v":0},{"$f":"0","v":0},0,{"$f":"0","v":0},{"$f":"0","v":0},{"$f":"0","v":0},{"$f":"0","v":0},{"$f":"0","v":0},{"$f":"0","v":0},{"$f":"0","v":0},0,{"$f":"0","v":0},{"$f":"0","v":0},{"$f":"0","v":0},{"$f":"0","v":0},{"$f":"0","v":0},{"$f":"0","v":0},{"$f":"0","v":0},0,{"$f":"0","v":0},{"$f":"0","v":0},{"$f":"0","v":0},{"$f":"0","v":0},{"$f":"0","v":0},{"$f":"0","v":0},{"$f":"0","v":0},0,{"$f":"0","v":0},{"$f":"0","v":0},{"$f":"0","v":0},{"$f":"0","v":0},{"$f":"0","v":0},{"$f":"0","v":0},{"$f":"0","v":0},0,{"$f":"0","v":0},{"$f":"0","v":0},{"$f":"0","v":0},{"$f":"0","v":0},{"$f":"0","v":0},{"$f":"0","v":0},{"$f":"0","v":0},0,{"$f":"0","v":0},{"$f":"0","v":0},{"$f":"0","v":0},{"$f":"0","v":0},{"$f":"0","v":0},{"$f":"0","v":0},{"$f":"0","v":0}]
["茨城県","08207","結城市",0,0,0,0,0,0,0,0,0,0,0,0,0,{"$f":"0","v":0},{"$f":"0","v":0},{"$f":"0","v":0},{"$f":"0","v":0},{"$f":"0","v":0},{"$f":"0","v":0},{"$f":"0","v":0},0,{"$f":"0","v":0},{"$f":"0","v":0},{"$f":"0","v":0},{"$f":"0","v":0},{"$f":"0","v":0},{"$f":"0","v":0},{"$f":"0","v":0},0,{"$f":"0","v":0},{"$f":"0","v":0},{"$f":"0","v":0},{"$f":"0","v":0},{"$f":"0","v":0},{"$f":"0","v":0},{"$f":"0","v":0},0,{"$f":"0","v":0},{"$f":"0","v":0},{"$f":"0","v":0},{"$f":"0","v":0},{"$f":"0","v":0},{"$f":"0","v":0},{"$f":"0","v":0},0,{"$f":"0","v":0},{"$f":"0","v":0},{"$f":"0","v":0},{"$f":"0","v":0},{"$f":"0","v":0},{"$f":"0","v":0},{"$f":"0","v":0},0,{"$f":"0","v":0},{"$f":"0","v":0},{"$f":"0","v":0},{"$f":"0","v":0},{"$f":"0","v":0},{"$f":"0","v":0},{"$f":"0","v":0},0,{"$f":"0","v":0},{"$f":"0","v":0},{"$f":"0","v":0},{"$f":"0","v":0},{"$f":"0","v":0},{"$f":"0","v":0},{"$f":"0","v":0},0,{"$f":"0","v":0},{"$f":"0","v":0},{"$f":"0","v":0},{"$f":"0","v":0},{"$f":"0","v":0},{"$f":"0","v":0},{"$f":"0","v":0},0,{"$f":"0","v":0},{"$f":"0","v":0},{"$f":"0","v":0},{"$f":"0","v":0},{"$f":"0","v":0},{"$f":"0","v":0},{"$f":"0","v":0},0,{"$f":"0","v":0},{"$f":"0","v":0},{"$f":"0","v":0},{"$f":"0","v":0},{"$f":"0","v":0},{"$f":"0","v":0},{"$f":"0","v":0},0,{"$f":"0","v":0},{"$f":"0","v":0},{"$f":"0","v":0},{"$f":"0","v":0},{"$f":"0","v":0},{"$f":"0","v":0},{"$f":"0","v":0}]
["茨城県","08208","龍ケ崎市",0,0,0,0,0,0,0,0,0,0,0,0,0,{"$f":"0","v":0},{"$f":"0","v":0},{"$f":"0","v":0},{"$f":"0","v":0},{"$f":"0","v":0},{"$f":"0","v":0},{"$f":"0","v":0},0,{"$f":"0","v":0},{"$f":"0","v":0},{"$f":"0","v":0},{"$f":"0","v":0},{"$f":"0","v":0},{"$f":"0","v":0},{"$f":"0","v":0},0,{"$f":"0","v":0},{"$f":"0","v":0},{"$f":"0","v":0},{"$f":"0","v":0},{"$f":"0","v":0},{"$f":"0","v":0},{"$f":"0","v":0},0,{"$f":"0","v":0},{"$f":"0","v":0},{"$f":"0","v":0},{"$f":"0","v":0},{"$f":"0","v":0},{"$f":"0","v":0},{"$f":"0","v":0},0,{"$f":"0","v":0},{"$f":"0","v":0},{"$f":"0","v":0},{"$f":"0","v":0},{"$f":"0","v":0},{"$f":"0","v":0},{"$f":"0","v":0},0,{"$f":"0","v":0},{"$f":"0","v":0},{"$f":"0","v":0},{"$f":"0","v":0},{"$f":"0","v":0},{"$f":"0","v":0},{"$f":"0","v":0},0,{"$f":"0","v":0},{"$f":"0","v":0},{"$f":"0","v":0},{"$f":"0","v":0},{"$f":"0","v":0},{"$f":"0","v":0},{"$f":"0","v":0},0,{"$f":"0","v":0},{"$f":"0","v":0},{"$f":"0","v":0},{"$f":"0","v":0},{"$f":"0","v":0},{"$f":"0","v":0},{"$f":"0","v":0},0,{"$f":"0","v":0},{"$f":"0","v":0},{"$f":"0","v":0},{"$f":"0","v":0},{"$f":"0","v":0},{"$f":"0","v":0},{"$f":"0","v":0},0,{"$f":"0","v":0},{"$f":"0","v":0},{"$f":"0","v":0},{"$f":"0","v":0},{"$f":"0","v":0},{"$f":"0","v":0},{"$f":"0","v":0},0,{"$f":"0","v":0},{"$f":"0","v":0},{"$f":"0","v":0},{"$f":"0","v":0},{"$f":"0","v":0},{"$f":"0","v":0},{"$f":"0","v":0}]
["茨城県","08210","下妻市",0,0,0,0,0,0,0,0,0,0,0,0,0,{"$f":"0","v":0},{"$f":"0","v":0},{"$f":"0","v":0},{"$f":"0","v":0},{"$f":"0","v":0},{"$f":"0","v":0},{"$f":"0","v":0},0,{"$f":"0","v":0},{"$f":"0","v":0},{"$f":"0","v":0},{"$f":"0","v":0},{"$f":"0","v":0},{"$f":"0","v":0},{"$f":"0","v":0},0,{"$f":"0","v":0},{"$f":"0","v":0},{"$f":"0","v":0},{"$f":"0","v":0},{"$f":"0","v":0},{"$f":"0","v":0},{"$f":"0","v":0},0,{"$f":"0","v":0},{"$f":"0","v":0},{"$f":"0","v":0},{"$f":"0","v":0},{"$f":"0","v":0},{"$f":"0","v":0},{"$f":"0","v":0},0,{"$f":"0","v":0},{"$f":"0","v":0},{"$f":"0","v":0},{"$f":"0","v":0},{"$f":"0","v":0},{"$f":"0","v":0},{"$f":"0","v":0},0,{"$f":"0","v":0},{"$f":"0","v":0},{"$f":"0","v":0},{"$f":"0","v":0},{"$f":"0","v":0},{"$f":"0","v":0},{"$f":"0","v":0},0,{"$f":"0","v":0},{"$f":"0","v":0},{"$f":"0","v":0},{"$f":"0","v":0},{"$f":"0","v":0},{"$f":"0","v":0},{"$f":"0","v":0},0,{"$f":"0","v":0},{"$f":"0","v":0},{"$f":"0","v":0},{"$f":"0","v":0},{"$f":"0","v":0},{"$f":"0","v":0},{"$f":"0","v":0},0,{"$f":"0","v":0},{"$f":"0","v":0},{"$f":"0","v":0},{"$f":"0","v":0},{"$f":"0","v":0},{"$f":"0","v":0},{"$f":"0","v":0},0,{"$f":"0","v":0},{"$f":"0","v":0},{"$f":"0","v":0},{"$f":"0","v":0},{"$f":"0","v":0},{"$f":"0","v":0},{"$f":"0","v":0},0,{"$f":"0","v":0},{"$f":"0","v":0},{"$f":"0","v":0},{"$f":"0","v":0},{"$f":"0","v":0},{"$f":"0","v":0},{"$f":"0","v":0}]
["茨城県","08211","常総市",0,0,0,0,0,0,0,0,0,0,0,0,0,{"$f":"0","v":0},{"$f":"0","v":0},{"$f":"0","v":0},{"$f":"0","v":0},{"$f":"0","v":0},{"$f":"0","v":0},{"$f":"0","v":0},0,{"$f":"0","v":0},{"$f":"0","v":0},{"$f":"0","v":0},{"$f":"0","v":0},{"$f":"0","v":0},{"$f":"0","v":0},{"$f":"0","v":0},0,{"$f":"0","v":0},{"$f":"0","v":0},{"$f":"0","v":0},{"$f":"0","v":0},{"$f":"0","v":0},{"$f":"0","v":0},{"$f":"0","v":0},0,{"$f":"0","v":0},{"$f":"0","v":0},{"$f":"0","v":0},{"$f":"0","v":0},{"$f":"0","v":0},{"$f":"0","v":0},{"$f":"0","v":0},0,{"$f":"0","v":0},{"$f":"0","v":0},{"$f":"0","v":0},{"$f":"0","v":0},{"$f":"0","v":0},{"$f":"0","v":0},{"$f":"0","v":0},0,{"$f":"0","v":0},{"$f":"0","v":0},{"$f":"0","v":0},{"$f":"0","v":0},{"$f":"0","v":0},{"$f":"0","v":0},{"$f":"0","v":0},0,{"$f":"0","v":0},{"$f":"0","v":0},{"$f":"0","v":0},{"$f":"0","v":0},{"$f":"0","v":0},{"$f":"0","v":0},{"$f":"0","v":0},0,{"$f":"0","v":0},{"$f":"0","v":0},{"$f":"0","v":0},{"$f":"0","v":0},{"$f":"0","v":0},{"$f":"0","v":0},{"$f":"0","v":0},0,{"$f":"0","v":0},{"$f":"0","v":0},{"$f":"0","v":0},{"$f":"0","v":0},{"$f":"0","v":0},{"$f":"0","v":0},{"$f":"0","v":0},0,{"$f":"0","v":0},{"$f":"0","v":0},{"$f":"0","v":0},{"$f":"0","v":0},{"$f":"0","v":0},{"$f":"0","v":0},{"$f":"0","v":0},0,{"$f":"0","v":0},{"$f":"0","v":0},{"$f":"0","v":0},{"$f":"0","v":0},{"$f":"0","v":0},{"$f":"0","v":0},{"$f":"0","v":0}]
["茨城県","08212","常陸太田市",0,0,0,0,0,0,0,0,0,0,0,0,0,{"$f":"0","v":0},{"$f":"0","v":0},{"$f":"0","v":0},{"$f":"0","v":0},{"$f":"0","v":0},{"$f":"0","v":0},{"$f":"0","v":0},0,{"$f":"0","v":0},{"$f":"0","v":0},{"$f":"0","v":0},{"$f":"0","v":0},{"$f":"0","v":0},{"$f":"0","v":0},{"$f":"0","v":0},0,{"$f":"0","v":0},{"$f":"0","v":0},{"$f":"0","v":0},{"$f":"0","v":0},{"$f":"0","v":0},{"$f":"0","v":0},{"$f":"0","v":0},0,{"$f":"0","v":0},{"$f":"0","v":0},{"$f":"0","v":0},{"$f":"0","v":0},{"$f":"0","v":0},{"$f":"0","v":0},{"$f":"0","v":0},0,{"$f":"0","v":0},{"$f":"0","v":0},{"$f":"0","v":0},{"$f":"0","v":0},{"$f":"0","v":0},{"$f":"0","v":0},{"$f":"0","v":0},0,{"$f":"0","v":0},{"$f":"0","v":0},{"$f":"0","v":0},{"$f":"0","v":0},{"$f":"0","v":0},{"$f":"0","v":0},{"$f":"0","v":0},0,{"$f":"0","v":0},{"$f":"0","v":0},{"$f":"0","v":0},{"$f":"0","v":0},{"$f":"0","v":0},{"$f":"0","v":0},{"$f":"0","v":0},0,{"$f":"0","v":0},{"$f":"0","v":0},{"$f":"0","v":0},{"$f":"0","v":0},{"$f":"0","v":0},{"$f":"0","v":0},{"$f":"0","v":0},0,{"$f":"0","v":0},{"$f":"0","v":0},{"$f":"0","v":0},{"$f":"0","v":0},{"$f":"0","v":0},{"$f":"0","v":0},{"$f":"0","v":0},0,{"$f":"0","v":0},{"$f":"0","v":0},{"$f":"0","v":0},{"$f":"0","v":0},{"$f":"0","v":0},{"$f":"0","v":0},{"$f":"0","v":0},0,{"$f":"0","v":0},{"$f":"0","v":0},{"$f":"0","v":0},{"$f":"0","v":0},{"$f":"0","v":0},{"$f":"0","v":0},{"$f":"0","v":0}]
["茨城県","08214","高萩市",0,0,0,0,0,0,0,0,0,0,0,0,0,{"$f":"0","v":0},{"$f":"0","v":0},{"$f":"0","v":0},{"$f":"0","v":0},{"$f":"0","v":0},{"$f":"0","v":0},{"$f":"0","v":0},0,{"$f":"0","v":0},{"$f":"0","v":0},{"$f":"0","v":0},{"$f":"0","v":0},{"$f":"0","v":0},{"$f":"0","v":0},{"$f":"0","v":0},0,{"$f":"0","v":0},{"$f":"0","v":0},{"$f":"0","v":0},{"$f":"0","v":0},{"$f":"0","v":0},{"$f":"0","v":0},{"$f":"0","v":0},0,{"$f":"0","v":0},{"$f":"0","v":0},{"$f":"0","v":0},{"$f":"0","v":0},{"$f":"0","v":0},{"$f":"0","v":0},{"$f":"0","v":0},0,{"$f":"0","v":0},{"$f":"0","v":0},{"$f":"0","v":0},{"$f":"0","v":0},{"$f":"0","v":0},{"$f":"0","v":0},{"$f":"0","v":0},0,{"$f":"0","v":0},{"$f":"0","v":0},{"$f":"0","v":0},{"$f":"0","v":0},{"$f":"0","v":0},{"$f":"0","v":0},{"$f":"0","v":0},0,{"$f":"0","v":0},{"$f":"0","v":0},{"$f":"0","v":0},{"$f":"0","v":0},{"$f":"0","v":0},{"$f":"0","v":0},{"$f":"0","v":0},0,{"$f":"0","v":0},{"$f":"0","v":0},{"$f":"0","v":0},{"$f":"0","v":0},{"$f":"0","v":0},{"$f":"0","v":0},{"$f":"0","v":0},0,{"$f":"0","v":0},{"$f":"0","v":0},{"$f":"0","v":0},{"$f":"0","v":0},{"$f":"0","v":0},{"$f":"0","v":0},{"$f":"0","v":0},0,{"$f":"0","v":0},{"$f":"0","v":0},{"$f":"0","v":0},{"$f":"0","v":0},{"$f":"0","v":0},{"$f":"0","v":0},{"$f":"0","v":0},0,{"$f":"0","v":0},{"$f":"0","v":0},{"$f":"0","v":0},{"$f":"0","v":0},{"$f":"0","v":0},{"$f":"0","v":0},{"$f":"0","v":0}]
["茨城県","08215","北茨城市",0,0,0,0,0,0,0,0,0,0,0,0,0,{"$f":"0","v":0},{"$f":"0","v":0},{"$f":"0","v":0},{"$f":"0","v":0},{"$f":"0","v":0},{"$f":"0","v":0},{"$f":"0","v":0},0,{"$f":"0","v":0},{"$f":"0","v":0},{"$f":"0","v":0},{"$f":"0","v":0},{"$f":"0","v":0},{"$f":"0","v":0},{"$f":"0","v":0},0,{"$f":"0","v":0},{"$f":"0","v":0},{"$f":"0","v":0},{"$f":"0","v":0},{"$f":"0","v":0},{"$f":"0","v":0},{"$f":"0","v":0},0,{"$f":"0","v":0},{"$f":"0","v":0},{"$f":"0","v":0},{"$f":"0","v":0},{"$f":"0","v":0},{"$f":"0","v":0},{"$f":"0","v":0},0,{"$f":"0","v":0},{"$f":"0","v":0},{"$f":"0","v":0},{"$f":"0","v":0},{"$f":"0","v":0},{"$f":"0","v":0},{"$f":"0","v":0},0,{"$f":"0","v":0},{"$f":"0","v":0},{"$f":"0","v":0},{"$f":"0","v":0},{"$f":"0","v":0},{"$f":"0","v":0},{"$f":"0","v":0},0,{"$f":"0","v":0},{"$f":"0","v":0},{"$f":"0","v":0},{"$f":"0","v":0},{"$f":"0","v":0},{"$f":"0","v":0},{"$f":"0","v":0},0,{"$f":"0","v":0},{"$f":"0","v":0},{"$f":"0","v":0},{"$f":"0","v":0},{"$f":"0","v":0},{"$f":"0","v":0},{"$f":"0","v":0},0,{"$f":"0","v":0},{"$f":"0","v":0},{"$f":"0","v":0},{"$f":"0","v":0},{"$f":"0","v":0},{"$f":"0","v":0},{"$f":"0","v":0},0,{"$f":"0","v":0},{"$f":"0","v":0},{"$f":"0","v":0},{"$f":"0","v":0},{"$f":"0","v":0},{"$f":"0","v":0},{"$f":"0","v":0},0,{"$f":"0","v":0},{"$f":"0","v":0},{"$f":"0","v":0},{"$f":"0","v":0},{"$f":"0","v":0},{"$f":"0","v":0},{"$f":"0","v":0}]
["茨城県","08216","笠間市",0,0,0,0,0,0,0,0,0,0,0,0,0,{"$f":"0","v":0},{"$f":"0","v":0},{"$f":"0","v":0},{"$f":"0","v":0},{"$f":"0","v":0},{"$f":"0","v":0},{"$f":"0","v":0},0,{"$f":"0","v":0},{"$f":"0","v":0},{"$f":"0","v":0},{"$f":"0","v":0},{"$f":"0","v":0},{"$f":"0","v":0},{"$f":"0","v":0},0,{"$f":"0","v":0},{"$f":"0","v":0},{"$f":"0","v":0},{"$f":"0","v":0},{"$f":"0","v":0},{"$f":"0","v":0},{"$f":"0","v":0},0,{"$f":"0","v":0},{"$f":"0","v":0},{"$f":"0","v":0},{"$f":"0","v":0},{"$f":"0","v":0},{"$f":"0","v":0},{"$f":"0","v":0},0,{"$f":"0","v":0},{"$f":"0","v":0},{"$f":"0","v":0},{"$f":"0","v":0},{"$f":"0","v":0},{"$f":"0","v":0},{"$f":"0","v":0},0,{"$f":"0","v":0},{"$f":"0","v":0},{"$f":"0","v":0},{"$f":"0","v":0},{"$f":"0","v":0},{"$f":"0","v":0},{"$f":"0","v":0},0,{"$f":"0","v":0},{"$f":"0","v":0},{"$f":"0","v":0},{"$f":"0","v":0},{"$f":"0","v":0},{"$f":"0","v":0},{"$f":"0","v":0},0,{"$f":"0","v":0},{"$f":"0","v":0},{"$f":"0","v":0},{"$f":"0","v":0},{"$f":"0","v":0},{"$f":"0","v":0},{"$f":"0","v":0},0,{"$f":"0","v":0},{"$f":"0","v":0},{"$f":"0","v":0},{"$f":"0","v":0},{"$f":"0","v":0},{"$f":"0","v":0},{"$f":"0","v":0},0,{"$f":"0","v":0},{"$f":"0","v":0},{"$f":"0","v":0},{"$f":"0","v":0},{"$f":"0","v":0},{"$f":"0","v":0},{"$f":"0","v":0},0,{"$f":"0","v":0},{"$f":"0","v":0},{"$f":"0","v":0},{"$f":"0","v":0},{"$f":"0","v":0},{"$f":"0","v":0},{"$f":"0","v":0}]
["茨城県","08217","取手市",0,0,0,0,0,0,0,0,0,0,0,0,0,{"$f":"0","v":0},{"$f":"0","v":0},{"$f":"0","v":0},{"$f":"0","v":0},{"$f":"0","v":0},{"$f":"0","v":0},{"$f":"0","v":0},0,{"$f":"0","v":0},{"$f":"0","v":0},{"$f":"0","v":0},{"$f":"0","v":0},{"$f":"0","v":0},{"$f":"0","v":0},{"$f":"0","v":0},0,{"$f":"0","v":0},{"$f":"0","v":0},{"$f":"0","v":0},{"$f":"0","v":0},{"$f":"0","v":0},{"$f":"0","v":0},{"$f":"0","v":0},0,{"$f":"0","v":0},{"$f":"0","v":0},{"$f":"0","v":0},{"$f":"0","v":0},{"$f":"0","v":0},{"$f":"0","v":0},{"$f":"0","v":0},0,{"$f":"0","v":0},{"$f":"0","v":0},{"$f":"0","v":0},{"$f":"0","v":0},{"$f":"0","v":0},{"$f":"0","v":0},{"$f":"0","v":0},0,{"$f":"0","v":0},{"$f":"0","v":0},{"$f":"0","v":0},{"$f":"0","v":0},{"$f":"0","v":0},{"$f":"0","v":0},{"$f":"0","v":0},0,{"$f":"0","v":0},{"$f":"0","v":0},{"$f":"0","v":0},{"$f":"0","v":0},{"$f":"0","v":0},{"$f":"0","v":0},{"$f":"0","v":0},0,{"$f":"0","v":0},{"$f":"0","v":0},{"$f":"0","v":0},{"$f":"0","v":0},{"$f":"0","v":0},{"$f":"0","v":0},{"$f":"0","v":0},0,{"$f":"0","v":0},{"$f":"0","v":0},{"$f":"0","v":0},{"$f":"0","v":0},{"$f":"0","v":0},{"$f":"0","v":0},{"$f":"0","v":0},0,{"$f":"0","v":0},{"$f":"0","v":0},{"$f":"0","v":0},{"$f":"0","v":0},{"$f":"0","v":0},{"$f":"0","v":0},{"$f":"0","v":0},0,{"$f":"0","v":0},{"$f":"0","v":0},{"$f":"0","v":0},{"$f":"0","v":0},{"$f":"0","v":0},{"$f":"0","v":0},{"$f":"0","v":0}]
["茨城県","08219","牛久市",0,0,0,0,0,0,0,0,0,0,0,0,0,{"$f":"0","v":0},{"$f":"0","v":0},{"$f":"0","v":0},{"$f":"0","v":0},{"$f":"0","v":0},{"$f":"0","v":0},{"$f":"0","v":0},0,{"$f":"0","v":0},{"$f":"0","v":0},{"$f":"0","v":0},{"$f":"0","v":0},{"$f":"0","v":0},{"$f":"0","v":0},{"$f":"0","v":0},0,{"$f":"0","v":0},{"$f":"0","v":0},{"$f":"0","v":0},{"$f":"0","v":0},{"$f":"0","v":0},{"$f":"0","v":0},{"$f":"0","v":0},0,{"$f":"0","v":0},{"$f":"0","v":0},{"$f":"0","v":0},{"$f":"0","v":0},{"$f":"0","v":0},{"$f":"0","v":0},{"$f":"0","v":0},0,{"$f":"0","v":0},{"$f":"0","v":0},{"$f":"0","v":0},{"$f":"0","v":0},{"$f":"0","v":0},{"$f":"0","v":0},{"$f":"0","v":0},0,{"$f":"0","v":0},{"$f":"0","v":0},{"$f":"0","v":0},{"$f":"0","v":0},{"$f":"0","v":0},{"$f":"0","v":0},{"$f":"0","v":0},0,{"$f":"0","v":0},{"$f":"0","v":0},{"$f":"0","v":0},{"$f":"0","v":0},{"$f":"0","v":0},{"$f":"0","v":0},{"$f":"0","v":0},0,{"$f":"0","v":0},{"$f":"0","v":0},{"$f":"0","v":0},{"$f":"0","v":0},{"$f":"0","v":0},{"$f":"0","v":0},{"$f":"0","v":0},0,{"$f":"0","v":0},{"$f":"0","v":0},{"$f":"0","v":0},{"$f":"0","v":0},{"$f":"0","v":0},{"$f":"0","v":0},{"$f":"0","v":0},0,{"$f":"0","v":0},{"$f":"0","v":0},{"$f":"0","v":0},{"$f":"0","v":0},{"$f":"0","v":0},{"$f":"0","v":0},{"$f":"0","v":0},0,{"$f":"0","v":0},{"$f":"0","v":0},{"$f":"0","v":0},{"$f":"0","v":0},{"$f":"0","v":0},{"$f":"0","v":0},{"$f":"0","v":0}]
["茨城県","08220","つくば市",0,0,0,0,0,0,0,0,0,0,0,0,0,{"$f":"0","v":0},{"$f":"0","v":0},{"$f":"0","v":0},{"$f":"0","v":0},{"$f":"0","v":0},{"$f":"0","v":0},{"$f":"0","v":0},0,{"$f":"0","v":0},{"$f":"0","v":0},{"$f":"0","v":0},{"$f":"0","v":0},{"$f":"0","v":0},{"$f":"0","v":0},{"$f":"0","v":0},0,{"$f":"0","v":0},{"$f":"0","v":0},{"$f":"0","v":0},{"$f":"0","v":0},{"$f":"0","v":0},{"$f":"0","v":0},{"$f":"0","v":0},0,{"$f":"0","v":0},{"$f":"0","v":0},{"$f":"0","v":0},{"$f":"0","v":0},{"$f":"0","v":0},{"$f":"0","v":0},{"$f":"0","v":0},0,{"$f":"0","v":0},{"$f":"0","v":0},{"$f":"0","v":0},{"$f":"0","v":0},{"$f":"0","v":0},{"$f":"0","v":0},{"$f":"0","v":0},0,{"$f":"0","v":0},{"$f":"0","v":0},{"$f":"0","v":0},{"$f":"0","v":0},{"$f":"0","v":0},{"$f":"0","v":0},{"$f":"0","v":0},0,{"$f":"0","v":0},{"$f":"0","v":0},{"$f":"0","v":0},{"$f":"0","v":0},{"$f":"0","v":0},{"$f":"0","v":0},{"$f":"0","v":0},0,{"$f":"0","v":0},{"$f":"0","v":0},{"$f":"0","v":0},{"$f":"0","v":0},{"$f":"0","v":0},{"$f":"0","v":0},{"$f":"0","v":0},0,{"$f":"0","v":0},{"$f":"0","v":0},{"$f":"0","v":0},{"$f":"0","v":0},{"$f":"0","v":0},{"$f":"0","v":0},{"$f":"0","v":0},0,{"$f":"0","v":0},{"$f":"0","v":0},{"$f":"0","v":0},{"$f":"0","v":0},{"$f":"0","v":0},{"$f":"0","v":0},{"$f":"0","v":0},0,{"$f":"0","v":0},{"$f":"0","v":0},{"$f":"0","v":0},{"$f":"0","v":0},{"$f":"0","v":0},{"$f":"0","v":0},{"$f":"0","v":0}]
["茨城県","08221","ひたちなか市",0,0,0,0,0,0,0,0,0,0,0,0,0,{"$f":"0","v":0},{"$f":"0","v":0},{"$f":"0","v":0},{"$f":"0","v":0},{"$f":"0","v":0},{"$f":"0","v":0},{"$f":"0","v":0},0,{"$f":"0","v":0},{"$f":"0","v":0},{"$f":"0","v":0},{"$f":"0","v":0},{"$f":"0","v":0},{"$f":"0","v":0},{"$f":"0","v":0},0,{"$f":"0","v":0},{"$f":"0","v":0},{"$f":"0","v":0},{"$f":"0","v":0},{"$f":"0","v":0},{"$f":"0","v":0},{"$f":"0","v":0},0,{"$f":"0","v":0},{"$f":"0","v":0},{"$f":"0","v":0},{"$f":"0","v":0},{"$f":"0","v":0},{"$f":"0","v":0},{"$f":"0","v":0},0,{"$f":"0","v":0},{"$f":"0","v":0},{"$f":"0","v":0},{"$f":"0","v":0},{"$f":"0","v":0},{"$f":"0","v":0},{"$f":"0","v":0},0,{"$f":"0","v":0},{"$f":"0","v":0},{"$f":"0","v":0},{"$f":"0","v":0},{"$f":"0","v":0},{"$f":"0","v":0},{"$f":"0","v":0},0,{"$f":"0","v":0},{"$f":"0","v":0},{"$f":"0","v":0},{"$f":"0","v":0},{"$f":"0","v":0},{"$f":"0","v":0},{"$f":"0","v":0},0,{"$f":"0","v":0},{"$f":"0","v":0},{"$f":"0","v":0},{"$f":"0","v":0},{"$f":"0","v":0},{"$f":"0","v":0},{"$f":"0","v":0},0,{"$f":"0","v":0},{"$f":"0","v":0},{"$f":"0","v":0},{"$f":"0","v":0},{"$f":"0","v":0},{"$f":"0","v":0},{"$f":"0","v":0},0,{"$f":"0","v":0},{"$f":"0","v":0},{"$f":"0","v":0},{"$f":"0","v":0},{"$f":"0","v":0},{"$f":"0","v":0},{"$f":"0","v":0},0,{"$f":"0","v":0},{"$f":"0","v":0},{"$f":"0","v":0},{"$f":"0","v":0},{"$f":"0","v":0},{"$f":"0","v":0},{"$f":"0","v":0}]
["茨城県","08222","鹿嶋市",0,0,0,0,0,0,0,0,0,0,0,0,0,{"$f":"0","v":0},{"$f":"0","v":0},{"$f":"0","v":0},{"$f":"0","v":0},{"$f":"0","v":0},{"$f":"0","v":0},{"$f":"0","v":0},0,{"$f":"0","v":0},{"$f":"0","v":0},{"$f":"0","v":0},{"$f":"0","v":0},{"$f":"0","v":0},{"$f":"0","v":0},{"$f":"0","v":0},0,{"$f":"0","v":0},{"$f":"0","v":0},{"$f":"0","v":0},{"$f":"0","v":0},{"$f":"0","v":0},{"$f":"0","v":0},{"$f":"0","v":0},0,{"$f":"0","v":0},{"$f":"0","v":0},{"$f":"0","v":0},{"$f":"0","v":0},{"$f":"0","v":0},{"$f":"0","v":0},{"$f":"0","v":0},0,{"$f":"0","v":0},{"$f":"0","v":0},{"$f":"0","v":0},{"$f":"0","v":0},{"$f":"0","v":0},{"$f":"0","v":0},{"$f":"0","v":0},0,{"$f":"0","v":0},{"$f":"0","v":0},{"$f":"0","v":0},{"$f":"0","v":0},{"$f":"0","v":0},{"$f":"0","v":0},{"$f":"0","v":0},0,{"$f":"0","v":0},{"$f":"0","v":0},{"$f":"0","v":0},{"$f":"0","v":0},{"$f":"0","v":0},{"$f":"0","v":0},{"$f":"0","v":0},0,{"$f":"0","v":0},{"$f":"0","v":0},{"$f":"0","v":0},{"$f":"0","v":0},{"$f":"0","v":0},{"$f":"0","v":0},{"$f":"0","v":0},0,{"$f":"0","v":0},{"$f":"0","v":0},{"$f":"0","v":0},{"$f":"0","v":0},{"$f":"0","v":0},{"$f":"0","v":0},{"$f":"0","v":0},0,{"$f":"0","v":0},{"$f":"0","v":0},{"$f":"0","v":0},{"$f":"0","v":0},{"$f":"0","v":0},{"$f":"0","v":0},{"$f":"0","v":0},0,{"$f":"0","v":0},{"$f":"0","v":0},{"$f":"0","v":0},{"$f":"0","v":0},{"$f":"0","v":0},{"$f":"0","v":0},{"$f":"0","v":0}]
["茨城県","08223","潮来市",0,0,0,0,0,0,0,0,0,0,0,0,0,{"$f":"0","v":0},{"$f":"0","v":0},{"$f":"0","v":0},{"$f":"0","v":0},{"$f":"0","v":0},{"$f":"0","v":0},{"$f":"0","v":0},0,{"$f":"0","v":0},{"$f":"0","v":0},{"$f":"0","v":0},{"$f":"0","v":0},{"$f":"0","v":0},{"$f":"0","v":0},{"$f":"0","v":0},0,{"$f":"0","v":0},{"$f":"0","v":0},{"$f":"0","v":0},{"$f":"0","v":0},{"$f":"0","v":0},{"$f":"0","v":0},{"$f":"0","v":0},0,{"$f":"0","v":0},{"$f":"0","v":0},{"$f":"0","v":0},{"$f":"0","v":0},{"$f":"0","v":0},{"$f":"0","v":0},{"$f":"0","v":0},0,{"$f":"0","v":0},{"$f":"0","v":0},{"$f":"0","v":0},{"$f":"0","v":0},{"$f":"0","v":0},{"$f":"0","v":0},{"$f":"0","v":0},0,{"$f":"0","v":0},{"$f":"0","v":0},{"$f":"0","v":0},{"$f":"0","v":0},{"$f":"0","v":0},{"$f":"0","v":0},{"$f":"0","v":0},0,{"$f":"0","v":0},{"$f":"0","v":0},{"$f":"0","v":0},{"$f":"0","v":0},{"$f":"0","v":0},{"$f":"0","v":0},{"$f":"0","v":0},0,{"$f":"0","v":0},{"$f":"0","v":0},{"$f":"0","v":0},{"$f":"0","v":0},{"$f":"0","v":0},{"$f":"0","v":0},{"$f":"0","v":0},0,{"$f":"0","v":0},{"$f":"0","v":0},{"$f":"0","v":0},{"$f":"0","v":0},{"$f":"0","v":0},{"$f":"0","v":0},{"$f":"0","v":0},0,{"$f":"0","v":0},{"$f":"0","v":0},{"$f":"0","v":0},{"$f":"0","v":0},{"$f":"0","v":0},{"$f":"0","v":0},{"$f":"0","v":0},0,{"$f":"0","v":0},{"$f":"0","v":0},{"$f":"0","v":0},{"$f":"0","v":0},{"$f":"0","v":0},{"$f":"0","v":0},{"$f":"0","v":0}]
["茨城県","08224","守谷市",0,0,0,0,0,0,0,0,0,0,0,0,0,{"$f":"0","v":0},{"$f":"0","v":0},{"$f":"0","v":0},{"$f":"0","v":0},{"$f":"0","v":0},{"$f":"0","v":0},{"$f":"0","v":0},0,{"$f":"0","v":0},{"$f":"0","v":0},{"$f":"0","v":0},{"$f":"0","v":0},{"$f":"0","v":0},{"$f":"0","v":0},{"$f":"0","v":0},0,{"$f":"0","v":0},{"$f":"0","v":0},{"$f":"0","v":0},{"$f":"0","v":0},{"$f":"0","v":0},{"$f":"0","v":0},{"$f":"0","v":0},0,{"$f":"0","v":0},{"$f":"0","v":0},{"$f":"0","v":0},{"$f":"0","v":0},{"$f":"0","v":0},{"$f":"0","v":0},{"$f":"0","v":0},0,{"$f":"0","v":0},{"$f":"0","v":0},{"$f":"0","v":0},{"$f":"0","v":0},{"$f":"0","v":0},{"$f":"0","v":0},{"$f":"0","v":0},0,{"$f":"0","v":0},{"$f":"0","v":0},{"$f":"0","v":0},{"$f":"0","v":0},{"$f":"0","v":0},{"$f":"0","v":0},{"$f":"0","v":0},0,{"$f":"0","v":0},{"$f":"0","v":0},{"$f":"0","v":0},{"$f":"0","v":0},{"$f":"0","v":0},{"$f":"0","v":0},{"$f":"0","v":0},0,{"$f":"0","v":0},{"$f":"0","v":0},{"$f":"0","v":0},{"$f":"0","v":0},{"$f":"0","v":0},{"$f":"0","v":0},{"$f":"0","v":0},0,{"$f":"0","v":0},{"$f":"0","v":0},{"$f":"0","v":0},{"$f":"0","v":0},{"$f":"0","v":0},{"$f":"0","v":0},{"$f":"0","v":0},0,{"$f":"0","v":0},{"$f":"0","v":0},{"$f":"0","v":0},{"$f":"0","v":0},{"$f":"0","v":0},{"$f":"0","v":0},{"$f":"0","v":0},0,{"$f":"0","v":0},{"$f":"0","v":0},{"$f":"0","v":0},{"$f":"0","v":0},{"$f":"0","v":0},{"$f":"0","v":0},{"$f":"0","v":0}]
["茨城県","08225","常陸大宮市",0,0,0,0,0,0,0,0,0,0,0,0,0,{"$f":"0","v":0},{"$f":"0","v":0},{"$f":"0","v":0},{"$f":"0","v":0},{"$f":"0","v":0},{"$f":"0","v":0},{"$f":"0","v":0},0,{"$f":"0","v":0},{"$f":"0","v":0},{"$f":"0","v":0},{"$f":"0","v":0},{"$f":"0","v":0},{"$f":"0","v":0},{"$f":"0","v":0},0,{"$f":"0","v":0},{"$f":"0","v":0},{"$f":"0","v":0},{"$f":"0","v":0},{"$f":"0","v":0},{"$f":"0","v":0},{"$f":"0","v":0},0,{"$f":"0","v":0},{"$f":"0","v":0},{"$f":"0","v":0},{"$f":"0","v":0},{"$f":"0","v":0},{"$f":"0","v":0},{"$f":"0","v":0},0,{"$f":"0","v":0},{"$f":"0","v":0},{"$f":"0","v":0},{"$f":"0","v":0},{"$f":"0","v":0},{"$f":"0","v":0},{"$f":"0","v":0},0,{"$f":"0","v":0},{"$f":"0","v":0},{"$f":"0","v":0},{"$f":"0","v":0},{"$f":"0","v":0},{"$f":"0","v":0},{"$f":"0","v":0},0,{"$f":"0","v":0},{"$f":"0","v":0},{"$f":"0","v":0},{"$f":"0","v":0},{"$f":"0","v":0},{"$f":"0","v":0},{"$f":"0","v":0},0,{"$f":"0","v":0},{"$f":"0","v":0},{"$f":"0","v":0},{"$f":"0","v":0},{"$f":"0","v":0},{"$f":"0","v":0},{"$f":"0","v":0},0,{"$f":"0","v":0},{"$f":"0","v":0},{"$f":"0","v":0},{"$f":"0","v":0},{"$f":"0","v":0},{"$f":"0","v":0},{"$f":"0","v":0},0,{"$f":"0","v":0},{"$f":"0","v":0},{"$f":"0","v":0},{"$f":"0","v":0},{"$f":"0","v":0},{"$f":"0","v":0},{"$f":"0","v":0},0,{"$f":"0","v":0},{"$f":"0","v":0},{"$f":"0","v":0},{"$f":"0","v":0},{"$f":"0","v":0},{"$f":"0","v":0},{"$f":"0","v":0}]
["茨城県","08226","那珂市",0,0,0,0,0,0,0,0,0,0,0,0,0,{"$f":"0","v":0},{"$f":"0","v":0},{"$f":"0","v":0},{"$f":"0","v":0},{"$f":"0","v":0},{"$f":"0","v":0},{"$f":"0","v":0},0,{"$f":"0","v":0},{"$f":"0","v":0},{"$f":"0","v":0},{"$f":"0","v":0},{"$f":"0","v":0},{"$f":"0","v":0},{"$f":"0","v":0},0,{"$f":"0","v":0},{"$f":"0","v":0},{"$f":"0","v":0},{"$f":"0","v":0},{"$f":"0","v":0},{"$f":"0","v":0},{"$f":"0","v":0},0,{"$f":"0","v":0},{"$f":"0","v":0},{"$f":"0","v":0},{"$f":"0","v":0},{"$f":"0","v":0},{"$f":"0","v":0},{"$f":"0","v":0},0,{"$f":"0","v":0},{"$f":"0","v":0},{"$f":"0","v":0},{"$f":"0","v":0},{"$f":"0","v":0},{"$f":"0","v":0},{"$f":"0","v":0},0,{"$f":"0","v":0},{"$f":"0","v":0},{"$f":"0","v":0},{"$f":"0","v":0},{"$f":"0","v":0},{"$f":"0","v":0},{"$f":"0","v":0},0,{"$f":"0","v":0},{"$f":"0","v":0},{"$f":"0","v":0},{"$f":"0","v":0},{"$f":"0","v":0},{"$f":"0","v":0},{"$f":"0","v":0},0,{"$f":"0","v":0},{"$f":"0","v":0},{"$f":"0","v":0},{"$f":"0","v":0},{"$f":"0","v":0},{"$f":"0","v":0},{"$f":"0","v":0},0,{"$f":"0","v":0},{"$f":"0","v":0},{"$f":"0","v":0},{"$f":"0","v":0},{"$f":"0","v":0},{"$f":"0","v":0},{"$f":"0","v":0},0,{"$f":"0","v":0},{"$f":"0","v":0},{"$f":"0","v":0},{"$f":"0","v":0},{"$f":"0","v":0},{"$f":"0","v":0},{"$f":"0","v":0},0,{"$f":"0","v":0},{"$f":"0","v":0},{"$f":"0","v":0},{"$f":"0","v":0},{"$f":"0","v":0},{"$f":"0","v":0},{"$f":"0","v":0}]
["茨城県","08227","筑西市",0,0,0,0,0,0,0,0,0,0,0,0,0,{"$f":"0","v":0},{"$f":"0","v":0},{"$f":"0","v":0},{"$f":"0","v":0},{"$f":"0","v":0},{"$f":"0","v":0},{"$f":"0","v":0},0,{"$f":"0","v":0},{"$f":"0","v":0},{"$f":"0","v":0},{"$f":"0","v":0},{"$f":"0","v":0},{"$f":"0","v":0},{"$f":"0","v":0},0,{"$f":"0","v":0},{"$f":"0","v":0},{"$f":"0","v":0},{"$f":"0","v":0},{"$f":"0","v":0},{"$f":"0","v":0},{"$f":"0","v":0},0,{"$f":"0","v":0},{"$f":"0","v":0},{"$f":"0","v":0},{"$f":"0","v":0},{"$f":"0","v":0},{"$f":"0","v":0},{"$f":"0","v":0},0,{"$f":"0","v":0},{"$f":"0","v":0},{"$f":"0","v":0},{"$f":"0","v":0},{"$f":"0","v":0},{"$f":"0","v":0},{"$f":"0","v":0},0,{"$f":"0","v":0},{"$f":"0","v":0},{"$f":"0","v":0},{"$f":"0","v":0},{"$f":"0","v":0},{"$f":"0","v":0},{"$f":"0","v":0},0,{"$f":"0","v":0},{"$f":"0","v":0},{"$f":"0","v":0},{"$f":"0","v":0},{"$f":"0","v":0},{"$f":"0","v":0},{"$f":"0","v":0},0,{"$f":"0","v":0},{"$f":"0","v":0},{"$f":"0","v":0},{"$f":"0","v":0},{"$f":"0","v":0},{"$f":"0","v":0},{"$f":"0","v":0},0,{"$f":"0","v":0},{"$f":"0","v":0},{"$f":"0","v":0},{"$f":"0","v":0},{"$f":"0","v":0},{"$f":"0","v":0},{"$f":"0","v":0},0,{"$f":"0","v":0},{"$f":"0","v":0},{"$f":"0","v":0},{"$f":"0","v":0},{"$f":"0","v":0},{"$f":"0","v":0},{"$f":"0","v":0},0,{"$f":"0","v":0},{"$f":"0","v":0},{"$f":"0","v":0},{"$f":"0","v":0},{"$f":"0","v":0},{"$f":"0","v":0},{"$f":"0","v":0}]
["茨城県","08228","坂東市",0,0,0,0,0,0,0,0,0,0,0,0,0,{"$f":"0","v":0},{"$f":"0","v":0},{"$f":"0","v":0},{"$f":"0","v":0},{"$f":"0","v":0},{"$f":"0","v":0},{"$f":"0","v":0},0,{"$f":"0","v":0},{"$f":"0","v":0},{"$f":"0","v":0},{"$f":"0","v":0},{"$f":"0","v":0},{"$f":"0","v":0},{"$f":"0","v":0},0,{"$f":"0","v":0},{"$f":"0","v":0},{"$f":"0","v":0},{"$f":"0","v":0},{"$f":"0","v":0},{"$f":"0","v":0},{"$f":"0","v":0},0,{"$f":"0","v":0},{"$f":"0","v":0},{"$f":"0","v":0},{"$f":"0","v":0},{"$f":"0","v":0},{"$f":"0","v":0},{"$f":"0","v":0},0,{"$f":"0","v":0},{"$f":"0","v":0},{"$f":"0","v":0},{"$f":"0","v":0},{"$f":"0","v":0},{"$f":"0","v":0},{"$f":"0","v":0},0,{"$f":"0","v":0},{"$f":"0","v":0},{"$f":"0","v":0},{"$f":"0","v":0},{"$f":"0","v":0},{"$f":"0","v":0},{"$f":"0","v":0},0,{"$f":"0","v":0},{"$f":"0","v":0},{"$f":"0","v":0},{"$f":"0","v":0},{"$f":"0","v":0},{"$f":"0","v":0},{"$f":"0","v":0},0,{"$f":"0","v":0},{"$f":"0","v":0},{"$f":"0","v":0},{"$f":"0","v":0},{"$f":"0","v":0},{"$f":"0","v":0},{"$f":"0","v":0},0,{"$f":"0","v":0},{"$f":"0","v":0},{"$f":"0","v":0},{"$f":"0","v":0},{"$f":"0","v":0},{"$f":"0","v":0},{"$f":"0","v":0},0,{"$f":"0","v":0},{"$f":"0","v":0},{"$f":"0","v":0},{"$f":"0","v":0},{"$f":"0","v":0},{"$f":"0","v":0},{"$f":"0","v":0},0,{"$f":"0","v":0},{"$f":"0","v":0},{"$f":"0","v":0},{"$f":"0","v":0},{"$f":"0","v":0},{"$f":"0","v":0},{"$f":"0","v":0}]
["茨城県","08229","稲敷市",0,0,0,0,0,0,0,0,0,0,0,0,0,{"$f":"0","v":0},{"$f":"0","v":0},{"$f":"0","v":0},{"$f":"0","v":0},{"$f":"0","v":0},{"$f":"0","v":0},{"$f":"0","v":0},0,{"$f":"0","v":0},{"$f":"0","v":0},{"$f":"0","v":0},{"$f":"0","v":0},{"$f":"0","v":0},{"$f":"0","v":0},{"$f":"0","v":0},0,{"$f":"0","v":0},{"$f":"0","v":0},{"$f":"0","v":0},{"$f":"0","v":0},{"$f":"0","v":0},{"$f":"0","v":0},{"$f":"0","v":0},0,{"$f":"0","v":0},{"$f":"0","v":0},{"$f":"0","v":0},{"$f":"0","v":0},{"$f":"0","v":0},{"$f":"0","v":0},{"$f":"0","v":0},0,{"$f":"0","v":0},{"$f":"0","v":0},{"$f":"0","v":0},{"$f":"0","v":0},{"$f":"0","v":0},{"$f":"0","v":0},{"$f":"0","v":0},0,{"$f":"0","v":0},{"$f":"0","v":0},{"$f":"0","v":0},{"$f":"0","v":0},{"$f":"0","v":0},{"$f":"0","v":0},{"$f":"0","v":0},0,{"$f":"0","v":0},{"$f":"0","v":0},{"$f":"0","v":0},{"$f":"0","v":0},{"$f":"0","v":0},{"$f":"0","v":0},{"$f":"0","v":0},0,{"$f":"0","v":0},{"$f":"0","v":0},{"$f":"0","v":0},{"$f":"0","v":0},{"$f":"0","v":0},{"$f":"0","v":0},{"$f":"0","v":0},0,{"$f":"0","v":0},{"$f":"0","v":0},{"$f":"0","v":0},{"$f":"0","v":0},{"$f":"0","v":0},{"$f":"0","v":0},{"$f":"0","v":0},0,{"$f":"0","v":0},{"$f":"0","v":0},{"$f":"0","v":0},{"$f":"0","v":0},{"$f":"0","v":0},{"$f":"0","v":0},{"$f":"0","v":0},0,{"$f":"0","v":0},{"$f":"0","v":0},{"$f":"0","v":0},{"$f":"0","v":0},{"$f":"0","v":0},{"$f":"0","v":0},{"$f":"0","v":0}]
["茨城県","08230","かすみがうら市",0,0,0,0,0,0,0,0,0,0,0,0,0,{"$f":"0","v":0},{"$f":"0","v":0},{"$f":"0","v":0},{"$f":"0","v":0},{"$f":"0","v":0},{"$f":"0","v":0},{"$f":"0","v":0},0,{"$f":"0","v":0},{"$f":"0","v":0},{"$f":"0","v":0},{"$f":"0","v":0},{"$f":"0","v":0},{"$f":"0","v":0},{"$f":"0","v":0},0,{"$f":"0","v":0},{"$f":"0","v":0},{"$f":"0","v":0},{"$f":"0","v":0},{"$f":"0","v":0},{"$f":"0","v":0},{"$f":"0","v":0},0,{"$f":"0","v":0},{"$f":"0","v":0},{"$f":"0","v":0},{"$f":"0","v":0},{"$f":"0","v":0},{"$f":"0","v":0},{"$f":"0","v":0},0,{"$f":"0","v":0},{"$f":"0","v":0},{"$f":"0","v":0},{"$f":"0","v":0},{"$f":"0","v":0},{"$f":"0","v":0},{"$f":"0","v":0},0,{"$f":"0","v":0},{"$f":"0","v":0},{"$f":"0","v":0},{"$f":"0","v":0},{"$f":"0","v":0},{"$f":"0","v":0},{"$f":"0","v":0},0,{"$f":"0","v":0},{"$f":"0","v":0},{"$f":"0","v":0},{"$f":"0","v":0},{"$f":"0","v":0},{"$f":"0","v":0},{"$f":"0","v":0},0,{"$f":"0","v":0},{"$f":"0","v":0},{"$f":"0","v":0},{"$f":"0","v":0},{"$f":"0","v":0},{"$f":"0","v":0},{"$f":"0","v":0},0,{"$f":"0","v":0},{"$f":"0","v":0},{"$f":"0","v":0},{"$f":"0","v":0},{"$f":"0","v":0},{"$f":"0","v":0},{"$f":"0","v":0},0,{"$f":"0","v":0},{"$f":"0","v":0},{"$f":"0","v":0},{"$f":"0","v":0},{"$f":"0","v":0},{"$f":"0","v":0},{"$f":"0","v":0},0,{"$f":"0","v":0},{"$f":"0","v":0},{"$f":"0","v":0},{"$f":"0","v":0},{"$f":"0","v":0},{"$f":"0","v":0},{"$f":"0","v":0}]
["茨城県","08231","桜川市",0,0,0,0,0,0,0,0,0,0,0,0,0,{"$f":"0","v":0},{"$f":"0","v":0},{"$f":"0","v":0},{"$f":"0","v":0},{"$f":"0","v":0},{"$f":"0","v":0},{"$f":"0","v":0},0,{"$f":"0","v":0},{"$f":"0","v":0},{"$f":"0","v":0},{"$f":"0","v":0},{"$f":"0","v":0},{"$f":"0","v":0},{"$f":"0","v":0},0,{"$f":"0","v":0},{"$f":"0","v":0},{"$f":"0","v":0},{"$f":"0","v":0},{"$f":"0","v":0},{"$f":"0","v":0},{"$f":"0","v":0},0,{"$f":"0","v":0},{"$f":"0","v":0},{"$f":"0","v":0},{"$f":"0","v":0},{"$f":"0","v":0},{"$f":"0","v":0},{"$f":"0","v":0},0,{"$f":"0","v":0},{"$f":"0","v":0},{"$f":"0","v":0},{"$f":"0","v":0},{"$f":"0","v":0},{"$f":"0","v":0},{"$f":"0","v":0},0,{"$f":"0","v":0},{"$f":"0","v":0},{"$f":"0","v":0},{"$f":"0","v":0},{"$f":"0","v":0},{"$f":"0","v":0},{"$f":"0","v":0},0,{"$f":"0","v":0},{"$f":"0","v":0},{"$f":"0","v":0},{"$f":"0","v":0},{"$f":"0","v":0},{"$f":"0","v":0},{"$f":"0","v":0},0,{"$f":"0","v":0},{"$f":"0","v":0},{"$f":"0","v":0},{"$f":"0","v":0},{"$f":"0","v":0},{"$f":"0","v":0},{"$f":"0","v":0},0,{"$f":"0","v":0},{"$f":"0","v":0},{"$f":"0","v":0},{"$f":"0","v":0},{"$f":"0","v":0},{"$f":"0","v":0},{"$f":"0","v":0},0,{"$f":"0","v":0},{"$f":"0","v":0},{"$f":"0","v":0},{"$f":"0","v":0},{"$f":"0","v":0},{"$f":"0","v":0},{"$f":"0","v":0},0,{"$f":"0","v":0},{"$f":"0","v":0},{"$f":"0","v":0},{"$f":"0","v":0},{"$f":"0","v":0},{"$f":"0","v":0},{"$f":"0","v":0}]
["茨城県","08232","神栖市",0,0,0,0,0,0,0,0,0,0,0,0,0,{"$f":"0","v":0},{"$f":"0","v":0},{"$f":"0","v":0},{"$f":"0","v":0},{"$f":"0","v":0},{"$f":"0","v":0},{"$f":"0","v":0},0,{"$f":"0","v":0},{"$f":"0","v":0},{"$f":"0","v":0},{"$f":"0","v":0},{"$f":"0","v":0},{"$f":"0","v":0},{"$f":"0","v":0},0,{"$f":"0","v":0},{"$f":"0","v":0},{"$f":"0","v":0},{"$f":"0","v":0},{"$f":"0","v":0},{"$f":"0","v":0},{"$f":"0","v":0},0,{"$f":"0","v":0},{"$f":"0","v":0},{"$f":"0","v":0},{"$f":"0","v":0},{"$f":"0","v":0},{"$f":"0","v":0},{"$f":"0","v":0},0,{"$f":"0","v":0},{"$f":"0","v":0},{"$f":"0","v":0},{"$f":"0","v":0},{"$f":"0","v":0},{"$f":"0","v":0},{"$f":"0","v":0},0,{"$f":"0","v":0},{"$f":"0","v":0},{"$f":"0","v":0},{"$f":"0","v":0},{"$f":"0","v":0},{"$f":"0","v":0},{"$f":"0","v":0},0,{"$f":"0","v":0},{"$f":"0","v":0},{"$f":"0","v":0},{"$f":"0","v":0},{"$f":"0","v":0},{"$f":"0","v":0},{"$f":"0","v":0},0,{"$f":"0","v":0},{"$f":"0","v":0},{"$f":"0","v":0},{"$f":"0","v":0},{"$f":"0","v":0},{"$f":"0","v":0},{"$f":"0","v":0},0,{"$f":"0","v":0},{"$f":"0","v":0},{"$f":"0","v":0},{"$f":"0","v":0},{"$f":"0","v":0},{"$f":"0","v":0},{"$f":"0","v":0},0,{"$f":"0","v":0},{"$f":"0","v":0},{"$f":"0","v":0},{"$f":"0","v":0},{"$f":"0","v":0},{"$f":"0","v":0},{"$f":"0","v":0},0,{"$f":"0","v":0},{"$f":"0","v":0},{"$f":"0","v":0},{"$f":"0","v":0},{"$f":"0","v":0},{"$f":"0","v":0},{"$f":"0","v":0}]
["茨城県","08233","行方市",0,0,0,0,0,0,0,0,0,0,0,0,0,{"$f":"0","v":0},{"$f":"0","v":0},{"$f":"0","v":0},{"$f":"0","v":0},{"$f":"0","v":0},{"$f":"0","v":0},{"$f":"0","v":0},0,{"$f":"0","v":0},{"$f":"0","v":0},{"$f":"0","v":0},{"$f":"0","v":0},{"$f":"0","v":0},{"$f":"0","v":0},{"$f":"0","v":0},0,{"$f":"0","v":0},{"$f":"0","v":0},{"$f":"0","v":0},{"$f":"0","v":0},{"$f":"0","v":0},{"$f":"0","v":0},{"$f":"0","v":0},0,{"$f":"0","v":0},{"$f":"0","v":0},{"$f":"0","v":0},{"$f":"0","v":0},{"$f":"0","v":0},{"$f":"0","v":0},{"$f":"0","v":0},0,{"$f":"0","v":0},{"$f":"0","v":0},{"$f":"0","v":0},{"$f":"0","v":0},{"$f":"0","v":0},{"$f":"0","v":0},{"$f":"0","v":0},0,{"$f":"0","v":0},{"$f":"0","v":0},{"$f":"0","v":0},{"$f":"0","v":0},{"$f":"0","v":0},{"$f":"0","v":0},{"$f":"0","v":0},0,{"$f":"0","v":0},{"$f":"0","v":0},{"$f":"0","v":0},{"$f":"0","v":0},{"$f":"0","v":0},{"$f":"0","v":0},{"$f":"0","v":0},0,{"$f":"0","v":0},{"$f":"0","v":0},{"$f":"0","v":0},{"$f":"0","v":0},{"$f":"0","v":0},{"$f":"0","v":0},{"$f":"0","v":0},0,{"$f":"0","v":0},{"$f":"0","v":0},{"$f":"0","v":0},{"$f":"0","v":0},{"$f":"0","v":0},{"$f":"0","v":0},{"$f":"0","v":0},0,{"$f":"0","v":0},{"$f":"0","v":0},{"$f":"0","v":0},{"$f":"0","v":0},{"$f":"0","v":0},{"$f":"0","v":0},{"$f":"0","v":0},0,{"$f":"0","v":0},{"$f":"0","v":0},{"$f":"0","v":0},{"$f":"0","v":0},{"$f":"0","v":0},{"$f":"0","v":0},{"$f":"0","v":0}]
["茨城県","08234","鉾田市",0,0,0,0,0,0,0,0,0,0,0,0,0,{"$f":"0","v":0},{"$f":"0","v":0},{"$f":"0","v":0},{"$f":"0","v":0},{"$f":"0","v":0},{"$f":"0","v":0},{"$f":"0","v":0},0,{"$f":"0","v":0},{"$f":"0","v":0},{"$f":"0","v":0},{"$f":"0","v":0},{"$f":"0","v":0},{"$f":"0","v":0},{"$f":"0","v":0},0,{"$f":"0","v":0},{"$f":"0","v":0},{"$f":"0","v":0},{"$f":"0","v":0},{"$f":"0","v":0},{"$f":"0","v":0},{"$f":"0","v":0},0,{"$f":"0","v":0},{"$f":"0","v":0},{"$f":"0","v":0},{"$f":"0","v":0},{"$f":"0","v":0},{"$f":"0","v":0},{"$f":"0","v":0},0,{"$f":"0","v":0},{"$f":"0","v":0},{"$f":"0","v":0},{"$f":"0","v":0},{"$f":"0","v":0},{"$f":"0","v":0},{"$f":"0","v":0},0,{"$f":"0","v":0},{"$f":"0","v":0},{"$f":"0","v":0},{"$f":"0","v":0},{"$f":"0","v":0},{"$f":"0","v":0},{"$f":"0","v":0},0,{"$f":"0","v":0},{"$f":"0","v":0},{"$f":"0","v":0},{"$f":"0","v":0},{"$f":"0","v":0},{"$f":"0","v":0},{"$f":"0","v":0},0,{"$f":"0","v":0},{"$f":"0","v":0},{"$f":"0","v":0},{"$f":"0","v":0},{"$f":"0","v":0},{"$f":"0","v":0},{"$f":"0","v":0},0,{"$f":"0","v":0},{"$f":"0","v":0},{"$f":"0","v":0},{"$f":"0","v":0},{"$f":"0","v":0},{"$f":"0","v":0},{"$f":"0","v":0},0,{"$f":"0","v":0},{"$f":"0","v":0},{"$f":"0","v":0},{"$f":"0","v":0},{"$f":"0","v":0},{"$f":"0","v":0},{"$f":"0","v":0},0,{"$f":"0","v":0},{"$f":"0","v":0},{"$f":"0","v":0},{"$f":"0","v":0},{"$f":"0","v":0},{"$f":"0","v":0},{"$f":"0","v":0}]
["茨城県","08235","つくばみらい市",0,0,0,0,0,0,0,0,0,0,0,0,0,{"$f":"0","v":0},{"$f":"0","v":0},{"$f":"0","v":0},{"$f":"0","v":0},{"$f":"0","v":0},{"$f":"0","v":0},{"$f":"0","v":0},0,{"$f":"0","v":0},{"$f":"0","v":0},{"$f":"0","v":0},{"$f":"0","v":0},{"$f":"0","v":0},{"$f":"0","v":0},{"$f":"0","v":0},0,{"$f":"0","v":0},{"$f":"0","v":0},{"$f":"0","v":0},{"$f":"0","v":0},{"$f":"0","v":0},{"$f":"0","v":0},{"$f":"0","v":0},0,{"$f":"0","v":0},{"$f":"0","v":0},{"$f":"0","v":0},{"$f":"0","v":0},{"$f":"0","v":0},{"$f":"0","v":0},{"$f":"0","v":0},0,{"$f":"0","v":0},{"$f":"0","v":0},{"$f":"0","v":0},{"$f":"0","v":0},{"$f":"0","v":0},{"$f":"0","v":0},{"$f":"0","v":0},0,{"$f":"0","v":0},{"$f":"0","v":0},{"$f":"0","v":0},{"$f":"0","v":0},{"$f":"0","v":0},{"$f":"0","v":0},{"$f":"0","v":0},0,{"$f":"0","v":0},{"$f":"0","v":0},{"$f":"0","v":0},{"$f":"0","v":0},{"$f":"0","v":0},{"$f":"0","v":0},{"$f":"0","v":0},0,{"$f":"0","v":0},{"$f":"0","v":0},{"$f":"0","v":0},{"$f":"0","v":0},{"$f":"0","v":0},{"$f":"0","v":0},{"$f":"0","v":0},0,{"$f":"0","v":0},{"$f":"0","v":0},{"$f":"0","v":0},{"$f":"0","v":0},{"$f":"0","v":0},{"$f":"0","v":0},{"$f":"0","v":0},0,{"$f":"0","v":0},{"$f":"0","v":0},{"$f":"0","v":0},{"$f":"0","v":0},{"$f":"0","v":0},{"$f":"0","v":0},{"$f":"0","v":0},0,{"$f":"0","v":0},{"$f":"0","v":0},{"$f":"0","v":0},{"$f":"0","v":0},{"$f":"0","v":0},{"$f":"0","v":0},{"$f":"0","v":0}]
["茨城県","08236","小美玉市",0,0,0,0,0,0,0,0,0,0,0,0,0,{"$f":"0","v":0},{"$f":"0","v":0},{"$f":"0","v":0},{"$f":"0","v":0},{"$f":"0","v":0},{"$f":"0","v":0},{"$f":"0","v":0},0,{"$f":"0","v":0},{"$f":"0","v":0},{"$f":"0","v":0},{"$f":"0","v":0},{"$f":"0","v":0},{"$f":"0","v":0},{"$f":"0","v":0},0,{"$f":"0","v":0},{"$f":"0","v":0},{"$f":"0","v":0},{"$f":"0","v":0},{"$f":"0","v":0},{"$f":"0","v":0},{"$f":"0","v":0},0,{"$f":"0","v":0},{"$f":"0","v":0},{"$f":"0","v":0},{"$f":"0","v":0},{"$f":"0","v":0},{"$f":"0","v":0},{"$f":"0","v":0},0,{"$f":"0","v":0},{"$f":"0","v":0},{"$f":"0","v":0},{"$f":"0","v":0},{"$f":"0","v":0},{"$f":"0","v":0},{"$f":"0","v":0},0,{"$f":"0","v":0},{"$f":"0","v":0},{"$f":"0","v":0},{"$f":"0","v":0},{"$f":"0","v":0},{"$f":"0","v":0},{"$f":"0","v":0},0,{"$f":"0","v":0},{"$f":"0","v":0},{"$f":"0","v":0},{"$f":"0","v":0},{"$f":"0","v":0},{"$f":"0","v":0},{"$f":"0","v":0},0,{"$f":"0","v":0},{"$f":"0","v":0},{"$f":"0","v":0},{"$f":"0","v":0},{"$f":"0","v":0},{"$f":"0","v":0},{"$f":"0","v":0},0,{"$f":"0","v":0},{"$f":"0","v":0},{"$f":"0","v":0},{"$f":"0","v":0},{"$f":"0","v":0},{"$f":"0","v":0},{"$f":"0","v":0},0,{"$f":"0","v":0},{"$f":"0","v":0},{"$f":"0","v":0},{"$f":"0","v":0},{"$f":"0","v":0},{"$f":"0","v":0},{"$f":"0","v":0},0,{"$f":"0","v":0},{"$f":"0","v":0},{"$f":"0","v":0},{"$f":"0","v":0},{"$f":"0","v":0},{"$f":"0","v":0},{"$f":"0","v":0}]
["茨城県","08302","茨城町",0,0,0,0,0,0,0,0,0,0,0,0,0,{"$f":"0","v":0},{"$f":"0","v":0},{"$f":"0","v":0},{"$f":"0","v":0},{"$f":"0","v":0},{"$f":"0","v":0},{"$f":"0","v":0},0,{"$f":"0","v":0},{"$f":"0","v":0},{"$f":"0","v":0},{"$f":"0","v":0},{"$f":"0","v":0},{"$f":"0","v":0},{"$f":"0","v":0},0,{"$f":"0","v":0},{"$f":"0","v":0},{"$f":"0","v":0},{"$f":"0","v":0},{"$f":"0","v":0},{"$f":"0","v":0},{"$f":"0","v":0},0,{"$f":"0","v":0},{"$f":"0","v":0},{"$f":"0","v":0},{"$f":"0","v":0},{"$f":"0","v":0},{"$f":"0","v":0},{"$f":"0","v":0},0,{"$f":"0","v":0},{"$f":"0","v":0},{"$f":"0","v":0},{"$f":"0","v":0},{"$f":"0","v":0},{"$f":"0","v":0},{"$f":"0","v":0},0,{"$f":"0","v":0},{"$f":"0","v":0},{"$f":"0","v":0},{"$f":"0","v":0},{"$f":"0","v":0},{"$f":"0","v":0},{"$f":"0","v":0},0,{"$f":"0","v":0},{"$f":"0","v":0},{"$f":"0","v":0},{"$f":"0","v":0},{"$f":"0","v":0},{"$f":"0","v":0},{"$f":"0","v":0},0,{"$f":"0","v":0},{"$f":"0","v":0},{"$f":"0","v":0},{"$f":"0","v":0},{"$f":"0","v":0},{"$f":"0","v":0},{"$f":"0","v":0},0,{"$f":"0","v":0},{"$f":"0","v":0},{"$f":"0","v":0},{"$f":"0","v":0},{"$f":"0","v":0},{"$f":"0","v":0},{"$f":"0","v":0},0,{"$f":"0","v":0},{"$f":"0","v":0},{"$f":"0","v":0},{"$f":"0","v":0},{"$f":"0","v":0},{"$f":"0","v":0},{"$f":"0","v":0},0,{"$f":"0","v":0},{"$f":"0","v":0},{"$f":"0","v":0},{"$f":"0","v":0},{"$f":"0","v":0},{"$f":"0","v":0},{"$f":"0","v":0}]
["茨城県","08309","大洗町",0,0,0,0,0,0,0,0,0,0,0,0,0,{"$f":"0","v":0},{"$f":"0","v":0},{"$f":"0","v":0},{"$f":"0","v":0},{"$f":"0","v":0},{"$f":"0","v":0},{"$f":"0","v":0},0,{"$f":"0","v":0},{"$f":"0","v":0},{"$f":"0","v":0},{"$f":"0","v":0},{"$f":"0","v":0},{"$f":"0","v":0},{"$f":"0","v":0},0,{"$f":"0","v":0},{"$f":"0","v":0},{"$f":"0","v":0},{"$f":"0","v":0},{"$f":"0","v":0},{"$f":"0","v":0},{"$f":"0","v":0},0,{"$f":"0","v":0},{"$f":"0","v":0},{"$f":"0","v":0},{"$f":"0","v":0},{"$f":"0","v":0},{"$f":"0","v":0},{"$f":"0","v":0},0,{"$f":"0","v":0},{"$f":"0","v":0},{"$f":"0","v":0},{"$f":"0","v":0},{"$f":"0","v":0},{"$f":"0","v":0},{"$f":"0","v":0},0,{"$f":"0","v":0},{"$f":"0","v":0},{"$f":"0","v":0},{"$f":"0","v":0},{"$f":"0","v":0},{"$f":"0","v":0},{"$f":"0","v":0},0,{"$f":"0","v":0},{"$f":"0","v":0},{"$f":"0","v":0},{"$f":"0","v":0},{"$f":"0","v":0},{"$f":"0","v":0},{"$f":"0","v":0},0,{"$f":"0","v":0},{"$f":"0","v":0},{"$f":"0","v":0},{"$f":"0","v":0},{"$f":"0","v":0},{"$f":"0","v":0},{"$f":"0","v":0},0,{"$f":"0","v":0},{"$f":"0","v":0},{"$f":"0","v":0},{"$f":"0","v":0},{"$f":"0","v":0},{"$f":"0","v":0},{"$f":"0","v":0},0,{"$f":"0","v":0},{"$f":"0","v":0},{"$f":"0","v":0},{"$f":"0","v":0},{"$f":"0","v":0},{"$f":"0","v":0},{"$f":"0","v":0},0,{"$f":"0","v":0},{"$f":"0","v":0},{"$f":"0","v":0},{"$f":"0","v":0},{"$f":"0","v":0},{"$f":"0","v":0},{"$f":"0","v":0}]
["茨城県","08310","城里町",0,0,0,0,0,0,0,0,0,0,0,0,0,{"$f":"0","v":0},{"$f":"0","v":0},{"$f":"0","v":0},{"$f":"0","v":0},{"$f":"0","v":0},{"$f":"0","v":0},{"$f":"0","v":0},0,{"$f":"0","v":0},{"$f":"0","v":0},{"$f":"0","v":0},{"$f":"0","v":0},{"$f":"0","v":0},{"$f":"0","v":0},{"$f":"0","v":0},0,{"$f":"0","v":0},{"$f":"0","v":0},{"$f":"0","v":0},{"$f":"0","v":0},{"$f":"0","v":0},{"$f":"0","v":0},{"$f":"0","v":0},0,{"$f":"0","v":0},{"$f":"0","v":0},{"$f":"0","v":0},{"$f":"0","v":0},{"$f":"0","v":0},{"$f":"0","v":0},{"$f":"0","v":0},0,{"$f":"0","v":0},{"$f":"0","v":0},{"$f":"0","v":0},{"$f":"0","v":0},{"$f":"0","v":0},{"$f":"0","v":0},{"$f":"0","v":0},0,{"$f":"0","v":0},{"$f":"0","v":0},{"$f":"0","v":0},{"$f":"0","v":0},{"$f":"0","v":0},{"$f":"0","v":0},{"$f":"0","v":0},0,{"$f":"0","v":0},{"$f":"0","v":0},{"$f":"0","v":0},{"$f":"0","v":0},{"$f":"0","v":0},{"$f":"0","v":0},{"$f":"0","v":0},0,{"$f":"0","v":0},{"$f":"0","v":0},{"$f":"0","v":0},{"$f":"0","v":0},{"$f":"0","v":0},{"$f":"0","v":0},{"$f":"0","v":0},0,{"$f":"0","v":0},{"$f":"0","v":0},{"$f":"0","v":0},{"$f":"0","v":0},{"$f":"0","v":0},{"$f":"0","v":0},{"$f":"0","v":0},0,{"$f":"0","v":0},{"$f":"0","v":0},{"$f":"0","v":0},{"$f":"0","v":0},{"$f":"0","v":0},{"$f":"0","v":0},{"$f":"0","v":0},0,{"$f":"0","v":0},{"$f":"0","v":0},{"$f":"0","v":0},{"$f":"0","v":0},{"$f":"0","v":0},{"$f":"0","v":0},{"$f":"0","v":0}]
["茨城県","08341","東海村",0,0,0,0,0,0,0,0,0,0,0,0,0,{"$f":"0","v":0},{"$f":"0","v":0},{"$f":"0","v":0},{"$f":"0","v":0},{"$f":"0","v":0},{"$f":"0","v":0},{"$f":"0","v":0},0,{"$f":"0","v":0},{"$f":"0","v":0},{"$f":"0","v":0},{"$f":"0","v":0},{"$f":"0","v":0},{"$f":"0","v":0},{"$f":"0","v":0},0,{"$f":"0","v":0},{"$f":"0","v":0},{"$f":"0","v":0},{"$f":"0","v":0},{"$f":"0","v":0},{"$f":"0","v":0},{"$f":"0","v":0},0,{"$f":"0","v":0},{"$f":"0","v":0},{"$f":"0","v":0},{"$f":"0","v":0},{"$f":"0","v":0},{"$f":"0","v":0},{"$f":"0","v":0},0,{"$f":"0","v":0},{"$f":"0","v":0},{"$f":"0","v":0},{"$f":"0","v":0},{"$f":"0","v":0},{"$f":"0","v":0},{"$f":"0","v":0},0,{"$f":"0","v":0},{"$f":"0","v":0},{"$f":"0","v":0},{"$f":"0","v":0},{"$f":"0","v":0},{"$f":"0","v":0},{"$f":"0","v":0},0,{"$f":"0","v":0},{"$f":"0","v":0},{"$f":"0","v":0},{"$f":"0","v":0},{"$f":"0","v":0},{"$f":"0","v":0},{"$f":"0","v":0},0,{"$f":"0","v":0},{"$f":"0","v":0},{"$f":"0","v":0},{"$f":"0","v":0},{"$f":"0","v":0},{"$f":"0","v":0},{"$f":"0","v":0},0,{"$f":"0","v":0},{"$f":"0","v":0},{"$f":"0","v":0},{"$f":"0","v":0},{"$f":"0","v":0},{"$f":"0","v":0},{"$f":"0","v":0},0,{"$f":"0","v":0},{"$f":"0","v":0},{"$f":"0","v":0},{"$f":"0","v":0},{"$f":"0","v":0},{"$f":"0","v":0},{"$f":"0","v":0},0,{"$f":"0","v":0},{"$f":"0","v":0},{"$f":"0","v":0},{"$f":"0","v":0},{"$f":"0","v":0},{"$f":"0","v":0},{"$f":"0","v":0}]
["茨城県","08364","大子町",0,0,0,0,0,0,0,0,0,0,0,0,0,{"$f":"0","v":0},{"$f":"0","v":0},{"$f":"0","v":0},{"$f":"0","v":0},{"$f":"0","v":0},{"$f":"0","v":0},{"$f":"0","v":0},0,{"$f":"0","v":0},{"$f":"0","v":0},{"$f":"0","v":0},{"$f":"0","v":0},{"$f":"0","v":0},{"$f":"0","v":0},{"$f":"0","v":0},0,{"$f":"0","v":0},{"$f":"0","v":0},{"$f":"0","v":0},{"$f":"0","v":0},{"$f":"0","v":0},{"$f":"0","v":0},{"$f":"0","v":0},0,{"$f":"0","v":0},{"$f":"0","v":0},{"$f":"0","v":0},{"$f":"0","v":0},{"$f":"0","v":0},{"$f":"0","v":0},{"$f":"0","v":0},0,{"$f":"0","v":0},{"$f":"0","v":0},{"$f":"0","v":0},{"$f":"0","v":0},{"$f":"0","v":0},{"$f":"0","v":0},{"$f":"0","v":0},0,{"$f":"0","v":0},{"$f":"0","v":0},{"$f":"0","v":0},{"$f":"0","v":0},{"$f":"0","v":0},{"$f":"0","v":0},{"$f":"0","v":0},0,{"$f":"0","v":0},{"$f":"0","v":0},{"$f":"0","v":0},{"$f":"0","v":0},{"$f":"0","v":0},{"$f":"0","v":0},{"$f":"0","v":0},0,{"$f":"0","v":0},{"$f":"0","v":0},{"$f":"0","v":0},{"$f":"0","v":0},{"$f":"0","v":0},{"$f":"0","v":0},{"$f":"0","v":0},0,{"$f":"0","v":0},{"$f":"0","v":0},{"$f":"0","v":0},{"$f":"0","v":0},{"$f":"0","v":0},{"$f":"0","v":0},{"$f":"0","v":0},0,{"$f":"0","v":0},{"$f":"0","v":0},{"$f":"0","v":0},{"$f":"0","v":0},{"$f":"0","v":0},{"$f":"0","v":0},{"$f":"0","v":0},0,{"$f":"0","v":0},{"$f":"0","v":0},{"$f":"0","v":0},{"$f":"0","v":0},{"$f":"0","v":0},{"$f":"0","v":0},{"$f":"0","v":0}]
["茨城県","08442","美浦村",0,0,0,0,0,0,0,0,0,0,0,0,0,{"$f":"0","v":0},{"$f":"0","v":0},{"$f":"0","v":0},{"$f":"0","v":0},{"$f":"0","v":0},{"$f":"0","v":0},{"$f":"0","v":0},0,{"$f":"0","v":0},{"$f":"0","v":0},{"$f":"0","v":0},{"$f":"0","v":0},{"$f":"0","v":0},{"$f":"0","v":0},{"$f":"0","v":0},0,{"$f":"0","v":0},{"$f":"0","v":0},{"$f":"0","v":0},{"$f":"0","v":0},{"$f":"0","v":0},{"$f":"0","v":0},{"$f":"0","v":0},0,{"$f":"0","v":0},{"$f":"0","v":0},{"$f":"0","v":0},{"$f":"0","v":0},{"$f":"0","v":0},{"$f":"0","v":0},{"$f":"0","v":0},0,{"$f":"0","v":0},{"$f":"0","v":0},{"$f":"0","v":0},{"$f":"0","v":0},{"$f":"0","v":0},{"$f":"0","v":0},{"$f":"0","v":0},0,{"$f":"0","v":0},{"$f":"0","v":0},{"$f":"0","v":0},{"$f":"0","v":0},{"$f":"0","v":0},{"$f":"0","v":0},{"$f":"0","v":0},0,{"$f":"0","v":0},{"$f":"0","v":0},{"$f":"0","v":0},{"$f":"0","v":0},{"$f":"0","v":0},{"$f":"0","v":0},{"$f":"0","v":0},0,{"$f":"0","v":0},{"$f":"0","v":0},{"$f":"0","v":0},{"$f":"0","v":0},{"$f":"0","v":0},{"$f":"0","v":0},{"$f":"0","v":0},0,{"$f":"0","v":0},{"$f":"0","v":0},{"$f":"0","v":0},{"$f":"0","v":0},{"$f":"0","v":0},{"$f":"0","v":0},{"$f":"0","v":0},0,{"$f":"0","v":0},{"$f":"0","v":0},{"$f":"0","v":0},{"$f":"0","v":0},{"$f":"0","v":0},{"$f":"0","v":0},{"$f":"0","v":0},0,{"$f":"0","v":0},{"$f":"0","v":0},{"$f":"0","v":0},{"$f":"0","v":0},{"$f":"0","v":0},{"$f":"0","v":0},{"$f":"0","v":0}]
["茨城県","08443","阿見町",0,0,0,0,0,0,0,0,0,0,0,0,0,{"$f":"0","v":0},{"$f":"0","v":0},{"$f":"0","v":0},{"$f":"0","v":0},{"$f":"0","v":0},{"$f":"0","v":0},{"$f":"0","v":0},0,{"$f":"0","v":0},{"$f":"0","v":0},{"$f":"0","v":0},{"$f":"0","v":0},{"$f":"0","v":0},{"$f":"0","v":0},{"$f":"0","v":0},0,{"$f":"0","v":0},{"$f":"0","v":0},{"$f":"0","v":0},{"$f":"0","v":0},{"$f":"0","v":0},{"$f":"0","v":0},{"$f":"0","v":0},0,{"$f":"0","v":0},{"$f":"0","v":0},{"$f":"0","v":0},{"$f":"0","v":0},{"$f":"0","v":0},{"$f":"0","v":0},{"$f":"0","v":0},0,{"$f":"0","v":0},{"$f":"0","v":0},{"$f":"0","v":0},{"$f":"0","v":0},{"$f":"0","v":0},{"$f":"0","v":0},{"$f":"0","v":0},0,{"$f":"0","v":0},{"$f":"0","v":0},{"$f":"0","v":0},{"$f":"0","v":0},{"$f":"0","v":0},{"$f":"0","v":0},{"$f":"0","v":0},0,{"$f":"0","v":0},{"$f":"0","v":0},{"$f":"0","v":0},{"$f":"0","v":0},{"$f":"0","v":0},{"$f":"0","v":0},{"$f":"0","v":0},0,{"$f":"0","v":0},{"$f":"0","v":0},{"$f":"0","v":0},{"$f":"0","v":0},{"$f":"0","v":0},{"$f":"0","v":0},{"$f":"0","v":0},0,{"$f":"0","v":0},{"$f":"0","v":0},{"$f":"0","v":0},{"$f":"0","v":0},{"$f":"0","v":0},{"$f":"0","v":0},{"$f":"0","v":0},0,{"$f":"0","v":0},{"$f":"0","v":0},{"$f":"0","v":0},{"$f":"0","v":0},{"$f":"0","v":0},{"$f":"0","v":0},{"$f":"0","v":0},0,{"$f":"0","v":0},{"$f":"0","v":0},{"$f":"0","v":0},{"$f":"0","v":0},{"$f":"0","v":0},{"$f":"0","v":0},{"$f":"0","v":0}]
["茨城県","08447","河内町",0,0,0,0,0,0,0,0,0,0,0,0,0,{"$f":"0","v":0},{"$f":"0","v":0},{"$f":"0","v":0},{"$f":"0","v":0},{"$f":"0","v":0},{"$f":"0","v":0},{"$f":"0","v":0},0,{"$f":"0","v":0},{"$f":"0","v":0},{"$f":"0","v":0},{"$f":"0","v":0},{"$f":"0","v":0},{"$f":"0","v":0},{"$f":"0","v":0},0,{"$f":"0","v":0},{"$f":"0","v":0},{"$f":"0","v":0},{"$f":"0","v":0},{"$f":"0","v":0},{"$f":"0","v":0},{"$f":"0","v":0},0,{"$f":"0","v":0},{"$f":"0","v":0},{"$f":"0","v":0},{"$f":"0","v":0},{"$f":"0","v":0},{"$f":"0","v":0},{"$f":"0","v":0},0,{"$f":"0","v":0},{"$f":"0","v":0},{"$f":"0","v":0},{"$f":"0","v":0},{"$f":"0","v":0},{"$f":"0","v":0},{"$f":"0","v":0},0,{"$f":"0","v":0},{"$f":"0","v":0},{"$f":"0","v":0},{"$f":"0","v":0},{"$f":"0","v":0},{"$f":"0","v":0},{"$f":"0","v":0},0,{"$f":"0","v":0},{"$f":"0","v":0},{"$f":"0","v":0},{"$f":"0","v":0},{"$f":"0","v":0},{"$f":"0","v":0},{"$f":"0","v":0},0,{"$f":"0","v":0},{"$f":"0","v":0},{"$f":"0","v":0},{"$f":"0","v":0},{"$f":"0","v":0},{"$f":"0","v":0},{"$f":"0","v":0},0,{"$f":"0","v":0},{"$f":"0","v":0},{"$f":"0","v":0},{"$f":"0","v":0},{"$f":"0","v":0},{"$f":"0","v":0},{"$f":"0","v":0},0,{"$f":"0","v":0},{"$f":"0","v":0},{"$f":"0","v":0},{"$f":"0","v":0},{"$f":"0","v":0},{"$f":"0","v":0},{"$f":"0","v":0},0,{"$f":"0","v":0},{"$f":"0","v":0},{"$f":"0","v":0},{"$f":"0","v":0},{"$f":"0","v":0},{"$f":"0","v":0},{"$f":"0","v":0}]
["茨城県","08521","八千代町",0,0,0,0,0,0,0,0,0,0,0,0,0,{"$f":"0","v":0},{"$f":"0","v":0},{"$f":"0","v":0},{"$f":"0","v":0},{"$f":"0","v":0},{"$f":"0","v":0},{"$f":"0","v":0},0,{"$f":"0","v":0},{"$f":"0","v":0},{"$f":"0","v":0},{"$f":"0","v":0},{"$f":"0","v":0},{"$f":"0","v":0},{"$f":"0","v":0},0,{"$f":"0","v":0},{"$f":"0","v":0},{"$f":"0","v":0},{"$f":"0","v":0},{"$f":"0","v":0},{"$f":"0","v":0},{"$f":"0","v":0},0,{"$f":"0","v":0},{"$f":"0","v":0},{"$f":"0","v":0},{"$f":"0","v":0},{"$f":"0","v":0},{"$f":"0","v":0},{"$f":"0","v":0},0,{"$f":"0","v":0},{"$f":"0","v":0},{"$f":"0","v":0},{"$f":"0","v":0},{"$f":"0","v":0},{"$f":"0","v":0},{"$f":"0","v":0},0,{"$f":"0","v":0},{"$f":"0","v":0},{"$f":"0","v":0},{"$f":"0","v":0},{"$f":"0","v":0},{"$f":"0","v":0},{"$f":"0","v":0},0,{"$f":"0","v":0},{"$f":"0","v":0},{"$f":"0","v":0},{"$f":"0","v":0},{"$f":"0","v":0},{"$f":"0","v":0},{"$f":"0","v":0},0,{"$f":"0","v":0},{"$f":"0","v":0},{"$f":"0","v":0},{"$f":"0","v":0},{"$f":"0","v":0},{"$f":"0","v":0},{"$f":"0","v":0},0,{"$f":"0","v":0},{"$f":"0","v":0},{"$f":"0","v":0},{"$f":"0","v":0},{"$f":"0","v":0},{"$f":"0","v":0},{"$f":"0","v":0},0,{"$f":"0","v":0},{"$f":"0","v":0},{"$f":"0","v":0},{"$f":"0","v":0},{"$f":"0","v":0},{"$f":"0","v":0},{"$f":"0","v":0},0,{"$f":"0","v":0},{"$f":"0","v":0},{"$f":"0","v":0},{"$f":"0","v":0},{"$f":"0","v":0},{"$f":"0","v":0},{"$f":"0","v":0}]
["茨城県","08542","五霞町",0,0,0,0,0,0,0,0,0,0,0,0,0,{"$f":"0","v":0},{"$f":"0","v":0},{"$f":"0","v":0},{"$f":"0","v":0},{"$f":"0","v":0},{"$f":"0","v":0},{"$f":"0","v":0},0,{"$f":"0","v":0},{"$f":"0","v":0},{"$f":"0","v":0},{"$f":"0","v":0},{"$f":"0","v":0},{"$f":"0","v":0},{"$f":"0","v":0},0,{"$f":"0","v":0},{"$f":"0","v":0},{"$f":"0","v":0},{"$f":"0","v":0},{"$f":"0","v":0},{"$f":"0","v":0},{"$f":"0","v":0},0,{"$f":"0","v":0},{"$f":"0","v":0},{"$f":"0","v":0},{"$f":"0","v":0},{"$f":"0","v":0},{"$f":"0","v":0},{"$f":"0","v":0},0,{"$f":"0","v":0},{"$f":"0","v":0},{"$f":"0","v":0},{"$f":"0","v":0},{"$f":"0","v":0},{"$f":"0","v":0},{"$f":"0","v":0},0,{"$f":"0","v":0},{"$f":"0","v":0},{"$f":"0","v":0},{"$f":"0","v":0},{"$f":"0","v":0},{"$f":"0","v":0},{"$f":"0","v":0},0,{"$f":"0","v":0},{"$f":"0","v":0},{"$f":"0","v":0},{"$f":"0","v":0},{"$f":"0","v":0},{"$f":"0","v":0},{"$f":"0","v":0},0,{"$f":"0","v":0},{"$f":"0","v":0},{"$f":"0","v":0},{"$f":"0","v":0},{"$f":"0","v":0},{"$f":"0","v":0},{"$f":"0","v":0},0,{"$f":"0","v":0},{"$f":"0","v":0},{"$f":"0","v":0},{"$f":"0","v":0},{"$f":"0","v":0},{"$f":"0","v":0},{"$f":"0","v":0},0,{"$f":"0","v":0},{"$f":"0","v":0},{"$f":"0","v":0},{"$f":"0","v":0},{"$f":"0","v":0},{"$f":"0","v":0},{"$f":"0","v":0},0,{"$f":"0","v":0},{"$f":"0","v":0},{"$f":"0","v":0},{"$f":"0","v":0},{"$f":"0","v":0},{"$f":"0","v":0},{"$f":"0","v":0}]
["茨城県","08546","境町",0,0,0,0,0,0,0,0,0,0,0,0,0,{"$f":"0","v":0},{"$f":"0","v":0},{"$f":"0","v":0},{"$f":"0","v":0},{"$f":"0","v":0},{"$f":"0","v":0},{"$f":"0","v":0},0,{"$f":"0","v":0},{"$f":"0","v":0},{"$f":"0","v":0},{"$f":"0","v":0},{"$f":"0","v":0},{"$f":"0","v":0},{"$f":"0","v":0},0,{"$f":"0","v":0},{"$f":"0","v":0},{"$f":"0","v":0},{"$f":"0","v":0},{"$f":"0","v":0},{"$f":"0","v":0},{"$f":"0","v":0},0,{"$f":"0","v":0},{"$f":"0","v":0},{"$f":"0","v":0},{"$f":"0","v":0},{"$f":"0","v":0},{"$f":"0","v":0},{"$f":"0","v":0},0,{"$f":"0","v":0},{"$f":"0","v":0},{"$f":"0","v":0},{"$f":"0","v":0},{"$f":"0","v":0},{"$f":"0","v":0},{"$f":"0","v":0},0,{"$f":"0","v":0},{"$f":"0","v":0},{"$f":"0","v":0},{"$f":"0","v":0},{"$f":"0","v":0},{"$f":"0","v":0},{"$f":"0","v":0},0,{"$f":"0","v":0},{"$f":"0","v":0},{"$f":"0","v":0},{"$f":"0","v":0},{"$f":"0","v":0},{"$f":"0","v":0},{"$f":"0","v":0},0,{"$f":"0","v":0},{"$f":"0","v":0},{"$f":"0","v":0},{"$f":"0","v":0},{"$f":"0","v":0},{"$f":"0","v":0},{"$f":"0","v":0},0,{"$f":"0","v":0},{"$f":"0","v":0},{"$f":"0","v":0},{"$f":"0","v":0},{"$f":"0","v":0},{"$f":"0","v":0},{"$f":"0","v":0},0,{"$f":"0","v":0},{"$f":"0","v":0},{"$f":"0","v":0},{"$f":"0","v":0},{"$f":"0","v":0},{"$f":"0","v":0},{"$f":"0","v":0},0,{"$f":"0","v":0},{"$f":"0","v":0},{"$f":"0","v":0},{"$f":"0","v":0},{"$f":"0","v":0},{"$f":"0","v":0},{"$f":"0","v":0}]
["茨城県","08564","利根町",0,0,0,0,0,0,0,0,0,0,0,0,0,{"$f":"0","v":0},{"$f":"0","v":0},{"$f":"0","v":0},{"$f":"0","v":0},{"$f":"0","v":0},{"$f":"0","v":0},{"$f":"0","v":0},0,{"$f":"0","v":0},{"$f":"0","v":0},{"$f":"0","v":0},{"$f":"0","v":0},{"$f":"0","v":0},{"$f":"0","v":0},{"$f":"0","v":0},0,{"$f":"0","v":0},{"$f":"0","v":0},{"$f":"0","v":0},{"$f":"0","v":0},{"$f":"0","v":0},{"$f":"0","v":0},{"$f":"0","v":0},0,{"$f":"0","v":0},{"$f":"0","v":0},{"$f":"0","v":0},{"$f":"0","v":0},{"$f":"0","v":0},{"$f":"0","v":0},{"$f":"0","v":0},0,{"$f":"0","v":0},{"$f":"0","v":0},{"$f":"0","v":0},{"$f":"0","v":0},{"$f":"0","v":0},{"$f":"0","v":0},{"$f":"0","v":0},0,{"$f":"0","v":0},{"$f":"0","v":0},{"$f":"0","v":0},{"$f":"0","v":0},{"$f":"0","v":0},{"$f":"0","v":0},{"$f":"0","v":0},0,{"$f":"0","v":0},{"$f":"0","v":0},{"$f":"0","v":0},{"$f":"0","v":0},{"$f":"0","v":0},{"$f":"0","v":0},{"$f":"0","v":0},0,{"$f":"0","v":0},{"$f":"0","v":0},{"$f":"0","v":0},{"$f":"0","v":0},{"$f":"0","v":0},{"$f":"0","v":0},{"$f":"0","v":0},0,{"$f":"0","v":0},{"$f":"0","v":0},{"$f":"0","v":0},{"$f":"0","v":0},{"$f":"0","v":0},{"$f":"0","v":0},{"$f":"0","v":0},0,{"$f":"0","v":0},{"$f":"0","v":0},{"$f":"0","v":0},{"$f":"0","v":0},{"$f":"0","v":0},{"$f":"0","v":0},{"$f":"0","v":0},0,{"$f":"0","v":0},{"$f":"0","v":0},{"$f":"0","v":0},{"$f":"0","v":0},{"$f":"0","v":0},{"$f":"0","v":0},{"$f":"0","v":0}]

{"sheet":"ごみ集計結果","index":7,"n_rows":250,"n_cols":31,"rows_kept":250,"merged":[[4,7,5,10],[4,11,5,11],[4,12,4,14],[4,15,5,15],[6,7,22,7],[6,8,13,8],[7,1,7,3],[7,9,13,9],[8,1,8,3],[10,1,10,3],[11,1,25,1],[11,2,17,2],[15,8,21,8],[18,2,24,2],[26,7,26,10],[31,1,31,3]]}
["合計 処理量（平成28年度実績）ごみ処理フローシート"]
[null,null,"入力→",null,":市区町村コード(都道府県計は、01000～47000の何れか）",{"$nulls":8},{"$f":"LEFT(D2,2)","v":""},{"$f":"IF(N2=\"\",\"-\",IF(N2>0,VLOOKUP(N2,$AD$6:$AE$53,2,FALSE),\"-\"))","v":"-"},{"$nulls":6},{"$f":"+IF(VALUE(D2)=0,0,1)","v":0},{"$f":"IF(V2=0,\"\",VLOOKUP(D2,INDIRECT(W6&\"!B7:C250\"),2,FALSE))","v":""},null,{"$f":"IF(V2=0,1,IF(ISERROR(W2),1,0))","v":1},null,{"$f":"COUNTA(INDIRECT(\"'[\"&$W$6&\"]ごみ処理概要!B7:C250\"))+6","v":7},{"$f":"IF(V2=0,0,VLOOKUP(D2,AA5:AB250,2,FALSE))","v":0}]
[]
[null,"合計 処理量（平成28年度実績）"]
[{"$nulls":7},"ごみ処理処分量",{"$nulls":3},"処理量","処分量",null,null,"中間処理後\n保管量",{"$nulls":10},{"$f":"INDIRECT($W$6&\"!\"&\"B\"&ROW(B5))","v":0},5]
[null,null,"計画収集人口",null,{"$f":"Y6","v":{"v":0,"d":"0 "}},{"$nulls":7},"残渣焼却量","残渣処分量","資源化量",{"$nulls":6},"計画収集人口","ごみ処理概要","E",{"$f":"IF(Y$2=0,INDIRECT(W6&\"!\"&X6&$AB$2),0)","v":0},null,0,6,null,"01","北海道"]
[null,null,"自家処理人口",null,{"$f":"Y7","v":{"v":0,"d":"0 "}},null,null,"施設処理","焼却処理","直接焼却",null,{"$f":"Y42","v":{"v":0,"d":"0 "}},"－","－","－",{"$f":"Y135","v":{"v":0,"d":"0 "}},{"$nulls":5},"自家処理人口","ごみ処理概要","F",0,null,"08000",7,null,"02","青森県"]
[null,"総　人　口",null,null,{"$f":"SUM(E6:E7)","v":{"v":0,"d":"0 "}},{"$nulls":4},"残渣焼却","粗大ごみ処理施設",{"v":0,"d":"0 "},"－","－","－","－",{"$nulls":5},"外国人人口","ごみ処理概要","G",0,null,"08201",8,null,"03","岩手県"]
[null,"外国人人口",null,null,{"$f":"Y8","v":{"v":0,"d":"0 "}},{"$nulls":5},"ごみ堆肥化施設",{"v":0,"d":"0 "},"－","－","－","－",{"$nulls":5},"混合ごみ","ごみ搬入量内訳","F",0,null,"08202",9,null,"04","宮城県"]
[{"$nulls":10},"ごみ飼料化施設",{"v":0,"d":"0 "},"－","－","－","－",{"$nulls":5},"可燃ごみ","ごみ搬入量内訳","J",0,null,"08203",10,null,"05","秋田県"]
[{"$nulls":4},"生活系ごみ","事業系ごみ",{"$nulls":4},"メタン化施設",{"v":0,"d":"0 "},"－","－","－","－",{"$nulls":5},"不燃ごみ","ごみ搬入量内訳","N",0,null,"08204",11,null,"06","山形県"]
[null,"計画収集量","収集ごみ量","混合ごみ",{"$f":"Y17","v":{"v":0,"d":"0 "}},{"$f":"Y29","v":{"v":0,"d":"0 "}},{"$nulls":4},"ごみ燃料化施設",{"v":0,"d":"0 "},"－","－","－","－",{"$nulls":5},"資源ごみ","ごみ搬入量内訳","R",0,null,"08205",12,null,"07","福島県"]
[{"$nulls":3},"可燃ごみ",{"v":0,"d":"0 "},{"v":0,"d":"0 "},{"$nulls":4},"その他の資源化等を行う施設",{"v":0,"d":"0 "},"－","－","－","－",{"$nulls":5},"その他","ごみ搬入量内訳","V",0,null,"08207",13,null,"08","茨城県"]
[{"$nulls":3},"不燃ごみ",{"v":0,"d":"0 "},{"v":0,"d":"0 "},{"$nulls":4},"その他施設",{"v":0,"d":"0 "},"－","－","－","－",{"$nulls":5},"粗大ごみ","ごみ搬入量内訳","Z",0,null,"08208",14,null,"09","栃木県"]
[{"$nulls":3},"資源ごみ",{"v":0,"d":"0 "},{"v":0,"d":"0 "},{"$nulls":3},"小計",null,{"$f":"SUM(L7:L14)","v":{"v":0,"d":"0 "}},"－",{"$f":"Y59","v":{"v":0,"d":"0 "}},{"$f":"Y67","v":{"v":0,"d":"0 "}},{"$f":"P7","v":{"v":0,"d":"0 "}},{"$nulls":5},"直接搬入ごみ","ごみ搬入量内訳","BC",0,null,"08210",15,null,"10","群馬県"]
[{"$nulls":3},"その他",{"v":0,"d":"0 "},{"v":0,"d":"0 "},null,null,"中間処理","粗大ごみ処理施設",null,{"$f":"Y50","v":{"v":0,"d":"0 "}},{"$f":"L8","v":{"v":0,"d":"0 "}},{"v":0,"d":"0 "},{"v":0,"d":"0 "},{"$f":"Y136","v":{"v":0,"d":"0 "}},{"$nulls":5},"集団回収量","ごみ処理概要","J",0,null,"08211",16,null,"11","埼玉県"]
[{"$nulls":3},"粗大ごみ",{"v":0,"d":"0 "},{"v":0,"d":"0 "},{"$nulls":3},"ごみ堆肥化施設",null,{"v":0,"d":"0 "},{"v":0,"d":"0 "},{"v":0,"d":"0 "},{"v":0,"d":"0 "},{"v":0,"d":"0 "},{"$nulls":5},"生活系ごみ_収集_収集（混合ごみ）","ごみ搬入量内訳","BZ",0,null,"08212",17,null,"12","千葉県"]
[{"$nulls":3},"小計",{"$f":"SUM(E12:E17)","v":{"v":0,"d":"0 "}},{"$f":"SUM(F12:F17)","v":{"v":0,"d":"0 "}},{"$nulls":3},"ごみ飼料化施設",null,{"v":0,"d":"0 "},{"v":0,"d":"0 "},{"v":0,"d":"0 "},{"v":0,"d":"0 "},{"v":0,"d":"0 "},{"$nulls":5},"生活系ごみ_収集（可燃ごみ）","ごみ搬入量内訳","CA",0,null,"08214",18,null,"13","東京都"]
[null,null,"直接搬入ごみ","混合ごみ",{"$f":"Y23","v":{"v":0,"d":"0 "}},{"$f":"Y35","v":{"v":0,"d":"0 "}},{"$nulls":3},"メタン化施設",null,{"v":0,"d":"0 "},{"v":0,"d":"0 "},{"v":0,"d":"0 "},{"v":0,"d":"0 "},{"v":0,"d":"0 "},{"$nulls":5},"生活系ごみ_収集（不燃ごみ）","ごみ搬入量内訳","CB",0,null,"08215",19,null,"14","神奈川県"]
[{"$nulls":3},"可燃ごみ",{"v":0,"d":"0 "},{"v":0,"d":"0 "},{"$nulls":3},"ごみ燃料化施設",null,{"v":0,"d":"0 "},{"v":0,"d":"0 "},{"v":0,"d":"0 "},{"v":0,"d":"0 "},{"v":0,"d":"0 "},{"$nulls":5},"生活系ごみ_収集（資源ごみ）","ごみ搬入量内訳","CC",0,null,"08216",20,null,"15","新潟県"]
[{"$nulls":3},"不燃ごみ",{"v":0,"d":"0 "},{"v":0,"d":"0 "},{"$nulls":3},"その他の資源化等を行う施設",null,{"v":0,"d":"0 "},{"v":0,"d":"0 "},{"v":0,"d":"0 "},{"v":0,"d":"0 "},{"v":0,"d":"0 "},{"$nulls":5},"生活系ごみ_収集（その他ごみ）","ごみ搬入量内訳","CD",0,null,"08217",21,null,"16","富山県"]
[{"$nulls":3},"資源ごみ",{"v":0,"d":"0 "},{"v":0,"d":"0 "},{"$nulls":3},"その他施設",null,{"v":0,"d":"0 "},{"v":0,"d":"0 "},{"v":0,"d":"0 "},"－",{"v":0,"d":"0 "},{"$nulls":5},"生活系ごみ_収集（粗大ごみ）","ごみ搬入量内訳","CE",0,null,"08219",22,null,"17","石川県"]
[{"$nulls":3},"その他",{"v":0,"d":"0 "},{"v":0,"d":"0 "},{"$nulls":3},"小計",null,{"$f":"SUM(L16:L22)","v":{"v":0,"d":"0 "}},{"$f":"SUM(M16:M22)","v":{"v":0,"d":"0 "}},{"$f":"SUM(N16:N22)","v":{"v":0,"d":"0 "}},{"$f":"SUM(O16:O21)","v":{"v":0,"d":"0 "}},{"$f":"SUM(P16:P21)","v":{"v":0,"d":"0 "}},{"$nulls":5},"生活系ごみ_直搬_直搬（混合ごみ）","ごみ搬入量内訳","CG",0,null,"08220",23,null,"18","福井県"]
[{"$nulls":3},"粗大ごみ",{"v":0,"d":"0 "},{"v":0,"d":"0 "},null,null,"小計（直接焼却+中間処理）",null,null,{"$f":"SUM(L7,L23)","v":{"v":0,"d":"0 "}},{"$f":"M23","v":{"v":0,"d":"0 "}},{"$f":"SUM(N15,N23)","v":{"v":0,"d":"0 "}},{"$f":"SUM(O15,O23)","v":{"v":0,"d":"0 "}},{"$f":"SUM(P15,P23)","v":{"v":0,"d":"0 "}},{"$nulls":5},"生活系ごみ_直搬（可燃ごみ）","ごみ搬入量内訳","CH",0,null,"08221",24,null,"19","山梨県"]
[{"$nulls":3},"小計",{"$f":"SUM(E19:E24)","v":{"v":0,"d":"0 "}},{"$f":"SUM(F19:F24)","v":{"v":0,"d":"0 "}},null,"直接資源化量",{"$nulls":3},{"$f":"Y57","v":{"v":0,"d":"0 "}},"－","－",{"$f":"L25","v":{"v":0,"d":"0 "}},"－",{"$nulls":5},"生活系ごみ_直搬（不燃ごみ）","ごみ搬入量内訳","CI",0,null,"08222",25,null,"20","長野県"]
[null,null,"合計",null,{"$f":"E18+E25","v":{"v":0,"d":"0 "}},{"$f":"F18+F25","v":{"v":0,"d":"0 "}},null,"直接最終処分量",{"$nulls":3},{"$f":"Y58","v":{"v":0,"d":"0 "}},"－",{"$f":"L26","v":{"v":0,"d":"0 "}},"－","－",{"$nulls":5},"生活系ごみ_直搬（資源ごみ）","ごみ搬入量内訳","CJ",0,null,"08223",26,null,"21","岐阜県"]
[{"$nulls":7},"合計",{"$nulls":3},{"$f":"SUM(L24:L26)","v":{"v":0,"d":"0 "}},{"$f":"SUM(M24:M26)","v":{"v":0,"d":"0 "}},{"$f":"SUM(N24:N26)","v":{"v":0,"d":"0 "}},{"$f":"SUM(O24:O26)","v":{"v":0,"d":"0 "}},{"$f":"SUM(P24:P26)","v":{"v":0,"d":"0 "}},{"$nulls":5},"生活系ごみ_直搬（その他ごみ）","ごみ搬入量内訳","CK",0,null,"08224",27,null,"22","静岡県"]
[{"$nulls":7},"合計：施設処理＋直接資源化量＋直接最終処分量",{"$nulls":13},"生活系ごみ_直搬（粗大ごみ）","ごみ搬入量内訳","CL",0,null,"08225",28,null,"23","愛知県"]
[null,null,"生活系ごみ搬入量",null,{"$f":"E26","v":{"v":0,"d":"0 "}},{"$nulls":7},"直接資源化量","施設資源化量","集団回収量",{"$nulls":6},"事業系ごみ_収集（混合ごみ）","ごみ搬入量内訳","CU",0,null,"08226",29,null,"24","三重県"]
[null,null,"事業系ごみ搬入量",null,{"$f":"F26","v":{"v":0,"d":"0 "}},{"$nulls":6},"紙類",{"$f":"Y74","v":{"v":0,"d":"0 "}},{"$f":"Y93","v":{"v":0,"d":"0 "}},{"$f":"Y113","v":{"v":0,"d":"0 "}},{"$nulls":6},"事業系ごみ_収集（可燃ごみ）","ごみ搬入量内訳","CV",0,null,"08227",30,null,"25","滋賀県"]
[null,null,"集団回収量",null,{"$f":"O50","v":{"v":0,"d":"0 "}},{"$nulls":6},"紙パック",{"v":0,"d":"0 "},{"v":0,"d":"0 "},{"v":0,"d":"0 "},{"$nulls":6},"事業系ごみ_収集（不燃ごみ）","ごみ搬入量内訳","CW",0,null,"08228",31,null,"26","京都府"]
[null,"ごみ総排出量",null,null,{"$f":"SUM(E29:E31)","v":{"v":0,"d":"0 "}},{"$nulls":6},"紙製容器包装",{"v":0,"d":"0 "},{"v":0,"d":"0 "},{"v":0,"d":"0 "},{"$nulls":6},"事業系ごみ_収集（資源ごみ）","ごみ搬入量内訳","CX",0,null,"08229",32,null,"27","大阪府"]
[{"$nulls":11},"金属類",{"v":0,"d":"0 "},{"v":0,"d":"0 "},{"v":0,"d":"0 "},{"$nulls":6},"事業系ごみ_収集（その他ごみ）","ごみ搬入量内訳","CY",0,null,"08230",33,null,"28","兵庫県"]
[{"$nulls":11},"ガラス類",{"v":0,"d":"0 "},{"v":0,"d":"0 "},{"v":0,"d":"0 "},{"$nulls":6},"事業系ごみ_収集（粗大ごみ）","ごみ搬入量内訳","CZ",0,null,"08231",34,null,"29","奈良県"]
[{"$nulls":11},"ﾍﾟｯﾄﾎﾞﾄﾙ",{"v":0,"d":"0 "},{"v":0,"d":"0 "},{"v":0,"d":"0 "},{"$nulls":6},"事業系ごみ_直搬_直搬（混合ごみ）","ごみ搬入量内訳","DB",0,null,"08232",35,null,"30","和歌山県"]
[null,{"$f":"\"収集ごみ（混合ごみ＋可燃ごみ＋不燃ごみ＋資源ごみ＋粗大ごみ＋その他）＝\"&TEXT(E18+F18,\"#,##0\")&\"t/年\"","v":"収集ごみ（混合ごみ＋可燃ごみ＋不燃ごみ＋資源ごみ＋粗大ごみ＋その他）＝0t/年"},{"$nulls":9},"白色トレイ",{"v":0,"d":"0 "},{"v":0,"d":"0 "},{"v":0,"d":"0 "},{"$nulls":6},"事業系ごみ_直搬（可燃ごみ）","ごみ搬入量内訳","DC",0,null,"08233",36,null,"31","鳥取県"]
[null,{"$f":"\"計画収集量（収集ごみ＋直接搬入ごみ）＝\"&TEXT(E18+E25+F18+F25,\"#,##0\")&\"t/年\"","v":"計画収集量（収集ごみ＋直接搬入ごみ）＝0t/年"},{"$nulls":9},"容器包装プラ",{"v":0,"d":"0 "},{"v":0,"d":"0 "},{"v":0,"d":"0 "},{"$nulls":6},"事業系ごみ_直搬（不燃ごみ）","ごみ搬入量内訳","DD",0,null,"08234",37,null,"32","島根県"]
[null,{"$f":"\"ごみ総排出量（計画収集量＋集団回収量）＝\"&TEXT(E32,\"#,###0\")&\"t/年\"","v":"ごみ総排出量（計画収集量＋集団回収量）＝0t/年"},{"$nulls":9},"ﾌﾟﾗｽﾁｯｸ類",{"v":0,"d":"0 "},{"v":0,"d":"0 "},{"v":0,"d":"0 "},{"$nulls":6},"事業系ごみ_直搬（資源ごみ）","ごみ搬入量内訳","DE",0,null,"08235",38,null,"33","岡山県"]
[null,{"$f":"\"ごみ処理量（直接最終処分量＋直接焼却量＋焼却以外の中間処理量＋直接資源化量）＝\"&TEXT(L27,\"#,##0\")&\"t/年\"","v":"ごみ処理量（直接最終処分量＋直接焼却量＋焼却以外の中間処理量＋直接資源化量）＝0t/年"},{"$nulls":9},"布類",{"v":0,"d":"0 "},{"v":0,"d":"0 "},{"v":0,"d":"0 "},{"$nulls":6},"事業系ごみ_直搬（その他ごみ）","ごみ搬入量内訳","DF",0,null,"08236",39,null,"34","広島県"]
[null,{"$f":"\"１人１日あたりごみ排出量（ごみ総排出量/総人口）＝\"&TEXT(E32/E8/365*1000000,\"#,##0\")&\"g/人日\"","v":{"$error":"#DIV/0!"}},{"$nulls":9},"肥料","－",{"v":0,"d":"0 "},"－",{"$nulls":6},"事業系ごみ_直搬（粗大ごみ）","ごみ搬入量内訳","DG",0,null,"08302",40,null,"35","山口県"]
[null,{"$f":"\"リサイクル率（[資源化量合計＋集団回収量]/[ごみ処理量＋集団回収量]）＝\"&TEXT((O27+O50)/(L27+O50)*100,\"##.##\")&\"％\"","v":{"$error":"#DIV/0!"}},{"$nulls":9},"飼料","－",{"v":0,"d":"0 "},"－",{"$nulls":11},"08309",41,null,"36","徳島県"]
[null,{"$f":"\"中間処理による減量化量（施設処理量-施設処理後資源化量-施設処理後残渣処分量）＝\"&TEXT(L24-N24-O24,\"#,##0\")&\"t/年\"","v":"中間処理による減量化量（施設処理量-施設処理後資源化量-施設処理後残渣処分量）＝0t/年"},{"$nulls":9},"溶融スラグ","－",{"v":0,"d":"0 "},"－",{"$nulls":6},"直接焼却","ごみ処理量内訳","E",{"$f":"IF(Y$2=0,INDIRECT(W42&\"!\"&X42&$AB$2),0)","v":0},null,"08310",42,null,"37","香川県"]
[{"$nulls":11},"固形燃料","－",{"v":0,"d":"0 "},"－",{"$nulls":5},"残渣焼却","粗大ごみ処理施設","ごみ処理量内訳","S",0,null,"08341",43,null,"38","愛媛県"]
[{"$nulls":11},"燃料","－",{"v":0,"d":"0 "},"－",{"$nulls":5},"残渣焼却","ごみ堆肥化施設","ごみ処理量内訳","T",0,null,"08364",44,null,"39","高知県"]
[{"$nulls":11},"ｾﾒﾝﾄ原料化","－",{"v":0,"d":"0 "},"－",{"$nulls":5},"残渣焼却","ごみ飼料化施設","ごみ処理量内訳","U",0,null,"08442",45,null,"40","福岡県"]
[{"$nulls":11},"ｾﾒﾝﾄ工場直投","－",{"v":0,"d":"0 "},"－",{"$nulls":5},"残渣焼却","メタン化施設","ごみ処理量内訳","V",0,null,"08443",46,null,"41","佐賀県"]
[{"$nulls":11},"山元還元","－",{"v":0,"d":"0 "},"－",{"$nulls":5},"残渣焼却","ごみ燃料化施設","ごみ処理量内訳","W",0,null,"08447",47,null,"42","長崎県"]
[{"$nulls":11},"廃食用油",{"$f":"Y91","v":{"v":0,"d":"0 "}},{"v":0,"d":"0 "},{"$f":"Y130","v":{"v":0,"d":"0 "}},{"$nulls":5},"残渣焼却","その他の資源化等を行う施設","ごみ処理量内訳","X",0,null,"08521",48,null,"43","熊本県"]
[{"$nulls":11},"その他",{"$f":"Y92","v":{"v":0,"d":"0 "}},{"v":0,"d":"0 "},{"$f":"Y131","v":{"v":0,"d":"0 "}},{"$nulls":5},"残渣焼却","その他施設","ごみ処理量内訳","Y",0,null,"08542",49,null,"44","大分県"]
[{"$nulls":11},"合計",{"$f":"SUM(M30:M49)","v":{"v":0,"d":"0 "}},{"$f":"SUM(N30:N49)","v":{"v":0,"d":"0 "}},{"$f":"SUM(O30:O49)","v":{"v":0,"d":"0 "}},{"$nulls":5},"処理量","粗大ごみ処理施設","ごみ処理量内訳","G",0,null,"08546",50,null,"45","宮崎県"]
[{"$nulls":20},"処理量","ごみ堆肥化施設","ごみ処理量内訳","H",0,null,"08564",51,null,"46","鹿児島県"]
[{"$nulls":20},"処理量","ごみ飼料化施設","ごみ処理量内訳","I",0,null,0,52,null,"47","沖縄県"]
[{"$nulls":20},"処理量","メタン化施設","ごみ処理量内訳","J",0,null,0,53,null,"48","全国"]
[{"$nulls":20},"処理量","ごみ燃料化施設","ごみ処理量内訳","K",0,null,0,54]
[{"$nulls":20},"処理量","その他の資源化等を行う施設","ごみ処理量内訳","L",0,null,0,55]
[{"$nulls":20},"処理量","その他施設","ごみ処理量内訳","M",0,null,0,56]
[{"$nulls":21},"直接資源化量","ごみ処理量内訳","O",0,null,0,57]
[{"$nulls":21},"直接最終処分量","ごみ処理量内訳","N",0,null,0,58]
[{"$nulls":20},"残渣埋立","焼却施設","ごみ処理量内訳","AB",0,null,0,59]
[{"$nulls":20},"残渣埋立","粗大ごみ処理施設","ごみ処理量内訳","AD",0,null,0,60]
[{"$nulls":20},"残渣埋立","ごみ堆肥化施設","ごみ処理量内訳","AE",0,null,0,61]
[{"$nulls":20},"残渣埋立","ごみ飼料化施設","ごみ処理量内訳","AF",0,null,0,62]
[{"$nulls":20},"残渣埋立","メタン化施設","ごみ処理量内訳","AG",0,null,0,63]
[{"$nulls":20},"残渣埋立","ごみ燃料化施設","ごみ処理量内訳","AH",0,null,0,64]
[{"$nulls":20},"残渣埋立","その他の資源化等を行う施設","ごみ処理量内訳","AI",0,null,0,65]
[{"$nulls":20},"残渣埋立","その他施設","ごみ処理量内訳","AJ",0,null,0,66]
[{"$nulls":20},"資源化量","焼却施設","施設資源化量内訳","Y",0,null,0,67]
[{"$nulls":20},"資源化量","粗大ごみ処理施設","施設資源化量内訳","AT",0,null,0,68]
[{"$nulls":20},"資源化量","ごみ堆肥化施設","施設資源化量内訳","BO",0,null,{"$f":"INDIRECT($W$6&\"!\"&\"B\"&ROW(B69))","v":0},69]
[{"$nulls":20},"資源化量","ごみ飼料化施設","施設資源化量内訳","CJ",0,null,0,70]
[{"$nulls":20},"資源化量","メタン化施設","施設資源化量内訳","DE",0,null,0,71]
[{"$nulls":20},"資源化量","ごみ燃料化施設","施設資源化量内訳","DZ",0,null,0,72]
[{"$nulls":20},"資源化量","その他の資源化等を行う施設","施設資源化量内訳","EU",0,null,0,73]
[{"$nulls":20},"直接資源化","紙類(02、03を除く)","資源化量内訳","Z",0,null,0,74]
[{"$nulls":20},"直接資源化","紙パック","資源化量内訳","AA",0,null,0,75]
[{"$nulls":20},"直接資源化","紙製容器包装","資源化量内訳","AB",0,null,0,76]
[{"$nulls":20},"直接資源化","金属類","資源化量内訳","AC",0,null,0,77]
[{"$nulls":20},"直接資源化","ガラス類","資源化量内訳","AD",0,null,0,78]
[{"$nulls":20},"直接資源化","ﾍﾟｯﾄﾎﾞﾄﾙ","資源化量内訳","AE",0,null,0,79]
[{"$nulls":20},"直接資源化","白色トレイ","資源化量内訳","AF",0,null,0,80]
[{"$nulls":20},"直接資源化","容器包装プラスチック(07を除く)","資源化量内訳","AG",0,null,0,81]
[{"$nulls":20},"直接資源化","プラスチック類(07,08を除く)","資源化量内訳","AH",0,null,0,82]
[{"$nulls":20},"直接資源化","布類","資源化量内訳","AI",0,null,0,83]
[{"$nulls":20},"直接資源化","肥料","資源化量内訳",{"$nulls":3},0,84]
[{"$nulls":20},"直接資源化","飼料","資源化量内訳",{"$nulls":3},0,85]
[{"$nulls":20},"直接資源化","溶融スラグ","資源化量内訳",{"$nulls":3},0,86]
[{"$nulls":20},"直接資源化","固形燃料","資源化量内訳",{"$nulls":3},0,87]
[{"$nulls":20},"直接資源化","燃料","資源化量内訳",{"$nulls":3},0,88]
[{"$nulls":20},"直接資源化","焼却灰・飛灰のセメント原料化","資源化量内訳",{"$nulls":3},0,89]
[{"$nulls":20},"直接資源化","飛灰の山元還元","資源化量内訳",{"$nulls":3},0,90]
[{"$nulls":20},"直接資源化","廃食用油（BDF)","資源化量内訳","AR",{"$f":"IF(Y$2=0,INDIRECT(W91&\"!\"&X91&$AB$2),0)","v":0},null,0,91]
[{"$nulls":20},"直接資源化","その他","資源化量内訳","AS",0,null,0,92]
[{"$nulls":20},"中間処理資源化","紙類(02、03を除く)","資源化量内訳","AU",0,null,0,93]
[{"$nulls":20},"中間処理資源化","紙パック","資源化量内訳","AV",0,null,0,94]
[{"$nulls":20},"中間処理資源化","紙製容器包装","資源化量内訳","AW",0,null,0,95]
[{"$nulls":20},"中間処理資源化","金属類","資源化量内訳","AX",0,null,0,96]
[{"$nulls":20},"中間処理資源化","ガラス類","資源化量内訳","AY",0,null,0,97]
[{"$nulls":20},"中間処理資源化","ﾍﾟｯﾄﾎﾞﾄﾙ","資源化量内訳","AZ",0,null,0,98]
[{"$nulls":20},"中間処理資源化","白色トレイ","資源化量内訳","BA",0,null,0,99]
[{"$nulls":20},"中間処理資源化","容器包装プラスチック(07を除く)","資源化量内訳","BB",0,null,0,100]
[{"$nulls":20},"中間処理資源化","プラスチック類(07,08を除く)","資源化量内訳","BC",0,null,0,101]
[{"$nulls":20},"中間処理資源化","布類","資源化量内訳","BD",0,null,0,102]
[{"$nulls":20},"中間処理資源化","肥料","資源化量内訳","BE",0,null,0,103]
[{"$nulls":20},"中間処理資源化","飼料","資源化量内訳","BF",0,null,0,104]
[{"$nulls":20},"中間処理資源化","溶融スラグ","資源化量内訳","BG",0,null,0,105]
[{"$nulls":20},"中間処理資源化","固形燃料","資源化量内訳","BH",0,null,0,106]
[{"$nulls":20},"中間処理資源化","燃料","資源化量内訳","BI",0,null,0,107]
[{"$nulls":20},"中間処理資源化","焼却灰・飛灰のセメント原料化","資源化量内訳","BJ",0,null,0,108]
[{"$nulls":20},"中間処理資源化","セメント等への直接投入","資源化量内訳","BK",0,null,0,109]
[{"$nulls":20},"中間処理資源化","飛灰の山元還元","資源化量内訳","BL",0,null,0,110]
[{"$nulls":20},"中間処理資源化","廃食用油（BDF)","資源化量内訳","BM",0,null,0,111]
[{"$nulls":20},"中間処理資源化","その他","資源化量内訳","BN",0,null,0,112]
[{"$nulls":20},"集団回収","紙類(02、03を除く)","資源化量内訳","BP",0,null,0,113]
[{"$nulls":20},"集団回収","紙パック","資源化量内訳","BQ",0,null,0,114]
[{"$nulls":20},"集団回収","紙製容器包装","資源化量内訳","BR",0,null,0,115]
[{"$nulls":20},"集団回収","金属類","資源化量内訳","BS",0,null,0,116]
[{"$nulls":20},"集団回収","ガラス類","資源化量内訳","BT",0,null,0,117]
[{"$nulls":20},"集団回収","ﾍﾟｯﾄﾎﾞﾄﾙ","資源化量内訳","BU",0,null,0,118]
[{"$nulls":20},"集団回収","白色トレイ","資源化量内訳","BV",0,null,0,119]
[{"$nulls":20},"集団回収","容器包装プラスチック(07を除く)","資源化量内訳","BW",0,null,0,120]
[{"$nulls":20},"集団回収","プラスチック類(07,08を除く)","資源化量内訳","BX",0,null,0,121]
[{"$nulls":20},"集団回収","布類","資源化量内訳","BY",0,null,0,122]
[{"$nulls":20},"集団回収","肥料","資源化量内訳",{"$nulls":3},0,123]
[{"$nulls":20},"集団回収","飼料","資源化量内訳",{"$nulls":3},0,124]
[{"$nulls":20},"集団回収","溶融スラグ","資源化量内訳",{"$nulls":3},0,125]
[{"$nulls":20},"集団回収","固形燃料","資源化量内訳",{"$nulls":3},0,126]
[{"$nulls":20},"集団回収","燃料","資源化量内訳",{"$nulls":3},0,127]
[{"$nulls":20},"集団回収","焼却灰・飛灰のセメント原料化","資源化量内訳",{"$nulls":3},0,128]
[{"$nulls":20},"集団回収","飛灰の山元還元","資源化量内訳",{"$nulls":3},0,129]
[{"$nulls":20},"集団回収","廃食用油（BDF)","資源化量内訳","CH",{"$f":"IF(Y$2=0,INDIRECT(W130&\"!\"&X130&$AB$2),0)","v":0},null,0,130]
[{"$nulls":20},"集団回収","その他","資源化量内訳","CI",{"$f":"IF(Y$2=0,INDIRECT(W131&\"!\"&X131&$AB$2),0)","v":0},null,0,131]
[{"$nulls":26},0,132]
[{"$nulls":21},"自家処理量","ごみ搬入量内訳","DH",{"$f":"IF(Y$2=0,INDIRECT(W133&\"!\"&X133&$AB$2),0)","v":0},null,{"$f":"INDIRECT($W$6&\"!\"&\"B\"&ROW(B133))","v":0},133]
[{"$nulls":26},0,134]
[{"$nulls":20},"中間処理後保管量","焼却処理残渣の保管量","ごみ処理量内訳","AL",{"$f":"IF(Y$2=0,INDIRECT(W135&\"!\"&X135&$AB$2),0)","v":0},null,0,135]
[{"$nulls":20},"中間処理後保管量","粗大ごみ\n処理施設","ごみ処理量内訳","AM",0,null,0,136]
[{"$nulls":20},"中間処理後保管量","ごみ堆肥化施設","ごみ処理量内訳","AN",0,null,0,137]
[{"$nulls":20},"中間処理後保管量","ごみ飼料化施設","ごみ処理量内訳","AO",0,null,0,138]
[{"$nulls":20},"中間処理後保管量","メタン化施設","ごみ処理量内訳","AP",0,null,0,139]
[{"$nulls":20},"中間処理後保管量","ごみ燃料化\n施設","ごみ処理量内訳","AQ",0,null,0,140]
[{"$nulls":20},"中間処理後保管量","その他の資源化等を行う施設","ごみ処理量内訳","AR",0,null,0,141]
[{"$nulls":20},"中間処理後保管量","セメント等への直接投入","ごみ処理量内訳","AS",0,null,0,142]
[{"$nulls":20},"中間処理後保管量","その他の\n施設","ごみ処理量内訳","AK",0,null,0,143]
[{"$nulls":20},"中間処理後保管量","合計",{"$nulls":4},0,144]
[{"$nulls":26},0,145]
[{"$nulls":26},0,146]
[{"$nulls":26},0,147]
[{"$nulls":26},0,148]
[{"$nulls":26},0,149]
[{"$nulls":26},0,150]
[{"$nulls":26},0,151]
[{"$nulls":26},0,152]
[{"$nulls":26},0,153]
[{"$nulls":26},0,154]
[{"$nulls":26},0,155]
[{"$nulls":26},0,156]
[{"$nulls":26},0,157]
[{"$nulls":26},0,158]
[{"$nulls":26},0,159]
[{"$nulls":26},0,160]
[{"$nulls":26},0,161]
[{"$nulls":26},0,162]
[{"$nulls":26},0,163]
[{"$nulls":26},0,164]
[{"$nulls":26},0,165]
[{"$nulls":26},0,166]
[{"$nulls":26},0,167]
[{"$nulls":26},0,168]
[{"$nulls":26},0,169]
[{"$nulls":26},0,170]
[{"$nulls":26},0,171]
[{"$nulls":26},0,172]
[{"$nulls":26},0,173]
[{"$nulls":26},0,174]
[{"$nulls":26},0,175]
[{"$nulls":26},0,176]
[{"$nulls":26},0,177]
[{"$nulls":26},0,178]
[{"$nulls":26},0,179]
[{"$nulls":26},0,180]
[{"$nulls":26},0,181]
[{"$nulls":26},0,182]
[{"$nulls":26},0,183]
[{"$nulls":26},0,184]
[{"$nulls":26},0,185]
[{"$nulls":26},0,186]
[{"$nulls":26},0,187]
[{"$nulls":26},0,188]
[{"$nulls":26},0,189]
[{"$nulls":26},0,190]
[{"$nulls":26},0,191]
[{"$nulls":26},0,192]
[{"$nulls":26},0,193]
[{"$nulls":26},0,194]
[{"$nulls":26},0,195]
[{"$nulls":26},0,196]
[{"$nulls":26},{"$f":"INDIRECT($W$6&\"!\"&\"B\"&ROW(B197))","v":0},197]
[{"$nulls":26},0,198]
[{"$nulls":26},0,199]
[{"$nulls":26},0,200]
[{"$nulls":26},0,201]
[{"$nulls":26},0,202]
[{"$nulls":26},0,203]
[{"$nulls":26},0,204]
[{"$nulls":26},0,205]
[{"$nulls":26},0,206]
[{"$nulls":26},0,207]
[{"$nulls":26},0,208]
[{"$nulls":26},0,209]
[{"$nulls":26},0,210]
[{"$nulls":26},0,211]
[{"$nulls":26},0,212]
[{"$nulls":26},0,213]
[{"$nulls":26},0,214]
[{"$nulls":26},0,215]
[{"$nulls":26},0,216]
[{"$nulls":26},0,217]
[{"$nulls":26},0,218]
[{"$nulls":26},0,219]
[{"$nulls":26},0,220]
[{"$nulls":26},0,221]
[{"$nulls":26},0,222]
[{"$nulls":26},0,223]
[{"$nulls":26},0,224]
[{"$nulls":26},0,225]
[{"$nulls":26},0,226]
[{"$nulls":26},0,227]
[{"$nulls":26},0,228]
[{"$nulls":26},0,229]
[{"$nulls":26},0,230]
[{"$nulls":26},0,231]
[{"$nulls":26},0,232]
[{"$nulls":26},0,233]
[{"$nulls":26},0,234]
[{"$nulls":26},0,235]
[{"$nulls":26},0,236]
[{"$nulls":26},0,237]
[{"$nulls":26},0,238]
[{"$nulls":26},0,239]
[{"$nulls":26},0,240]
[{"$nulls":26},0,241]
[{"$nulls":26},0,242]
[{"$nulls":26},0,243]
[{"$nulls":26},0,244]
[{"$nulls":26},0,245]
[{"$nulls":26},0,246]
[{"$nulls":26},0,247]
[{"$nulls":26},0,248]
[{"$nulls":26},0,249]
[{"$nulls":26},0,250]

{"sheet":"ごみフローシート","index":8,"n_rows":47,"n_cols":16,"rows_kept":47,"merged":[[0,0,1,15],[3,0,3,2],[7,1,7,2],[36,14,37,15]]}
["合計 処理量（平成28年度実績）　ごみ処理フローシート"]
[]
[]
[{"$nulls":4},"直接最終処分量",{"$nulls":9},"最終処分場"]
[{"$nulls":4},"(21,09,03)",{"$f":"INDIRECT(B47&\"!L26\")","v":{"v":0,"d":"0 "}},{"$nulls":8},"(21,09,01)",{"$f":"INDIRECT(B47&\"!N27\")","v":{"v":0,"d":"0 "}}]
[]
[{"$nulls":4},"直接焼却量",null,null,"焼却施設",null,null,"焼却残渣の埋立","(21,01,05)",{"$f":"INDIRECT(B47&\"!N15\")","v":{"v":0,"d":"0 "}}]
[null,"収集ごみ＋直接搬入ごみ",null,null,"(21,01,02)",{"$f":"INDIRECT(B47&\"!L7\")","v":{"v":0,"d":"0 "}},null,"(21,01,01)",{"$f":"INDIRECT(B47&\"!L15\")","v":{"v":0,"d":"0 "}},null,"資源化量","(21,01,06)",{"$f":"INDIRECT(B47&\"!O15\")","v":{"v":0,"d":"0 "}}]
[{"$nulls":11},"（中間処理後保管量",{"$f":"INDIRECT(B47&\"!P7\")","v":{"v":0,"d":"0)"}}]
[null,"混合ごみ",{"$f":"INDIRECT(B47&\"!E12\")+INDIRECT(B47&\"!F12\")","v":{"v":0,"d":"0 "}},{"$nulls":7},"処理残渣の焼却","(21,01,04)",{"$f":"INDIRECT(B47&\"!M23\")","v":{"v":0,"d":"0 "}},null,"処理残渣の埋立"]
[{"$nulls":15},{"$f":"INDIRECT(B47&\"!N23\")","v":{"v":0,"d":"0 "}}]
[null,"可燃ごみ",{"$f":"INDIRECT(B47&\"!E13\")+INDIRECT(B47&\"!F13\")","v":{"v":0,"d":"0 "}},{"$nulls":4},"粗大ごみ処理施設",null,null,"処理残渣の焼却","(21,02,04)",{"$f":"INDIRECT(B47&\"!M16\")","v":{"v":0,"d":"0 "}}]
[{"$nulls":7},"(21,02,01)",{"$f":"INDIRECT(B47&\"!L16\")","v":{"v":0,"d":"0 "}},null,"処理残渣の埋立","(21,02,05)",{"$f":"INDIRECT(B47&\"!N16\")","v":{"v":0,"d":"0 "}}]
[null,"不燃ごみ",{"$f":"INDIRECT(B47&\"!E14\")+INDIRECT(B47&\"!F14\")","v":{"v":0,"d":"0 "}},{"$nulls":7},"資源化量","(21,02,06)",{"$f":"INDIRECT(B47&\"!O16\")","v":{"v":0,"d":"0 "}}]
[{"$nulls":11},"（中間処理後保管量",{"$f":"INDIRECT(B47&\"!P16\")","v":{"v":0,"d":"0)"}}]
[null,"資源ごみ",{"$f":"INDIRECT(B47&\"!E15\")+INDIRECT(B47&\"!F15\")","v":{"v":0,"d":"0 "}},{"$nulls":4},"資源化等を行う施設",null,null,"処理残渣の焼却","(21,03,04)",{"$f":"INDIRECT(B47&\"!M21\")","v":{"v":0,"d":"0 "}}]
[{"$nulls":7},"(21,03,01)",{"$f":"INDIRECT(B47&\"!L21\")","v":{"v":0,"d":"0 "}},null,"処理残渣の埋立","(21,03,05)",{"$f":"INDIRECT(B47&\"!N21\")","v":{"v":0,"d":"0 "}}]
[null,"その他　",{"$f":"INDIRECT(B47&\"!E16\")+INDIRECT(B47&\"!F16\")","v":{"v":0,"d":"0 "}},{"$nulls":7},"資源化量","(21,03,06)",{"$f":"INDIRECT(B47&\"!O21\")","v":{"v":0,"d":"0 "}}]
[{"$nulls":11},"（中間処理後保管量",{"$f":"INDIRECT(B47&\"!P21\")","v":{"v":0,"d":"0)"}}]
[null,"粗大ごみ",{"$f":"INDIRECT(B47&\"!E17\")+INDIRECT(B47&\"!F17\")","v":{"v":0,"d":"0 "}},null,"焼却以外の中間処理施設",null,null,"ごみ堆肥化施設",null,null,"処理残渣の焼却","(21,04,04)",{"$f":"INDIRECT(B47&\"!M17\")","v":{"v":0,"d":"0 "}}]
[{"$nulls":5},{"$f":"INDIRECT(B47&\"!L23\")","v":{"v":0,"d":"0 "}},null,"(21,04,01)",{"$f":"INDIRECT(B47&\"!L17\")","v":{"v":0,"d":"0 "}},null,"処理残渣の埋立","(21,04,05)",{"$f":"INDIRECT(B47&\"!N17\")","v":{"v":0,"d":"0 "}}]
[null,"直接搬入ごみ",{"$f":"INDIRECT(B47&\"!E25\")+INDIRECT(B47&\"!F25\")","v":{"v":0,"d":"0 "}},{"$nulls":7},"資源化量","(21,04,06)",{"$f":"INDIRECT(B47&\"!O17\")","v":{"v":0,"d":"0 "}}]
[{"$nulls":11},"（中間処理後保管量",{"$f":"INDIRECT(B47&\"!P17\")","v":{"v":0,"d":"0)"}}]
[null,"自家処理量",{"$f":"INDIRECT(B47&\"!Y133\")","v":{"v":0,"d":"0 "}},{"$nulls":4},"ごみ飼料化施設",null,null,"処理残渣の焼却","(21,05,04)",{"$f":"INDIRECT(B47&\"!M18\")","v":{"v":0,"d":"0 "}}]
[{"$nulls":7},"(21,05,01)",{"$f":"INDIRECT(B47&\"!L18\")","v":{"v":0,"d":"0 "}},null,"処理残渣の埋立","(21,05,05)",{"$f":"INDIRECT(B47&\"!N18\")","v":{"v":0,"d":"0 "}}]
[null,"集団回収量",{"$f":"INDIRECT(B47&\"!E31\")","v":{"v":0,"d":"0 "}},{"$nulls":7},"資源化量","(21,05,06)",{"$f":"INDIRECT(B47&\"!O18\")","v":{"v":0,"d":"0 "}}]
[{"$nulls":11},"（中間処理後保管量",{"$f":"INDIRECT(B47&\"!P18\")","v":{"v":0,"d":"0)"}}]
[{"$nulls":7},"メタン化施設",null,null,"処理残渣の焼却","(21,06,04)",{"$f":"INDIRECT(B47&\"!M19\")","v":{"v":0,"d":"0 "}}]
[{"$nulls":7},"(21,06,01)",{"$f":"INDIRECT(B47&\"!L19\")","v":{"v":0,"d":"0 "}},null,"処理残渣の埋立","(21,06,05)",{"$f":"INDIRECT(B47&\"!N19\")","v":{"v":0,"d":"0 "}}]
[{"$nulls":10},"資源化量","(21,06,06)",{"$f":"INDIRECT(B47&\"!O19\")","v":{"v":0,"d":"0 "}}]
[{"$nulls":11},"（中間処理後保管量",{"$f":"INDIRECT(B47&\"!P19\")","v":{"v":0,"d":"0)"}}]
[{"$nulls":7},"ごみ燃料化施設",null,null,"処理残渣の焼却","(21,07,04)",{"$f":"INDIRECT(B47&\"!M20\")","v":{"v":0,"d":"0 "}}]
[{"$nulls":7},"(21,07,01)",{"$f":"INDIRECT(B47&\"!L20\")","v":{"v":0,"d":"0 "}},null,"処理残渣の埋立","(21,07,05)",{"$f":"INDIRECT(B47&\"!N20\")","v":{"v":0,"d":"0 "}}]
[{"$nulls":10},"資源化量","(21,07,06)",{"$f":"INDIRECT(B47&\"!O20\")","v":{"v":0,"d":"0 "}}]
[{"$nulls":11},"（中間処理後保管量",{"$f":"INDIRECT(B47&\"!P20\")","v":{"v":0,"d":"0)"}}]
[{"$nulls":7},"その他施設",null,null,"処理残渣の焼却","(21,08,04)",{"$f":"INDIRECT(B47&\"!M22\")","v":{"v":0,"d":"0 "}},null,"中間処理に伴う資源化量"]
[{"$nulls":7},"(21,08,01)",{"$f":"INDIRECT(B47&\"!L22\")","v":{"v":0,"d":"0 "}},null,"処理残渣の埋立","(21,08,05)",{"$f":"INDIRECT(B47&\"!N22\")","v":{"v":0,"d":"0 "}},null,{"$f":"INDIRECT(B47&\"!O24\")","v":{"v":0,"d":"0 "}}]
[null,"　　計画収集人口",{"$f":"INDIRECT(B47&\"!E6\")","v":{"v":0,"d":"0 "}},{"$nulls":8},"（中間処理後保管量",{"$f":"INDIRECT(B47&\"!P22\")","v":{"v":0,"d":"0)"}}]
[null,"　　自家処理人口",{"$f":"INDIRECT(B47&\"!E7\")","v":{"v":0,"d":"0 "}},null,"直接資源化量",{"$nulls":9},"資源化量合計"]
[null,"総人口",{"$f":"INDIRECT(B47&\"!E8\")","v":{"v":0,"d":"0 "}},null,"(20,20,01)",{"$f":"INDIRECT(B47&\"!L25\")","v":{"v":0,"d":"0 "}},{"$nulls":9},{"$f":"INDIRECT(B47&\"!O27\")","v":{"v":0,"d":"0 "}}]
[]
[]
[]
[]
[]
[]
[null,"ごみ集計結果"]