Workbook

Sheet ロゴマーク使用承認申請（変更届出）書
C2: ＜別添＞ ※使用の10日前まで（有償販売等での利用時は30日まで）
C3: サステナブルファッション・キャンペーン ロゴマーク使用承認申請（変更届出）書
C4: 「サステナブルファッション・キャンペーン」 ロゴマーク使用規約を遵守し、ロゴマークの使用について以下のとおり 申請（変更届出）します。 ※サステナブルファッション・パートナー制度の会員企業等（パートナー会員）は、 本申請を行うことなく、無償でロゴマークを使用できます。ただし、有償販売等での利用時は本申請が必要です。
D5: 項目 | E5: 記入欄
C6: ① 基本情報
C7: 1 | D7: 申請内容 （新規／変更）
C8: 2 | D8: 承認番号 （変更届出の場合）
C9: 3 | D9: 所属の分類 （企業／団体・NPO／自治体／個人）
C10: 4 | D10: 企業・団体・自治体等の名称（個人の場合は氏名）
C11: 5 | D11: 所属・部署 （個人の場合は不要）
C12: 6 | D12: ご担当者氏名（個人の場合は不要）
C13: 7 | D13: 住所
C14: 8 | D14: 電話番号
C15: 9 | D15: メールアドレス
C16: ② ロゴマークの使用予定（変更届出の場合は、変更する内容についてのみ記載）
C17: 10 | D17: 使用目的（変更の場合は変更理由）
C18: 11 | D18: ロゴマークを利用した販売の有無
C19: 12 | D19: 使用期間 ※有償販売等での利用時は販売期間を記載し、 終了日を明示すること。 ※使用可能期間は、原則承認日から１年間です。
C20: 13 | D20: 使用方法 ※使用媒体（HP・SNS・チラシ・ポスター・商品 パッケージ・イベント等・動画）を記載。 ※ロゴマークを使用した完成イメージ又は デザイン案は、別添にて提出ください。 ※有償販売での利用時は、販売先・販売方法・ 価格等も併せて記載ください。
C21: 14 | D21: 関連ＵＲＬ ※HP・SNS等に使用する場合や、 本件著作物をHP等に掲載する場合は記載。
C22: 15 | D22: その他（ご要望等）
C23: 備考 ・上記項目を全て記入いただき、環境省サステナブルファッション担当宛＜fashion@env.go.jp＞にExcelファイルをお送りください。 ・メールの件名は【サステナブルファッション_ロゴ利用申請】○○株式会社（若しくは団体・NPO名、自治体名、個人名）としてください。 ・使用方法がわかる資料や、その他必要と考えられる資料については、別添での提出も可とします。 ・内容を確認させていただき、後日担当者よりご連絡させていただく事があります。 また、環境省からのご案内等をメール等で送信させていただく場合もあります。 ※以下の場合の使用を禁止します。 (1) サステナブルファッション・キャンペーンのコンセプト、仕様等（ロゴマーク使用規約、ロゴマーク使用マニュアル等）に反する場合。 (2) サステナブルファッション・キャンペーンの目的等と著しく乖離し、又はその品位が損なわれるおそれがある場合。 (3) 法令や公序良俗に反する使用、又はそのおそれがある場合。 (4) 特定の団体や個人等を誹謗中傷する場合。 (5) 使用者がロゴマークの使用、又はそれらを伴う物品、印刷物及びサービス等の提供により、ロゴマークの信用を利用して不当な利益等を得る場合。 (6) 主として、特定の政治、思想、宗教、募金等の活動と結びつけて使用する場合。 (7) 提供する商品やサービスの品質を担保、又は証明するものとして使用する場合。 (8) 承認申請（変更届出）書その他事務局に提出する書類に虚偽の情報を含む場合。 (9) 使用者が実在しない団体である場合。 (10) 反社会的勢力、又はそれに類する団体、企業、又は個人に関わりがある者が使用する場合。 (11) その他、本規約の定めに適合しない場合。
C24: 事務局記載欄
C25: ●●●● 殿 | E25: 第 ●●●● 号
C26: 上記の申請のとおりロゴマークの使用を承認します。ただし、事務局は、ロゴマークの使用に伴って生じる一切の責任を負わないものとします。なお、申請内容に変更がある場合は、速やかに変更の届出をすること。不正な使用が行われた場合は、申請者は直ちに使用を中止するとともに、対象の回収・撤去等を行うこと。
C27: 年 月 日
C28: サステナブルファッション・キャンペーン 事務局

Sheet 事務局使用
A1: 項目番号 | B1: 1 | C1: 2 | D1: 3 | E1: 4 | F1: 5 | G1: 6 | H1: 7 | I1: 8 | J1: 9 | K1: 10 | L1: 11 | M1: 12 | N1: 13 | O1: 14 | P1: 15
A2: 項目 | B2: =VLOOKUP(B$1,'ロゴマーク使用承認申請（変更届出）書'!$C$7:$E$22,2,FALSE) -> 申請内容 （新規／変更） | C2: =VLOOKUP(C$1,'ロゴマーク使用承認申請（変更届出）書'!$C$7:$E$22,2,FALSE) -> 承認番号 （変更届出の場合） | D2: =VLOOKUP(D$1,'ロゴマーク使用承認申請（変更届出）書'!$C$7:$E$22,2,FALSE) -> 所属の分類 （企業／団体・NPO／自治体／個人） | E2: =VLOOKUP(E$1,'ロゴマーク使用承認申請（変更届出）書'!$C$7:$E$22,2,FALSE) -> 企業・団体・自治体等の名称（個人の場合は氏名） | F2: =VLOOKUP(F$1,'ロゴマーク使用承認申請（変更届出）書'!$C$7:$E$22,2,FALSE) -> 所属・部署 （個人の場合は不要） | G2: =VLOOKUP(G$1,'ロゴマーク使用承認申請（変更届出）書'!$C$7:$E$22,2,FALSE) -> ご担当者氏名（個人の場合は不要） | H2: =VLOOKUP(H$1,'ロゴマーク使用承認申請（変更届出）書'!$C$7:$E$22,2,FALSE) -> 住所 | I2: =VLOOKUP(I$1,'ロゴマーク使用承認申請（変更届出）書'!$C$7:$E$22,2,FALSE) -> 電話番号 | ... P2: =VLOOKUP(P$1,'ロゴマーク使用承認申請（変更届出）書'!$C$7:$E$22,2,FALSE) -> その他（ご要望等）
A3: 記入欄 | B3: =VLOOKUP(B$1,'ロゴマーク使用承認申請（変更届出）書'!$C$7:$E$22,3,FALSE) | C3: =VLOOKUP(C$1,'ロゴマーク使用承認申請（変更届出）書'!$C$7:$E$22,3,FALSE) | D3: =VLOOKUP(D$1,'ロゴマーク使用承認申請（変更届出）書'!$C$7:$E$22,3,FALSE) | E3: =VLOOKUP(E$1,'ロゴマーク使用承認申請（変更届出）書'!$C$7:$E$22,3,FALSE) | F3: =VLOOKUP(F$1,'ロゴマーク使用承認申請（変更届出）書'!$C$7:$E$22,3,FALSE) | G3: =VLOOKUP(G$1,'ロゴマーク使用承認申請（変更届出）書'!$C$7:$E$22,3,FALSE) | H3: =VLOOKUP(H$1,'ロゴマーク使用承認申請（変更届出）書'!$C$7:$E$22,3,FALSE) | I3: =VLOOKUP(I$1,'ロゴマーク使用承認申請（変更届出）書'!$C$7:$E$22,3,FALSE) | ... P3: =VLOOKUP(P$1,'ロゴマーク使用承認申請（変更届出）書'!$C$7:$E$22,3,FALSE)
