{"text_format":"3","workbook":"xlsx","n_sheets":2,"sheets":["個別サイト評価計算ツール","計算"],"not_rendered":{"charts":8,"defined_names":1},"read":"whole","date_system":"1900"}

{"sheet":"個別サイト評価計算ツール","index":0,"n_rows":38,"n_cols":12,"rows_kept":38,"merged":[[1,11,1,15],[1,16,1,18],[3,4,3,5],[3,6,3,8],[3,11,3,15],[3,16,3,18],[30,3,30,6]]}
[]
[null,"個別サイト評価計算ツール Ver.1.0",{"$nulls":9},"計算実施日"]
[]
[{"$nulls":4},"評価対象地住所",{"$nulls":6},"自然由来等土壌の搬出元の区域指定の整理番号"]
[]
[null,"サイト情報",{"$nulls":9},"不飽和層内の濃度分布"]
[null,null,"不飽和層厚の情報"]
[null,null,"不飽和層厚　(m)",5]
[]
[null,null,"年間降水量の情報",null,null,"　"]
[null,null,"年間降水量　(mm/年)",2700]
[null,null,"年間浸透量　(mm/年)",{"$f":"計算!D25","v":810}]
[null,null,"計算に使用する年間浸透量　(mm/年)",{"$f":"計算!D26","v":800}]
[]
[null,null,"分配係数の情報",{"$f":"計算!D43","v":""},{"$nulls":3},"※評価対象物質のみ入力"]
[null,null,"特定有害物質",{"$f":"D36","v":"砒素"},"ふっ素","ほう素","カドミウム","セレン","六価クロム"]
[null,null,"分配係数　(L/kg)",20]
[null,null,"分配係数ディフォルト値　(L/kg)",3,0.6,0.1,"100(pH5以上)\n10(pH5未満)",5,0.8]
[]
[null,null,"自然由来等土壌の汚染状態",{"$f":"計算!D47","v":""},{"$nulls":3},"※評価対象物質のみ入力"]
[null,null,"特定有害物質",{"$f":"D36","v":"砒素"},{"$f":"E36","v":"ふっ素"},"ほう素","カドミウム","セレン","六価クロム"]
[null,null,"自然由来等土壌の汚染状態　(mg/L)",0.026]
[{"$nulls":3},{"$f":"計算!D51","v":""}]
[]
[null,"汚染状態の判定結果"]
[null,null,"特定有害物質毎の許容濃度と汚染状態"]
[null,null,"特定有害物質",{"$f":"D36","v":"砒素"},{"$f":"E36","v":"ふっ素"},"ほう素","カドミウム","セレン","六価クロム"]
[null,null,"許容濃度　(mg/L)",{"$f":"計算!D58","v":0.15},{"$f":"計算!E58","v":"-"},{"$f":"計算!F58","v":"-"},{"$f":"計算!G58","v":"-"},{"$f":"計算!H58","v":"-"},{"$f":"計算!I58","v":"-"}]
[null,null,"物質毎の汚染状態の判定結果",{"$f":"計算!D63","v":"クラス1-B"},{"$f":"計算!E63","v":"-"},{"$f":"計算!F63","v":"-"},{"$f":"計算!G63","v":"-"},{"$f":"計算!H63","v":"-"},{"$f":"計算!I63","v":"-"}]
[]
[null,null,"汚染状態の判定結果",{"$f":"計算!D69","v":"クラス1-B（遮水工等の措置を必要としない）"}]
[]
[]
[null,"指定基準　2017年11月"]
[]
[null,null,"物質","砒素","ふっ素","ほう素","カドミウム","セレン","六価クロム"]
[null,null,"土壌溶出量基準　(mg/L)",0.01,0.8,1,0.01,0.01,0.05]
[null,null,"第二溶出量基準　(mg/L)",0.3,24,30,0.3,0.3,1.5]

{"sheet":"計算","index":1,"n_rows":228,"n_cols":16,"rows_kept":228,"hidden":true}
["(1) 活用土壌の許容濃度(基準の10倍値まで)、対象物質毎のクラス判定、サイトのクラス判定を計算するフロー"]
[]
["入力画面から","施工後の帯水層と活用土壌との距離","m",{"$f":"個別サイト評価計算ツール!D8","v":5}]
[null,"降水量","mm/year",{"$f":"個別サイト評価計算ツール!D11","v":2700}]
[null,"物質",null,{"$f":"個別サイト評価計算ツール!D36","v":"砒素"},{"$f":"個別サイト評価計算ツール!E36","v":"ふっ素"},{"$f":"個別サイト評価計算ツール!F36","v":"ほう素"},{"$f":"個別サイト評価計算ツール!G36","v":"カドミウム"},{"$f":"個別サイト評価計算ツール!H36","v":"セレン"},{"$f":"個別サイト評価計算ツール!I36","v":"六価クロム"}]
[null,"分配係数","L/kg",{"$f":"IF(個別サイト評価計算ツール!D17=\"\",\"\",個別サイト評価計算ツール!D17)","v":20},{"$f":"IF(個別サイト評価計算ツール!E17=\"\",\"\",個別サイト評価計算ツール!E17)","v":""},{"$f":"IF(個別サイト評価計算ツール!F17=\"\",\"\",個別サイト評価計算ツール!F17)","v":""},{"$f":"IF(個別サイト評価計算ツール!G17=\"\",\"\",個別サイト評価計算ツール!G17)","v":""},{"$f":"IF(個別サイト評価計算ツール!H17=\"\",\"\",個別サイト評価計算ツール!H17)","v":""},{"$f":"IF(個別サイト評価計算ツール!I17=\"\",\"\",個別サイト評価計算ツール!I17)","v":""}]
[null,"物質",null,{"$f":"D5","v":"砒素"},{"$f":"E5","v":"ふっ素"},"ほう素","カドミウム","セレン","六価クロム"]
[null,"土壌溶出量試験の結果","mg/L",{"$f":"IF(個別サイト評価計算ツール!D22=\"\",\"\",個別サイト評価計算ツール!D22)","v":0.026},{"$f":"IF(個別サイト評価計算ツール!E22=\"\",\"\",個別サイト評価計算ツール!E22)","v":""},{"$f":"IF(個別サイト評価計算ツール!F22=\"\",\"\",個別サイト評価計算ツール!F22)","v":""},{"$f":"IF(個別サイト評価計算ツール!G22=\"\",\"\",個別サイト評価計算ツール!G22)","v":""},{"$f":"IF(個別サイト評価計算ツール!H22=\"\",\"\",個別サイト評価計算ツール!H22)","v":""},{"$f":"IF(個別サイト評価計算ツール!I22=\"\",\"\",個別サイト評価計算ツール!I22)","v":""}]
[null,"指定基準　2017/11"]
[null,"物質",null,{"$f":"D5","v":"砒素"},{"$f":"E5","v":"ふっ素"},"ほう素","カドミウム","セレン","六価クロム"]
[null,"土壌溶出量基準","mg/L",{"$f":"個別サイト評価計算ツール!D37","v":0.01},{"$f":"個別サイト評価計算ツール!E37","v":0.8},{"$f":"個別サイト評価計算ツール!F37","v":1},{"$f":"個別サイト評価計算ツール!G37","v":0.01},{"$f":"個別サイト評価計算ツール!H37","v":0.01},{"$f":"個別サイト評価計算ツール!I37","v":0.05}]
[null,"第2溶出量基準","mg/L",{"$f":"個別サイト評価計算ツール!D38","v":0.3},{"$f":"個別サイト評価計算ツール!E38","v":24},{"$f":"個別サイト評価計算ツール!F38","v":30},{"$f":"個別サイト評価計算ツール!G38","v":0.3},{"$f":"個別サイト評価計算ツール!H38","v":0.3},{"$f":"個別サイト評価計算ツール!I38","v":1.5}]
[]
[{"$nulls":3},{"$f":"D5","v":"砒素"},{"$f":"E5","v":"ふっ素"},"ほう素","カドミウム","セレン","六価クロム"]
["カドミウム以外は入出力画面から","分配係数ディフォルト値　（最小値）","L/kg",{"$f":"個別サイト評価計算ツール!D18","v":3},{"$f":"個別サイト評価計算ツール!E18","v":0.6},{"$f":"個別サイト評価計算ツール!F18","v":0.1},17,{"$f":"個別サイト評価計算ツール!H18","v":5},{"$f":"個別サイト評価計算ツール!I18","v":0.8}]
[]
[{"$nulls":3},{"$f":"D5","v":"砒素"},{"$f":"E5","v":"ふっ素"},"ほう素","カドミウム","セレン","六価クロム"]
["カドミウム以外は入出力画面から","入力可能な区域指定濃度下限値","mg/L",{"$f":"計算!D11","v":0.01},{"$f":"計算!E11","v":0.8},{"$f":"計算!F11","v":1},0.075,{"$f":"計算!H11","v":0.01},{"$f":"計算!I11","v":0.05}]
[]
["単位変換、パラメータの計算"]
[null,"分散長","m",{"$f":"D3*0.1","v":0.5}]
[null,"液相率",null,0.3]
[null,"乾燥密度","kg/m3",1500]
[null,"浸透率",null,0.3]
["出力へ","浸透量","mm/year",{"$f":"D4*D24","v":810}]
["出力へ","計算に使用する浸透量","mm/year",{"$f":"IF(D25>800,800,D25)","v":800}]
[null,"評価期間","year",100]
[null,"流速v","m/year",{"$f":"D26/1000/D22","v":2.666666666666667},"=計算に使用する浸透量(mm/year)/1000/theta"]
[null,"分散係数D","m2/year",{"$f":"D21*D28","v":1.3333333333333335},"=分散長×流速"]
[null,"物質",null,{"$f":"D5","v":"砒素"},{"$f":"E5","v":"ふっ素"},"ほう素","カドミウム","セレン","六価クロム"]
[null,"分配係数Kd'","m3/kg",{"$f":"D6/1000","v":0.02},{"$f":"E6/1000","v":{"$error":"#VALUE!"}},{"$error":"#VALUE!"},{"$error":"#VALUE!"},{"$error":"#VALUE!"},{"$error":"#VALUE!"}]
[null,"遅延係数",null,{"$f":"1+D31*$D$23/$D$22","v":101},{"$f":"1+E31*$D$23/$D$22","v":{"$error":"#VALUE!"}},{"$error":"#VALUE!"},{"$error":"#VALUE!"},{"$error":"#VALUE!"},{"$error":"#VALUE!"},"'=1+Kd'×乾燥密度/液相率"]
[]
["100年後の不飽和層下端濃度",null,null,{"$f":"D5","v":"砒素"},{"$f":"E5","v":"ふっ素"},"ほう素","カドミウム","セレン","六価クロム"]
[null,"相対濃度",null,{"$f":"0.5*ERFC((D$32*$D3-$D$28*$D$27)/(SQRT(4*$D$29*D$32*$D$27)))+SQRT($D$28*$D$28*$D$27/(PI()*$D$29*D$32))*EXP(-(D$32*$D3-$D$28*$D$27)*(D$32*$D3-$D$28*$D$27)/(4*$D$29*D$32*$D$27))-0.5*(1+$D$28*$D3/$D$29+$D$28*$D$28*$D$27/$D$29/D$32)*EXP($D$28*$D3/$D$29)*ERFC((D$32*$D3+$D$28*$D$27)/(SQRT(4*$D$29*D$32*$D$27)))","v":0.0629865754344644},{"$f":"0.5*ERFC((E$32*$D3-$D$28*$D$27)/(SQRT(4*$D$29*E$32*$D$27)))+SQRT($D$28*$D$28*$D$27/(PI()*$D$29*E$32))*EXP(-(E$32*$D3-$D$28*$D$27)*(E$32*$D3-$D$28*$D$27)/(4*$D$29*E$32*$D$27))-0.5*(1+$D$28*$D3/$D$29+$D$28*$D$28*$D$27/$D$29/E$32)*EXP($D$28*$D3/$D$29)*ERFC((E$32*$D3+$D$28*$D$27)/(SQRT(4*$D$29*E$32*$D$27)))","v":{"$error":"#VALUE!"}},{"$f":"0.5*ERFC((F$32*$D3-$D$28*$D$27)/(SQRT(4*$D$29*F$32*$D$27)))+SQRT($D$28*$D$28*$D$27/(PI()*$D$29*F$32))*EXP(-(F$32*$D3-$D$28*$D$27)*(F$32*$D3-$D$28*$D$27)/(4*$D$29*F$32*$D$27))-0.5*(1+$D$28*$D3/$D$29+$D$28*$D$28*$D$27/$D$29/F$32)*EXP($D$28*$D3/$D$29)*ERFC((F$32*$D3+$D$28*$D$27)/(SQRT(4*$D$29*F$32*$D$27)))","v":{"$error":"#VALUE!"}},{"$error":"#VALUE!"},{"$error":"#VALUE!"},{"$f":"0.5*ERFC((I$32*$D3-$D$28*$D$27)/(SQRT(4*$D$29*I$32*$D$27)))+SQRT($D$28*$D$28*$D$27/(PI()*$D$29*I$32))*EXP(-(I$32*$D3-$D$28*$D$27)*(I$32*$D3-$D$28*$D$27)/(4*$D$29*I$32*$D$27))-0.5*(1+$D$28*$D3/$D$29+$D$28*$D$28*$D$27/$D$29/I$32)*EXP($D$28*$D3/$D$29)*ERFC((I$32*$D3+$D$28*$D$27)/(SQRT(4*$D$29*I$32*$D$27)))","v":{"$error":"#VALUE!"}},"1次元解析解で計算"]
[null,"相対濃度が0と計算された時の対策",null,{"$f":"IF(D35<0.000001,0.000001,D35)","v":0.0629865754344644},{"$f":"IF(E35<0.000001,0.000001,E35)","v":{"$error":"#VALUE!"}},{"$error":"#VALUE!"},{"$error":"#VALUE!"},{"$error":"#VALUE!"},{"$error":"#VALUE!"},"相対濃度がほぼ0と計算された時は1e-6に置き換え"]
[]
["判定の要・不要",null,null,{"$f":"D5","v":"砒素"},{"$f":"E5","v":"ふっ素"},"ほう素","カドミウム","セレン","六価クロム"]
[null,"判定の要不要",null,{"$f":"NOT(OR(D6=\"\",D8=\"\"))","v":true},{"$f":"NOT(OR(E6=\"\",E8=\"\"))","v":false},false,false,false,false,"分配係数と活用土壌の濃度情報のどちらかが空欄の時は判定が不要＝FALSE"]
[]
["エラー表示　Kd","分配係数とディフォルト値の比較",null,{"$f":"IF(0>D6,FALSE,TRUE)","v":true},{"$f":"IF(0>E6,FALSE,TRUE)","v":true},true,true,true,{"$f":"IF(0>I6,FALSE,TRUE)","v":true},"分配係数が0より小さい時にFALSE（エラー）を返す"]
[null,"サイトの汚染状態を出力するための計算",null,{"$f":"AND(D41=TRUE,E41=TRUE,F41=TRUE,G41=TRUE,H41=TRUE,I41=TRUE)","v":true},{"$nulls":5},"1つ上の行に一つでもFALSEがあれば、FALSE（判定できない）を返す"]
["出力へ","エラー表示",null,{"$f":"IF(D42=FALSE,$J43,\"\")","v":""},{"$nulls":5},"エラー：0より小さい値が入力されています。","上の行がFALSEの時、エラー文章を返す"]
[]
["エラー表示　区域指定濃度","区域指定濃度と下限値の比較",null,{"$f":"IF(D8>D11,TRUE,FALSE)","v":true},{"$f":"IF(E8>E11,TRUE,FALSE)","v":true},true,true,true,true,"区域指定濃度が入力可能な濃度下限値より小さい時にFALSE（判定できない）を返す"]
[null,"サイトの汚染状態を出力するための計算",null,{"$f":"AND(D45=TRUE,E45=TRUE,F45=TRUE,G45=TRUE,H45=TRUE,I45=TRUE)","v":true},{"$nulls":5},"1つ上の行に一つでもFALSEがあれば、FALSE（判定できない）を返す"]
["出力へ","エラー表示",null,{"$f":"IF(D46=FALSE,$J47,\"\")","v":""},{"$nulls":5},"エラー：土壌溶出量基準以下の値が入力されています。","上の行がFALSEの時、エラー文章を返す"]
[]
["エラー表示　区域指定濃度","区域指定濃度と第2溶出量基準値の比較",null,{"$f":"IF(OR(D12>=D8,D8=\"\"),TRUE,FALSE)","v":true},{"$f":"IF(OR(E12>=E8,E8=\"\"),TRUE,FALSE)","v":true},true,true,true,true,"区域指定濃度が第二溶出量基準値より大きい時にFALSE（判定できない）を返す"]
[null,"サイトの汚染状態を出力するための計算",null,{"$f":"AND(D49=TRUE,E49=TRUE,F49=TRUE,G49=TRUE,H49=TRUE,I49=TRUE)","v":true},{"$nulls":5},"1つ上の行に一つでもFALSEがあれば、FALSE（判定できない）を返す"]
["出力へ","エラー表示",null,{"$f":"IF(D50=FALSE,$J51,\"\")","v":""},{"$nulls":5},"エラー：第二溶出量基準より大きい値が入力されています。","上の行がFALSEの時、エラー文章を返す"]
[]
["活用土壌の許容濃度",null,null,{"$f":"D5","v":"砒素"},"ふっ素","ほう素","カドミウム","セレン","六価クロム"]
[null,"許容濃度","mg/L",{"$f":"D11/D36","v":0.15876398948542128},{"$f":"E11/E36","v":{"$error":"#VALUE!"}},{"$error":"#VALUE!"},{"$error":"#VALUE!"},{"$error":"#VALUE!"},{"$error":"#VALUE!"},"=基準値/相対濃度(相対濃度：基準値=1：許容濃度)"]
[null,"許容濃度　最大は第2溶出量基準","mg/L",{"$f":"IF(D54>D12,D12,D54)","v":0.15876398948542128},{"$f":"IF(E54>E12,E12,E54)","v":{"$error":"#VALUE!"}},{"$error":"#VALUE!"},{"$error":"#VALUE!"},{"$error":"#VALUE!"},{"$error":"#VALUE!"},"許容濃度の計算値が第二溶出量基準を超えていたら、第二溶出量基準値に置き換える"]
[null,"許容濃度　切り捨て","mg/L",{"$f":"ROUNDDOWN(D55,-INT(LOG10(D55))+1)","v":0.15},{"$f":"ROUNDDOWN(E55,-INT(LOG10(E55))+1)","v":{"$error":"#VALUE!"}},{"$error":"#VALUE!"},{"$error":"#VALUE!"},{"$error":"#VALUE!"},{"$error":"#VALUE!"},"小数第3位を切り捨てる"]
[null,"表示条件を満たしているか",null,{"$f":"AND(D39,D41,D45,D49)","v":true},{"$f":"AND(E39,E41,E45,E49)","v":false},false,false,false,{"$f":"AND(I39,I41,I45,I49)","v":false},"判定が必要で、かつ、分配係数、区域指定濃度の入力にエラーがある場合はFALSEを返す"]
["出力へ","許容濃度　表示","mg/L",{"$f":"IF(D57=FALSE,\"-\",D56)","v":0.15},{"$f":"IF(E57=FALSE,\"-\",E56)","v":"-"},"-","-","-",{"$f":"IF(I57=FALSE,\"-\",I56)","v":"-"},"表示条件を満たしている場合(TRUE)に表示する内容"]
[]
[]
["構造要件の判定",null,null,{"$f":"D5","v":"砒素"},"ふっ素","ほう素","カドミウム","セレン","六価クロム"]
[null,"対象物質毎",null,{"$f":"IF(D56<D8,\"クラス2\",\"クラス1-B\")","v":"クラス1-B"},{"$f":"IF(E56<E8,\"クラス2\",\"クラス1-B\")","v":{"$error":"#VALUE!"}},{"$error":"#VALUE!"},{"$error":"#VALUE!"},{"$error":"#VALUE!"},{"$f":"IF(I56<I8,\"クラス2\",\"クラス1-B\")","v":{"$error":"#VALUE!"}},"許容濃度と区域指定濃度を比較して判定する"]
["出力へ","対象物質毎の構造要件の出力",null,{"$f":"IF(D57=FALSE,\"-\",D62)","v":"クラス1-B"},{"$f":"IF(E57=FALSE,\"-\",E62)","v":"-"},"-","-","-","-","試験結果が表示条件を満たしているときに表示する内容"]
[null,"サイトの汚染状態を計算するための値",null,{"$f":"IF(D63=\"クラス2\",1,0)","v":0},{"$f":"IF(E63=\"クラス2\",1,0)","v":0},0,0,0,0]
[null,"サイト",null,{"$f":"IF(SUM(D64:J64)>0,\"クラス2（遮水工等の措置が必要）\",\"クラス1-B（遮水工等の措置を必要としない）\")","v":"クラス1-B（遮水工等の措置を必要としない）"},{"$nulls":5},"上の行に一つでも1があればクラス2"]
[null,"サイトの汚染状態を出力するための計算",null,{"$f":"OR(D39=TRUE,E39=TRUE,F39=TRUE,G39=TRUE,H39=TRUE,I39=TRUE)","v":true},{"$nulls":5},"判定の要不要に一つでも要があればTRUEを返す"]
[]
[null,"サイトの汚染状態の表示条件を満たしているか",null,{"$f":"AND(D66,D42,D46,D50)","v":true},{"$nulls":5},"汚染状態の判定(66行)がTRUEで、かつ、分配係数、区域指定濃度の入力全てにエラーがないときにTRUEを返す"]
["出力へ","サイトの汚染状態の表示",null,{"$f":"IF(D68=FALSE,\"-\",D65)","v":"クラス1-B（遮水工等の措置を必要としない）"},{"$nulls":5},"サイトの汚染状態の出力、溶出量試験結果のどちらか一方がTrue(判定できない)のとき”－”を返す。"]
[]
[]
["(2) 濃度プロファイルを表示するためのフロー",null,null,{"$f":"D5","v":"砒素"},"ふっ素","ほう素","カドミウム","セレン","六価クロム"]
[null,"距離(m)　B",null,{"$f":"$D$3","v":5},{"$f":"$D$3","v":5},5,5,5,{"$f":"$D$3","v":5}]
[]
["100年後の不飽和層下端濃度","濃度(mg/L)　A (=相対濃度×土壌溶出量試験結果)",null,{"$f":"D35*D8","v":{"v":1.6376509612960743E-3,"d":"1.64E-03"}},{"$error":"#VALUE!"},{"$error":"#VALUE!"},{"$error":"#VALUE!"},{"$error":"#VALUE!"},{"$error":"#VALUE!"}]
["100年後の濃度が基準値以下となる深度を求める","A<基準値の場合はB、A>基準値の場合は2*B",null,{"$f":"IF(D75<D$11,D73,ROUNDDOWN(2*D73,2))","v":5},{"$f":"IF(E75<E$11,E73,ROUNDDOWN(2*E73,2))","v":{"$error":"#VALUE!"}},{"$error":"#VALUE!"},{"$error":"#VALUE!"},{"$error":"#VALUE!"},{"$error":"#VALUE!"}]
[null,"　　↑での分散係数　（固定値）",null,{"$f":"$D$29","v":1.3333333333333335},{"$f":"$D$29","v":1.3333333333333335},1.3333333333333335,1.3333333333333335,1.3333333333333335,1.3333333333333335]
[null,"↑での相対濃度",null,{"$f":"0.5*ERFC((D$32*D76-$D$28*$D$27)/(SQRT(4*D77*D$32*$D$27)))+SQRT($D$28*$D$28*$D$27/(PI()*D77*D$32))*EXP(-(D$32*D76-$D$28*$D$27)*(D$32*D76-$D$28*$D$27)/(4*D77*D$32*$D$27))-0.5*(1+$D$28*D76/D77+$D$28*$D$28*$D$27/D77/D$32)*EXP($D$28*D76/D77)*ERFC((D$32*D76+$D$28*$D$27)/(SQRT(4*D77*D$32*$D$27)))","v":0.0629865754344644},{"$f":"0.5*ERFC((E$32*E76-$D$28*$D$27)/(SQRT(4*E77*E$32*$D$27)))+SQRT($D$28*$D$28*$D$27/(PI()*E77*E$32))*EXP(-(E$32*E76-$D$28*$D$27)*(E$32*E76-$D$28*$D$27)/(4*E77*E$32*$D$27))-0.5*(1+$D$28*E76/E77+$D$28*$D$28*$D$27/E77/E$32)*EXP($D$28*E76/E77)*ERFC((E$32*E76+$D$28*$D$27)/(SQRT(4*E77*E$32*$D$27)))","v":{"$error":"#VALUE!"}},{"$f":"0.5*ERFC((F$32*F76-$D$28*$D$27)/(SQRT(4*F77*F$32*$D$27)))+SQRT($D$28*$D$28*$D$27/(PI()*F77*F$32))*EXP(-(F$32*F76-$D$28*$D$27)*(F$32*F76-$D$28*$D$27)/(4*F77*F$32*$D$27))-0.5*(1+$D$28*F76/F77+$D$28*$D$28*$D$27/F77/F$32)*EXP($D$28*F76/F77)*ERFC((F$32*F76+$D$28*$D$27)/(SQRT(4*F77*F$32*$D$27)))","v":{"$error":"#VALUE!"}},{"$error":"#VALUE!"},{"$error":"#VALUE!"},{"$error":"#VALUE!"}]
[null,"濃度　(mg/L)",null,{"$f":"D78*D$8","v":1.6376509612960743E-3},{"$f":"E78*E$8","v":{"$error":"#VALUE!"}},{"$error":"#VALUE!"},{"$error":"#VALUE!"},{"$error":"#VALUE!"},{"$error":"#VALUE!"}]
[null,"A<基準値の場合はB、A>基準値の場合は2*B",null,{"$f":"IF(D79<D$11,D76,ROUNDDOWN(2*D76,2))","v":5},{"$f":"IF(E79<E$11,E76,ROUNDDOWN(2*E76,2))","v":{"$error":"#VALUE!"}},{"$error":"#VALUE!"},{"$error":"#VALUE!"},{"$error":"#VALUE!"},{"$error":"#VALUE!"}]
[null,"　　↑での分散係数　（固定値）",null,{"$f":"$D$29","v":1.3333333333333335},{"$f":"$D$29","v":1.3333333333333335},1.3333333333333335,1.3333333333333335,1.3333333333333335,1.3333333333333335]
[null,"↑での相対濃度",null,{"$f":"0.5*ERFC((D$32*D80-$D$28*$D$27)/(SQRT(4*D81*D$32*$D$27)))+SQRT($D$28*$D$28*$D$27/(PI()*D81*D$32))*EXP(-(D$32*D80-$D$28*$D$27)*(D$32*D80-$D$28*$D$27)/(4*D81*D$32*$D$27))-0.5*(1+$D$28*D80/D81+$D$28*$D$28*$D$27/D81/D$32)*EXP($D$28*D80/D81)*ERFC((D$32*D80+$D$28*$D$27)/(SQRT(4*D81*D$32*$D$27)))","v":0.0629865754344644},{"$f":"0.5*ERFC((E$32*E80-$D$28*$D$27)/(SQRT(4*E81*E$32*$D$27)))+SQRT($D$28*$D$28*$D$27/(PI()*E81*E$32))*EXP(-(E$32*E80-$D$28*$D$27)*(E$32*E80-$D$28*$D$27)/(4*E81*E$32*$D$27))-0.5*(1+$D$28*E80/E81+$D$28*$D$28*$D$27/E81/E$32)*EXP($D$28*E80/E81)*ERFC((E$32*E80+$D$28*$D$27)/(SQRT(4*E81*E$32*$D$27)))","v":{"$error":"#VALUE!"}},{"$f":"0.5*ERFC((F$32*F80-$D$28*$D$27)/(SQRT(4*F81*F$32*$D$27)))+SQRT($D$28*$D$28*$D$27/(PI()*F81*F$32))*EXP(-(F$32*F80-$D$28*$D$27)*(F$32*F80-$D$28*$D$27)/(4*F81*F$32*$D$27))-0.5*(1+$D$28*F80/F81+$D$28*$D$28*$D$27/F81/F$32)*EXP($D$28*F80/F81)*ERFC((F$32*F80+$D$28*$D$27)/(SQRT(4*F81*F$32*$D$27)))","v":{"$error":"#VALUE!"}},{"$error":"#VALUE!"},{"$error":"#VALUE!"},{"$error":"#VALUE!"}]
[null,"濃度　(mg/L)",null,{"$f":"D82*D$8","v":1.6376509612960743E-3},{"$f":"E82*E$8","v":{"$error":"#VALUE!"}},{"$error":"#VALUE!"},{"$error":"#VALUE!"},{"$error":"#VALUE!"},{"$error":"#VALUE!"}]
[null,"A<基準値の場合はB、A>基準値の場合は2*B",null,{"$f":"IF(D83<D$11,D80,ROUNDDOWN(2*D80,2))","v":5},{"$f":"IF(E83<E$11,E80,ROUNDDOWN(2*E80,2))","v":{"$error":"#VALUE!"}},{"$error":"#VALUE!"},{"$error":"#VALUE!"},{"$error":"#VALUE!"},{"$error":"#VALUE!"}]
[null,"　　↑での分散係数　（固定値）",null,{"$f":"$D$29","v":1.3333333333333335},{"$f":"$D$29","v":1.3333333333333335},1.3333333333333335,1.3333333333333335,1.3333333333333335,1.3333333333333335]
[null,"↑での相対濃度",null,{"$f":"0.5*ERFC((D$32*D84-$D$28*$D$27)/(SQRT(4*D85*D$32*$D$27)))+SQRT($D$28*$D$28*$D$27/(PI()*D85*D$32))*EXP(-(D$32*D84-$D$28*$D$27)*(D$32*D84-$D$28*$D$27)/(4*D85*D$32*$D$27))-0.5*(1+$D$28*D84/D85+$D$28*$D$28*$D$27/D85/D$32)*EXP($D$28*D84/D85)*ERFC((D$32*D84+$D$28*$D$27)/(SQRT(4*D85*D$32*$D$27)))","v":0.0629865754344644},{"$f":"0.5*ERFC((E$32*E84-$D$28*$D$27)/(SQRT(4*E85*E$32*$D$27)))+SQRT($D$28*$D$28*$D$27/(PI()*E85*E$32))*EXP(-(E$32*E84-$D$28*$D$27)*(E$32*E84-$D$28*$D$27)/(4*E85*E$32*$D$27))-0.5*(1+$D$28*E84/E85+$D$28*$D$28*$D$27/E85/E$32)*EXP($D$28*E84/E85)*ERFC((E$32*E84+$D$28*$D$27)/(SQRT(4*E85*E$32*$D$27)))","v":{"$error":"#VALUE!"}},{"$f":"0.5*ERFC((F$32*F84-$D$28*$D$27)/(SQRT(4*F85*F$32*$D$27)))+SQRT($D$28*$D$28*$D$27/(PI()*F85*F$32))*EXP(-(F$32*F84-$D$28*$D$27)*(F$32*F84-$D$28*$D$27)/(4*F85*F$32*$D$27))-0.5*(1+$D$28*F84/F85+$D$28*$D$28*$D$27/F85/F$32)*EXP($D$28*F84/F85)*ERFC((F$32*F84+$D$28*$D$27)/(SQRT(4*F85*F$32*$D$27)))","v":{"$error":"#VALUE!"}},{"$error":"#VALUE!"},{"$error":"#VALUE!"},{"$error":"#VALUE!"}]
[null,"濃度　(mg/L)",null,{"$f":"D86*D$8","v":1.6376509612960743E-3},{"$f":"E86*E$8","v":{"$error":"#VALUE!"}},{"$error":"#VALUE!"},{"$error":"#VALUE!"},{"$error":"#VALUE!"},{"$error":"#VALUE!"}]
[null,"A<基準値の場合はB、A>基準値の場合は2*B",null,{"$f":"IF(D87<D$11,D84,ROUNDDOWN(2*D84,2))","v":5},{"$f":"IF(E87<E$11,E84,ROUNDDOWN(2*E84,2))","v":{"$error":"#VALUE!"}},{"$error":"#VALUE!"},{"$error":"#VALUE!"},{"$error":"#VALUE!"},{"$error":"#VALUE!"}]
[null,"　　↑での分散係数　（固定値）",null,{"$f":"$D$29","v":1.3333333333333335},{"$f":"$D$29","v":1.3333333333333335},1.3333333333333335,1.3333333333333335,1.3333333333333335,1.3333333333333335]
[null,"↑での相対濃度",null,{"$f":"0.5*ERFC((D$32*D88-$D$28*$D$27)/(SQRT(4*D89*D$32*$D$27)))+SQRT($D$28*$D$28*$D$27/(PI()*D89*D$32))*EXP(-(D$32*D88-$D$28*$D$27)*(D$32*D88-$D$28*$D$27)/(4*D89*D$32*$D$27))-0.5*(1+$D$28*D88/D89+$D$28*$D$28*$D$27/D89/D$32)*EXP($D$28*D88/D89)*ERFC((D$32*D88+$D$28*$D$27)/(SQRT(4*D89*D$32*$D$27)))","v":0.0629865754344644},{"$f":"0.5*ERFC((E$32*E88-$D$28*$D$27)/(SQRT(4*E89*E$32*$D$27)))+SQRT($D$28*$D$28*$D$27/(PI()*E89*E$32))*EXP(-(E$32*E88-$D$28*$D$27)*(E$32*E88-$D$28*$D$27)/(4*E89*E$32*$D$27))-0.5*(1+$D$28*E88/E89+$D$28*$D$28*$D$27/E89/E$32)*EXP($D$28*E88/E89)*ERFC((E$32*E88+$D$28*$D$27)/(SQRT(4*E89*E$32*$D$27)))","v":{"$error":"#VALUE!"}},{"$f":"0.5*ERFC((F$32*F88-$D$28*$D$27)/(SQRT(4*F89*F$32*$D$27)))+SQRT($D$28*$D$28*$D$27/(PI()*F89*F$32))*EXP(-(F$32*F88-$D$28*$D$27)*(F$32*F88-$D$28*$D$27)/(4*F89*F$32*$D$27))-0.5*(1+$D$28*F88/F89+$D$28*$D$28*$D$27/F89/F$32)*EXP($D$28*F88/F89)*ERFC((F$32*F88+$D$28*$D$27)/(SQRT(4*F89*F$32*$D$27)))","v":{"$error":"#VALUE!"}},{"$error":"#VALUE!"},{"$error":"#VALUE!"},{"$error":"#VALUE!"}]
[null,"濃度　(mg/L)",null,{"$f":"D90*D$8","v":1.6376509612960743E-3},{"$f":"E90*E$8","v":{"$error":"#VALUE!"}},{"$error":"#VALUE!"},{"$error":"#VALUE!"},{"$error":"#VALUE!"},{"$error":"#VALUE!"}]
[null,"A<基準値の場合はB、A>基準値の場合は2*B",null,{"$f":"IF(D91<D$11,D88,ROUNDDOWN(2*D88,2))","v":5},{"$f":"IF(E91<E$11,E88,ROUNDDOWN(2*E88,2))","v":{"$error":"#VALUE!"}},{"$error":"#VALUE!"},{"$error":"#VALUE!"},{"$error":"#VALUE!"},{"$error":"#VALUE!"}]
[null,"　　↑での分散係数　（固定値）",null,{"$f":"$D$29","v":1.3333333333333335},{"$f":"$D$29","v":1.3333333333333335},1.3333333333333335,1.3333333333333335,1.3333333333333335,1.3333333333333335]
[null,"↑での相対濃度",null,{"$f":"0.5*ERFC((D$32*D92-$D$28*$D$27)/(SQRT(4*D93*D$32*$D$27)))+SQRT($D$28*$D$28*$D$27/(PI()*D93*D$32))*EXP(-(D$32*D92-$D$28*$D$27)*(D$32*D92-$D$28*$D$27)/(4*D93*D$32*$D$27))-0.5*(1+$D$28*D92/D93+$D$28*$D$28*$D$27/D93/D$32)*EXP($D$28*D92/D93)*ERFC((D$32*D92+$D$28*$D$27)/(SQRT(4*D93*D$32*$D$27)))","v":0.0629865754344644},{"$f":"0.5*ERFC((E$32*E92-$D$28*$D$27)/(SQRT(4*E93*E$32*$D$27)))+SQRT($D$28*$D$28*$D$27/(PI()*E93*E$32))*EXP(-(E$32*E92-$D$28*$D$27)*(E$32*E92-$D$28*$D$27)/(4*E93*E$32*$D$27))-0.5*(1+$D$28*E92/E93+$D$28*$D$28*$D$27/E93/E$32)*EXP($D$28*E92/E93)*ERFC((E$32*E92+$D$28*$D$27)/(SQRT(4*E93*E$32*$D$27)))","v":{"$error":"#VALUE!"}},{"$f":"0.5*ERFC((F$32*F92-$D$28*$D$27)/(SQRT(4*F93*F$32*$D$27)))+SQRT($D$28*$D$28*$D$27/(PI()*F93*F$32))*EXP(-(F$32*F92-$D$28*$D$27)*(F$32*F92-$D$28*$D$27)/(4*F93*F$32*$D$27))-0.5*(1+$D$28*F92/F93+$D$28*$D$28*$D$27/F93/F$32)*EXP($D$28*F92/F93)*ERFC((F$32*F92+$D$28*$D$27)/(SQRT(4*F93*F$32*$D$27)))","v":{"$error":"#VALUE!"}},{"$error":"#VALUE!"},{"$error":"#VALUE!"},{"$error":"#VALUE!"}]
[null,"濃度　(mg/L)",null,{"$f":"D94*D$8","v":1.6376509612960743E-3},{"$f":"E94*E$8","v":{"$error":"#VALUE!"}},{"$error":"#VALUE!"},{"$error":"#VALUE!"},{"$error":"#VALUE!"},{"$error":"#VALUE!"}]
[null,"A<基準値の場合はB、A>基準値の場合は2*B",null,{"$f":"IF(D95<D$11,D92,ROUNDDOWN(2*D92,2))","v":5},{"$f":"IF(E95<E$11,E92,ROUNDDOWN(2*E92,2))","v":{"$error":"#VALUE!"}},{"$error":"#VALUE!"},{"$error":"#VALUE!"},{"$error":"#VALUE!"},{"$error":"#VALUE!"}]
[null,"　　↑での分散係数　（固定値）",null,{"$f":"$D$29","v":1.3333333333333335},{"$f":"$D$29","v":1.3333333333333335},1.3333333333333335,1.3333333333333335,1.3333333333333335,1.3333333333333335]
[null,"↑での相対濃度",null,{"$f":"0.5*ERFC((D$32*D96-$D$28*$D$27)/(SQRT(4*D97*D$32*$D$27)))+SQRT($D$28*$D$28*$D$27/(PI()*D97*D$32))*EXP(-(D$32*D96-$D$28*$D$27)*(D$32*D96-$D$28*$D$27)/(4*D97*D$32*$D$27))-0.5*(1+$D$28*D96/D97+$D$28*$D$28*$D$27/D97/D$32)*EXP($D$28*D96/D97)*ERFC((D$32*D96+$D$28*$D$27)/(SQRT(4*D97*D$32*$D$27)))","v":0.0629865754344644},{"$f":"0.5*ERFC((E$32*E96-$D$28*$D$27)/(SQRT(4*E97*E$32*$D$27)))+SQRT($D$28*$D$28*$D$27/(PI()*E97*E$32))*EXP(-(E$32*E96-$D$28*$D$27)*(E$32*E96-$D$28*$D$27)/(4*E97*E$32*$D$27))-0.5*(1+$D$28*E96/E97+$D$28*$D$28*$D$27/E97/E$32)*EXP($D$28*E96/E97)*ERFC((E$32*E96+$D$28*$D$27)/(SQRT(4*E97*E$32*$D$27)))","v":{"$error":"#VALUE!"}},{"$f":"0.5*ERFC((F$32*F96-$D$28*$D$27)/(SQRT(4*F97*F$32*$D$27)))+SQRT($D$28*$D$28*$D$27/(PI()*F97*F$32))*EXP(-(F$32*F96-$D$28*$D$27)*(F$32*F96-$D$28*$D$27)/(4*F97*F$32*$D$27))-0.5*(1+$D$28*F96/F97+$D$28*$D$28*$D$27/F97/F$32)*EXP($D$28*F96/F97)*ERFC((F$32*F96+$D$28*$D$27)/(SQRT(4*F97*F$32*$D$27)))","v":{"$error":"#VALUE!"}},{"$error":"#VALUE!"},{"$error":"#VALUE!"},{"$error":"#VALUE!"}]
[null,"濃度　(mg/L)",null,{"$f":"D98*D$8","v":1.6376509612960743E-3},{"$f":"E98*E$8","v":{"$error":"#VALUE!"}},{"$error":"#VALUE!"},{"$error":"#VALUE!"},{"$error":"#VALUE!"},{"$error":"#VALUE!"}]
[null,"A<基準値の場合はB、A>基準値の場合は2*B",null,{"$f":"IF(D99<D$11,D96,ROUNDDOWN(2*D96,2))","v":5},{"$f":"IF(E99<E$11,E96,ROUNDDOWN(2*E96,2))","v":{"$error":"#VALUE!"}},{"$f":"IF(F99<F$11,F96,ROUNDDOWN(2*F96,2))","v":{"$error":"#VALUE!"}},{"$error":"#VALUE!"},{"$error":"#VALUE!"},{"$error":"#VALUE!"}]
[null,"　　↑での分散係数　（固定値）",null,{"$f":"$D$29","v":1.3333333333333335},{"$f":"$D$29","v":1.3333333333333335},1.3333333333333335,1.3333333333333335,1.3333333333333335,1.3333333333333335]
[null,"↑での相対濃度",null,{"$f":"0.5*ERFC((D$32*D100-$D$28*$D$27)/(SQRT(4*D101*D$32*$D$27)))+SQRT($D$28*$D$28*$D$27/(PI()*D101*D$32))*EXP(-(D$32*D100-$D$28*$D$27)*(D$32*D100-$D$28*$D$27)/(4*D101*D$32*$D$27))-0.5*(1+$D$28*D100/D101+$D$28*$D$28*$D$27/D101/D$32)*EXP($D$28*D100/D101)*ERFC((D$32*D100+$D$28*$D$27)/(SQRT(4*D101*D$32*$D$27)))","v":0.0629865754344644},{"$f":"0.5*ERFC((E$32*E100-$D$28*$D$27)/(SQRT(4*E101*E$32*$D$27)))+SQRT($D$28*$D$28*$D$27/(PI()*E101*E$32))*EXP(-(E$32*E100-$D$28*$D$27)*(E$32*E100-$D$28*$D$27)/(4*E101*E$32*$D$27))-0.5*(1+$D$28*E100/E101+$D$28*$D$28*$D$27/E101/E$32)*EXP($D$28*E100/E101)*ERFC((E$32*E100+$D$28*$D$27)/(SQRT(4*E101*E$32*$D$27)))","v":{"$error":"#VALUE!"}},{"$f":"0.5*ERFC((F$32*F100-$D$28*$D$27)/(SQRT(4*F101*F$32*$D$27)))+SQRT($D$28*$D$28*$D$27/(PI()*F101*F$32))*EXP(-(F$32*F100-$D$28*$D$27)*(F$32*F100-$D$28*$D$27)/(4*F101*F$32*$D$27))-0.5*(1+$D$28*F100/F101+$D$28*$D$28*$D$27/F101/F$32)*EXP($D$28*F100/F101)*ERFC((F$32*F100+$D$28*$D$27)/(SQRT(4*F101*F$32*$D$27)))","v":{"$error":"#VALUE!"}},{"$error":"#VALUE!"},{"$error":"#VALUE!"},{"$error":"#VALUE!"}]
[null,"濃度　(mg/L)",null,{"$f":"D102*D$8","v":1.6376509612960743E-3},{"$f":"E102*E$8","v":{"$error":"#VALUE!"}},{"$f":"F102*F$8","v":{"$error":"#VALUE!"}},{"$error":"#VALUE!"},{"$error":"#VALUE!"},{"$error":"#VALUE!"}]
[null,"A<基準値の場合はB、A>基準値の場合は2*B",null,{"$f":"IF(D103<D$11,D100,ROUNDDOWN(2*D100,2))","v":5},{"$f":"IF(E103<E$11,E100,ROUNDDOWN(2*E100,2))","v":{"$error":"#VALUE!"}},{"$error":"#VALUE!"},{"$error":"#VALUE!"},{"$error":"#VALUE!"},{"$error":"#VALUE!"}]
[null,"　　↑での分散係数　（固定値）",null,{"$f":"$D$29","v":1.3333333333333335},{"$f":"$D$29","v":1.3333333333333335},1.3333333333333335,1.3333333333333335,1.3333333333333335,1.3333333333333335]
[null,"↑での相対濃度",null,{"$f":"0.5*ERFC((D$32*D104-$D$28*$D$27)/(SQRT(4*D105*D$32*$D$27)))+SQRT($D$28*$D$28*$D$27/(PI()*D105*D$32))*EXP(-(D$32*D104-$D$28*$D$27)*(D$32*D104-$D$28*$D$27)/(4*D105*D$32*$D$27))-0.5*(1+$D$28*D104/D105+$D$28*$D$28*$D$27/D105/D$32)*EXP($D$28*D104/D105)*ERFC((D$32*D104+$D$28*$D$27)/(SQRT(4*D105*D$32*$D$27)))","v":0.0629865754344644},{"$f":"0.5*ERFC((E$32*E104-$D$28*$D$27)/(SQRT(4*E105*E$32*$D$27)))+SQRT($D$28*$D$28*$D$27/(PI()*E105*E$32))*EXP(-(E$32*E104-$D$28*$D$27)*(E$32*E104-$D$28*$D$27)/(4*E105*E$32*$D$27))-0.5*(1+$D$28*E104/E105+$D$28*$D$28*$D$27/E105/E$32)*EXP($D$28*E104/E105)*ERFC((E$32*E104+$D$28*$D$27)/(SQRT(4*E105*E$32*$D$27)))","v":{"$error":"#VALUE!"}},{"$f":"0.5*ERFC((F$32*F104-$D$28*$D$27)/(SQRT(4*F105*F$32*$D$27)))+SQRT($D$28*$D$28*$D$27/(PI()*F105*F$32))*EXP(-(F$32*F104-$D$28*$D$27)*(F$32*F104-$D$28*$D$27)/(4*F105*F$32*$D$27))-0.5*(1+$D$28*F104/F105+$D$28*$D$28*$D$27/F105/F$32)*EXP($D$28*F104/F105)*ERFC((F$32*F104+$D$28*$D$27)/(SQRT(4*F105*F$32*$D$27)))","v":{"$error":"#VALUE!"}},{"$error":"#VALUE!"},{"$error":"#VALUE!"},{"$error":"#VALUE!"}]
[null,"濃度　(mg/L)",null,{"$f":"D106*D$8","v":1.6376509612960743E-3},{"$f":"E106*E$8","v":{"$error":"#VALUE!"}},{"$f":"F106*F$8","v":{"$error":"#VALUE!"}},{"$error":"#VALUE!"},{"$error":"#VALUE!"},{"$error":"#VALUE!"}]
[null,"A<基準値の場合はB、A>基準値の場合は2*B",null,{"$f":"IF(D107<D$11,D104,ROUNDDOWN(2*D104,2))","v":5},{"$f":"IF(E107<E$11,E104,ROUNDDOWN(2*E104,2))","v":{"$error":"#VALUE!"}},{"$error":"#VALUE!"},{"$error":"#VALUE!"},{"$error":"#VALUE!"},{"$error":"#VALUE!"}]
[null,"　　↑での分散係数　（固定値）",null,{"$f":"$D$29","v":1.3333333333333335},{"$f":"$D$29","v":1.3333333333333335},1.3333333333333335,1.3333333333333335,1.3333333333333335,1.3333333333333335]
[null,"↑での相対濃度",null,{"$f":"0.5*ERFC((D$32*D108-$D$28*$D$27)/(SQRT(4*D109*D$32*$D$27)))+SQRT($D$28*$D$28*$D$27/(PI()*D109*D$32))*EXP(-(D$32*D108-$D$28*$D$27)*(D$32*D108-$D$28*$D$27)/(4*D109*D$32*$D$27))-0.5*(1+$D$28*D108/D109+$D$28*$D$28*$D$27/D109/D$32)*EXP($D$28*D108/D109)*ERFC((D$32*D108+$D$28*$D$27)/(SQRT(4*D109*D$32*$D$27)))","v":0.0629865754344644},{"$f":"0.5*ERFC((E$32*E108-$D$28*$D$27)/(SQRT(4*E109*E$32*$D$27)))+SQRT($D$28*$D$28*$D$27/(PI()*E109*E$32))*EXP(-(E$32*E108-$D$28*$D$27)*(E$32*E108-$D$28*$D$27)/(4*E109*E$32*$D$27))-0.5*(1+$D$28*E108/E109+$D$28*$D$28*$D$27/E109/E$32)*EXP($D$28*E108/E109)*ERFC((E$32*E108+$D$28*$D$27)/(SQRT(4*E109*E$32*$D$27)))","v":{"$error":"#VALUE!"}},{"$f":"0.5*ERFC((F$32*F108-$D$28*$D$27)/(SQRT(4*F109*F$32*$D$27)))+SQRT($D$28*$D$28*$D$27/(PI()*F109*F$32))*EXP(-(F$32*F108-$D$28*$D$27)*(F$32*F108-$D$28*$D$27)/(4*F109*F$32*$D$27))-0.5*(1+$D$28*F108/F109+$D$28*$D$28*$D$27/F109/F$32)*EXP($D$28*F108/F109)*ERFC((F$32*F108+$D$28*$D$27)/(SQRT(4*F109*F$32*$D$27)))","v":{"$error":"#VALUE!"}},{"$error":"#VALUE!"},{"$error":"#VALUE!"},{"$error":"#VALUE!"}]
[null,"濃度　(mg/L)",null,{"$f":"D110*D$8","v":1.6376509612960743E-3},{"$f":"E110*E$8","v":{"$error":"#VALUE!"}},{"$f":"F110*F$8","v":{"$error":"#VALUE!"}},{"$error":"#VALUE!"},{"$error":"#VALUE!"},{"$error":"#VALUE!"}]
[]
[]
["基準値になる距離の算出フロー",null,null,{"$f":"D5","v":"砒素"},"ふっ素","ほう素","カドミウム","セレン","六価クロム"]
[null,"基準値に相当する相対濃度(=基準値/土壌溶出量試験結果)",null,{"$f":"D11/D8","v":0.38461538461538464},{"$error":"#VALUE!"},{"$error":"#VALUE!"},{"$error":"#VALUE!"},{"$error":"#VALUE!"},{"$error":"#VALUE!"},null,{"$f":"D5","v":"砒素"},"ふっ素","ほう素","カドミウム","セレン","六価クロム"]
[null,"x0 (m)",null,{"$f":"D108","v":5},{"$f":"E108","v":{"$error":"#VALUE!"}},{"$f":"F108","v":{"$error":"#VALUE!"}},{"$error":"#VALUE!"},{"$error":"#VALUE!"},{"$error":"#VALUE!"},"←での相対濃度",{"$f":"0.5*ERFC((D$32*D116-$D$28*$D$27)/(SQRT(4*D117*D$32*$D$27)))+SQRT($D$28*$D$28*$D$27/(PI()*D117*D$32))*EXP(-(D$32*D116-$D$28*$D$27)*(D$32*D116-$D$28*$D$27)/(4*D117*D$32*$D$27))-0.5*(1+$D$28*D116/D117+$D$28*$D$28*$D$27/D117/D$32)*EXP($D$28*D116/D117)*ERFC((D$32*D116+$D$28*$D$27)/(SQRT(4*D117*D$32*$D$27)))","v":0.0629865754344644},{"$f":"0.5*ERFC((E$32*E116-$D$28*$D$27)/(SQRT(4*E117*E$32*$D$27)))+SQRT($D$28*$D$28*$D$27/(PI()*E117*E$32))*EXP(-(E$32*E116-$D$28*$D$27)*(E$32*E116-$D$28*$D$27)/(4*E117*E$32*$D$27))-0.5*(1+$D$28*E116/E117+$D$28*$D$28*$D$27/E117/E$32)*EXP($D$28*E116/E117)*ERFC((E$32*E116+$D$28*$D$27)/(SQRT(4*E117*E$32*$D$27)))","v":{"$error":"#VALUE!"}},{"$error":"#VALUE!"},{"$error":"#VALUE!"},{"$error":"#VALUE!"},{"$error":"#VALUE!"}]
[null,"　　↑での分散係数　（固定値）",null,{"$f":"$D$29","v":1.3333333333333335},{"$f":"$D$29","v":1.3333333333333335},1.3333333333333335,1.3333333333333335,1.3333333333333335,1.3333333333333335]
[null,"x1 (m)",null,{"$f":"D116/2","v":2.5},{"$error":"#VALUE!"},{"$error":"#VALUE!"},{"$error":"#VALUE!"},{"$error":"#VALUE!"},{"$error":"#VALUE!"},"←での相対濃度",{"$f":"0.5*ERFC((D$32*D118-$D$28*$D$27)/(SQRT(4*D119*D$32*$D$27)))+SQRT($D$28*$D$28*$D$27/(PI()*D119*D$32))*EXP(-(D$32*D118-$D$28*$D$27)*(D$32*D118-$D$28*$D$27)/(4*D119*D$32*$D$27))-0.5*(1+$D$28*D118/D119+$D$28*$D$28*$D$27/D119/D$32)*EXP($D$28*D118/D119)*ERFC((D$32*D118+$D$28*$D$27)/(SQRT(4*D119*D$32*$D$27)))","v":0.5209569779022702},{"$f":"0.5*ERFC((E$32*E118-$D$28*$D$27)/(SQRT(4*E119*E$32*$D$27)))+SQRT($D$28*$D$28*$D$27/(PI()*E119*E$32))*EXP(-(E$32*E118-$D$28*$D$27)*(E$32*E118-$D$28*$D$27)/(4*E119*E$32*$D$27))-0.5*(1+$D$28*E118/E119+$D$28*$D$28*$D$27/E119/E$32)*EXP($D$28*E118/E119)*ERFC((E$32*E118+$D$28*$D$27)/(SQRT(4*E119*E$32*$D$27)))","v":{"$error":"#VALUE!"}},{"$error":"#VALUE!"},{"$error":"#VALUE!"},{"$error":"#VALUE!"},{"$error":"#VALUE!"}]
[null,"　　↑での分散係数　（固定値）",null,{"$f":"$D$29","v":1.3333333333333335},1.3333333333333335,1.3333333333333335,1.3333333333333335,1.3333333333333335,1.3333333333333335]
[null,"x2 (m)",null,{"$f":"IF(K118<D$115,D118-ABS(D116-D118)/2,D118+ABS(D116-D118)/2)","v":3.75},{"$f":"IF(L118<E$115,E118-ABS(E116-E118)/2,E118+ABS(E116-E118)/2)","v":{"$error":"#VALUE!"}},{"$error":"#VALUE!"},{"$error":"#VALUE!"},{"$error":"#VALUE!"},{"$error":"#VALUE!"},"←での相対濃度",{"$f":"0.5*ERFC((D$32*D120-$D$28*$D$27)/(SQRT(4*D121*D$32*$D$27)))+SQRT($D$28*$D$28*$D$27/(PI()*D121*D$32))*EXP(-(D$32*D120-$D$28*$D$27)*(D$32*D120-$D$28*$D$27)/(4*D121*D$32*$D$27))-0.5*(1+$D$28*D120/D121+$D$28*$D$28*$D$27/D121/D$32)*EXP($D$28*D120/D121)*ERFC((D$32*D120+$D$28*$D$27)/(SQRT(4*D121*D$32*$D$27)))","v":0.2278421040287273},{"$f":"0.5*ERFC((E$32*E120-$D$28*$D$27)/(SQRT(4*E121*E$32*$D$27)))+SQRT($D$28*$D$28*$D$27/(PI()*E121*E$32))*EXP(-(E$32*E120-$D$28*$D$27)*(E$32*E120-$D$28*$D$27)/(4*E121*E$32*$D$27))-0.5*(1+$D$28*E120/E121+$D$28*$D$28*$D$27/E121/E$32)*EXP($D$28*E120/E121)*ERFC((E$32*E120+$D$28*$D$27)/(SQRT(4*E121*E$32*$D$27)))","v":{"$error":"#VALUE!"}},{"$error":"#VALUE!"},{"$error":"#VALUE!"},{"$error":"#VALUE!"},{"$error":"#VALUE!"}]
[null,"　　↑での分散係数　（固定値）",null,{"$f":"$D$29","v":1.3333333333333335},1.3333333333333335,1.3333333333333335,1.3333333333333335,1.3333333333333335,1.3333333333333335]
[null,"x3 (m)",null,{"$f":"IF(K120<D$115,D120-ABS(D118-D120)/2,D120+ABS(D118-D120)/2)","v":3.125},{"$f":"IF(L120<E$115,E120-ABS(E118-E120)/2,E120+ABS(E118-E120)/2)","v":{"$error":"#VALUE!"}},{"$error":"#VALUE!"},{"$error":"#VALUE!"},{"$error":"#VALUE!"},{"$error":"#VALUE!"},"←での相対濃度",{"$f":"0.5*ERFC((D$32*D122-$D$28*$D$27)/(SQRT(4*D123*D$32*$D$27)))+SQRT($D$28*$D$28*$D$27/(PI()*D123*D$32))*EXP(-(D$32*D122-$D$28*$D$27)*(D$32*D122-$D$28*$D$27)/(4*D123*D$32*$D$27))-0.5*(1+$D$28*D122/D123+$D$28*$D$28*$D$27/D123/D$32)*EXP($D$28*D122/D123)*ERFC((D$32*D122+$D$28*$D$27)/(SQRT(4*D123*D$32*$D$27)))","v":0.36344901639201166},{"$f":"0.5*ERFC((E$32*E122-$D$28*$D$27)/(SQRT(4*E123*E$32*$D$27)))+SQRT($D$28*$D$28*$D$27/(PI()*E123*E$32))*EXP(-(E$32*E122-$D$28*$D$27)*(E$32*E122-$D$28*$D$27)/(4*E123*E$32*$D$27))-0.5*(1+$D$28*E122/E123+$D$28*$D$28*$D$27/E123/E$32)*EXP($D$28*E122/E123)*ERFC((E$32*E122+$D$28*$D$27)/(SQRT(4*E123*E$32*$D$27)))","v":{"$error":"#VALUE!"}},{"$error":"#VALUE!"},{"$error":"#VALUE!"},{"$error":"#VALUE!"},{"$error":"#VALUE!"}]
[null,"　　↑での分散係数　（固定値）",null,{"$f":"$D$29","v":1.3333333333333335},1.3333333333333335,1.3333333333333335,1.3333333333333335,1.3333333333333335,1.3333333333333335]
[null,"x4 (m)",null,{"$f":"IF(K122<D$115,D122-ABS(D120-D122)/2,D122+ABS(D120-D122)/2)","v":2.8125},{"$f":"IF(L122<E$115,E122-ABS(E120-E122)/2,E122+ABS(E120-E122)/2)","v":{"$error":"#VALUE!"}},{"$error":"#VALUE!"},{"$error":"#VALUE!"},{"$error":"#VALUE!"},{"$error":"#VALUE!"},"←での相対濃度",{"$f":"0.5*ERFC((D$32*D124-$D$28*$D$27)/(SQRT(4*D125*D$32*$D$27)))+SQRT($D$28*$D$28*$D$27/(PI()*D125*D$32))*EXP(-(D$32*D124-$D$28*$D$27)*(D$32*D124-$D$28*$D$27)/(4*D125*D$32*$D$27))-0.5*(1+$D$28*D124/D125+$D$28*$D$28*$D$27/D125/D$32)*EXP($D$28*D124/D125)*ERFC((D$32*D124+$D$28*$D$27)/(SQRT(4*D125*D$32*$D$27)))","v":0.44072656320421166},{"$f":"0.5*ERFC((E$32*E124-$D$28*$D$27)/(SQRT(4*E125*E$32*$D$27)))+SQRT($D$28*$D$28*$D$27/(PI()*E125*E$32))*EXP(-(E$32*E124-$D$28*$D$27)*(E$32*E124-$D$28*$D$27)/(4*E125*E$32*$D$27))-0.5*(1+$D$28*E124/E125+$D$28*$D$28*$D$27/E125/E$32)*EXP($D$28*E124/E125)*ERFC((E$32*E124+$D$28*$D$27)/(SQRT(4*E125*E$32*$D$27)))","v":{"$error":"#VALUE!"}},{"$error":"#VALUE!"},{"$error":"#VALUE!"},{"$error":"#VALUE!"},{"$error":"#VALUE!"}]
[null,"　　↑での分散係数　（固定値）",null,{"$f":"$D$29","v":1.3333333333333335},1.3333333333333335,1.3333333333333335,1.3333333333333335,1.3333333333333335,1.3333333333333335]
[null,"x5 (m)",null,{"$f":"IF(K124<D$115,D124-ABS(D122-D124)/2,D124+ABS(D122-D124)/2)","v":2.96875},{"$f":"IF(L124<E$115,E124-ABS(E122-E124)/2,E124+ABS(E122-E124)/2)","v":{"$error":"#VALUE!"}},{"$error":"#VALUE!"},{"$error":"#VALUE!"},{"$error":"#VALUE!"},{"$error":"#VALUE!"},"←での相対濃度",{"$f":"0.5*ERFC((D$32*D126-$D$28*$D$27)/(SQRT(4*D127*D$32*$D$27)))+SQRT($D$28*$D$28*$D$27/(PI()*D127*D$32))*EXP(-(D$32*D126-$D$28*$D$27)*(D$32*D126-$D$28*$D$27)/(4*D127*D$32*$D$27))-0.5*(1+$D$28*D126/D127+$D$28*$D$28*$D$27/D127/D$32)*EXP($D$28*D126/D127)*ERFC((D$32*D126+$D$28*$D$27)/(SQRT(4*D127*D$32*$D$27)))","v":0.4015392738382413},{"$f":"0.5*ERFC((E$32*E126-$D$28*$D$27)/(SQRT(4*E127*E$32*$D$27)))+SQRT($D$28*$D$28*$D$27/(PI()*E127*E$32))*EXP(-(E$32*E126-$D$28*$D$27)*(E$32*E126-$D$28*$D$27)/(4*E127*E$32*$D$27))-0.5*(1+$D$28*E126/E127+$D$28*$D$28*$D$27/E127/E$32)*EXP($D$28*E126/E127)*ERFC((E$32*E126+$D$28*$D$27)/(SQRT(4*E127*E$32*$D$27)))","v":{"$error":"#VALUE!"}},{"$error":"#VALUE!"},{"$error":"#VALUE!"},{"$error":"#VALUE!"},{"$error":"#VALUE!"}]
[null,"　　↑での分散係数　（固定値）",null,{"$f":"$D$29","v":1.3333333333333335},1.3333333333333335,1.3333333333333335,1.3333333333333335,1.3333333333333335,1.3333333333333335]
[null,"x6 (m)",null,{"$f":"IF(K126<D$115,D126-ABS(D124-D126)/2,D126+ABS(D124-D126)/2)","v":3.046875},{"$f":"IF(L126<E$115,E126-ABS(E124-E126)/2,E126+ABS(E124-E126)/2)","v":{"$error":"#VALUE!"}},{"$error":"#VALUE!"},{"$error":"#VALUE!"},{"$error":"#VALUE!"},{"$error":"#VALUE!"},"←での相対濃度",{"$f":"0.5*ERFC((D$32*D128-$D$28*$D$27)/(SQRT(4*D129*D$32*$D$27)))+SQRT($D$28*$D$28*$D$27/(PI()*D129*D$32))*EXP(-(D$32*D128-$D$28*$D$27)*(D$32*D128-$D$28*$D$27)/(4*D129*D$32*$D$27))-0.5*(1+$D$28*D128/D129+$D$28*$D$28*$D$27/D129/D$32)*EXP($D$28*D128/D129)*ERFC((D$32*D128+$D$28*$D$27)/(SQRT(4*D129*D$32*$D$27)))","v":0.3823361190158967},{"$f":"0.5*ERFC((E$32*E128-$D$28*$D$27)/(SQRT(4*E129*E$32*$D$27)))+SQRT($D$28*$D$28*$D$27/(PI()*E129*E$32))*EXP(-(E$32*E128-$D$28*$D$27)*(E$32*E128-$D$28*$D$27)/(4*E129*E$32*$D$27))-0.5*(1+$D$28*E128/E129+$D$28*$D$28*$D$27/E129/E$32)*EXP($D$28*E128/E129)*ERFC((E$32*E128+$D$28*$D$27)/(SQRT(4*E129*E$32*$D$27)))","v":{"$error":"#VALUE!"}},{"$error":"#VALUE!"},{"$error":"#VALUE!"},{"$error":"#VALUE!"},{"$error":"#VALUE!"}]
[null,"　　↑での分散係数　（固定値）",null,{"$f":"$D$29","v":1.3333333333333335},1.3333333333333335,1.3333333333333335,1.3333333333333335,1.3333333333333335,1.3333333333333335]
[null,"x7 (m)",null,{"$f":"IF(K128<D$115,D128-ABS(D126-D128)/2,D128+ABS(D126-D128)/2)","v":3.0078125},{"$f":"IF(L128<E$115,E128-ABS(E126-E128)/2,E128+ABS(E126-E128)/2)","v":{"$error":"#VALUE!"}},{"$error":"#VALUE!"},{"$error":"#VALUE!"},{"$error":"#VALUE!"},{"$error":"#VALUE!"},"←での相対濃度",{"$f":"0.5*ERFC((D$32*D130-$D$28*$D$27)/(SQRT(4*D131*D$32*$D$27)))+SQRT($D$28*$D$28*$D$27/(PI()*D131*D$32))*EXP(-(D$32*D130-$D$28*$D$27)*(D$32*D130-$D$28*$D$27)/(4*D131*D$32*$D$27))-0.5*(1+$D$28*D130/D131+$D$28*$D$28*$D$27/D131/D$32)*EXP($D$28*D130/D131)*ERFC((D$32*D130+$D$28*$D$27)/(SQRT(4*D131*D$32*$D$27)))","v":0.39190071967975015},{"$f":"0.5*ERFC((E$32*E130-$D$28*$D$27)/(SQRT(4*E131*E$32*$D$27)))+SQRT($D$28*$D$28*$D$27/(PI()*E131*E$32))*EXP(-(E$32*E130-$D$28*$D$27)*(E$32*E130-$D$28*$D$27)/(4*E131*E$32*$D$27))-0.5*(1+$D$28*E130/E131+$D$28*$D$28*$D$27/E131/E$32)*EXP($D$28*E130/E131)*ERFC((E$32*E130+$D$28*$D$27)/(SQRT(4*E131*E$32*$D$27)))","v":{"$error":"#VALUE!"}},{"$error":"#VALUE!"},{"$error":"#VALUE!"},{"$error":"#VALUE!"},{"$error":"#VALUE!"}]
[null,"　　↑での分散係数　（固定値）",null,{"$f":"$D$29","v":1.3333333333333335},1.3333333333333335,1.3333333333333335,1.3333333333333335,1.3333333333333335,1.3333333333333335]
[null,"x8 (m)",null,{"$f":"IF(K130<D$115,D130-ABS(D128-D130)/2,D130+ABS(D128-D130)/2)","v":3.02734375},{"$f":"IF(L130<E$115,E130-ABS(E128-E130)/2,E130+ABS(E128-E130)/2)","v":{"$error":"#VALUE!"}},{"$error":"#VALUE!"},{"$error":"#VALUE!"},{"$error":"#VALUE!"},{"$error":"#VALUE!"},"←での相対濃度",{"$f":"0.5*ERFC((D$32*D132-$D$28*$D$27)/(SQRT(4*D133*D$32*$D$27)))+SQRT($D$28*$D$28*$D$27/(PI()*D133*D$32))*EXP(-(D$32*D132-$D$28*$D$27)*(D$32*D132-$D$28*$D$27)/(4*D133*D$32*$D$27))-0.5*(1+$D$28*D132/D133+$D$28*$D$28*$D$27/D133/D$32)*EXP($D$28*D132/D133)*ERFC((D$32*D132+$D$28*$D$27)/(SQRT(4*D133*D$32*$D$27)))","v":0.3871088534515452},{"$f":"0.5*ERFC((E$32*E132-$D$28*$D$27)/(SQRT(4*E133*E$32*$D$27)))+SQRT($D$28*$D$28*$D$27/(PI()*E133*E$32))*EXP(-(E$32*E132-$D$28*$D$27)*(E$32*E132-$D$28*$D$27)/(4*E133*E$32*$D$27))-0.5*(1+$D$28*E132/E133+$D$28*$D$28*$D$27/E133/E$32)*EXP($D$28*E132/E133)*ERFC((E$32*E132+$D$28*$D$27)/(SQRT(4*E133*E$32*$D$27)))","v":{"$error":"#VALUE!"}},{"$error":"#VALUE!"},{"$error":"#VALUE!"},{"$error":"#VALUE!"},{"$error":"#VALUE!"}]
[null,"　　↑での分散係数　（固定値）",null,{"$f":"$D$29","v":1.3333333333333335},1.3333333333333335,1.3333333333333335,1.3333333333333335,1.3333333333333335,1.3333333333333335]
[null,"x9 (m)",null,{"$f":"IF(K132<D$115,D132-ABS(D130-D132)/2,D132+ABS(D130-D132)/2)","v":3.037109375},{"$f":"IF(L132<E$115,E132-ABS(E130-E132)/2,E132+ABS(E130-E132)/2)","v":{"$error":"#VALUE!"}},{"$error":"#VALUE!"},{"$error":"#VALUE!"},{"$error":"#VALUE!"},{"$error":"#VALUE!"},"←での相対濃度",{"$f":"0.5*ERFC((D$32*D134-$D$28*$D$27)/(SQRT(4*D135*D$32*$D$27)))+SQRT($D$28*$D$28*$D$27/(PI()*D135*D$32))*EXP(-(D$32*D134-$D$28*$D$27)*(D$32*D134-$D$28*$D$27)/(4*D135*D$32*$D$27))-0.5*(1+$D$28*D134/D135+$D$28*$D$28*$D$27/D135/D$32)*EXP($D$28*D134/D135)*ERFC((D$32*D134+$D$28*$D$27)/(SQRT(4*D135*D$32*$D$27)))","v":0.3847200550145189},{"$f":"0.5*ERFC((E$32*E134-$D$28*$D$27)/(SQRT(4*E135*E$32*$D$27)))+SQRT($D$28*$D$28*$D$27/(PI()*E135*E$32))*EXP(-(E$32*E134-$D$28*$D$27)*(E$32*E134-$D$28*$D$27)/(4*E135*E$32*$D$27))-0.5*(1+$D$28*E134/E135+$D$28*$D$28*$D$27/E135/E$32)*EXP($D$28*E134/E135)*ERFC((E$32*E134+$D$28*$D$27)/(SQRT(4*E135*E$32*$D$27)))","v":{"$error":"#VALUE!"}},{"$error":"#VALUE!"},{"$error":"#VALUE!"},{"$error":"#VALUE!"},{"$error":"#VALUE!"}]
[null,"　　↑での分散係数　（固定値）",null,{"$f":"$D$29","v":1.3333333333333335},1.3333333333333335,1.3333333333333335,1.3333333333333335,1.3333333333333335,1.3333333333333335]
[null,"x10 (m)",null,{"$f":"IF(K134<D$115,D134-ABS(D132-D134)/2,D134+ABS(D132-D134)/2)","v":3.0419921875},{"$f":"IF(L134<E$115,E134-ABS(E132-E134)/2,E134+ABS(E132-E134)/2)","v":{"$error":"#VALUE!"}},{"$error":"#VALUE!"},{"$error":"#VALUE!"},{"$error":"#VALUE!"},{"$error":"#VALUE!"},"←での相対濃度",{"$f":"0.5*ERFC((D$32*D136-$D$28*$D$27)/(SQRT(4*D137*D$32*$D$27)))+SQRT($D$28*$D$28*$D$27/(PI()*D137*D$32))*EXP(-(D$32*D136-$D$28*$D$27)*(D$32*D136-$D$28*$D$27)/(4*D137*D$32*$D$27))-0.5*(1+$D$28*D136/D137+$D$28*$D$28*$D$27/D137/D$32)*EXP($D$28*D136/D137)*ERFC((D$32*D136+$D$28*$D$27)/(SQRT(4*D137*D$32*$D$27)))","v":0.3835274742721644},{"$f":"0.5*ERFC((E$32*E136-$D$28*$D$27)/(SQRT(4*E137*E$32*$D$27)))+SQRT($D$28*$D$28*$D$27/(PI()*E137*E$32))*EXP(-(E$32*E136-$D$28*$D$27)*(E$32*E136-$D$28*$D$27)/(4*E137*E$32*$D$27))-0.5*(1+$D$28*E136/E137+$D$28*$D$28*$D$27/E137/E$32)*EXP($D$28*E136/E137)*ERFC((E$32*E136+$D$28*$D$27)/(SQRT(4*E137*E$32*$D$27)))","v":{"$error":"#VALUE!"}},{"$error":"#VALUE!"},{"$error":"#VALUE!"},{"$error":"#VALUE!"},{"$error":"#VALUE!"}]
[null,"　　↑での分散係数　（固定値）",null,{"$f":"$D$29","v":1.3333333333333335},1.3333333333333335,1.3333333333333335,1.3333333333333335,1.3333333333333335,1.3333333333333335]
[null,"x11 (m)",null,{"$f":"IF(K136<D$115,D136-ABS(D134-D136)/2,D136+ABS(D134-D136)/2)","v":3.03955078125},{"$f":"IF(L136<E$115,E136-ABS(E134-E136)/2,E136+ABS(E134-E136)/2)","v":{"$error":"#VALUE!"}},{"$error":"#VALUE!"},{"$error":"#VALUE!"},{"$error":"#VALUE!"},{"$error":"#VALUE!"},"←での相対濃度",{"$f":"0.5*ERFC((D$32*D138-$D$28*$D$27)/(SQRT(4*D139*D$32*$D$27)))+SQRT($D$28*$D$28*$D$27/(PI()*D139*D$32))*EXP(-(D$32*D138-$D$28*$D$27)*(D$32*D138-$D$28*$D$27)/(4*D139*D$32*$D$27))-0.5*(1+$D$28*D138/D139+$D$28*$D$28*$D$27/D139/D$32)*EXP($D$28*D138/D139)*ERFC((D$32*D138+$D$28*$D$27)/(SQRT(4*D139*D$32*$D$27)))","v":0.3841236120735132},{"$f":"0.5*ERFC((E$32*E138-$D$28*$D$27)/(SQRT(4*E139*E$32*$D$27)))+SQRT($D$28*$D$28*$D$27/(PI()*E139*E$32))*EXP(-(E$32*E138-$D$28*$D$27)*(E$32*E138-$D$28*$D$27)/(4*E139*E$32*$D$27))-0.5*(1+$D$28*E138/E139+$D$28*$D$28*$D$27/E139/E$32)*EXP($D$28*E138/E139)*ERFC((E$32*E138+$D$28*$D$27)/(SQRT(4*E139*E$32*$D$27)))","v":{"$error":"#VALUE!"}},{"$error":"#VALUE!"},{"$error":"#VALUE!"},{"$error":"#VALUE!"},{"$error":"#VALUE!"}]
[null,"　　↑での分散係数　（固定値）",null,{"$f":"$D$29","v":1.3333333333333335},1.3333333333333335,1.3333333333333335,1.3333333333333335,1.3333333333333335,1.3333333333333335]
[null,"x12 (m)",null,{"$f":"IF(K138<D$115,D138-ABS(D136-D138)/2,D138+ABS(D136-D138)/2)","v":3.038330078125},{"$f":"IF(L138<E$115,E138-ABS(E136-E138)/2,E138+ABS(E136-E138)/2)","v":{"$error":"#VALUE!"}},{"$error":"#VALUE!"},{"$error":"#VALUE!"},{"$error":"#VALUE!"},{"$error":"#VALUE!"},"←での相対濃度",{"$f":"0.5*ERFC((D$32*D140-$D$28*$D$27)/(SQRT(4*D141*D$32*$D$27)))+SQRT($D$28*$D$28*$D$27/(PI()*D141*D$32))*EXP(-(D$32*D140-$D$28*$D$27)*(D$32*D140-$D$28*$D$27)/(4*D141*D$32*$D$27))-0.5*(1+$D$28*D140/D141+$D$28*$D$28*$D$27/D141/D$32)*EXP($D$28*D140/D141)*ERFC((D$32*D140+$D$28*$D$27)/(SQRT(4*D141*D$32*$D$27)))","v":0.3844217954786695},{"$f":"0.5*ERFC((E$32*E140-$D$28*$D$27)/(SQRT(4*E141*E$32*$D$27)))+SQRT($D$28*$D$28*$D$27/(PI()*E141*E$32))*EXP(-(E$32*E140-$D$28*$D$27)*(E$32*E140-$D$28*$D$27)/(4*E141*E$32*$D$27))-0.5*(1+$D$28*E140/E141+$D$28*$D$28*$D$27/E141/E$32)*EXP($D$28*E140/E141)*ERFC((E$32*E140+$D$28*$D$27)/(SQRT(4*E141*E$32*$D$27)))","v":{"$error":"#VALUE!"}},{"$error":"#VALUE!"},{"$error":"#VALUE!"},{"$error":"#VALUE!"},{"$error":"#VALUE!"}]
[null,"　　↑での分散係数　（固定値）",null,{"$f":"$D$29","v":1.3333333333333335},1.3333333333333335,1.3333333333333335,1.3333333333333335,1.3333333333333335,1.3333333333333335]
[null,"x13 (m)",null,{"$f":"IF(K140<D$115,D140-ABS(D138-D140)/2,D140+ABS(D138-D140)/2)","v":3.0377197265625},{"$f":"IF(L140<E$115,E140-ABS(E138-E140)/2,E140+ABS(E138-E140)/2)","v":{"$error":"#VALUE!"}},{"$error":"#VALUE!"},{"$error":"#VALUE!"},{"$error":"#VALUE!"},{"$error":"#VALUE!"},"←での相対濃度",{"$f":"0.5*ERFC((D$32*D142-$D$28*$D$27)/(SQRT(4*D143*D$32*$D$27)))+SQRT($D$28*$D$28*$D$27/(PI()*D143*D$32))*EXP(-(D$32*D142-$D$28*$D$27)*(D$32*D142-$D$28*$D$27)/(4*D143*D$32*$D$27))-0.5*(1+$D$28*D142/D143+$D$28*$D$28*$D$27/D143/D$32)*EXP($D$28*D142/D143)*ERFC((D$32*D142+$D$28*$D$27)/(SQRT(4*D143*D$32*$D$27)))","v":0.38457091573990243},{"$f":"0.5*ERFC((E$32*E142-$D$28*$D$27)/(SQRT(4*E143*E$32*$D$27)))+SQRT($D$28*$D$28*$D$27/(PI()*E143*E$32))*EXP(-(E$32*E142-$D$28*$D$27)*(E$32*E142-$D$28*$D$27)/(4*E143*E$32*$D$27))-0.5*(1+$D$28*E142/E143+$D$28*$D$28*$D$27/E143/E$32)*EXP($D$28*E142/E143)*ERFC((E$32*E142+$D$28*$D$27)/(SQRT(4*E143*E$32*$D$27)))","v":{"$error":"#VALUE!"}},{"$error":"#VALUE!"},{"$error":"#VALUE!"},{"$error":"#VALUE!"},{"$error":"#VALUE!"}]
[null,"　　↑での分散係数　（固定値）",null,{"$f":"$D$29","v":1.3333333333333335},1.3333333333333335,1.3333333333333335,1.3333333333333335,1.3333333333333335,1.3333333333333335]
[null,"x14 (m)",null,{"$f":"IF(K142<D$115,D142-ABS(D140-D142)/2,D142+ABS(D140-D142)/2)","v":3.03741455078125},{"$f":"IF(L142<E$115,E142-ABS(E140-E142)/2,E142+ABS(E140-E142)/2)","v":{"$error":"#VALUE!"}},{"$error":"#VALUE!"},{"$error":"#VALUE!"},{"$error":"#VALUE!"},{"$error":"#VALUE!"},"←での相対濃度",{"$f":"0.5*ERFC((D$32*D144-$D$28*$D$27)/(SQRT(4*D145*D$32*$D$27)))+SQRT($D$28*$D$28*$D$27/(PI()*D145*D$32))*EXP(-(D$32*D144-$D$28*$D$27)*(D$32*D144-$D$28*$D$27)/(4*D145*D$32*$D$27))-0.5*(1+$D$28*D144/D145+$D$28*$D$28*$D$27/D145/D$32)*EXP($D$28*D144/D145)*ERFC((D$32*D144+$D$28*$D$27)/(SQRT(4*D145*D$32*$D$27)))","v":0.3846454830017445},{"$f":"0.5*ERFC((E$32*E144-$D$28*$D$27)/(SQRT(4*E145*E$32*$D$27)))+SQRT($D$28*$D$28*$D$27/(PI()*E145*E$32))*EXP(-(E$32*E144-$D$28*$D$27)*(E$32*E144-$D$28*$D$27)/(4*E145*E$32*$D$27))-0.5*(1+$D$28*E144/E145+$D$28*$D$28*$D$27/E145/E$32)*EXP($D$28*E144/E145)*ERFC((E$32*E144+$D$28*$D$27)/(SQRT(4*E145*E$32*$D$27)))","v":{"$error":"#VALUE!"}},{"$error":"#VALUE!"},{"$error":"#VALUE!"},{"$error":"#VALUE!"},{"$error":"#VALUE!"}]
[null,"　　↑での分散係数　（固定値）",null,{"$f":"$D$29","v":1.3333333333333335},1.3333333333333335,1.3333333333333335,1.3333333333333335,1.3333333333333335,1.3333333333333335]
[null,"x15 (m)",null,{"$f":"IF(K144<D$115,D144-ABS(D142-D144)/2,D144+ABS(D142-D144)/2)","v":3.037567138671875},{"$f":"IF(L144<E$115,E144-ABS(E142-E144)/2,E144+ABS(E142-E144)/2)","v":{"$error":"#VALUE!"}},{"$error":"#VALUE!"},{"$error":"#VALUE!"},{"$error":"#VALUE!"},{"$error":"#VALUE!"},"←での相対濃度",{"$f":"0.5*ERFC((D$32*D146-$D$28*$D$27)/(SQRT(4*D147*D$32*$D$27)))+SQRT($D$28*$D$28*$D$27/(PI()*D147*D$32))*EXP(-(D$32*D146-$D$28*$D$27)*(D$32*D146-$D$28*$D$27)/(4*D147*D$32*$D$27))-0.5*(1+$D$28*D146/D147+$D$28*$D$28*$D$27/D147/D$32)*EXP($D$28*D146/D147)*ERFC((D$32*D146+$D$28*$D$27)/(SQRT(4*D147*D$32*$D$27)))","v":0.3846081987768055},{"$f":"0.5*ERFC((E$32*E146-$D$28*$D$27)/(SQRT(4*E147*E$32*$D$27)))+SQRT($D$28*$D$28*$D$27/(PI()*E147*E$32))*EXP(-(E$32*E146-$D$28*$D$27)*(E$32*E146-$D$28*$D$27)/(4*E147*E$32*$D$27))-0.5*(1+$D$28*E146/E147+$D$28*$D$28*$D$27/E147/E$32)*EXP($D$28*E146/E147)*ERFC((E$32*E146+$D$28*$D$27)/(SQRT(4*E147*E$32*$D$27)))","v":{"$error":"#VALUE!"}},{"$error":"#VALUE!"},{"$error":"#VALUE!"},{"$error":"#VALUE!"},{"$error":"#VALUE!"}]
[null,"　　↑での分散係数　（固定値）",null,{"$f":"$D$29","v":1.3333333333333335},1.3333333333333335,1.3333333333333335,1.3333333333333335,1.3333333333333335,1.3333333333333335]
[null,"x16 (m)",null,{"$f":"IF(K146<D$115,D146-ABS(D144-D146)/2,D146+ABS(D144-D146)/2)","v":3.0374908447265625},{"$f":"IF(L146<E$115,E146-ABS(E144-E146)/2,E146+ABS(E144-E146)/2)","v":{"$error":"#VALUE!"}},{"$error":"#VALUE!"},{"$error":"#VALUE!"},{"$error":"#VALUE!"},{"$error":"#VALUE!"},"←での相対濃度",{"$f":"0.5*ERFC((D$32*D148-$D$28*$D$27)/(SQRT(4*D149*D$32*$D$27)))+SQRT($D$28*$D$28*$D$27/(PI()*D149*D$32))*EXP(-(D$32*D148-$D$28*$D$27)*(D$32*D148-$D$28*$D$27)/(4*D149*D$32*$D$27))-0.5*(1+$D$28*D148/D149+$D$28*$D$28*$D$27/D149/D$32)*EXP($D$28*D148/D149)*ERFC((D$32*D148+$D$28*$D$27)/(SQRT(4*D149*D$32*$D$27)))","v":0.3846268407407898},{"$f":"0.5*ERFC((E$32*E148-$D$28*$D$27)/(SQRT(4*E149*E$32*$D$27)))+SQRT($D$28*$D$28*$D$27/(PI()*E149*E$32))*EXP(-(E$32*E148-$D$28*$D$27)*(E$32*E148-$D$28*$D$27)/(4*E149*E$32*$D$27))-0.5*(1+$D$28*E148/E149+$D$28*$D$28*$D$27/E149/E$32)*EXP($D$28*E148/E149)*ERFC((E$32*E148+$D$28*$D$27)/(SQRT(4*E149*E$32*$D$27)))","v":{"$error":"#VALUE!"}},{"$error":"#VALUE!"},{"$error":"#VALUE!"},{"$error":"#VALUE!"},{"$error":"#VALUE!"}]
[null,"　　↑での分散係数　（固定値）",null,{"$f":"$D$29","v":1.3333333333333335},1.3333333333333335,1.3333333333333335,1.3333333333333335,1.3333333333333335,1.3333333333333335]
[null,"x17 (m)",null,{"$f":"IF(K148<D$115,D148-ABS(D146-D148)/2,D148+ABS(D146-D148)/2)","v":3.0375289916992188},{"$f":"IF(L148<E$115,E148-ABS(E146-E148)/2,E148+ABS(E146-E148)/2)","v":{"$error":"#VALUE!"}},{"$error":"#VALUE!"},{"$error":"#VALUE!"},{"$error":"#VALUE!"},{"$error":"#VALUE!"},"←での相対濃度",{"$f":"0.5*ERFC((D$32*D150-$D$28*$D$27)/(SQRT(4*D151*D$32*$D$27)))+SQRT($D$28*$D$28*$D$27/(PI()*D151*D$32))*EXP(-(D$32*D150-$D$28*$D$27)*(D$32*D150-$D$28*$D$27)/(4*D151*D$32*$D$27))-0.5*(1+$D$28*D150/D151+$D$28*$D$28*$D$27/D151/D$32)*EXP($D$28*D150/D151)*ERFC((D$32*D150+$D$28*$D$27)/(SQRT(4*D151*D$32*$D$27)))","v":0.38461751972167435},{"$f":"0.5*ERFC((E$32*E150-$D$28*$D$27)/(SQRT(4*E151*E$32*$D$27)))+SQRT($D$28*$D$28*$D$27/(PI()*E151*E$32))*EXP(-(E$32*E150-$D$28*$D$27)*(E$32*E150-$D$28*$D$27)/(4*E151*E$32*$D$27))-0.5*(1+$D$28*E150/E151+$D$28*$D$28*$D$27/E151/E$32)*EXP($D$28*E150/E151)*ERFC((E$32*E150+$D$28*$D$27)/(SQRT(4*E151*E$32*$D$27)))","v":{"$error":"#VALUE!"}},{"$error":"#VALUE!"},{"$error":"#VALUE!"},{"$error":"#VALUE!"},{"$error":"#VALUE!"}]
[null,"　　↑での分散係数　（固定値）",null,{"$f":"$D$29","v":1.3333333333333335},1.3333333333333335,1.3333333333333335,1.3333333333333335,1.3333333333333335,1.3333333333333335]
[null,"x18 (m)",null,{"$f":"IF(K150<D$115,D150-ABS(D148-D150)/2,D150+ABS(D148-D150)/2)","v":3.037548065185547},{"$f":"IF(L150<E$115,E150-ABS(E148-E150)/2,E150+ABS(E148-E150)/2)","v":{"$error":"#VALUE!"}},{"$error":"#VALUE!"},{"$error":"#VALUE!"},{"$error":"#VALUE!"},{"$error":"#VALUE!"},"←での相対濃度",{"$f":"0.5*ERFC((D$32*D152-$D$28*$D$27)/(SQRT(4*D153*D$32*$D$27)))+SQRT($D$28*$D$28*$D$27/(PI()*D153*D$32))*EXP(-(D$32*D152-$D$28*$D$27)*(D$32*D152-$D$28*$D$27)/(4*D153*D$32*$D$27))-0.5*(1+$D$28*D152/D153+$D$28*$D$28*$D$27/D153/D$32)*EXP($D$28*D152/D153)*ERFC((D$32*D152+$D$28*$D$27)/(SQRT(4*D153*D$32*$D$27)))","v":0.38461285923995825},{"$f":"0.5*ERFC((E$32*E152-$D$28*$D$27)/(SQRT(4*E153*E$32*$D$27)))+SQRT($D$28*$D$28*$D$27/(PI()*E153*E$32))*EXP(-(E$32*E152-$D$28*$D$27)*(E$32*E152-$D$28*$D$27)/(4*E153*E$32*$D$27))-0.5*(1+$D$28*E152/E153+$D$28*$D$28*$D$27/E153/E$32)*EXP($D$28*E152/E153)*ERFC((E$32*E152+$D$28*$D$27)/(SQRT(4*E153*E$32*$D$27)))","v":{"$error":"#VALUE!"}},{"$error":"#VALUE!"},{"$error":"#VALUE!"},{"$error":"#VALUE!"},{"$error":"#VALUE!"}]
[null,"　　↑での分散係数　（固定値）",null,{"$f":"$D$29","v":1.3333333333333335},1.3333333333333335,1.3333333333333335,1.3333333333333335,1.3333333333333335,1.3333333333333335]
[null,"x19 (m)",null,{"$f":"IF(K152<D$115,D152-ABS(D150-D152)/2,D152+ABS(D150-D152)/2)","v":3.037538528442383},{"$f":"IF(L152<E$115,E152-ABS(E150-E152)/2,E152+ABS(E150-E152)/2)","v":{"$error":"#VALUE!"}},{"$error":"#VALUE!"},{"$error":"#VALUE!"},{"$error":"#VALUE!"},{"$error":"#VALUE!"},"←での相対濃度",{"$f":"0.5*ERFC((D$32*D154-$D$28*$D$27)/(SQRT(4*D155*D$32*$D$27)))+SQRT($D$28*$D$28*$D$27/(PI()*D155*D$32))*EXP(-(D$32*D154-$D$28*$D$27)*(D$32*D154-$D$28*$D$27)/(4*D155*D$32*$D$27))-0.5*(1+$D$28*D154/D155+$D$28*$D$28*$D$27/D155/D$32)*EXP($D$28*D154/D155)*ERFC((D$32*D154+$D$28*$D$27)/(SQRT(4*D155*D$32*$D$27)))","v":0.38461518947849527},{"$f":"0.5*ERFC((E$32*E154-$D$28*$D$27)/(SQRT(4*E155*E$32*$D$27)))+SQRT($D$28*$D$28*$D$27/(PI()*E155*E$32))*EXP(-(E$32*E154-$D$28*$D$27)*(E$32*E154-$D$28*$D$27)/(4*E155*E$32*$D$27))-0.5*(1+$D$28*E154/E155+$D$28*$D$28*$D$27/E155/E$32)*EXP($D$28*E154/E155)*ERFC((E$32*E154+$D$28*$D$27)/(SQRT(4*E155*E$32*$D$27)))","v":{"$error":"#VALUE!"}},{"$error":"#VALUE!"},{"$error":"#VALUE!"},{"$error":"#VALUE!"},{"$error":"#VALUE!"}]
[null,"　　↑での分散係数　（固定値）",null,{"$f":"$D$29","v":1.3333333333333335},1.3333333333333335,1.3333333333333335,1.3333333333333335,1.3333333333333335,1.3333333333333335]
[null,"x20 (m)",null,{"$f":"IF(K154<D$115,D154-ABS(D152-D154)/2,D154+ABS(D152-D154)/2)","v":3.037533760070801},{"$f":"IF(L154<E$115,E154-ABS(E152-E154)/2,E154+ABS(E152-E154)/2)","v":{"$error":"#VALUE!"}},{"$error":"#VALUE!"},{"$error":"#VALUE!"},{"$error":"#VALUE!"},{"$error":"#VALUE!"},"←での相対濃度",{"$f":"0.5*ERFC((D$32*D156-$D$28*$D$27)/(SQRT(4*D157*D$32*$D$27)))+SQRT($D$28*$D$28*$D$27/(PI()*D157*D$32))*EXP(-(D$32*D156-$D$28*$D$27)*(D$32*D156-$D$28*$D$27)/(4*D157*D$32*$D$27))-0.5*(1+$D$28*D156/D157+$D$28*$D$28*$D$27/D157/D$32)*EXP($D$28*D156/D157)*ERFC((D$32*D156+$D$28*$D$27)/(SQRT(4*D157*D$32*$D$27)))","v":0.38461635459950605},{"$f":"0.5*ERFC((E$32*E156-$D$28*$D$27)/(SQRT(4*E157*E$32*$D$27)))+SQRT($D$28*$D$28*$D$27/(PI()*E157*E$32))*EXP(-(E$32*E156-$D$28*$D$27)*(E$32*E156-$D$28*$D$27)/(4*E157*E$32*$D$27))-0.5*(1+$D$28*E156/E157+$D$28*$D$28*$D$27/E157/E$32)*EXP($D$28*E156/E157)*ERFC((E$32*E156+$D$28*$D$27)/(SQRT(4*E157*E$32*$D$27)))","v":{"$error":"#VALUE!"}},{"$error":"#VALUE!"},{"$error":"#VALUE!"},{"$error":"#VALUE!"},{"$error":"#VALUE!"}]
[null,"　　↑での分散係数　（固定値）",null,{"$f":"$D$29","v":1.3333333333333335},1.3333333333333335,1.3333333333333335,1.3333333333333335,1.3333333333333335,1.3333333333333335]
[]
[{"$nulls":3},"タイトル"]
["濃度プロファイル表示",null,null,{"$f":"D5","v":"砒素"},"ふっ素","ほう素","カドミウム","セレン","六価クロム",null,{"$f":"K115","v":"砒素"},{"$f":"L115","v":"ふっ素"},"ほう素","カドミウム","セレン","六価クロム"]
[null,"計算層厚max(m)",null,{"$f":"$D$3","v":5},{"$f":"$D$3","v":5},5,5,5,{"$f":"$D$3","v":5}]
[null,null,"相対距離","距離(m)","距離(m)","距離(m)","距離(m)","距離(m)","距離(m)",null,"濃度(mg/L)","濃度(mg/L)","濃度(mg/L)","濃度(mg/L)","濃度(mg/L)","濃度(mg/L)"]
["凡例",null,0,{"$f":"IF(D$57=TRUE,$C163*D$161,NA())","v":0},{"$f":"IF(E$57=TRUE,$C163*E$161,NA())","v":{"$error":"#N/A"}},{"$error":"#N/A"},{"$error":"#N/A"},{"$error":"#N/A"},{"$error":"#N/A"},"←での濃度",{"$f":"D$8*(0.5*ERFC((D$32*D163-$D$28*$D$27)/(SQRT(4*D186*D$32*$D$27)))+SQRT($D$28*$D$28*$D$27/(PI()*D186*D$32))*EXP(-(D$32*D163-$D$28*$D$27)*(D$32*D163-$D$28*$D$27)/(4*D186*D$32*$D$27))-0.5*(1+$D$28*D163/D186+$D$28*$D$28*$D$27/D186/D$32)*EXP($D$28*D163/D186)*ERFC((D$32*D163+$D$28*$D$27)/(SQRT(4*D186*D$32*$D$27))))","v":0.02514259336389007},{"$f":"E$8*(0.5*ERFC((E$32*E163-$D$28*$D$27)/(SQRT(4*E186*E$32*$D$27)))+SQRT($D$28*$D$28*$D$27/(PI()*E186*E$32))*EXP(-(E$32*E163-$D$28*$D$27)*(E$32*E163-$D$28*$D$27)/(4*E186*E$32*$D$27))-0.5*(1+$D$28*E163/E186+$D$28*$D$28*$D$27/E186/E$32)*EXP($D$28*E163/E186)*ERFC((E$32*E163+$D$28*$D$27)/(SQRT(4*E186*E$32*$D$27))))","v":{"$error":"#VALUE!"}},{"$f":"F$8*(0.5*ERFC((F$32*F163-$D$28*$D$27)/(SQRT(4*F186*F$32*$D$27)))+SQRT($D$28*$D$28*$D$27/(PI()*F186*F$32))*EXP(-(F$32*F163-$D$28*$D$27)*(F$32*F163-$D$28*$D$27)/(4*F186*F$32*$D$27))-0.5*(1+$D$28*F163/F186+$D$28*$D$28*$D$27/F186/F$32)*EXP($D$28*F163/F186)*ERFC((F$32*F163+$D$28*$D$27)/(SQRT(4*F186*F$32*$D$27))))","v":{"$error":"#VALUE!"}},{"$error":"#VALUE!"},{"$error":"#VALUE!"},{"$error":"#VALUE!"}]
["100年後の濃度分布",null,{"$f":"C163+0.05","v":0.05},{"$f":"IF(D$57=TRUE,$C164*D$161,NA())","v":0.25},{"$error":"#N/A"},{"$error":"#N/A"},{"$error":"#N/A"},{"$error":"#N/A"},{"$error":"#N/A"},null,{"$f":"D$8*(0.5*ERFC((D$32*D164-$D$28*$D$27)/(SQRT(4*D188*D$32*$D$27)))+SQRT($D$28*$D$28*$D$27/(PI()*D188*D$32))*EXP(-(D$32*D164-$D$28*$D$27)*(D$32*D164-$D$28*$D$27)/(4*D188*D$32*$D$27))-0.5*(1+$D$28*D164/D188+$D$28*$D$28*$D$27/D188/D$32)*EXP($D$28*D164/D188)*ERFC((D$32*D164+$D$28*$D$27)/(SQRT(4*D188*D$32*$D$27))))","v":0.024647389488621146},{"$f":"E$8*(0.5*ERFC((E$32*E164-$D$28*$D$27)/(SQRT(4*E188*E$32*$D$27)))+SQRT($D$28*$D$28*$D$27/(PI()*E188*E$32))*EXP(-(E$32*E164-$D$28*$D$27)*(E$32*E164-$D$28*$D$27)/(4*E188*E$32*$D$27))-0.5*(1+$D$28*E164/E188+$D$28*$D$28*$D$27/E188/E$32)*EXP($D$28*E164/E188)*ERFC((E$32*E164+$D$28*$D$27)/(SQRT(4*E188*E$32*$D$27))))","v":{"$error":"#VALUE!"}},{"$f":"F$8*(0.5*ERFC((F$32*F164-$D$28*$D$27)/(SQRT(4*F188*F$32*$D$27)))+SQRT($D$28*$D$28*$D$27/(PI()*F188*F$32))*EXP(-(F$32*F164-$D$28*$D$27)*(F$32*F164-$D$28*$D$27)/(4*F188*F$32*$D$27))-0.5*(1+$D$28*F164/F188+$D$28*$D$28*$D$27/F188/F$32)*EXP($D$28*F164/F188)*ERFC((F$32*F164+$D$28*$D$27)/(SQRT(4*F188*F$32*$D$27))))","v":{"$error":"#VALUE!"}},{"$f":"G$8*(0.5*ERFC((G$32*G164-$D$28*$D$27)/(SQRT(4*G188*G$32*$D$27)))+SQRT($D$28*$D$28*$D$27/(PI()*G188*G$32))*EXP(-(G$32*G164-$D$28*$D$27)*(G$32*G164-$D$28*$D$27)/(4*G188*G$32*$D$27))-0.5*(1+$D$28*G164/G188+$D$28*$D$28*$D$27/G188/G$32)*EXP($D$28*G164/G188)*ERFC((G$32*G164+$D$28*$D$27)/(SQRT(4*G188*G$32*$D$27))))","v":{"$error":"#VALUE!"}},{"$f":"H$8*(0.5*ERFC((H$32*H164-$D$28*$D$27)/(SQRT(4*H188*H$32*$D$27)))+SQRT($D$28*$D$28*$D$27/(PI()*H188*H$32))*EXP(-(H$32*H164-$D$28*$D$27)*(H$32*H164-$D$28*$D$27)/(4*H188*H$32*$D$27))-0.5*(1+$D$28*H164/H188+$D$28*$D$28*$D$27/H188/H$32)*EXP($D$28*H164/H188)*ERFC((H$32*H164+$D$28*$D$27)/(SQRT(4*H188*H$32*$D$27))))","v":{"$error":"#VALUE!"}},{"$f":"I$8*(0.5*ERFC((I$32*I164-$D$28*$D$27)/(SQRT(4*I188*I$32*$D$27)))+SQRT($D$28*$D$28*$D$27/(PI()*I188*I$32))*EXP(-(I$32*I164-$D$28*$D$27)*(I$32*I164-$D$28*$D$27)/(4*I188*I$32*$D$27))-0.5*(1+$D$28*I164/I188+$D$28*$D$28*$D$27/I188/I$32)*EXP($D$28*I164/I188)*ERFC((I$32*I164+$D$28*$D$27)/(SQRT(4*I188*I$32*$D$27))))","v":{"$error":"#VALUE!"}}]
[null,null,{"$f":"C164+0.05","v":0.1},0.5,{"$error":"#N/A"},{"$error":"#N/A"},{"$error":"#N/A"},{"$error":"#N/A"},{"$error":"#N/A"},null,0.02400765602884814,{"$error":"#VALUE!"},{"$error":"#VALUE!"},{"$error":"#VALUE!"},{"$error":"#VALUE!"},{"$error":"#VALUE!"}]
[null,null,{"$f":"C165+0.05","v":0.15000000000000002},0.7500000000000001,{"$error":"#N/A"},{"$error":"#N/A"},{"$error":"#N/A"},{"$error":"#N/A"},{"$error":"#N/A"},null,0.023209417134654516,{"$error":"#VALUE!"},{"$error":"#VALUE!"},{"$error":"#VALUE!"},{"$error":"#VALUE!"},{"$error":"#VALUE!"}]
[null,null,0.2,1,{"$error":"#N/A"},{"$error":"#N/A"},{"$error":"#N/A"},{"$error":"#N/A"},{"$error":"#N/A"},null,0.022244641442076878,{"$error":"#VALUE!"},{"$error":"#VALUE!"},{"$error":"#VALUE!"},{"$error":"#VALUE!"},{"$error":"#VALUE!"}]
[null,null,0.25,1.25,{"$error":"#N/A"},{"$error":"#N/A"},{"$error":"#N/A"},{"$error":"#N/A"},{"$error":"#N/A"},null,0.021112895205369173,{"$error":"#VALUE!"},{"$error":"#VALUE!"},{"$error":"#VALUE!"},{"$error":"#VALUE!"},{"$error":"#VALUE!"}]
[null,null,0.3,1.5,{"$error":"#N/A"},{"$error":"#N/A"},{"$error":"#N/A"},{"$error":"#N/A"},{"$error":"#N/A"},null,0.01982248142622342,{"$error":"#VALUE!"},{"$error":"#VALUE!"},{"$error":"#VALUE!"},{"$error":"#VALUE!"},{"$error":"#VALUE!"}]
[null,null,0.35,1.75,{"$error":"#N/A"},{"$error":"#N/A"},{"$error":"#N/A"},{"$error":"#N/A"},{"$error":"#N/A"},null,0.018390851699169264,{"$error":"#VALUE!"},{"$error":"#VALUE!"},{"$error":"#VALUE!"},{"$error":"#VALUE!"},{"$error":"#VALUE!"}]
[null,null,0.39999999999999997,1.9999999999999998,{"$error":"#N/A"},{"$error":"#N/A"},{"$error":"#N/A"},{"$error":"#N/A"},{"$error":"#N/A"},null,0.016844156719834153,{"$error":"#VALUE!"},{"$error":"#VALUE!"},{"$error":"#VALUE!"},{"$error":"#VALUE!"},{"$error":"#VALUE!"}]
[null,null,0.44999999999999996,2.25,{"$error":"#N/A"},{"$error":"#N/A"},{"$error":"#N/A"},{"$error":"#N/A"},{"$error":"#N/A"},null,0.015215912190167304,{"$error":"#VALUE!"},{"$error":"#VALUE!"},{"$error":"#VALUE!"},{"$error":"#VALUE!"},{"$error":"#VALUE!"}]
[null,null,0.49999999999999994,2.4999999999999996,{"$error":"#N/A"},{"$error":"#N/A"},{"$error":"#N/A"},{"$error":"#N/A"},{"$error":"#N/A"},null,0.013544881425458986,{"$error":"#VALUE!"},{"$error":"#VALUE!"},{"$error":"#VALUE!"},{"$error":"#VALUE!"},{"$error":"#VALUE!"}]
[null,null,0.5499999999999999,2.7499999999999996,{"$error":"#N/A"},{"$error":"#N/A"},{"$error":"#N/A"},{"$error":"#N/A"},{"$error":"#N/A"},null,0.01187239203927036,{"$error":"#VALUE!"},{"$error":"#VALUE!"},{"$error":"#VALUE!"},{"$error":"#VALUE!"},{"$error":"#VALUE!"}]
[null,null,0.6,3,{"$error":"#N/A"},{"$error":"#N/A"},{"$error":"#N/A"},{"$error":"#N/A"},{"$error":"#N/A"},null,0.010239389672370017,{"$error":"#VALUE!"},{"$error":"#VALUE!"},{"$error":"#VALUE!"},{"$error":"#VALUE!"},{"$error":"#VALUE!"}]
[null,null,0.65,3.25,{"$error":"#N/A"},{"$error":"#N/A"},{"$error":"#N/A"},{"$error":"#N/A"},{"$error":"#N/A"},null,0.008683570212932422,{"$error":"#VALUE!"},{"$error":"#VALUE!"},{"$error":"#VALUE!"},{"$error":"#VALUE!"},{"$error":"#VALUE!"}]
[null,null,0.7000000000000001,3.5000000000000004,{"$error":"#N/A"},{"$error":"#N/A"},{"$error":"#N/A"},{"$error":"#N/A"},{"$error":"#N/A"},null,7.2369159915300334E-3,{"$error":"#VALUE!"},{"$error":"#VALUE!"},{"$error":"#VALUE!"},{"$error":"#VALUE!"},{"$error":"#VALUE!"}]
[null,null,0.7500000000000001,3.7500000000000004,{"$error":"#N/A"},{"$error":"#N/A"},{"$error":"#N/A"},{"$error":"#N/A"},{"$error":"#N/A"},null,0.005923894704746898,{"$error":"#VALUE!"},{"$error":"#VALUE!"},{"$error":"#VALUE!"},{"$error":"#VALUE!"},{"$error":"#VALUE!"}]
[null,null,0.8000000000000002,4.000000000000001,{"$error":"#N/A"},{"$error":"#N/A"},{"$error":"#N/A"},{"$error":"#N/A"},{"$error":"#N/A"},null,0.004760476048675454,{"$error":"#VALUE!"},{"$error":"#VALUE!"},{"$error":"#VALUE!"},{"$error":"#VALUE!"},{"$error":"#VALUE!"}]
[null,null,0.8500000000000002,4.250000000000001,{"$error":"#N/A"},{"$error":"#N/A"},{"$error":"#N/A"},{"$error":"#N/A"},{"$error":"#N/A"},null,3.7540006212395155E-3,{"$error":"#VALUE!"},{"$error":"#VALUE!"},{"$error":"#VALUE!"},{"$error":"#VALUE!"},{"$error":"#VALUE!"}]
[null,null,0.9000000000000002,4.500000000000001,{"$error":"#N/A"},{"$error":"#N/A"},{"$error":"#N/A"},{"$error":"#N/A"},{"$error":"#N/A"},null,2.9038208303515042E-3,{"$error":"#VALUE!"},{"$error":"#VALUE!"},{"$error":"#VALUE!"},{"$error":"#VALUE!"},{"$error":"#VALUE!"}]
[null,null,0.9500000000000003,4.750000000000002,{"$error":"#N/A"},{"$error":"#N/A"},{"$error":"#N/A"},{"$error":"#N/A"},{"$error":"#N/A"},null,2.2025435028180905E-3,{"$error":"#VALUE!"},{"$error":"#VALUE!"},{"$error":"#VALUE!"},{"$error":"#VALUE!"},{"$error":"#VALUE!"}]
[null,null,1.0000000000000002,5.000000000000001,{"$error":"#N/A"},{"$error":"#N/A"},{"$error":"#N/A"},{"$error":"#N/A"},{"$error":"#N/A"},null,1.6376509612960352E-3,{"$error":"#VALUE!"},{"$error":"#VALUE!"},{"$error":"#VALUE!"},{"$error":"#VALUE!"},{"$error":"#VALUE!"}]
[null,null,"↑での分散係数"]
[{"$nulls":3},"分散係数(m2/yaer)","分散係数(m2/yaer)","分散係数(m2/yaer)","分散係数(m2/yaer)","分散係数(m2/yaer)","分散係数(m2/yaer)"]
[{"$nulls":3},{"$f":"$D$29","v":1.3333333333333335},{"$f":"$D$29","v":1.3333333333333335},1.3333333333333335,1.3333333333333335,1.3333333333333335,1.3333333333333335]
[{"$nulls":3},{"$f":"$D$29","v":1.3333333333333335},1.3333333333333335,1.3333333333333335,1.3333333333333335,1.3333333333333335,1.3333333333333335]
[{"$nulls":3},1.3333333333333335,1.3333333333333335,1.3333333333333335,1.3333333333333335,1.3333333333333335,1.3333333333333335]
[{"$nulls":3},1.3333333333333335,1.3333333333333335,1.3333333333333335,1.3333333333333335,1.3333333333333335,1.3333333333333335]
[{"$nulls":3},1.3333333333333335,1.3333333333333335,1.3333333333333335,1.3333333333333335,1.3333333333333335,1.3333333333333335]
[{"$nulls":3},1.3333333333333335,1.3333333333333335,1.3333333333333335,1.3333333333333335,1.3333333333333335,1.3333333333333335]
[{"$nulls":3},1.3333333333333335,1.3333333333333335,1.3333333333333335,1.3333333333333335,1.3333333333333335,1.3333333333333335]
[{"$nulls":3},1.3333333333333335,1.3333333333333335,1.3333333333333335,1.3333333333333335,1.3333333333333335,1.3333333333333335]
[{"$nulls":3},1.3333333333333335,1.3333333333333335,1.3333333333333335,1.3333333333333335,1.3333333333333335,1.3333333333333335]
[{"$nulls":3},1.3333333333333335,1.3333333333333335,1.3333333333333335,1.3333333333333335,1.3333333333333335,1.3333333333333335]
[{"$nulls":3},1.3333333333333335,1.3333333333333335,1.3333333333333335,1.3333333333333335,1.3333333333333335,1.3333333333333335]
[{"$nulls":3},1.3333333333333335,1.3333333333333335,1.3333333333333335,1.3333333333333335,1.3333333333333335,1.3333333333333335]
[{"$nulls":3},1.3333333333333335,1.3333333333333335,1.3333333333333335,1.3333333333333335,1.3333333333333335,1.3333333333333335]
[{"$nulls":3},1.3333333333333335,1.3333333333333335,1.3333333333333335,1.3333333333333335,1.3333333333333335,1.3333333333333335]
[{"$nulls":3},1.3333333333333335,1.3333333333333335,1.3333333333333335,1.3333333333333335,1.3333333333333335,1.3333333333333335]
[{"$nulls":3},1.3333333333333335,1.3333333333333335,1.3333333333333335,1.3333333333333335,1.3333333333333335,1.3333333333333335]
[{"$nulls":3},1.3333333333333335,1.3333333333333335,1.3333333333333335,1.3333333333333335,1.3333333333333335,1.3333333333333335]
[{"$nulls":3},{"$f":"$D$29","v":1.3333333333333335},1.3333333333333335,1.3333333333333335,1.3333333333333335,1.3333333333333335,1.3333333333333335]
[{"$nulls":3},1.3333333333333335,1.3333333333333335,1.3333333333333335,1.3333333333333335,1.3333333333333335,1.3333333333333335]
[{"$nulls":3},1.3333333333333335,1.3333333333333335,1.3333333333333335,1.3333333333333335,1.3333333333333335,1.3333333333333335]
[{"$nulls":3},1.3333333333333335,1.3333333333333335,1.3333333333333335,1.3333333333333335,1.3333333333333335,1.3333333333333335]
[{"$nulls":3},1.3333333333333335,1.3333333333333335,1.3333333333333335,1.3333333333333335,1.3333333333333335,1.3333333333333335]
[]
[]
["凡例",null,null,{"$f":"D5","v":"砒素"},"ふっ素","ほう素","カドミウム","セレン","六価クロム",null,{"$f":"K115","v":"砒素"},"ふっ素","ほう素","カドミウム","セレン","六価クロム"]
["土壌溶出量基準値",null,"距離(m)",{"$f":"IF(D57=TRUE,0,NA())","v":0},{"$f":"IF(E57=TRUE,0,NA())","v":{"$error":"#N/A"}},{"$error":"#N/A"},{"$error":"#N/A"},{"$error":"#N/A"},{"$error":"#N/A"},"濃度　(mg/L)",{"$f":"D11","v":0.01},0.8,1,0.01,0.01,0.05]
["①",null,null,{"$f":"IF(D57=TRUE,D161/2,NA())","v":2.5},{"$f":"IF(E57=TRUE,E161/2,NA())","v":{"$error":"#N/A"}},{"$error":"#N/A"},{"$error":"#N/A"},{"$error":"#N/A"},{"$error":"#N/A"},null,{"$f":"D11","v":0.01},0.8,1,0.01,0.01,0.05]
[{"$nulls":3},{"$f":"IF(D57=TRUE,D161,NA())","v":5},{"$f":"IF(E57=TRUE,E161,NA())","v":{"$error":"#N/A"}},{"$error":"#N/A"},{"$error":"#N/A"},{"$error":"#N/A"},{"$error":"#N/A"},null,{"$f":"D11","v":0.01},0.8,1,0.01,0.01,0.05]
[]
["凡例",null,null,{"$f":"D5","v":"砒素"},"ふっ素","ほう素","カドミウム","セレン","六価クロム",null,{"$f":"K115","v":"砒素"},"ふっ素","ほう素","カドミウム","セレン","六価クロム"]
["不飽和層下端",null,"距離(m)",{"$f":"IF(D57=TRUE,$D$3,NA())","v":5},{"$f":"IF(E57=TRUE,$D$3,NA())","v":{"$error":"#N/A"}},{"$error":"#N/A"},{"$error":"#N/A"},{"$error":"#N/A"},{"$error":"#N/A"},"濃度　(mg/L)",0,0,0,0,0,0]
["②",null,null,{"$f":"IF(D57=TRUE,$D$3,NA())","v":5},{"$f":"IF(E57=TRUE,$D$3,NA())","v":{"$error":"#N/A"}},{"$error":"#N/A"},{"$error":"#N/A"},{"$error":"#N/A"},{"$error":"#N/A"},null,{"$f":"D8/2","v":0.013},{"$error":"#VALUE!"},{"$error":"#VALUE!"},{"$error":"#VALUE!"},{"$error":"#VALUE!"},{"$error":"#VALUE!"}]
[{"$nulls":3},{"$f":"IF(D57=TRUE,$D$3,NA())","v":5},{"$f":"IF(E57=TRUE,$D$3,NA())","v":{"$error":"#N/A"}},{"$error":"#N/A"},{"$error":"#N/A"},{"$error":"#N/A"},{"$error":"#N/A"},null,{"$f":"D8","v":0.026},"","","","",""]
[]
["凡例",null,null,{"$f":"D5","v":"砒素"},"ふっ素","ほう素","カドミウム","セレン","六価クロム",null,{"$f":"K115","v":"砒素"},"ふっ素","ほう素","カドミウム","セレン","六価クロム"]
["③土壌溶出量基準値となる層厚の目安",null,"距離(m)",{"$f":"IFERROR(D226,NA())","v":{"$error":"#N/A"}},{"$f":"IFERROR(E226,NA())","v":{"$error":"#N/A"}},{"$error":"#N/A"},{"$error":"#N/A"},{"$error":"#N/A"},{"$error":"#N/A"},"濃度　(mg/L)",0,0,0,0,0,0]
["③",null,null,{"$f":"IFERROR(D227,NA())","v":{"$error":"#N/A"}},{"$error":"#N/A"},{"$error":"#N/A"},{"$error":"#N/A"},{"$error":"#N/A"},{"$error":"#N/A"},null,{"$f":"D8/2","v":0.013},{"$error":"#VALUE!"},{"$error":"#VALUE!"},{"$error":"#VALUE!"},{"$error":"#VALUE!"},{"$error":"#VALUE!"}]
[{"$nulls":3},{"$error":"#N/A"},{"$error":"#N/A"},{"$error":"#N/A"},{"$error":"#N/A"},{"$error":"#N/A"},{"$error":"#N/A"},null,{"$f":"D8","v":0.026},"","","","",""]
[]
[{"$nulls":3},{"$f":"D10","v":"砒素"},"ふっ素","ほう素","カドミウム","セレン","六価クロム"]
[null,null,"距離(m)",{"$f":"IF(D$39=FALSE,IF(D$156>$D$3,NA(),IFERROR(D$156,NA())),NA())","v":{"$error":"#N/A"}},{"$error":"#VALUE!"},{"$error":"#VALUE!"},{"$error":"#VALUE!"},{"$error":"#VALUE!"},{"$error":"#VALUE!"}]
[{"$nulls":3},{"$error":"#N/A"},{"$error":"#VALUE!"},{"$error":"#VALUE!"},{"$error":"#VALUE!"},{"$error":"#VALUE!"},{"$error":"#VALUE!"}]
[{"$nulls":3},{"$error":"#N/A"},{"$error":"#VALUE!"},{"$error":"#VALUE!"},{"$error":"#VALUE!"},{"$error":"#VALUE!"},{"$error":"#VALUE!"}]