Workbook
Name a: #REF!
Name a: #REF!
Name CRF_CountryName: [1]Sheet1!$C$4
Name CRF_InventoryYear: [1]Sheet1!$C$6
Name CRF_Submission: [1]Sheet1!$C$30
Name CRF_Table1.A_a_s2_Main: #REF!
Name CRF_Table1.A_a_s2_Main: #REF!
Name CRF_Table2_II_.Fs1_Dyn1A17: #REF!
Name CRF_Table2_II_.Fs1_Dyn1A17: #REF!
Name CRF_Table2_II_.Fs1_Dyn1A19: #REF!
Name CRF_Table2_II_.Fs1_Dyn1A19: #REF!
Name CRF_Table2_II_.Fs1_Dyn1A21: #REF!
Name CRF_Table2_II_.Fs1_Dyn1A21: #REF!
Name CRF_Table2_II_.Fs1_Dyn1A23: #REF!
Name CRF_Table2_II_.Fs1_Dyn1A23: #REF!
Name CRF_Table2_II_.Fs1_Dyn1A25: #REF!
Name CRF_Table2_II_.Fs1_Dyn1A25: #REF!
Name CRF_Table2_II_.Fs1_Dyn1A27: #REF!
Name CRF_Table2_II_.Fs1_Dyn1A27: #REF!
Name CRF_Table2_II_.Fs1_Dyn2A30: #REF!
Name CRF_Table2_II_.Fs1_Dyn2A30: #REF!
Name CRF_Table2_II_.Fs1_Dyn2A32: #REF!
Name CRF_Table2_II_.Fs1_Dyn2A32: #REF!
Name CRF_Table2_II_.Fs1_Main: #REF!
Name CRF_Table2_II_.Fs1_Main: #REF!
Name CRF_Table4s1_Dyn1: #REF!
Name CRF_Table4s1_Dyn1: #REF!
Name CRF_Table4s1_DynA20: #REF!
Name CRF_Table4s1_DynA20: #REF!
Name CRF_Table4s1_Main: #REF!
Name CRF_Table4s1_Main: #REF!
Name GTLH_500: #REF!
Name GTLH_500: #REF!
Name LED照明器具: #REF!
Name LED照明器具: #REF!
Name menu: #REF!
Name menu: #REF!
Name クラス条件: #REF!
Name クラス条件: #REF!
Name ステップ0: #REF!
Name ステップ0: #REF!
Name ステップ1―4: #REF!
Name ステップ1―4: #REF!
Name プルダウン: #REF!
Name プルダウン: #REF!
Name 設備機器等: '[2]目次（全型番）'!#REF!,'[2]目次（全型番）'!#REF!
Name 設備機器等: '[2]目次（全型番）'!#REF!,'[2]目次（全型番）'!#REF!
Name 対策種別: [3]選択肢!$B$31:$B$33
Name 注意すべきIE: [4]注意すべきIEリスト!$B$3:$B$13
Name 熱風ヒートポンプ_水熱源･一過_循環式: #REF!
Name 熱風ヒートポンプ_水熱源･一過_循環式: #REF!
Name 分野: [3]選択肢!$A$2:$A$7

Sheet リスト_表紙
N2: 資料４
B15: 2026年度環境省LD-Techリスト（案）
B22: Ver. 1.0
E29: 令和8年（2026年）10月

Sheet リスト_補足 
B2: 2026年度環境省LD-Techリスト
B10: 項目 | D10: 主な記載内容
B11: 環境省LD-Tech リストNo.
B14: 区 分
B23: 設備・機器等
B27: 原理・しくみ
B29: 環境省LD-Tech 水準表への掲載有無
B33: 記号の 使用方法
B40: 項目 | D40: 主な記載内容
B41: 技術成熟度
B62: 法定耐用年数
B67: 温暖化対策計画の 該当箇所

Sheet リスト_本体 
C3: No | D3: 区分 | G3: 概 要 | I3: 技術 成熟度 | J3: 法定耐用年数 | K3: 地球温暖化対策計画 該当箇所 | M3: 水準表への 掲載有無
D4: 部門1 | E4: 部門2 | F4: 技術分類 | G4: 設備・機器等 | H4: 原理・しくみ | K4: 本文見出し | L4: 別表
C5: L-000001 | D5: 産業・業務（業種共通） | E5: 空調 | F5: 空調機（ヒートポンプ・個別方式） | G5: ガスヒートポンプ | H5: 室外機内のコンプレッサの駆動をガスエンジンで行うヒートポンプ方式の空気調和機。 | I5: 8 | J5: 13 | K5: 省エネルギー性能の高い設備・機器等の導入促進 業種横断 高効率空調の導入 | L5: 表1-7 | M5: ○
C6: L-000002 | D6: 産業・業務（業種共通） | E6: 空調 | F6: 空調機（ヒートポンプ・個別方式） | G6: パッケージエアコン（店舗･オフィス用） | H6: 電動圧縮機を用いるヒートポンプ式の空気調和機で、冷房能力が4～28kW程度。主に店舗･オフィス向け。 | I6: 8 | J6: 13 | K6: 省エネルギー性能の高い設備・機器等の導入促進 業種横断 高効率空調の導入 | L6: 表1-7 | M6: ○
C7: L-000003 | D7: 産業・業務（業種共通） | E7: 空調 | F7: 空調機（ヒートポンプ・個別方式） | G7: パッケージエアコン（設備用） | H7: 電動圧縮機を用いるヒートポンプ式の空気調和機で、冷房能力が9～140kW程度。主に工場向け。 | I7: 8 | J7: 13 | K7: 省エネルギー性能の高い設備・機器等の導入促進 業種横断 高効率空調の導入 | L7: 表1-7 | M7: ○
C8: L-000004 | D8: 産業・業務（業種共通） | E8: 空調 | F8: 空調機（ヒートポンプ・個別方式） | G8: パッケージエアコン（ビル用マルチ） | H8: 電動圧縮機を用いるヒートポンプ式の空気調和機で、冷房能力が14～120kW程度。主にビル向け。室内機ごとの個別制御機能を持つ。 | I8: 8 | J8: 13 | K8: 省エネルギー性能の高い設備・機器等の導入促進 業種横断 高効率空調の導入 | L8: 表1-7 | M8: ○
C9: L-000005 | D9: 産業・業務（業種共通） | E9: 空調 | F9: 空調機（ヒートポンプ・個別方式） | G9: 氷蓄熱式パッケージエアコン | H9: パッケージエアコンの室外ユニットと室内ユニットの間に氷蓄熱槽を持っており、夜間の冷房を使っていない時間帯に、氷蓄熱槽の熱交換器で氷を作り、昼間の冷房運転時には、室外ユニットを通った冷媒を氷蓄熱槽の熱交換器でさらに冷やしてから室内機に送ることによって利用する。2050年に向けた再生可能エネルギー発電の最大活用に資することが期待される。 | I9: 8 | J9: 13 | K9: 省エネルギー性能の高い設備・機器等の導入促進 業種横断 高効率空調の導入 | L9: 表1-7 | M9: ○
C10: L-000006 | D10: 産業・業務（業種共通） | E10: 空調 | F10: 空調機（ヒートポンプ・個別方式） | G10: エアコン併用ハイブリッド型輻射式冷暖房システム | H10: ルームエアコン、店舗用エアコン、輻射パネルからなるエアコンの室内機から戻る湿り蒸気を輻射パネルへ通して蒸発させて表面を冷やし輻射冷房を行う。暖房は室外機から輻射パネルへ冷媒を先に通し、湿り蒸気を室内機に通して凝縮することで輻射暖房を行う機器。 従来型と比較し、輻射パネルを組み合わせることで輻射冷暖房が可能になり、図書館や住宅、学校などに幅広く利用されている。 | I10: 8 | J10: 13 | K10: 省エネルギー性能の高い設備・機器等の導入促進 業種横断 高効率空調の導入 | L10: 表1-7 | M10: -
C11: L-000007 | D11: 産業・業務（業種共通） | E11: 空調 | F11: 空調機（ヒートポンプ・個別方式） | G11: 間接外気空調ユニット | H11: 内外ユニットに設けた顕熱交換器に不凍液を循環させる間接外気冷房回路と圧縮機で運転する冷凍冷房回路を併用して、間接外気冷房と冷凍冷房を外気温の変化に応じて、もっとも省エネとなる運転モードを自動で選択して運転する冷房専用空調機である。 | I11: 8 | J11: - | K11: 省エネルギー性能の高い設備・機器等の導入促進 業種横断 高効率空調の導入 | L11: 表1-7 | M11: -
C12: L-000265 | D12: 産業・業務（業種共通） | E12: 空調 | F12: 換気設備（ヒートポンプ・個別方式） | G12: ヒートポンプ式熱回収換気 | H12: 屋外から取り入れた外気をヒートポンプで処理して室内へ供給し、室内空気を排出する際、その空気に含まれる熱エネルギーを冷媒（ヒートポンプ）で回収する。回収した熱は圧縮機ユニットを介して給気側へ移送され、外気の加熱・冷却に再利用される。冬季は排気熱で外気を暖め、夏季は外気の熱を排気側へ移すことで、換気による空調負荷を低減。これにより、十分な換気を確保しながら省エネルギー性と室内の快適性を両立する仕組み。 | I12: 8 | J12: 13 | K12: ‐ | L12: - | M12: ○
C13: L-000008 | D13: 産業・業務（業種共通） | E13: 空調/産業用プロセス | F13: 熱源・空調機（ヒートポンプ・中央方式） | G13: フロン類等冷媒ターボ冷凍機 | H13: 蒸発器、圧縮機、凝集器、弁からなる。蒸発器内の冷媒を蒸発させ蒸発器内のパイプの中の循環水を冷やし、冷水として取り出して使用する機器。蒸発した冷媒は圧縮機で昇圧され、凝縮器内の冷却水で凝縮され液体に戻る。HFC冷媒またはHFO冷媒を使用している。 | I13: 8 | J13: 15 | K13: 省エネルギー性能の高い設備・機器等の導入促進 業種横断 高効率空調の導入 | L13: 表1-7 | M13: ○
C14: L-000009 | D14: 産業・業務（業種共通） | E14: 空調/産業用プロセス | F14: 熱源・空調機（ヒートポンプ・中央方式） | G14: 自然冷媒ターボ冷凍機 | H14: 蒸発器、圧縮機、凝集器、弁からなる。蒸発器内の冷媒を蒸発させ蒸発器内のパイプの中の循環水を冷やし、冷水として取り出して使用する機器。蒸発した冷媒は圧縮機で昇圧され、凝縮器内の冷却水で凝縮され液体に戻る。従来はHFC冷媒が使用されるケースが多いが、本設備・機器等は自然冷媒である水が使用されている。公共スペース、地下街、及び医療機関での使用が期待されている。 | I14: 8 | J14: 15 | K14: 省エネルギー性能の高い設備・機器等の導入促進 業種横断 高効率空調の導入 | L14: 表1-7 | M14: ○
C15: L-000010 | D15: 産業・業務（業種共通） | E15: 空調/産業用プロセス | F15: 熱源・空調機（ヒートポンプ・中央方式） | G15: 水冷ヒートポンプチラー | H15: 水を熱源としたヒートポンプ方式の水冷式チリングユニット。 | I15: 8 | J15: 15 | K15: 省エネルギー性能の高い設備・機器等の導入促進 業種横断 高効率空調の導入 | L15: 表1-7 | M15: ○
C16: L-000011 | D16: 産業・業務（業種共通） | E16: 空調/産業用プロセス | F16: 熱源・空調機（ヒートポンプ・中央方式） | G16: 空冷ヒートポンプチラー | H16: 空気を熱源としたヒートポンプ方式の空冷式チリングユニット。 | I16: 8 | J16: 15 | K16: 省エネルギー性能の高い設備・機器等の導入促進 業種横断 高効率空調の導入 | L16: 表1-7 | M16: ○
C17: L-000260 | D17: 産業・業務（業種共通） | E17: 空調 | F17: 熱源・空調機（ヒートポンプ・中央方式） | G17: デシカント空調システム | H17: デシカント（除湿剤）を利用して空気中から水蒸気を吸脱着することで、空気の調湿を行う機器。なお、デシカントは外調機あるいは空調機のいずれかに組み込まれる。固体のデシカント（吸着剤）を用いたものを乾式デシカント空調システム、液体のデシカント（吸収溶液）を用いたシステムを湿式デシカントとして区別する。乾式湿式いずれも、従来の圧縮式サイクルによる冷却除湿を行う必要がなく、圧縮式ヒートポンプの空調機器と組み合わせることで、空調システム全体としての大幅な省エネルギーの実現が期待される。 | I17: 8 | J17: 15 | K17: 省エネルギー性能の高い設備・機器等の導入促進 業種横断 高効率空調の導入 | L17: 表1-7 | M17: ○
C18: L-000013 | D18: 産業・業務（業種共通） | E18: 空調 | F18: 熱源・空調機（ヒートポンプ・中央方式）・熱源補機 | G18: 氷蓄熱ユニット | H18: 中央方式の空調機における熱源機とは別に氷蓄熱槽を持っており、夜間の冷房を使っていない時間帯に、氷蓄熱槽の熱交換器で氷を作り、昼間の冷房運転時には、室外ユニットを通った冷媒を氷蓄熱槽の熱交換器でさらに冷やしてから室内機に送ることによって利用する。2050年に向けた再生可能エネルギー発電の最大活用に資することが期待される。 | I18: 8 | J18: 15 | K18: 省エネルギー性能の高い設備・機器等の導入促進 業種横断 高効率空調の導入 | L18: 表1-7 | M18: ○
C19: L-000014 | D19: 産業・業務（業種共通） | E19: 空調 | F19: 熱源・空調機（ヒートポンプ・地中熱利用） | G19: 地中熱利用システム | H19: 一年を通じて温度がほぼ一定に保たれている地下約10 メートル以深の熱を冷暖房や給湯、融雪などに利用する。その利用方法は、ヒートポンプシステム、空気循環、熱伝導、水循環、ヒートパイプの5 つに分類することができる。ヒートポンプの熱源とする場合、地中から熱を取り出すために地中熱交換器内に流体を循環させ、汲み上げた熱をヒートポンプで必要な温度領域の熱に変換するクローズドループ方式と、揚水した地下水の熱を地表にあるヒートポンプで取り出すオープンループ方式がある。オープンループ方式の場合、クローズドループ方式に比べ採熱量が大きくなることから経済性に優れるが、井戸内の目詰まりによるメンテナンスが必要となる。 | I19: 8 | J19: 15 | K19: ‐ | L19: ‐ | M19: -
C20: L-000015 | D20: 産業・業務（業種共通） | E20: 空調 | F20: 熱源・空調機（気化式・中央方式） | G20: 間接気化式冷却器 | H20: 間接気化式冷却器は、隔壁で仕切られたDRY流路とWET流路を多数積層した構造からなる。WET側の隔壁面は水を浸した湿潤壁である。ここでDRY流路に高温空気をWET流路には低湿空気又は常温空気を流すことで、WET流路で気化熱現象を生じさせ、隔壁の温度が低下するため隣り合うDRY流路を流れる空気の熱が隔壁に伝達し絶対湿度の移行がなく冷却される。この冷却に用いるエネルギーは搬送動力と気化蒸発に使用する水のみのため、省エネ性が高く、CO2排出量を削減できる機器である。既に食品工場・生産工場・ショッピングセンターを中心に導入が進んでおり、今後データセンター向けに更なる普及が期待される。 | I20: 8 | J20: 15 | K20: 省エネルギー性能の高い設備・機器等の導入促進 業種横断 高効率空調の導入 | L20: 表1-7 | M20: ○
C21: L-000016 | D21: 産業・業務（業種共通） | E21: 空調/産業用プロセス | F21: 熱源・空調機（吸収式・中央方式） | G21: 吸収冷温水機（二重効用） | H21: 吸収力の高い液体に冷媒を吸収させることにより生じる低圧を利用して水を気化させ、気化熱から生じる低温を得る冷凍機であり、高温、低温再生器を有するもの。 | I21: 8 | J21: 15 | K21: 省エネルギー性能の高い設備・機器等の導入促進 業種横断 高効率空調の導入 | L21: 表1-7 | M21: ○
C22: L-000017 | D22: 産業・業務（業種共通） | E22: 空調/産業用プロセス | F22: 熱源・空調機（吸収式・中央方式） | G22: 吸収冷温水機（三重効用）/廃熱投入型吸収冷温水機（三重効用） | H22: 吸収力の高い液体に冷媒を吸収させることにより生じる低圧を利用して水を気化させ、気化熱から生じる低温を得る冷凍機であり、高温、中温、低温再生器を有するもの。 | I22: 8 | J22: 15 | K22: 省エネルギー性能の高い設備・機器等の導入促進 業種横断 高効率空調の導入 | L22: 表1-7 | M22: ○
C23: L-000018 | D23: 産業・業務（業種共通） | E23: 空調/産業用プロセス | F23: 熱源・空調機（吸収式・中央方式） | G23: 一重二重併用形吸収冷温水機 | H23: 吸収力の高い液体に冷媒を吸収させることにより生じる低圧を利用して水を気化させ、気化熱から生じる低温を得る冷凍機であり、排熱を熱源として利用し、燃料削減率が20%以上のもの。 | I23: 8 | J23: 15 | K23: 省エネルギー性能の高い設備・機器等の導入促進 業種横断 高効率空調の導入 | L23: 表1-7 | M23: ○
... C25: L-000020 | D25: 産業・業務（業種共通） | E25: 空調/産業用プロセス | F25: 熱源・空調機（吸収式・中央方式） | G25: 吸収冷凍機（三重効用・蒸気式） | H25: 吸収力の高い液体に冷媒を吸収させることにより生じる低圧を利用して水を気化させ、気化熱から生じる低温を得る冷凍機であり、高温、中温、低温再生器を有し、加熱源として蒸気を使用するもの。 | I25: 8 | J25: 15 | K25: 省エネルギー性能の高い設備・機器等の導入促進 業種横断 高効率空調の導入 | L25: 表1-7 | M25: -
C26: L-000021 | D26: 産業・業務（業種共通） | E26: 空調/産業用プロセス | F26: 熱源・空調機（吸収式・中央方式） | G26: 一重二重併用形吸収冷凍機（蒸気式） | H26: 吸収力の高い液体に冷媒を吸収させることにより生じる低圧を利用して水を気化させ、気化熱から生じる低温を得る冷凍機であり、排熱を熱源として利用し、燃料削減率が20%以上のもの。加熱源として蒸気を使用する。 | I26: - | J26: 15 | K26: 省エネルギー性能の高い設備・機器等の導入促進 業種横断 高効率空調の導入 | L26: 表1-7 | M26: -
C27: L-000022 | D27: 産業・業務（業種共通） | E27: 空調 | F27: 熱源・空調機（吸収式・中央方式） | G27: 木質ペレット直焚き吸収冷温水機（二重効用） | H27: 吸収力の高い液体に冷媒を吸収させることにより生じる低圧を利用して水を気化させ、気化熱から生じる低温を得る冷凍機であり、高温、低温再生器を有するものの内、加熱源の燃料に木質ペレットを使用するもの。中央方式を採用する業務施設の冷暖房に使用される。 | I27: 8 | J27: 15 | K27: 省エネルギー性能の高い設備・機器等の導入促進 業種横断 高効率空調の導入 | L27: 表1-7 | M27: ○
C28: L-000023 | D28: 産業・業務（業種共通） | E28: 空調 | F28: 熱源・空調機（地中熱利用・中央方式） | G28: パッシブ地中熱利用システム | H28: 熱交換パイプ、制御盤、ポンプ、ファンからなる。地下水又は温水をスパイラル状に通水できるパイプを地下2mに埋設し送風をすることで、空気と地中熱・水の熱と熱交換を行い温風、冷風を送風する機器。一般的には通風部のみあるクールチューブやアースチューブなどと呼ばれる空調機が存在する。こういったシステムと比べて、水が持つ熱との熱交換が加わったことで、熱交換量が飛躍的に増え、大空間の空調を行えるようになった。 | I28: 8 | J28: - | K28: 省エネルギー性能の高い設備・機器等の導入促進 業種横断 高効率空調の導入 | L28: 表1-7 | M28: ○
C29: L-000024 | D29: 産業・業務（業種共通） | E29: 空調/産業用プロセス | F29: 熱源・空調機（吸着式・中央方式） | G29: 吸着式冷凍機 | H29: 吸着器内部に充填された吸着剤に冷媒を吸着させ、冷媒の蒸発を促し、その気化熱から冷凍効果を得る冷凍機。 | I29: 8 | J29: 13 | K29: 省エネルギー性能の高い設備・機器等の導入促進 業種横断 高効率空調の導入 | L29: 表1-7 | M29: ○
C30: L-000025 | D30: 産業・業務（業種共通） | E30: 給湯/産業用プロセス | F30: 熱源（ヒートポンプ） | G30: 高温水ヒートポンプ（空気熱源･循環式） | H30: 空気を熱源とし、循環式の供給方式が可能なヒートポンプ方式で、水等の2次媒体を加熱する熱源・空調機。貯湯ユニットを含まないもの。 | I30: 8 | J30: 13 | K30: 省エネルギー性能の高い設備・機器等の導入促進 業種横断 産業ＨＰの導入 | L30: 表1-7 | M30: ○
C31: L-000026 | D31: 産業・業務（業種共通） | E31: 給湯/産業用プロセス | F31: 熱源（ヒートポンプ） | G31: 高温水ヒートポンプ（空気熱源･一過式） | H31: 空気を熱源とし、一過式の供給方式が可能なヒートポンプ方式で、水等の2次媒体を加熱する熱源・空調機。貯湯ユニットを含まないもの。 | I31: 8 | J31: 13 | K31: 省エネルギー性能の高い設備・機器等の導入促進 業種横断 産業ＨＰの導入 | L31: 表1-7 | M31: ○
C32: L-000027 | D32: 産業・業務（業種共通） | E32: 産業用プロセス | F32: 熱源（ヒートポンプ） | G32: 高温水ヒートポンプ（水熱源･循環式） | H32: 水を熱源とし、遠心式、または回転式圧縮機を使用して、循環式の供給方式が可能なヒートポンプ方式で、水等の2次媒体を加熱する熱源・空調機。貯湯ユニットを含まないもの。 | I32: 8 | J32: 13 | K32: 省エネルギー性能の高い設備・機器等の導入促進 業種横断 産業ＨＰの導入 | L32: 表1-7 | M32: ○
C33: L-000028 | D33: 産業・業務（業種共通） | E33: 産業用プロセス | F33: 熱源（ヒートポンプ） | G33: 高温水ヒートポンプ（水熱源･一過式） | H33: 水を熱源とし、一過式の供給方式が可能なヒートポンプ方式で、水等の2次媒体を加熱する熱源・空調機。貯湯ユニットを含まないもの。 | I33: 8 | J33: 13 | K33: 省エネルギー性能の高い設備・機器等の導入促進 業種横断 産業ＨＰの導入 | L33: 表1-7 | M33: ○
C34: L-000029 | D34: 産業・業務（業種共通） | E34: 産業用プロセス | F34: 熱源（ヒートポンプ） | G34: 高温水ヒートポンプ（水空気熱源･循環式） | H34: 空気、または水を熱源とでき、循環式の供給方式が可能なヒートポンプ方式で、水等の2次媒体を加熱する熱源・空調機。貯湯ユニットを含まないもの。 | I34: 8 | J34: 13 | K34: 省エネルギー性能の高い設備・機器等の導入促進 業種横断 産業ＨＰの導入 | L34: 表1-7 | M34: ○
C35: L-000030 | D35: 産業・業務（業種共通） | E35: 産業用プロセス | F35: 熱源（ヒートポンプ） | G35: 高温水ヒートポンプ（水空気熱源･一過式） | H35: 空気、または水を熱源とでき、一過式の供給方式が可能なヒートポンプ方式で、水等の2次媒体を加熱する熱源・空調機。貯湯ユニットを含まないもの。 | I35: 8 | J35: 13 | K35: 省エネルギー性能の高い設備・機器等の導入促進 業種横断 産業ＨＰの導入 | L35: 表1-7 | M35: ○
C36: L-000031 | D36: 産業・業務（業種共通） | E36: 産業用プロセス | F36: 熱源（ヒートポンプ） | G36: 熱風ヒートポンプ（空気熱源･一過式） | H36: 空気を熱源とし、一過式の供給方式を用いるヒートポンプ方式で、高温の熱風を発生させる装置。 | I36: 8 | J36: 15 | K36: 省エネルギー性能の高い設備・機器等の導入促進 業種横断 産業ＨＰの導入 | L36: 表1-7 | M36: ○
C37: L-000032 | D37: 産業・業務（業種共通） | E37: 産業用プロセス | F37: 熱源（ヒートポンプ） | G37: 熱風ヒートポンプ（水熱源･一過/循環式） | H37: 水を熱源とし、一過/循環式の供給方式を用いるヒートポンプ方式で、高温の熱風を発生させる熱源装置。 | I37: 8 | J37: 15 | K37: 省エネルギー性能の高い設備・機器等の導入促進 業種横断 産業ＨＰの導入 | L37: 表1-7 | M37: ○
C38: L-000033 | D38: 産業・業務（業種共通） | E38: 産業用プロセス | F38: 熱源（ヒートポンプ） | G38: 蒸気発生ヒートポンプ（水熱源･一過式） | H38: 水を熱源とし、一過式の供給方式を用いるヒートポンプ方式で、蒸気を発生させる熱源装置。 | I38: 8 | J38: 15 | K38: 省エネルギー性能の高い設備・機器等の導入促進 業種横断 産業ＨＰの導入 | L38: 表1-7 | M38: ○
C39: L-000034 | D39: 産業・業務（業種共通） | E39: 産業用プロセス | F39: 熱源（ヒートポンプ） | G39: 蒸気再圧縮装置 | H39: 産業プロセス等で利用された排熱を回収し、循環式の供給方式を用いるヒートポンプ。低圧の蒸気を圧縮して再利用することで、ボイラ等の蒸気を利用する設備・機器等の省エネを実現可能。 | I39: 8 | J39: - | K39: 省エネルギー性能の高い設備・機器等の導入促進 業種横断 産業ＨＰの導入 | L39: 表1-7 | M39: ○
C40: L-000035 | D40: 産業・業務（業種共通） | E40: 産業用プロセス | F40: 熱源（ヒートポンプ） | G40: ダブルバンドルヒートポンプ | H40: ターボ冷凍機等をヒートポンプとして使用し、所要の冷水・温水を同時に取り出すことができる機器。夏期は冷房専用機として、冬期及び中間期は熱回収ヒートポンプとして使用する。夏期の給湯温水取り出しも可能。凝縮器を二つ設けて、一つは常時冷却塔に接続し、もう一つは暖房用温水の加熱に使用する。蒸発器からの冷媒ガスは圧縮機で圧縮されて、二つのコンデンサに吐出される。冷房専用時は冷却水のみを通水して冷媒ガスを液化し、冷暖房運転時は負荷に応じてそれぞれ温水及び冷却水に熱を与える。液化した冷媒は連絡管に合流し、膨張弁を経て蒸発器に戻る。蒸発器内では、冷媒は再び蒸発して、チューブ内を通る冷水を冷やす。 | I40: 8 | J40: - | K40: 省エネルギー性能の高い設備・機器等の導入促進 業種横断 産業ＨＰの導入 | L40: 表1-7 | M40: -
C41: L-000036 | D41: 産業・業務（業種共通） | E41: 空調 | F41: 空調機（ペレットストーブ） | G41: 密閉式ペレットストーブ | H41: 木質ペレットを燃料とする燃焼機器。木質ペレットを燃焼させた熱を熱交換器により室内の空気に伝え、送風ファンにより部屋の隅々まで温風を行き渡らせる。燃焼させた空気は煙突から排気させるため、室内の空気と交わることはなく、清潔な環境を保つことができる。木質ペレットは、カーボンニュートラルであるため、CO2の排出削減が可能。 | I41: 8 | J41: - | K41: 省エネルギー性能の高い設備・機器等の導入促進 業種横断 高効率空調の導入 | L41: 表1-7 | M41: ○
C42: L-000037 | D42: 産業・業務（業種共通） | E42: 給湯 | F42: 電気系給湯器 | G42: ヒートポンプ給湯機（空気熱源） | H42: 空気を熱源とするヒートポンプ方式の給湯機。貯湯ユニットを含むもの。 | I42: 8 | J42: 6 | K42: 高効率な省エネルギー機器の普及（業務その他部門）業務用給湯器の導入 | L42: 表1-29 | M42: ○
C43: L-000038 | D43: 産業・業務（業種共通） | E43: 給湯 | F43: 電気系給湯器 | G43: ヒートポンプ給湯機（水熱源） | H43: 水を熱源とするヒートポンプ方式の給湯機。貯湯ユニットを含むもの。 | I43: 8 | J43: 6 | K43: 高効率な省エネルギー機器の普及（業務その他部門）業務用給湯器の導入 | L43: 表1-29 | M43: -
C44: L-000039 | D44: 産業・業務（業種共通） | E44: 給湯 | F44: 燃焼式給湯器 | G44: 潜熱回収型給湯器 | H44: バーナによって加熱した高温の空気により配管内の水を温める機器。潜熱回収型は、従来捨てられていた燃焼排熱を潜熱回収する。 | I44: 8 | J44: 6 | K44: 高効率な省エネルギー機器の普及（業務その他部門）業務用給湯器の導入 | L44: 表1-29 | M44: ○
C45: L-000040 | D45: 産業・業務（業種共通） | E45: 給湯 | F45: ボイラ | G45: 温水機 | H45: 燃焼室、伝熱面、熱交換器からなる。燃焼によって温められた熱媒水と給水管の水とを熱交換させ、その温水を取り出して利用する。熱媒水を真空状態に密閉した状態で沸騰させる真空式と、熱媒水を大気に開放した状態で温める無圧式が存在する。 | I45: 8 | J45: 15 | K45: 高効率な省エネルギー機器の普及（業務その他部門）業務用給湯器の導入 | L45: 表1-29 | M45: ○
C46: L-000261 | D46: 産業・業務（業種共通） | E46: 給湯 | F46: ボイラ | G46: 温水機（水素焚き） | H46: 燃焼室、伝熱面、熱交換器からなる。また、通常の温水機と異なり、水素焚きの場合、水素用超低NOxバーナ、水素用安全装置、水素焚専用缶体を搭載している。水素の燃焼によって温められた熱媒水と給水管の水とを熱交換させ、その温水を取り出して利用する。熱媒水を真空状態に密閉した状態で沸騰させる真空式と、熱媒水を大気に開放した状態で温める無圧式が存在する。燃料となる水素は燃焼時に水のみしか生成せず、CO2を排出しない。 | I46: 8 | J46: 15 | K46: 高効率な省エネルギー機器の普及（業務その他部門）業務用給湯器の導入 | L46: 表1-29 | M46: ○
C47: L-000267 | D47: 産業・業務（業種共通） | E47: 給湯 | F47: ボイラ | G47: 温水機（水素・都市ガス混焼） | H47: 燃焼室、伝熱面、熱交換器からなる。また、通常の温水機と異なり、水素・都市ガス混焼の場合、水素用超低NOxバーナ、水素用安全装置を搭載している。水素・都市ガスの燃焼によって温められた熱媒水と給水管の水とを熱交換させ、その温水を取り出して利用する。熱媒水を真空状態に密閉した状態で沸騰させる真空式と、熱媒水を大気に開放した状態で温める無圧式が存在する。 | I47: 8 | J47: 15 | K47: 高効率な省エネルギー機器の普及（業務その他部門）業務用給湯器の導入 | L47: 表1-29 | M47: ○
C48: L-000041 | D48: 産業・業務（業種共通） | E48: 産業用プロセス | F48: ボイラ | G48: 蒸気ボイラ（貫流ボイラ） | H48: 燃料の燃焼を熱源として水を加熱して蒸気を発生させ、その蒸気を他に供給する装置。小型･軽量で、空調用、業務用～産業用の幅広い業種で使用される。 | I48: 8 | J48: 15 | K48: 省エネルギー性能の高い設備・機器等の導入促進 業種横断 高性能ボイラーの導入 | L48: 表1-10 | M48: ○
C49: L-000042 | D49: 産業・業務（業種共通） | E49: 産業用プロセス | F49: ボイラ | G49: 蒸気ボイラ（炉筒煙管ボイラ） | H49: 燃料の燃焼を熱源として水を加熱して蒸気を発生させ、その蒸気を他に供給する装置。中程度の出力で、主に産業用･地域冷暖房用途で使用される。 | I49: 8 | J49: 15 | K49: 省エネルギー性能の高い設備・機器等の導入促進 業種横断 高性能ボイラーの導入 | L49: 表1-10 | M49: ○
C50: L-000043 | D50: 産業・業務（業種共通） | E50: 産業用プロセス | F50: ボイラ | G50: 蒸気ボイラ（水管ボイラ） | H50: 燃料の燃焼を熱源として水を加熱して蒸気を発生させ、その蒸気を他に供給する装置。高圧･大容量で、主に化学・製紙業といった産業用や、地域暖房用で使用される。 | I50: 8 | J50: 15 | K50: 省エネルギー性能の高い設備・機器等の導入促進 業種横断 高性能ボイラーの導入 | L50: 表1-10 | M50: ○
C51: L-000044 | D51: 産業・業務（業種共通） | E51: 産業用プロセス | F51: ボイラ | G51: 水素ボイラ（貫流ボイラ） | H51: 水素の燃焼を熱源として水を加熱して蒸気を発生させ、その蒸気を他に供給する装置。水素は燃焼時に水のみしか生成せず、CO2を排出しない事から、炭化水素系燃料からの代替により、大幅にCO2を削減できる。現在は安価に水素が調達可能な副生水素の工場が対象とはなっているが、将来的には水素価格の低下により広く様々な業界で利用できると考えられる。 | I51: 8 | J51: 15 | K51: 省エネルギー性能の高い設備・機器等の導入促進 業種横断 高性能ボイラーの導入 | L51: 表1-10 | M51: ○
C52: L-000045 | D52: 産業・業務（業種共通） | E52: 産業用プロセス | F52: ボイラ | G52: 熱媒ボイラ | H52: 沸点の高い油を伝熱媒体に使用することによって、常圧で高温が得られる装置。熱媒の種類によって油温度を200℃以上の任意温度にすることが容易にできるため、精度の高い温度制御が必要な化学工業等の加熱、反応用プロセスに多く用いられる。 | I52: 8 | J52: 15 | K52: 省エネルギー性能の高い設備・機器等の導入促進 業種横断 高性能ボイラーの導入 | L52: 表1-10 | M52: ○
C53: L-000264 | D53: 産業・業務（業種共通） | E53: 産業用プロセス | F53: バイオマス熱供給 | G53: 木質バイオマスボイラ | H53: 木質バイオマスの燃焼を熱源として水を加熱して温水または蒸気を発生させ、温水または蒸気を他に供給する装置。燃焼室（炉）と熱交換器で構成される。バイオマス燃料は種類によって形状や水分、発熱量や灰分などの品質が大きく異なるため、様々な炉が開発されている。熱交換器部分は、利用者が必要とするエネルギーの種類に応じ、温水（低温、中温、高温）や蒸気など、熱形態が異なる。同設備・機器は、製造業や温浴施設や福祉施設、農業施設を中心に、多くの用途で使用されている。なお、十分な脱炭素機能を発揮させるためには、安定して調達可能なサプライチェーンの確保が重要であり、また燃料品質の確保も重要な課題となる。例えば、日本木質バイオマスエネルギー協会が策定した「燃料用木質チップの品質規格」や日本木質ペレット協会が策定した「木質ペレット品質規格」を参照して、調達を進めることを推奨。 | I53: 8 | J53: 15 | K53: 省エネルギー性能の高い設備・機器等の導入促進 施設園芸・農業機械・漁業分野 施設園芸における省エネルギー設備の導入 | L53: 表1-23 | M53: ○
... C64: L-000057 | D64: 産業・業務（業種共通） | E64: 動力他 | F64: プリンタ/複写機 | G64: 複合機 | H64: 複写機能、プリンタ機能、スキャナ機能、ファクシミリ機能のうち2 つ以上の機能を有する機器である。 | I64: 8 | J64: 5 | K64: トップランナー制度等による機器の省エネルギー性能向上 家庭部門 | L64: 表1-47 | M64: ○
C65: L-000058 | D65: 産業・業務（業種共通） | E65: 動力他 | F65: モータ | G65: 誘導モータ | H65: 回転子、固定子ともに金属を使用し、固定子に交流電流を流して回転磁界を発生させるとともに、回転子にも誘導電流が流れて磁界が生ずることにより、回転力を得るモータ。産業機械・工作機械等に幅広く用いられる。鉄芯、巻線、冷却ファン等の改善により損失を低減し高効率化が図られている。 | I65: 8 | J65: - | K65: 省エネルギー性能の高い設備・機器等の導入促進 業種横断 産業用モータ・インバータの導入 | L65: 表1-9 | M65: ○
C66: L-000059 | D66: 産業・業務（業種共通） | E66: 動力他 | F66: モータ | G66: 永久磁石同期モータ | H66: 回転子に永久磁石を使用した同期モータのうち、サーボモータを含まないもの。鉄道車両・自動車・産業機械等、幅広く用いられる。 | I66: 8 | J66: - | K66: 省エネルギー性能の高い設備・機器等の導入促進 業種横断 産業用モータ・インバータの導入 | L66: 表1-9 | M66: ○
C67: L-000060 | D67: 産業・業務（業種共通） | E67: 動力他 | F67: 変圧器 | G67: 油入変圧器 | H67: 電磁誘導を利用し、用途に応じて交流電圧を昇降させる装置。低損失磁性体材料を使用する低損失構造とする等、損失を低減する工夫がなされている。クラフト紙・プレスボード等の絶縁物と絶縁油にて構成されている。 | I67: 8 | J67: 15 | K67: ‐ | L67: ‐ | M67: ○
C68: L-000061 | D68: 産業・業務（業種共通） | E68: 動力他 | F68: 変圧器 | G68: モールド変圧器 | H68: 電磁誘導を利用し、用途に応じて交流電圧を昇降させる装置。低損失磁性体材料を使用する低損失構造とする等、損失を低減する工夫がなされている。耐熱絶縁電線でコイルを構成し、エポキシ樹脂でモールドされている。 | I68: 8 | J68: - | K68: ‐ | L68: ‐ | M68: ○
C69: L-000062 | D69: 産業・業務（業種共通） | E69: 動力他 | F69: モータ利用機器（ポンプ） | G69: 単段式横軸うず巻ポンプ | H69: 羽根車が回転し流体が渦巻を起こし、その力で水を出口から押し上げ、入口から吸い上げるもののうち、羽根車から吐き出される流体の向きが主として主軸に垂直な内面にあるもの。そのうち、羽根車の軸が水平であり、羽根車の数（段数）が単体なもの。 | I69: - | J69: - | K69: 省エネルギー性能の高い設備・機器等の導入促進 業種横断 産業用モータ・インバータの導入 | L69: 表1-9 | M69: -
C70: L-000063 | D70: 産業・業務（業種共通） | E70: 動力他 | F70: モータ利用機器（ポンプ） | G70: 多段式横軸うず巻ポンプ | H70: 羽根車が回転し流体が渦巻を起こし、その力で水を出口から押し上げ、入口から吸い上げるもののうち、羽根車から吐き出される流体の向きが主として主軸に垂直な内面にあるもの。そのうち、羽根車の軸が水平であり、羽根車の数（段数）を複数にした形式（複数のポンプを直列に接続）のもの。 | I70: - | J70: - | K70: 省エネルギー性能の高い設備・機器等の導入促進 業種横断 産業用モータ・インバータの導入 | L70: 表1-9 | M70: -
C71: L-000064 | D71: 産業・業務（業種共通） | E71: 動力他 | F71: モータ利用機器（ポンプ） | G71: 単段式立軸うず巻ポンプ | H71: 羽根車が回転し流体が渦巻を起こし、その力で水を出口から押し上げ、入口から吸い上げるもののうち、羽根車から吐き出される流体の向きが主として主軸に垂直な内面にあるもの。そのうち、羽根車の軸が垂直であり、羽根車の数（段数）が単体なもの。 | I71: - | J71: - | K71: 省エネルギー性能の高い設備・機器等の導入促進 業種横断 産業用モータ・インバータの導入 | L71: 表1-9 | M71: -
C72: L-000065 | D72: 産業・業務（業種共通） | E72: 動力他 | F72: モータ利用機器（ポンプ） | G72: 多段式立軸うず巻ポンプ | H72: 羽根車が回転し流体が渦巻を起こし、その力で水を出口から押し上げ、入口から吸い上げるもののうち、羽根車から吐き出される流体の向きが主として主軸に垂直な内面にあるもの。そのうち、羽根車の軸が垂直であり、羽根車の数（段数）を複数にした形式（複数のポンプを直列に接続）のもの。 | I72: - | J72: - | K72: 省エネルギー性能の高い設備・機器等の導入促進 業種横断 産業用モータ・インバータの導入 | L72: 表1-9 | M72: -
C73: L-000066 | D73: 産業・業務（業種共通） | E73: 動力他 | F73: モータ利用機器（圧縮機） | G73: ねじ容積形圧縮機 | H73: スクリュー圧縮機とも呼ばれ、螺旋状の溝を持つロータと、この溝と同じ形状のねじ山を持つロータが平行に並んで噛み合い、互いに反対方向に回転して溝の中をねじ山が埋めて行くことによって容積を縮小し、圧力を高くする圧縮機。 | I73: - | J73: - | K73: 省エネルギー性能の高い設備・機器等の導入促進 業種横断 産業用モータ・インバータの導入 | L73: 表1-9 | M73: -
C74: L-000067 | D74: 産業・業務（業種共通） | E74: 動力他 | F74: モータ利用機器（圧縮機） | G74: 横形圧縮機 | H74: シリンダ内のピストンの往復運動によって空間を縮小し圧力を高くする圧縮機のうち、シリンダの配置が横形のもの。往復式は吸入弁、吐出弁を有し、吐出配管側の圧力にほぼ等しい圧力までシリンダ内で圧縮するので、設計点以外で運転しても過圧縮や膨張を生じず効率が良い。 | I74: - | J74: - | K74: 省エネルギー性能の高い設備・機器等の導入促進 業種横断 産業用モータ・インバータの導入 | L74: 表1-9 | M74: -
C75: L-000068 | D75: 産業・業務（業種共通） | E75: 動力他 | F75: モータ利用機器（圧縮機） | G75: 立形圧縮機 | H75: シリンダ内のピストンの往復運動によって空間を縮小し圧力を高くする圧縮機のうち、シリンダの配置が立形のもの。往復式は吸入弁、吐出弁を有し、吐出配管側の圧力にほぼ等しい圧力までシリンダ内で圧縮するので、設計点以外で運転しても過圧縮や膨張を生じず効率が良い。 | I75: - | J75: - | K75: 省エネルギー性能の高い設備・機器等の導入促進 業種横断 産業用モータ・インバータの導入 | L75: 表1-9 | M75: -
C76: L-000069 | D76: 産業・業務（業種共通） | E76: 動力他 | F76: モータ利用機器（圧縮機） | G76: Y形圧縮機 | H76: シリンダ内のピストンの往復運動によって空間を縮小し圧力を高くする圧縮機のうち、シリンダの配置がY形のもの。往復式は吸入弁、吐出弁を有し、吐出配管側の圧力にほぼ等しい圧力までシリンダ内で圧縮するので、設計点以外で運転しても過圧縮や膨張を生じず効率が良い。 | I76: 8 | J76: - | K76: 省エネルギー性能の高い設備・機器等の導入促進 業種横断 産業用モータ・インバータの導入 | L76: 表1-9 | M76: -
C77: L-000070 | D77: 産業・業務（業種共通） | E77: 動力他 | F77: モータ利用機器（圧縮機） | G77: 蒸気駆動圧縮機 | H77: 従来の電動コンプレッサと異なり、動力源として電動モータではなく、スチームモータを搭載する。スチームモータは、蒸気を減圧する際に発生するエネルギーを駆動源とする圧縮機。従来の電動コンプレッサ（圧縮機）と比較し、減圧エネルギーを有効利用できるためCO2削減に優れる。ボイラ設備（ボイラ、軟水装置、給水タンク）の蒸気配管減圧弁に並列して設置し、本商品を減圧弁の代替として利用する。 | I77: 8 | J77: - | K77: 省エネルギー性能の高い設備・機器等の導入促進 業種横断 産業用モータ・インバータの導入 | L77: 表1-9 | M77: ○
C78: L-000071 | D78: 産業・業務（業種共通） | E78: 動力他 | F78: モータ利用機器（圧縮機） | G78: 熱回収式ねじ容積形圧縮機 | H78: 従来は、廃棄されていた圧縮熱を温水として供給可能なねじ容積形圧縮機。コンプレッサの廃熱を温水として回収するために軟水装置から新水を通過させ、70℃の温水をボイラ給水へ戻すことでボイラの燃料消費量が低減可能。また、直接温水利用することも可能。 | I78: 8 | J78: - | K78: 省エネルギー性能の高い設備・機器等の導入促進 業種横断 産業用モータ・インバータの導入 | L78: 表1-9 | M78: ○
C79: L-000072 | D79: 産業・業務（業種共通） | E79: 動力他 | F79: モータ利用機器（送風機） | G79: 多翼ファン | H79: 内部に取り付けられた羽根車を気体が通る間にエネルギーを与え、圧力の低い所から高い所へ送り出すもののうち、気体が機械内を流れる方向が、回転軸に垂直な半径方向のもの。 そのうち、羽根が回転方向に向いたもの。 | I79: - | J79: - | K79: 省エネルギー性能の高い設備・機器等の導入促進 業種横断 産業用モータ・インバータの導入 | L79: 表1-9 | M79: -
C80: L-000073 | D80: 産業・業務（業種共通） | E80: 産業用プロセス | F80: 工業炉 | G80: リジェネレイティブバーナ | H80: 燃焼部(バーナ)2 基と蓄熱部2 基を一体構成し、バーナを交互燃焼し排熱回収を行うシステム。燃焼している方のバーナの排熱を他方のバーナの吸気経路にある蓄熱部に受熱させ予熱に用いるもの。最近ではバーナ部と蓄熱部を一体化しコンパクト化したコンパクト形リジェネレイティブバーナ、小型炉向けにバーナ内に複数の蓄熱体と切替弁を内蔵させたり、回転式切換え機構を利用して1 台のバーナで蓄熱燃焼させるセルフリジェネレイティブバーナ等、標準型以外のリジェネレイティブバーナも開発されている。 | I80: 8 | J80: - | K80: 省エネルギー性能の高い設備・機器等の導入促進 業種横断 低炭素工業炉の導入 | L80: 表1-8 | M80: ○
C81: L-000074 | D81: 産業・業務（業種共通） | E81: 産業用プロセス | F81: 工業炉 | G81: 誘導加熱式溶解炉 | H81: 電磁誘導による熱により、対象物を溶解する炉。 | I81: 8 | J81: - | K81: 省エネルギー性能の高い設備・機器等の導入促進 業種横断 低炭素工業炉の導入 | L81: 表1-8 | M81: -
C82: L-000075 | D82: 産業・業務（業種共通） | E82: 産業用プロセス | F82: 排熱回収 | G82: 排熱回収（熱電変換素子） | H82: 物体の両端に温度差を与えることで直接電圧が発生する現象(ゼーベック効果)を利用する発電技術である。温度差にほぼ比例した起電力を得ることができるため、他の発電方式では発電できない、小さな温度差に適応することができる。可動部がないため騒音がない、固体素子のみを使うのでメンテナンスフリーといった特長をもつ。 | I82: - | J82: 15 | K82: ‐ | L82: ‐ | M82: -
C83: L-000076 | D83: 産業・業務（業種共通） | E83: 産業用プロセス | F83: 排熱回収 | G83: 排熱回収（バイナリー発電） | H83: 排熱により作動媒体を蒸発させ、その蒸気でタービン等を駆動して発電する発電装置。排熱の温度により最適な作動媒体を使用することで様々な排熱に適用可能であり、CO2削減に寄与する。熱源としては、各種産業排熱やガスエンジン等の内燃機関の排気ガス、さらには地熱や温泉、太陽熱、バイオマス等の再生可能エネルギーに適応可能である。具体的には、下記技術が含まれる。 -低温の蒸気・熱水により、水より沸点の低い作動媒体を蒸発させるバイナリー発電-高温の排熱により生成した水蒸気を用いる蒸気発電 -アンモニア水や有機物の非共沸混合物質を用いるカリーナサイクル -各種有機媒体を用いるオーガニックランキンサイクル | I83: 8 | J83: 15 | K83: ‐ | L83: ‐ | M83: -
C84: L-000077 | D84: 産業・業務（業種共通） | E84: 産業用プロセス | F84: 排熱回収 | G84: 排熱回収（スターリングエンジン駆動発電） | H84: 外燃機関であり、外部から供給される温熱源と冷熱源の温度差を利用し、エンジン内部のヘリウムガスを膨張・圧縮させることでピストンを往復駆動させて回転発電するエンジン。燃料の爆発を伴わないため静粛な運転が可能であり、理論的にはカルノー効率を実現できるとされている。 | I84: 8 | J84: 15 | K84: ‐ | L84: ‐ | M84: -
C85: L-000078 | D85: 産業・業務（業種共通） | E85: 産業用プロセス | F85: 排熱回収 | G85: 排熱回収（廃温水利用吸収ヒートポンプ式蒸気発生器） | H85: 90℃程度の未利用温水で臭化リチウム水溶液を加熱し、給水を130℃程度の低圧蒸気に変換し、さらに高圧蒸気を用いて低圧蒸気を昇圧することで、加熱や殺菌などの生産工程に幅広く利用できる160℃程度の蒸気に変換する設備。未利用温水から変換した蒸気を加えることで、昇圧に用いた高圧蒸気の約1.3 倍の蒸気量を出力できるため、従来よりも蒸気ボイラに使用するガスの消費量を抑えることが可能である。また、ガスエンジンコージェネレーションシステムの廃温水も蒸気に変換することができ、ガスエンジンコージェネレーションシステムの廃ガスボイラから得られる蒸気とあわせることで、廃熱から得られる蒸気量を増大させることも可能である。 | I85: - | J85: 15 | K85: ‐ | L85: ‐ | M85: -
C86: L-000079 | D86: 産業・業務（業種共通） | E86: 断熱 | F86: 窓 | G86: Low-E複層ガラス | H86: 複層ガラスの中空層側のガラス面にLow-E金属膜をコーティングすることで放射による熱移動量を低減したガラス。断熱を行うことによって、より少ないエネルギーで空調を行うことができるようになる。 | I86: 8 | J86: 18 | K86: 建築物の省エネルギー化 | L86: 表1-28 | M86: ○
C87: L-000080 | D87: 産業・業務（業種共通） | E87: 断熱 | F87: 窓 | G87: 三層Low-E複層ガラス | H87: 三層で構成される複層ガラスの中空層側のガラス面にLow-E金属膜をコーティングすることで放射による熱移動量を低減したガラス。断熱を行うことによって、より少ないエネルギーで空調を行うことができるようになる。 | I87: 8 | J87: 18 | K87: 建築物の省エネルギー化 | L87: 表1-28 | M87: ○
C88: L-000081 | D88: 産業・業務（業種共通） | E88: 断熱 | F88: 窓 | G88: 真空Low-E複層ガラス | H88: 真空ガラスとLow-Eガラスを組み合わせた複層ガラスにすることで、放射による熱移動量を低減したガラス。断熱を行うことによって、より少ないエネルギーで空調を行うことができるようになる。 | I88: 8 | J88: 18 | K88: 建築物の省エネルギー化 | L88: 表1-28 | M88: ○
C89: L-000082 | D89: 産業・業務（業種共通） | E89: 断熱 | F89: 窓 | G89: アタッチメント付きLow-E複層ガラス | H89: 複層ガラスの中空層側のガラス面にLow-E金属膜をコーティングすることで放射による熱移動量を低減したガラス。アタッチメントにより、ガラス部分のみを既存サッシに取り付けられるため、大がかりな工事を必要としない。断熱を行うことによって、より少ないエネルギーで空調を行うことができるようになる。 | I89: 8 | J89: 18 | K89: 建築物の省エネルギー化 | L89: 表1-28 | M89: ○
C90: L-000083 | D90: 産業・業務（業種共通） | E90: 断熱 | F90: 窓 | G90: 真空ガラス | H90: 2枚のガラスの間に真空層を設けることで、熱移動量を低減したガラス。断熱を行うことによって、より少ないエネルギーで空調を行うことができるようになる。 | I90: 8 | J90: 18 | K90: 建築物の省エネルギー化 | L90: 表1-28 | M90: ○
C91: L-000084 | D91: 産業・業務（業種共通） | E91: 断熱 | F91: 窓 | G91: 現場施工型後付けLow-E複層ガラス | H91: 既存の窓ガラスの上からLow-Eガラスを貼ることでLow-E複層ガラスとして放射による熱移動量を低減したガラス。断熱を行うことによって、より少ないエネルギーで空調を行うことができるようになる。 | I91: 8 | J91: 18 | K91: 建築物の省エネルギー化 | L91: 表1-28 | M91: ○
C92: L-000085 | D92: 産業・業務（業種共通） | E92: 断熱 | F92: 窓 | G92: 薄型Low-E複層ガラス | H92: 複層ガラスの中空層側のガラス面にLow-E金属膜をコーティングすることで放射による熱移動量を低減したガラス。アタッチメントを使用せずにガラス部分のみを既存サッシに取り付けることができる。断熱を行うことによって、より少ないエネルギーで空調を行うことができるようになる。 | I92: 8 | J92: 18 | K92: 建築物の省エネルギー化 | L92: 表1-28 | M92: ○
C93: L-000086 | D93: 産業・業務（業種共通） | E93: 断熱 | F93: 断熱材 | G93: 断熱材（押出法ポリスチレンフォーム） | H93: スチレン樹脂・発泡剤・難燃剤等を押出機中で混和・溶融し、大気中に連続的に押し出して発泡させ、成型後、板状製品に裁断加工することで製造する。 | I93: 8 | J93: - | K93: 建築物の省エネルギー化 | L93: 表1-28 | M93: ○
C94: L-000087 | D94: 産業・業務（業種共通） | E94: 断熱 | F94: 断熱材 | G94: 断熱材（グラスウール） | H94: 原材料を1400℃程度の高温で溶解、スピナーと呼ばれる繊維化装置に孔を開けることにより遠心力で繊維化し、結束剤を添加し綿状にすることで製造する。 | I94: 8 | J94: - | K94: 建築物の省エネルギー化 | L94: 表1-28 | M94: ○
C95: L-000088 | D95: 産業・業務（業種共通） | E95: 断熱 | F95: 断熱材 | G95: 真空断熱材 | H95: 家庭用冷蔵庫の断熱材として使用されている真空断熱材を使用した断熱材。住宅だけではなく非住宅のリフォーム（内貼断熱工法）にも向く。 | I95: 8 | J95: - | K95: 建築物の省エネルギー化 | L95: 表1-28 | M95: ○
C96: L-000089 | D96: 産業・業務（業種共通） | E96: エネルギーマネジメント | F96: エネルギーマネジメントシステム | G96: BEMS（情報提供サービス・省エネ・診断サービス） | H96: オフィスビルにおけるエネルギー管理システム、及び同システムを用いたサービスのうち、BEMSによって収集した情報を、ユーザに応じてサービス提供事業者が加工・分析した省エネ・節電に関する情報提供サービス。 | I96: 8 | J96: 15 | K96: BEMSの活用、省エネルギー診断等による徹底的なエネルギー管理の実施 | L96: 表1-32 | M96: -
C97: L-000090 | D97: 産業・業務（業種共通） | E97: エネルギーマネジメント | F97: エネルギーマネジメントシステム | G97: BEMS（制御サービス・空調・熱源・個別方式） | H97: オフィスビルにおけるエネルギー管理システム、及び同システムを用いたサービスのうち、ビルマルチ空調を対象とした制御サービス。 | I97: 8 | J97: 15 | K97: BEMSの活用、省エネルギー診断等による徹底的なエネルギー管理の実施 | L97: 表1-32 | M97: -
C98: L-000091 | D98: 産業・業務（業種共通） | E98: エネルギーマネジメント | F98: エネルギーマネジメントシステム | G98: BEMS（制御サービス・照明） | H98: オフィスビルにおけるエネルギー管理システム、及び同システムを用いたサービスのうち、照明のON/OFFや照度の管理等を実施する制御サービス。 | I98: 8 | J98: 15 | K98: BEMSの活用、省エネルギー診断等による徹底的なエネルギー管理の実施 | L98: 表1-32 | M98: -
C99: L-000092 | D99: 産業・業務（業種共通） | E99: エネルギーマネジメント | F99: エネルギーマネジメントシステム | G99: BEMS（制御サービス・空調・熱源・中央方式） | H99: オフィスビルにおけるエネルギー管理システム、及び同システムを用いたサービスのうち、セントラル空調を対象とした制御サービス。 | I99: 8 | J99: 15 | K99: BEMSの活用、省エネルギー診断等による徹底的なエネルギー管理の実施 | L99: 表1-32 | M99: ○
C100: L-000268 | D100: 産業・業務（業種共通） | E100: エネルギーマネジメント | F100: エネルギーマネジメントシステム | G100: BEMS（制御サービス・空調・熱源・個別方式・中央方式併用） | H100: オフィスビルにおけるエネルギー管理システム、及び同システムを用いたサービスのうち、ビルマルチ空調と中央熱源方式を併用した空調設備を対象とした制御サービス | I100: 8 | J100: 15 | K100: BEMSの活用、省エネルギー診断等による徹底的なエネルギー管理の実施 | L100: 表1-32 | M100: ○
C101: L-000093 | D101: 産業・業務（業種共通） | E101: エネルギーマネジメント | F101: エネルギーマネジメントシステム | G101: 業務用冷蔵冷凍庫向けリアルタイム監視制御システム | H101: 従来の冷凍・冷蔵庫における除霜運転は、24時間タイマーを使い、強制的に除霜を行うことによるエネルギー消費が多い状況であったが、冷却器稼働状況をリアルタイム監視をして、除霜運転、ファン運転を制御することにより、消費電力が削減されることに伴い、CO2排出量の削減が実現される。 | I101: 8 | J101: 15 | K101: ‐ | L101: ‐ | M101: -
C102: L-000094 | D102: 産業・業務（業種共通） | E102: 空調 | F102: その他 | G102: 成層空調システム（空調機器・給気ユニット） | H102: 暖かい空気は上に、冷たい空気は下に向かう自然原理を利用した温度成層型の空調システム。給気ユニットを導入することにより汚れた熱気を天井に持ち上げ、作業域（床から2ｍ程度）だけを快適で清浄な環境に保つ。従来型と比較し、空間全体を混合しないため、高温の空気は天井面に近い所から排出・換気されるため温度効率に優れ、天井の高い建物（工場、ホール、体育館等）で使用されている。 | I102: 8 | J102: 15 | K102: ‐ | L102: ‐ | M102: -
C103: L-000095 | D103: 産業・業務（業種共通） | E103: 空調 | F103: その他 | G103: 空調用ハイブリッドフィルタ | H103: 空調機に設置する中性能フィルタを従来のプレ+中性能から低圧損洗浄再生中性能フィルタとすることにより、送風機の運転静圧を低下させ、インバータ装置による回転数制御方式を駆使することにより、電動機の軸動力を低減させる技術。 | I103: 8 | J103: - | K103: 省エネルギー性能の高い設備・機器等の導入促進 業種横断 高効率空調の導入 | L103: 表1-7 | M103: ○
C104: L-000096 | D104: 産業・業務（業種共通） | E104: 空調 | F104: その他 | G104: 二流体加湿器 | H104: 水と圧縮空気の2種類の流体をノズルから噴射し、平均粒子径10μm前後に微細化した水粒子を空気中に噴射して加湿する機器。コンプレッサにより電気で作った圧縮空気で噴霧して蒸発気化させるため、沸騰で気化させる蒸気加湿に比べて加湿エネルギーが低減できる。 | I104: 8 | J104: 15 | K104: 省エネルギー性能の高い設備・機器等の導入促進 業種横断 高効率空調の導入 | L104: 表1-7 | M104: ○
C105: L-000097 | D105: 産業・業務（業種共通） | E105: 産業用プロセス | F105: その他 | G105: 産業用リチウムイオン単電池 | H105: リチウムの酸化・還元で電気的エネルギーを供給する充電式の電池。正極はリチウム酸化物、負極は炭素化合物等、及び有機系電解液で構成されている。ここでは、端子配置及び電子制御装置を備えていない単電池について取り扱う。 | I105: 8 | J105: 6 | K105: ‐ | L105: ‐ | M105: -
C106: L-000098 | D106: 産業・業務（業種共通） | E106: 産業用プロセス | F106: その他 | G106: 酸素分離装置 | H106: 空気から酸素等を分離する装置(窒素他の成分を対象とする場合もある)。深冷分離式、圧力スイング(PSA)式、分離膜式の3 つの方式がある。分離された酸素は、高温高効率の燃焼補助や石炭ガス化等に用いられる。 | I106: 8 | J106: 15 | K106: ‐ | L106: ‐ | M106: -
C107: L-000099 | D107: 産業・業務（業種共通） | E107: 断熱 | F107: その他 | G107: 低放射遮熱塗料 | H107: 工業炉の炉壁からの放散熱は、電磁波の熱移動による放射熱（輻射熱）と空気の接触による対流熱を足した値となる。本塗料を炉壁面に5～15μm程度被覆することで、炉壁からの放射熱を大幅な削減が可能となり、消費エネルギーによるCO2排出量削減効果をもたらす。 | I107: 8 | J107: - | K107: ‐ | L107: ‐ | M107: ○
C108: L-000100 | D108: 産業・業務（業種共通） | E108: 動力他 | F108: その他 | G108: 高効率デバイス（パワー半導体デバイス） | H108: 交流と直流の変換や、周波数の変換、電圧の変換を行う等、電力を制御するための半導体装置であり、電子機器や産業機器、自動車、鉄道等に広く用いられる。 | I108: 8 | J108: - | K108: ‐ | L108: ‐ | M108: -
C109: L-000101 | D109: 産業・業務（業種共通） | E109: 動力他 | F109: その他 | G109: サーバ用電子計算機 | H109: ネットワーク上でサービス等を提供する24時間稼働することを前提として設計された電子計算機であって、専らネットワークを介してアクセスされる。サーバ型電子気鋭産機に搭載されているCPUは専用CISC、RISC、IA64、IA32の4つに分類され、IA64 、IA32といった汎用CPUはエネルギー消費効率が高い。 | I109: 8 | J109: 5 | K109: ‐ | L109: ‐ | M109: ○
C110: L-000102 | D110: 産業・業務（業種共通） | E110: 動力他 | F110: その他 | G110: 冷媒漏れ監視システム | H110: 冷凍冷蔵ショーケースや、プレハブ冷凍冷蔵庫などの冷凍冷蔵機器の運転状態を解析し、フロン冷媒の漏れを検知するシステム。漏えい検知用センサを設けることなく、機器内のセンサ温度をはじめとした既にある運転データを活用し、冷媒漏れを検知する。冷凍冷蔵機器の来ない温度センサ温度や、冷媒を制御する電子膨張弁開度、予知警報などの運転データを、遠隔監視し、機器1台ごとに、検出ロジックにかけ、正常時の運転状態と比較して、冷媒漏れを検知する。 | I110: 8 | J110: 15 | K110: ‐ | L110: ‐ | M110: -
C111: L-000103 | D111: 産業・業務（業種共通） | E111: 動力他 | F111: その他 | G111: 業務用ヒートポンプ式衣類洗濯乾燥機 | H111: 洗濯機と乾燥機からなる。乾燥機部に排熱回収ヒートポンプシステムを搭載し、エバポレータにて衣類乾燥後の湿った空気から集めた熱エネルギーを圧縮機で高温にする。高温の空気をガスクーラで110℃前後の（または「最大115℃の」）温風熱として放出することで衣類を乾かす。従来のガス式と比較して、効率的に熱回収が可能な排熱回収ヒートポンプシステムを採用することで、効率よく乾燥できる。導入先として、福祉施設、病院、等、幅広い施設が挙げられる。 | I111: 8 | J111: 13 | K111: ‐ | L111: ‐ | M111: ○
C112: L-000104 | D112: 産業・業務（業種共通） | E112: 動力他 | F112: その他 | G112: 蒸気リサイクル型濃縮乾燥装置 | H112: 濃縮乾燥プロセスにおいて、被処理物から蒸発した蒸気は従来大気に捨てられていたが、この蒸気を圧縮機で昇温昇圧し、被処理物の加熱源として再利用することにより、投入する化石燃料起因の蒸気量を大幅低減し、CO2排出量削減に繋げる装置。 | I112: 8 | J112: 13 | K112: ‐ | L112: ‐ | M112: ○
C113: L-000262 | D113: 産業・業務（業種共通） | E113: 動力他 | F113: その他 | G113: 熱回収式スクロール形圧縮機 | H113: 従来廃棄される圧縮熱を温水として供給可能な熱回収式圧縮機のうち、圧縮方式がスクロール形のもの。コンプレッサの廃熱を温水として回収するために、軟水装置から新水を通過させ、温水をボイラ給水へ戻すことでボイラの燃料消費量が低減可能。また、直接温水を利用することも可能。 | I113: 8 | J113: - | K113: ‐ | L113: ‐ | M113: ○
...

Sheet 水準表_表紙
N2: 資料４
B15: 2026年度環境省LD-Tech水準表（案）
B22: Ver. 1.0
E29: 令和８年（2026年）10月

Sheet 水準表_補足
B2: 2026年度 環境省LD-Tech水準表 Ver. 1.0
B10: 項目 | D10: 主な記載内容
B11: 水準表クラスNo.
B13: 区 分
B21: 設備・機器等
B25: 原理・しくみ
B27: クラス
B29: 申請区分
B35: Oriented
B38: 項目 | D38: 主な記載内容
B39: LD-Tech水準
B44: 指標 | C44: 測定単位
C46: 評価方法 のタイプ
C52: 計算方法
C54: 試験条件
B56: 備考
B59: 記号の 使用方法

Sheet 水準表_補足②
A1: 2024年度環境省LD-Tech水準表Vwe1.0からの更新箇所
A3: 更新履歴
A4: Ver.1.1更新（2025年3月25日）：特別申請によるLD-Tech水準の設定及び編集上の誤りのため更新
A6: 【2025年３月25日更新】
A8: 変更概要 | B8: 水準表 クラスNo. | C8: 区分 | D8: 設備・機器等の 名称 | E8: クラス | G8: 更新後 （赤字が23年度からの修正点、 青字が24年度水準表Ver1.0からの修正点） | K8: 更新前 （取消線は修正点） | Q8: 備考
C9: 技術分類 | E9: 条件 | F9: 能力 （単位） | G9: 認証対象 | H9: LD-Tech 水準 | I9: 測定単位 | K9: クラス | M9: 認証対象 | N9: LD-Tech 水準 | O9: 測定単位
I10: 単 位 | J10: 名 称 | K10: 条 件 | L10: 能力 | O10: 単 位 | P10: 名 称
A11: LD-Tech水準を設定 | B11: S-005004 | C11: 空調機（ヒートポンプ・個別方式） | D11: 氷蓄熱式パッケージエアコン | E11: ー | F11: 22.4kW超28.0kW以下 | G11: 〇 | H11: 3.06 | I11: ー | J11: 日量蓄熱利用冷房効率 | K11: ー | L11: 22.4kW超28.0kW以下 | M11: 〇 | N11: ー | O11: ー | P11: 日量蓄熱利用冷房効率 | Q11: 2024年度環境省LD-Tech認証製品において、特別申請（LD-Tech水準未設定における申請方式）で応募され、認証を受けた製品の中で最高性能の値を採用。
B12: S-005005 | E12: ー | F12: 28.0kW超45.0kW以下 | G12: 〇 | H12: 3.19 | I12: ー | K12: ー | L12: 28.0kW超45.0kW以下 | M12: 〇 | N12: ー | O12: ー
B13: S-005006 | E13: ー | F13: 45.0kW超56.0kW以下 | G13: 〇 | H13: 2.77 | I13: ー | K13: ー | L13: 45.0kW超56.0kW以下 | M13: 〇 | N13: ー | O13: ー
B14: S-005007 | E14: ー | F14: 56.0kW超80.0kW以下 | G14: 〇 | H14: 3.34 | I14: ー | K14: ー | L14: 56.0kW超80.0kW以下 | M14: 〇 | N14: ー | O14: ー
B15: S-005008 | E15: ー | F15: 80.0kW超112.0kW以下 | G15: 〇 | H15: 3.14 | I15: ー | K15: ー | L15: 80.0kW超112.0kW以下 | M15: 〇 | N15: ー | O15: ー
B16: S-197002 | C16: 燃焼式給湯器 | D16: ハイブリッド給湯機（家庭用） | E16: 給湯暖房兼用機（給湯、暖房：ヒートポンプ、ガス） | F16: ー | G16: 〇 | H16: 148.1 | I16: ー | J16: 年間給湯効率 | K16: 給湯暖房兼用機（給湯、暖房：ヒートポンプ、ガス） | L16: ー | M16: 〇 | N16: ー | O16: ー | P16: 年間給湯効率
A17: 測定単位を修正 | B17: S-071001 | C17: モータ利用機器（圧縮機） | D17: 熱回収式ねじ容積形圧縮機 | E17: 給油式 | F17: 37kW、25kW | G17: 〇 | H17: 0.41 | I17: （m3/min）/kW | J17: エネルギー原単位 | K17: 給油式 | L17: 37kW、25kW | M17: 〇 | N17: 0.41 | O17: % | P17: エネルギー原単位 | Q17: 2024年度環境省LD-Tech水準表Ver1.1には、2023年度環境省LD-Tech水準表Ver1.2の記載内容を反映。
A18: 測定単位とLD-Tech水準を修正 | B18: S-071002 | F18: 75kW、 60kW | G18: 〇 | H18: 2.15 | L18: 75kW、 60kW | M18: 〇 | N18: 0.88
A19: 測定単位を修正 | B19: S-071003 | E19: オイルフリー式 | F19: 37kW、25kW | G19: 〇 | H19: 0.41 | K19: オイルフリー式 | L19: 37kW、25kW | M19: 〇 | N19: 0.41
A20: 測定単位を修正 | B20: S-071004 | F20: 75kW、 60kW | G20: 〇 | H20: 0.87 | L20: 75kW、 60kW | M20: 〇 | N20: 0.87
A21: クラス条件・LD-Tech水準を修正 | B21: S-096001 | C21: その他 | D21: 二流体加湿器 | E21: 平均粒子径7.5µm、システム全体の加湿量100kg/h、ノズル1個当たりの噴霧水量Q0＝2.1L/h | F21: ー | G21: 〇 | H21: 12.4 | I21: NL/min | J21: 体積流量 | K21: 平均粒子径7.5㎛、加湿量100kg/h | L21: ー | M21: 〇 | N21: 13.3 | O21: NL/min | P21: 体積流量 | Q21: 2023年度環境省LD-Tech認証製品一覧Ver1.4の認証製品にて最も高性能である数値を採用。
A22: クラス条件・LD-Tech水準を修正 | B22: S-096002 | D22: 二流体加湿器 | E22: 平均粒子径10µm、システム全体の加湿量100kg/h、ノズル1個当たりの噴霧水量Q0＝3.0L/h | F22: ー | G22: 〇 | H22: 10.5 | K22: 平均粒子径10㎛、加湿量100kg/h | L22: ー | M22: 〇 | N22: 11.2 | Q22: 2024年度環境省LD-Tech水準表Ver1.1には、2023年度環境省LD-Tech水準表Ver1.2の記載内容を反映。
A24: 変更概要 | B24: 水準表 クラスNo. | C24: 区分 | D24: 設備・機器等の 名称 | E24: 更新後（青字が24年度水準表Ver1.0からの修正点） | K24: 更新前（取消線は、修正点） | Q24: 備考
C25: 技術分類 | E25: 計算方法（計算式） | H25: 試験条件（説明） | K25: 計算方法（計算式） | N25: 試験条件（説明）
A27: クラス | B27: S-096001～ S-096002 | C27: その他 | D27: 二流体加湿器 | E27: 試験条件によって計測したシステム全体の体積（空気）流量V0（L/min）は、空気温度T0（℃）、空気圧力P0（MPa）の状態での値であるため、学術的な基準状態であるシステム全体の体積（空気）流量V1（NL/min）を、温度0（℃）、相対湿度（0％）、標準大気圧時（圧力1気圧＝0.1013MPa）の値に、ボイル・シャルルの法則を用いて換算する。なお、換算式は、V1＝V0×（273/（273＋T0））×（（0.1013+P0）／0.1013）とする。 次に、実際に噴霧するノズル1個あたりの噴霧水量Q1（L/h）に対する代表点として、ノズル1個あたりの噴霧水量Q0（L/h）からノズル1個あたりの加湿量（kg/h）を求める。 なお、換算式は、ノズル1個あたりの加湿量（kg/h）=Q0×空気温度T0での水密度（kg/m3）×0.001（m3/L）とする。 最後に、システム全体の加湿量100kg/h（20℃の水と想定）に必要なノズル1個あたりの体積（空気）流量V2（NL/min）を式から換算する。 なお、換算式は、V2＝V1×（ノズル1個あたりの加湿量/システム全体の加湿量）とする。 | H27: 工場に設置されたエアコンプレッサから高圧（0.6MPa程度）、かつ乾燥空気（相対湿度０％）が供給され、二流体加湿器のミストノズルに必要な圧力まで減圧された流入空気に対し、システム全体の加湿量100kg/hを達成する条件にて、ミストノズルの1次側において、空気温度T0（℃）、空気圧力P0（MPa）、体積（空気）流量V0（L/min）を超音波流量計によって計測及び算出する。なお、P0はゲージ圧とする。 ミストノズルは、同じザウター平均粒子径のミストを噴霧する場合でも、ノズルごとに使用する空気圧は異なるため、空気圧力P0（MPa）のとき、クラス条件にて定められたザウター平均粒子径で噴霧することを条件とし、供給する水の流量として、ノズル１個あたりの噴霧水量Q0（L/h）を設定する。 | K27: 試験条件によって計測した空気流量V0（L/min）は、空気温度T0（℃）、空気圧力P0（MPa）の状態での値であるため、学術的な基準状態であるV1（NL/min）を、温度0（℃）、相対湿度（0％）、標準大気圧時（圧力1気圧＝0.1013MPa）の値に、ボイル・シャルルの法則を用いて換算する。なお、換算式は、V1＝V0×（273/（273＋T0））×（（0.1013+P0）／0.1013）とする。 次に、噴霧水量Q0（L/min）に対して、代表点として、有効加湿量10kg/hに必要な噴霧水量Q2（L/min）を求め、そのときの必要な空気流量V2（NL/min）を式から換算する。なお、換算式は、V2＝V1×（Q2/Q0）とする。 | N27: 工場に設置されたエアコンプレッサから高圧（0.6MPa程度）、かつ乾燥空気（相対湿度０％）が供給され、二流体加湿器のミストノズルに必要な圧力まで減圧された流入空気に対し、ミストノズルの1次側において、空気温度T0（℃）、空気圧力P0（MPa）、空気流量V0（L/min）を超音波流量計によって体積流量を計測する。なお、P0はゲージ圧を計測する。 ミストノズルは、同じザウター平均粒子径のミストを噴霧する場合でも、ノズルごとに使用する空気圧は異なるため、空気圧力P0（MPa）のとき、ザウター平均粒子径10μmを噴霧することを条件とし、供給する水の流量として、噴霧水量Q0（L/min）を計測する。最後に、体積流量＝エア消費量×（エア噴霧量/加湿量）で体積流量を求める。 | Q27: 2024年度環境省LD-Tech水準表Ver1.1には、2023年度環境省LD-Tech水準表Ver1.2の記載内容を反映。
Q29: 以上

Sheet 水準表_本体
K3: 水準表 クラスNo. | L3: 区分 | M3: 概 要 | O3: クラス | R3: 申請区分 | S3: Oriented | T3: LD-Tech 水準 | V3: 指標
B4: 区分 | C4: 識別KEY | L4: 技術分類 | M4: 設備・機器等 | N4: 原理・しくみ | O4: 条件 | P4: 能力 （名称） | Q4: 能力 （単位） | V4: 測定単位 | X4: 評価方法のタイプ | Y4: 計算方法 | AB4: 試験条件
C5: IE名 | D5: IE＆クラス条件 | E5: IE＆クラス条件＆クラス能力（名称） | F5: IE＆クラス条件＆クラス能力（名称）＆測定単位 | G5: IE＆クラス条件＆クラス能力（名称）＆測定単位＆評価方式のタイプ | H5: IE＆クラス条件＆クラス能力（名称）＆測定単位＆評価方式のタイプ＆準拠する規格（計算方法） | I5: IE＆クラス条件＆クラス能力（名称）＆測定単位＆評価方式のタイプ＆準拠する規格（計算方法）＆準拠する規格（試験条件） | V5: 単位 | W5: 名称 | Y5: 準拠する 規格 | Z5: 規格の 名称 | AA5: 計算式 | AB5: 準拠する 規格 | AC5: 規格の 名称 | AD5: 説明
B6: =VLOOKUP(K6,[5]水準表DB!$E$8:$H$1510,4,FALSE) -> A | C6: =M6 -> ガスヒートポンプ | D6: =M6&O6 -> ガスヒートポンプ- | E6: =D6&P6 -> ガスヒートポンプ-相当馬力数 | F6: =E6&V6&W6 -> ガスヒートポンプ-相当馬力数-COPp | G6: =F6&X6 -> ガスヒートポンプ-相当馬力数-COPp標準規格による評価 | H6: =G6&Y6 -> ガスヒートポンプ-相当馬力数-COPp標準規格による評価- | I6: =H6&AB6 -> ガスヒートポンプ-相当馬力数-COPp標準規格による評価-JRA4067:2015またはJISB8627:2006 | K6: S-001001 | L6: 空調機（ヒートポンプ・個別方式） | M6: ガスヒートポンプ | N6: 室外機内のコンプレッサの駆動をガスエンジンで行うヒートポンプ方式の空気調和機。 | O6: - | P6: 相当馬力数 | Q6: 7.5HP以下 | R6: 通常申請または簡易申請 | S6: Oriented | T6: 1.19 | V6: - | W6: COPp | X6: 標準規格による評価 | Y6: - | Z6: - | AA6: COPp=（Ccr＋Chr）/2 Ccr=Φcr/(Gcr+Pcr/(3600/9760))、Chr=Φhr/(Ghr+Phr/(3600/9760)) Ccr：冷房成績係数 Chr：暖房成績係数 Φcr：定格冷房標準能力(kW） Φhr：定格暖房標準能力(kW） Gcr：定格冷房標準ガス消費量(kW） Ghr：定格暖房標準ガス消費量(kW） Pcr：定格冷房標準消費電力(kW） Phr：定格暖房標準消費電力(kW） ※COPpは、小数点3桁目を切捨て、小数点2桁目までを表示する。 | AB6: JRA4067:2015またはJISB8627:2006 | AC6: いずれもガスヒートポンプ冷暖房機 | AD6: JRA4067:2015またはJISB8627:2 006に準拠。ただし、電源の周波数は、50Hzとする。
B7: =VLOOKUP(K7,[5]水準表DB!$E$8:$H$1510,4,FALSE) -> A | C7: =M7 -> ガスヒートポンプ | D7: =M7&O7 -> ガスヒートポンプ- | E7: =D7&P7 -> ガスヒートポンプ-相当馬力数 | F7: =E7&V7&W7 -> ガスヒートポンプ-相当馬力数-COPp | G7: =F7&X7 -> ガスヒートポンプ-相当馬力数-COPp標準規格による評価 | H7: =G7&Y7 -> ガスヒートポンプ-相当馬力数-COPp標準規格による評価- | I7: =H7&AB7 -> ガスヒートポンプ-相当馬力数-COPp標準規格による評価-JRA4067:2015またはJISB8627:2006 | K7: S-001002 | L7: 空調機（ヒートポンプ・個別方式） | M7: ガスヒートポンプ | N7: 室外機内のコンプレッサの駆動をガスエンジンで行うヒートポンプ方式の空気調和機。 | O7: - | P7: 相当馬力数 | Q7: 7.5HP超10HP以下 | R7: 通常申請または簡易申請 | S7: Oriented | T7: 1.28 | V7: - | W7: COPp | X7: 標準規格による評価 | Y7: - | Z7: - | AA7: COPp=（Ccr＋Chr）/2 Ccr=Φcr/(Gcr+Pcr/(3600/9760))、Chr=Φhr/(Ghr+Phr/(3600/9760)) Ccr：冷房成績係数 Chr：暖房成績係数 Φcr：定格冷房標準能力(kW） Φhr：定格暖房標準能力(kW） Gcr：定格冷房標準ガス消費量(kW） Ghr：定格暖房標準ガス消費量(kW） Pcr：定格冷房標準消費電力(kW） Phr：定格暖房標準消費電力(kW） ※COPpは、小数点3桁目を切捨て、小数点2桁目までを表示する。 | AB7: JRA4067:2015またはJISB8627:2006 | AC7: いずれもガスヒートポンプ冷暖房機 | AD7: JRA4067:2015またはJISB8627:2006に準拠。ただし、電源の周波数は、50Hzとする。
B8: =VLOOKUP(K8,[5]水準表DB!$E$8:$H$1510,4,FALSE) -> A | C8: =M8 -> ガスヒートポンプ | D8: =M8&O8 -> ガスヒートポンプ- | E8: =D8&P8 -> ガスヒートポンプ-相当馬力数 | F8: =E8&V8&W8 -> ガスヒートポンプ-相当馬力数-COPp | G8: =F8&X8 -> ガスヒートポンプ-相当馬力数-COPp標準規格による評価 | H8: =G8&Y8 -> ガスヒートポンプ-相当馬力数-COPp標準規格による評価- | I8: =H8&AB8 -> ガスヒートポンプ-相当馬力数-COPp標準規格による評価-JRA4067:2015またはJISB8627:2006 | K8: S-001003 | L8: 空調機（ヒートポンプ・個別方式） | M8: ガスヒートポンプ | N8: 室外機内のコンプレッサの駆動をガスエンジンで行うヒートポンプ方式の空気調和機。 | O8: - | P8: 相当馬力数 | Q8: 10HP超16HP以下 | R8: 通常申請または簡易申請 | S8: Oriented | T8: 1.47 | V8: - | W8: COPp | X8: 標準規格による評価 | Y8: - | Z8: - | AA8: COPp=（Ccr＋Chr）/2 Ccr=Φcr/(Gcr+Pcr/(3600/9760))、Chr=Φhr/(Ghr+Phr/(3600/9760)) Ccr：冷房成績係数 Chr：暖房成績係数 Φcr：定格冷房標準能力(kW） Φhr：定格暖房標準能力(kW） Gcr：定格冷房標準ガス消費量(kW） Ghr：定格暖房標準ガス消費量(kW） Pcr：定格冷房標準消費電力(kW） Phr：定格暖房標準消費電力(kW） ※COPpは、小数点3桁目を切捨て、小数点2桁目までを表示する。 | AB8: JRA4067:2015またはJISB8627:2006 | AC8: いずれもガスヒートポンプ冷暖房機 | AD8: JRA4067:2015またはJISB8627:2006に準拠。ただし、電源の周波数は、50Hzとする。
B9: =VLOOKUP(K9,[5]水準表DB!$E$8:$H$1510,4,FALSE) -> A | C9: =M9 -> ガスヒートポンプ | D9: =M9&O9 -> ガスヒートポンプ- | E9: =D9&P9 -> ガスヒートポンプ-相当馬力数 | F9: =E9&V9&W9 -> ガスヒートポンプ-相当馬力数-COPp | G9: =F9&X9 -> ガスヒートポンプ-相当馬力数-COPp標準規格による評価 | H9: =G9&Y9 -> ガスヒートポンプ-相当馬力数-COPp標準規格による評価- | I9: =H9&AB9 -> ガスヒートポンプ-相当馬力数-COPp標準規格による評価-JRA4067:2015またはJISB8627:2006 | K9: S-001004 | L9: 空調機（ヒートポンプ・個別方式） | M9: ガスヒートポンプ | N9: 室外機内のコンプレッサの駆動をガスエンジンで行うヒートポンプ方式の空気調和機。 | O9: - | P9: 相当馬力数 | Q9: 16HP超25HP以下 | R9: 通常申請または簡易申請 | S9: Oriented | T9: 1.38 | V9: - | W9: COPp | X9: 標準規格による評価 | Y9: - | Z9: - | AA9: COPp=（Ccr＋Chr）/2 Ccr=Φcr/(Gcr+Pcr/(3600/9760))、Chr=Φhr/(Ghr+Phr/(3600/9760)) Ccr：冷房成績係数 Chr：暖房成績係数 Φcr：定格冷房標準能力(kW） Φhr：定格暖房標準能力(kW） Gcr：定格冷房標準ガス消費量(kW） Ghr：定格暖房標準ガス消費量(kW） Pcr：定格冷房標準消費電力(kW） Phr：定格暖房標準消費電力(kW） ※COPpは、小数点3桁目を切捨て、小数点2桁目までを表示する。 | AB9: JRA4067:2015またはJISB8627:2006 | AC9: いずれもガスヒートポンプ冷暖房機 | AD9: JRA4067:2015またはJISB8627:2006に準拠。ただし、電源の周波数は、50Hzとする。
B10: =VLOOKUP(K10,[5]水準表DB!$E$8:$H$1510,4,FALSE) -> A | C10: =M10 -> ガスヒートポンプ | D10: =M10&O10 -> ガスヒートポンプ- | E10: =D10&P10 -> ガスヒートポンプ-相当馬力数 | F10: =E10&V10&W10 -> ガスヒートポンプ-相当馬力数-COPp | G10: =F10&X10 -> ガスヒートポンプ-相当馬力数-COPp標準規格による評価 | H10: =G10&Y10 -> ガスヒートポンプ-相当馬力数-COPp標準規格による評価- | I10: =H10&AB10 -> ガスヒートポンプ-相当馬力数-COPp標準規格による評価-JRA4067:2015またはJISB8627:2006 | K10: S-001005 | L10: 空調機（ヒートポンプ・個別方式） | M10: ガスヒートポンプ | N10: 室外機内のコンプレッサの駆動をガスエンジンで行うヒートポンプ方式の空気調和機。 | O10: - | P10: 相当馬力数 | Q10: 25HP超 | R10: 通常申請 | S10: Oriented | T10: 1.3 | V10: - | W10: COPp | X10: 標準規格による評価 | Y10: - | Z10: - | AA10: COPp=（Ccr＋Chr）/2 Ccr=Φcr/(Gcr+Pcr/(3600/9760))、Chr=Φhr/(Ghr+Phr/(3600/9760)) Ccr：冷房成績係数 Chr：暖房成績係数 Φcr：定格冷房標準能力(kW） Φhr：定格暖房標準能力(kW） Gcr：定格冷房標準ガス消費量(kW） Ghr：定格暖房標準ガス消費量(kW） Pcr：定格冷房標準消費電力(kW） Phr：定格暖房標準消費電力(kW） ※COPpは、小数点3桁目を切捨て、小数点2桁目までを表示する。 | AB10: JRA4067:2015またはJISB8627:2006 | AC10: いずれもガスヒートポンプ冷暖房機 | AD10: JRA4067:2015またはJISB8627:2006に準拠。ただし、電源の周波数は、50Hzとする。
B11: =VLOOKUP(K11,[5]水準表DB!$E$8:$H$1510,4,FALSE) -> A | C11: =M11 -> ガスヒートポンプ | D11: =M11&O11 -> ガスヒートポンプ- | E11: =D11&P11 -> ガスヒートポンプ-相当馬力数 | F11: =E11&V11&W11 -> ガスヒートポンプ-相当馬力数-期間成績係数（APFp） | G11: =F11&X11 -> ガスヒートポンプ-相当馬力数-期間成績係数（APFp）標準規格による評価 | H11: =G11&Y11 -> ガスヒートポンプ-相当馬力数-期間成績係数（APFp）標準規格による評価JISB8627:2015 | I11: =H11&AB11 -> ガスヒートポンプ-相当馬力数-期間成績係数（APFp）標準規格による評価JISB8627:2015JISB8627:2015 | K11: S-001006 | L11: 空調機（ヒートポンプ・個別方式） | M11: ガスヒートポンプ | N11: 室外機内のコンプレッサの駆動をガスエンジンで行うヒートポンプ方式の空気調和機。 | O11: - | P11: 相当馬力数 | Q11: 7.5HP以下 | R11: 特別申請 | S11: Oriented | T11: - | V11: - | W11: 期間成績係数（APFp） | X11: 標準規格による評価 | Y11: JISB8627:2015 | Z11: ガスヒートポンプ冷暖房機 | AA11: JISB8627:2015に準拠 | AB11: JISB8627:2015 | AC11: ガスヒートポンプ冷暖房機 | AD11: JISB8627:2015に準拠
B12: =VLOOKUP(K12,[5]水準表DB!$E$8:$H$1510,4,FALSE) -> A | C12: =M12 -> ガスヒートポンプ | D12: =M12&O12 -> ガスヒートポンプ- | E12: =D12&P12 -> ガスヒートポンプ-相当馬力数 | F12: =E12&V12&W12 -> ガスヒートポンプ-相当馬力数-期間成績係数（APFp） | G12: =F12&X12 -> ガスヒートポンプ-相当馬力数-期間成績係数（APFp）標準規格による評価 | H12: =G12&Y12 -> ガスヒートポンプ-相当馬力数-期間成績係数（APFp）標準規格による評価JISB8627:2015 | I12: =H12&AB12 -> ガスヒートポンプ-相当馬力数-期間成績係数（APFp）標準規格による評価JISB8627:2015JISB8627:2015 | K12: S-001007 | L12: 空調機（ヒートポンプ・個別方式） | M12: ガスヒートポンプ | N12: 室外機内のコンプレッサの駆動をガスエンジンで行うヒートポンプ方式の空気調和機。 | O12: - | P12: 相当馬力数 | Q12: 7.5HP超10HP以下 | R12: 通常申請または簡易申請 | S12: Oriented | T12: 1.65 | V12: - | W12: 期間成績係数（APFp） | X12: 標準規格による評価 | Y12: JISB8627:2015 | Z12: ガスヒートポンプ冷暖房機 | AA12: JISB8627:2015に準拠 | AB12: JISB8627:2015 | AC12: ガスヒートポンプ冷暖房機 | AD12: JISB8627:2015に準拠
B13: =VLOOKUP(K13,[5]水準表DB!$E$8:$H$1510,4,FALSE) -> A | C13: =M13 -> ガスヒートポンプ | D13: =M13&O13 -> ガスヒートポンプ- | E13: =D13&P13 -> ガスヒートポンプ-相当馬力数 | F13: =E13&V13&W13 -> ガスヒートポンプ-相当馬力数-期間成績係数（APFp） | G13: =F13&X13 -> ガスヒートポンプ-相当馬力数-期間成績係数（APFp）標準規格による評価 | H13: =G13&Y13 -> ガスヒートポンプ-相当馬力数-期間成績係数（APFp）標準規格による評価JISB8627:2015 | I13: =H13&AB13 -> ガスヒートポンプ-相当馬力数-期間成績係数（APFp）標準規格による評価JISB8627:2015JISB8627:2015 | K13: S-001008 | L13: 空調機（ヒートポンプ・個別方式） | M13: ガスヒートポンプ | N13: 室外機内のコンプレッサの駆動をガスエンジンで行うヒートポンプ方式の空気調和機。 | O13: - | P13: 相当馬力数 | Q13: 10HP超16HP以下 | R13: 通常申請または簡易申請 | S13: Oriented | T13: 2.2 | V13: - | W13: 期間成績係数（APFp） | X13: 標準規格による評価 | Y13: JISB8627:2015 | Z13: ガスヒートポンプ冷暖房機 | AA13: JISB8627:2015に準拠 | AB13: JISB8627:2015 | AC13: ガスヒートポンプ冷暖房機 | AD13: JISB8627:2015に準拠
B14: =VLOOKUP(K14,[5]水準表DB!$E$8:$H$1510,4,FALSE) -> A | C14: =M14 -> ガスヒートポンプ | D14: =M14&O14 -> ガスヒートポンプ- | E14: =D14&P14 -> ガスヒートポンプ-相当馬力数 | F14: =E14&V14&W14 -> ガスヒートポンプ-相当馬力数-期間成績係数（APFp） | G14: =F14&X14 -> ガスヒートポンプ-相当馬力数-期間成績係数（APFp）標準規格による評価 | H14: =G14&Y14 -> ガスヒートポンプ-相当馬力数-期間成績係数（APFp）標準規格による評価JISB8627:2015 | I14: =H14&AB14 -> ガスヒートポンプ-相当馬力数-期間成績係数（APFp）標準規格による評価JISB8627:2015JISB8627:2015 | K14: S-001009 | L14: 空調機（ヒートポンプ・個別方式） | M14: ガスヒートポンプ | N14: 室外機内のコンプレッサの駆動をガスエンジンで行うヒートポンプ方式の空気調和機。 | O14: - | P14: 相当馬力数 | Q14: 16HP超25HP以下 | R14: 通常申請または簡易申請 | S14: Oriented | T14: 2.21 | V14: - | W14: 期間成績係数（APFp） | X14: 標準規格による評価 | Y14: JISB8627:2015 | Z14: ガスヒートポンプ冷暖房機 | AA14: JISB8627:2015に準拠 | AB14: JISB8627:2015 | AC14: ガスヒートポンプ冷暖房機 | AD14: JISB8627:2015に準拠
B15: =VLOOKUP(K15,[5]水準表DB!$E$8:$H$1510,4,FALSE) -> A | C15: =M15 -> ガスヒートポンプ | D15: =M15&O15 -> ガスヒートポンプ- | E15: =D15&P15 -> ガスヒートポンプ-相当馬力数 | F15: =E15&V15&W15 -> ガスヒートポンプ-相当馬力数-期間成績係数（APFp） | G15: =F15&X15 -> ガスヒートポンプ-相当馬力数-期間成績係数（APFp）標準規格による評価 | H15: =G15&Y15 -> ガスヒートポンプ-相当馬力数-期間成績係数（APFp）標準規格による評価JISB8627:2015 | I15: =H15&AB15 -> ガスヒートポンプ-相当馬力数-期間成績係数（APFp）標準規格による評価JISB8627:2015JISB8627:2015 | K15: S-001010 | L15: 空調機（ヒートポンプ・個別方式） | M15: ガスヒートポンプ | N15: 室外機内のコンプレッサの駆動をガスエンジンで行うヒートポンプ方式の空気調和機。 | O15: - | P15: 相当馬力数 | Q15: 25HP超 | R15: 通常申請または簡易申請 | S15: Oriented | T15: 2.21 | V15: - | W15: 期間成績係数（APFp） | X15: 標準規格による評価 | Y15: JISB8627:2015 | Z15: ガスヒートポンプ冷暖房機 | AA15: JISB8627:2015に準拠 | AB15: JISB8627:2015 | AC15: ガスヒートポンプ冷暖房機 | AD15: JISB8627:2015に準拠
B16: =VLOOKUP(K16,[5]水準表DB!$E$8:$H$1510,4,FALSE) -> A | C16: =M16 -> ガスヒートポンプ | D16: =M16&O16 -> ガスヒートポンプ寒冷地仕様 | E16: =D16&P16 -> ガスヒートポンプ寒冷地仕様相当馬力数 | F16: =E16&V16&W16 -> ガスヒートポンプ寒冷地仕様相当馬力数-COPp | G16: =F16&X16 -> ガスヒートポンプ寒冷地仕様相当馬力数-COPp標準規格による評価 | H16: =G16&Y16 -> ガスヒートポンプ寒冷地仕様相当馬力数-COPp標準規格による評価- | I16: =H16&AB16 -> ガスヒートポンプ寒冷地仕様相当馬力数-COPp標準規格による評価-JRA4067:2015またはJISB8627:2006 | K16: S-001011 | L16: 空調機（ヒートポンプ・個別方式） | M16: ガスヒートポンプ | N16: 室外機内のコンプレッサの駆動をガスエンジンで行うヒートポンプ方式の空気調和機。 | O16: 寒冷地仕様 | P16: 相当馬力数 | Q16: 7.5HP以下 | R16: 通常申請 | S16: Oriented | T16: 1.19 | V16: - | W16: COPp | X16: 標準規格による評価 | Y16: - | Z16: - | AA16: COPp=（Ccr＋Chr）/2 Ccr=Φcr/(Gcr+Pcr/(3600/9760))、Chr=Φhr/(Ghr+Phr/(3600/9760)) Ccr：冷房成績係数 Chr：暖房成績係数 Φcr：定格冷房標準能力(kW） Φhr：定格暖房標準能力(kW） Gcr：定格冷房標準ガス消費量(kW） Ghr：定格暖房標準ガス消費量(kW） Pcr：定格冷房標準消費電力(kW） Phr：定格暖房標準消費電力(kW） ※COPpは、小数点3桁目を切捨て、小数点2桁目までを表示する。 | AB16: JRA4067:2015またはJISB8627:2006 | AC16: いずれもガスヒートポンプ冷暖房機 | AD16: JRA4067:2015またはJISB8627:2006に準拠。ただし、電源の周波数は、50Hzとする。
B17: =VLOOKUP(K17,[5]水準表DB!$E$8:$H$1510,4,FALSE) -> A | C17: =M17 -> ガスヒートポンプ | D17: =M17&O17 -> ガスヒートポンプ寒冷地仕様 | E17: =D17&P17 -> ガスヒートポンプ寒冷地仕様相当馬力数 | F17: =E17&V17&W17 -> ガスヒートポンプ寒冷地仕様相当馬力数-COPp | G17: =F17&X17 -> ガスヒートポンプ寒冷地仕様相当馬力数-COPp標準規格による評価 | H17: =G17&Y17 -> ガスヒートポンプ寒冷地仕様相当馬力数-COPp標準規格による評価- | I17: =H17&AB17 -> ガスヒートポンプ寒冷地仕様相当馬力数-COPp標準規格による評価-JRA4067:2015またはJISB8627:2006 | K17: S-001012 | L17: 空調機（ヒートポンプ・個別方式） | M17: ガスヒートポンプ | N17: 室外機内のコンプレッサの駆動をガスエンジンで行うヒートポンプ方式の空気調和機。 | O17: 寒冷地仕様 | P17: 相当馬力数 | Q17: 7.5HP超10HP以下 | R17: 通常申請または簡易申請 | S17: Oriented | T17: 1.28 | V17: - | W17: COPp | X17: 標準規格による評価 | Y17: - | Z17: - | AA17: COPp=（Ccr＋Chr）/2 Ccr=Φcr/(Gcr+Pcr/(3600/9760))、Chr=Φhr/(Ghr+Phr/(3600/9760)) Ccr：冷房成績係数 Chr：暖房成績係数 Φcr：定格冷房標準能力(kW） Φhr：定格暖房標準能力(kW） Gcr：定格冷房標準ガス消費量(kW） Ghr：定格暖房標準ガス消費量(kW） Pcr：定格冷房標準消費電力(kW） Phr：定格暖房標準消費電力(kW） ※COPpは、小数点3桁目を切捨て、小数点2桁目までを表示する。 | AB17: JRA4067:2015またはJISB8627:2006 | AC17: いずれもガスヒートポンプ冷暖房機 | AD17: JRA4067:2015またはJISB8627:2006に準拠。ただし、電源の周波数は、50Hzとする。
B18: =VLOOKUP(K18,[5]水準表DB!$E$8:$H$1510,4,FALSE) -> A | C18: =M18 -> ガスヒートポンプ | D18: =M18&O18 -> ガスヒートポンプ寒冷地仕様 | E18: =D18&P18 -> ガスヒートポンプ寒冷地仕様相当馬力数 | F18: =E18&V18&W18 -> ガスヒートポンプ寒冷地仕様相当馬力数-COPp | G18: =F18&X18 -> ガスヒートポンプ寒冷地仕様相当馬力数-COPp標準規格による評価 | H18: =G18&Y18 -> ガスヒートポンプ寒冷地仕様相当馬力数-COPp標準規格による評価- | I18: =H18&AB18 -> ガスヒートポンプ寒冷地仕様相当馬力数-COPp標準規格による評価-JRA4067:2015またはJISB8627:2006 | K18: S-001013 | L18: 空調機（ヒートポンプ・個別方式） | M18: ガスヒートポンプ | N18: 室外機内のコンプレッサの駆動をガスエンジンで行うヒートポンプ方式の空気調和機。 | O18: 寒冷地仕様 | P18: 相当馬力数 | Q18: 10HP超16HP以下 | R18: 通常申請または簡易申請 | S18: Oriented | T18: 1.47 | V18: - | W18: COPp | X18: 標準規格による評価 | Y18: - | Z18: - | AA18: COPp=（Ccr＋Chr）/2 Ccr=Φcr/(Gcr+Pcr/(3600/9760))、Chr=Φhr/(Ghr+Phr/(3600/9760)) Ccr：冷房成績係数 Chr：暖房成績係数 Φcr：定格冷房標準能力(kW） Φhr：定格暖房標準能力(kW） Gcr：定格冷房標準ガス消費量(kW） Ghr：定格暖房標準ガス消費量(kW） Pcr：定格冷房標準消費電力(kW） Phr：定格暖房標準消費電力(kW） ※COPpは、小数点3桁目を切捨て、小数点2桁目までを表示する。 | AB18: JRA4067:2015またはJISB8627:2006 | AC18: いずれもガスヒートポンプ冷暖房機 | AD18: JRA4067:2015またはJISB8627:2006に準拠。ただし、電源の周波数は、50Hzとする。
B19: =VLOOKUP(K19,[5]水準表DB!$E$8:$H$1510,4,FALSE) -> A | C19: =M19 -> ガスヒートポンプ | D19: =M19&O19 -> ガスヒートポンプ寒冷地仕様 | E19: =D19&P19 -> ガスヒートポンプ寒冷地仕様相当馬力数 | F19: =E19&V19&W19 -> ガスヒートポンプ寒冷地仕様相当馬力数-COPp | G19: =F19&X19 -> ガスヒートポンプ寒冷地仕様相当馬力数-COPp標準規格による評価 | H19: =G19&Y19 -> ガスヒートポンプ寒冷地仕様相当馬力数-COPp標準規格による評価- | I19: =H19&AB19 -> ガスヒートポンプ寒冷地仕様相当馬力数-COPp標準規格による評価-JRA4067:2015またはJISB8627:2006 | K19: S-001014 | L19: 空調機（ヒートポンプ・個別方式） | M19: ガスヒートポンプ | N19: 室外機内のコンプレッサの駆動をガスエンジンで行うヒートポンプ方式の空気調和機。 | O19: 寒冷地仕様 | P19: 相当馬力数 | Q19: 16HP超25HP以下 | R19: 通常申請または簡易申請 | S19: Oriented | T19: 1.38 | V19: - | W19: COPp | X19: 標準規格による評価 | Y19: - | Z19: - | AA19: COPp=（Ccr＋Chr）/2 Ccr=Φcr/(Gcr+Pcr/(3600/9760))、Chr=Φhr/(Ghr+Phr/(3600/9760)) Ccr：冷房成績係数 Chr：暖房成績係数 Φcr：定格冷房標準能力(kW） Φhr：定格暖房標準能力(kW） Gcr：定格冷房標準ガス消費量(kW） Ghr：定格暖房標準ガス消費量(kW） Pcr：定格冷房標準消費電力(kW） Phr：定格暖房標準消費電力(kW） ※COPpは、小数点3桁目を切捨て、小数点2桁目までを表示する。 | AB19: JRA4067:2015またはJISB8627:2006 | AC19: いずれもガスヒートポンプ冷暖房機 | AD19: JRA4067:2015またはJISB8627:2006に準拠。ただし、電源の周波数は、50Hzとする。
B20: =VLOOKUP(K20,[5]水準表DB!$E$8:$H$1510,4,FALSE) -> A | C20: =M20 -> ガスヒートポンプ | D20: =M20&O20 -> ガスヒートポンプ寒冷地仕様 | E20: =D20&P20 -> ガスヒートポンプ寒冷地仕様相当馬力数 | F20: =E20&V20&W20 -> ガスヒートポンプ寒冷地仕様相当馬力数-COPp | G20: =F20&X20 -> ガスヒートポンプ寒冷地仕様相当馬力数-COPp標準規格による評価 | H20: =G20&Y20 -> ガスヒートポンプ寒冷地仕様相当馬力数-COPp標準規格による評価- | I20: =H20&AB20 -> ガスヒートポンプ寒冷地仕様相当馬力数-COPp標準規格による評価-JRA4067:2015またはJISB8627:2006 | K20: S-001015 | L20: 空調機（ヒートポンプ・個別方式） | M20: ガスヒートポンプ | N20: 室外機内のコンプレッサの駆動をガスエンジンで行うヒートポンプ方式の空気調和機。 | O20: 寒冷地仕様 | P20: 相当馬力数 | Q20: 25HP超 | R20: 通常申請または簡易申請 | S20: Oriented | T20: 1.27 | V20: - | W20: COPp | X20: 標準規格による評価 | Y20: - | Z20: - | AA20: COPp=（Ccr＋Chr）/2 Ccr=Φcr/(Gcr+Pcr/(3600/9760))、Chr=Φhr/(Ghr+Phr/(3600/9760)) Ccr：冷房成績係数 Chr：暖房成績係数 Φcr：定格冷房標準能力(kW） Φhr：定格暖房標準能力(kW） Gcr：定格冷房標準ガス消費量(kW） Ghr：定格暖房標準ガス消費量(kW） Pcr：定格冷房標準消費電力(kW） Phr：定格暖房標準消費電力(kW） ※COPpは、小数点3桁目を切捨て、小数点2桁目までを表示する。 | AB20: JRA4067:2015またはJISB8627:2006 | AC20: いずれもガスヒートポンプ冷暖房機 | AD20: JRA4067:2015またはJISB8627:2006に準拠。ただし、電源の周波数は、50Hzとする。
B21: =VLOOKUP(K21,[5]水準表DB!$E$8:$H$1510,4,FALSE) -> A | C21: =M21 -> ガスヒートポンプ | D21: =M21&O21 -> ガスヒートポンプ寒冷地仕様 | E21: =D21&P21 -> ガスヒートポンプ寒冷地仕様相当馬力数 | F21: =E21&V21&W21 -> ガスヒートポンプ寒冷地仕様相当馬力数-期間成績係数（APFp） | G21: =F21&X21 -> ガスヒートポンプ寒冷地仕様相当馬力数-期間成績係数（APFp）標準規格による評価 | H21: =G21&Y21 -> ガスヒートポンプ寒冷地仕様相当馬力数-期間成績係数（APFp）標準規格による評価JISB8627:2015 | I21: =H21&AB21 -> ガスヒートポンプ寒冷地仕様相当馬力数-期間成績係数（APFp）標準規格による評価JISB8627:2015JISB8627:2015 | K21: S-001016 | L21: 空調機（ヒートポンプ・個別方式） | M21: ガスヒートポンプ | N21: 室外機内のコンプレッサの駆動をガスエンジンで行うヒートポンプ方式の空気調和機。 | O21: 寒冷地仕様 | P21: 相当馬力数 | Q21: 7.5HP以下 | R21: 特別申請 | S21: Oriented | T21: - | V21: - | W21: 期間成績係数（APFp） | X21: 標準規格による評価 | Y21: JISB8627:2015 | Z21: ガスヒートポンプ冷暖房機 | AA21: JISB8627:2015に準拠 | AB21: JISB8627:2015 | AC21: ガスヒートポンプ冷暖房機 | AD21: JISB8627:2015に準拠
B22: =VLOOKUP(K22,[5]水準表DB!$E$8:$H$1510,4,FALSE) -> A | C22: =M22 -> ガスヒートポンプ | D22: =M22&O22 -> ガスヒートポンプ寒冷地仕様 | E22: =D22&P22 -> ガスヒートポンプ寒冷地仕様相当馬力数 | F22: =E22&V22&W22 -> ガスヒートポンプ寒冷地仕様相当馬力数-期間成績係数（APFp） | G22: =F22&X22 -> ガスヒートポンプ寒冷地仕様相当馬力数-期間成績係数（APFp）標準規格による評価 | H22: =G22&Y22 -> ガスヒートポンプ寒冷地仕様相当馬力数-期間成績係数（APFp）標準規格による評価JISB8627:2015 | I22: =H22&AB22 -> ガスヒートポンプ寒冷地仕様相当馬力数-期間成績係数（APFp）標準規格による評価JISB8627:2015JISB8627:2015 | K22: S-001017 | L22: 空調機（ヒートポンプ・個別方式） | M22: ガスヒートポンプ | N22: 室外機内のコンプレッサの駆動をガスエンジンで行うヒートポンプ方式の空気調和機。 | O22: 寒冷地仕様 | P22: 相当馬力数 | Q22: 7.5HP超10HP以下 | R22: 通常申請または簡易申請 | S22: Oriented | T22: 1.65 | V22: - | W22: 期間成績係数（APFp） | X22: 標準規格による評価 | Y22: JISB8627:2015 | Z22: ガスヒートポンプ冷暖房機 | AA22: JISB8627:2015に準拠 | AB22: JISB8627:2015 | AC22: ガスヒートポンプ冷暖房機 | AD22: JISB8627:2015に準拠
B23: =VLOOKUP(K23,[5]水準表DB!$E$8:$H$1510,4,FALSE) -> A | C23: =M23 -> ガスヒートポンプ | D23: =M23&O23 -> ガスヒートポンプ寒冷地仕様 | E23: =D23&P23 -> ガスヒートポンプ寒冷地仕様相当馬力数 | F23: =E23&V23&W23 -> ガスヒートポンプ寒冷地仕様相当馬力数-期間成績係数（APFp） | G23: =F23&X23 -> ガスヒートポンプ寒冷地仕様相当馬力数-期間成績係数（APFp）標準規格による評価 | H23: =G23&Y23 -> ガスヒートポンプ寒冷地仕様相当馬力数-期間成績係数（APFp）標準規格による評価JISB8627:2015 | I23: =H23&AB23 -> ガスヒートポンプ寒冷地仕様相当馬力数-期間成績係数（APFp）標準規格による評価JISB8627:2015JISB8627:2015 | K23: S-001018 | L23: 空調機（ヒートポンプ・個別方式） | M23: ガスヒートポンプ | N23: 室外機内のコンプレッサの駆動をガスエンジンで行うヒートポンプ方式の空気調和機。 | O23: 寒冷地仕様 | P23: 相当馬力数 | Q23: 10HP超16HP以下 | R23: 通常申請または簡易申請 | S23: Oriented | T23: 2.09 | V23: - | W23: 期間成績係数（APFp） | X23: 標準規格による評価 | Y23: JISB8627:2015 | Z23: ガスヒートポンプ冷暖房機 | AA23: JISB8627:2015に準拠 | AB23: JISB8627:2015 | AC23: ガスヒートポンプ冷暖房機 | AD23: JISB8627:2015に準拠
B24: =VLOOKUP(K24,[5]水準表DB!$E$8:$H$1510,4,FALSE) -> A | C24: =M24 -> ガスヒートポンプ | D24: =M24&O24 -> ガスヒートポンプ寒冷地仕様 | E24: =D24&P24 -> ガスヒートポンプ寒冷地仕様相当馬力数 | F24: =E24&V24&W24 -> ガスヒートポンプ寒冷地仕様相当馬力数-期間成績係数（APFp） | G24: =F24&X24 -> ガスヒートポンプ寒冷地仕様相当馬力数-期間成績係数（APFp）標準規格による評価 | H24: =G24&Y24 -> ガスヒートポンプ寒冷地仕様相当馬力数-期間成績係数（APFp）標準規格による評価JISB8627:2015 | I24: =H24&AB24 -> ガスヒートポンプ寒冷地仕様相当馬力数-期間成績係数（APFp）標準規格による評価JISB8627:2015JISB8627:2015 | K24: S-001019 | L24: 空調機（ヒートポンプ・個別方式） | M24: ガスヒートポンプ | N24: 室外機内のコンプレッサの駆動をガスエンジンで行うヒートポンプ方式の空気調和機。 | O24: 寒冷地仕様 | P24: 相当馬力数 | Q24: 16HP超25HP以下 | R24: 通常申請または簡易申請 | S24: Oriented | T24: 2.19 | V24: - | W24: 期間成績係数（APFp） | X24: 標準規格による評価 | Y24: JISB8627:2015 | Z24: ガスヒートポンプ冷暖房機 | AA24: JISB8627:2015に準拠 | AB24: JISB8627:2015 | AC24: ガスヒートポンプ冷暖房機 | AD24: JISB8627:2015に準拠
B25: =VLOOKUP(K25,[5]水準表DB!$E$8:$H$1510,4,FALSE) -> A | C25: =M25 -> ガスヒートポンプ | D25: =M25&O25 -> ガスヒートポンプ寒冷地仕様 | E25: =D25&P25 -> ガスヒートポンプ寒冷地仕様相当馬力数 | F25: =E25&V25&W25 -> ガスヒートポンプ寒冷地仕様相当馬力数-期間成績係数（APFp） | G25: =F25&X25 -> ガスヒートポンプ寒冷地仕様相当馬力数-期間成績係数（APFp）標準規格による評価 | H25: =G25&Y25 -> ガスヒートポンプ寒冷地仕様相当馬力数-期間成績係数（APFp）標準規格による評価JISB8627:2015 | I25: =H25&AB25 -> ガスヒートポンプ寒冷地仕様相当馬力数-期間成績係数（APFp）標準規格による評価JISB8627:2015JISB8627:2015 | K25: S-001020 | L25: 空調機（ヒートポンプ・個別方式） | M25: ガスヒートポンプ | N25: 室外機内のコンプレッサの駆動をガスエンジンで行うヒートポンプ方式の空気調和機。 | O25: 寒冷地仕様 | P25: 相当馬力数 | Q25: 25HP超 | R25: 通常申請または簡易申請 | S25: Oriented | T25: 2.12 | V25: - | W25: 期間成績係数（APFp） | X25: 標準規格による評価 | Y25: JISB8627:2015 | Z25: ガスヒートポンプ冷暖房機 | AA25: JISB8627:2015に準拠 | AB25: JISB8627:2015 | AC25: ガスヒートポンプ冷暖房機 | AD25: JISB8627:2015に準拠
B26: =VLOOKUP(K26,[5]水準表DB!$E$8:$H$1510,4,FALSE) -> A | C26: =M26 -> ガスヒートポンプ | D26: =M26&O26 -> ガスヒートポンプ発電機付 | E26: =D26&P26 -> ガスヒートポンプ発電機付相当馬力数 | F26: =E26&V26&W26 -> ガスヒートポンプ発電機付相当馬力数-COPp | G26: =F26&X26 -> ガスヒートポンプ発電機付相当馬力数-COPp標準規格による評価 | H26: =G26&Y26 -> ガスヒートポンプ発電機付相当馬力数-COPp標準規格による評価- | I26: =H26&AB26 -> ガスヒートポンプ発電機付相当馬力数-COPp標準規格による評価-JRA4067:2015またはJISB8627:2006 | K26: S-001021 | L26: 空調機（ヒートポンプ・個別方式） | M26: ガスヒートポンプ | N26: 室外機内のコンプレッサの駆動をガスエンジンで行うヒートポンプ方式の空気調和機。 | O26: 発電機付 | P26: 相当馬力数 | Q26: 7.5HP以下 | R26: 特別申請 | S26: Oriented | T26: - | V26: - | W26: COPp | X26: 標準規格による評価 | Y26: - | Z26: - | AA26: COPp=（Ccr＋Chr）/2 Ccr=Φcr/(Gcr+Pcr/(3600/9760))、Chr=Φhr/(Ghr+Phr/(3600/9760)) Ccr：冷房成績係数 Chr：暖房成績係数 Φcr：定格冷房標準能力(kW） Φhr：定格暖房標準能力(kW） Gcr：定格冷房標準ガス消費量(kW） Ghr：定格暖房標準ガス消費量(kW） Pcr：定格冷房標準消費電力(kW） Phr：定格暖房標準消費電力(kW） ※COPpは、小数点3桁目を切捨て、小数点2桁目までを表示する。 | AB26: JRA4067:2015またはJISB8627:2006 | AC26: いずれもガスヒートポンプ冷暖房機 | AD26: JRA4067:2015またはJISB8627:2006に準拠。ただし、電源の周波数は、50Hzとする。
B27: =VLOOKUP(K27,[5]水準表DB!$E$8:$H$1510,4,FALSE) -> A | C27: =M27 -> ガスヒートポンプ | D27: =M27&O27 -> ガスヒートポンプ発電機付 | E27: =D27&P27 -> ガスヒートポンプ発電機付相当馬力数 | F27: =E27&V27&W27 -> ガスヒートポンプ発電機付相当馬力数-COPp | G27: =F27&X27 -> ガスヒートポンプ発電機付相当馬力数-COPp標準規格による評価 | H27: =G27&Y27 -> ガスヒートポンプ発電機付相当馬力数-COPp標準規格による評価- | I27: =H27&AB27 -> ガスヒートポンプ発電機付相当馬力数-COPp標準規格による評価-JRA4067:2015またはJISB8627:2006 | K27: S-001022 | L27: 空調機（ヒートポンプ・個別方式） | M27: ガスヒートポンプ | N27: 室外機内のコンプレッサの駆動をガスエンジンで行うヒートポンプ方式の空気調和機。 | O27: 発電機付 | P27: 相当馬力数 | Q27: 7.5HP超10HP以下 | R27: 特別申請 | S27: Oriented | T27: - | V27: - | W27: COPp | X27: 標準規格による評価 | Y27: - | Z27: - | AA27: COPp=（Ccr＋Chr）/2 Ccr=Φcr/(Gcr+Pcr/(3600/9760))、Chr=Φhr/(Ghr+Phr/(3600/9760)) Ccr：冷房成績係数 Chr：暖房成績係数 Φcr：定格冷房標準能力(kW） Φhr：定格暖房標準能力(kW） Gcr：定格冷房標準ガス消費量(kW） Ghr：定格暖房標準ガス消費量(kW） Pcr：定格冷房標準消費電力(kW） Phr：定格暖房標準消費電力(kW） ※COPpは、小数点3桁目を切捨て、小数点2桁目までを表示する。 | AB27: JRA4067:2015またはJISB8627:2006 | AC27: いずれもガスヒートポンプ冷暖房機 | AD27: JRA4067:2015またはJISB8627:2006に準拠。ただし、電源の周波数は、50Hzとする。
B28: =VLOOKUP(K28,[5]水準表DB!$E$8:$H$1510,4,FALSE) -> A | C28: =M28 -> ガスヒートポンプ | D28: =M28&O28 -> ガスヒートポンプ発電機付 | E28: =D28&P28 -> ガスヒートポンプ発電機付相当馬力数 | F28: =E28&V28&W28 -> ガスヒートポンプ発電機付相当馬力数-COPp | G28: =F28&X28 -> ガスヒートポンプ発電機付相当馬力数-COPp標準規格による評価 | H28: =G28&Y28 -> ガスヒートポンプ発電機付相当馬力数-COPp標準規格による評価- | I28: =H28&AB28 -> ガスヒートポンプ発電機付相当馬力数-COPp標準規格による評価-JRA4067:2015またはJISB8627:2006 | K28: S-001023 | L28: 空調機（ヒートポンプ・個別方式） | M28: ガスヒートポンプ | N28: 室外機内のコンプレッサの駆動をガスエンジンで行うヒートポンプ方式の空気調和機。 | O28: 発電機付 | P28: 相当馬力数 | Q28: 10HP超16HP以下 | R28: 通常申請 | S28: Oriented | T28: 1.34 | V28: - | W28: COPp | X28: 標準規格による評価 | Y28: - | Z28: - | AA28: COPp=（Ccr＋Chr）/2 Ccr=Φcr/(Gcr+Pcr/(3600/9760))、Chr=Φhr/(Ghr+Phr/(3600/9760)) Ccr：冷房成績係数 Chr：暖房成績係数 Φcr：定格冷房標準能力(kW） Φhr：定格暖房標準能力(kW） Gcr：定格冷房標準ガス消費量(kW） Ghr：定格暖房標準ガス消費量(kW） Pcr：定格冷房標準消費電力(kW） Phr：定格暖房標準消費電力(kW） ※COPpは、小数点3桁目を切捨て、小数点2桁目までを表示する。 | AB28: JRA4067:2015またはJISB8627:2006 | AC28: いずれもガスヒートポンプ冷暖房機 | AD28: JRA4067:2015またはJISB8627:2006に準拠。ただし、電源の周波数は、50Hzとする。
B29: =VLOOKUP(K29,[5]水準表DB!$E$8:$H$1510,4,FALSE) -> A | C29: =M29 -> ガスヒートポンプ | D29: =M29&O29 -> ガスヒートポンプ発電機付 | E29: =D29&P29 -> ガスヒートポンプ発電機付相当馬力数 | F29: =E29&V29&W29 -> ガスヒートポンプ発電機付相当馬力数-COPp | G29: =F29&X29 -> ガスヒートポンプ発電機付相当馬力数-COPp標準規格による評価 | H29: =G29&Y29 -> ガスヒートポンプ発電機付相当馬力数-COPp標準規格による評価- | I29: =H29&AB29 -> ガスヒートポンプ発電機付相当馬力数-COPp標準規格による評価-JRA4067:2015またはJISB8627:2006 | K29: S-001024 | L29: 空調機（ヒートポンプ・個別方式） | M29: ガスヒートポンプ | N29: 室外機内のコンプレッサの駆動をガスエンジンで行うヒートポンプ方式の空気調和機。 | O29: 発電機付 | P29: 相当馬力数 | Q29: 16HP超25HP以下 | R29: 通常申請 | S29: Oriented | T29: 1.38 | V29: - | W29: COPp | X29: 標準規格による評価 | Y29: - | Z29: - | AA29: COPp=（Ccr＋Chr）/2 Ccr=Φcr/(Gcr+Pcr/(3600/9760))、Chr=Φhr/(Ghr+Phr/(3600/9760)) Ccr：冷房成績係数 Chr：暖房成績係数 Φcr：定格冷房標準能力(kW） Φhr：定格暖房標準能力(kW） Gcr：定格冷房標準ガス消費量(kW） Ghr：定格暖房標準ガス消費量(kW） Pcr：定格冷房標準消費電力(kW） Phr：定格暖房標準消費電力(kW） ※COPpは、小数点3桁目を切捨て、小数点2桁目までを表示する。 | AB29: JRA4067:2015またはJISB8627:2006 | AC29: いずれもガスヒートポンプ冷暖房機 | AD29: JRA4067:2015またはJISB8627:2006に準拠。ただし、電源の周波数は、50Hzとする。
B30: =VLOOKUP(K30,[5]水準表DB!$E$8:$H$1510,4,FALSE) -> A | C30: =M30 -> ガスヒートポンプ | D30: =M30&O30 -> ガスヒートポンプ発電機付 | E30: =D30&P30 -> ガスヒートポンプ発電機付相当馬力数 | F30: =E30&V30&W30 -> ガスヒートポンプ発電機付相当馬力数-COPp | G30: =F30&X30 -> ガスヒートポンプ発電機付相当馬力数-COPp標準規格による評価 | H30: =G30&Y30 -> ガスヒートポンプ発電機付相当馬力数-COPp標準規格による評価- | I30: =H30&AB30 -> ガスヒートポンプ発電機付相当馬力数-COPp標準規格による評価-JRA4067:2015またはJISB8627:2006 | K30: S-001025 | L30: 空調機（ヒートポンプ・個別方式） | M30: ガスヒートポンプ | N30: 室外機内のコンプレッサの駆動をガスエンジンで行うヒートポンプ方式の空気調和機。 | O30: 発電機付 | P30: 相当馬力数 | Q30: 25HP超 | R30: 通常申請 | S30: Oriented | T30: 1.27 | V30: - | W30: COPp | X30: 標準規格による評価 | Y30: - | Z30: - | AA30: COPp=（Ccr＋Chr）/2 Ccr=Φcr/(Gcr+Pcr/(3600/9760))、Chr=Φhr/(Ghr+Phr/(3600/9760)) Ccr：冷房成績係数 Chr：暖房成績係数 Φcr：定格冷房標準能力(kW） Φhr：定格暖房標準能力(kW） Gcr：定格冷房標準ガス消費量(kW） Ghr：定格暖房標準ガス消費量(kW） Pcr：定格冷房標準消費電力(kW） Phr：定格暖房標準消費電力(kW） ※COPpは、小数点3桁目を切捨て、小数点2桁目までを表示する。 | AB30: JRA4067:2015またはJISB8627:2006 | AC30: いずれもガスヒートポンプ冷暖房機 | AD30: JRA4067:2015またはJISB8627:2006に準拠。ただし、電源の周波数は、50Hzとする。
B31: =VLOOKUP(K31,[5]水準表DB!$E$8:$H$1510,4,FALSE) -> A | C31: =M31 -> ガスヒートポンプ | D31: =M31&O31 -> ガスヒートポンプ発電機付 | E31: =D31&P31 -> ガスヒートポンプ発電機付相当馬力数 | F31: =E31&V31&W31 -> ガスヒートポンプ発電機付相当馬力数-期間成績係数（APFp） | G31: =F31&X31 -> ガスヒートポンプ発電機付相当馬力数-期間成績係数（APFp）標準規格による評価 | H31: =G31&Y31 -> ガスヒートポンプ発電機付相当馬力数-期間成績係数（APFp）標準規格による評価JISB8627:2015 | I31: =H31&AB31 -> ガスヒートポンプ発電機付相当馬力数-期間成績係数（APFp）標準規格による評価JISB8627:2015JISB8627:2015 | K31: S-001026 | L31: 空調機（ヒートポンプ・個別方式） | M31: ガスヒートポンプ | N31: 室外機内のコンプレッサの駆動をガスエンジンで行うヒートポンプ方式の空気調和機。 | O31: 発電機付 | P31: 相当馬力数 | Q31: 7.5HP以下 | R31: 特別申請 | S31: Oriented | T31: - | V31: - | W31: 期間成績係数（APFp） | X31: 標準規格による評価 | Y31: JISB8627:2015 | Z31: ガスヒートポンプ冷暖房機 | AA31: JISB8627:2015に準拠 | AB31: JISB8627:2015 | AC31: ガスヒートポンプ冷暖房機 | AD31: JISB8627:2015に準拠
B32: =VLOOKUP(K32,[5]水準表DB!$E$8:$H$1510,4,FALSE) -> A | C32: =M32 -> ガスヒートポンプ | D32: =M32&O32 -> ガスヒートポンプ発電機付 | E32: =D32&P32 -> ガスヒートポンプ発電機付相当馬力数 | F32: =E32&V32&W32 -> ガスヒートポンプ発電機付相当馬力数-期間成績係数（APFp） | G32: =F32&X32 -> ガスヒートポンプ発電機付相当馬力数-期間成績係数（APFp）標準規格による評価 | H32: =G32&Y32 -> ガスヒートポンプ発電機付相当馬力数-期間成績係数（APFp）標準規格による評価JISB8627:2015 | I32: =H32&AB32 -> ガスヒートポンプ発電機付相当馬力数-期間成績係数（APFp）標準規格による評価JISB8627:2015JISB8627:2015 | K32: S-001027 | L32: 空調機（ヒートポンプ・個別方式） | M32: ガスヒートポンプ | N32: 室外機内のコンプレッサの駆動をガスエンジンで行うヒートポンプ方式の空気調和機。 | O32: 発電機付 | P32: 相当馬力数 | Q32: 7.5HP超10HP以下 | R32: 特別申請 | S32: Oriented | T32: - | V32: - | W32: 期間成績係数（APFp） | X32: 標準規格による評価 | Y32: JISB8627:2015 | Z32: ガスヒートポンプ冷暖房機 | AA32: JISB8627:2015に準拠 | AB32: JISB8627:2015 | AC32: ガスヒートポンプ冷暖房機 | AD32: JISB8627:2015に準拠
B33: =VLOOKUP(K33,[5]水準表DB!$E$8:$H$1510,4,FALSE) -> A | C33: =M33 -> ガスヒートポンプ | D33: =M33&O33 -> ガスヒートポンプ発電機付 | E33: =D33&P33 -> ガスヒートポンプ発電機付相当馬力数 | F33: =E33&V33&W33 -> ガスヒートポンプ発電機付相当馬力数-期間成績係数（APFp） | G33: =F33&X33 -> ガスヒートポンプ発電機付相当馬力数-期間成績係数（APFp）標準規格による評価 | H33: =G33&Y33 -> ガスヒートポンプ発電機付相当馬力数-期間成績係数（APFp）標準規格による評価JISB8627:2015 | I33: =H33&AB33 -> ガスヒートポンプ発電機付相当馬力数-期間成績係数（APFp）標準規格による評価JISB8627:2015JISB8627:2015 | K33: S-001028 | L33: 空調機（ヒートポンプ・個別方式） | M33: ガスヒートポンプ | N33: 室外機内のコンプレッサの駆動をガスエンジンで行うヒートポンプ方式の空気調和機。 | O33: 発電機付 | P33: 相当馬力数 | Q33: 10HP超16HP以下 | R33: 通常申請 | S33: Oriented | T33: 2.09 | V33: - | W33: 期間成績係数（APFp） | X33: 標準規格による評価 | Y33: JISB8627:2015 | Z33: ガスヒートポンプ冷暖房機 | AA33: JISB8627:2015に準拠 | AB33: JISB8627:2015 | AC33: ガスヒートポンプ冷暖房機 | AD33: JISB8627:2015に準拠
B34: =VLOOKUP(K34,[5]水準表DB!$E$8:$H$1510,4,FALSE) -> A | C34: =M34 -> ガスヒートポンプ | D34: =M34&O34 -> ガスヒートポンプ発電機付 | E34: =D34&P34 -> ガスヒートポンプ発電機付相当馬力数 | F34: =E34&V34&W34 -> ガスヒートポンプ発電機付相当馬力数-期間成績係数（APFp） | G34: =F34&X34 -> ガスヒートポンプ発電機付相当馬力数-期間成績係数（APFp）標準規格による評価 | H34: =G34&Y34 -> ガスヒートポンプ発電機付相当馬力数-期間成績係数（APFp）標準規格による評価JISB8627:2015 | I34: =H34&AB34 -> ガスヒートポンプ発電機付相当馬力数-期間成績係数（APFp）標準規格による評価JISB8627:2015JISB8627:2015 | K34: S-001029 | L34: 空調機（ヒートポンプ・個別方式） | M34: ガスヒートポンプ | N34: 室外機内のコンプレッサの駆動をガスエンジンで行うヒートポンプ方式の空気調和機。 | O34: 発電機付 | P34: 相当馬力数 | Q34: 16HP超25HP以下 | R34: 通常申請または簡易申請 | S34: Oriented | T34: 2.09 | V34: - | W34: 期間成績係数（APFp） | X34: 標準規格による評価 | Y34: JISB8627:2015 | Z34: ガスヒートポンプ冷暖房機 | AA34: JISB8627:2015に準拠 | AB34: JISB8627:2015 | AC34: ガスヒートポンプ冷暖房機 | AD34: JISB8627:2015に準拠
B35: =VLOOKUP(K35,[5]水準表DB!$E$8:$H$1510,4,FALSE) -> A | C35: =M35 -> ガスヒートポンプ | D35: =M35&O35 -> ガスヒートポンプ発電機付 | E35: =D35&P35 -> ガスヒートポンプ発電機付相当馬力数 | F35: =E35&V35&W35 -> ガスヒートポンプ発電機付相当馬力数-期間成績係数（APFp） | G35: =F35&X35 -> ガスヒートポンプ発電機付相当馬力数-期間成績係数（APFp）標準規格による評価 | H35: =G35&Y35 -> ガスヒートポンプ発電機付相当馬力数-期間成績係数（APFp）標準規格による評価JISB8627:2015 | I35: =H35&AB35 -> ガスヒートポンプ発電機付相当馬力数-期間成績係数（APFp）標準規格による評価JISB8627:2015JISB8627:2015 | K35: S-001030 | L35: 空調機（ヒートポンプ・個別方式） | M35: ガスヒートポンプ | N35: 室外機内のコンプレッサの駆動をガスエンジンで行うヒートポンプ方式の空気調和機。 | O35: 発電機付 | P35: 相当馬力数 | Q35: 25HP超 | R35: 通常申請 | S35: Oriented | T35: 1.91 | V35: - | W35: 期間成績係数（APFp） | X35: 標準規格による評価 | Y35: JISB8627:2015 | Z35: ガスヒートポンプ冷暖房機 | AA35: JISB8627:2015に準拠 | AB35: JISB8627:2015 | AC35: ガスヒートポンプ冷暖房機 | AD35: JISB8627:2015に準拠
B36: =VLOOKUP(K36,[5]水準表DB!$E$8:$H$1510,4,FALSE) -> A | C36: =M36 -> パッケージエアコン（店舗･オフィス用） | D36: =M36&O36 -> パッケージエアコン（店舗･オフィス用）- | E36: =D36&P36 -> パッケージエアコン（店舗･オフィス用）-冷房能力 | F36: =E36&V36&W36 -> パッケージエアコン（店舗･オフィス用）-冷房能力-- | G36: =F36&X36 -> パッケージエアコン（店舗･オフィス用）-冷房能力--- | H36: =G36&Y36 -> パッケージエアコン（店舗･オフィス用）-冷房能力---- | I36: =H36&AB36 -> パッケージエアコン（店舗･オフィス用）-冷房能力----- | K36: S-002001 | L36: 空調機（ヒートポンプ・個別方式） | M36: パッケージエアコン（店舗･オフィス用） | N36: 電動圧縮機を用いるヒートポンプ式の空気調和機で、冷房能力が4～28kW程度。主に店舗･オフィス向け。 | O36: - | P36: 冷房能力 | Q36: - | R36: （トップランナー制度規定のため）申請対象外 | T36: - | V36: - | W36: - | X36: - | Y36: - | Z36: - | AA36: - | AB36: - | AC36: - | AD36: -
B37: =VLOOKUP(K37,[5]水準表DB!$E$8:$H$1510,4,FALSE) -> A | C37: =M37 -> パッケージエアコン（設備用） | D37: =M37&O37 -> パッケージエアコン（設備用）- | E37: =D37&P37 -> パッケージエアコン（設備用）-冷房能力 | F37: =E37&V37&W37 -> パッケージエアコン（設備用）-冷房能力-- | G37: =F37&X37 -> パッケージエアコン（設備用）-冷房能力--- | H37: =G37&Y37 -> パッケージエアコン（設備用）-冷房能力---- | I37: =H37&AB37 -> パッケージエアコン（設備用）-冷房能力----- | K37: S-003001 | L37: 空調機（ヒートポンプ・個別方式） | M37: パッケージエアコン（設備用） | N37: 電動圧縮機を用いるヒートポンプ式の空気調和機で、冷房能力が9～140kW程度。主に工場向け。 | O37: - | P37: 冷房能力 | Q37: 28kW以下 | R37: （トップランナー制度規定のため）申請対象外 | T37: - | V37: - | W37: - | X37: - | Y37: - | Z37: - | AA37: - | AB37: - | AC37: - | AD37: -
B38: =VLOOKUP(K38,[5]水準表DB!$E$8:$H$1510,4,FALSE) -> A | C38: =M38 -> パッケージエアコン（設備用） | D38: =M38&O38 -> パッケージエアコン（設備用）- | E38: =D38&P38 -> パッケージエアコン（設備用）-冷房能力 | F38: =E38&V38&W38 -> パッケージエアコン（設備用）-冷房能力-通年エネルギー消費効率（APF） | G38: =F38&X38 -> パッケージエアコン（設備用）-冷房能力-通年エネルギー消費効率（APF）標準規格による評価 | H38: =G38&Y38 -> パッケージエアコン（設備用）-冷房能力-通年エネルギー消費効率（APF）標準規格による評価JISB8616:2015 | I38: =H38&AB38 -> パッケージエアコン（設備用）-冷房能力-通年エネルギー消費効率（APF）標準規格による評価JISB8616:2015JISB8616:2015 | K38: S-003002 | L38: 空調機（ヒートポンプ・個別方式） | M38: パッケージエアコン（設備用） | N38: 電動圧縮機を用いるヒートポンプ式の空気調和機で、冷房能力が9～140kW程度。主に工場向け。 | O38: - | P38: 冷房能力 | Q38: 28kW超 45kW以下 | R38: 通常申請または簡易申請 | T38: 4.2 | V38: - | W38: 通年エネルギー消費効率（APF） | X38: 標準規格による評価 | Y38: JISB8616:2015 | Z38: パッケージエアコンディショナ | AA38: JISB8616:2015に準拠 | AB38: JISB8616:2015 | AC38: パッケージエアコンディショナ | AD38: JISB8616:2015に準拠
B39: =VLOOKUP(K39,[5]水準表DB!$E$8:$H$1510,4,FALSE) -> A | C39: =M39 -> パッケージエアコン（設備用） | D39: =M39&O39 -> パッケージエアコン（設備用）- | E39: =D39&P39 -> パッケージエアコン（設備用）-冷房能力 | F39: =E39&V39&W39 -> パッケージエアコン（設備用）-冷房能力-通年エネルギー消費効率（APF） | G39: =F39&X39 -> パッケージエアコン（設備用）-冷房能力-通年エネルギー消費効率（APF）標準規格による評価 | H39: =G39&Y39 -> パッケージエアコン（設備用）-冷房能力-通年エネルギー消費効率（APF）標準規格による評価JISB8616:2015 | I39: =H39&AB39 -> パッケージエアコン（設備用）-冷房能力-通年エネルギー消費効率（APF）標準規格による評価JISB8616:2015JISB8616:2015 | K39: S-003003 | L39: 空調機（ヒートポンプ・個別方式） | M39: パッケージエアコン（設備用） | N39: 電動圧縮機を用いるヒートポンプ式の空気調和機で、冷房能力が9～140kW程度。主に工場向け。 | O39: - | P39: 冷房能力 | Q39: 45kW超 56kW以下 | R39: 通常申請 | T39: 4.3 | V39: - | W39: 通年エネルギー消費効率（APF） | X39: 標準規格による評価 | Y39: JISB8616:2015 | Z39: パッケージエアコンディショナ | AA39: JISB8616:2015に準拠 | AB39: JISB8616:2015 | AC39: パッケージエアコンディショナ | AD39: JISB8616:2015に準拠
B40: =VLOOKUP(K40,[5]水準表DB!$E$8:$H$1510,4,FALSE) -> A | C40: =M40 -> パッケージエアコン（設備用） | D40: =M40&O40 -> パッケージエアコン（設備用）- | E40: =D40&P40 -> パッケージエアコン（設備用）-冷房能力 | F40: =E40&V40&W40 -> パッケージエアコン（設備用）-冷房能力-通年エネルギー消費効率（APF） | G40: =F40&X40 -> パッケージエアコン（設備用）-冷房能力-通年エネルギー消費効率（APF）標準規格による評価 | H40: =G40&Y40 -> パッケージエアコン（設備用）-冷房能力-通年エネルギー消費効率（APF）標準規格による評価JISB8616:2015 | I40: =H40&AB40 -> パッケージエアコン（設備用）-冷房能力-通年エネルギー消費効率（APF）標準規格による評価JISB8616:2015JISB8616:2015 | K40: S-003004 | L40: 空調機（ヒートポンプ・個別方式） | M40: パッケージエアコン（設備用） | N40: 電動圧縮機を用いるヒートポンプ式の空気調和機で、冷房能力が9～140kW程度。主に工場向け。 | O40: - | P40: 冷房能力 | Q40: 56kW超 80kW以下 | R40: 通常申請 | T40: 4 | V40: - | W40: 通年エネルギー消費効率（APF） | X40: 標準規格による評価 | Y40: JISB8616:2015 | Z40: パッケージエアコンディショナ | AA40: JISB8616:2015に準拠 | AB40: JISB8616:2015 | AC40: パッケージエアコンディショナ | AD40: JISB8616:2015に準拠
B41: =VLOOKUP(K41,[5]水準表DB!$E$8:$H$1510,4,FALSE) -> A | C41: =M41 -> パッケージエアコン（設備用） | D41: =M41&O41 -> パッケージエアコン（設備用）- | E41: =D41&P41 -> パッケージエアコン（設備用）-冷房能力 | F41: =E41&V41&W41 -> パッケージエアコン（設備用）-冷房能力-通年エネルギー消費効率（APF） | G41: =F41&X41 -> パッケージエアコン（設備用）-冷房能力-通年エネルギー消費効率（APF）標準規格による評価 | H41: =G41&Y41 -> パッケージエアコン（設備用）-冷房能力-通年エネルギー消費効率（APF）標準規格による評価JISB8616:2015 | I41: =H41&AB41 -> パッケージエアコン（設備用）-冷房能力-通年エネルギー消費効率（APF）標準規格による評価JISB8616:2015JISB8616:2015 | K41: S-003005 | L41: 空調機（ヒートポンプ・個別方式） | M41: パッケージエアコン（設備用） | N41: 電動圧縮機を用いるヒートポンプ式の空気調和機で、冷房能力が9～140kW程度。主に工場向け。 | O41: - | P41: 冷房能力 | Q41: 80kW超 112kW以下 | R41: 通常申請 | T41: 3.7 | V41: - | W41: 通年エネルギー消費効率（APF） | X41: 標準規格による評価 | Y41: JISB8616:2015 | Z41: パッケージエアコンディショナ | AA41: JISB8616:2015に準拠 | AB41: JISB8616:2015 | AC41: パッケージエアコンディショナ | AD41: JISB8616:2015に準拠
B42: =VLOOKUP(K42,[5]水準表DB!$E$8:$H$1510,4,FALSE) -> A | C42: =M42 -> パッケージエアコン（設備用） | D42: =M42&O42 -> パッケージエアコン（設備用）- | E42: =D42&P42 -> パッケージエアコン（設備用）-冷房能力 | F42: =E42&V42&W42 -> パッケージエアコン（設備用）-冷房能力-通年エネルギー消費効率（APF） | G42: =F42&X42 -> パッケージエアコン（設備用）-冷房能力-通年エネルギー消費効率（APF）標準規格による評価 | H42: =G42&Y42 -> パッケージエアコン（設備用）-冷房能力-通年エネルギー消費効率（APF）標準規格による評価JISB8616:2015 | I42: =H42&AB42 -> パッケージエアコン（設備用）-冷房能力-通年エネルギー消費効率（APF）標準規格による評価JISB8616:2015JISB8616:2015 | K42: S-003006 | L42: 空調機（ヒートポンプ・個別方式） | M42: パッケージエアコン（設備用） | N42: 電動圧縮機を用いるヒートポンプ式の空気調和機で、冷房能力が9～140kW程度。主に工場向け。 | O42: - | P42: 冷房能力 | Q42: 112kW超 140kW以下 | R42: 通常申請 | T42: 3.8 | V42: - | W42: 通年エネルギー消費効率（APF） | X42: 標準規格による評価 | Y42: JISB8616:2015 | Z42: パッケージエアコンディショナ | AA42: JISB8616:2015に準拠 | AB42: JISB8616:2015 | AC42: パッケージエアコンディショナ | AD42: JISB8616:2015に準拠
B43: =VLOOKUP(K43,[5]水準表DB!$E$8:$H$1510,4,FALSE) -> A | C43: =M43 -> パッケージエアコン（設備用） | D43: =M43&O43 -> パッケージエアコン（設備用）- | E43: =D43&P43 -> パッケージエアコン（設備用）-冷房能力 | F43: =E43&V43&W43 -> パッケージエアコン（設備用）-冷房能力-通年エネルギー消費効率（APF） | G43: =F43&X43 -> パッケージエアコン（設備用）-冷房能力-通年エネルギー消費効率（APF）標準規格による評価 | H43: =G43&Y43 -> パッケージエアコン（設備用）-冷房能力-通年エネルギー消費効率（APF）標準規格による評価JISB8616:2015 | I43: =H43&AB43 -> パッケージエアコン（設備用）-冷房能力-通年エネルギー消費効率（APF）標準規格による評価JISB8616:2015JISB8616:2015 | K43: S-003007 | L43: 空調機（ヒートポンプ・個別方式） | M43: パッケージエアコン（設備用） | N43: 電動圧縮機を用いるヒートポンプ式の空気調和機で、冷房能力が9～140kW程度。主に工場向け。 | O43: - | P43: 冷房能力 | Q43: 140kW超 | R43: 通常申請または簡易申請 | T43: 3.6 | V43: - | W43: 通年エネルギー消費効率（APF） | X43: 標準規格による評価 | Y43: JISB8616:2015 | Z43: パッケージエアコンディショナ | AA43: JISB8616:2015に準拠 | AB43: JISB8616:2015 | AC43: パッケージエアコンディショナ | AD43: JISB8616:2015に準拠
B44: =VLOOKUP(K44,[5]水準表DB!$E$8:$H$1510,4,FALSE) -> A | C44: =M44 -> パッケージエアコン（設備用） | D44: =M44&O44 -> パッケージエアコン（設備用）排熱利用型 | E44: =D44&P44 -> パッケージエアコン（設備用）排熱利用型冷房能力 | F44: =E44&V44&W44 -> パッケージエアコン（設備用）排熱利用型冷房能力-成績係数（COP） | G44: =F44&X44 -> パッケージエアコン（設備用）排熱利用型冷房能力-成績係数（COP）標準規格による評価 | H44: =G44&Y44 -> パッケージエアコン（設備用）排熱利用型冷房能力-成績係数（COP）標準規格による評価JISB8615-2 | I44: =H44&AB44 -> パッケージエアコン（設備用）排熱利用型冷房能力-成績係数（COP）標準規格による評価JISB8615-2JISB8615-2 | K44: S-003008 | L44: 空調機（ヒートポンプ・個別方式） | M44: パッケージエアコン（設備用） | N44: 電動圧縮機を用いるヒートポンプ式の空気調和機で、冷房能力が9～140kW程度。主に工場向け。 | O44: 排熱利用型 | P44: 冷房能力 | Q44: 9.8kW | R44: 通常申請 | T44: 6.1 | V44: - | W44: 成績係数（COP） | X44: 標準規格による評価 | Y44: JISB8615-2 | Z44: エアコンディショナ－第２部：ダクト接続形エアコンディショナ及び空気対空気ヒートポンプ－定格性能及び運転性能試験方法 | AA44: JISB8615-2に準拠 | AB44: JISB8615-2 | AC44: エアコンディショナ－第２部：ダクト接続形エアコンディショナ及び空気対空気ヒートポンプ－定格性能及び運転性能試験方法 | AD44: JISB8615-2に準拠。ただし、ユニット吸込温度については55℃とする。
B45: =VLOOKUP(K45,[5]水準表DB!$E$8:$H$1510,4,FALSE) -> A | C45: =M45 -> パッケージエアコン（ビル用マルチ） | D45: =M45&O45 -> パッケージエアコン（ビル用マルチ）- | E45: =D45&P45 -> パッケージエアコン（ビル用マルチ）-冷房能力 | F45: =E45&V45&W45 -> パッケージエアコン（ビル用マルチ）-冷房能力-- | G45: =F45&X45 -> パッケージエアコン（ビル用マルチ）-冷房能力--- | H45: =G45&Y45 -> パッケージエアコン（ビル用マルチ）-冷房能力---- | I45: =H45&AB45 -> パッケージエアコン（ビル用マルチ）-冷房能力----- | K45: S-004001 | L45: 空調機（ヒートポンプ・個別方式） | M45: パッケージエアコン（ビル用マルチ） | N45: 電動圧縮機を用いるヒートポンプ式の空気調和機で、冷房能力が14～120kW程度。主にビル向け。室内機ごとの個別制御機能を持つ。 | O45: - | P45: 冷房能力 | Q45: 50.4kW以下 | R45: （トップランナー制度規定のため）申請対象外 | T45: - | V45: - | W45: - | X45: - | Y45: - | Z45: - | AA45: - | AB45: - | AC45: - | AD45: -
B46: =VLOOKUP(K46,[5]水準表DB!$E$8:$H$1510,4,FALSE) -> A | C46: =M46 -> パッケージエアコン（ビル用マルチ） | D46: =M46&O46 -> パッケージエアコン（ビル用マルチ）- | E46: =D46&P46 -> パッケージエアコン（ビル用マルチ）-冷房能力 | F46: =E46&V46&W46 -> パッケージエアコン（ビル用マルチ）-冷房能力-通年エネルギー消費効率（APF） | G46: =F46&X46 -> パッケージエアコン（ビル用マルチ）-冷房能力-通年エネルギー消費効率（APF）標準規格による評価 | H46: =G46&Y46 -> パッケージエアコン（ビル用マルチ）-冷房能力-通年エネルギー消費効率（APF）標準規格による評価JISB8616:2015 | I46: =H46&AB46 -> パッケージエアコン（ビル用マルチ）-冷房能力-通年エネルギー消費効率（APF）標準規格による評価JISB8616:2015JISB8616:2015 | K46: S-004006 | L46: 空調機（ヒートポンプ・個別方式） | M46: パッケージエアコン（ビル用マルチ） | N46: 電動圧縮機を用いるヒートポンプ式の空気調和機で、冷房能力が14～120kW程度。主にビル向け。室内機ごとの個別制御機能を持つ。 | O46: - | P46: 冷房能力 | Q46: 50.4kW超 56.0kW以下 | R46: 通常申請または簡易申請 | T46: 7.1 | V46: - | W46: 通年エネルギー消費効率（APF） | X46: 標準規格による評価 | Y46: JISB8616:2015 | Z46: パッケージエアコンディショナ | AA46: JISB8616:2015に準拠 | AB46: JISB8616:2015 | AC46: パッケージエアコンディショナ | AD46: JISB8616:2015に準拠
B47: =VLOOKUP(K47,[5]水準表DB!$E$8:$H$1510,4,FALSE) -> A | C47: =M47 -> パッケージエアコン（ビル用マルチ） | D47: =M47&O47 -> パッケージエアコン（ビル用マルチ）- | E47: =D47&P47 -> パッケージエアコン（ビル用マルチ）-冷房能力 | F47: =E47&V47&W47 -> パッケージエアコン（ビル用マルチ）-冷房能力-通年エネルギー消費効率（APF） | G47: =F47&X47 -> パッケージエアコン（ビル用マルチ）-冷房能力-通年エネルギー消費効率（APF）標準規格による評価 | H47: =G47&Y47 -> パッケージエアコン（ビル用マルチ）-冷房能力-通年エネルギー消費効率（APF）標準規格による評価JISB8616:2015 | I47: =H47&AB47 -> パッケージエアコン（ビル用マルチ）-冷房能力-通年エネルギー消費効率（APF）標準規格による評価JISB8616:2015JISB8616:2015 | K47: S-004002 | L47: 空調機（ヒートポンプ・個別方式） | M47: パッケージエアコン（ビル用マルチ） | N47: 電動圧縮機を用いるヒートポンプ式の空気調和機で、冷房能力が14～120kW程度。主にビル向け。室内機ごとの個別制御機能を持つ。 | O47: - | P47: 冷房能力 | Q47: 56.0kW超 69.0kW以下 | R47: 通常申請 | T47: 7.2 | V47: - | W47: 通年エネルギー消費効率（APF） | X47: 標準規格による評価 | Y47: JISB8616:2015 | Z47: パッケージエアコンディショナ | AA47: JISB8616:2015に準拠 | AB47: JISB8616:2015 | AC47: パッケージエアコンディショナ | AD47: JISB8616:2015に準拠
B48: =VLOOKUP(K48,[5]水準表DB!$E$8:$H$1510,4,FALSE) -> A | C48: =M48 -> パッケージエアコン（ビル用マルチ） | D48: =M48&O48 -> パッケージエアコン（ビル用マルチ）- | E48: =D48&P48 -> パッケージエアコン（ビル用マルチ）-冷房能力 | F48: =E48&V48&W48 -> パッケージエアコン（ビル用マルチ）-冷房能力-通年エネルギー消費効率（APF） | G48: =F48&X48 -> パッケージエアコン（ビル用マルチ）-冷房能力-通年エネルギー消費効率（APF）標準規格による評価 | H48: =G48&Y48 -> パッケージエアコン（ビル用マルチ）-冷房能力-通年エネルギー消費効率（APF）標準規格による評価JISB8616:2015 | I48: =H48&AB48 -> パッケージエアコン（ビル用マルチ）-冷房能力-通年エネルギー消費効率（APF）標準規格による評価JISB8616:2015JISB8616:2015 | K48: S-004003 | L48: 空調機（ヒートポンプ・個別方式） | M48: パッケージエアコン（ビル用マルチ） | N48: 電動圧縮機を用いるヒートポンプ式の空気調和機で、冷房能力が14～120kW程度。主にビル向け。室内機ごとの個別制御機能を持つ。 | O48: - | P48: 冷房能力 | Q48: 69.0kW超 80.0kW以下 | R48: 通常申請または簡易申請 | T48: 7.2 | V48: - | W48: 通年エネルギー消費効率（APF） | X48: 標準規格による評価 | Y48: JISB8616:2015 | Z48: パッケージエアコンディショナ | AA48: JISB8616:2015に準拠 | AB48: JISB8616:2015 | AC48: パッケージエアコンディショナ | AD48: JISB8616:2015に準拠
B49: =VLOOKUP(K49,[5]水準表DB!$E$8:$H$1510,4,FALSE) -> A | C49: =M49 -> パッケージエアコン（ビル用マルチ） | D49: =M49&O49 -> パッケージエアコン（ビル用マルチ）- | E49: =D49&P49 -> パッケージエアコン（ビル用マルチ）-冷房能力 | F49: =E49&V49&W49 -> パッケージエアコン（ビル用マルチ）-冷房能力-通年エネルギー消費効率（APF） | G49: =F49&X49 -> パッケージエアコン（ビル用マルチ）-冷房能力-通年エネルギー消費効率（APF）標準規格による評価 | H49: =G49&Y49 -> パッケージエアコン（ビル用マルチ）-冷房能力-通年エネルギー消費効率（APF）標準規格による評価JISB8616:2015 | I49: =H49&AB49 -> パッケージエアコン（ビル用マルチ）-冷房能力-通年エネルギー消費効率（APF）標準規格による評価JISB8616:2015JISB8616:2015 | K49: S-004004 | L49: 空調機（ヒートポンプ・個別方式） | M49: パッケージエアコン（ビル用マルチ） | N49: 電動圧縮機を用いるヒートポンプ式の空気調和機で、冷房能力が14～120kW程度。主にビル向け。室内機ごとの個別制御機能を持つ。 | O49: - | P49: 冷房能力 | Q49: 80.0kW超 90.0kW以下 | R49: 通常申請または簡易申請 | T49: 7.1 | V49: - | W49: 通年エネルギー消費効率（APF） | X49: 標準規格による評価 | Y49: JISB8616:2015 | Z49: パッケージエアコンディショナ | AA49: JISB8616:2015に準拠 | AB49: JISB8616:2015 | AC49: パッケージエアコンディショナ | AD49: JISB8616:2015に準拠
B50: =VLOOKUP(K50,[5]水準表DB!$E$8:$H$1510,4,FALSE) -> A | C50: =M50 -> パッケージエアコン（ビル用マルチ） | D50: =M50&O50 -> パッケージエアコン（ビル用マルチ）- | E50: =D50&P50 -> パッケージエアコン（ビル用マルチ）-冷房能力 | F50: =E50&V50&W50 -> パッケージエアコン（ビル用マルチ）-冷房能力-通年エネルギー消費効率（APF） | G50: =F50&X50 -> パッケージエアコン（ビル用マルチ）-冷房能力-通年エネルギー消費効率（APF）標準規格による評価 | H50: =G50&Y50 -> パッケージエアコン（ビル用マルチ）-冷房能力-通年エネルギー消費効率（APF）標準規格による評価JISB8616:2015 | I50: =H50&AB50 -> パッケージエアコン（ビル用マルチ）-冷房能力-通年エネルギー消費効率（APF）標準規格による評価JISB8616:2015JISB8616:2015 | K50: S-004005 | L50: 空調機（ヒートポンプ・個別方式） | M50: パッケージエアコン（ビル用マルチ） | N50: 電動圧縮機を用いるヒートポンプ式の空気調和機で、冷房能力が14～120kW程度。主にビル向け。室内機ごとの個別制御機能を持つ。 | O50: - | P50: 冷房能力 | Q50: 90.0kW超 | R50: 通常申請または簡易申請 | T50: 7.1 | V50: - | W50: 通年エネルギー消費効率（APF） | X50: 標準規格による評価 | Y50: JISB8616:2015 | Z50: パッケージエアコンディショナ | AA50: JISB8616:2015に準拠 | AB50: JISB8616:2015 | AC50: パッケージエアコンディショナ | AD50: JISB8616:2015に準拠
B51: =VLOOKUP(K51,[5]水準表DB!$E$8:$H$1510,4,FALSE) -> A | C51: =M51 -> 氷蓄熱式パッケージエアコン | D51: =M51&O51 -> 氷蓄熱式パッケージエアコン- | E51: =D51&P51 -> 氷蓄熱式パッケージエアコン-蓄熱利用冷房能力 | F51: =E51&V51&W51 -> 氷蓄熱式パッケージエアコン-蓄熱利用冷房能力-日量蓄熱利用冷房効率 | G51: =F51&X51 -> 氷蓄熱式パッケージエアコン-蓄熱利用冷房能力-日量蓄熱利用冷房効率標準規格による評価 | H51: =G51&Y51 -> 氷蓄熱式パッケージエアコン-蓄熱利用冷房能力-日量蓄熱利用冷房効率標準規格による評価JRA4053:2007 | I51: =H51&AB51 -> 氷蓄熱式パッケージエアコン-蓄熱利用冷房能力-日量蓄熱利用冷房効率標準規格による評価JRA4053:2007JRA4053:2007 | K51: S-005001 | L51: 空調機（ヒートポンプ・個別方式） | M51: 氷蓄熱式パッケージエアコン | N51: パッケージエアコンの室外ユニットと室内ユニットの間に氷蓄熱槽を持っており、夜間の冷房を使っていない時間帯に、氷蓄熱槽の熱交換器で氷を作り、昼間の冷房運転時には、室外ユニットを通った冷媒を氷蓄熱槽の熱交換器でさらに冷やしてから室内機に送ることによって利用する。2050年に向けた再生可能エネルギー発電の最大活用に資することが期待される。 | O51: - | P51: 蓄熱利用冷房能力 | Q51: 14.0kW以下 | R51: 通常申請または簡易申請 | T51: 3.64 | V51: - | W51: 日量蓄熱利用冷房効率 | X51: 標準規格による評価 | Y51: JRA4053:2007 | Z51: 氷蓄熱式パッケージエアコンディショナ | AA51: JRA4053:2007に準拠 | AB51: JRA4053:2007 | AC51: 氷蓄熱式パッケージエアコンディショナ | AD51: JRA4053:2007に準拠
B52: =VLOOKUP(K52,[5]水準表DB!$E$8:$H$1510,4,FALSE) -> A | C52: =M52 -> 氷蓄熱式パッケージエアコン | D52: =M52&O52 -> 氷蓄熱式パッケージエアコン- | E52: =D52&P52 -> 氷蓄熱式パッケージエアコン-蓄熱利用冷房能力 | F52: =E52&V52&W52 -> 氷蓄熱式パッケージエアコン-蓄熱利用冷房能力-日量蓄熱利用冷房効率 | G52: =F52&X52 -> 氷蓄熱式パッケージエアコン-蓄熱利用冷房能力-日量蓄熱利用冷房効率標準規格による評価 | H52: =G52&Y52 -> 氷蓄熱式パッケージエアコン-蓄熱利用冷房能力-日量蓄熱利用冷房効率標準規格による評価JRA4053:2007 | I52: =H52&AB52 -> 氷蓄熱式パッケージエアコン-蓄熱利用冷房能力-日量蓄熱利用冷房効率標準規格による評価JRA4053:2007JRA4053:2007 | K52: S-005002 | L52: 空調機（ヒートポンプ・個別方式） | M52: 氷蓄熱式パッケージエアコン | N52: パッケージエアコンの室外ユニットと室内ユニットの間に氷蓄熱槽を持っており、夜間の冷房を使っていない時間帯に、氷蓄熱槽の熱交換器で氷を作り、昼間の冷房運転時には、室外ユニットを通った冷媒を氷蓄熱槽の熱交換器でさらに冷やしてから室内機に送ることによって利用する。2050年に向けた再生可能エネルギー発電の最大活用に資することが期待される。 | O52: - | P52: 蓄熱利用冷房能力 | Q52: 14.0kW超16.0kW以下 | R52: 特別申請 | T52: - | V52: - | W52: 日量蓄熱利用冷房効率 | X52: 標準規格による評価 | Y52: JRA4053:2007 | Z52: 氷蓄熱式パッケージエアコンディショナ | AA52: JRA4053:2007に準拠 | AB52: JRA4053:2007 | AC52: 氷蓄熱式パッケージエアコンディショナ | AD52: JRA4053:2007に準拠
B53: =VLOOKUP(K53,[5]水準表DB!$E$8:$H$1510,4,FALSE) -> A | C53: =M53 -> 氷蓄熱式パッケージエアコン | D53: =M53&O53 -> 氷蓄熱式パッケージエアコン- | E53: =D53&P53 -> 氷蓄熱式パッケージエアコン-蓄熱利用冷房能力 | F53: =E53&V53&W53 -> 氷蓄熱式パッケージエアコン-蓄熱利用冷房能力-日量蓄熱利用冷房効率 | G53: =F53&X53 -> 氷蓄熱式パッケージエアコン-蓄熱利用冷房能力-日量蓄熱利用冷房効率標準規格による評価 | H53: =G53&Y53 -> 氷蓄熱式パッケージエアコン-蓄熱利用冷房能力-日量蓄熱利用冷房効率標準規格による評価JRA4053:2007 | I53: =H53&AB53 -> 氷蓄熱式パッケージエアコン-蓄熱利用冷房能力-日量蓄熱利用冷房効率標準規格による評価JRA4053:2007JRA4053:2007 | K53: S-005003 | L53: 空調機（ヒートポンプ・個別方式） | M53: 氷蓄熱式パッケージエアコン | N53: パッケージエアコンの室外ユニットと室内ユニットの間に氷蓄熱槽を持っており、夜間の冷房を使っていない時間帯に、氷蓄熱槽の熱交換器で氷を作り、昼間の冷房運転時には、室外ユニットを通った冷媒を氷蓄熱槽の熱交換器でさらに冷やしてから室内機に送ることによって利用する。2050年に向けた再生可能エネルギー発電の最大活用に資することが期待される。 | O53: - | P53: 蓄熱利用冷房能力 | Q53: 16.0kW超22.4kW以下 | R53: 特別申請 | T53: - | V53: - | W53: 日量蓄熱利用冷房効率 | X53: 標準規格による評価 | Y53: JRA4053:2007 | Z53: 氷蓄熱式パッケージエアコンディショナ | AA53: JRA4053:2007に準拠 | AB53: JRA4053:2007 | AC53: 氷蓄熱式パッケージエアコンディショナ | AD53: JRA4053:2007に準拠
B54: =VLOOKUP(K54,[5]水準表DB!$E$8:$H$1510,4,FALSE) -> A | C54: =M54 -> 氷蓄熱式パッケージエアコン | D54: =M54&O54 -> 氷蓄熱式パッケージエアコン- | E54: =D54&P54 -> 氷蓄熱式パッケージエアコン-蓄熱利用冷房能力 | F54: =E54&V54&W54 -> 氷蓄熱式パッケージエアコン-蓄熱利用冷房能力-日量蓄熱利用冷房効率 | G54: =F54&X54 -> 氷蓄熱式パッケージエアコン-蓄熱利用冷房能力-日量蓄熱利用冷房効率標準規格による評価 | H54: =G54&Y54 -> 氷蓄熱式パッケージエアコン-蓄熱利用冷房能力-日量蓄熱利用冷房効率標準規格による評価JRA4053:2007 | I54: =H54&AB54 -> 氷蓄熱式パッケージエアコン-蓄熱利用冷房能力-日量蓄熱利用冷房効率標準規格による評価JRA4053:2007JRA4053:2007 | K54: S-005004 | L54: 空調機（ヒートポンプ・個別方式） | M54: 氷蓄熱式パッケージエアコン | N54: パッケージエアコンの室外ユニットと室内ユニットの間に氷蓄熱槽を持っており、夜間の冷房を使っていない時間帯に、氷蓄熱槽の熱交換器で氷を作り、昼間の冷房運転時には、室外ユニットを通った冷媒を氷蓄熱槽の熱交換器でさらに冷やしてから室内機に送ることによって利用する。2050年に向けた再生可能エネルギー発電の最大活用に資することが期待される。 | O54: - | P54: 蓄熱利用冷房能力 | Q54: 22.4kW超28.0kW以下 | R54: 通常申請または簡易申請 | T54: 3.06 | V54: - | W54: 日量蓄熱利用冷房効率 | X54: 標準規格による評価 | Y54: JRA4053:2007 | Z54: 氷蓄熱式パッケージエアコンディショナ | AA54: JRA4053:2007に準拠 | AB54: JRA4053:2007 | AC54: 氷蓄熱式パッケージエアコンディショナ | AD54: JRA4053:2007に準拠
B55: =VLOOKUP(K55,[5]水準表DB!$E$8:$H$1510,4,FALSE) -> A | C55: =M55 -> 氷蓄熱式パッケージエアコン | D55: =M55&O55 -> 氷蓄熱式パッケージエアコン- | E55: =D55&P55 -> 氷蓄熱式パッケージエアコン-蓄熱利用冷房能力 | F55: =E55&V55&W55 -> 氷蓄熱式パッケージエアコン-蓄熱利用冷房能力-日量蓄熱利用冷房効率 | G55: =F55&X55 -> 氷蓄熱式パッケージエアコン-蓄熱利用冷房能力-日量蓄熱利用冷房効率標準規格による評価 | H55: =G55&Y55 -> 氷蓄熱式パッケージエアコン-蓄熱利用冷房能力-日量蓄熱利用冷房効率標準規格による評価JRA4053:2007 | I55: =H55&AB55 -> 氷蓄熱式パッケージエアコン-蓄熱利用冷房能力-日量蓄熱利用冷房効率標準規格による評価JRA4053:2007JRA4053:2007 | K55: S-005005 | L55: 空調機（ヒートポンプ・個別方式） | M55: 氷蓄熱式パッケージエアコン | N55: パッケージエアコンの室外ユニットと室内ユニットの間に氷蓄熱槽を持っており、夜間の冷房を使っていない時間帯に、氷蓄熱槽の熱交換器で氷を作り、昼間の冷房運転時には、室外ユニットを通った冷媒を氷蓄熱槽の熱交換器でさらに冷やしてから室内機に送ることによって利用する。2050年に向けた再生可能エネルギー発電の最大活用に資することが期待される。 | O55: - | P55: 蓄熱利用冷房能力 | Q55: 28.0kW超45.0kW以下 | R55: 通常申請または簡易申請 | T55: 3.19 | V55: - | W55: 日量蓄熱利用冷房効率 | X55: 標準規格による評価 | Y55: JRA4053:2007 | Z55: 氷蓄熱式パッケージエアコンディショナ | AA55: JRA4053:2007に準拠 | AB55: JRA4053:2007 | AC55: 氷蓄熱式パッケージエアコンディショナ | AD55: JRA4053:2007に準拠
B56: =VLOOKUP(K56,[5]水準表DB!$E$8:$H$1510,4,FALSE) -> A | C56: =M56 -> 氷蓄熱式パッケージエアコン | D56: =M56&O56 -> 氷蓄熱式パッケージエアコン- | E56: =D56&P56 -> 氷蓄熱式パッケージエアコン-蓄熱利用冷房能力 | F56: =E56&V56&W56 -> 氷蓄熱式パッケージエアコン-蓄熱利用冷房能力-日量蓄熱利用冷房効率 | G56: =F56&X56 -> 氷蓄熱式パッケージエアコン-蓄熱利用冷房能力-日量蓄熱利用冷房効率標準規格による評価 | H56: =G56&Y56 -> 氷蓄熱式パッケージエアコン-蓄熱利用冷房能力-日量蓄熱利用冷房効率標準規格による評価JRA4053:2007 | I56: =H56&AB56 -> 氷蓄熱式パッケージエアコン-蓄熱利用冷房能力-日量蓄熱利用冷房効率標準規格による評価JRA4053:2007JRA4053:2007 | K56: S-005006 | L56: 空調機（ヒートポンプ・個別方式） | M56: 氷蓄熱式パッケージエアコン | N56: パッケージエアコンの室外ユニットと室内ユニットの間に氷蓄熱槽を持っており、夜間の冷房を使っていない時間帯に、氷蓄熱槽の熱交換器で氷を作り、昼間の冷房運転時には、室外ユニットを通った冷媒を氷蓄熱槽の熱交換器でさらに冷やしてから室内機に送ることによって利用する。2050年に向けた再生可能エネルギー発電の最大活用に資することが期待される。 | O56: - | P56: 蓄熱利用冷房能力 | Q56: 45.0kW超56.0kW以下 | R56: 通常申請または簡易申請 | T56: 2.77 | V56: - | W56: 日量蓄熱利用冷房効率 | X56: 標準規格による評価 | Y56: JRA4053:2007 | Z56: 氷蓄熱式パッケージエアコンディショナ | AA56: JRA4053:2007に準拠 | AB56: JRA4053:2007 | AC56: 氷蓄熱式パッケージエアコンディショナ | AD56: JRA4053:2007に準拠
B57: =VLOOKUP(K57,[5]水準表DB!$E$8:$H$1510,4,FALSE) -> A | C57: =M57 -> 氷蓄熱式パッケージエアコン | D57: =M57&O57 -> 氷蓄熱式パッケージエアコン- | E57: =D57&P57 -> 氷蓄熱式パッケージエアコン-蓄熱利用冷房能力 | F57: =E57&V57&W57 -> 氷蓄熱式パッケージエアコン-蓄熱利用冷房能力-日量蓄熱利用冷房効率 | G57: =F57&X57 -> 氷蓄熱式パッケージエアコン-蓄熱利用冷房能力-日量蓄熱利用冷房効率標準規格による評価 | H57: =G57&Y57 -> 氷蓄熱式パッケージエアコン-蓄熱利用冷房能力-日量蓄熱利用冷房効率標準規格による評価JRA4053:2007 | I57: =H57&AB57 -> 氷蓄熱式パッケージエアコン-蓄熱利用冷房能力-日量蓄熱利用冷房効率標準規格による評価JRA4053:2007JRA4053:2007 | K57: S-005007 | L57: 空調機（ヒートポンプ・個別方式） | M57: 氷蓄熱式パッケージエアコン | N57: パッケージエアコンの室外ユニットと室内ユニットの間に氷蓄熱槽を持っており、夜間の冷房を使っていない時間帯に、氷蓄熱槽の熱交換器で氷を作り、昼間の冷房運転時には、室外ユニットを通った冷媒を氷蓄熱槽の熱交換器でさらに冷やしてから室内機に送ることによって利用する。2050年に向けた再生可能エネルギー発電の最大活用に資することが期待される。 | O57: - | P57: 蓄熱利用冷房能力 | Q57: 56.0kW超80.0kW以下 | R57: 通常申請または簡易申請 | T57: 3.34 | V57: - | W57: 日量蓄熱利用冷房効率 | X57: 標準規格による評価 | Y57: JRA4053:2007 | Z57: 氷蓄熱式パッケージエアコンディショナ | AA57: JRA4053:2007に準拠 | AB57: JRA4053:2007 | AC57: 氷蓄熱式パッケージエアコンディショナ | AD57: JRA4053:2007に準拠
B58: =VLOOKUP(K58,[5]水準表DB!$E$8:$H$1510,4,FALSE) -> A | C58: =M58 -> 氷蓄熱式パッケージエアコン | D58: =M58&O58 -> 氷蓄熱式パッケージエアコン- | E58: =D58&P58 -> 氷蓄熱式パッケージエアコン-蓄熱利用冷房能力 | F58: =E58&V58&W58 -> 氷蓄熱式パッケージエアコン-蓄熱利用冷房能力-日量蓄熱利用冷房効率 | G58: =F58&X58 -> 氷蓄熱式パッケージエアコン-蓄熱利用冷房能力-日量蓄熱利用冷房効率標準規格による評価 | H58: =G58&Y58 -> 氷蓄熱式パッケージエアコン-蓄熱利用冷房能力-日量蓄熱利用冷房効率標準規格による評価JRA4053:2007 | I58: =H58&AB58 -> 氷蓄熱式パッケージエアコン-蓄熱利用冷房能力-日量蓄熱利用冷房効率標準規格による評価JRA4053:2007JRA4053:2007 | K58: S-005008 | L58: 空調機（ヒートポンプ・個別方式） | M58: 氷蓄熱式パッケージエアコン | N58: パッケージエアコンの室外ユニットと室内ユニットの間に氷蓄熱槽を持っており、夜間の冷房を使っていない時間帯に、氷蓄熱槽の熱交換器で氷を作り、昼間の冷房運転時には、室外ユニットを通った冷媒を氷蓄熱槽の熱交換器でさらに冷やしてから室内機に送ることによって利用する。2050年に向けた再生可能エネルギー発電の最大活用に資することが期待される。 | O58: - | P58: 蓄熱利用冷房能力 | Q58: 80.0kW超112.0kW以下 | R58: 通常申請または簡易申請 | T58: 3.14 | V58: - | W58: 日量蓄熱利用冷房効率 | X58: 標準規格による評価 | Y58: JRA4053:2007 | Z58: 氷蓄熱式パッケージエアコンディショナ | AA58: JRA4053:2007に準拠 | AB58: JRA4053:2007 | AC58: 氷蓄熱式パッケージエアコンディショナ | AD58: JRA4053:2007に準拠
B59: =VLOOKUP(K59,[5]水準表DB!$E$8:$H$1510,4,FALSE) -> A | C59: =M59 -> 氷蓄熱式パッケージエアコン | D59: =M59&O59 -> 氷蓄熱式パッケージエアコン- | E59: =D59&P59 -> 氷蓄熱式パッケージエアコン-蓄熱利用冷房能力 | F59: =E59&V59&W59 -> 氷蓄熱式パッケージエアコン-蓄熱利用冷房能力-日量蓄熱利用冷房効率 | G59: =F59&X59 -> 氷蓄熱式パッケージエアコン-蓄熱利用冷房能力-日量蓄熱利用冷房効率標準規格による評価 | H59: =G59&Y59 -> 氷蓄熱式パッケージエアコン-蓄熱利用冷房能力-日量蓄熱利用冷房効率標準規格による評価JRA4053:2007 | I59: =H59&AB59 -> 氷蓄熱式パッケージエアコン-蓄熱利用冷房能力-日量蓄熱利用冷房効率標準規格による評価JRA4053:2007JRA4053:2007 | K59: S-005009 | L59: 空調機（ヒートポンプ・個別方式） | M59: 氷蓄熱式パッケージエアコン | N59: パッケージエアコンの室外ユニットと室内ユニットの間に氷蓄熱槽を持っており、夜間の冷房を使っていない時間帯に、氷蓄熱槽の熱交換器で氷を作り、昼間の冷房運転時には、室外ユニットを通った冷媒を氷蓄熱槽の熱交換器でさらに冷やしてから室内機に送ることによって利用する。2050年に向けた再生可能エネルギー発電の最大活用に資することが期待される。 | O59: - | P59: 蓄熱利用冷房能力 | Q59: 112.0kW超 | R59: 通常申請または簡易申請 | T59: 2.6 | V59: - | W59: 日量蓄熱利用冷房効率 | X59: 標準規格による評価 | Y59: JRA4053:2007 | Z59: 氷蓄熱式パッケージエアコンディショナ | AA59: JRA4053:2007に準拠 | AB59: JRA4053:2007 | AC59: 氷蓄熱式パッケージエアコンディショナ | AD59: JRA4053:2007に準拠
K60: S-265001 | L60: 換気設備（ヒートポンプ・個別方式） | M60: ヒートポンプ式熱回収換気 | N60: 屋外から取り入れた外気をヒートポンプで処理して室内へ供給し、室内空気を排出する際、その空気に含まれる熱エネルギーを冷媒（ヒートポンプ）で回収する。回収した熱は圧縮機ユニットを介して給気側へ移送され、外気の加熱・冷却に再利用される。冬季は排気熱で外気を暖め、夏季は外気の熱を排気側へ移すことで、換気による空調負荷を低減。これにより、十分な換気を確保しながら省エネルギー性と室内の快適性を両立する仕組み。 | O60: - | P60: - | Q60: - | R60: 特別申請 | T60: - | V60: - | W60: 成績係数（COP） | X60: 標準規格による評価 | Y60: JIS B 8616:2015、JRA 4074:2017、JRA 4089:2025 | Z60: パッケージエアコンディショナ、オールフレッシュ形及び一体形ルーフトップ形パッケージエアコンディショナ―定格性能の試験方法及び表示、ヒートポンプ式エアハンドリングユニット | AA60: COP=（Ccr＋Chr）/2 Ccr=Φcr/Pcr、Chr=Φhr/Phr Ccr：冷房成績係数 Chr：暖房成績係数 Φcr：定格冷房標準能力(kW） Φhr：定格暖房標準能力(kW） Pcr：定格冷房標準消費電力(kW） Phr：定格暖房標準消費電力(kW） ※COPpは、小数点3桁目を切捨て、小数点2桁目までを表示する。 | AB60: JIS B 8616:2015、JRA 4074:2017、JRA 4089:2025 | AC60: パッケージエアコンディショナ、オールフレッシュ形及び一体形ルーフトップ形パッケージエアコンディショナ―定格性能の試験方法及び表示、ヒートポンプ式エアハンドリングユニット | AD60: JIS B 8616:2015、JRA 4074:2017、JRA 4089:2025に準拠
B61: =VLOOKUP(K61,[5]水準表DB!$E$8:$H$1510,4,FALSE) -> A | C61: =M61 -> フロン類等冷媒ターボ冷凍機 | D61: =M61&O61 -> フロン類等冷媒ターボ冷凍機- | E61: =D61&P61 -> フロン類等冷媒ターボ冷凍機-冷却能力 | F61: =E61&V61&W61 -> フロン類等冷媒ターボ冷凍機-冷却能力-期間成績係数（IPLV） | G61: =F61&X61 -> フロン類等冷媒ターボ冷凍機-冷却能力-期間成績係数（IPLV）標準規格による評価 | H61: =G61&Y61 -> フロン類等冷媒ターボ冷凍機-冷却能力-期間成績係数（IPLV）標準規格による評価JISB8621:2011 | I61: =H61&AB61 -> フロン類等冷媒ターボ冷凍機-冷却能力-期間成績係数（IPLV）標準規格による評価JISB8621:2011JISB8621:2011 | K61: S-008001 | L61: 熱源・空調機（ヒートポンプ・中央方式） | M61: フロン類等冷媒ターボ冷凍機 | N61: 蒸発器、圧縮機、凝集器、弁からなる。蒸発器内の冷媒を蒸発させ蒸発器内のパイプの中の循環水を冷やし、冷水として取り出して使用する機器。蒸発した冷媒は圧縮機で昇圧され、凝縮器内の冷却水で凝縮され液体に戻る。HFC冷媒またはHFO冷媒を使用している。 | O61: - | P61: 冷却能力 | Q61: 200RT未満 | R61: 通常申請または簡易申請 | T61: 9.4 | U61: * | V61: - | W61: 期間成績係数（IPLV） | X61: 標準規格による評価 | Y61: JISB8621:2011 | Z61: 遠心冷凍機 | AA61: JISB8621:2011に準拠 | AB61: JISB8621:2011 | AC61: 遠心冷凍機 | AD61: JISB8621:2011に準拠
B62: =VLOOKUP(K62,[5]水準表DB!$E$8:$H$1510,4,FALSE) -> A | C62: =M62 -> フロン類等冷媒ターボ冷凍機 | D62: =M62&O62 -> フロン類等冷媒ターボ冷凍機- | E62: =D62&P62 -> フロン類等冷媒ターボ冷凍機-冷却能力 | F62: =E62&V62&W62 -> フロン類等冷媒ターボ冷凍機-冷却能力-期間成績係数（IPLV） | G62: =F62&X62 -> フロン類等冷媒ターボ冷凍機-冷却能力-期間成績係数（IPLV）標準規格による評価 | H62: =G62&Y62 -> フロン類等冷媒ターボ冷凍機-冷却能力-期間成績係数（IPLV）標準規格による評価JISB8621:2011 | I62: =H62&AB62 -> フロン類等冷媒ターボ冷凍機-冷却能力-期間成績係数（IPLV）標準規格による評価JISB8621:2011JISB8621:2011 | K62: S-008002 | L62: 熱源・空調機（ヒートポンプ・中央方式） | M62: フロン類等冷媒ターボ冷凍機 | N62: 蒸発器、圧縮機、凝集器、弁からなる。蒸発器内の冷媒を蒸発させ蒸発器内のパイプの中の循環水を冷やし、冷水として取り出して使用する機器。蒸発した冷媒は圧縮機で昇圧され、凝縮器内の冷却水で凝縮され液体に戻る。HFC冷媒またはHFO冷媒を使用している。 | O62: - | P62: 冷却能力 | Q62: 200RT以上250RT未満 | R62: 通常申請または簡易申請 | T62: 9.5 | U62: * | V62: - | W62: 期間成績係数（IPLV） | X62: 標準規格による評価 | Y62: JISB8621:2011 | Z62: 遠心冷凍機 | AA62: JISB8621:2011に準拠 | AB62: JISB8621:2011 | AC62: 遠心冷凍機 | AD62: JISB8621:2011に準拠
B63: =VLOOKUP(K63,[5]水準表DB!$E$8:$H$1510,4,FALSE) -> A | C63: =M63 -> フロン類等冷媒ターボ冷凍機 | D63: =M63&O63 -> フロン類等冷媒ターボ冷凍機- | E63: =D63&P63 -> フロン類等冷媒ターボ冷凍機-冷却能力 | F63: =E63&V63&W63 -> フロン類等冷媒ターボ冷凍機-冷却能力-期間成績係数（IPLV） | G63: =F63&X63 -> フロン類等冷媒ターボ冷凍機-冷却能力-期間成績係数（IPLV）標準規格による評価 | H63: =G63&Y63 -> フロン類等冷媒ターボ冷凍機-冷却能力-期間成績係数（IPLV）標準規格による評価JISB8621:2011 | I63: =H63&AB63 -> フロン類等冷媒ターボ冷凍機-冷却能力-期間成績係数（IPLV）標準規格による評価JISB8621:2011JISB8621:2011 | K63: S-008003 | L63: 熱源・空調機（ヒートポンプ・中央方式） | M63: フロン類等冷媒ターボ冷凍機 | N63: 蒸発器、圧縮機、凝集器、弁からなる。蒸発器内の冷媒を蒸発させ蒸発器内のパイプの中の循環水を冷やし、冷水として取り出して使用する機器。蒸発した冷媒は圧縮機で昇圧され、凝縮器内の冷却水で凝縮され液体に戻る。HFC冷媒またはHFO冷媒を使用している。 | O63: - | P63: 冷却能力 | Q63: 250RT以上300RT未満 | R63: 通常申請または簡易申請 | T63: 10 | U63: * | V63: - | W63: 期間成績係数（IPLV） | X63: 標準規格による評価 | Y63: JISB8621:2011 | Z63: 遠心冷凍機 | AA63: JISB8621:2011に準拠 | AB63: JISB8621:2011 | AC63: 遠心冷凍機 | AD63: JISB8621:2011に準拠
B64: =VLOOKUP(K64,[5]水準表DB!$E$8:$H$1510,4,FALSE) -> A | C64: =M64 -> フロン類等冷媒ターボ冷凍機 | D64: =M64&O64 -> フロン類等冷媒ターボ冷凍機- | E64: =D64&P64 -> フロン類等冷媒ターボ冷凍機-冷却能力 | F64: =E64&V64&W64 -> フロン類等冷媒ターボ冷凍機-冷却能力-期間成績係数（IPLV） | G64: =F64&X64 -> フロン類等冷媒ターボ冷凍機-冷却能力-期間成績係数（IPLV）標準規格による評価 | H64: =G64&Y64 -> フロン類等冷媒ターボ冷凍機-冷却能力-期間成績係数（IPLV）標準規格による評価JISB8621:2011 | I64: =H64&AB64 -> フロン類等冷媒ターボ冷凍機-冷却能力-期間成績係数（IPLV）標準規格による評価JISB8621:2011JISB8621:2011 | K64: S-008004 | L64: 熱源・空調機（ヒートポンプ・中央方式） | M64: フロン類等冷媒ターボ冷凍機 | N64: 蒸発器、圧縮機、凝集器、弁からなる。蒸発器内の冷媒を蒸発させ蒸発器内のパイプの中の循環水を冷やし、冷水として取り出して使用する機器。蒸発した冷媒は圧縮機で昇圧され、凝縮器内の冷却水で凝縮され液体に戻る。HFC冷媒またはHFO冷媒を使用している。 | O64: - | P64: 冷却能力 | Q64: 300RT以上350RT未満 | R64: 通常申請または簡易申請 | T64: 9.8 | U64: * | V64: - | W64: 期間成績係数（IPLV） | X64: 標準規格による評価 | Y64: JISB8621:2011 | Z64: 遠心冷凍機 | AA64: JISB8621:2011に準拠 | AB64: JISB8621:2011 | AC64: 遠心冷凍機 | AD64: JISB8621:2011に準拠
B65: =VLOOKUP(K65,[5]水準表DB!$E$8:$H$1510,4,FALSE) -> A | C65: =M65 -> フロン類等冷媒ターボ冷凍機 | D65: =M65&O65 -> フロン類等冷媒ターボ冷凍機- | E65: =D65&P65 -> フロン類等冷媒ターボ冷凍機-冷却能力 | F65: =E65&V65&W65 -> フロン類等冷媒ターボ冷凍機-冷却能力-期間成績係数（IPLV） | G65: =F65&X65 -> フロン類等冷媒ターボ冷凍機-冷却能力-期間成績係数（IPLV）標準規格による評価 | H65: =G65&Y65 -> フロン類等冷媒ターボ冷凍機-冷却能力-期間成績係数（IPLV）標準規格による評価JISB8621:2011 | I65: =H65&AB65 -> フロン類等冷媒ターボ冷凍機-冷却能力-期間成績係数（IPLV）標準規格による評価JISB8621:2011JISB8621:2011 | K65: S-008005 | L65: 熱源・空調機（ヒートポンプ・中央方式） | M65: フロン類等冷媒ターボ冷凍機 | N65: 蒸発器、圧縮機、凝集器、弁からなる。蒸発器内の冷媒を蒸発させ蒸発器内のパイプの中の循環水を冷やし、冷水として取り出して使用する機器。蒸発した冷媒は圧縮機で昇圧され、凝縮器内の冷却水で凝縮され液体に戻る。HFC冷媒またはHFO冷媒を使用している。 | O65: - | P65: 冷却能力 | Q65: 350RT以上400RT未満 | R65: 通常申請または簡易申請 | T65: 9.8 | U65: * | V65: - | W65: 期間成績係数（IPLV） | X65: 標準規格による評価 | Y65: JISB8621:2011 | Z65: 遠心冷凍機 | AA65: JISB8621:2011に準拠 | AB65: JISB8621:2011 | AC65: 遠心冷凍機 | AD65: JISB8621:2011に準拠
B66: =VLOOKUP(K66,[5]水準表DB!$E$8:$H$1510,4,FALSE) -> A | C66: =M66 -> フロン類等冷媒ターボ冷凍機 | D66: =M66&O66 -> フロン類等冷媒ターボ冷凍機- | E66: =D66&P66 -> フロン類等冷媒ターボ冷凍機-冷却能力 | F66: =E66&V66&W66 -> フロン類等冷媒ターボ冷凍機-冷却能力-期間成績係数（IPLV） | G66: =F66&X66 -> フロン類等冷媒ターボ冷凍機-冷却能力-期間成績係数（IPLV）標準規格による評価 | H66: =G66&Y66 -> フロン類等冷媒ターボ冷凍機-冷却能力-期間成績係数（IPLV）標準規格による評価JISB8621:2011 | I66: =H66&AB66 -> フロン類等冷媒ターボ冷凍機-冷却能力-期間成績係数（IPLV）標準規格による評価JISB8621:2011JISB8621:2011 | K66: S-008006 | L66: 熱源・空調機（ヒートポンプ・中央方式） | M66: フロン類等冷媒ターボ冷凍機 | N66: 蒸発器、圧縮機、凝集器、弁からなる。蒸発器内の冷媒を蒸発させ蒸発器内のパイプの中の循環水を冷やし、冷水として取り出して使用する機器。蒸発した冷媒は圧縮機で昇圧され、凝縮器内の冷却水で凝縮され液体に戻る。HFC冷媒またはHFO冷媒を使用している。 | O66: - | P66: 冷却能力 | Q66: 400RT以上500RT未満 | R66: 通常申請または簡易申請 | T66: 10.1 | U66: * | V66: - | W66: 期間成績係数（IPLV） | X66: 標準規格による評価 | Y66: JISB8621:2011 | Z66: 遠心冷凍機 | AA66: JISB8621:2011に準拠 | AB66: JISB8621:2011 | AC66: 遠心冷凍機 | AD66: JISB8621:2011に準拠
B67: =VLOOKUP(K67,[5]水準表DB!$E$8:$H$1510,4,FALSE) -> A | C67: =M67 -> フロン類等冷媒ターボ冷凍機 | D67: =M67&O67 -> フロン類等冷媒ターボ冷凍機- | E67: =D67&P67 -> フロン類等冷媒ターボ冷凍機-冷却能力 | F67: =E67&V67&W67 -> フロン類等冷媒ターボ冷凍機-冷却能力-期間成績係数（IPLV） | G67: =F67&X67 -> フロン類等冷媒ターボ冷凍機-冷却能力-期間成績係数（IPLV）標準規格による評価 | H67: =G67&Y67 -> フロン類等冷媒ターボ冷凍機-冷却能力-期間成績係数（IPLV）標準規格による評価JISB8621:2011 | I67: =H67&AB67 -> フロン類等冷媒ターボ冷凍機-冷却能力-期間成績係数（IPLV）標準規格による評価JISB8621:2011JISB8621:2011 | K67: S-008007 | L67: 熱源・空調機（ヒートポンプ・中央方式） | M67: フロン類等冷媒ターボ冷凍機 | N67: 蒸発器、圧縮機、凝集器、弁からなる。蒸発器内の冷媒を蒸発させ蒸発器内のパイプの中の循環水を冷やし、冷水として取り出して使用する機器。蒸発した冷媒は圧縮機で昇圧され、凝縮器内の冷却水で凝縮され液体に戻る。HFC冷媒またはHFO冷媒を使用している。 | O67: - | P67: 冷却能力 | Q67: 500RT以上600RT未満 | R67: 通常申請または簡易申請 | T67: 10 | U67: * | V67: - | W67: 期間成績係数（IPLV） | X67: 標準規格による評価 | Y67: JISB8621:2011 | Z67: 遠心冷凍機 | AA67: JISB8621:2011に準拠 | AB67: JISB8621:2011 | AC67: 遠心冷凍機 | AD67: JISB8621:2011に準拠
B68: =VLOOKUP(K68,[5]水準表DB!$E$8:$H$1510,4,FALSE) -> A | C68: =M68 -> フロン類等冷媒ターボ冷凍機 | D68: =M68&O68 -> フロン類等冷媒ターボ冷凍機- | E68: =D68&P68 -> フロン類等冷媒ターボ冷凍機-冷却能力 | F68: =E68&V68&W68 -> フロン類等冷媒ターボ冷凍機-冷却能力-期間成績係数（IPLV） | G68: =F68&X68 -> フロン類等冷媒ターボ冷凍機-冷却能力-期間成績係数（IPLV）標準規格による評価 | H68: =G68&Y68 -> フロン類等冷媒ターボ冷凍機-冷却能力-期間成績係数（IPLV）標準規格による評価JISB8621:2011 | I68: =H68&AB68 -> フロン類等冷媒ターボ冷凍機-冷却能力-期間成績係数（IPLV）標準規格による評価JISB8621:2011JISB8621:2011 | K68: S-008008 | L68: 熱源・空調機（ヒートポンプ・中央方式） | M68: フロン類等冷媒ターボ冷凍機 | N68: 蒸発器、圧縮機、凝集器、弁からなる。蒸発器内の冷媒を蒸発させ蒸発器内のパイプの中の循環水を冷やし、冷水として取り出して使用する機器。蒸発した冷媒は圧縮機で昇圧され、凝縮器内の冷却水で凝縮され液体に戻る。HFC冷媒またはHFO冷媒を使用している。 | O68: - | P68: 冷却能力 | Q68: 600RT以上700RT未満 | R68: 通常申請または簡易申請 | T68: 10 | U68: * | V68: - | W68: 期間成績係数（IPLV） | X68: 標準規格による評価 | Y68: JISB8621:2011 | Z68: 遠心冷凍機 | AA68: JISB8621:2011に準拠 | AB68: JISB8621:2011 | AC68: 遠心冷凍機 | AD68: JISB8621:2011に準拠
B69: =VLOOKUP(K69,[5]水準表DB!$E$8:$H$1510,4,FALSE) -> A | C69: =M69 -> フロン類等冷媒ターボ冷凍機 | D69: =M69&O69 -> フロン類等冷媒ターボ冷凍機- | E69: =D69&P69 -> フロン類等冷媒ターボ冷凍機-冷却能力 | F69: =E69&V69&W69 -> フロン類等冷媒ターボ冷凍機-冷却能力-期間成績係数（IPLV） | G69: =F69&X69 -> フロン類等冷媒ターボ冷凍機-冷却能力-期間成績係数（IPLV）標準規格による評価 | H69: =G69&Y69 -> フロン類等冷媒ターボ冷凍機-冷却能力-期間成績係数（IPLV）標準規格による評価JISB8621:2011 | I69: =H69&AB69 -> フロン類等冷媒ターボ冷凍機-冷却能力-期間成績係数（IPLV）標準規格による評価JISB8621:2011JISB8621:2011 | K69: S-008009 | L69: 熱源・空調機（ヒートポンプ・中央方式） | M69: フロン類等冷媒ターボ冷凍機 | N69: 蒸発器、圧縮機、凝集器、弁からなる。蒸発器内の冷媒を蒸発させ蒸発器内のパイプの中の循環水を冷やし、冷水として取り出して使用する機器。蒸発した冷媒は圧縮機で昇圧され、凝縮器内の冷却水で凝縮され液体に戻る。HFC冷媒またはHFO冷媒を使用している。 | O69: - | P69: 冷却能力 | Q69: 700RT以上1000RT未満 | R69: 通常申請 | T69: 9.9 | U69: * | V69: - | W69: 期間成績係数（IPLV） | X69: 標準規格による評価 | Y69: JISB8621:2011 | Z69: 遠心冷凍機 | AA69: JISB8621:2011に準拠 | AB69: JISB8621:2011 | AC69: 遠心冷凍機 | AD69: JISB8621:2011に準拠
B70: =VLOOKUP(K70,[5]水準表DB!$E$8:$H$1510,4,FALSE) -> A | C70: =M70 -> フロン類等冷媒ターボ冷凍機 | D70: =M70&O70 -> フロン類等冷媒ターボ冷凍機- | E70: =D70&P70 -> フロン類等冷媒ターボ冷凍機-冷却能力 | F70: =E70&V70&W70 -> フロン類等冷媒ターボ冷凍機-冷却能力-期間成績係数（IPLV） | G70: =F70&X70 -> フロン類等冷媒ターボ冷凍機-冷却能力-期間成績係数（IPLV）標準規格による評価 | H70: =G70&Y70 -> フロン類等冷媒ターボ冷凍機-冷却能力-期間成績係数（IPLV）標準規格による評価JISB8621:2011 | I70: =H70&AB70 -> フロン類等冷媒ターボ冷凍機-冷却能力-期間成績係数（IPLV）標準規格による評価JISB8621:2011JISB8621:2011 | K70: S-008010 | L70: 熱源・空調機（ヒートポンプ・中央方式） | M70: フロン類等冷媒ターボ冷凍機 | N70: 蒸発器、圧縮機、凝集器、弁からなる。蒸発器内の冷媒を蒸発させ蒸発器内のパイプの中の循環水を冷やし、冷水として取り出して使用する機器。蒸発した冷媒は圧縮機で昇圧され、凝縮器内の冷却水で凝縮され液体に戻る。HFC冷媒またはHFO冷媒を使用している。 | O70: - | P70: 冷却能力 | Q70: 1000RT以上1500RT未満 | R70: 通常申請 | T70: 9.6 | U70: * | V70: - | W70: 期間成績係数（IPLV） | X70: 標準規格による評価 | Y70: JISB8621:2011 | Z70: 遠心冷凍機 | AA70: JISB8621:2011に準拠 | AB70: JISB8621:2011 | AC70: 遠心冷凍機 | AD70: JISB8621:2011に準拠
B71: =VLOOKUP(K71,[5]水準表DB!$E$8:$H$1510,4,FALSE) -> A | C71: =M71 -> フロン類等冷媒ターボ冷凍機 | D71: =M71&O71 -> フロン類等冷媒ターボ冷凍機- | E71: =D71&P71 -> フロン類等冷媒ターボ冷凍機-冷却能力 | F71: =E71&V71&W71 -> フロン類等冷媒ターボ冷凍機-冷却能力-期間成績係数（IPLV） | G71: =F71&X71 -> フロン類等冷媒ターボ冷凍機-冷却能力-期間成績係数（IPLV）標準規格による評価 | H71: =G71&Y71 -> フロン類等冷媒ターボ冷凍機-冷却能力-期間成績係数（IPLV）標準規格による評価JISB8621:2011 | I71: =H71&AB71 -> フロン類等冷媒ターボ冷凍機-冷却能力-期間成績係数（IPLV）標準規格による評価JISB8621:2011JISB8621:2011 | K71: S-008011 | L71: 熱源・空調機（ヒートポンプ・中央方式） | M71: フロン類等冷媒ターボ冷凍機 | N71: 蒸発器、圧縮機、凝集器、弁からなる。蒸発器内の冷媒を蒸発させ蒸発器内のパイプの中の循環水を冷やし、冷水として取り出して使用する機器。蒸発した冷媒は圧縮機で昇圧され、凝縮器内の冷却水で凝縮され液体に戻る。HFC冷媒またはHFO冷媒を使用している。 | O71: - | P71: 冷却能力 | Q71: 1500RT以上 | R71: 通常申請 | T71: 9.29 | U71: * | V71: - | W71: 期間成績係数（IPLV） | X71: 標準規格による評価 | Y71: JISB8621:2011 | Z71: 遠心冷凍機 | AA71: JISB8621:2011に準拠 | AB71: JISB8621:2011 | AC71: 遠心冷凍機 | AD71: JISB8621:2011に準拠
B72: =VLOOKUP(K72,[5]水準表DB!$E$8:$H$1510,4,FALSE) -> A | C72: =M72 -> フロン類等冷媒ターボ冷凍機 | D72: =M72&O72 -> フロン類等冷媒ターボ冷凍機- | E72: =D72&P72 -> フロン類等冷媒ターボ冷凍機-冷却能力 | F72: =E72&V72&W72 -> フロン類等冷媒ターボ冷凍機-冷却能力-成績係数（COP） | G72: =F72&X72 -> フロン類等冷媒ターボ冷凍機-冷却能力-成績係数（COP）標準規格による評価 | H72: =G72&Y72 -> フロン類等冷媒ターボ冷凍機-冷却能力-成績係数（COP）標準規格による評価JISB8621:2011 | I72: =H72&AB72 -> フロン類等冷媒ターボ冷凍機-冷却能力-成績係数（COP）標準規格による評価JISB8621:2011JISB8621:2011 | K72: S-008012 | L72: 熱源・空調機（ヒートポンプ・中央方式） | M72: フロン類等冷媒ターボ冷凍機 | N72: 蒸発器、圧縮機、凝集器、弁からなる。蒸発器内の冷媒を蒸発させ蒸発器内のパイプの中の循環水を冷やし、冷水として取り出して使用する機器。蒸発した冷媒は圧縮機で昇圧され、凝縮器内の冷却水で凝縮され液体に戻る。HFC冷媒またはHFO冷媒を使用している。 | O72: - | P72: 冷却能力 | Q72: 200RT未満 | R72: 通常申請または簡易申請 | T72: 6.31 | U72: * | V72: - | W72: 成績係数（COP） | X72: 標準規格による評価 | Y72: JISB8621:2011 | Z72: 遠心冷凍機 | AA72: JISB8621:2011に準拠 | AB72: JISB8621:2011 | AC72: 遠心冷凍機 | AD72: JISB8621:2011に準拠
... B83: =VLOOKUP(K83,[5]水準表DB!$E$8:$H$1510,4,FALSE) -> A | C83: =M83 -> 自然冷媒ターボ冷凍機 | D83: =M83&O83 -> 自然冷媒ターボ冷凍機- | E83: =D83&P83 -> 自然冷媒ターボ冷凍機-冷却能力 | F83: =E83&V83&W83 -> 自然冷媒ターボ冷凍機-冷却能力-期間成績係数（IPLV） | G83: =F83&X83 -> 自然冷媒ターボ冷凍機-冷却能力-期間成績係数（IPLV）標準規格による評価 | H83: =G83&Y83 -> 自然冷媒ターボ冷凍機-冷却能力-期間成績係数（IPLV）標準規格による評価JISB8621:2011 | I83: =H83&AB83 -> 自然冷媒ターボ冷凍機-冷却能力-期間成績係数（IPLV）標準規格による評価JISB8621:2011JISB8621:2011 | K83: S-009001 | L83: 熱源・空調機（ヒートポンプ・中央方式） | M83: 自然冷媒ターボ冷凍機 | N83: 蒸発器、圧縮機、凝集器、弁からなる。蒸発器内の冷媒を蒸発させ蒸発器内のパイプの中の循環水を冷やし、冷水として取り出して使用する機器。蒸発した冷媒は圧縮機で昇圧され、凝縮器内の冷却水で凝縮され液体に戻る。従来はHFC冷媒が使用されるケースが多いが、本設備・機器等は自然冷媒である水が使用されている。公共スペース、地下街、及び医療機関での使用が期待されている。 | O83: - | P83: 冷却能力 | Q83: 200RT未満 | R83: 通常申請 | T83: 7.36 | U83: * | V83: - | W83: 期間成績係数（IPLV） | X83: 標準規格による評価 | Y83: JISB8621:2011 | Z83: 遠心冷凍機 | AA83: JISB8621:2011に準拠 | AB83: JISB8621:2011 | AC83: 遠心冷凍機 | AD83: JISB8621:2011に準拠
B84: =VLOOKUP(K84,[5]水準表DB!$E$8:$H$1510,4,FALSE) -> A | C84: =M84 -> 自然冷媒ターボ冷凍機 | D84: =M84&O84 -> 自然冷媒ターボ冷凍機- | E84: =D84&P84 -> 自然冷媒ターボ冷凍機-冷却能力 | F84: =E84&V84&W84 -> 自然冷媒ターボ冷凍機-冷却能力-期間成績係数（IPLV） | G84: =F84&X84 -> 自然冷媒ターボ冷凍機-冷却能力-期間成績係数（IPLV）標準規格による評価 | H84: =G84&Y84 -> 自然冷媒ターボ冷凍機-冷却能力-期間成績係数（IPLV）標準規格による評価JISB8621:2011 | I84: =H84&AB84 -> 自然冷媒ターボ冷凍機-冷却能力-期間成績係数（IPLV）標準規格による評価JISB8621:2011JISB8621:2011 | K84: S-009002 | L84: 熱源・空調機（ヒートポンプ・中央方式） | M84: 自然冷媒ターボ冷凍機 | N84: 蒸発器、圧縮機、凝集器、弁からなる。蒸発器内の冷媒を蒸発させ蒸発器内のパイプの中の循環水を冷やし、冷水として取り出して使用する機器。蒸発した冷媒は圧縮機で昇圧され、凝縮器内の冷却水で凝縮され液体に戻る。従来はHFC冷媒が使用されるケースが多いが、本設備・機器等は自然冷媒である水が使用されている。公共スペース、地下街、及び医療機関での使用が期待されている。 | O84: - | P84: 冷却能力 | Q84: 300RT以上400RT未満 | R84: 特別申請 | T84: - | V84: - | W84: 期間成績係数（IPLV） | X84: 標準規格による評価 | Y84: JISB8621:2011 | Z84: 遠心冷凍機 | AA84: JISB8621:2011に準拠 | AB84: JISB8621:2011 | AC84: 遠心冷凍機 | AD84: JISB8621:2011に準拠
B85: =VLOOKUP(K85,[5]水準表DB!$E$8:$H$1510,4,FALSE) -> A | C85: =M85 -> 水冷ヒートポンプチラー | D85: =M85&O85 -> 水冷ヒートポンプチラー- | E85: =D85&P85 -> 水冷ヒートポンプチラー-冷却能力 | F85: =E85&V85&W85 -> 水冷ヒートポンプチラー-冷却能力-成績係数（COP） | G85: =F85&X85 -> 水冷ヒートポンプチラー-冷却能力-成績係数（COP）標準規格による評価 | H85: =G85&Y85 -> 水冷ヒートポンプチラー-冷却能力-成績係数（COP）標準規格による評価JISB8613:1994またはJRA4066:2014 | I85: =H85&AB85 -> 水冷ヒートポンプチラー-冷却能力-成績係数（COP）標準規格による評価JISB8613:1994またはJRA4066:2014JISB8613:1994またはJRA4066:2014 | K85: S-010001 | L85: 熱源・空調機（ヒートポンプ・中央方式） | M85: 水冷ヒートポンプチラー | N85: 水を熱源としたヒートポンプ方式の水冷式チリングユニット。 | O85: - | P85: 冷却能力 | Q85: 40.0kW以下 | R85: 通常申請 | T85: 4.7 | V85: - | W85: 成績係数（COP） | X85: 標準規格による評価 | Y85: JISB8613:1994またはJRA4066:2014 | Z85: いずれもウォータチリングユニット | AA85: JISB8613:1994またはJRA4066:2014に準拠 | AB85: JISB8613:1994またはJRA4066:2014 | AC85: いずれもウォータチリングユニット | AD85: JISB8613:1994またはJRA4066:2014に準拠
B86: =VLOOKUP(K86,[5]水準表DB!$E$8:$H$1510,4,FALSE) -> A | C86: =M86 -> 水冷ヒートポンプチラー | D86: =M86&O86 -> 水冷ヒートポンプチラー- | E86: =D86&P86 -> 水冷ヒートポンプチラー-冷却能力 | F86: =E86&V86&W86 -> 水冷ヒートポンプチラー-冷却能力-成績係数（COP） | G86: =F86&X86 -> 水冷ヒートポンプチラー-冷却能力-成績係数（COP）標準規格による評価 | H86: =G86&Y86 -> 水冷ヒートポンプチラー-冷却能力-成績係数（COP）標準規格による評価JISB8613:1994またはJRA4066:2014 | I86: =H86&AB86 -> 水冷ヒートポンプチラー-冷却能力-成績係数（COP）標準規格による評価JISB8613:1994またはJRA4066:2014JISB8613:1994またはJRA4066:2014 | K86: S-010002 | L86: 熱源・空調機（ヒートポンプ・中央方式） | M86: 水冷ヒートポンプチラー | N86: 水を熱源としたヒートポンプ方式の水冷式チリングユニット。 | O86: - | P86: 冷却能力 | Q86: 40.0kW超80.0kW以下 | R86: 通常申請 | T86: 5.3 | V86: - | W86: 成績係数（COP） | X86: 標準規格による評価 | Y86: JISB8613:1994またはJRA4066:2014 | Z86: いずれもウォータチリングユニット | AA86: JISB8613:1994またはJRA4066:2014に準拠 | AB86: JISB8613:1994またはJRA4066:2014 | AC86: いずれもウォータチリングユニット | AD86: JISB8613:1994またはJRA4066:2014に準拠
B87: =VLOOKUP(K87,[5]水準表DB!$E$8:$H$1510,4,FALSE) -> A | C87: =M87 -> 水冷ヒートポンプチラー | D87: =M87&O87 -> 水冷ヒートポンプチラー- | E87: =D87&P87 -> 水冷ヒートポンプチラー-冷却能力 | F87: =E87&V87&W87 -> 水冷ヒートポンプチラー-冷却能力-成績係数（COP） | G87: =F87&X87 -> 水冷ヒートポンプチラー-冷却能力-成績係数（COP）標準規格による評価 | H87: =G87&Y87 -> 水冷ヒートポンプチラー-冷却能力-成績係数（COP）標準規格による評価JISB8613:1994またはJRA4066:2014 | I87: =H87&AB87 -> 水冷ヒートポンプチラー-冷却能力-成績係数（COP）標準規格による評価JISB8613:1994またはJRA4066:2014JISB8613:1994またはJRA4066:2014 | K87: S-010003 | L87: 熱源・空調機（ヒートポンプ・中央方式） | M87: 水冷ヒートポンプチラー | N87: 水を熱源としたヒートポンプ方式の水冷式チリングユニット。 | O87: - | P87: 冷却能力 | Q87: 80.0kW超118.0kW以下 | R87: 通常申請 | T87: 5.41 | V87: - | W87: 成績係数（COP） | X87: 標準規格による評価 | Y87: JISB8613:1994またはJRA4066:2014 | Z87: いずれもウォータチリングユニット | AA87: JISB8613:1994またはJRA4066:2014に準拠 | AB87: JISB8613:1994またはJRA4066:2014 | AC87: いずれもウォータチリングユニット | AD87: JISB8613:1994またはJRA4066:2014に準拠
B88: =VLOOKUP(K88,[5]水準表DB!$E$8:$H$1510,4,FALSE) -> A | C88: =M88 -> 水冷ヒートポンプチラー | D88: =M88&O88 -> 水冷ヒートポンプチラー- | E88: =D88&P88 -> 水冷ヒートポンプチラー-冷却能力 | F88: =E88&V88&W88 -> 水冷ヒートポンプチラー-冷却能力-成績係数（COP） | G88: =F88&X88 -> 水冷ヒートポンプチラー-冷却能力-成績係数（COP）標準規格による評価 | H88: =G88&Y88 -> 水冷ヒートポンプチラー-冷却能力-成績係数（COP）標準規格による評価JISB8613:1994またはJRA4066:2014 | I88: =H88&AB88 -> 水冷ヒートポンプチラー-冷却能力-成績係数（COP）標準規格による評価JISB8613:1994またはJRA4066:2014JISB8613:1994またはJRA4066:2014 | K88: S-010015 | L88: 熱源・空調機（ヒートポンプ・中央方式） | M88: 水冷ヒートポンプチラー | N88: 水を熱源としたヒートポンプ方式の水冷式チリングユニット。 | O88: - | P88: 冷却能力 | Q88: 118.0kW超150.0kW以下 | R88: 通常申請 | T88: 5.34 | V88: - | W88: 成績係数（COP） | X88: 標準規格による評価 | Y88: JISB8613:1994またはJRA4066:2014 | Z88: いずれもウォータチリングユニット | AA88: JISB8613:1994またはJRA4066:2014に準拠 | AB88: JISB8613:1994またはJRA4066:2014 | AC88: いずれもウォータチリングユニット | AD88: JISB8613:1994またはJRA4066:2014に準拠
B89: =VLOOKUP(K89,[5]水準表DB!$E$8:$H$1510,4,FALSE) -> A | C89: =M89 -> 水冷ヒートポンプチラー | D89: =M89&O89 -> 水冷ヒートポンプチラー- | E89: =D89&P89 -> 水冷ヒートポンプチラー-冷却能力 | F89: =E89&V89&W89 -> 水冷ヒートポンプチラー-冷却能力-成績係数（COP） | G89: =F89&X89 -> 水冷ヒートポンプチラー-冷却能力-成績係数（COP）標準規格による評価 | H89: =G89&Y89 -> 水冷ヒートポンプチラー-冷却能力-成績係数（COP）標準規格による評価JISB8613:1994またはJRA4066:2014 | I89: =H89&AB89 -> 水冷ヒートポンプチラー-冷却能力-成績係数（COP）標準規格による評価JISB8613:1994またはJRA4066:2014JISB8613:1994またはJRA4066:2014 | K89: S-010016 | L89: 熱源・空調機（ヒートポンプ・中央方式） | M89: 水冷ヒートポンプチラー | N89: 水を熱源としたヒートポンプ方式の水冷式チリングユニット。 | O89: - | P89: 冷却能力 | Q89: 150.0kW超180.0kW以下 | R89: 通常申請または簡易申請 | T89: 5.15 | V89: - | W89: 成績係数（COP） | X89: 標準規格による評価 | Y89: JISB8613:1994またはJRA4066:2014 | Z89: いずれもウォータチリングユニット | AA89: JISB8613:1994またはJRA4066:2014に準拠 | AB89: JISB8613:1994またはJRA4066:2014 | AC89: いずれもウォータチリングユニット | AD89: JISB8613:1994またはJRA4066:2014に準拠
B90: =VLOOKUP(K90,[5]水準表DB!$E$8:$H$1510,4,FALSE) -> A | C90: =M90 -> 水冷ヒートポンプチラー | D90: =M90&O90 -> 水冷ヒートポンプチラー- | E90: =D90&P90 -> 水冷ヒートポンプチラー-冷却能力 | F90: =E90&V90&W90 -> 水冷ヒートポンプチラー-冷却能力-成績係数（COP） | G90: =F90&X90 -> 水冷ヒートポンプチラー-冷却能力-成績係数（COP）標準規格による評価 | H90: =G90&Y90 -> 水冷ヒートポンプチラー-冷却能力-成績係数（COP）標準規格による評価JISB8613:1994またはJRA4066:2014 | I90: =H90&AB90 -> 水冷ヒートポンプチラー-冷却能力-成績係数（COP）標準規格による評価JISB8613:1994またはJRA4066:2014JISB8613:1994またはJRA4066:2014 | K90: S-010005 | L90: 熱源・空調機（ヒートポンプ・中央方式） | M90: 水冷ヒートポンプチラー | N90: 水を熱源としたヒートポンプ方式の水冷式チリングユニット。 | O90: - | P90: 冷却能力 | Q90: 180.0kW超500.0kW以下 | R90: 通常申請 | T90: 5.57 | V90: - | W90: 成績係数（COP） | X90: 標準規格による評価 | Y90: JISB8613:1994またはJRA4066:2014 | Z90: いずれもウォータチリングユニット | AA90: JISB8613:1994またはJRA4066:2014に準拠 | AB90: JISB8613:1994またはJRA4066:2014 | AC90: いずれもウォータチリングユニット | AD90: JISB8613:1994またはJRA4066:2014に準拠
B91: =VLOOKUP(K91,[5]水準表DB!$E$8:$H$1510,4,FALSE) -> A | C91: =M91 -> 水冷ヒートポンプチラー | D91: =M91&O91 -> 水冷ヒートポンプチラー- | E91: =D91&P91 -> 水冷ヒートポンプチラー-冷却能力 | F91: =E91&V91&W91 -> 水冷ヒートポンプチラー-冷却能力-成績係数（COP） | G91: =F91&X91 -> 水冷ヒートポンプチラー-冷却能力-成績係数（COP）標準規格による評価 | H91: =G91&Y91 -> 水冷ヒートポンプチラー-冷却能力-成績係数（COP）標準規格による評価JISB8613:1994またはJRA4066:2014 | I91: =H91&AB91 -> 水冷ヒートポンプチラー-冷却能力-成績係数（COP）標準規格による評価JISB8613:1994またはJRA4066:2014JISB8613:1994またはJRA4066:2014 | K91: S-010006 | L91: 熱源・空調機（ヒートポンプ・中央方式） | M91: 水冷ヒートポンプチラー | N91: 水を熱源としたヒートポンプ方式の水冷式チリングユニット。 | O91: - | P91: 冷却能力 | Q91: 500.0kW超1000.0kW以下 | R91: 通常申請または簡易申請 | T91: 6 | V91: - | W91: 成績係数（COP） | X91: 標準規格による評価 | Y91: JISB8613:1994またはJRA4066:2014 | Z91: いずれもウォータチリングユニット | AA91: JISB8613:1994またはJRA4066:2014に準拠 | AB91: JISB8613:1994またはJRA4066:2014 | AC91: いずれもウォータチリングユニット | AD91: JISB8613:1994またはJRA4066:2014に準拠
B92: =VLOOKUP(K92,[5]水準表DB!$E$8:$H$1510,4,FALSE) -> A | C92: =M92 -> 水冷ヒートポンプチラー | D92: =M92&O92 -> 水冷ヒートポンプチラー- | E92: =D92&P92 -> 水冷ヒートポンプチラー-冷却能力 | F92: =E92&V92&W92 -> 水冷ヒートポンプチラー-冷却能力-成績係数（COP） | G92: =F92&X92 -> 水冷ヒートポンプチラー-冷却能力-成績係数（COP）標準規格による評価 | H92: =G92&Y92 -> 水冷ヒートポンプチラー-冷却能力-成績係数（COP）標準規格による評価JISB8613:1994またはJRA4066:2014 | I92: =H92&AB92 -> 水冷ヒートポンプチラー-冷却能力-成績係数（COP）標準規格による評価JISB8613:1994またはJRA4066:2014JISB8613:1994またはJRA4066:2014 | K92: S-010007 | L92: 熱源・空調機（ヒートポンプ・中央方式） | M92: 水冷ヒートポンプチラー | N92: 水を熱源としたヒートポンプ方式の水冷式チリングユニット。 | O92: - | P92: 冷却能力 | Q92: 1000.0kW超1500.0kW以下 | R92: 通常申請 | T92: 5.22 | V92: - | W92: 成績係数（COP） | X92: 標準規格による評価 | Y92: JISB8613:1994またはJRA4066:2014 | Z92: いずれもウォータチリングユニット | AA92: JISB8613:1994またはJRA4066:2014に準拠 | AB92: JISB8613:1994またはJRA4066:2014 | AC92: いずれもウォータチリングユニット | AD92: JISB8613:1994またはJRA4066:2014に準拠
B93: =VLOOKUP(K93,[5]水準表DB!$E$8:$H$1510,4,FALSE) -> A | C93: =M93 -> 水冷ヒートポンプチラー | D93: =M93&O93 -> 水冷ヒートポンプチラーブライン仕様、ブライン入口温度0℃、ブライン出口温度-5℃ | E93: =D93&P93 -> 水冷ヒートポンプチラーブライン仕様、ブライン入口温度0℃、ブライン出口温度-5℃冷却能力 | F93: =E93&V93&W93 -> 水冷ヒートポンプチラーブライン仕様、ブライン入口温度0℃、ブライン出口温度-5℃冷却能力-成績係数（COP） | G93: =F93&X93 -> 水冷ヒートポンプチラーブライン仕様、ブライン入口温度0℃、ブライン出口温度-5℃冷却能力-成績係数（COP）標準規格による評価 | H93: =G93&Y93 -> 水冷ヒートポンプチラーブライン仕様、ブライン入口温度0℃、ブライン出口温度-5℃冷却能力-成績係数（COP）標準規格による評価JISB8613:1994またはJRA4066:2014 | I93: =H93&AB93 -> 水冷ヒートポンプチラーブライン仕様、ブライン入口温度0℃、ブライン出口温度-5℃冷却能力-成績係数（COP）標準規格による評価JISB8613:1994またはJRA4066:2014JISB8613:1994またはJRA4066:2014 | K93: S-010008 | L93: 熱源・空調機（ヒートポンプ・中央方式） | M93: 水冷ヒートポンプチラー | N93: 水を熱源としたヒートポンプ方式の水冷式チリングユニット。 | O93: ブライン仕様、ブライン入口温度0℃、ブライン出口温度-5℃ | P93: 冷却能力 | Q93: 40.0kW以下 | R93: 通常申請 | T93: 2.37 | V93: - | W93: 成績係数（COP） | X93: 標準規格による評価 | Y93: JISB8613:1994またはJRA4066:2014 | Z93: いずれもウォータチリングユニット | AA93: JISB8613:1994またはJRA4066:2014に準拠 | AB93: JISB8613:1994またはJRA4066:2014 | AC93: いずれもウォータチリングユニット | AD93: JISB8613:1994またはJRA4066:2014に準拠。ただし、ブライン入口温度については0℃、ブライン出口温度については-5℃とする。
B94: =VLOOKUP(K94,[5]水準表DB!$E$8:$H$1510,4,FALSE) -> A | C94: =M94 -> 水冷ヒートポンプチラー | D94: =M94&O94 -> 水冷ヒートポンプチラーブライン仕様、ブライン入口温度0℃、ブライン出口温度-5℃ | E94: =D94&P94 -> 水冷ヒートポンプチラーブライン仕様、ブライン入口温度0℃、ブライン出口温度-5℃冷却能力 | F94: =E94&V94&W94 -> 水冷ヒートポンプチラーブライン仕様、ブライン入口温度0℃、ブライン出口温度-5℃冷却能力-成績係数（COP） | G94: =F94&X94 -> 水冷ヒートポンプチラーブライン仕様、ブライン入口温度0℃、ブライン出口温度-5℃冷却能力-成績係数（COP）標準規格による評価 | H94: =G94&Y94 -> 水冷ヒートポンプチラーブライン仕様、ブライン入口温度0℃、ブライン出口温度-5℃冷却能力-成績係数（COP）標準規格による評価JISB8613:1994またはJRA4066:2014 | I94: =H94&AB94 -> 水冷ヒートポンプチラーブライン仕様、ブライン入口温度0℃、ブライン出口温度-5℃冷却能力-成績係数（COP）標準規格による評価JISB8613:1994またはJRA4066:2014JISB8613:1994またはJRA4066:2014 | K94: S-010009 | L94: 熱源・空調機（ヒートポンプ・中央方式） | M94: 水冷ヒートポンプチラー | N94: 水を熱源としたヒートポンプ方式の水冷式チリングユニット。 | O94: ブライン仕様、ブライン入口温度0℃、ブライン出口温度-5℃ | P94: 冷却能力 | Q94: 40.0kW超80.0kW以下 | R94: 通常申請 | T94: 2.9 | V94: - | W94: 成績係数（COP） | X94: 標準規格による評価 | Y94: JISB8613:1994またはJRA4066:2014 | Z94: いずれもウォータチリングユニット | AA94: JISB8613:1994またはJRA4066:2014に準拠 | AB94: JISB8613:1994またはJRA4066:2014 | AC94: いずれもウォータチリングユニット | AD94: JISB8613:1994またはJRA4066:2014に準拠。ただし、ブライン入口温度については0℃、ブライン出口温度については-5℃とする。
B95: =VLOOKUP(K95,[5]水準表DB!$E$8:$H$1510,4,FALSE) -> A | C95: =M95 -> 水冷ヒートポンプチラー | D95: =M95&O95 -> 水冷ヒートポンプチラーブライン仕様、ブライン入口温度0℃、ブライン出口温度-5℃ | E95: =D95&P95 -> 水冷ヒートポンプチラーブライン仕様、ブライン入口温度0℃、ブライン出口温度-5℃冷却能力 | F95: =E95&V95&W95 -> 水冷ヒートポンプチラーブライン仕様、ブライン入口温度0℃、ブライン出口温度-5℃冷却能力-成績係数（COP） | G95: =F95&X95 -> 水冷ヒートポンプチラーブライン仕様、ブライン入口温度0℃、ブライン出口温度-5℃冷却能力-成績係数（COP）標準規格による評価 | H95: =G95&Y95 -> 水冷ヒートポンプチラーブライン仕様、ブライン入口温度0℃、ブライン出口温度-5℃冷却能力-成績係数（COP）標準規格による評価JISB8613:1994またはJRA4066:2014 | I95: =H95&AB95 -> 水冷ヒートポンプチラーブライン仕様、ブライン入口温度0℃、ブライン出口温度-5℃冷却能力-成績係数（COP）標準規格による評価JISB8613:1994またはJRA4066:2014JISB8613:1994またはJRA4066:2014 | K95: S-010010 | L95: 熱源・空調機（ヒートポンプ・中央方式） | M95: 水冷ヒートポンプチラー | N95: 水を熱源としたヒートポンプ方式の水冷式チリングユニット。 | O95: ブライン仕様、ブライン入口温度0℃、ブライン出口温度-5℃ | P95: 冷却能力 | Q95: 80.0kW超118.0kW以下 | R95: 通常申請 | T95: 3.2 | V95: - | W95: 成績係数（COP） | X95: 標準規格による評価 | Y95: JISB8613:1994またはJRA4066:2014 | Z95: いずれもウォータチリングユニット | AA95: JISB8613:1994またはJRA4066:2014に準拠 | AB95: JISB8613:1994またはJRA4066:2014 | AC95: いずれもウォータチリングユニット | AD95: JISB8613:1994またはJRA4066:2014に準拠。ただし、ブライン入口温度については0℃、ブライン出口温度については-5℃とする。
B96: =VLOOKUP(K96,[5]水準表DB!$E$8:$H$1510,4,FALSE) -> A | C96: =M96 -> 水冷ヒートポンプチラー | D96: =M96&O96 -> 水冷ヒートポンプチラーブライン仕様、ブライン入口温度0℃、ブライン出口温度-5℃ | E96: =D96&P96 -> 水冷ヒートポンプチラーブライン仕様、ブライン入口温度0℃、ブライン出口温度-5℃冷却能力 | F96: =E96&V96&W96 -> 水冷ヒートポンプチラーブライン仕様、ブライン入口温度0℃、ブライン出口温度-5℃冷却能力-成績係数（COP） | G96: =F96&X96 -> 水冷ヒートポンプチラーブライン仕様、ブライン入口温度0℃、ブライン出口温度-5℃冷却能力-成績係数（COP）標準規格による評価 | H96: =G96&Y96 -> 水冷ヒートポンプチラーブライン仕様、ブライン入口温度0℃、ブライン出口温度-5℃冷却能力-成績係数（COP）標準規格による評価JISB8613:1994またはJRA4066:2014 | I96: =H96&AB96 -> 水冷ヒートポンプチラーブライン仕様、ブライン入口温度0℃、ブライン出口温度-5℃冷却能力-成績係数（COP）標準規格による評価JISB8613:1994またはJRA4066:2014JISB8613:1994またはJRA4066:2014 | K96: S-010011 | L96: 熱源・空調機（ヒートポンプ・中央方式） | M96: 水冷ヒートポンプチラー | N96: 水を熱源としたヒートポンプ方式の水冷式チリングユニット。 | O96: ブライン仕様、ブライン入口温度0℃、ブライン出口温度-5℃ | P96: 冷却能力 | Q96: 118.0kW超180.0kW以下 | R96: 通常申請 | T96: 3.21 | V96: - | W96: 成績係数（COP） | X96: 標準規格による評価 | Y96: JISB8613:1994またはJRA4066:2014 | Z96: いずれもウォータチリングユニット | AA96: JISB8613:1994またはJRA4066:2014に準拠 | AB96: JISB8613:1994またはJRA4066:2014 | AC96: いずれもウォータチリングユニット | AD96: JISB8613:1994またはJRA4066:2014に準拠。ただし、ブライン入口温度については0℃、ブライン出口温度については-5℃とする。
... B98: =VLOOKUP(K98,[5]水準表DB!$E$8:$H$1510,4,FALSE) -> A | C98: =M98 -> 水冷ヒートポンプチラー | D98: =M98&O98 -> 水冷ヒートポンプチラーブライン仕様、ブライン入口温度0℃、ブライン出口温度-5℃ | E98: =D98&P98 -> 水冷ヒートポンプチラーブライン仕様、ブライン入口温度0℃、ブライン出口温度-5℃冷却能力 | F98: =E98&V98&W98 -> 水冷ヒートポンプチラーブライン仕様、ブライン入口温度0℃、ブライン出口温度-5℃冷却能力-成績係数（COP） | G98: =F98&X98 -> 水冷ヒートポンプチラーブライン仕様、ブライン入口温度0℃、ブライン出口温度-5℃冷却能力-成績係数（COP）標準規格による評価 | H98: =G98&Y98 -> 水冷ヒートポンプチラーブライン仕様、ブライン入口温度0℃、ブライン出口温度-5℃冷却能力-成績係数（COP）標準規格による評価JISB8613:1994またはJRA4066:2014 | I98: =H98&AB98 -> 水冷ヒートポンプチラーブライン仕様、ブライン入口温度0℃、ブライン出口温度-5℃冷却能力-成績係数（COP）標準規格による評価JISB8613:1994またはJRA4066:2014JISB8613:1994またはJRA4066:2014 | K98: S-010013 | L98: 熱源・空調機（ヒートポンプ・中央方式） | M98: 水冷ヒートポンプチラー | N98: 水を熱源としたヒートポンプ方式の水冷式チリングユニット。 | O98: ブライン仕様、ブライン入口温度0℃、ブライン出口温度-5℃ | P98: 冷却能力 | Q98: 500.0kW超1000.0kW以下 | R98: 通常申請 | T98: 2.72 | V98: - | W98: 成績係数（COP） | X98: 標準規格による評価 | Y98: JISB8613:1994またはJRA4066:2014 | Z98: いずれもウォータチリングユニット | AA98: JISB8613:1994またはJRA4066:2014に準拠 | AB98: JISB8613:1994またはJRA4066:2014 | AC98: いずれもウォータチリングユニット | AD98: JISB8613:1994またはJRA4066:2014に準拠。ただし、ブライン入口温度については0℃、ブライン出口温度については-5℃とする。
B99: =VLOOKUP(K99,[5]水準表DB!$E$8:$H$1510,4,FALSE) -> A | C99: =M99 -> 水冷ヒートポンプチラー | D99: =M99&O99 -> 水冷ヒートポンプチラーブライン仕様、ブライン入口温度0℃、ブライン出口温度-5℃ | E99: =D99&P99 -> 水冷ヒートポンプチラーブライン仕様、ブライン入口温度0℃、ブライン出口温度-5℃冷却能力 | F99: =E99&V99&W99 -> 水冷ヒートポンプチラーブライン仕様、ブライン入口温度0℃、ブライン出口温度-5℃冷却能力-成績係数（COP） | G99: =F99&X99 -> 水冷ヒートポンプチラーブライン仕様、ブライン入口温度0℃、ブライン出口温度-5℃冷却能力-成績係数（COP）標準規格による評価 | H99: =G99&Y99 -> 水冷ヒートポンプチラーブライン仕様、ブライン入口温度0℃、ブライン出口温度-5℃冷却能力-成績係数（COP）標準規格による評価JISB8613:1994またはJRA4066:2014 | I99: =H99&AB99 -> 水冷ヒートポンプチラーブライン仕様、ブライン入口温度0℃、ブライン出口温度-5℃冷却能力-成績係数（COP）標準規格による評価JISB8613:1994またはJRA4066:2014JISB8613:1994またはJRA4066:2014 | K99: S-010014 | L99: 熱源・空調機（ヒートポンプ・中央方式） | M99: 水冷ヒートポンプチラー | N99: 水を熱源としたヒートポンプ方式の水冷式チリングユニット。 | O99: ブライン仕様、ブライン入口温度0℃、ブライン出口温度-5℃ | P99: 冷却能力 | Q99: 1000.0kW超1500.0kW以下 | R99: 特別申請 | T99: - | V99: - | W99: 成績係数（COP） | X99: 標準規格による評価 | Y99: JISB8613:1994またはJRA4066:2014 | Z99: いずれもウォータチリングユニット | AA99: JISB8613:1994またはJRA4066:2014に準拠 | AB99: JISB8613:1994またはJRA4066:2014 | AC99: いずれもウォータチリングユニット | AD99: JISB8613:1994またはJRA4066:2014に準拠。ただし、ブライン入口温度については0℃、ブライン出口温度については-5℃とする。
B100: =VLOOKUP(K100,[5]水準表DB!$E$8:$H$1510,4,FALSE) -> A | C100: =M100 -> 空冷ヒートポンプチラー | D100: =M100&O100 -> 空冷ヒートポンプチラー- | E100: =D100&P100 -> 空冷ヒートポンプチラー-冷却能力 | F100: =E100&V100&W100 -> 空冷ヒートポンプチラー-冷却能力-期間成績係数（IPLV） | G100: =F100&X100 -> 空冷ヒートポンプチラー-冷却能力-期間成績係数（IPLV）標準規格による評価 | H100: =G100&Y100 -> 空冷ヒートポンプチラー-冷却能力-期間成績係数（IPLV）標準規格による評価JRA4066:2017 | I100: =H100&AB100 -> 空冷ヒートポンプチラー-冷却能力-期間成績係数（IPLV）標準規格による評価JRA4066:2017JRA4066:2017 | K100: S-011001 | L100: 熱源・空調機（ヒートポンプ・中央方式） | M100: 空冷ヒートポンプチラー | N100: 空気を熱源としたヒートポンプ方式の空冷式チリングユニット。 | O100: - | P100: 冷却能力 | Q100: 19.0kW以下 | R100: 通常申請または簡易申請 | T100: 5.2 | V100: - | W100: 期間成績係数（IPLV） | X100: 標準規格による評価 | Y100: JRA4066:2017 | Z100: ウォータチリングユニット | AA100: JRA4066:2017に準拠 | AB100: JRA4066:2017 | AC100: ウォータチリングユニット | AD100: JRA4066:2017に準拠
B101: =VLOOKUP(K101,[5]水準表DB!$E$8:$H$1510,4,FALSE) -> A | C101: =M101 -> 空冷ヒートポンプチラー | D101: =M101&O101 -> 空冷ヒートポンプチラー- | E101: =D101&P101 -> 空冷ヒートポンプチラー-冷却能力 | F101: =E101&V101&W101 -> 空冷ヒートポンプチラー-冷却能力-期間成績係数（IPLV） | G101: =F101&X101 -> 空冷ヒートポンプチラー-冷却能力-期間成績係数（IPLV）標準規格による評価 | H101: =G101&Y101 -> 空冷ヒートポンプチラー-冷却能力-期間成績係数（IPLV）標準規格による評価JRA4066:2017 | I101: =H101&AB101 -> 空冷ヒートポンプチラー-冷却能力-期間成績係数（IPLV）標準規格による評価JRA4066:2017JRA4066:2017 | K101: S-011002 | L101: 熱源・空調機（ヒートポンプ・中央方式） | M101: 空冷ヒートポンプチラー | N101: 空気を熱源としたヒートポンプ方式の空冷式チリングユニット。 | O101: - | P101: 冷却能力 | Q101: 19.0kW超25.0kW以下 | R101: 通常申請または簡易申請 | T101: 5.1 | V101: - | W101: 期間成績係数（IPLV） | X101: 標準規格による評価 | Y101: JRA4066:2017 | Z101: ウォータチリングユニット | AA101: JRA4066:2017に準拠 | AB101: JRA4066:2017 | AC101: ウォータチリングユニット | AD101: JRA4066:2017に準拠
B102: =VLOOKUP(K102,[5]水準表DB!$E$8:$H$1510,4,FALSE) -> A | C102: =M102 -> 空冷ヒートポンプチラー | D102: =M102&O102 -> 空冷ヒートポンプチラー- | E102: =D102&P102 -> 空冷ヒートポンプチラー-冷却能力 | F102: =E102&V102&W102 -> 空冷ヒートポンプチラー-冷却能力-期間成績係数（IPLV） | G102: =F102&X102 -> 空冷ヒートポンプチラー-冷却能力-期間成績係数（IPLV）標準規格による評価 | H102: =G102&Y102 -> 空冷ヒートポンプチラー-冷却能力-期間成績係数（IPLV）標準規格による評価JRA4066:2017 | I102: =H102&AB102 -> 空冷ヒートポンプチラー-冷却能力-期間成績係数（IPLV）標準規格による評価JRA4066:2017JRA4066:2017 | K102: S-011003 | L102: 熱源・空調機（ヒートポンプ・中央方式） | M102: 空冷ヒートポンプチラー | N102: 空気を熱源としたヒートポンプ方式の空冷式チリングユニット。 | O102: - | P102: 冷却能力 | Q102: 25.0kW超37.5kW以下 | R102: 通常申請または簡易申請 | T102: 5.1 | V102: - | W102: 期間成績係数（IPLV） | X102: 標準規格による評価 | Y102: JRA4066:2017 | Z102: ウォータチリングユニット | AA102: JRA4066:2017に準拠 | AB102: JRA4066:2017 | AC102: ウォータチリングユニット | AD102: JRA4066:2017に準拠
B103: =VLOOKUP(K103,[5]水準表DB!$E$8:$H$1510,4,FALSE) -> A | C103: =M103 -> 空冷ヒートポンプチラー | D103: =M103&O103 -> 空冷ヒートポンプチラー- | E103: =D103&P103 -> 空冷ヒートポンプチラー-冷却能力 | F103: =E103&V103&W103 -> 空冷ヒートポンプチラー-冷却能力-期間成績係数（IPLV） | G103: =F103&X103 -> 空冷ヒートポンプチラー-冷却能力-期間成績係数（IPLV）標準規格による評価 | H103: =G103&Y103 -> 空冷ヒートポンプチラー-冷却能力-期間成績係数（IPLV）標準規格による評価JRA4066:2017 | I103: =H103&AB103 -> 空冷ヒートポンプチラー-冷却能力-期間成績係数（IPLV）標準規格による評価JRA4066:2017JRA4066:2017 | K103: S-011004 | L103: 熱源・空調機（ヒートポンプ・中央方式） | M103: 空冷ヒートポンプチラー | N103: 空気を熱源としたヒートポンプ方式の空冷式チリングユニット。 | O103: - | P103: 冷却能力 | Q103: 37.5kW超50.0kW以下 | R103: 通常申請または簡易申請 | T103: 5.6 | V103: - | W103: 期間成績係数（IPLV） | X103: 標準規格による評価 | Y103: JRA4066:2017 | Z103: ウォータチリングユニット | AA103: JRA4066:2017に準拠 | AB103: JRA4066:2017 | AC103: ウォータチリングユニット | AD103: JRA4066:2017に準拠
B104: =VLOOKUP(K104,[5]水準表DB!$E$8:$H$1510,4,FALSE) -> A | C104: =M104 -> 空冷ヒートポンプチラー | D104: =M104&O104 -> 空冷ヒートポンプチラー- | E104: =D104&P104 -> 空冷ヒートポンプチラー-冷却能力 | F104: =E104&V104&W104 -> 空冷ヒートポンプチラー-冷却能力-期間成績係数（IPLV） | G104: =F104&X104 -> 空冷ヒートポンプチラー-冷却能力-期間成績係数（IPLV）標準規格による評価 | H104: =G104&Y104 -> 空冷ヒートポンプチラー-冷却能力-期間成績係数（IPLV）標準規格による評価JRA4066:2017 | I104: =H104&AB104 -> 空冷ヒートポンプチラー-冷却能力-期間成績係数（IPLV）標準規格による評価JRA4066:2017JRA4066:2017 | K104: S-011005 | L104: 熱源・空調機（ヒートポンプ・中央方式） | M104: 空冷ヒートポンプチラー | N104: 空気を熱源としたヒートポンプ方式の空冷式チリングユニット。 | O104: - | P104: 冷却能力 | Q104: 50.0kW超60.0kW以下 | R104: 特別申請 | T104: - | V104: - | W104: 期間成績係数（IPLV） | X104: 標準規格による評価 | Y104: JRA4066:2017 | Z104: ウォータチリングユニット | AA104: JRA4066:2017に準拠 | AB104: JRA4066:2017 | AC104: ウォータチリングユニット | AD104: JRA4066:2017に準拠
B105: =VLOOKUP(K105,[5]水準表DB!$E$8:$H$1510,4,FALSE) -> A | C105: =M105 -> 空冷ヒートポンプチラー | D105: =M105&O105 -> 空冷ヒートポンプチラー- | E105: =D105&P105 -> 空冷ヒートポンプチラー-冷却能力 | F105: =E105&V105&W105 -> 空冷ヒートポンプチラー-冷却能力-期間成績係数（IPLV） | G105: =F105&X105 -> 空冷ヒートポンプチラー-冷却能力-期間成績係数（IPLV）標準規格による評価 | H105: =G105&Y105 -> 空冷ヒートポンプチラー-冷却能力-期間成績係数（IPLV）標準規格による評価JRA4066:2017 | I105: =H105&AB105 -> 空冷ヒートポンプチラー-冷却能力-期間成績係数（IPLV）標準規格による評価JRA4066:2017JRA4066:2017 | K105: S-011006 | L105: 熱源・空調機（ヒートポンプ・中央方式） | M105: 空冷ヒートポンプチラー | N105: 空気を熱源としたヒートポンプ方式の空冷式チリングユニット。 | O105: - | P105: 冷却能力 | Q105: 60.0kW超90.0kW以下 | R105: 通常申請または簡易申請 | T105: 6.4 | V105: - | W105: 期間成績係数（IPLV） | X105: 標準規格による評価 | Y105: JRA4066:2017 | Z105: ウォータチリングユニット | AA105: JRA4066:2017に準拠 | AB105: JRA4066:2017 | AC105: ウォータチリングユニット | AD105: JRA4066:2017に準拠
B106: =VLOOKUP(K106,[5]水準表DB!$E$8:$H$1510,4,FALSE) -> A | C106: =M106 -> 空冷ヒートポンプチラー | D106: =M106&O106 -> 空冷ヒートポンプチラー- | E106: =D106&P106 -> 空冷ヒートポンプチラー-冷却能力 | F106: =E106&V106&W106 -> 空冷ヒートポンプチラー-冷却能力-期間成績係数（IPLV） | G106: =F106&X106 -> 空冷ヒートポンプチラー-冷却能力-期間成績係数（IPLV）標準規格による評価 | H106: =G106&Y106 -> 空冷ヒートポンプチラー-冷却能力-期間成績係数（IPLV）標準規格による評価JRA4066:2017 | I106: =H106&AB106 -> 空冷ヒートポンプチラー-冷却能力-期間成績係数（IPLV）標準規格による評価JRA4066:2017JRA4066:2017 | K106: S-011007 | L106: 熱源・空調機（ヒートポンプ・中央方式） | M106: 空冷ヒートポンプチラー | N106: 空気を熱源としたヒートポンプ方式の空冷式チリングユニット。 | O106: - | P106: 冷却能力 | Q106: 90.0kW超120.0kW以下 | R106: 通常申請または簡易申請 | T106: 6 | V106: - | W106: 期間成績係数（IPLV） | X106: 標準規格による評価 | Y106: JRA4066:2017 | Z106: ウォータチリングユニット | AA106: JRA4066:2017に準拠 | AB106: JRA4066:2017 | AC106: ウォータチリングユニット | AD106: JRA4066:2017に準拠
B107: =VLOOKUP(K107,[5]水準表DB!$E$8:$H$1510,4,FALSE) -> A | C107: =M107 -> 空冷ヒートポンプチラー | D107: =M107&O107 -> 空冷ヒートポンプチラー- | E107: =D107&P107 -> 空冷ヒートポンプチラー-冷却能力 | F107: =E107&V107&W107 -> 空冷ヒートポンプチラー-冷却能力-期間成績係数（IPLV） | G107: =F107&X107 -> 空冷ヒートポンプチラー-冷却能力-期間成績係数（IPLV）標準規格による評価 | H107: =G107&Y107 -> 空冷ヒートポンプチラー-冷却能力-期間成績係数（IPLV）標準規格による評価JRA4066:2017 | I107: =H107&AB107 -> 空冷ヒートポンプチラー-冷却能力-期間成績係数（IPLV）標準規格による評価JRA4066:2017JRA4066:2017 | K107: S-011008 | L107: 熱源・空調機（ヒートポンプ・中央方式） | M107: 空冷ヒートポンプチラー | N107: 空気を熱源としたヒートポンプ方式の空冷式チリングユニット。 | O107: - | P107: 冷却能力 | Q107: 120.0kW超160.0kW以下 | R107: 通常申請または簡易申請 | T107: 5.7 | V107: - | W107: 期間成績係数（IPLV） | X107: 標準規格による評価 | Y107: JRA4066:2017 | Z107: ウォータチリングユニット | AA107: JRA4066:2017に準拠 | AB107: JRA4066:2017 | AC107: ウォータチリングユニット | AD107: JRA4066:2017に準拠
B108: =VLOOKUP(K108,[5]水準表DB!$E$8:$H$1510,4,FALSE) -> A | C108: =M108 -> 空冷ヒートポンプチラー | D108: =M108&O108 -> 空冷ヒートポンプチラー- | E108: =D108&P108 -> 空冷ヒートポンプチラー-冷却能力 | F108: =E108&V108&W108 -> 空冷ヒートポンプチラー-冷却能力-期間成績係数（IPLV） | G108: =F108&X108 -> 空冷ヒートポンプチラー-冷却能力-期間成績係数（IPLV）標準規格による評価 | H108: =G108&Y108 -> 空冷ヒートポンプチラー-冷却能力-期間成績係数（IPLV）標準規格による評価JRA4066:2017 | I108: =H108&AB108 -> 空冷ヒートポンプチラー-冷却能力-期間成績係数（IPLV）標準規格による評価JRA4066:2017JRA4066:2017 | K108: S-011009 | L108: 熱源・空調機（ヒートポンプ・中央方式） | M108: 空冷ヒートポンプチラー | N108: 空気を熱源としたヒートポンプ方式の空冷式チリングユニット。 | O108: - | P108: 冷却能力 | Q108: 160.0kW超190.0kW以下 | R108: 通常申請または簡易申請 | T108: 5.4 | V108: - | W108: 期間成績係数（IPLV） | X108: 標準規格による評価 | Y108: JRA4066:2017 | Z108: ウォータチリングユニット | AA108: JRA4066:2017に準拠 | AB108: JRA4066:2017 | AC108: ウォータチリングユニット | AD108: JRA4066:2017に準拠
B109: =VLOOKUP(K109,[5]水準表DB!$E$8:$H$1510,4,FALSE) -> A | C109: =M109 -> 空冷ヒートポンプチラー | D109: =M109&O109 -> 空冷ヒートポンプチラー- | E109: =D109&P109 -> 空冷ヒートポンプチラー-冷却能力 | F109: =E109&V109&W109 -> 空冷ヒートポンプチラー-冷却能力-期間成績係数（IPLV） | G109: =F109&X109 -> 空冷ヒートポンプチラー-冷却能力-期間成績係数（IPLV）標準規格による評価 | H109: =G109&Y109 -> 空冷ヒートポンプチラー-冷却能力-期間成績係数（IPLV）標準規格による評価JRA4066:2017 | I109: =H109&AB109 -> 空冷ヒートポンプチラー-冷却能力-期間成績係数（IPLV）標準規格による評価JRA4066:2017JRA4066:2017 | K109: S-011010 | L109: 熱源・空調機（ヒートポンプ・中央方式） | M109: 空冷ヒートポンプチラー | N109: 空気を熱源としたヒートポンプ方式の空冷式チリングユニット。 | O109: - | P109: 冷却能力 | Q109: 190.0kW超 | R109: 通常申請または簡易申請 | T109: 5.2 | V109: - | W109: 期間成績係数（IPLV） | X109: 標準規格による評価 | Y109: JRA4066:2017 | Z109: ウォータチリングユニット | AA109: JRA4066:2017に準拠 | AB109: JRA4066:2017 | AC109: ウォータチリングユニット | AD109: JRA4066:2017に準拠
B110: =VLOOKUP(K110,[5]水準表DB!$E$8:$H$1510,4,FALSE) -> A | C110: =M110 -> 空冷ヒートポンプチラー | D110: =M110&O110 -> 空冷ヒートポンプチラー- | E110: =D110&P110 -> 空冷ヒートポンプチラー-冷却能力 | F110: =E110&V110&W110 -> 空冷ヒートポンプチラー-冷却能力-成績係数（COP） | G110: =F110&X110 -> 空冷ヒートポンプチラー-冷却能力-成績係数（COP）標準規格による評価 | H110: =G110&Y110 -> 空冷ヒートポンプチラー-冷却能力-成績係数（COP）標準規格による評価JISB8613:2019またはJRA4066:2017 | I110: =H110&AB110 -> 空冷ヒートポンプチラー-冷却能力-成績係数（COP）標準規格による評価JISB8613:2019またはJRA4066:2017JISB8613:2019またはJRA4066:2017 | K110: S-011011 | L110: 熱源・空調機（ヒートポンプ・中央方式） | M110: 空冷ヒートポンプチラー | N110: 空気を熱源としたヒートポンプ方式の空冷式チリングユニット。 | O110: - | P110: 冷却能力 | Q110: 60.0kW以下 | R110: 通常申請 | T110: 3.85 | V110: - | W110: 成績係数（COP） | X110: 標準規格による評価 | Y110: JISB8613:2019またはJRA4066:2017 | Z110: いずれもウォータチリングユニット | AA110: JISB8613:2019またはJRA4066:2017に準拠 | AB110: JISB8613:2019またはJRA4066:2017 | AC110: いずれもウォータチリングユニット | AD110: JISB8613:2019またはJRA4066:2017に準拠
B111: =VLOOKUP(K111,[5]水準表DB!$E$8:$H$1510,4,FALSE) -> A | C111: =M111 -> 空冷ヒートポンプチラー | D111: =M111&O111 -> 空冷ヒートポンプチラー- | E111: =D111&P111 -> 空冷ヒートポンプチラー-冷却能力 | F111: =E111&V111&W111 -> 空冷ヒートポンプチラー-冷却能力-成績係数（COP） | G111: =F111&X111 -> 空冷ヒートポンプチラー-冷却能力-成績係数（COP）標準規格による評価 | H111: =G111&Y111 -> 空冷ヒートポンプチラー-冷却能力-成績係数（COP）標準規格による評価JISB8613:2019またはJRA4066:2017 | I111: =H111&AB111 -> 空冷ヒートポンプチラー-冷却能力-成績係数（COP）標準規格による評価JISB8613:2019またはJRA4066:2017JISB8613:2019またはJRA4066:2017 | K111: S-011012 | L111: 熱源・空調機（ヒートポンプ・中央方式） | M111: 空冷ヒートポンプチラー | N111: 空気を熱源としたヒートポンプ方式の空冷式チリングユニット。 | O111: - | P111: 冷却能力 | Q111: 60.0kW超90.0kW以下 | R111: 通常申請 | T111: 4.07 | V111: - | W111: 成績係数（COP） | X111: 標準規格による評価 | Y111: JISB8613:2019またはJRA4066:2017 | Z111: いずれもウォータチリングユニット | AA111: JISB8613:2019またはJRA4066:2017に準拠 | AB111: JISB8613:2019またはJRA4066:2017 | AC111: いずれもウォータチリングユニット | AD111: JISB8613:2019またはJRA4066:2017に準拠
B112: =VLOOKUP(K112,[5]水準表DB!$E$8:$H$1510,4,FALSE) -> A | C112: =M112 -> 空冷ヒートポンプチラー | D112: =M112&O112 -> 空冷ヒートポンプチラー- | E112: =D112&P112 -> 空冷ヒートポンプチラー-冷却能力 | F112: =E112&V112&W112 -> 空冷ヒートポンプチラー-冷却能力-成績係数（COP） | G112: =F112&X112 -> 空冷ヒートポンプチラー-冷却能力-成績係数（COP）標準規格による評価 | H112: =G112&Y112 -> 空冷ヒートポンプチラー-冷却能力-成績係数（COP）標準規格による評価JISB8613:2019またはJRA4066:2017 | I112: =H112&AB112 -> 空冷ヒートポンプチラー-冷却能力-成績係数（COP）標準規格による評価JISB8613:2019またはJRA4066:2017JISB8613:2019またはJRA4066:2017 | K112: S-011013 | L112: 熱源・空調機（ヒートポンプ・中央方式） | M112: 空冷ヒートポンプチラー | N112: 空気を熱源としたヒートポンプ方式の空冷式チリングユニット。 | O112: - | P112: 冷却能力 | Q112: 90.0kW超120.0kW以下 | R112: 通常申請 | T112: 4 | V112: - | W112: 成績係数（COP） | X112: 標準規格による評価 | Y112: JISB8613:2019またはJRA4066:2017 | Z112: いずれもウォータチリングユニット | AA112: JISB8613:2019またはJRA4066:2017に準拠 | AB112: JISB8613:2019またはJRA4066:2017 | AC112: いずれもウォータチリングユニット | AD112: JISB8613:2019またはJRA4066:2017に準拠
B113: =VLOOKUP(K113,[5]水準表DB!$E$8:$H$1510,4,FALSE) -> A | C113: =M113 -> 空冷ヒートポンプチラー | D113: =M113&O113 -> 空冷ヒートポンプチラー- | E113: =D113&P113 -> 空冷ヒートポンプチラー-冷却能力 | F113: =E113&V113&W113 -> 空冷ヒートポンプチラー-冷却能力-成績係数（COP） | G113: =F113&X113 -> 空冷ヒートポンプチラー-冷却能力-成績係数（COP）標準規格による評価 | H113: =G113&Y113 -> 空冷ヒートポンプチラー-冷却能力-成績係数（COP）標準規格による評価JISB8613:2019またはJRA4066:2017 | I113: =H113&AB113 -> 空冷ヒートポンプチラー-冷却能力-成績係数（COP）標準規格による評価JISB8613:2019またはJRA4066:2017JISB8613:2019またはJRA4066:2017 | K113: S-011014 | L113: 熱源・空調機（ヒートポンプ・中央方式） | M113: 空冷ヒートポンプチラー | N113: 空気を熱源としたヒートポンプ方式の空冷式チリングユニット。 | O113: - | P113: 冷却能力 | Q113: 120.0kW超160.0kW以下 | R113: 通常申請 | T113: 4 | V113: - | W113: 成績係数（COP） | X113: 標準規格による評価 | Y113: JISB8613:2019またはJRA4066:2017 | Z113: いずれもウォータチリングユニット | AA113: JISB8613:2019またはJRA4066:2017に準拠 | AB113: JISB8613:2019またはJRA4066:2017 | AC113: いずれもウォータチリングユニット | AD113: JISB8613:2019またはJRA4066:2017に準拠
...

Sheet 水準表_別紙
C1: 別紙
C3: No. | D3: 設備・機器等 | E3: クラス | G3: LD-Tech水準 | H3: 備 考
E5: 条件 | F5: 能力
C6: S-092001 | D6: BEMS（制御サービス・空調・熱源・中央方式） | E6: 空気熱源仕様 | F6: - | G6: 下記の①～⑤の条件を満たすBEMSサービスであること。 ①冷水負荷熱量、冷水出口温度、外気温度、熱源機エネルギー消費量、冷水ポンプエネルギー消費量を計測できる機能を保有 ②上記①の計測粒度が1分単位以内であること ③冷水負荷熱量、冷水出口温度、外気温度、を説明変数として、合計のエネルギー消費量（熱源機エネルギー消費量、冷水ポンプエネルギー消費量の合計）が最小となるような冷水出口温度を（過去の実績データに基づいて）自動で算出できる機能を保有 ④上記の算出結果に基づいて冷水出口温度を自動制御できる機能を保有 ⑤導入可能な施設が、限定されない | H6: 複数の設備・機器等及び事業者にまたがりサービスが提供されるケースが存在するため、「BEMSサービス」を認証単位とした。その上で、審査・認証の実現可能性の観点から「具備機能による評価」を行うこととした。 事例調査の結果、BEMSサービスには、情報提供サービス及び制御サービスが存在するが、中でも提供件数の最も多い中央方式の空調機を対象とした制御サービスを認証対象として設定した。 文献調査及び企業・有識者へのヒアリングに基づき、サービスにおいて求められる機能要件は、下記の通りとし、本リストでは下記の「要件0」及び「要件1」に基づいて水準を設定している。 要件0（必須）：導入可能な施設が限定されない 要件1：セントラル空調システム全体のエネルギー消費量が最小となる負荷熱量を自動で算出し、それに基づいて自動的にシステムを制御可能
C7: S-092002 | D7: BEMS（制御サービス・空調・熱源・中央方式） | E7: 水熱源仕様 | F7: - | G7: 下記の①～⑤の条件を満たすBEMSサービスであること。 ①冷水負荷熱量、冷水出口温度、冷却水入口温度、外気温度、熱源機エネルギー消費量、熱源補機エネルギー消費量、冷水ポンプエネルギー消費量、冷却水ポンプエネルギー消費量を計測できる機能を保有 ②上記①の計測粒度が1分単位以内であること ③冷水負荷熱量、冷水出口温度、冷却水入口温度、外気温度を説明変数として、合計のエネルギー消費量（熱源機エネルギー消費量、熱源補機エネルギー消費量、冷水ポンプエネルギー消費量、冷却水ポンプエネルギー消費量の合計）が最小となるような冷水出口温度を（過去の実績データに基づいて）自動で算出できる機能を保有 ④上記③の算出結果に基づいて冷水出口温度を自動制御できる機能を保有 ⑤導入可能な施設が、限定されない | H7: 複数の設備・機器等及び事業者にまたがりサービスが提供されるケースが存在するため、「BEMSサービス」を認証単位とした。その上で、審査・認証の実現可能性の観点から「具備機能による評価」を行うこととした。 事例調査の結果、BEMSサービスには、情報提供サービス及び制御サービスが存在するが、中でも提供件数の最も多い中央方式の空調機を対象とした制御サービスを認証対象として設定した。 文献調査及び企業・有識者へのヒアリングに基づき、サービスにおいて求められる機能要件は、下記の通りとし、本リストでは下記の「要件0」及び「要件1」に基づいて水準を設定している。 要件0（必須）：導入可能な施設が限定されない 要件1：セントラル空調システム全体のエネルギー消費量が最小となる負荷熱量を自動で算出し、それに基づいて自動的にシステムを制御可能
C8: S-092003 | D8: BEMS（制御サービス・空調・熱源・中央方式） | E8: 複合熱源仕様 | F8: - | G8: 下記の①～⑦の条件を満たすBEMSサービスであること。 ①冷熱負荷熱量、温熱負荷熱量を計測または算出できる機能を保有 ②外気温湿度の計測・過去実績・予測データを利用できる機能を保有 ③熱源機の冷温水設定温度、冷温水出口・入口温度、冷温水流量、熱源機・補器類消費電力を計測できる機能を保有 ④上記①～③の計測粒度が１分単位以内であるか、計測データによっては、補間して１分単位以内のデータにできること ⑤冷熱負荷熱量、温熱負荷熱量、外気温湿度の計測・過去実績・予測データ、熱源機の冷温水設定温度、冷温水出口・入口温度、冷温水流量を説明変数として、合計のエネルギー（熱源機エネルギー消費量、補機類エネルギー消費量）が最少となるような、各熱源機の熱負荷処理配分、各機器の設定値、運転モードを自動で算出できる機能を保有 ⑥上記⑤の算出結果に基づいて自動制御できる機能を保有 ⑦導入可能な施設が、限定されない | H8: 複数の設備・機器等及び事業者にまたがりサービスが提供されるケースが存在するため、「BEMSサービス」を認証単位とした。その上で、審査・認証の実現可能性の観点から「具備機能による評価」を行うこととした。 事例調査の結果、BEMSサービスには、情報提供サービス及び制御サービスが存在するが、中でも提供件数の最も多い中央方式の空調機を対象とした制御サービスを認証対象として設定した。 文献調査及び企業・有識者へのヒアリングに基づき、サービスにおいて求められる機能要件は、下記の通りとし、本リストでは下記の「要件0」及び「要件1」に基づいて水準を設定している。 要件0（必須）：導入可能な施設が限定されない 要件1：セントラル空調システム全体のエネルギー消費量が最小となる負荷熱量を自動で算出し、それに基づいて自動的にシステムを制御可能
C9: S-268001 | D9: BEMS（制御サービス・空調・熱源・個別方式・中央方式併用） | E9: - | F9: - | G9: 下記の①～⑨の条件を満たすBEMSサービスであること。 ①外気温湿度の計測・過去実績・予測データを利用できる機能を保有 ②室内における冷熱負荷熱量、温熱負荷熱量を計測または算出できる機能を有し、それを潜熱負荷、顕熱負荷に分けることができる機能を保有 ③中央熱源方式にあっては、熱源機の冷温水設定温度、冷温水出口・入口温度、冷温水流量、熱源機、補器類消費電力を計測できる機能を保有 ④空調機及び外調機は、給気温湿度、露点温度、ファン風量、ファン消費電力を計測できる機能を保有 ⑤個別空調方式にあっては、機器の運転モード、設定温度、消費電力を計測できる機能を保有 ⑥上記①～⑤の計測粒度が１分単位以内であるか、計測データによっては、補間して１分単位以内のデータにできること ⑦③～⑤のデータに基づいて、中央熱源方式の熱源機、補器類の消費電力、空調機、外調機の消費電力、個別空調機の消費電力の合計が最小となるような中央熱源方式と個別空調方式の熱負荷配分、各機器の設定値、運転モードを自動で算出できる機能を保有 ⑧上記⑦の算出結果に基づいて自動制御できる機能を保有 ⑨導入可能な施設が、限定されない | H9: 複数の設備・機器等及び事業者にまたがりサービスが提供されるケースが存在するため、「BEMSサービス」を認証単位とした。その上で、審査・認証の実現可能性の観点から「具備機能による評価」を行うこととした。 事例調査の結果、BEMSサービスには、情報提供サービス及び制御サービスが存在するが、中でも提供件数の最も多い中央方式の空調機を対象とした制御サービスを認証対象として設定した。 文献調査及び企業・有識者へのヒアリングに基づき、サービスにおいて求められる機能要件は、下記の通りとし、本リストでは下記の「要件0」及び「要件1」に基づいて水準を設定している。 要件0（必須）：導入可能な施設が限定されない 要件1：セントラル空調システム全体のエネルギー消費量が最小となる負荷熱量を自動で算出し、それに基づいて自動的にシステムを制御可能
C10: S-126001 | D10: 内部熱交換最適化蒸留システム | E10: 蒸留塔が高圧部（濃縮部）と低圧部（回収部）とで物理的に分離しており一体型でないもの | F10: - | G10: 下記の①および②の条件を満たす蒸留システムであること。 ①高圧部と低圧部とで熱交換できる機能を保有 ②蒸留塔内部の熱分布を調整し熱交換率を最適化できる機能を保有 | H10: 本設備・機器等は、個別受注設計生産されるため標準条件（試験条件、計算方法）を設定し、定量評価する方法はそぐわないと判断し、審査・認証の実現可能性の観点から「具備機能による評価」を行うこととした。 文献調査及び企業・有識者へのヒアリングに基づき、本設備・機器等として求められる機能要件をLD-Tech水準とした。
C11: S-186001 | D11: HEMS（情報提供サービス・家電全般） | E11: - | F11: - | G11: 下記の①～⑤の条件を満たすHEMSサービスであること。 ①対象住宅全体の電力消費量を、30分単位以内で計測できる機能を保有 ②上記①において計測したエネルギー消費量と、他住宅で計測したエネルギー消費量を比較し、対象住宅全体のエネルギー消費量のランキング情報を表示できる機能を保有 ③上記②のランキング情報を、対象住宅におけるユーザー属性別※に表示できる機能を保有 ※地域別、間取別、家族構成別の3種いずれも ④導入可能な住宅が、単一の住宅メーカーが供給する住宅に限定されない ⑤導入の際にインターネット接続サービスへの加入が必要な場合、集合住宅向け全戸一括契約型へのサービス加入を前提としない | H11: 複数の設備・機器等及び事業者にまたがりサービスが提供されるケースが存在するため、「HEMSサービス」を認証単位とした。その上で、審査・認証の実現可能性の観点から「具備機能による評価」を行うこととした。 事例調査の結果、HEMSサービスには、情報提供サービス及び制御サービスが存在するが、中でも提供件数の最も多い家電全般を対象とした情報提供サービスを認証対象として設定した。 文献調査及び企業・有識者へのヒアリングに基づき、サービスにおいて求められる機能要件は、下記のいずれかとし、本リストでは「要件0」および「要件3」を対象とし水準を設定している。 要件0（必須）：導入可能な住宅が限定的されていない 要件1：現状のエネルギー消費量に応じて省エネアドバイス、および目標の省エネ量が提供可能 要件2：現状の光熱水道費に応じて節約アドバイス、および目標の節約額を提供可能 要件3：エネルギー消費量が類似している世帯との比較情報の提供が可能 要件4：過去のサービス利用履歴の情報に基づいて、より興味・関心の強い情報の提供が可能 要件5：現状のエネルギー消費量が自身の平均的な消費量と比較して多くなったタイミングで、消費量が多いことを閲覧頻度が多い媒体へPush配信可能

Sheet ⇒水準推移

Sheet L2-Tech
B5: L2-Tech水準表 | M5: クラス整理 | U5: 水準表情報No. | AB5: L2-Tech水準値 | AP5: 水準値変化 | BC5: 認証実績 | BJ5: 認証実績クラス特定
A6: 2020 | B6: 部門1 | C6: 部門2 | D6: 技術分類 | E6: 設備・機器等 | F6: 原理・しくみ | G6: クラス 条件 | H6: クラス 能力（名称） | I6: クラス能力（単位） | J6: 測定単位（名称） | K6: 認証対象 | L6: TR該当 | M6: A | N6: B | O6: C | P6: D | Q6: 製品調査 実施有無 | R6: 更新サイクル | S6: 性能判断基準 | T6: KEY | U6: 2016夏 | V6: 2016冬 | W6: 2017夏 | X6: 2017冬 | Y6: 2018 | Z6: 2019 | AA6: 2020 | AB6: 2016夏 | AC6: 2016冬 | AD6: 2017夏 | AE6: 2017冬 | AF6: 2018 | AG6: 2019 | AH6: 2020素案 | AI6: 2020認証対象 | AJ6: 別紙水準 | AK6: 複層ガラス | AL6: 19認証製品最高値 | AM6: 2020 | AN6: 2021素案 | AO6: 20認証製品最高値 | AP6: 16夏→16冬 | AQ6: 16冬→17夏 | AR6: 17夏→17冬 | AS6: 16夏→17夏 | AT6: 16冬→17冬 | AU6: 17冬→18 | AV6: 18→19 | AW6: 16冬→18 | AX6: 17→19 | AY6: 16冬→19 | AZ6: 19-20 | BA6: 18→20 | BB6: 17冬→20 | BC6: 2016夏 | BD6: 2016冬 | BE6: 2017夏 | BF6: 2017冬 | BG6: 2018 | BH6: 2019 | BI6: 2020 | BJ6: 2020対象外クラス | BK6: 2019-20対象外クラス | BL6: 2018-20対象外クラス
A7: S-005901 | B7: 産業・業務（業種共通） | C7: 空調 | D7: 空調機（ヒートポンプ・個別方式） | E7: ガスヒートポンプ | F7: 室外機内のコンプレッサの駆動をガスエンジンで行うヒートポンプ方式の空気調和機。 | G7: - | H7: 相当馬力数 | I7: 7.5HP以下 | J7: COPp | K7: 通常または簡易 | M7: 1 | O7: 1 | S7: 大 | T7: ガスヒートポンプ-7.5HP以下COPp | U7: S-001778 | V7: S-001778 | W7: S-001778 | X7: S-002139 | Y7: S-003275 | Z7: S-004535 | AA7: S-005901 | AB7: 1.19 | AC7: 1.19 | AD7: 1.19 | AE7: 1.19 | AF7: 1.19 | AG7: 1.19 | AH7: 1.19 | AI7: 通常または簡易 | AJ7: 0 | AK7: 0 | AL7: 1.19 | AM7: 1.19 | AN7: 1.19 | AO7: 1.19 | AP7: なし | AQ7: なし | AR7: なし | AS7: なし | AT7: なし | AU7: なし | AV7: なし | AW7: なし | AX7: なし | AY7: なし | AZ7: なし | BA7: なし | BB7: なし | BC7: あり | BD7: あり | BE7: あり | BF7: あり | BG7: あり | BH7: あり | BI7: あり | BJ7: 0 | BK7: 0 | BL7: 0
A8: S-005902 | B8: 産業・業務（業種共通） | C8: 空調 | D8: 空調機（ヒートポンプ・個別方式） | E8: ガスヒートポンプ | F8: 室外機内のコンプレッサの駆動をガスエンジンで行うヒートポンプ方式の空気調和機。 | G8: - | H8: 相当馬力数 | I8: 7.5HP超10HP以下 | J8: COPp | K8: 通常または簡易 | M8: 1 | O8: 1 | S8: 大 | T8: ガスヒートポンプ-7.5HP超10HP以下COPp | U8: S-001779 | V8: S-001779 | W8: S-001779 | X8: S-002112 | Y8: S-003276 | Z8: S-004536 | AA8: S-005902 | AB8: 1.22 | AC8: 1.22 | AD8: 1.22 | AE8: 1.22 | AF8: 1.22 | AG8: 1.22 | AH8: 1.22 | AI8: 通常または簡易 | AJ8: 0 | AK8: 0 | AL8: 1.22 | AM8: 1.22 | AN8: 1.22 | AO8: 1.22 | AP8: なし | AQ8: なし | AR8: なし | AS8: なし | AT8: なし | AU8: なし | AV8: なし | AW8: なし | AX8: なし | AY8: なし | AZ8: なし | BA8: なし | BB8: なし | BC8: あり | BD8: あり | BE8: あり | BF8: あり | BG8: あり | BH8: あり | BI8: あり | BJ8: 0 | BK8: 0 | BL8: 0
A9: S-005903 | B9: 産業・業務（業種共通） | C9: 空調 | D9: 空調機（ヒートポンプ・個別方式） | E9: ガスヒートポンプ | F9: 室外機内のコンプレッサの駆動をガスエンジンで行うヒートポンプ方式の空気調和機。 | G9: - | H9: 相当馬力数 | I9: 10HP超16HP以下 | J9: COPp | K9: 通常または簡易 | M9: 1 | O9: 1 | S9: 大 | T9: ガスヒートポンプ-10HP超16HP以下COPp | U9: S-001780 | V9: S-001780 | W9: S-001780 | X9: S-002110 | Y9: S-003277 | Z9: S-004537 | AA9: S-005903 | AB9: 1.33 | AC9: 1.33 | AD9: 1.33 | AE9: 1.33 | AF9: 1.33 | AG9: 1.33 | AH9: 1.33 | AI9: 通常または簡易 | AJ9: 0 | AK9: 0 | AL9: 1.33 | AM9: 1.33 | AN9: 1.33 | AO9: 1.33 | AP9: なし | AQ9: なし | AR9: なし | AS9: なし | AT9: なし | AU9: なし | AV9: なし | AW9: なし | AX9: なし | AY9: なし | AZ9: なし | BA9: なし | BB9: なし | BC9: あり | BD9: あり | BE9: あり | BF9: あり | BG9: あり | BH9: あり | BI9: あり | BJ9: 0 | BK9: 0 | BL9: 0
A10: S-005904 | B10: 産業・業務（業種共通） | C10: 空調 | D10: 空調機（ヒートポンプ・個別方式） | E10: ガスヒートポンプ | F10: 室外機内のコンプレッサの駆動をガスエンジンで行うヒートポンプ方式の空気調和機。 | G10: - | H10: 相当馬力数 | I10: 16HP超25HP以下 | J10: COPp | K10: 通常または簡易 | M10: 1 | O10: 1 | S10: 大 | T10: ガスヒートポンプ-16HP超25HP以下COPp | U10: S-001781 | V10: S-001781 | W10: S-001781 | X10: S-002150 | Y10: S-003278 | Z10: S-004538 | AA10: S-005904 | AB10: 1.34 | AC10: 1.34 | AD10: 1.34 | AE10: 1.34 | AF10: 1.34 | AG10: 1.34 | AH10: 1.34 | AI10: 通常または簡易 | AJ10: 0 | AK10: 0 | AL10: 1.34 | AM10: 1.34 | AN10: 1.34 | AO10: 1.34 | AP10: なし | AQ10: なし | AR10: なし | AS10: なし | AT10: なし | AU10: なし | AV10: なし | AW10: なし | AX10: なし | AY10: なし | AZ10: なし | BA10: なし | BB10: なし | BC10: あり | BD10: あり | BE10: あり | BF10: あり | BG10: あり | BH10: あり | BI10: あり | BJ10: 0 | BK10: 0 | BL10: 0
A11: S-005905 | B11: 産業・業務（業種共通） | C11: 空調 | D11: 空調機（ヒートポンプ・個別方式） | E11: ガスヒートポンプ | F11: 室外機内のコンプレッサの駆動をガスエンジンで行うヒートポンプ方式の空気調和機。 | G11: - | H11: 相当馬力数 | I11: 25HP超 | J11: COPp | K11: 通常または簡易 | M11: 1 | O11: 1 | S11: 大 | T11: ガスヒートポンプ-25HP超COPp | U11: S-001782 | V11: S-001782 | W11: S-001782 | X11: S-002115 | Y11: S-003279 | Z11: S-004539 | AA11: S-005905 | AB11: 1.3 | AC11: 1.3 | AD11: 1.3 | AE11: 1.3 | AF11: 1.3 | AG11: 1.3 | AH11: 1.3 | AI11: 通常または簡易 | AJ11: 0 | AK11: 0 | AL11: 1.3 | AM11: 1.3 | AN11: 1.3 | AO11: 1.3 | AP11: なし | AQ11: なし | AR11: なし | AS11: なし | AT11: なし | AU11: なし | AV11: なし | AW11: なし | AX11: なし | AY11: なし | AZ11: なし | BA11: なし | BB11: なし | BC11: あり | BD11: あり | BE11: あり | BF11: あり | BG11: あり | BH11: あり | BI11: あり | BJ11: 0 | BK11: 0 | BL11: 0
A12: S-005906 | B12: 産業・業務（業種共通） | C12: 空調 | D12: 空調機（ヒートポンプ・個別方式） | E12: ガスヒートポンプ | F12: 室外機内のコンプレッサの駆動をガスエンジンで行うヒートポンプ方式の空気調和機。 | G12: - | H12: 相当馬力数 | I12: 7.5HP以下 | J12: 期間成績係数（APFp） | K12: 認証対象外 | M12: 1 | O12: 1 | S12: 大 | T12: ガスヒートポンプ-7.5HP以下期間成績係数（APFp） | U12: S-001773 | V12: S-001773 | W12: S-001773 | X12: S-002130 | Y12: S-003300 | Z12: S-004674 | AA12: S-005906 | AB12: - | AC12: - | AD12: - | AE12: - | AF12: - | AG12: - | AH12: - | AI12: 認証対象外 | AJ12: 0 | AK12: 0 | AL12: - | AM12: - | AN12: - | AO12: - | AP12: - | AQ12: - | AR12: - | AS12: - | AT12: - | AU12: - | AV12: - | AW12: - | AX12: - | AY12: - | AZ12: - | BA12: - | BB12: - | BC12: なし | BD12: なし | BE12: なし | BF12: なし | BG12: なし | BH12: なし | BI12: なし | BJ12: 1 | BK12: 1 | BL12: 1
A13: S-005907 | B13: 産業・業務（業種共通） | C13: 空調 | D13: 空調機（ヒートポンプ・個別方式） | E13: ガスヒートポンプ | F13: 室外機内のコンプレッサの駆動をガスエンジンで行うヒートポンプ方式の空気調和機。 | G13: - | H13: 相当馬力数 | I13: 7.5HP超10HP以下 | J13: 期間成績係数（APFp） | K13: 通常または簡易 | M13: 1 | O13: 1 | S13: 大 | T13: ガスヒートポンプ-7.5HP超10HP以下期間成績係数（APFp） | U13: S-001774 | V13: S-001774 | W13: S-001774 | X13: S-002134 | Y13: S-003280 | Z13: S-004540 | AA13: S-005907 | AB13: 1.39 | AC13: 1.39 | AD13: 1.39 | AE13: 1.39 | AF13: 1.39 | AG13: 1.39 | AH13: 1.39 | AI13: 通常または簡易 | AJ13: 0 | AK13: 0 | AL13: 1.39 | AM13: 1.39 | AN13: 1.39 | AO13: 1.39 | AP13: なし | AQ13: なし | AR13: なし | AS13: なし | AT13: なし | AU13: なし | AV13: なし | AW13: なし | AX13: なし | AY13: なし | AZ13: なし | BA13: なし | BB13: なし | BC13: あり | BD13: あり | BE13: あり | BF13: あり | BG13: あり | BH13: あり | BI13: あり | BJ13: 0 | BK13: 0 | BL13: 0
A14: S-005908 | B14: 産業・業務（業種共通） | C14: 空調 | D14: 空調機（ヒートポンプ・個別方式） | E14: ガスヒートポンプ | F14: 室外機内のコンプレッサの駆動をガスエンジンで行うヒートポンプ方式の空気調和機。 | G14: - | H14: 相当馬力数 | I14: 10HP超16HP以下 | J14: 期間成績係数（APFp） | K14: 通常または簡易 | M14: 1 | O14: 1 | S14: 大 | T14: ガスヒートポンプ-10HP超16HP以下期間成績係数（APFp） | U14: S-001775 | V14: S-001775 | W14: S-001775 | X14: S-002143 | Y14: S-003281 | Z14: S-004541 | AA14: S-005908 | AB14: 1.85 | AC14: 1.86 | AD14: 1.86 | AE14: 1.86 | AF14: 1.86 | AG14: 1.86 | AH14: 1.86 | AI14: 通常または簡易 | AJ14: 0 | AK14: 0 | AL14: 1.86 | AM14: 1.86 | AN14: 2.1 | AO14: 2.1 | AP14: あり | AQ14: なし | AR14: なし | AS14: あり | AT14: なし | AU14: なし | AV14: なし | AW14: なし | AX14: なし | AY14: なし | AZ14: なし | BA14: なし | BB14: なし | BC14: あり | BD14: あり | BE14: あり | BF14: あり | BG14: あり | BH14: あり | BI14: あり | BJ14: 0 | BK14: 0 | BL14: 0
A15: S-005909 | B15: 産業・業務（業種共通） | C15: 空調 | D15: 空調機（ヒートポンプ・個別方式） | E15: ガスヒートポンプ | F15: 室外機内のコンプレッサの駆動をガスエンジンで行うヒートポンプ方式の空気調和機。 | G15: - | H15: 相当馬力数 | I15: 16HP超25HP以下 | J15: 期間成績係数（APFp） | K15: 通常または簡易 | M15: 1 | O15: 1 | S15: 大 | T15: ガスヒートポンプ-16HP超25HP以下期間成績係数（APFp） | U15: S-001776 | V15: S-001776 | W15: S-001776 | X15: S-002113 | Y15: S-003282 | Z15: S-004542 | AA15: S-005909 | AB15: 1.98 | AC15: 1.98 | AD15: 1.98 | AE15: 1.98 | AF15: 1.98 | AG15: 1.98 | AH15: 1.98 | AI15: 通常または簡易 | AJ15: 0 | AK15: 0 | AL15: 1.98 | AM15: 1.98 | AN15: 2.19 | AO15: 2.19 | AP15: なし | AQ15: なし | AR15: なし | AS15: なし | AT15: なし | AU15: なし | AV15: なし | AW15: なし | AX15: なし | AY15: なし | AZ15: なし | BA15: なし | BB15: なし | BC15: あり | BD15: あり | BE15: あり | BF15: あり | BG15: あり | BH15: あり | BI15: あり | BJ15: 0 | BK15: 0 | BL15: 0
A16: S-005910 | B16: 産業・業務（業種共通） | C16: 空調 | D16: 空調機（ヒートポンプ・個別方式） | E16: ガスヒートポンプ | F16: 室外機内のコンプレッサの駆動をガスエンジンで行うヒートポンプ方式の空気調和機。 | G16: - | H16: 相当馬力数 | I16: 25HP超 | J16: 期間成績係数（APFp） | K16: 通常または簡易 | M16: 1 | O16: 1 | S16: 大 | T16: ガスヒートポンプ-25HP超期間成績係数（APFp） | U16: S-001777 | V16: S-001777 | W16: S-001777 | X16: S-002116 | Y16: S-003283 | Z16: S-004543 | AA16: S-005910 | AB16: 1.91 | AC16: 1.91 | AD16: 1.91 | AE16: 1.91 | AF16: 1.91 | AG16: 1.91 | AH16: 1.91 | AI16: 通常または簡易 | AJ16: 0 | AK16: 0 | AL16: 1.91 | AM16: 1.91 | AN16: 2.12 | AO16: 2.12 | AP16: なし | AQ16: なし | AR16: なし | AS16: なし | AT16: なし | AU16: なし | AV16: なし | AW16: なし | AX16: なし | AY16: なし | AZ16: なし | BA16: なし | BB16: なし | BC16: あり | BD16: あり | BE16: なし | BF16: あり | BG16: あり | BH16: あり | BI16: あり | BJ16: 0 | BK16: 0 | BL16: 0
A17: S-005911 | B17: 産業・業務（業種共通） | C17: 空調 | D17: 空調機（ヒートポンプ・個別方式） | E17: ガスヒートポンプ | F17: 室外機内のコンプレッサの駆動をガスエンジンで行うヒートポンプ方式の空気調和機。 | G17: 寒冷地仕様 | H17: 相当馬力数 | I17: 7.5HP以下 | J17: COPp | K17: 通常または簡易 | M17: 1 | O17: 1 | S17: 大 | T17: ガスヒートポンプ寒冷地仕様7.5HP以下COPp | U17: S-001788 | V17: S-001788 | W17: S-001788 | X17: S-002114 | Y17: S-003284 | Z17: S-004544 | AA17: S-005911 | AB17: 1.19 | AC17: 1.19 | AD17: 1.19 | AE17: 1.19 | AF17: 1.19 | AG17: 1.19 | AH17: 1.19 | AI17: 通常または簡易 | AJ17: 0 | AK17: 0 | AL17: 1.19 | AM17: 1.19 | AN17: 1.19 | AO17: 1.19 | AP17: なし | AQ17: なし | AR17: なし | AS17: なし | AT17: なし | AU17: なし | AV17: なし | AW17: なし | AX17: なし | AY17: なし | AZ17: なし | BA17: なし | BB17: なし | BC17: あり | BD17: あり | BE17: あり | BF17: あり | BG17: あり | BH17: あり | BI17: あり | BJ17: 0 | BK17: 0 | BL17: 0
A18: S-005912 | B18: 産業・業務（業種共通） | C18: 空調 | D18: 空調機（ヒートポンプ・個別方式） | E18: ガスヒートポンプ | F18: 室外機内のコンプレッサの駆動をガスエンジンで行うヒートポンプ方式の空気調和機。 | G18: 寒冷地仕様 | H18: 相当馬力数 | I18: 7.5HP超10HP以下 | J18: COPp | K18: 通常または簡易 | M18: 1 | O18: 1 | S18: 大 | T18: ガスヒートポンプ寒冷地仕様7.5HP超10HP以下COPp | U18: S-001789 | V18: S-001789 | W18: S-001789 | X18: S-002135 | Y18: S-003285 | Z18: S-004545 | AA18: S-005912 | AB18: 1.22 | AC18: 1.22 | AD18: 1.22 | AE18: 1.22 | AF18: 1.22 | AG18: 1.22 | AH18: 1.22 | AI18: 通常または簡易 | AJ18: 0 | AK18: 0 | AL18: 1.22 | AM18: 1.22 | AN18: 1.22 | AO18: 1.22 | AP18: なし | AQ18: なし | AR18: なし | AS18: なし | AT18: なし | AU18: なし | AV18: なし | AW18: なし | AX18: なし | AY18: なし | AZ18: なし | BA18: なし | BB18: なし | BC18: あり | BD18: あり | BE18: あり | BF18: あり | BG18: あり | BH18: あり | BI18: あり | BJ18: 0 | BK18: 0 | BL18: 0
A19: S-005913 | B19: 産業・業務（業種共通） | C19: 空調 | D19: 空調機（ヒートポンプ・個別方式） | E19: ガスヒートポンプ | F19: 室外機内のコンプレッサの駆動をガスエンジンで行うヒートポンプ方式の空気調和機。 | G19: 寒冷地仕様 | H19: 相当馬力数 | I19: 10HP超16HP以下 | J19: COPp | K19: 通常または簡易 | M19: 1 | O19: 1 | S19: 大 | T19: ガスヒートポンプ寒冷地仕様10HP超16HP以下COPp | U19: S-001790 | V19: S-001790 | W19: S-001790 | X19: S-002111 | Y19: S-003286 | Z19: S-004546 | AA19: S-005913 | AB19: 1.34 | AC19: 1.34 | AD19: 1.34 | AE19: 1.34 | AF19: 1.34 | AG19: 1.34 | AH19: 1.34 | AI19: 通常または簡易 | AJ19: 0 | AK19: 0 | AL19: 1.34 | AM19: 1.34 | AN19: 1.34 | AO19: 1.34 | AP19: なし | AQ19: なし | AR19: なし | AS19: なし | AT19: なし | AU19: なし | AV19: なし | AW19: なし | AX19: なし | AY19: なし | AZ19: なし | BA19: なし | BB19: なし | BC19: あり | BD19: あり | BE19: あり | BF19: あり | BG19: あり | BH19: あり | BI19: あり | BJ19: 0 | BK19: 0 | BL19: 0
A20: S-005914 | B20: 産業・業務（業種共通） | C20: 空調 | D20: 空調機（ヒートポンプ・個別方式） | E20: ガスヒートポンプ | F20: 室外機内のコンプレッサの駆動をガスエンジンで行うヒートポンプ方式の空気調和機。 | G20: 寒冷地仕様 | H20: 相当馬力数 | I20: 16HP超25HP以下 | J20: COPp | K20: 通常または簡易 | M20: 1 | O20: 1 | S20: 大 | T20: ガスヒートポンプ寒冷地仕様16HP超25HP以下COPp | U20: S-001791 | V20: S-001791 | W20: S-001791 | X20: S-002148 | Y20: S-003287 | Z20: S-004547 | AA20: S-005914 | AB20: 1.34 | AC20: 1.34 | AD20: 1.34 | AE20: 1.34 | AF20: 1.34 | AG20: 1.34 | AH20: 1.34 | AI20: 通常 | AJ20: 0 | AK20: 0 | AL20: - | AM20: 1.34 | AN20: 1.34 | AO20: - | AP20: なし | AQ20: なし | AR20: なし | AS20: なし | AT20: なし | AU20: なし | AV20: なし | AW20: なし | AX20: なし | AY20: なし | AZ20: なし | BA20: なし | BB20: なし | BC20: あり | BD20: あり | BE20: あり | BF20: あり | BG20: あり | BH20: なし | BI20: なし | BJ20: 1 | BK20: 1 | BL20: 0
A21: S-005915 | B21: 産業・業務（業種共通） | C21: 空調 | D21: 空調機（ヒートポンプ・個別方式） | E21: ガスヒートポンプ | F21: 室外機内のコンプレッサの駆動をガスエンジンで行うヒートポンプ方式の空気調和機。 | G21: 寒冷地仕様 | H21: 相当馬力数 | I21: 25HP超 | J21: COPp | K21: 通常 | M21: 1 | O21: 1 | S21: 大 | T21: ガスヒートポンプ寒冷地仕様25HP超COPp | U21: S-001792 | V21: S-001792 | W21: S-001792 | X21: S-002108 | Y21: S-003288 | Z21: S-004548 | AA21: S-005915 | AB21: 1.3 | AC21: 0.99 | AD21: 0.99 | AE21: 1.27 | AF21: 1.27 | AG21: 1.27 | AH21: 1.27 | AI21: 通常 | AJ21: 0 | AK21: 0 | AL21: - | AM21: 1.27 | AN21: 1.27 | AO21: - | AP21: あり | AQ21: なし | AR21: あり | AS21: あり | AT21: あり | AU21: なし | AV21: なし | AW21: あり | AX21: なし | AY21: あり | AZ21: なし | BA21: なし | BB21: なし | BC21: なし | BD21: あり | BE21: あり | BF21: あり | BG21: なし | BH21: なし | BI21: なし | BJ21: 1 | BK21: 1 | BL21: 1
A22: S-005916 | B22: 産業・業務（業種共通） | C22: 空調 | D22: 空調機（ヒートポンプ・個別方式） | E22: ガスヒートポンプ | F22: 室外機内のコンプレッサの駆動をガスエンジンで行うヒートポンプ方式の空気調和機。 | G22: 寒冷地仕様 | H22: 相当馬力数 | I22: 7.5HP以下 | J22: 期間成績係数（APFp） | K22: 認証対象外 | O22: 1 | S22: 大 | T22: ガスヒートポンプ寒冷地仕様7.5HP以下期間成績係数（APFp） | U22: S-001783 | V22: S-001783 | W22: S-001783 | X22: S-002107 | Y22: S-003302 | Z22: S-004781 | AA22: S-005916 | AB22: - | AC22: - | AD22: - | AE22: - | AF22: - | AG22: - | AH22: - | AI22: 認証対象外 | AJ22: 0 | AK22: 0 | AL22: - | AM22: - | AN22: - | AO22: - | AP22: - | AQ22: - | AR22: - | AS22: - | AT22: - | AU22: - | AV22: - | AW22: - | AX22: - | AY22: - | AZ22: - | BA22: - | BB22: - | BC22: なし | BD22: なし | BE22: なし | BF22: なし | BG22: なし | BH22: なし | BI22: なし | BJ22: 1 | BK22: 1 | BL22: 1
A23: S-005917 | B23: 産業・業務（業種共通） | C23: 空調 | D23: 空調機（ヒートポンプ・個別方式） | E23: ガスヒートポンプ | F23: 室外機内のコンプレッサの駆動をガスエンジンで行うヒートポンプ方式の空気調和機。 | G23: 寒冷地仕様 | H23: 相当馬力数 | I23: 7.5HP超10HP以下 | J23: 期間成績係数（APFp） | K23: 通常または簡易 | M23: 1 | O23: 1 | S23: 大 | T23: ガスヒートポンプ寒冷地仕様7.5HP超10HP以下期間成績係数（APFp） | U23: S-001784 | V23: S-001784 | W23: S-001784 | X23: S-002153 | Y23: S-003289 | Z23: S-004549 | AA23: S-005917 | AB23: 1.39 | AC23: 1.39 | AD23: 1.39 | AE23: 1.39 | AF23: 1.39 | AG23: 1.39 | AH23: 1.39 | AI23: 通常または簡易 | AJ23: 0 | AK23: 0 | AL23: 1.39 | AM23: 1.39 | AN23: 1.39 | AO23: 1.39 | AP23: なし | AQ23: なし | AR23: なし | AS23: なし | AT23: なし | AU23: なし | AV23: なし | AW23: なし | AX23: なし | AY23: なし | AZ23: なし | BA23: なし | BB23: なし | BC23: あり | BD23: あり | BE23: あり | BF23: あり | BG23: あり | BH23: あり | BI23: あり | BJ23: 0 | BK23: 0 | BL23: 0
A24: S-005918 | B24: 産業・業務（業種共通） | C24: 空調 | D24: 空調機（ヒートポンプ・個別方式） | E24: ガスヒートポンプ | F24: 室外機内のコンプレッサの駆動をガスエンジンで行うヒートポンプ方式の空気調和機。 | G24: 寒冷地仕様 | H24: 相当馬力数 | I24: 10HP超16HP以下 | J24: 期間成績係数（APFp） | K24: 通常 | M24: 1 | O24: 1 | S24: 大 | T24: ガスヒートポンプ寒冷地仕様10HP超16HP以下期間成績係数（APFp） | U24: S-001785 | V24: S-001785 | W24: S-001785 | X24: S-002109 | Y24: S-003290 | Z24: S-004550 | AA24: S-005918 | AB24: 1.81 | AC24: 1.81 | AD24: 1.81 | AE24: 1.86 | AF24: 1.86 | AG24: 1.86 | AH24: 1.86 | AI24: 通常 | AJ24: 0 | AK24: 0 | AL24: - | AM24: 1.86 | AN24: 2.09 | AO24: 2.09 | AP24: なし | AQ24: なし | AR24: あり | AS24: なし | AT24: あり | AU24: なし | AV24: なし | AW24: あり | AX24: なし | AY24: あり | AZ24: なし | BA24: なし | BB24: なし | BC24: あり | BD24: あり | BE24: あり | BF24: なし | BG24: なし | BH24: なし | BI24: あり | BJ24: 0 | BK24: 0 | BL24: 0
A25: S-005919 | B25: 産業・業務（業種共通） | C25: 空調 | D25: 空調機（ヒートポンプ・個別方式） | E25: ガスヒートポンプ | F25: 室外機内のコンプレッサの駆動をガスエンジンで行うヒートポンプ方式の空気調和機。 | G25: 寒冷地仕様 | H25: 相当馬力数 | I25: 16HP超25HP以下 | J25: 期間成績係数（APFp） | K25: 通常または簡易 | M25: 1 | O25: 1 | S25: 大 | T25: ガスヒートポンプ寒冷地仕様16HP超25HP以下期間成績係数（APFp） | U25: S-001786 | V25: S-001786 | W25: S-001786 | X25: S-002138 | Y25: S-003291 | Z25: S-004551 | AA25: S-005919 | AB25: 1.98 | AC25: 1.93 | AD25: 1.93 | AE25: 1.93 | AF25: 1.93 | AG25: 1.93 | AH25: 1.93 | AI25: 通常または簡易 | AJ25: 0 | AK25: 0 | AL25: 1.93 | AM25: 1.93 | AN25: 2.19 | AO25: 2.19 | AP25: あり | AQ25: なし | AR25: なし | AS25: あり | AT25: なし | AU25: なし | AV25: なし | AW25: なし | AX25: なし | AY25: なし | AZ25: なし | BA25: なし | BB25: なし | BC25: なし | BD25: あり | BE25: あり | BF25: あり | BG25: あり | BH25: あり | BI25: あり | BJ25: 0 | BK25: 0 | BL25: 0
A26: S-005920 | B26: 産業・業務（業種共通） | C26: 空調 | D26: 空調機（ヒートポンプ・個別方式） | E26: ガスヒートポンプ | F26: 室外機内のコンプレッサの駆動をガスエンジンで行うヒートポンプ方式の空気調和機。 | G26: 寒冷地仕様 | H26: 相当馬力数 | I26: 25HP超 | J26: 期間成績係数（APFp） | K26: 通常または簡易 | M26: 1 | O26: 1 | S26: 大 | T26: ガスヒートポンプ寒冷地仕様25HP超期間成績係数（APFp） | U26: S-001787 | V26: S-001787 | W26: S-001787 | X26: S-002132 | Y26: S-003292 | Z26: S-004552 | AA26: S-005920 | AB26: 1.85 | AC26: 1.85 | AD26: 1.85 | AE26: 1.85 | AF26: 1.85 | AG26: 1.85 | AH26: 1.85 | AI26: 通常または簡易 | AJ26: 0 | AK26: 0 | AL26: 1.85 | AM26: 1.85 | AN26: 2.12 | AO26: 2.12 | AP26: なし | AQ26: なし | AR26: なし | AS26: なし | AT26: なし | AU26: なし | AV26: なし | AW26: なし | AX26: なし | AY26: なし | AZ26: なし | BA26: なし | BB26: なし | BC26: あり | BD26: あり | BE26: あり | BF26: あり | BG26: あり | BH26: あり | BI26: あり | BJ26: 0 | BK26: 0 | BL26: 0
A27: S-005921 | B27: 産業・業務（業種共通） | C27: 空調 | D27: 空調機（ヒートポンプ・個別方式） | E27: ガスヒートポンプ | F27: 室外機内のコンプレッサの駆動をガスエンジンで行うヒートポンプ方式の空気調和機。 | G27: 発電機付 | H27: 相当馬力数 | I27: 7.5HP以下 | J27: COPp | K27: 認証対象外 | O27: 1 | S27: 大 | T27: ガスヒートポンプ発電機付7.5HP以下COPp | U27: S-001798 | V27: S-001798 | W27: S-001798 | X27: S-002144 | Y27: S-003304 | Z27: S-004784 | AA27: S-005921 | AB27: - | AC27: - | AD27: - | AE27: - | AF27: - | AG27: - | AH27: - | AI27: 認証対象外 | AJ27: 0 | AK27: 0 | AL27: - | AM27: - | AN27: - | AO27: - | AP27: - | AQ27: - | AR27: - | AS27: - | AT27: - | AU27: - | AV27: - | AW27: - | AX27: - | AY27: - | AZ27: - | BA27: - | BB27: - | BC27: なし | BD27: なし | BE27: なし | BF27: なし | BG27: なし | BH27: なし | BI27: なし | BJ27: 1 | BK27: 1 | BL27: 1
A28: S-005922 | B28: 産業・業務（業種共通） | C28: 空調 | D28: 空調機（ヒートポンプ・個別方式） | E28: ガスヒートポンプ | F28: 室外機内のコンプレッサの駆動をガスエンジンで行うヒートポンプ方式の空気調和機。 | G28: 発電機付 | H28: 相当馬力数 | I28: 7.5HP超10HP以下 | J28: COPp | K28: 認証対象外 | O28: 1 | S28: 大 | T28: ガスヒートポンプ発電機付7.5HP超10HP以下COPp | U28: S-001799 | V28: S-001799 | W28: S-001799 | X28: S-002140 | Y28: S-003307 | Z28: S-004785 | AA28: S-005922 | AB28: - | AC28: - | AD28: - | AE28: - | AF28: - | AG28: - | AH28: - | AI28: 認証対象外 | AJ28: 0 | AK28: 0 | AL28: - | AM28: - | AN28: - | AO28: - | AP28: - | AQ28: - | AR28: - | AS28: - | AT28: - | AU28: - | AV28: - | AW28: - | AX28: - | AY28: - | AZ28: - | BA28: - | BB28: - | BC28: なし | BD28: なし | BE28: なし | BF28: なし | BG28: なし | BH28: なし | BI28: なし | BJ28: 1 | BK28: 1 | BL28: 1
A29: S-005923 | B29: 産業・業務（業種共通） | C29: 空調 | D29: 空調機（ヒートポンプ・個別方式） | E29: ガスヒートポンプ | F29: 室外機内のコンプレッサの駆動をガスエンジンで行うヒートポンプ方式の空気調和機。 | G29: 発電機付 | H29: 相当馬力数 | I29: 10HP超16HP以下 | J29: COPp | K29: 通常または簡易 | M29: 1 | O29: 1 | S29: 大 | T29: ガスヒートポンプ発電機付10HP超16HP以下COPp | U29: S-001800 | V29: S-001800 | W29: S-001800 | X29: S-002102 | Y29: S-003293 | Z29: S-004553 | AA29: S-005923 | AB29: 1.34 | AC29: 1.34 | AD29: 1.34 | AE29: 1.34 | AF29: 1.34 | AG29: 1.34 | AH29: 1.34 | AI29: 通常または簡易 | AJ29: 0 | AK29: 0 | AL29: 1.34 | AM29: 1.34 | AN29: 1.34 | AO29: 1.34 | AP29: なし | AQ29: なし | AR29: なし | AS29: なし | AT29: なし | AU29: なし | AV29: なし | AW29: なし | AX29: なし | AY29: なし | AZ29: なし | BA29: なし | BB29: なし | BC29: あり | BD29: あり | BE29: あり | BF29: あり | BG29: あり | BH29: あり | BI29: あり | BJ29: 0 | BK29: 0 | BL29: 0
A30: S-005924 | B30: 産業・業務（業種共通） | C30: 空調 | D30: 空調機（ヒートポンプ・個別方式） | E30: ガスヒートポンプ | F30: 室外機内のコンプレッサの駆動をガスエンジンで行うヒートポンプ方式の空気調和機。 | G30: 発電機付 | H30: 相当馬力数 | I30: 16HP超25HP以下 | J30: COPp | K30: 通常または簡易 | M30: 1 | O30: 1 | S30: 大 | T30: ガスヒートポンプ発電機付16HP超25HP以下COPp | U30: S-001801 | V30: S-001801 | W30: S-001801 | X30: S-002147 | Y30: S-003294 | Z30: S-004554 | AA30: S-005924 | AB30: 1.34 | AC30: 1.34 | AD30: 1.34 | AE30: 1.34 | AF30: 1.34 | AG30: 1.34 | AH30: 1.34 | AI30: 通常または簡易 | AJ30: 0 | AK30: 0 | AL30: 1.34 | AM30: 1.34 | AN30: 1.34 | AO30: 1.34 | AP30: なし | AQ30: なし | AR30: なし | AS30: なし | AT30: なし | AU30: なし | AV30: なし | AW30: なし | AX30: なし | AY30: なし | AZ30: なし | BA30: なし | BB30: なし | BC30: あり | BD30: あり | BE30: あり | BF30: あり | BG30: あり | BH30: あり | BI30: あり | BJ30: 0 | BK30: 0 | BL30: 0
A31: S-005925 | B31: 産業・業務（業種共通） | C31: 空調 | D31: 空調機（ヒートポンプ・個別方式） | E31: ガスヒートポンプ | F31: 室外機内のコンプレッサの駆動をガスエンジンで行うヒートポンプ方式の空気調和機。 | G31: 発電機付 | H31: 相当馬力数 | I31: 25HP超 | J31: COPp | K31: 通常または簡易 | M31: 1 | O31: 1 | S31: 大 | T31: ガスヒートポンプ発電機付25HP超COPp | U31: S-001802 | V31: S-001802 | W31: S-001802 | X31: S-002105 | Y31: S-003296 | Z31: S-004555 | AA31: S-005925 | AB31: 1.27 | AC31: 1.27 | AD31: 1.27 | AE31: 1.27 | AF31: 1.27 | AG31: 1.27 | AH31: 1.27 | AI31: 通常または簡易 | AJ31: 0 | AK31: 0 | AL31: 1.27 | AM31: 1.27 | AN31: 1.27 | AO31: 1.27 | AP31: なし | AQ31: なし | AR31: なし | AS31: なし | AT31: なし | AU31: なし | AV31: なし | AW31: なし | AX31: なし | AY31: なし | AZ31: なし | BA31: なし | BB31: なし | BC31: あり | BD31: あり | BE31: あり | BF31: あり | BG31: あり | BH31: あり | BI31: あり | BJ31: 0 | BK31: 0 | BL31: 0
A32: S-005926 | B32: 産業・業務（業種共通） | C32: 空調 | D32: 空調機（ヒートポンプ・個別方式） | E32: ガスヒートポンプ | F32: 室外機内のコンプレッサの駆動をガスエンジンで行うヒートポンプ方式の空気調和機。 | G32: 発電機付 | H32: 相当馬力数 | I32: 7.5HP以下 | J32: 期間成績係数（APFp） | K32: 認証対象外 | O32: 1 | S32: 大 | T32: ガスヒートポンプ発電機付7.5HP以下期間成績係数（APFp） | U32: S-001793 | V32: S-001793 | W32: S-001793 | X32: S-002152 | Y32: S-003308 | Z32: S-004787 | AA32: S-005926 | AB32: - | AC32: - | AD32: - | AE32: - | AF32: - | AG32: - | AH32: - | AI32: 認証対象外 | AJ32: 0 | AK32: 0 | AL32: - | AM32: - | AN32: - | AO32: - | AP32: - | AQ32: - | AR32: - | AS32: - | AT32: - | AU32: - | AV32: - | AW32: - | AX32: - | AY32: - | AZ32: - | BA32: - | BB32: - | BC32: なし | BD32: なし | BE32: なし | BF32: なし | BG32: なし | BH32: なし | BI32: なし | BJ32: 1 | BK32: 1 | BL32: 1
A33: S-005927 | B33: 産業・業務（業種共通） | C33: 空調 | D33: 空調機（ヒートポンプ・個別方式） | E33: ガスヒートポンプ | F33: 室外機内のコンプレッサの駆動をガスエンジンで行うヒートポンプ方式の空気調和機。 | G33: 発電機付 | H33: 相当馬力数 | I33: 7.5HP超10HP以下 | J33: 期間成績係数（APFp） | K33: 認証対象外 | O33: 1 | S33: 大 | T33: ガスヒートポンプ発電機付7.5HP超10HP以下期間成績係数（APFp） | U33: S-001794 | V33: S-001794 | W33: S-001794 | X33: S-002154 | Y33: S-003309 | Z33: S-004790 | AA33: S-005927 | AB33: - | AC33: - | AD33: - | AE33: - | AF33: - | AG33: - | AH33: - | AI33: 認証対象外 | AJ33: 0 | AK33: 0 | AL33: - | AM33: - | AN33: - | AO33: - | AP33: - | AQ33: - | AR33: - | AS33: - | AT33: - | AU33: - | AV33: - | AW33: - | AX33: - | AY33: - | AZ33: - | BA33: - | BB33: - | BC33: なし | BD33: なし | BE33: なし | BF33: なし | BG33: なし | BH33: なし | BI33: なし | BJ33: 1 | BK33: 1 | BL33: 1
A34: S-005928 | B34: 産業・業務（業種共通） | C34: 空調 | D34: 空調機（ヒートポンプ・個別方式） | E34: ガスヒートポンプ | F34: 室外機内のコンプレッサの駆動をガスエンジンで行うヒートポンプ方式の空気調和機。 | G34: 発電機付 | H34: 相当馬力数 | I34: 10HP超16HP以下 | J34: 期間成績係数（APFp） | K34: 通常または簡易 | M34: 1 | O34: 1 | S34: 大 | T34: ガスヒートポンプ発電機付10HP超16HP以下期間成績係数（APFp） | U34: S-001795 | V34: S-001795 | W34: S-001795 | X34: S-002145 | Y34: S-003295 | Z34: S-004556 | AA34: S-005928 | AB34: 1.85 | AC34: 1.86 | AD34: 1.86 | AE34: 1.86 | AF34: 1.86 | AG34: 1.86 | AH34: 1.86 | AI34: 通常または簡易 | AJ34: 0 | AK34: 0 | AL34: 1.86 | AM34: 1.86 | AN34: 1.86 | AO34: 1.86 | AP34: あり | AQ34: なし | AR34: なし | AS34: あり | AT34: なし | AU34: なし | AV34: なし | AW34: なし | AX34: なし | AY34: なし | AZ34: なし | BA34: なし | BB34: なし | BC34: あり | BD34: あり | BE34: あり | BF34: あり | BG34: あり | BH34: あり | BI34: あり | BJ34: 0 | BK34: 0 | BL34: 0
A35: S-005929 | B35: 産業・業務（業種共通） | C35: 空調 | D35: 空調機（ヒートポンプ・個別方式） | E35: ガスヒートポンプ | F35: 室外機内のコンプレッサの駆動をガスエンジンで行うヒートポンプ方式の空気調和機。 | G35: 発電機付 | H35: 相当馬力数 | I35: 16HP超25HP以下 | J35: 期間成績係数（APFp） | K35: 通常または簡易 | M35: 1 | O35: 1 | S35: 大 | T35: ガスヒートポンプ発電機付16HP超25HP以下期間成績係数（APFp） | U35: S-001796 | V35: S-001796 | W35: S-001796 | X35: S-002104 | Y35: S-003297 | Z35: S-004557 | AA35: S-005929 | AB35: 1.97 | AC35: 1.97 | AD35: 1.97 | AE35: 1.97 | AF35: 1.97 | AG35: 1.97 | AH35: 1.97 | AI35: 通常または簡易 | AJ35: 0 | AK35: 0 | AL35: 1.97 | AM35: 1.97 | AN35: 1.97 | AO35: 1.97 | AP35: なし | AQ35: なし | AR35: なし | AS35: なし | AT35: なし | AU35: なし | AV35: なし | AW35: なし | AX35: なし | AY35: なし | AZ35: なし | BA35: なし | BB35: なし | BC35: あり | BD35: あり | BE35: なし | BF35: あり | BG35: あり | BH35: あり | BI35: あり | BJ35: 0 | BK35: 0 | BL35: 0
A36: S-005930 | B36: 産業・業務（業種共通） | C36: 空調 | D36: 空調機（ヒートポンプ・個別方式） | E36: ガスヒートポンプ | F36: 室外機内のコンプレッサの駆動をガスエンジンで行うヒートポンプ方式の空気調和機。 | G36: 発電機付 | H36: 相当馬力数 | I36: 25HP超 | J36: 期間成績係数（APFp） | K36: 通常または簡易 | M36: 1 | O36: 1 | S36: 大 | T36: ガスヒートポンプ発電機付25HP超期間成績係数（APFp） | U36: S-001797 | V36: S-001797 | W36: S-001797 | X36: S-002106 | Y36: S-003299 | Z36: S-004558 | AA36: S-005930 | AB36: 1.91 | AC36: 1.91 | AD36: 1.91 | AE36: 1.91 | AF36: 1.91 | AG36: 1.91 | AH36: 1.91 | AI36: 通常または簡易 | AJ36: 0 | AK36: 0 | AL36: 1.91 | AM36: 1.91 | AN36: 1.91 | AO36: 1.91 | AP36: なし | AQ36: なし | AR36: なし | AS36: なし | AT36: なし | AU36: なし | AV36: なし | AW36: なし | AX36: なし | AY36: なし | AZ36: なし | BA36: なし | BB36: なし | BC36: あり | BD36: あり | BE36: なし | BF36: あり | BG36: あり | BH36: あり | BI36: あり | BJ36: 0 | BK36: 0 | BL36: 0
A37: S-005931 | B37: 産業・業務（業種共通） | C37: 空調 | D37: 空調機（ヒートポンプ・個別方式） | E37: パッケージエアコン（店舗･オフィス用） | F37: 電動圧縮機を用いるヒートポンプ式の空気調和機で、冷房能力が4～28kW程度。主に店舗･オフィス向け。 | G37: - | H37: 冷房能力 | I37: 4.0kW以下 | J37: 通年エネルギー消費効率（APF） | K37: 通常 | L37: 1 | S37: 大 | T37: パッケージエアコン（店舗･オフィス用）-4.0kW以下通年エネルギー消費効率（APF） | U37: S-001803 | V37: S-001803 | W37: S-001803 | X37: S-002165 | Y37: S-003311 | Z37: S-004559 | AA37: S-005931 | AB37: 7.4 | AC37: 7.6 | AD37: 7.6 | AE37: 8.1 | AF37: 8.1 | AG37: 8.1 | AH37: 8.1 | AI37: 通常 | AJ37: 0 | AK37: 0 | AL37: - | AM37: 7.7 | AN37: 7.7 | AO37: 7.7 | AP37: あり | AQ37: なし | AR37: あり | AS37: あり | AT37: あり | AU37: なし | AV37: なし | AW37: あり | AX37: なし | AY37: あり | AZ37: あり | BA37: あり | BB37: あり | BC37: なし | BD37: なし | BE37: あり | BF37: なし | BG37: なし | BH37: なし | BI37: あり | BJ37: 0 | BK37: 0 | BL37: 0
A38: S-005932 | B38: 産業・業務（業種共通） | C38: 空調 | D38: 空調機（ヒートポンプ・個別方式） | E38: パッケージエアコン（店舗･オフィス用） | F38: 電動圧縮機を用いるヒートポンプ式の空気調和機で、冷房能力が4～28kW程度。主に店舗･オフィス向け。 | G38: - | H38: 冷房能力 | I38: 4.0kW超 5.0kW以下 | J38: 通年エネルギー消費効率（APF） | K38: 通常 | L38: 1 | S38: 大 | T38: パッケージエアコン（店舗･オフィス用）-4.0kW超 5.0kW以下通年エネルギー消費効率（APF） | U38: S-001804 | V38: S-001804 | W38: S-001804 | X38: S-002156 | Y38: S-003316 | Z38: S-004560 | AA38: S-005932 | AB38: 7.4 | AC38: 7.5 | AD38: 7.5 | AE38: 7.9 | AF38: 7.9 | AG38: 7.9 | AH38: 7.9 | AI38: 通常 | AJ38: 0 | AK38: 0 | AL38: - | AM38: 7.5 | AN38: 7.5 | AO38: 7.5 | AP38: あり | AQ38: なし | AR38: あり | AS38: あり | AT38: あり | AU38: なし | AV38: なし | AW38: あり | AX38: なし | AY38: あり | AZ38: あり | BA38: あり | BB38: あり | BC38: なし | BD38: なし | BE38: あり | BF38: なし | BG38: なし | BH38: なし | BI38: あり | BJ38: 0 | BK38: 0 | BL38: 0
A39: S-005933 | B39: 産業・業務（業種共通） | C39: 空調 | D39: 空調機（ヒートポンプ・個別方式） | E39: パッケージエアコン（店舗･オフィス用） | F39: 電動圧縮機を用いるヒートポンプ式の空気調和機で、冷房能力が4～28kW程度。主に店舗･オフィス向け。 | G39: - | H39: 冷房能力 | I39: 5.0kW超 6.3kW以下 | J39: 通年エネルギー消費効率（APF） | K39: 通常 | L39: 1 | S39: 大 | T39: パッケージエアコン（店舗･オフィス用）-5.0kW超 6.3kW以下通年エネルギー消費効率（APF） | U39: S-001805 | V39: S-001805 | W39: S-001805 | X39: S-002161 | Y39: S-003318 | Z39: S-004561 | AA39: S-005933 | AB39: 7.3 | AC39: 7.3 | AD39: 7.3 | AE39: 8.1 | AF39: 8.1 | AG39: 8.1 | AH39: 8.1 | AI39: 通常 | AJ39: 0 | AK39: 0 | AL39: - | AM39: 7.3 | AN39: 7.5 | AO39: 7.5 | AP39: なし | AQ39: なし | AR39: あり | AS39: なし | AT39: あり | AU39: なし | AV39: なし | AW39: あり | AX39: なし | AY39: あり | AZ39: あり | BA39: あり | BB39: あり | BC39: なし | BD39: なし | BE39: あり | BF39: なし | BG39: なし | BH39: なし | BI39: あり | BJ39: 0 | BK39: 0 | BL39: 0
A40: S-005934 | B40: 産業・業務（業種共通） | C40: 空調 | D40: 空調機（ヒートポンプ・個別方式） | E40: パッケージエアコン（店舗･オフィス用） | F40: 電動圧縮機を用いるヒートポンプ式の空気調和機で、冷房能力が4～28kW程度。主に店舗･オフィス向け。 | G40: - | H40: 冷房能力 | I40: 6.3kW超 11.2kW以下 | J40: 通年エネルギー消費効率（APF） | K40: 通常または簡易 | L40: 1 | M40: 1 | S40: 大 | T40: パッケージエアコン（店舗･オフィス用）-6.3kW超 11.2kW以下通年エネルギー消費効率（APF） | U40: S-001806 | V40: S-001806 | W40: S-001806 | X40: S-002163 | Y40: S-003389 | Z40: S-004562 | AA40: S-005934 | AB40: 7.1 | AC40: 7.2 | AD40: 7.2 | AE40: 7.3 | AF40: 7.3 | AG40: 7.3 | AH40: 7.3 | AI40: 通常または簡易 | AJ40: 0 | AK40: 0 | AL40: 7.3 | AM40: 7.3 | AN40: 7.3 | AO40: 7.3 | AP40: あり | AQ40: なし | AR40: あり | AS40: あり | AT40: あり | AU40: なし | AV40: なし | AW40: あり | AX40: なし | AY40: あり | AZ40: なし | BA40: なし | BB40: なし | BC40: なし | BD40: なし | BE40: あり | BF40: なし | BG40: あり | BH40: あり | BI40: あり | BJ40: 0 | BK40: 0 | BL40: 0
A41: S-005935 | B41: 産業・業務（業種共通） | C41: 空調 | D41: 空調機（ヒートポンプ・個別方式） | E41: パッケージエアコン（店舗･オフィス用） | F41: 電動圧縮機を用いるヒートポンプ式の空気調和機で、冷房能力が4～28kW程度。主に店舗･オフィス向け。 | G41: - | H41: 冷房能力 | I41: 11.2kW超 16.0kW以下 | J41: 通年エネルギー消費効率（APF） | K41: 通常または簡易 | L41: 1 | S41: 大 | T41: パッケージエアコン（店舗･オフィス用）-11.2kW超 16.0kW以下通年エネルギー消費効率（APF） | U41: S-001807 | V41: S-001807 | W41: S-001807 | X41: S-002158 | Y41: S-003396 | Z41: S-004563 | AA41: S-005935 | AB41: 6.7 | AC41: 6.7 | AD41: 6.7 | AE41: 6.7 | AF41: 6.7 | AG41: 6.8 | AH41: 6.8 | AI41: 通常または簡易 | AJ41: 0 | AK41: 0 | AL41: 6.8 | AM41: 6.9 | AN41: 6.9 | AO41: 6.9 | AP41: なし | AQ41: なし | AR41: なし | AS41: なし | AT41: なし | AU41: なし | AV41: あり | AW41: なし | AX41: あり | AY41: あり | AZ41: あり | BA41: あり | BB41: あり | BC41: なし | BD41: なし | BE41: あり | BF41: あり | BG41: あり | BH41: あり | BI41: あり | BJ41: 0 | BK41: 0 | BL41: 0
A42: S-005936 | B42: 産業・業務（業種共通） | C42: 空調 | D42: 空調機（ヒートポンプ・個別方式） | E42: パッケージエアコン（店舗･オフィス用） | F42: 電動圧縮機を用いるヒートポンプ式の空気調和機で、冷房能力が4～28kW程度。主に店舗･オフィス向け。 | G42: - | H42: 冷房能力 | I42: 16.0kW超 | J42: 通年エネルギー消費効率（APF） | K42: 通常または簡易 | L42: 1 | M42: 1 | S42: 大 | T42: パッケージエアコン（店舗･オフィス用）-16.0kW超通年エネルギー消費効率（APF） | U42: S-001808 | V42: S-001808 | W42: S-001808 | X42: S-002159 | Y42: S-003398 | Z42: S-004564 | AA42: S-005936 | AB42: 6 | AC42: 6.2 | AD42: 6 | AE42: 6.3 | AF42: 6.3 | AG42: 6.3 | AH42: 6.3 | AI42: 通常または簡易 | AJ42: 0 | AK42: 0 | AL42: 6.3 | AM42: 6.3 | AN42: 6.3 | AO42: 6.3 | AP42: あり | AQ42: あり | AR42: あり | AS42: なし | AT42: あり | AU42: なし | AV42: なし | AW42: あり | AX42: なし | AY42: あり | AZ42: なし | BA42: なし | BB42: なし | BC42: なし | BD42: なし | BE42: あり | BF42: なし | BG42: あり | BH42: あり | BI42: あり | BJ42: 0 | BK42: 0 | BL42: 0
A43: S-005937 | B43: 産業・業務（業種共通） | C43: 空調 | D43: 空調機（ヒートポンプ・個別方式） | E43: パッケージエアコン（設備用） | F43: 電動圧縮機を用いるヒートポンプ式の空気調和機で、冷房能力が9～140kW程度。主に工場向け。 | G43: - | H43: 冷房能力 | I43: 28kW以下 | J43: 通年エネルギー消費効率（APF） | K43: 通常または簡易 | L43: 1 | S43: 大 | T43: パッケージエアコン（設備用）-28kW以下通年エネルギー消費効率（APF） | U43: S-001809 | V43: S-001809 | W43: S-001809 | X43: S-002172 | Y43: S-003404 | Z43: S-004565 | AA43: S-005937 | AB43: 4.8 | AC43: 4.8 | AD43: 4.8 | AE43: 4.8 | AF43: 4.8 | AG43: 4.8 | AH43: 5 | AI43: 通常または簡易 | AJ43: 0 | AK43: 0 | AL43: 5 | AM43: 5 | AN43: 5 | AO43: 5 | AP43: なし | AQ43: なし | AR43: なし | AS43: なし | AT43: なし | AU43: なし | AV43: なし | AW43: なし | AX43: なし | AY43: なし | AZ43: あり | BA43: あり | BB43: あり | BC43: なし | BD43: なし | BE43: なし | BF43: あり | BG43: あり | BH43: あり | BI43: あり | BJ43: 0 | BK43: 0 | BL43: 0
A44: S-005938 | B44: 産業・業務（業種共通） | C44: 空調 | D44: 空調機（ヒートポンプ・個別方式） | E44: パッケージエアコン（設備用） | F44: 電動圧縮機を用いるヒートポンプ式の空気調和機で、冷房能力が9～140kW程度。主に工場向け。 | G44: - | H44: 冷房能力 | I44: 28kW超 45kW以下 | J44: 通年エネルギー消費効率（APF） | K44: 通常または簡易 | L44: 1 | M44: 1 | S44: 大 | T44: パッケージエアコン（設備用）-28kW超 45kW以下通年エネルギー消費効率（APF） | U44: S-001810 | V44: S-001810 | W44: S-001810 | X44: S-002166 | Y44: S-003410 | Z44: S-004566 | AA44: S-005938 | AB44: 4.2 | AC44: 4.2 | AD44: 4.2 | AE44: 4.2 | AF44: 4.2 | AG44: 4.2 | AH44: 4.2 | AI44: 通常または簡易 | AJ44: 0 | AK44: 0 | AL44: 4.2 | AM44: 4.2 | AN44: 4.2 | AO44: 4.2 | AP44: なし | AQ44: なし | AR44: なし | AS44: なし | AT44: なし | AU44: なし | AV44: なし | AW44: なし | AX44: なし | AY44: なし | AZ44: なし | BA44: なし | BB44: なし | BC44: なし | BD44: なし | BE44: なし | BF44: あり | BG44: あり | BH44: あり | BI44: あり | BJ44: 0 | BK44: 0 | BL44: 0
A45: S-005939 | B45: 産業・業務（業種共通） | C45: 空調 | D45: 空調機（ヒートポンプ・個別方式） | E45: パッケージエアコン（設備用） | F45: 電動圧縮機を用いるヒートポンプ式の空気調和機で、冷房能力が9～140kW程度。主に工場向け。 | G45: - | H45: 冷房能力 | I45: 45kW超 56kW以下 | J45: 通年エネルギー消費効率（APF） | K45: 通常または簡易 | L45: 1 | S45: 大 | T45: パッケージエアコン（設備用）-45kW超 56kW以下通年エネルギー消費効率（APF） | U45: S-001811 | V45: S-001811 | W45: S-001811 | X45: S-002171 | Y45: S-003414 | Z45: S-004567 | AA45: S-005939 | AB45: 4 | AC45: 4 | AD45: 4 | AE45: 4 | AF45: 4 | AG45: 4 | AH45: 4.3 | AI45: 通常または簡易 | AJ45: 0 | AK45: 0 | AL45: 4.3 | AM45: 4.3 | AN45: 4.3 | AO45: 4.3 | AP45: なし | AQ45: なし | AR45: なし | AS45: なし | AT45: なし | AU45: なし | AV45: なし | AW45: なし | AX45: なし | AY45: なし | AZ45: あり | BA45: あり | BB45: あり | BC45: なし | BD45: なし | BE45: あり | BF45: あり | BG45: あり | BH45: あり | BI45: あり | BJ45: 0 | BK45: 0 | BL45: 0
A46: S-005940 | B46: 産業・業務（業種共通） | C46: 空調 | D46: 空調機（ヒートポンプ・個別方式） | E46: パッケージエアコン（設備用） | F46: 電動圧縮機を用いるヒートポンプ式の空気調和機で、冷房能力が9～140kW程度。主に工場向け。 | G46: - | H46: 冷房能力 | I46: 56kW超 80kW以下 | J46: 通年エネルギー消費効率（APF） | K46: 通常または簡易 | S46: 大 | T46: パッケージエアコン（設備用）-56kW超 80kW以下通年エネルギー消費効率（APF） | U46: S-001812 | V46: S-001812 | W46: S-001812 | X46: S-002173 | Y46: S-003417 | Z46: S-004568 | AA46: S-005940 | AB46: 3.9 | AC46: 3.9 | AD46: 3.9 | AE46: 3.9 | AF46: 3.9 | AG46: 3.9 | AH46: 4 | AI46: 通常または簡易 | AJ46: 0 | AK46: 0 | AL46: 4 | AM46: 4 | AN46: 4 | AO46: 4 | AP46: なし | AQ46: なし | AR46: なし | AS46: なし | AT46: なし | AU46: なし | AV46: なし | AW46: なし | AX46: なし | AY46: なし | AZ46: あり | BA46: あり | BB46: あり | BC46: なし | BD46: なし | BE46: あり | BF46: あり | BG46: あり | BH46: あり | BI46: あり | BJ46: 0 | BK46: 0 | BL46: 0
A47: S-005941 | B47: 産業・業務（業種共通） | C47: 空調 | D47: 空調機（ヒートポンプ・個別方式） | E47: パッケージエアコン（設備用） | F47: 電動圧縮機を用いるヒートポンプ式の空気調和機で、冷房能力が9～140kW程度。主に工場向け。 | G47: - | H47: 冷房能力 | I47: 80kW超 112kW以下 | J47: 通年エネルギー消費効率（APF） | K47: 通常または簡易 | M47: 1 | S47: 大 | T47: パッケージエアコン（設備用）-80kW超 112kW以下通年エネルギー消費効率（APF） | U47: S-001813 | V47: S-001813 | W47: S-001813 | X47: S-002169 | Y47: S-003423 | Z47: S-004569 | AA47: S-005941 | AB47: 3.5 | AC47: 3.5 | AD47: 3.5 | AE47: 3.5 | AF47: 3.5 | AG47: 3.5 | AH47: 3.5 | AI47: 通常または簡易 | AJ47: 0 | AK47: 0 | AL47: 3.5 | AM47: 3.5 | AN47: 3.5 | AO47: 3.5 | AP47: なし | AQ47: なし | AR47: なし | AS47: なし | AT47: なし | AU47: なし | AV47: なし | AW47: なし | AX47: なし | AY47: なし | AZ47: なし | BA47: なし | BB47: なし | BC47: なし | BD47: なし | BE47: あり | BF47: あり | BG47: あり | BH47: あり | BI47: あり | BJ47: 0 | BK47: 0 | BL47: 0
A48: S-005942 | B48: 産業・業務（業種共通） | C48: 空調 | D48: 空調機（ヒートポンプ・個別方式） | E48: パッケージエアコン（設備用） | F48: 電動圧縮機を用いるヒートポンプ式の空気調和機で、冷房能力が9～140kW程度。主に工場向け。 | G48: - | H48: 冷房能力 | I48: 112kW超 140kW以下 | J48: 通年エネルギー消費効率（APF） | K48: 通常または簡易 | S48: 大 | T48: パッケージエアコン（設備用）-112kW超 140kW以下通年エネルギー消費効率（APF） | U48: S-001814 | V48: S-001814 | W48: S-001814 | X48: S-002174 | Y48: S-003426 | Z48: S-004570 | AA48: S-005942 | AB48: 3.2 | AC48: 3.5 | AD48: 3.5 | AE48: 3.5 | AF48: 3.5 | AG48: 3.5 | AH48: 3.8 | AI48: 通常または簡易 | AJ48: 0 | AK48: 0 | AL48: 3.8 | AM48: 3.8 | AN48: 3.8 | AO48: 3.8 | AP48: あり | AQ48: なし | AR48: なし | AS48: あり | AT48: なし | AU48: なし | AV48: なし | AW48: なし | AX48: なし | AY48: なし | AZ48: あり | BA48: あり | BB48: あり | BC48: なし | BD48: なし | BE48: あり | BF48: あり | BG48: あり | BH48: あり | BI48: あり | BJ48: 0 | BK48: 0 | BL48: 0
A49: S-005943 | B49: 産業・業務（業種共通） | C49: 空調 | D49: 空調機（ヒートポンプ・個別方式） | E49: パッケージエアコン（設備用） | F49: 電動圧縮機を用いるヒートポンプ式の空気調和機で、冷房能力が9～140kW程度。主に工場向け。 | G49: - | H49: 冷房能力 | I49: 140kW超 | J49: 通年エネルギー消費効率（APF） | K49: 通常または簡易 | M49: 1 | S49: 大 | T49: パッケージエアコン（設備用）-140kW超通年エネルギー消費効率（APF） | U49: S-001815 | V49: S-001815 | W49: S-001815 | X49: S-002168 | Y49: S-003431 | Z49: S-004571 | AA49: S-005943 | AB49: 3.5 | AC49: 3.5 | AD49: 3.5 | AE49: 3.5 | AF49: 3.5 | AG49: 3.5 | AH49: 3.5 | AI49: 通常または簡易 | AJ49: 0 | AK49: 0 | AL49: 3.5 | AM49: 3.5 | AN49: 3.5 | AO49: 3.5 | AP49: なし | AQ49: なし | AR49: なし | AS49: なし | AT49: なし | AU49: なし | AV49: なし | AW49: なし | AX49: なし | AY49: なし | AZ49: なし | BA49: なし | BB49: なし | BC49: なし | BD49: なし | BE49: あり | BF49: あり | BG49: あり | BH49: あり | BI49: あり | BJ49: 0 | BK49: 0 | BL49: 0
A50: S-005944 | B50: 産業・業務（業種共通） | C50: 空調 | D50: 空調機（ヒートポンプ・個別方式） | E50: パッケージエアコン（設備用） | F50: 電動圧縮機を用いるヒートポンプ式の空気調和機で、冷房能力が9～140kW程度。主に工場向け。 | G50: 排熱利用型 | H50: 冷房能力 | I50: 9.8kW | J50: 成績係数（COP） | K50: 通常または簡易 | M50: 1 | S50: 大 | T50: パッケージエアコン（設備用）排熱利用型9.8kW成績係数（COP） | U50: S-001816 | V50: S-001816 | W50: S-001816 | X50: S-002175 | Y50: S-003440 | Z50: S-004572 | AA50: S-005944 | AB50: 6.1 | AC50: 6.1 | AD50: 6.1 | AE50: 6.1 | AF50: 6.1 | AG50: 6.1 | AH50: 6.1 | AI50: 通常または簡易 | AJ50: 0 | AK50: 0 | AL50: 6.1 | AM50: 6.1 | AN50: 6.1 | AO50: - | AP50: なし | AQ50: なし | AR50: なし | AS50: なし | AT50: なし | AU50: なし | AV50: なし | AW50: なし | AX50: なし | AY50: なし | AZ50: なし | BA50: なし | BB50: なし | BC50: なし | BD50: なし | BE50: あり | BF50: なし | BG50: あり | BH50: あり | BI50: なし | BJ50: 1 | BK50: 0 | BL50: 0
A51: S-005945 | B51: 産業・業務（業種共通） | C51: 空調 | D51: 空調機（ヒートポンプ・個別方式） | E51: パッケージエアコン（ビル用マルチ） | F51: 電動圧縮機を用いるヒートポンプ式の空気調和機で、冷房能力が14～120kW程度。主にビル向け。室内機ごとの個別制御機能を持つ。 | G51: - | H51: 冷房能力 | I51: 14.0kW以下 | J51: 通年エネルギー消費効率（APF） | K51: 通常または簡易 | S51: 大 | T51: パッケージエアコン（ビル用マルチ）-14.0kW以下通年エネルギー消費効率（APF） | U51: S-001817 | V51: S-001817 | W51: S-001817 | X51: S-002176 | Y51: S-003444 | Z51: S-004573 | AA51: S-005945 | AB51: 6.1 | AC51: 6.1 | AD51: 6.1 | AE51: 6.7 | AF51: 6.7 | AG51: 6.8 | AH51: 6.8 | AI51: 通常または簡易 | AJ51: 0 | AK51: 0 | AL51: 6.8 | AM51: 6.8 | AN51: 6.8 | AO51: 6.8 | AP51: なし | AQ51: なし | AR51: あり | AS51: なし | AT51: あり | AU51: なし | AV51: あり | AW51: あり | AX51: あり | AY51: あり | AZ51: なし | BA51: あり | BB51: あり | BC51: なし | BD51: なし | BE51: あり | BF51: なし | BG51: あり | BH51: あり | BI51: あり | BJ51: 0 | BK51: 0 | BL51: 0
A52: S-005946 | B52: 産業・業務（業種共通） | C52: 空調 | D52: 空調機（ヒートポンプ・個別方式） | E52: パッケージエアコン（ビル用マルチ） | F52: 電動圧縮機を用いるヒートポンプ式の空気調和機で、冷房能力が14～120kW程度。主にビル向け。室内機ごとの個別制御機能を持つ。 | G52: - | H52: 冷房能力 | I52: 14.0kW超 16.0kW以下 | J52: 通年エネルギー消費効率（APF） | K52: 通常または簡易 | S52: 大 | T52: パッケージエアコン（ビル用マルチ）-14.0kW超 16.0kW以下通年エネルギー消費効率（APF） | U52: S-001818 | V52: S-001818 | W52: S-001818 | X52: S-002186 | Y52: S-003448 | Z52: S-004574 | AA52: S-005946 | AB52: 6 | AC52: 6 | AD52: 6 | AE52: 6 | AF52: 6 | AG52: 6.7 | AH52: 6.7 | AI52: 通常または簡易 | AJ52: 0 | AK52: 0 | AL52: 6.7 | AM52: 6.7 | AN52: 6.7 | AO52: 6.7 | AP52: なし | AQ52: なし | AR52: なし | AS52: なし | AT52: なし | AU52: なし | AV52: あり | AW52: なし | AX52: あり | AY52: あり | AZ52: なし | BA52: あり | BB52: あり | BC52: なし | BD52: なし | BE52: あり | BF52: あり | BG52: あり | BH52: あり | BI52: あり | BJ52: 0 | BK52: 0 | BL52: 0
A53: S-005947 | B53: 産業・業務（業種共通） | C53: 空調 | D53: 空調機（ヒートポンプ・個別方式） | E53: パッケージエアコン（ビル用マルチ） | F53: 電動圧縮機を用いるヒートポンプ式の空気調和機で、冷房能力が14～120kW程度。主にビル向け。室内機ごとの個別制御機能を持つ。 | G53: - | H53: 冷房能力 | I53: 16.0kW超 22.4kW以下 | J53: 通年エネルギー消費効率（APF） | K53: 通常または簡易 | S53: 大 | T53: パッケージエアコン（ビル用マルチ）-16.0kW超 22.4kW以下通年エネルギー消費効率（APF） | U53: S-001819 | V53: S-001819 | W53: S-001819 | X53: S-002179 | Y53: S-003453 | Z53: S-004576 | AA53: S-005947 | AB53: 6.5 | AC53: 6.5 | AD53: 6.5 | AE53: 6.5 | AF53: 6.5 | AG53: 6.7 | AH53: 6.7 | AI53: 通常または簡易 | AJ53: 0 | AK53: 0 | AL53: 6.7 | AM53: 6.7 | AN53: 6.7 | AO53: 6.7 | AP53: なし | AQ53: なし | AR53: なし | AS53: なし | AT53: なし | AU53: なし | AV53: あり | AW53: なし | AX53: あり | AY53: あり | AZ53: なし | BA53: あり | BB53: あり | BC53: なし | BD53: なし | BE53: あり | BF53: あり | BG53: あり | BH53: あり | BI53: あり | BJ53: 0 | BK53: 0 | BL53: 0
A54: S-005948 | B54: 産業・業務（業種共通） | C54: 空調 | D54: 空調機（ヒートポンプ・個別方式） | E54: パッケージエアコン（ビル用マルチ） | F54: 電動圧縮機を用いるヒートポンプ式の空気調和機で、冷房能力が14～120kW程度。主にビル向け。室内機ごとの個別制御機能を持つ。 | G54: - | H54: 冷房能力 | I54: 22.4kW超 28.0kW以下 | J54: 通年エネルギー消費効率（APF） | K54: 通常または簡易 | S54: 大 | T54: パッケージエアコン（ビル用マルチ）-22.4kW超 28.0kW以下通年エネルギー消費効率（APF） | U54: S-001820 | V54: S-001820 | W54: S-001820 | X54: S-002177 | Y54: S-003458 | Z54: S-004577 | AA54: S-005948 | AB54: 6.3 | AC54: 6.3 | AD54: 6.3 | AE54: 6.3 | AF54: 6.3 | AG54: 6.4 | AH54: 6.4 | AI54: 通常または簡易 | AJ54: 0 | AK54: 0 | AL54: 6.4 | AM54: 6.4 | AN54: 6.5 | AO54: 6.5 | AP54: なし | AQ54: なし | AR54: なし | AS54: なし | AT54: なし | AU54: なし | AV54: あり | AW54: なし | AX54: あり | AY54: あり | AZ54: なし | BA54: あり | BB54: あり | BC54: なし | BD54: なし | BE54: あり | BF54: あり | BG54: あり | BH54: あり | BI54: あり | BJ54: 0 | BK54: 0 | BL54: 0
A55: S-005949 | B55: 産業・業務（業種共通） | C55: 空調 | D55: 空調機（ヒートポンプ・個別方式） | E55: パッケージエアコン（ビル用マルチ） | F55: 電動圧縮機を用いるヒートポンプ式の空気調和機で、冷房能力が14～120kW程度。主にビル向け。室内機ごとの個別制御機能を持つ。 | G55: - | H55: 冷房能力 | I55: 28.0kW超 33.5kW以下 | J55: 通年エネルギー消費効率（APF） | K55: 通常または簡易 | M55: 1 | S55: 大 | T55: パッケージエアコン（ビル用マルチ）-28.0kW超 33.5kW以下通年エネルギー消費効率（APF） | U55: S-001821 | V55: S-001821 | W55: S-001821 | X55: S-002192 | Y55: S-003462 | Z55: S-004579 | AA55: S-005949 | AB55: 6.4 | AC55: 6.4 | AD55: 6.4 | AE55: 6.4 | AF55: 6.4 | AG55: 6.4 | AH55: 6.4 | AI55: 通常または簡易 | AJ55: 0 | AK55: 0 | AL55: 6.4 | AM55: 6.4 | AN55: 6.5 | AO55: 6.5 | AP55: なし | AQ55: なし | AR55: なし | AS55: なし | AT55: なし | AU55: なし | AV55: なし | AW55: なし | AX55: なし | AY55: なし | AZ55: なし | BA55: なし | BB55: なし | BC55: なし | BD55: なし | BE55: あり | BF55: あり | BG55: あり | BH55: あり | BI55: あり | BJ55: 0 | BK55: 0 | BL55: 0
A56: S-005950 | B56: 産業・業務（業種共通） | C56: 空調 | D56: 空調機（ヒートポンプ・個別方式） | E56: パッケージエアコン（ビル用マルチ） | F56: 電動圧縮機を用いるヒートポンプ式の空気調和機で、冷房能力が14～120kW程度。主にビル向け。室内機ごとの個別制御機能を持つ。 | G56: - | H56: 冷房能力 | I56: 33.5kW超 40.0kW以下 | J56: 通年エネルギー消費効率（APF） | K56: 通常または簡易 | S56: 大 | T56: パッケージエアコン（ビル用マルチ）-33.5kW超 40.0kW以下通年エネルギー消費効率（APF） | U56: S-001822 | V56: S-001822 | W56: S-001822 | X56: S-002188 | Y56: S-003468 | Z56: S-004581 | AA56: S-005950 | AB56: 6.1 | AC56: 6.1 | AD56: 6.1 | AE56: 6.2 | AF56: 6.2 | AG56: 6.2 | AH56: 6.4 | AI56: 通常または簡易 | AJ56: 0 | AK56: 0 | AL56: 6.4 | AM56: 6.4 | AN56: 6.5 | AO56: 6.5 | AP56: なし | AQ56: なし | AR56: あり | AS56: なし | AT56: あり | AU56: なし | AV56: なし | AW56: あり | AX56: なし | AY56: あり | AZ56: あり | BA56: あり | BB56: あり | BC56: なし | BD56: なし | BE56: あり | BF56: あり | BG56: あり | BH56: あり | BI56: あり | BJ56: 0 | BK56: 0 | BL56: 0
A57: S-005951 | B57: 産業・業務（業種共通） | C57: 空調 | D57: 空調機（ヒートポンプ・個別方式） | E57: パッケージエアコン（ビル用マルチ） | F57: 電動圧縮機を用いるヒートポンプ式の空気調和機で、冷房能力が14～120kW程度。主にビル向け。室内機ごとの個別制御機能を持つ。 | G57: - | H57: 冷房能力 | I57: 40.0kW超 56.0kW以下 | J57: 通年エネルギー消費効率（APF） | K57: 通常または簡易 | M57: 1 | S57: 大 | T57: パッケージエアコン（ビル用マルチ）-40.0kW超 56.0kW以下通年エネルギー消費効率（APF） | U57: S-001823 | V57: S-001823 | W57: S-001823 | X57: S-002190 | Y57: S-003469 | Z57: S-004582 | AA57: S-005951 | AB57: 6.4 | AC57: 6.4 | AD57: 6.4 | AE57: 6.5 | AF57: 6.5 | AG57: 6.5 | AH57: 6.5 | AI57: 通常または簡易 | AJ57: 0 | AK57: 0 | AL57: 6.5 | AM57: 6.5 | AN57: 6.5 | AO57: 6.5 | AP57: なし | AQ57: なし | AR57: あり | AS57: なし | AT57: あり | AU57: なし | AV57: なし | AW57: あり | AX57: なし | AY57: あり | AZ57: なし | BA57: なし | BB57: なし | BC57: なし | BD57: なし | BE57: あり | BF57: あり | BG57: あり | BH57: あり | BI57: あり | BJ57: 0 | BK57: 0 | BL57: 0
A58: S-005952 | B58: 産業・業務（業種共通） | C58: 空調 | D58: 空調機（ヒートポンプ・個別方式） | E58: パッケージエアコン（ビル用マルチ） | F58: 電動圧縮機を用いるヒートポンプ式の空気調和機で、冷房能力が14～120kW程度。主にビル向け。室内機ごとの個別制御機能を持つ。 | G58: - | H58: 冷房能力 | I58: 56.0kW超 69.0kW以下 | J58: 通年エネルギー消費効率（APF） | K58: 通常または簡易 | L58: 1 | M58: 1 | S58: 大 | T58: パッケージエアコン（ビル用マルチ）-56.0kW超 69.0kW以下通年エネルギー消費効率（APF） | U58: S-001824 | V58: S-001824 | W58: S-001824 | X58: S-002189 | Y58: S-003470 | Z58: S-004583 | AA58: S-005952 | AB58: 6.4 | AC58: 6.4 | AD58: 6.4 | AE58: 6.4 | AF58: 6.4 | AG58: 6.4 | AH58: 6.4 | AI58: 通常または簡易 | AJ58: 0 | AK58: 0 | AL58: 6.4 | AM58: 6.4 | AN58: 6.4 | AO58: 6.4 | AP58: なし | AQ58: なし | AR58: なし | AS58: なし | AT58: なし | AU58: なし | AV58: なし | AW58: なし | AX58: なし | AY58: なし | AZ58: なし | BA58: なし | BB58: なし | BC58: なし | BD58: なし | BE58: あり | BF58: あり | BG58: あり | BH58: あり | BI58: あり | BJ58: 0 | BK58: 0 | BL58: 0
A59: S-005953 | B59: 産業・業務（業種共通） | C59: 空調 | D59: 空調機（ヒートポンプ・個別方式） | E59: パッケージエアコン（ビル用マルチ） | F59: 電動圧縮機を用いるヒートポンプ式の空気調和機で、冷房能力が14～120kW程度。主にビル向け。室内機ごとの個別制御機能を持つ。 | G59: - | H59: 冷房能力 | I59: 69.0kW超 80.0kW以下 | J59: 通年エネルギー消費効率（APF） | K59: 通常または簡易 | L59: 1 | M59: 1 | S59: 大 | T59: パッケージエアコン（ビル用マルチ）-69.0kW超 80.0kW以下通年エネルギー消費効率（APF） | U59: S-001825 | V59: S-001825 | W59: S-001825 | X59: S-002181 | Y59: S-003471 | Z59: S-004584 | AA59: S-005953 | AB59: 6.4 | AC59: 6.4 | AD59: 6.4 | AE59: 6.5 | AF59: 6.5 | AG59: 6.5 | AH59: 6.5 | AI59: 通常 | AJ59: 0 | AK59: 0 | AL59: - | AM59: 6.5 | AN59: 6.5 | AO59: - | AP59: なし | AQ59: なし | AR59: あり | AS59: なし | AT59: あり | AU59: なし | AV59: なし | AW59: あり | AX59: なし | AY59: あり | AZ59: なし | BA59: なし | BB59: なし | BC59: なし | BD59: なし | BE59: あり | BF59: あり | BG59: あり | BH59: なし | BI59: なし | BJ59: 1 | BK59: 1 | BL59: 0
A60: S-005954 | B60: 産業・業務（業種共通） | C60: 空調 | D60: 空調機（ヒートポンプ・個別方式） | E60: パッケージエアコン（ビル用マルチ） | F60: 電動圧縮機を用いるヒートポンプ式の空気調和機で、冷房能力が14～120kW程度。主にビル向け。室内機ごとの個別制御機能を持つ。 | G60: - | H60: 冷房能力 | I60: 80.0kW超 90.0kW以下 | J60: 通年エネルギー消費効率（APF） | K60: 通常または簡易 | L60: 1 | M60: 1 | S60: 大 | T60: パッケージエアコン（ビル用マルチ）-80.0kW超 90.0kW以下通年エネルギー消費効率（APF） | U60: S-001826 | V60: S-001826 | W60: S-001826 | X60: S-002184 | Y60: S-003472 | Z60: S-004585 | AA60: S-005954 | AB60: 6.4 | AC60: 6.4 | AD60: 6.4 | AE60: 6.4 | AF60: 6.4 | AG60: 6.4 | AH60: 6.4 | AI60: 通常または簡易 | AJ60: 0 | AK60: 0 | AL60: 6.4 | AM60: 6.4 | AN60: 6.5 | AO60: 6.5 | AP60: なし | AQ60: なし | AR60: なし | AS60: なし | AT60: なし | AU60: なし | AV60: なし | AW60: なし | AX60: なし | AY60: なし | AZ60: なし | BA60: なし | BB60: なし | BC60: なし | BD60: なし | BE60: あり | BF60: あり | BG60: あり | BH60: あり | BI60: あり | BJ60: 0 | BK60: 0 | BL60: 0
A61: S-005955 | B61: 産業・業務（業種共通） | C61: 空調 | D61: 空調機（ヒートポンプ・個別方式） | E61: パッケージエアコン（ビル用マルチ） | F61: 電動圧縮機を用いるヒートポンプ式の空気調和機で、冷房能力が14～120kW程度。主にビル向け。室内機ごとの個別制御機能を持つ。 | G61: - | H61: 冷房能力 | I61: 90.0kW超 | J61: 通年エネルギー消費効率（APF） | K61: 通常または簡易 | L61: 1 | M61: 1 | S61: 大 | T61: パッケージエアコン（ビル用マルチ）-90.0kW超通年エネルギー消費効率（APF） | U61: S-001827 | V61: S-001827 | W61: S-001827 | X61: S-002182 | Y61: S-003473 | Z61: S-004586 | AA61: S-005955 | AB61: 6.4 | AC61: 6.4 | AD61: 6.4 | AE61: 6.4 | AF61: 6.4 | AG61: 6.4 | AH61: 6.4 | AI61: 通常または簡易 | AJ61: 0 | AK61: 0 | AL61: 6.4 | AM61: 6.4 | AN61: 6.4 | AO61: 6.4 | AP61: なし | AQ61: なし | AR61: なし | AS61: なし | AT61: なし | AU61: なし | AV61: なし | AW61: なし | AX61: なし | AY61: なし | AZ61: なし | BA61: なし | BB61: なし | BC61: なし | BD61: なし | BE61: あり | BF61: あり | BG61: あり | BH61: あり | BI61: あり | BJ61: 0 | BK61: 0 | BL61: 0
A62: S-005956 | B62: 産業・業務（業種共通） | C62: 空調 | D62: 空調機（ヒートポンプ・個別方式） | E62: 氷蓄熱式パッケージエアコン | F62: パッケージエアコンの室外ユニットと室内ユニットの間に氷蓄熱槽を持っており、夜間の冷房を使っていない時間帯に、氷蓄熱槽の熱交換器で氷を作り、昼間の冷房運転時には、室外ユニットを通った冷媒を氷蓄熱槽の熱交換器でさらに冷やしてから室内機に送ることによって利用する。2050年に向けた再生可能エネルギー発電の最大活用に資することが期待される。 | G62: - | H62: 蓄熱利用冷房能力 | I62: 14.0kW以下 | J62: 日量蓄熱利用冷房効率 | K62: 通常または簡易 | M62: 1 | S62: 大 | T62: 氷蓄熱式パッケージエアコン-14.0kW以下日量蓄熱利用冷房効率 | U62: S-001828 | V62: S-001828 | W62: S-001828 | X62: S-002195 | Y62: S-003474 | Z62: S-004587 | AA62: S-005956 | AB62: 3.64 | AC62: 3.64 | AD62: 3.64 | AE62: 3.64 | AF62: 3.64 | AG62: 3.64 | AH62: 3.64 | AI62: 通常または簡易 | AJ62: 0 | AK62: 0 | AL62: 3.64 | AM62: 3.64 | AN62: 3.64 | AO62: 3.64 | AP62: なし | AQ62: なし | AR62: なし | AS62: なし | AT62: なし | AU62: なし | AV62: なし | AW62: なし | AX62: なし | AY62: なし | AZ62: なし | BA62: なし | BB62: なし | BC62: あり | BD62: あり | BE62: あり | BF62: あり | BG62: あり | BH62: あり | BI62: あり | BJ62: 0 | BK62: 0 | BL62: 0
A63: S-005957 | B63: 産業・業務（業種共通） | C63: 空調 | D63: 空調機（ヒートポンプ・個別方式） | E63: 氷蓄熱式パッケージエアコン | F63: パッケージエアコンの室外ユニットと室内ユニットの間に氷蓄熱槽を持っており、夜間の冷房を使っていない時間帯に、氷蓄熱槽の熱交換器で氷を作り、昼間の冷房運転時には、室外ユニットを通った冷媒を氷蓄熱槽の熱交換器でさらに冷やしてから室内機に送ることによって利用する。2050年に向けた再生可能エネルギー発電の最大活用に資することが期待される。 | G63: - | H63: 蓄熱利用冷房能力 | I63: 14.0kW超16.0kW以下 | J63: 日量蓄熱利用冷房効率 | K63: 認証対象外 | S63: 大 | T63: 氷蓄熱式パッケージエアコン-14.0kW超16.0kW以下日量蓄熱利用冷房効率 | U63: S-001829 | V63: S-001829 | W63: S-001829 | X63: S-002198 | Y63: S-003475 | Z63: S-004588 | AA63: S-005957 | AB63: - | AC63: - | AD63: - | AE63: - | AF63: - | AG63: - | AH63: - | AI63: 認証対象外 | AJ63: 0 | AK63: 0 | AL63: - | AM63: - | AN63: - | AO63: - | AP63: - | AQ63: - | AR63: - | AS63: - | AT63: - | AU63: - | AV63: - | AW63: - | AX63: - | AY63: - | AZ63: - | BA63: - | BB63: - | BC63: なし | BD63: なし | BE63: なし | BF63: なし | BG63: なし | BH63: なし | BI63: なし | BJ63: 1 | BK63: 1 | BL63: 1
A64: S-005958 | B64: 産業・業務（業種共通） | C64: 空調 | D64: 空調機（ヒートポンプ・個別方式） | E64: 氷蓄熱式パッケージエアコン | F64: パッケージエアコンの室外ユニットと室内ユニットの間に氷蓄熱槽を持っており、夜間の冷房を使っていない時間帯に、氷蓄熱槽の熱交換器で氷を作り、昼間の冷房運転時には、室外ユニットを通った冷媒を氷蓄熱槽の熱交換器でさらに冷やしてから室内機に送ることによって利用する。2050年に向けた再生可能エネルギー発電の最大活用に資することが期待される。 | G64: - | H64: 蓄熱利用冷房能力 | I64: 16.0kW超22.4kW以下 | J64: 日量蓄熱利用冷房効率 | K64: 認証対象外 | S64: 大 | T64: 氷蓄熱式パッケージエアコン-16.0kW超22.4kW以下日量蓄熱利用冷房効率 | U64: S-001830 | V64: S-001830 | W64: S-001830 | X64: S-002193 | Y64: S-003476 | Z64: S-004797 | AA64: S-005958 | AB64: - | AC64: - | AD64: - | AE64: - | AF64: - | AG64: - | AH64: - | AI64: 認証対象外 | AJ64: 0 | AK64: 0 | AL64: - | AM64: - | AN64: - | AO64: - | AP64: - | AQ64: - | AR64: - | AS64: - | AT64: - | AU64: - | AV64: - | AW64: - | AX64: - | AY64: - | AZ64: - | BA64: - | BB64: - | BC64: なし | BD64: なし | BE64: なし | BF64: なし | BG64: なし | BH64: なし | BI64: なし | BJ64: 1 | BK64: 1 | BL64: 1
A65: S-005959 | B65: 産業・業務（業種共通） | C65: 空調 | D65: 空調機（ヒートポンプ・個別方式） | E65: 氷蓄熱式パッケージエアコン | F65: パッケージエアコンの室外ユニットと室内ユニットの間に氷蓄熱槽を持っており、夜間の冷房を使っていない時間帯に、氷蓄熱槽の熱交換器で氷を作り、昼間の冷房運転時には、室外ユニットを通った冷媒を氷蓄熱槽の熱交換器でさらに冷やしてから室内機に送ることによって利用する。2050年に向けた再生可能エネルギー発電の最大活用に資することが期待される。 | G65: - | H65: 蓄熱利用冷房能力 | I65: 22.4kW超28.0kW以下 | J65: 日量蓄熱利用冷房効率 | K65: 認証対象外 | S65: 大 | T65: 氷蓄熱式パッケージエアコン-22.4kW超28.0kW以下日量蓄熱利用冷房効率 | U65: S-001831 | V65: S-001831 | W65: S-001831 | X65: S-002197 | Y65: S-003477 | Z65: S-004619 | AA65: S-005959 | AB65: - | AC65: - | AD65: - | AE65: - | AF65: - | AG65: - | AH65: - | AI65: 認証対象外 | AJ65: 0 | AK65: 0 | AL65: - | AM65: - | AN65: - | AO65: - | AP65: - | AQ65: - | AR65: - | AS65: - | AT65: - | AU65: - | AV65: - | AW65: - | AX65: - | AY65: - | AZ65: - | BA65: - | BB65: - | BC65: なし | BD65: なし | BE65: なし | BF65: なし | BG65: なし | BH65: なし | BI65: なし | BJ65: 1 | BK65: 1 | BL65: 1
A66: S-005960 | B66: 産業・業務（業種共通） | C66: 空調 | D66: 空調機（ヒートポンプ・個別方式） | E66: 氷蓄熱式パッケージエアコン | F66: パッケージエアコンの室外ユニットと室内ユニットの間に氷蓄熱槽を持っており、夜間の冷房を使っていない時間帯に、氷蓄熱槽の熱交換器で氷を作り、昼間の冷房運転時には、室外ユニットを通った冷媒を氷蓄熱槽の熱交換器でさらに冷やしてから室内機に送ることによって利用する。2050年に向けた再生可能エネルギー発電の最大活用に資することが期待される。 | G66: - | H66: 蓄熱利用冷房能力 | I66: 28.0kW超45.0kW以下 | J66: 日量蓄熱利用冷房効率 | K66: 認証対象外 | S66: 大 | T66: 氷蓄熱式パッケージエアコン-28.0kW超45.0kW以下日量蓄熱利用冷房効率 | U66: S-001832 | V66: S-001832 | W66: S-001832 | X66: S-002203 | Y66: S-003481 | Z66: S-004805 | AA66: S-005960 | AB66: - | AC66: - | AD66: - | AE66: - | AF66: - | AG66: - | AH66: - | AI66: 認証対象外 | AJ66: 0 | AK66: 0 | AL66: - | AM66: - | AN66: - | AO66: - | AP66: - | AQ66: - | AR66: - | AS66: - | AT66: - | AU66: - | AV66: - | AW66: - | AX66: - | AY66: - | AZ66: - | BA66: - | BB66: - | BC66: なし | BD66: なし | BE66: なし | BF66: なし | BG66: なし | BH66: なし | BI66: なし | BJ66: 1 | BK66: 1 | BL66: 1
A67: S-005961 | B67: 産業・業務（業種共通） | C67: 空調 | D67: 空調機（ヒートポンプ・個別方式） | E67: 氷蓄熱式パッケージエアコン | F67: パッケージエアコンの室外ユニットと室内ユニットの間に氷蓄熱槽を持っており、夜間の冷房を使っていない時間帯に、氷蓄熱槽の熱交換器で氷を作り、昼間の冷房運転時には、室外ユニットを通った冷媒を氷蓄熱槽の熱交換器でさらに冷やしてから室内機に送ることによって利用する。2050年に向けた再生可能エネルギー発電の最大活用に資することが期待される。 | G67: - | H67: 蓄熱利用冷房能力 | I67: 45.0kW超56.0kW以下 | J67: 日量蓄熱利用冷房効率 | K67: 認証対象外 | S67: 大 | T67: 氷蓄熱式パッケージエアコン-45.0kW超56.0kW以下日量蓄熱利用冷房効率 | U67: S-001833 | V67: S-001833 | W67: S-001833 | X67: S-002206 | Y67: S-003485 | Z67: S-004808 | AA67: S-005961 | AB67: - | AC67: - | AD67: - | AE67: - | AF67: - | AG67: - | AH67: - | AI67: 認証対象外 | AJ67: 0 | AK67: 0 | AL67: - | AM67: - | AN67: - | AO67: - | AP67: - | AQ67: - | AR67: - | AS67: - | AT67: - | AU67: - | AV67: - | AW67: - | AX67: - | AY67: - | AZ67: - | BA67: - | BB67: - | BC67: なし | BD67: なし | BE67: なし | BF67: なし | BG67: なし | BH67: なし | BI67: なし | BJ67: 1 | BK67: 1 | BL67: 1
A68: S-005962 | B68: 産業・業務（業種共通） | C68: 空調 | D68: 空調機（ヒートポンプ・個別方式） | E68: 氷蓄熱式パッケージエアコン | F68: パッケージエアコンの室外ユニットと室内ユニットの間に氷蓄熱槽を持っており、夜間の冷房を使っていない時間帯に、氷蓄熱槽の熱交換器で氷を作り、昼間の冷房運転時には、室外ユニットを通った冷媒を氷蓄熱槽の熱交換器でさらに冷やしてから室内機に送ることによって利用する。2050年に向けた再生可能エネルギー発電の最大活用に資することが期待される。 | G68: - | H68: 蓄熱利用冷房能力 | I68: 56.0kW超80.0kW以下 | J68: 日量蓄熱利用冷房効率 | K68: 認証対象外 | S68: 大 | T68: 氷蓄熱式パッケージエアコン-56.0kW超80.0kW以下日量蓄熱利用冷房効率 | U68: S-001834 | V68: S-001834 | W68: S-001834 | X68: S-002200 | Y68: S-003486 | Z68: S-004812 | AA68: S-005962 | AB68: - | AC68: - | AD68: - | AE68: - | AF68: - | AG68: - | AH68: - | AI68: 認証対象外 | AJ68: 0 | AK68: 0 | AL68: - | AM68: - | AN68: - | AO68: - | AP68: - | AQ68: - | AR68: - | AS68: - | AT68: - | AU68: - | AV68: - | AW68: - | AX68: - | AY68: - | AZ68: - | BA68: - | BB68: - | BC68: なし | BD68: なし | BE68: なし | BF68: なし | BG68: なし | BH68: なし | BI68: なし | BJ68: 1 | BK68: 1 | BL68: 1
A69: S-005963 | B69: 産業・業務（業種共通） | C69: 空調 | D69: 空調機（ヒートポンプ・個別方式） | E69: 氷蓄熱式パッケージエアコン | F69: パッケージエアコンの室外ユニットと室内ユニットの間に氷蓄熱槽を持っており、夜間の冷房を使っていない時間帯に、氷蓄熱槽の熱交換器で氷を作り、昼間の冷房運転時には、室外ユニットを通った冷媒を氷蓄熱槽の熱交換器でさらに冷やしてから室内機に送ることによって利用する。2050年に向けた再生可能エネルギー発電の最大活用に資することが期待される。 | G69: - | H69: 蓄熱利用冷房能力 | I69: 80.0kW超112.0kW以下 | J69: 日量蓄熱利用冷房効率 | K69: 認証対象外 | S69: 大 | T69: 氷蓄熱式パッケージエアコン-80.0kW超112.0kW以下日量蓄熱利用冷房効率 | U69: S-001835 | V69: S-001835 | W69: S-001835 | X69: S-002208 | Y69: S-003491 | Z69: S-004814 | AA69: S-005963 | AB69: - | AC69: - | AD69: - | AE69: - | AF69: - | AG69: - | AH69: - | AI69: 認証対象外 | AJ69: 0 | AK69: 0 | AL69: - | AM69: - | AN69: - | AO69: - | AP69: - | AQ69: - | AR69: - | AS69: - | AT69: - | AU69: - | AV69: - | AW69: - | AX69: - | AY69: - | AZ69: - | BA69: - | BB69: - | BC69: なし | BD69: なし | BE69: なし | BF69: なし | BG69: なし | BH69: なし | BI69: なし | BJ69: 1 | BK69: 1 | BL69: 1
A70: S-005964 | B70: 産業・業務（業種共通） | C70: 空調 | D70: 空調機（ヒートポンプ・個別方式） | E70: 氷蓄熱式パッケージエアコン | F70: パッケージエアコンの室外ユニットと室内ユニットの間に氷蓄熱槽を持っており、夜間の冷房を使っていない時間帯に、氷蓄熱槽の熱交換器で氷を作り、昼間の冷房運転時には、室外ユニットを通った冷媒を氷蓄熱槽の熱交換器でさらに冷やしてから室内機に送ることによって利用する。2050年に向けた再生可能エネルギー発電の最大活用に資することが期待される。 | G70: - | H70: 蓄熱利用冷房能力 | I70: 112.0kW超 | J70: 日量蓄熱利用冷房効率 | K70: 通常または簡易 | M70: 1 | S70: 大 | T70: 氷蓄熱式パッケージエアコン-112.0kW超日量蓄熱利用冷房効率 | U70: S-001836 | V70: S-001836 | W70: S-001836 | X70: S-002205 | Y70: S-003500 | Z70: S-004589 | AA70: S-005964 | AB70: 2.6 | AC70: 2.6 | AD70: 2.6 | AE70: 2.6 | AF70: 2.6 | AG70: 2.6 | AH70: 2.6 | AI70: 通常または簡易 | AJ70: 0 | AK70: 0 | AL70: 2.6 | AM70: 2.6 | AN70: 2.6 | AO70: 2.6 | AP70: なし | AQ70: なし | AR70: なし | AS70: なし | AT70: なし | AU70: なし | AV70: なし | AW70: なし | AX70: なし | AY70: なし | AZ70: なし | BA70: なし | BB70: なし | BC70: あり | BD70: あり | BE70: あり | BF70: あり | BG70: あり | BH70: あり | BI70: あり | BJ70: 0 | BK70: 0 | BL70: 0
A71: S-005965 | B71: 産業・業務（業種共通） | C71: 空調/産業用プロセス | D71: 熱源・空調機（ヒートポンプ・中央方式） | E71: フロン類等冷媒ターボ冷凍機 | F71: 蒸発器、圧縮機、凝集器、弁からなる。蒸発器内の冷媒を蒸発させ蒸発器内のパイプの中の循環水を冷やし、冷水として取り出して使用する機器。蒸発した冷媒は圧縮機で昇圧され、凝縮器内の冷却水で凝縮され液体に戻る。HFC冷媒またはHFO冷媒を使用している。 | G71: - | H71: 冷却能力 | I71: 200RT未満 | J71: 期間成績係数（IPLV） | K71: 通常または簡易 | M71: 1 | S71: 大 | T71: フロン類等冷媒ターボ冷凍機-200RT未満期間成績係数（IPLV） | U71: S-001846 | V71: S-001846 | W71: S-001846 | X71: S-002222 | Y71: S-003504 | Z71: S-004590 | AA71: S-005965 | AB71: 6.7 | AC71: 7.36 | AD71: 6.7 | AE71: 6.7 | AF71: 6.7 | AG71: 6.7 | AH71: 6.7 | AI71: 通常または簡易 | AJ71: 0 | AK71: 0 | AL71: 6.7 | AM71: 6.7 | AN71: 6.7 | AO71: 6.7 | AP71: あり | AQ71: あり | AR71: なし | AS71: なし | AT71: あり | AU71: なし | AV71: なし | AW71: あり | AX71: なし | AY71: あり | AZ71: なし | BA71: なし | BB71: なし | BC71: なし | BD71: なし | BE71: あり | BF71: あり | BG71: あり | BH71: あり | BI71: あり | BJ71: 0 | BK71: 0 | BL71: 0
A72: S-005966 | B72: 産業・業務（業種共通） | C72: 空調/産業用プロセス | D72: 熱源・空調機（ヒートポンプ・中央方式） | E72: フロン類等冷媒ターボ冷凍機 | F72: 蒸発器、圧縮機、凝集器、弁からなる。蒸発器内の冷媒を蒸発させ蒸発器内のパイプの中の循環水を冷やし、冷水として取り出して使用する機器。蒸発した冷媒は圧縮機で昇圧され、凝縮器内の冷却水で凝縮され液体に戻る。HFC冷媒またはHFO冷媒を使用している。 | G72: - | H72: 冷却能力 | I72: 200RT以上250RT未満 | J72: 期間成績係数（IPLV） | K72: 通常 | S72: 大 | T72: フロン類等冷媒ターボ冷凍機-200RT以上250RT未満期間成績係数（IPLV） | U72: - | V72: - | W72: - | X72: - | Y72: - | Z72: S-005784 | AA72: S-005966 | AB72: - | AC72: - | AD72: - | AE72: - | AF72: - | AG72: 9.2 | AH72: 9.2 | AI72: 通常または簡易 | AJ72: 0 | AK72: 0 | AL72: 9.2 | AM72: 9.2 | AN72: 9.2 | AO72: 9.2 | AP72: - | AQ72: - | AR72: - | AS72: - | AT72: - | AU72: - | AV72: - | AW72: - | AX72: - | AY72: - | AZ72: なし | BA72: - | BB72: - | BC72: なし | BD72: なし | BE72: なし | BF72: なし | BG72: なし | BH72: あり | BI72: あり | BJ72: 0 | BK72: 0 | BL72: 0
A73: S-005967 | B73: 産業・業務（業種共通） | C73: 空調/産業用プロセス | D73: 熱源・空調機（ヒートポンプ・中央方式） | E73: フロン類等冷媒ターボ冷凍機 | F73: 蒸発器、圧縮機、凝集器、弁からなる。蒸発器内の冷媒を蒸発させ蒸発器内のパイプの中の循環水を冷やし、冷水として取り出して使用する機器。蒸発した冷媒は圧縮機で昇圧され、凝縮器内の冷却水で凝縮され液体に戻る。HFC冷媒またはHFO冷媒を使用している。 | G73: - | H73: 冷却能力 | I73: 250RT以上300RT未満 | J73: 期間成績係数（IPLV） | K73: 通常 | S73: 大 | T73: フロン類等冷媒ターボ冷凍機-250RT以上300RT未満期間成績係数（IPLV） | U73: - | V73: - | W73: - | X73: - | Y73: - | Z73: S-005785 | AA73: S-005967 | AB73: - | AC73: - | AD73: - | AE73: - | AF73: - | AG73: 9.4 | AH73: 9.4 | AI73: 通常または簡易 | AJ73: 0 | AK73: 0 | AL73: 9.4 | AM73: 9.4 | AN73: 9.4 | AO73: 9.4 | AP73: - | AQ73: - | AR73: - | AS73: - | AT73: - | AU73: - | AV73: - | AW73: - | AX73: - | AY73: - | AZ73: なし | BA73: - | BB73: - | BC73: なし | BD73: なし | BE73: なし | BF73: なし | BG73: なし | BH73: あり | BI73: あり | BJ73: 0 | BK73: 0 | BL73: 0
A74: S-005968 | B74: 産業・業務（業種共通） | C74: 空調/産業用プロセス | D74: 熱源・空調機（ヒートポンプ・中央方式） | E74: フロン類等冷媒ターボ冷凍機 | F74: 蒸発器、圧縮機、凝集器、弁からなる。蒸発器内の冷媒を蒸発させ蒸発器内のパイプの中の循環水を冷やし、冷水として取り出して使用する機器。蒸発した冷媒は圧縮機で昇圧され、凝縮器内の冷却水で凝縮され液体に戻る。HFC冷媒またはHFO冷媒を使用している。 | G74: - | H74: 冷却能力 | I74: 300RT以上350RT未満 | J74: 期間成績係数（IPLV） | K74: 通常 | S74: 大 | T74: フロン類等冷媒ターボ冷凍機-300RT以上350RT未満期間成績係数（IPLV） | U74: - | V74: - | W74: - | X74: - | Y74: - | Z74: S-005786 | AA74: S-005968 | AB74: - | AC74: - | AD74: - | AE74: - | AF74: - | AG74: 9.4 | AH74: 9.41 | AI74: 通常または簡易 | AJ74: 0 | AK74: 0 | AL74: 9.41 | AM74: 9.41 | AN74: 9.41 | AO74: 9.41 | AP74: - | AQ74: - | AR74: - | AS74: - | AT74: - | AU74: - | AV74: - | AW74: - | AX74: - | AY74: - | AZ74: あり | BA74: - | BB74: - | BC74: なし | BD74: なし | BE74: なし | BF74: なし | BG74: なし | BH74: あり | BI74: あり | BJ74: 0 | BK74: 0 | BL74: 0
A75: S-005969 | B75: 産業・業務（業種共通） | C75: 空調/産業用プロセス | D75: 熱源・空調機（ヒートポンプ・中央方式） | E75: フロン類等冷媒ターボ冷凍機 | F75: 蒸発器、圧縮機、凝集器、弁からなる。蒸発器内の冷媒を蒸発させ蒸発器内のパイプの中の循環水を冷やし、冷水として取り出して使用する機器。蒸発した冷媒は圧縮機で昇圧され、凝縮器内の冷却水で凝縮され液体に戻る。HFC冷媒またはHFO冷媒を使用している。 | G75: - | H75: 冷却能力 | I75: 350RT以上400RT未満 | J75: 期間成績係数（IPLV） | K75: 通常 | S75: 大 | T75: フロン類等冷媒ターボ冷凍機-350RT以上400RT未満期間成績係数（IPLV） | U75: - | V75: - | W75: - | X75: - | Y75: - | Z75: S-005787 | AA75: S-005969 | AB75: - | AC75: - | AD75: - | AE75: - | AF75: - | AG75: 9.4 | AH75: 9.4 | AI75: 通常または簡易 | AJ75: 0 | AK75: 0 | AL75: 9.4 | AM75: 9.4 | AN75: 9.4 | AO75: 9.4 | AP75: - | AQ75: - | AR75: - | AS75: - | AT75: - | AU75: - | AV75: - | AW75: - | AX75: - | AY75: - | AZ75: なし | BA75: - | BB75: - | BC75: なし | BD75: なし | BE75: なし | BF75: なし | BG75: なし | BH75: あり | BI75: あり | BJ75: 0 | BK75: 0 | BL75: 0
A76: S-005970 | B76: 産業・業務（業種共通） | C76: 空調/産業用プロセス | D76: 熱源・空調機（ヒートポンプ・中央方式） | E76: フロン類等冷媒ターボ冷凍機 | F76: 蒸発器、圧縮機、凝集器、弁からなる。蒸発器内の冷媒を蒸発させ蒸発器内のパイプの中の循環水を冷やし、冷水として取り出して使用する機器。蒸発した冷媒は圧縮機で昇圧され、凝縮器内の冷却水で凝縮され液体に戻る。HFC冷媒またはHFO冷媒を使用している。 | G76: - | H76: 冷却能力 | I76: 400RT以上500RT未満 | J76: 期間成績係数（IPLV） | K76: 通常または簡易 | S76: 大 | T76: フロン類等冷媒ターボ冷凍機-400RT以上500RT未満期間成績係数（IPLV） | U76: S-001849 | V76: S-001849 | W76: S-001849 | X76: S-002234 | Y76: S-003507 | Z76: S-004595 | AA76: S-005970 | AB76: 8 | AC76: 8 | AD76: 8 | AE76: 8 | AF76: 9.57 | AG76: 9.6 | AH76: 9.63 | AI76: 通常または簡易 | AJ76: 0 | AK76: 0 | AL76: 9.63 | AM76: 9.63 | AN76: 9.63 | AO76: 9.63 | AP76: なし | AQ76: なし | AR76: なし | AS76: なし | AT76: なし | AU76: あり | AV76: あり | AW76: あり | AX76: あり | AY76: あり | AZ76: あり | BA76: あり | BB76: あり | BC76: なし | BD76: なし | BE76: あり | BF76: あり | BG76: あり | BH76: あり | BI76: あり | BJ76: 0 | BK76: 0 | BL76: 0
A77: S-005971 | B77: 産業・業務（業種共通） | C77: 空調/産業用プロセス | D77: 熱源・空調機（ヒートポンプ・中央方式） | E77: フロン類等冷媒ターボ冷凍機 | F77: 蒸発器、圧縮機、凝集器、弁からなる。蒸発器内の冷媒を蒸発させ蒸発器内のパイプの中の循環水を冷やし、冷水として取り出して使用する機器。蒸発した冷媒は圧縮機で昇圧され、凝縮器内の冷却水で凝縮され液体に戻る。HFC冷媒またはHFO冷媒を使用している。 | G77: - | H77: 冷却能力 | I77: 500RT以上600RT未満 | J77: 期間成績係数（IPLV） | K77: 通常 | S77: 大 | T77: フロン類等冷媒ターボ冷凍機-500RT以上600RT未満期間成績係数（IPLV） | U77: S-001850 | V77: S-001850 | W77: S-001850 | X77: S-002228 | Y77: S-003509 | Z77: S-004597 | AA77: S-005971 | AB77: 9.2 | AC77: 9.2 | AD77: 9.2 | AE77: 9.2 | AF77: 9.2 | AG77: 9.1 | AH77: 9.55 | AI77: 通常または簡易 | AJ77: 0 | AK77: 0 | AL77: 9.55 | AM77: 9.55 | AN77: 9.55 | AO77: 9.55 | AP77: なし | AQ77: なし | AR77: なし | AS77: なし | AT77: なし | AU77: なし | AV77: あり | AW77: なし | AX77: あり | AY77: あり | AZ77: あり | BA77: あり | BB77: あり | BC77: なし | BD77: なし | BE77: あり | BF77: あり | BG77: なし | BH77: あり | BI77: あり | BJ77: 0 | BK77: 0 | BL77: 0
A78: S-005972 | B78: 産業・業務（業種共通） | C78: 空調/産業用プロセス | D78: 熱源・空調機（ヒートポンプ・中央方式） | E78: フロン類等冷媒ターボ冷凍機 | F78: 蒸発器、圧縮機、凝集器、弁からなる。蒸発器内の冷媒を蒸発させ蒸発器内のパイプの中の循環水を冷やし、冷水として取り出して使用する機器。蒸発した冷媒は圧縮機で昇圧され、凝縮器内の冷却水で凝縮され液体に戻る。HFC冷媒またはHFO冷媒を使用している。 | G78: - | H78: 冷却能力 | I78: 600RT以上700RT未満 | J78: 期間成績係数（IPLV） | K78: 通常 | S78: 大 | T78: フロン類等冷媒ターボ冷凍機-600RT以上700RT未満期間成績係数（IPLV） | U78: S-001851 | V78: S-001851 | W78: S-001851 | X78: S-002226 | Y78: S-003510 | Z78: S-004599 | AA78: S-005972 | AB78: 8.4 | AC78: 8.4 | AD78: 8.4 | AE78: 8.4 | AF78: 9.3 | AG78: 9.3 | AH78: 9.3 | AI78: 通常または簡易 | AJ78: 0 | AK78: 0 | AL78: 9.3 | AM78: 9.3 | AN78: 9.3 | AO78: 9.3 | AP78: なし | AQ78: なし | AR78: なし | AS78: なし | AT78: なし | AU78: あり | AV78: なし | AW78: あり | AX78: あり | AY78: あり | AZ78: なし | BA78: なし | BB78: あり | BC78: なし | BD78: なし | BE78: あり | BF78: あり | BG78: なし | BH78: あり | BI78: あり | BJ78: 0 | BK78: 0 | BL78: 0
A79: S-005973 | B79: 産業・業務（業種共通） | C79: 空調/産業用プロセス | D79: 熱源・空調機（ヒートポンプ・中央方式） | E79: フロン類等冷媒ターボ冷凍機 | F79: 蒸発器、圧縮機、凝集器、弁からなる。蒸発器内の冷媒を蒸発させ蒸発器内のパイプの中の循環水を冷やし、冷水として取り出して使用する機器。蒸発した冷媒は圧縮機で昇圧され、凝縮器内の冷却水で凝縮され液体に戻る。HFC冷媒またはHFO冷媒を使用している。 | G79: - | H79: 冷却能力 | I79: 700RT以上1000RT未満 | J79: 期間成績係数（IPLV） | K79: 通常または簡易 | S79: 大 | T79: フロン類等冷媒ターボ冷凍機-700RT以上1000RT未満期間成績係数（IPLV） | U79: S-001852 | V79: S-001852 | W79: S-001852 | X79: S-002227 | Y79: S-003511 | Z79: S-004601 | AA79: S-005973 | AB79: 9.1 | AC79: 9.1 | AD79: 9.1 | AE79: 9.1 | AF79: 9.1 | AG79: 9.9 | AH79: 9.9 | AI79: 通常 | AJ79: 0 | AK79: 0 | AL79: - | AM79: 9.9 | AN79: 9.9 | AO79: - | AP79: なし | AQ79: なし | AR79: なし | AS79: なし | AT79: なし | AU79: なし | AV79: あり | AW79: なし | AX79: あり | AY79: あり | AZ79: なし | BA79: あり | BB79: あり | BC79: なし | BD79: なし | BE79: なし | BF79: あり | BG79: あり | BH79: なし | BI79: なし | BJ79: 1 | BK79: 1 | BL79: 0
A80: S-005974 | B80: 産業・業務（業種共通） | C80: 空調/産業用プロセス | D80: 熱源・空調機（ヒートポンプ・中央方式） | E80: フロン類等冷媒ターボ冷凍機 | F80: 蒸発器、圧縮機、凝集器、弁からなる。蒸発器内の冷媒を蒸発させ蒸発器内のパイプの中の循環水を冷やし、冷水として取り出して使用する機器。蒸発した冷媒は圧縮機で昇圧され、凝縮器内の冷却水で凝縮され液体に戻る。HFC冷媒またはHFO冷媒を使用している。 | G80: - | H80: 冷却能力 | I80: 1000RT以上1500RT未満 | J80: 期間成績係数（IPLV） | K80: 通常または簡易 | S80: 大 | T80: フロン類等冷媒ターボ冷凍機-1000RT以上1500RT未満期間成績係数（IPLV） | U80: S-001853 | V80: S-001853 | W80: S-001853 | X80: S-002225 | Y80: S-003512 | Z80: S-004602 | AA80: S-005974 | AB80: 9.29 | AC80: 9.29 | AD80: 9.29 | AE80: 9.29 | AF80: 9.29 | AG80: 9.29 | AH80: 9.59 | AI80: 通常または簡易 | AJ80: 0 | AK80: 0 | AL80: 9.59 | AM80: 9.59 | AN80: 9.59 | AO80: 9.59 | AP80: なし | AQ80: なし | AR80: なし | AS80: なし | AT80: なし | AU80: なし | AV80: なし | AW80: なし | AX80: なし | AY80: なし | AZ80: あり | BA80: あり | BB80: あり | BC80: なし | BD80: なし | BE80: あり | BF80: あり | BG80: あり | BH80: あり | BI80: あり | BJ80: 0 | BK80: 0 | BL80: 0
A81: S-005975 | B81: 産業・業務（業種共通） | C81: 空調/産業用プロセス | D81: 熱源・空調機（ヒートポンプ・中央方式） | E81: フロン類等冷媒ターボ冷凍機 | F81: 蒸発器、圧縮機、凝集器、弁からなる。蒸発器内の冷媒を蒸発させ蒸発器内のパイプの中の循環水を冷やし、冷水として取り出して使用する機器。蒸発した冷媒は圧縮機で昇圧され、凝縮器内の冷却水で凝縮され液体に戻る。HFC冷媒またはHFO冷媒を使用している。 | G81: - | H81: 冷却能力 | I81: 1500RT以上 | J81: 期間成績係数（IPLV） | K81: 通常または簡易 | M81: 1 | S81: 大 | T81: フロン類等冷媒ターボ冷凍機-1500RT以上期間成績係数（IPLV） | U81: S-001854 | V81: S-001854 | W81: S-001854 | X81: S-002229 | Y81: S-003513 | Z81: S-004604 | AA81: S-005975 | AB81: 9.29 | AC81: 9.29 | AD81: 9.29 | AE81: 9.29 | AF81: 9.29 | AG81: 9.29 | AH81: 9.29 | AI81: 通常または簡易 | AJ81: 0 | AK81: 0 | AL81: 9.29 | AM81: 9.29 | AN81: 9.29 | AO81: 9.29 | AP81: なし | AQ81: なし | AR81: なし | AS81: なし | AT81: なし | AU81: なし | AV81: なし | AW81: なし | AX81: なし | AY81: なし | AZ81: なし | BA81: なし | BB81: なし | BC81: なし | BD81: なし | BE81: あり | BF81: あり | BG81: あり | BH81: あり | BI81: あり | BJ81: 0 | BK81: 0 | BL81: 0
A82: S-005976 | B82: 産業・業務（業種共通） | C82: 空調/産業用プロセス | D82: 熱源・空調機（ヒートポンプ・中央方式） | E82: フロン類等冷媒ターボ冷凍機 | F82: 蒸発器、圧縮機、凝集器、弁からなる。蒸発器内の冷媒を蒸発させ蒸発器内のパイプの中の循環水を冷やし、冷水として取り出して使用する機器。蒸発した冷媒は圧縮機で昇圧され、凝縮器内の冷却水で凝縮され液体に戻る。HFC冷媒またはHFO冷媒を使用している。 | G82: - | H82: 冷却能力 | I82: 200RT未満 | J82: 成績係数（COP） | K82: 通常または簡易 | O82: 1 | S82: 大 | T82: フロン類等冷媒ターボ冷凍機-200RT未満成績係数（COP） | U82: S-001837 | V82: S-001837 | W82: S-001837 | X82: S-002216 | Y82: S-003514 | Z82: S-004605 | AA82: S-005976 | AB82: 6.04 | AC82: 6.04 | AD82: 6.04 | AE82: 6.04 | AF82: 6.04 | AG82: 6.17 | AH82: 6.17 | AI82: 通常または簡易 | AJ82: 0 | AK82: 0 | AL82: 6.17 | AM82: 6.17 | AN82: 6.17 | AO82: 6.17 | AP82: なし | AQ82: なし | AR82: なし | AS82: なし | AT82: なし | AU82: なし | AV82: あり | AW82: なし | AX82: あり | AY82: あり | AZ82: なし | BA82: あり | BB82: あり | BC82: なし | BD82: なし | BE82: あり | BF82: あり | BG82: あり | BH82: あり | BI82: あり | BJ82: 0 | BK82: 0 | BL82: 0
A83: S-005977 | B83: 産業・業務（業種共通） | C83: 空調/産業用プロセス | D83: 熱源・空調機（ヒートポンプ・中央方式） | E83: フロン類等冷媒ターボ冷凍機 | F83: 蒸発器、圧縮機、凝集器、弁からなる。蒸発器内の冷媒を蒸発させ蒸発器内のパイプの中の循環水を冷やし、冷水として取り出して使用する機器。蒸発した冷媒は圧縮機で昇圧され、凝縮器内の冷却水で凝縮され液体に戻る。HFC冷媒またはHFO冷媒を使用している。 | G83: - | H83: 冷却能力 | I83: 200RT以上250RT未満 | J83: 成績係数（COP） | K83: 通常 | O83: 1 | S83: 大 | T83: フロン類等冷媒ターボ冷凍機-200RT以上250RT未満成績係数（COP） | U83: - | V83: - | W83: - | X83: - | Y83: - | Z83: S-005788 | AA83: S-005977 | AB83: - | AC83: - | AD83: - | AE83: - | AF83: - | AG83: 6.34 | AH83: 6.34 | AI83: 通常または簡易 | AJ83: 0 | AK83: 0 | AL83: 6.34 | AM83: 6.34 | AN83: 6.34 | AO83: 6.34 | AP83: - | AQ83: - | AR83: - | AS83: - | AT83: - | AU83: - | AV83: - | AW83: - | AX83: - | AY83: - | AZ83: なし | BA83: - | BB83: - | BC83: なし | BD83: なし | BE83: なし | BF83: なし | BG83: なし | BH83: あり | BI83: あり | BJ83: 0 | BK83: 0 | BL83: 0
A84: S-005978 | B84: 産業・業務（業種共通） | C84: 空調/産業用プロセス | D84: 熱源・空調機（ヒートポンプ・中央方式） | E84: フロン類等冷媒ターボ冷凍機 | F84: 蒸発器、圧縮機、凝集器、弁からなる。蒸発器内の冷媒を蒸発させ蒸発器内のパイプの中の循環水を冷やし、冷水として取り出して使用する機器。蒸発した冷媒は圧縮機で昇圧され、凝縮器内の冷却水で凝縮され液体に戻る。HFC冷媒またはHFO冷媒を使用している。 | G84: - | H84: 冷却能力 | I84: 250RT以上300RT未満 | J84: 成績係数（COP） | K84: 通常 | O84: 1 | S84: 大 | T84: フロン類等冷媒ターボ冷凍機-250RT以上300RT未満成績係数（COP） | U84: - | V84: - | W84: - | X84: - | Y84: - | Z84: S-005789 | AA84: S-005978 | AB84: - | AC84: - | AD84: - | AE84: - | AF84: - | AG84: 6.38 | AH84: 6.4 | AI84: 通常または簡易 | AJ84: 0 | AK84: 0 | AL84: 6.4 | AM84: 6.4 | AN84: 6.4 | AO84: 6.4 | AP84: - | AQ84: - | AR84: - | AS84: - | AT84: - | AU84: - | AV84: - | AW84: - | AX84: - | AY84: - | AZ84: あり | BA84: - | BB84: - | BC84: なし | BD84: なし | BE84: なし | BF84: なし | BG84: なし | BH84: あり | BI84: あり | BJ84: 0 | BK84: 0 | BL84: 0
A85: S-005979 | B85: 産業・業務（業種共通） | C85: 空調/産業用プロセス | D85: 熱源・空調機（ヒートポンプ・中央方式） | E85: フロン類等冷媒ターボ冷凍機 | F85: 蒸発器、圧縮機、凝集器、弁からなる。蒸発器内の冷媒を蒸発させ蒸発器内のパイプの中の循環水を冷やし、冷水として取り出して使用する機器。蒸発した冷媒は圧縮機で昇圧され、凝縮器内の冷却水で凝縮され液体に戻る。HFC冷媒またはHFO冷媒を使用している。 | G85: - | H85: 冷却能力 | I85: 300RT以上350RT未満 | J85: 成績係数（COP） | K85: 通常 | O85: 1 | S85: 大 | T85: フロン類等冷媒ターボ冷凍機-300RT以上350RT未満成績係数（COP） | U85: - | V85: - | W85: - | X85: - | Y85: - | Z85: S-005790 | AA85: S-005979 | AB85: - | AC85: - | AD85: - | AE85: - | AF85: - | AG85: 6.37 | AH85: 6.4 | AI85: 通常または簡易 | AJ85: 0 | AK85: 0 | AL85: 6.4 | AM85: 6.4 | AN85: 6.4 | AO85: 6.4 | AP85: - | AQ85: - | AR85: - | AS85: - | AT85: - | AU85: - | AV85: - | AW85: - | AX85: - | AY85: - | AZ85: あり | BA85: - | BB85: - | BC85: なし | BD85: なし | BE85: なし | BF85: なし | BG85: なし | BH85: あり | BI85: あり | BJ85: 0 | BK85: 0 | BL85: 0
A86: S-005980 | B86: 産業・業務（業種共通） | C86: 空調/産業用プロセス | D86: 熱源・空調機（ヒートポンプ・中央方式） | E86: フロン類等冷媒ターボ冷凍機 | F86: 蒸発器、圧縮機、凝集器、弁からなる。蒸発器内の冷媒を蒸発させ蒸発器内のパイプの中の循環水を冷やし、冷水として取り出して使用する機器。蒸発した冷媒は圧縮機で昇圧され、凝縮器内の冷却水で凝縮され液体に戻る。HFC冷媒またはHFO冷媒を使用している。 | G86: - | H86: 冷却能力 | I86: 350RT以上400RT未満 | J86: 成績係数（COP） | K86: 通常 | O86: 1 | S86: 大 | T86: フロン類等冷媒ターボ冷凍機-350RT以上400RT未満成績係数（COP） | U86: - | V86: - | W86: - | X86: - | Y86: - | Z86: S-005791 | AA86: S-005980 | AB86: - | AC86: - | AD86: - | AE86: - | AF86: - | AG86: 6.07 | AH86: 6.28 | AI86: 通常または簡易 | AJ86: 0 | AK86: 0 | AL86: 6.28 | AM86: 6.28 | AN86: 6.29 | AO86: 6.29 | AP86: - | AQ86: - | AR86: - | AS86: - | AT86: - | AU86: - | AV86: - | AW86: - | AX86: - | AY86: - | AZ86: あり | BA86: - | BB86: - | BC86: なし | BD86: なし | BE86: なし | BF86: なし | BG86: なし | BH86: あり | BI86: あり | BJ86: 0 | BK86: 0 | BL86: 0
A87: S-005981 | B87: 産業・業務（業種共通） | C87: 空調/産業用プロセス | D87: 熱源・空調機（ヒートポンプ・中央方式） | E87: フロン類等冷媒ターボ冷凍機 | F87: 蒸発器、圧縮機、凝集器、弁からなる。蒸発器内の冷媒を蒸発させ蒸発器内のパイプの中の循環水を冷やし、冷水として取り出して使用する機器。蒸発した冷媒は圧縮機で昇圧され、凝縮器内の冷却水で凝縮され液体に戻る。HFC冷媒またはHFO冷媒を使用している。 | G87: - | H87: 冷却能力 | I87: 400RT以上500RT未満 | J87: 成績係数（COP） | K87: 通常または簡易 | M87: 1 | O87: 1 | S87: 大 | T87: フロン類等冷媒ターボ冷凍機-400RT以上500RT未満成績係数（COP） | U87: S-001840 | V87: S-001840 | W87: S-001840 | X87: S-002221 | Y87: S-003517 | Z87: S-004613 | AA87: S-005981 | AB87: 6.6 | AC87: 6.6 | AD87: 6.6 | AE87: 6.6 | AF87: 6.6 | AG87: 6.6 | AH87: 6.6 | AI87: 通常または簡易 | AJ87: 0 | AK87: 0 | AL87: 6.6 | AM87: 6.6 | AN87: 6.6 | AO87: 6.6 | AP87: なし | AQ87: なし | AR87: なし | AS87: なし | AT87: なし | AU87: なし | AV87: なし | AW87: なし | AX87: なし | AY87: なし | AZ87: なし | BA87: なし | BB87: なし | BC87: なし | BD87: なし | BE87: あり | BF87: あり | BG87: あり | BH87: あり | BI87: あり | BJ87: 0 | BK87: 0 | BL87: 0
A88: S-005982 | B88: 産業・業務（業種共通） | C88: 空調/産業用プロセス | D88: 熱源・空調機（ヒートポンプ・中央方式） | E88: フロン類等冷媒ターボ冷凍機 | F88: 蒸発器、圧縮機、凝集器、弁からなる。蒸発器内の冷媒を蒸発させ蒸発器内のパイプの中の循環水を冷やし、冷水として取り出して使用する機器。蒸発した冷媒は圧縮機で昇圧され、凝縮器内の冷却水で凝縮され液体に戻る。HFC冷媒またはHFO冷媒を使用している。 | G88: - | H88: 冷却能力 | I88: 500RT以上600RT未満 | J88: 成績係数（COP） | K88: 通常または簡易 | M88: 1 | O88: 1 | S88: 大 | T88: フロン類等冷媒ターボ冷凍機-500RT以上600RT未満成績係数（COP） | U88: S-001841 | V88: S-001841 | W88: S-001841 | X88: S-002220 | Y88: S-003518 | Z88: S-004614 | AA88: S-005982 | AB88: 6.5 | AC88: 6.55 | AD88: 6.17 | AE88: 6.5 | AF88: 6.5 | AG88: 6.5 | AH88: 6.5 | AI88: 通常または簡易 | AJ88: 0 | AK88: 0 | AL88: 6.5 | AM88: 6.5 | AN88: 6.5 | AO88: 6.5 | AP88: あり | AQ88: あり | AR88: あり | AS88: あり | AT88: あり | AU88: なし | AV88: なし | AW88: あり | AX88: なし | AY88: あり | AZ88: なし | BA88: なし | BB88: なし | BC88: なし | BD88: なし | BE88: あり | BF88: あり | BG88: あり | BH88: あり | BI88: あり | BJ88: 0 | BK88: 0 | BL88: 0
A89: S-005983 | B89: 産業・業務（業種共通） | C89: 空調/産業用プロセス | D89: 熱源・空調機（ヒートポンプ・中央方式） | E89: フロン類等冷媒ターボ冷凍機 | F89: 蒸発器、圧縮機、凝集器、弁からなる。蒸発器内の冷媒を蒸発させ蒸発器内のパイプの中の循環水を冷やし、冷水として取り出して使用する機器。蒸発した冷媒は圧縮機で昇圧され、凝縮器内の冷却水で凝縮され液体に戻る。HFC冷媒またはHFO冷媒を使用している。 | G89: - | H89: 冷却能力 | I89: 600RT以上700RT未満 | J89: 成績係数（COP） | K89: 通常または簡易 | O89: 1 | S89: 大 | T89: フロン類等冷媒ターボ冷凍機-600RT以上700RT未満成績係数（COP） | U89: S-001842 | V89: S-001842 | W89: S-001842 | X89: S-002219 | Y89: S-003519 | Z89: S-004616 | AA89: S-005983 | AB89: 6.29 | AC89: 6.29 | AD89: 6.29 | AE89: 6.29 | AF89: 6.29 | AG89: 6.29 | AH89: 6.36 | AI89: 通常または簡易 | AJ89: 0 | AK89: 0 | AL89: 6.36 | AM89: 6.36 | AN89: 6.36 | AO89: 6.36 | AP89: なし | AQ89: なし | AR89: なし | AS89: なし | AT89: なし | AU89: なし | AV89: なし | AW89: なし | AX89: なし | AY89: なし | AZ89: あり | BA89: あり | BB89: あり | BC89: なし | BD89: なし | BE89: あり | BF89: あり | BG89: あり | BH89: あり | BI89: あり | BJ89: 0 | BK89: 0 | BL89: 0
A90: S-005984 | B90: 産業・業務（業種共通） | C90: 空調/産業用プロセス | D90: 熱源・空調機（ヒートポンプ・中央方式） | E90: フロン類等冷媒ターボ冷凍機 | F90: 蒸発器、圧縮機、凝集器、弁からなる。蒸発器内の冷媒を蒸発させ蒸発器内のパイプの中の循環水を冷やし、冷水として取り出して使用する機器。蒸発した冷媒は圧縮機で昇圧され、凝縮器内の冷却水で凝縮され液体に戻る。HFC冷媒またはHFO冷媒を使用している。 | G90: - | H90: 冷却能力 | I90: 700RT以上1000RT未満 | J90: 成績係数（COP） | K90: 通常または簡易 | O90: 1 | S90: 大 | T90: フロン類等冷媒ターボ冷凍機-700RT以上1000RT未満成績係数（COP） | U90: S-001843 | V90: S-001843 | W90: S-001843 | X90: S-002224 | Y90: S-003520 | Z90: S-004618 | AA90: S-005984 | AB90: 6.4 | AC90: 6.4 | AD90: 6.4 | AE90: 6.4 | AF90: 6.4 | AG90: 6.4 | AH90: 6.45 | AI90: 通常または簡易 | AJ90: 0 | AK90: 0 | AL90: 6.45 | AM90: 6.45 | AN90: 6.45 | AO90: 6.45 | AP90: なし | AQ90: なし | AR90: なし | AS90: なし | AT90: なし | AU90: なし | AV90: なし | AW90: なし | AX90: なし | AY90: なし | AZ90: あり | BA90: あり | BB90: あり | BC90: なし | BD90: なし | BE90: あり | BF90: あり | BG90: あり | BH90: あり | BI90: あり | BJ90: 0 | BK90: 0 | BL90: 0
A91: S-005985 | B91: 産業・業務（業種共通） | C91: 空調/産業用プロセス | D91: 熱源・空調機（ヒートポンプ・中央方式） | E91: フロン類等冷媒ターボ冷凍機 | F91: 蒸発器、圧縮機、凝集器、弁からなる。蒸発器内の冷媒を蒸発させ蒸発器内のパイプの中の循環水を冷やし、冷水として取り出して使用する機器。蒸発した冷媒は圧縮機で昇圧され、凝縮器内の冷却水で凝縮され液体に戻る。HFC冷媒またはHFO冷媒を使用している。 | G91: - | H91: 冷却能力 | I91: 1000RT以上1500RT未満 | J91: 成績係数（COP） | K91: 通常または簡易 | O91: 1 | S91: 大 | T91: フロン類等冷媒ターボ冷凍機-1000RT以上1500RT未満成績係数（COP） | U91: S-001844 | V91: S-001844 | W91: S-001844 | X91: S-002223 | Y91: S-003521 | Z91: S-005796 | AA91: S-005985 | AB91: 6.5 | AC91: 6.5 | AD91: 6.5 | AE91: 6.5 | AF91: 6.5 | AG91: 6.5 | AH91: 6.61 | AI91: 通常または簡易 | AJ91: 0 | AK91: 0 | AL91: 6.61 | AM91: 6.61 | AN91: 6.61 | AO91: 6.61 | AP91: なし | AQ91: なし | AR91: なし | AS91: なし | AT91: なし | AU91: なし | AV91: なし | AW91: なし | AX91: なし | AY91: なし | AZ91: あり | BA91: あり | BB91: あり | BC91: なし | BD91: なし | BE91: あり | BF91: あり | BG91: あり | BH91: あり | BI91: あり | BJ91: 0 | BK91: 0 | BL91: 0
A92: S-005986 | B92: 産業・業務（業種共通） | C92: 空調/産業用プロセス | D92: 熱源・空調機（ヒートポンプ・中央方式） | E92: フロン類等冷媒ターボ冷凍機 | F92: 蒸発器、圧縮機、凝集器、弁からなる。蒸発器内の冷媒を蒸発させ蒸発器内のパイプの中の循環水を冷やし、冷水として取り出して使用する機器。蒸発した冷媒は圧縮機で昇圧され、凝縮器内の冷却水で凝縮され液体に戻る。HFC冷媒またはHFO冷媒を使用している。 | G92: - | H92: 冷却能力 | I92: 1500RT以上 | J92: 成績係数（COP） | K92: 通常または簡易 | O92: 1 | S92: 大 | T92: フロン類等冷媒ターボ冷凍機-1500RT以上成績係数（COP） | U92: S-001845 | V92: S-001845 | W92: S-001845 | X92: S-002217 | Y92: S-003522 | Z92: S-004620 | AA92: S-005986 | AB92: 6.5 | AC92: 6.5 | AD92: 6.5 | AE92: 6.5 | AF92: 6.5 | AG92: 6.5 | AH92: 6.66 | AI92: 通常または簡易 | AJ92: 0 | AK92: 0 | AL92: 6.66 | AM92: 6.66 | AN92: 6.66 | AO92: 6.66 | AP92: なし | AQ92: なし | AR92: なし | AS92: なし | AT92: なし | AU92: なし | AV92: なし | AW92: なし | AX92: なし | AY92: なし | AZ92: あり | BA92: あり | BB92: あり | BC92: なし | BD92: なし | BE92: あり | BF92: あり | BG92: あり | BH92: あり | BI92: あり | BJ92: 0 | BK92: 0 | BL92: 0
A93: S-005987 | B93: 産業・業務（業種共通） | C93: 空調/産業用プロセス | D93: 熱源・空調機（ヒートポンプ・中央方式） | E93: 自然冷媒ターボ冷凍機 | F93: 蒸発器、圧縮機、凝集器、弁からなる。蒸発器内の冷媒を蒸発させ蒸発器内のパイプの中の循環水を冷やし、冷水として取り出して使用する機器。蒸発した冷媒は圧縮機で昇圧され、凝縮器内の冷却水で凝縮され液体に戻る。従来はHFC冷媒が使用されるケースが多いが、本設備・機器等は自然冷媒である水が使用されている。公共スペース、地下街、及び医療機関での使用が期待されている。 | G93: - | H93: 冷却能力 | I93: 200RT未満 | J93: 期間成績係数（IPLV） | K93: 通常または簡易 | M93: 1 | S93: 大 | T93: 自然冷媒ターボ冷凍機-200RT未満期間成績係数（IPLV） | U93: S-001855 | V93: S-001855 | W93: S-001855 | X93: S-002238 | Y93: S-003523 | Z93: S-004621 | AA93: S-005987 | AB93: - | AC93: 7.36 | AD93: 7.36 | AE93: 7.36 | AF93: 7.36 | AG93: 7.36 | AH93: 7.36 | AI93: 通常 | AJ93: 0 | AK93: 0 | AL93: - | AM93: 7.36 | AN93: 7.36 | AO93: - | AP93: - | AQ93: なし | AR93: なし | AS93: - | AT93: なし | AU93: なし | AV93: なし | AW93: なし | AX93: なし | AY93: なし | AZ93: なし | BA93: なし | BB93: なし | BC93: なし | BD93: なし | BE93: なし | BF93: あり | BG93: あり | BH93: なし | BI93: なし | BJ93: 1 | BK93: 1 | BL93: 0
