Workbook
Name a: #REF!
Name a: #REF!
Name CRF_CountryName: [1]Sheet1!$C$4
Name CRF_InventoryYear: [1]Sheet1!$C$6
Name CRF_Submission: [1]Sheet1!$C$30
Name CRF_Table1.A_a_s2_Main: #REF!
Name CRF_Table1.A_a_s2_Main: #REF!
Name CRF_Table2_II_.Fs1_Dyn1A17: #REF!
Name CRF_Table2_II_.Fs1_Dyn1A17: #REF!
Name CRF_Table2_II_.Fs1_Dyn1A19: #REF!
Name CRF_Table2_II_.Fs1_Dyn1A19: #REF!
Name CRF_Table2_II_.Fs1_Dyn1A21: #REF!
Name CRF_Table2_II_.Fs1_Dyn1A21: #REF!
Name CRF_Table2_II_.Fs1_Dyn1A23: #REF!
Name CRF_Table2_II_.Fs1_Dyn1A23: #REF!
Name CRF_Table2_II_.Fs1_Dyn1A25: #REF!
Name CRF_Table2_II_.Fs1_Dyn1A25: #REF!
Name CRF_Table2_II_.Fs1_Dyn1A27: #REF!
Name CRF_Table2_II_.Fs1_Dyn1A27: #REF!
Name CRF_Table2_II_.Fs1_Dyn2A30: #REF!
Name CRF_Table2_II_.Fs1_Dyn2A30: #REF!
Name CRF_Table2_II_.Fs1_Dyn2A32: #REF!
Name CRF_Table2_II_.Fs1_Dyn2A32: #REF!
Name CRF_Table2_II_.Fs1_Main: #REF!
Name CRF_Table2_II_.Fs1_Main: #REF!
Name CRF_Table4s1_Dyn1: #REF!
Name CRF_Table4s1_Dyn1: #REF!
Name CRF_Table4s1_DynA20: #REF!
Name CRF_Table4s1_DynA20: #REF!
Name CRF_Table4s1_Main: #REF!
Name CRF_Table4s1_Main: #REF!
Name GTLH_500: #REF!
Name GTLH_500: #REF!
Name LED照明器具: #REF!
Name LED照明器具: #REF!
Name menu: #REF!
Name menu: #REF!
Name クラス条件: #REF!
Name クラス条件: #REF!
Name ステップ0: #REF!
Name ステップ0: #REF!
Name ステップ1―4: #REF!
Name ステップ1―4: #REF!
Name プルダウン: #REF!
Name プルダウン: #REF!
Name 設備機器等: '[2]目次（全型番）'!#REF!,'[2]目次（全型番）'!#REF!
Name 設備機器等: '[2]目次（全型番）'!#REF!,'[2]目次（全型番）'!#REF!
Name 対策種別: [3]選択肢!$B$31:$B$33
Name 注意すべきIE: [4]注意すべきIEリスト!$B$3:$B$13
Name 熱風ヒートポンプ_水熱源･一過_循環式: #REF!
Name 熱風ヒートポンプ_水熱源･一過_循環式: #REF!
Name 分野: [3]選択肢!$A$2:$A$7

Sheet リスト_表紙
N2: 資料４
B15: 2026年度環境省LD-Techリスト（案）
B22: Ver. 1.0
E29: 令和8年（2026年）10月

Sheet リスト_補足 
B2: 2026年度環境省LD-Techリスト
B10: 項目 | D10: 主な記載内容
B11: 環境省LD-Tech リストNo.
B14: 区 分
B23: 設備・機器等
B27: 原理・しくみ
B29: 環境省LD-Tech 水準表への掲載有無
B33: 記号の 使用方法
B40: 項目 | D40: 主な記載内容
B41: 技術成熟度
B62: 法定耐用年数
B67: 温暖化対策計画の 該当箇所

Sheet リスト_本体 
C3: No | D3: 区分 | G3: 概 要 | I3: 技術 成熟度 | J3: 法定耐用年数 | K3: 地球温暖化対策計画 該当箇所 | M3: 水準表への 掲載有無
D4: 部門1 | E4: 部門2 | F4: 技術分類 | G4: 設備・機器等 | H4: 原理・しくみ | K4: 本文見出し | L4: 別表
C5: L-000001 | D5: 産業・業務（業種共通） | E5: 空調 | F5: 空調機（ヒートポンプ・個別方式） | G5: ガスヒートポンプ | H5: 室外機内のコンプレッサの駆動をガスエンジンで行うヒートポンプ方式の空気調和機。 | I5: 8 | J5: 13 | K5: 省エネルギー性能の高い設備・機器等の導入促進 業種横断 高効率空調の導入 | L5: 表1-7 | M5: ○
C6: L-000002 | D6: 産業・業務（業種共通） | E6: 空調 | F6: 空調機（ヒートポンプ・個別方式） | G6: パッケージエアコン（店舗･オフィス用） | H6: 電動圧縮機を用いるヒートポンプ式の空気調和機で、冷房能力が4～28kW程度。主に店舗･オフィス向け。 | I6: 8 | J6: 13 | K6: 省エネルギー性能の高い設備・機器等の導入促進 業種横断 高効率空調の導入 | L6: 表1-7 | M6: ○
C7: L-000003 | D7: 産業・業務（業種共通） | E7: 空調 | F7: 空調機（ヒートポンプ・個別方式） | G7: パッケージエアコン（設備用） | H7: 電動圧縮機を用いるヒートポンプ式の空気調和機で、冷房能力が9～140kW程度。主に工場向け。 | I7: 8 | J7: 13 | K7: 省エネルギー性能の高い設備・機器等の導入促進 業種横断 高効率空調の導入 | L7: 表1-7 | M7: ○
C8: L-000004 | D8: 産業・業務（業種共通） | E8: 空調 | F8: 空調機（ヒートポンプ・個別方式） | G8: パッケージエアコン（ビル用マルチ） | H8: 電動圧縮機を用いるヒートポンプ式の空気調和機で、冷房能力が14～120kW程度。主にビル向け。室内機ごとの個別制御機能を持つ。 | I8: 8 | J8: 13 | K8: 省エネルギー性能の高い設備・機器等の導入促進 業種横断 高効率空調の導入 | L8: 表1-7 | M8: ○
C9: L-000005 | D9: 産業・業務（業種共通） | E9: 空調 | F9: 空調機（ヒートポンプ・個別方式） | G9: 氷蓄熱式パッケージエアコン | H9: パッケージエアコンの室外ユニットと室内ユニットの間に氷蓄熱槽を持っており、夜間の冷房を使っていない時間帯に、氷蓄熱槽の熱交換器で氷を作り、昼間の冷房運転時には、室外ユニットを通った冷媒を氷蓄熱槽の熱交換器でさらに冷やしてから室内機に送ることによって利用する。2050年に向けた再生可能エネルギー発電の最大活用に資することが期待される。 | I9: 8 | J9: 13 | K9: 省エネルギー性能の高い設備・機器等の導入促進 業種横断 高効率空調の導入 | L9: 表1-7 | M9: ○
C10: L-000006 | D10: 産業・業務（業種共通） | E10: 空調 | F10: 空調機（ヒートポンプ・個別方式） | G10: エアコン併用ハイブリッド型輻射式冷暖房システム | H10: ルームエアコン、店舗用エアコン、輻射パネルからなるエアコンの室内機から戻る湿り蒸気を輻射パネルへ通して蒸発させて表面を冷やし輻射冷房を行う。暖房は室外機から輻射パネルへ冷媒を先に通し、湿り蒸気を室内機に通して凝縮することで輻射暖房を行う機器。 従来型と比較し、輻射パネルを組み合わせることで輻射冷暖房が可能になり、図書館や住宅、学校などに幅広く利用されている。 | I10: 8 | J10: 13 | K10: 省エネルギー性能の高い設備・機器等の導入促進 業種横断 高効率空調の導入 | L10: 表1-7 | M10: -
C11: L-000007 | D11: 産業・業務（業種共通） | E11: 空調 | F11: 空調機（ヒートポンプ・個別方式） | G11: 間接外気空調ユニット | H11: 内外ユニットに設けた顕熱交換器に不凍液を循環させる間接外気冷房回路と圧縮機で運転する冷凍冷房回路を併用して、間接外気冷房と冷凍冷房を外気温の変化に応じて、もっとも省エネとなる運転モードを自動で選択して運転する冷房専用空調機である。 | I11: 8 | J11: - | K11: 省エネルギー性能の高い設備・機器等の導入促進 業種横断 高効率空調の導入 | L11: 表1-7 | M11: -
C12: L-000265 | D12: 産業・業務（業種共通） | E12: 空調 | F12: 換気設備（ヒートポンプ・個別方式） | G12: ヒートポンプ式熱回収換気 | H12: 屋外から取り入れた外気をヒートポンプで処理して室内へ供給し、室内空気を排出する際、その空気に含まれる熱エネルギーを冷媒（ヒートポンプ）で回収する。回収した熱は圧縮機ユニットを介して給気側へ移送され、外気の加熱・冷却に再利用される。冬季は排気熱で外気を暖め、夏季は外気の熱を排気側へ移すことで、換気による空調負荷を低減。これにより、十分な換気を確保しながら省エネルギー性と室内の快適性を両立する仕組み。 | I12: 8 | J12: 13 | K12: ‐ | L12: - | M12: ○
C13: L-000008 | D13: 産業・業務（業種共通） | E13: 空調/産業用プロセス | F13: 熱源・空調機（ヒートポンプ・中央方式） | G13: フロン類等冷媒ターボ冷凍機 | H13: 蒸発器、圧縮機、凝集器、弁からなる。蒸発器内の冷媒を蒸発させ蒸発器内のパイプの中の循環水を冷やし、冷水として取り出して使用する機器。蒸発した冷媒は圧縮機で昇圧され、凝縮器内の冷却水で凝縮され液体に戻る。HFC冷媒またはHFO冷媒を使用している。 | I13: 8 | J13: 15 | K13: 省エネルギー性能の高い設備・機器等の導入促進 業種横断 高効率空調の導入 | L13: 表1-7 | M13: ○
C14: L-000009 | D14: 産業・業務（業種共通） | E14: 空調/産業用プロセス | F14: 熱源・空調機（ヒートポンプ・中央方式） | G14: 自然冷媒ターボ冷凍機 | H14: 蒸発器、圧縮機、凝集器、弁からなる。蒸発器内の冷媒を蒸発させ蒸発器内のパイプの中の循環水を冷やし、冷水として取り出して使用する機器。蒸発した冷媒は圧縮機で昇圧され、凝縮器内の冷却水で凝縮され液体に戻る。従来はHFC冷媒が使用されるケースが多いが、本設備・機器等は自然冷媒である水が使用されている。公共スペース、地下街、及び医療機関での使用が期待されている。 | I14: 8 | J14: 15 | K14: 省エネルギー性能の高い設備・機器等の導入促進 業種横断 高効率空調の導入 | L14: 表1-7 | M14: ○
C15: L-000010 | D15: 産業・業務（業種共通） | E15: 空調/産業用プロセス | F15: 熱源・空調機（ヒートポンプ・中央方式） | G15: 水冷ヒートポンプチラー | H15: 水を熱源としたヒートポンプ方式の水冷式チリングユニット。 | I15: 8 | J15: 15 | K15: 省エネルギー性能の高い設備・機器等の導入促進 業種横断 高効率空調の導入 | L15: 表1-7 | M15: ○
C16: L-000011 | D16: 産業・業務（業種共通） | E16: 空調/産業用プロセス | F16: 熱源・空調機（ヒートポンプ・中央方式） | G16: 空冷ヒートポンプチラー | H16: 空気を熱源としたヒートポンプ方式の空冷式チリングユニット。 | I16: 8 | J16: 15 | K16: 省エネルギー性能の高い設備・機器等の導入促進 業種横断 高効率空調の導入 | L16: 表1-7 | M16: ○
C17: L-000260 | D17: 産業・業務（業種共通） | E17: 空調 | F17: 熱源・空調機（ヒートポンプ・中央方式） | G17: デシカント空調システム | H17: デシカント（除湿剤）を利用して空気中から水蒸気を吸脱着することで、空気の調湿を行う機器。なお、デシカントは外調機あるいは空調機のいずれかに組み込まれる。固体のデシカント（吸着剤）を用いたものを乾式デシカント空調システム、液体のデシカント（吸収溶液）を用いたシステムを湿式デシカントとして区別する。乾式湿式いずれも、従来の圧縮式サイクルによる冷却除湿を行う必要がなく、圧縮式ヒートポンプの空調機器と組み合わせることで、空調システム全体としての大幅な省エネルギーの実現が期待される。 | I17: 8 | J17: 15 | K17: 省エネルギー性能の高い設備・機器等の導入促進 業種横断 高効率空調の導入 | L17: 表1-7 | M17: ○
C18: L-000013 | D18: 産業・業務（業種共通） | E18: 空調 | F18: 熱源・空調機（ヒートポンプ・中央方式）・熱源補機 | G18: 氷蓄熱ユニット | H18: 中央方式の空調機における熱源機とは別に氷蓄熱槽を持っており、夜間の冷房を使っていない時間帯に、氷蓄熱槽の熱交換器で氷を作り、昼間の冷房運転時には、室外ユニットを通った冷媒を氷蓄熱槽の熱交換器でさらに冷やしてから室内機に送ることによって利用する。2050年に向けた再生可能エネルギー発電の最大活用に資することが期待される。 | I18: 8 | J18: 15 | K18: 省エネルギー性能の高い設備・機器等の導入促進 業種横断 高効率空調の導入 | L18: 表1-7 | M18: ○
C19: L-000014 | D19: 産業・業務（業種共通） | E19: 空調 | F19: 熱源・空調機（ヒートポンプ・地中熱利用） | G19: 地中熱利用システム | H19: 一年を通じて温度がほぼ一定に保たれている地下約10 メートル以深の熱を冷暖房や給湯、融雪などに利用する。その利用方法は、ヒートポンプシステム、空気循環、熱伝導、水循環、ヒートパイプの5 つに分類することができる。ヒートポンプの熱源とする場合、地中から熱を取り出すために地中熱交換器内に流体を循環させ、汲み上げた熱をヒートポンプで必要な温度領域の熱に変換するクローズドループ方式と、揚水した地下水の熱を地表にあるヒートポンプで取り出すオープンループ方式がある。オープンループ方式の場合、クローズドループ方式に比べ採熱量が大きくなることから経済性に優れるが、井戸内の目詰まりによるメンテナンスが必要となる。 | I19: 8 | J19: 15 | K19: ‐ | L19: ‐ | M19: -
C20: L-000015 | D20: 産業・業務（業種共通） | E20: 空調 | F20: 熱源・空調機（気化式・中央方式） | G20: 間接気化式冷却器 | H20: 間接気化式冷却器は、隔壁で仕切られたDRY流路とWET流路を多数積層した構造からなる。WET側の隔壁面は水を浸した湿潤壁である。ここでDRY流路に高温空気をWET流路には低湿空気又は常温空気を流すことで、WET流路で気化熱現象を生じさせ、隔壁の温度が低下するため隣り合うDRY流路を流れる空気の熱が隔壁に伝達し絶対湿度の移行がなく冷却される。この冷却に用いるエネルギーは搬送動力と気化蒸発に使用する水のみのため、省エネ性が高く、CO2排出量を削減できる機器である。既に食品工場・生産工場・ショッピングセンターを中心に導入が進んでおり、今後データセンター向けに更なる普及が期待される。 | I20: 8 | J20: 15 | K20: 省エネルギー性能の高い設備・機器等の導入促進 業種横断 高効率空調の導入 | L20: 表1-7 | M20: ○
C21: L-000016 | D21: 産業・業務（業種共通） | E21: 空調/産業用プロセス | F21: 熱源・空調機（吸収式・中央方式） | G21: 吸収冷温水機（二重効用） | H21: 吸収力の高い液体に冷媒を吸収させることにより生じる低圧を利用して水を気化させ、気化熱から生じる低温を得る冷凍機であり、高温、低温再生器を有するもの。 | I21: 8 | J21: 15 | K21: 省エネルギー性能の高い設備・機器等の導入促進 業種横断 高効率空調の導入 | L21: 表1-7 | M21: ○
C22: L-000017 | D22: 産業・業務（業種共通） | E22: 空調/産業用プロセス | F22: 熱源・空調機（吸収式・中央方式） | G22: 吸収冷温水機（三重効用）/廃熱投入型吸収冷温水機（三重効用） | H22: 吸収力の高い液体に冷媒を吸収させることにより生じる低圧を利用して水を気化させ、気化熱から生じる低温を得る冷凍機であり、高温、中温、低温再生器を有するもの。 | I22: 8 | J22: 15 | K22: 省エネルギー性能の高い設備・機器等の導入促進 業種横断 高効率空調の導入 | L22: 表1-7 | M22: ○
C23: L-000018 | D23: 産業・業務（業種共通） | E23: 空調/産業用プロセス | F23: 熱源・空調機（吸収式・中央方式） | G23: 一重二重併用形吸収冷温水機 | H23: 吸収力の高い液体に冷媒を吸収させることにより生じる低圧を利用して水を気化させ、気化熱から生じる低温を得る冷凍機であり、排熱を熱源として利用し、燃料削減率が20%以上のもの。 | I23: 8 | J23: 15 | K23: 省エネルギー性能の高い設備・機器等の導入促進 業種横断 高効率空調の導入 | L23: 表1-7 | M23: ○
... C25: L-000020 | D25: 産業・業務（業種共通） | E25: 空調/産業用プロセス | F25: 熱源・空調機（吸収式・中央方式） | G25: 吸収冷凍機（三重効用・蒸気式） | H25: 吸収力の高い液体に冷媒を吸収させることにより生じる低圧を利用して水を気化させ、気化熱から生じる低温を得る冷凍機であり、高温、中温、低温再生器を有し、加熱源として蒸気を使用するもの。 | I25: 8 | J25: 15 | K25: 省エネルギー性能の高い設備・機器等の導入促進 業種横断 高効率空調の導入 | L25: 表1-7 | M25: -
C26: L-000021 | D26: 産業・業務（業種共通） | E26: 空調/産業用プロセス | F26: 熱源・空調機（吸収式・中央方式） | G26: 一重二重併用形吸収冷凍機（蒸気式） | H26: 吸収力の高い液体に冷媒を吸収させることにより生じる低圧を利用して水を気化させ、気化熱から生じる低温を得る冷凍機であり、排熱を熱源として利用し、燃料削減率が20%以上のもの。加熱源として蒸気を使用する。 | I26: - | J26: 15 | K26: 省エネルギー性能の高い設備・機器等の導入促進 業種横断 高効率空調の導入 | L26: 表1-7 | M26: -
C27: L-000022 | D27: 産業・業務（業種共通） | E27: 空調 | F27: 熱源・空調機（吸収式・中央方式） | G27: 木質ペレット直焚き吸収冷温水機（二重効用） | H27: 吸収力の高い液体に冷媒を吸収させることにより生じる低圧を利用して水を気化させ、気化熱から生じる低温を得る冷凍機であり、高温、低温再生器を有するものの内、加熱源の燃料に木質ペレットを使用するもの。中央方式を採用する業務施設の冷暖房に使用される。 | I27: 8 | J27: 15 | K27: 省エネルギー性能の高い設備・機器等の導入促進 業種横断 高効率空調の導入 | L27: 表1-7 | M27: ○
C28: L-000023 | D28: 産業・業務（業種共通） | E28: 空調 | F28: 熱源・空調機（地中熱利用・中央方式） | G28: パッシブ地中熱利用システム | H28: 熱交換パイプ、制御盤、ポンプ、ファンからなる。地下水又は温水をスパイラル状に通水できるパイプを地下2mに埋設し送風をすることで、空気と地中熱・水の熱と熱交換を行い温風、冷風を送風する機器。一般的には通風部のみあるクールチューブやアースチューブなどと呼ばれる空調機が存在する。こういったシステムと比べて、水が持つ熱との熱交換が加わったことで、熱交換量が飛躍的に増え、大空間の空調を行えるようになった。 | I28: 8 | J28: - | K28: 省エネルギー性能の高い設備・機器等の導入促進 業種横断 高効率空調の導入 | L28: 表1-7 | M28: ○
C29: L-000024 | D29: 産業・業務（業種共通） | E29: 空調/産業用プロセス | F29: 熱源・空調機（吸着式・中央方式） | G29: 吸着式冷凍機 | H29: 吸着器内部に充填された吸着剤に冷媒を吸着させ、冷媒の蒸発を促し、その気化熱から冷凍効果を得る冷凍機。 | I29: 8 | J29: 13 | K29: 省エネルギー性能の高い設備・機器等の導入促進 業種横断 高効率空調の導入 | L29: 表1-7 | M29: ○
C30: L-000025 | D30: 産業・業務（業種共通） | E30: 給湯/産業用プロセス | F30: 熱源（ヒートポンプ） | G30: 高温水ヒートポンプ（空気熱源･循環式） | H30: 空気を熱源とし、循環式の供給方式が可能なヒートポンプ方式で、水等の2次媒体を加熱する熱源・空調機。貯湯ユニットを含まないもの。 | I30: 8 | J30: 13 | K30: 省エネルギー性能の高い設備・機器等の導入促進 業種横断 産業ＨＰの導入 | L30: 表1-7 | M30: ○
C31: L-000026 | D31: 産業・業務（業種共通） | E31: 給湯/産業用プロセス | F31: 熱源（ヒートポンプ） | G31: 高温水ヒートポンプ（空気熱源･一過式） | H31: 空気を熱源とし、一過式の供給方式が可能なヒートポンプ方式で、水等の2次媒体を加熱する熱源・空調機。貯湯ユニットを含まないもの。 | I31: 8 | J31: 13 | K31: 省エネルギー性能の高い設備・機器等の導入促進 業種横断 産業ＨＰの導入 | L31: 表1-7 | M31: ○
C32: L-000027 | D32: 産業・業務（業種共通） | E32: 産業用プロセス | F32: 熱源（ヒートポンプ） | G32: 高温水ヒートポンプ（水熱源･循環式） | H32: 水を熱源とし、遠心式、または回転式圧縮機を使用して、循環式の供給方式が可能なヒートポンプ方式で、水等の2次媒体を加熱する熱源・空調機。貯湯ユニットを含まないもの。 | I32: 8 | J32: 13 | K32: 省エネルギー性能の高い設備・機器等の導入促進 業種横断 産業ＨＰの導入 | L32: 表1-7 | M32: ○
C33: L-000028 | D33: 産業・業務（業種共通） | E33: 産業用プロセス | F33: 熱源（ヒートポンプ） | G33: 高温水ヒートポンプ（水熱源･一過式） | H33: 水を熱源とし、一過式の供給方式が可能なヒートポンプ方式で、水等の2次媒体を加熱する熱源・空調機。貯湯ユニットを含まないもの。 | I33: 8 | J33: 13 | K33: 省エネルギー性能の高い設備・機器等の導入促進 業種横断 産業ＨＰの導入 | L33: 表1-7 | M33: ○
C34: L-000029 | D34: 産業・業務（業種共通） | E34: 産業用プロセス | F34: 熱源（ヒートポンプ） | G34: 高温水ヒートポンプ（水空気熱源･循環式） | H34: 空気、または水を熱源とでき、循環式の供給方式が可能なヒートポンプ方式で、水等の2次媒体を加熱する熱源・空調機。貯湯ユニットを含まないもの。 | I34: 8 | J34: 13 | K34: 省エネルギー性能の高い設備・機器等の導入促進 業種横断 産業ＨＰの導入 | L34: 表1-7 | M34: ○
C35: L-000030 | D35: 産業・業務（業種共通） | E35: 産業用プロセス | F35: 熱源（ヒートポンプ） | G35: 高温水ヒートポンプ（水空気熱源･一過式） | H35: 空気、または水を熱源とでき、一過式の供給方式が可能なヒートポンプ方式で、水等の2次媒体を加熱する熱源・空調機。貯湯ユニットを含まないもの。 | I35: 8 | J35: 13 | K35: 省エネルギー性能の高い設備・機器等の導入促進 業種横断 産業ＨＰの導入 | L35: 表1-7 | M35: ○
C36: L-000031 | D36: 産業・業務（業種共通） | E36: 産業用プロセス | F36: 熱源（ヒートポンプ） | G36: 熱風ヒートポンプ（空気熱源･一過式） | H36: 空気を熱源とし、一過式の供給方式を用いるヒートポンプ方式で、高温の熱風を発生させる装置。 | I36: 8 | J36: 15 | K36: 省エネルギー性能の高い設備・機器等の導入促進 業種横断 産業ＨＰの導入 | L36: 表1-7 | M36: ○
C37: L-000032 | D37: 産業・業務（業種共通） | E37: 産業用プロセス | F37: 熱源（ヒートポンプ） | G37: 熱風ヒートポンプ（水熱源･一過/循環式） | H37: 水を熱源とし、一過/循環式の供給方式を用いるヒートポンプ方式で、高温の熱風を発生させる熱源装置。 | I37: 8 | J37: 15 | K37: 省エネルギー性能の高い設備・機器等の導入促進 業種横断 産業ＨＰの導入 | L37: 表1-7 | M37: ○
C38: L-000033 | D38: 産業・業務（業種共通） | E38: 産業用プロセス | F38: 熱源（ヒートポンプ） | G38: 蒸気発生ヒートポンプ（水熱源･一過式） | H38: 水を熱源とし、一過式の供給方式を用いるヒートポンプ方式で、蒸気を発生させる熱源装置。 | I38: 8 | J38: 15 | K38: 省エネルギー性能の高い設備・機器等の導入促進 業種横断 産業ＨＰの導入 | L38: 表1-7 | M38: ○
C39: L-000034 | D39: 産業・業務（業種共通） | E39: 産業用プロセス | F39: 熱源（ヒートポンプ） | G39: 蒸気再圧縮装置 | H39: 産業プロセス等で利用された排熱を回収し、循環式の供給方式を用いるヒートポンプ。低圧の蒸気を圧縮して再利用することで、ボイラ等の蒸気を利用する設備・機器等の省エネを実現可能。 | I39: 8 | J39: - | K39: 省エネルギー性能の高い設備・機器等の導入促進 業種横断 産業ＨＰの導入 | L39: 表1-7 | M39: ○
C40: L-000035 | D40: 産業・業務（業種共通） | E40: 産業用プロセス | F40: 熱源（ヒートポンプ） | G40: ダブルバンドルヒートポンプ | H40: ターボ冷凍機等をヒートポンプとして使用し、所要の冷水・温水を同時に取り出すことができる機器。夏期は冷房専用機として、冬期及び中間期は熱回収ヒートポンプとして使用する。夏期の給湯温水取り出しも可能。凝縮器を二つ設けて、一つは常時冷却塔に接続し、もう一つは暖房用温水の加熱に使用する。蒸発器からの冷媒ガスは圧縮機で圧縮されて、二つのコンデンサに吐出される。冷房専用時は冷却水のみを通水して冷媒ガスを液化し、冷暖房運転時は負荷に応じてそれぞれ温水及び冷却水に熱を与える。液化した冷媒は連絡管に合流し、膨張弁を経て蒸発器に戻る。蒸発器内では、冷媒は再び蒸発して、チューブ内を通る冷水を冷やす。 | I40: 8 | J40: - | K40: 省エネルギー性能の高い設備・機器等の導入促進 業種横断 産業ＨＰの導入 | L40: 表1-7 | M40: -
C41: L-000036 | D41: 産業・業務（業種共通） | E41: 空調 | F41: 空調機（ペレットストーブ） | G41: 密閉式ペレットストーブ | H41: 木質ペレットを燃料とする燃焼機器。木質ペレットを燃焼させた熱を熱交換器により室内の空気に伝え、送風ファンにより部屋の隅々まで温風を行き渡らせる。燃焼させた空気は煙突から排気させるため、室内の空気と交わることはなく、清潔な環境を保つことができる。木質ペレットは、カーボンニュートラルであるため、CO2の排出削減が可能。 | I41: 8 | J41: - | K41: 省エネルギー性能の高い設備・機器等の導入促進 業種横断 高効率空調の導入 | L41: 表1-7 | M41: ○
C42: L-000037 | D42: 産業・業務（業種共通） | E42: 給湯 | F42: 電気系給湯器 | G42: ヒートポンプ給湯機（空気熱源） | H42: 空気を熱源とするヒートポンプ方式の給湯機。貯湯ユニットを含むもの。 | I42: 8 | J42: 6 | K42: 高効率な省エネルギー機器の普及（業務その他部門）業務用給湯器の導入 | L42: 表1-29 | M42: ○
C43: L-000038 | D43: 産業・業務（業種共通） | E43: 給湯 | F43: 電気系給湯器 | G43: ヒートポンプ給湯機（水熱源） | H43: 水を熱源とするヒートポンプ方式の給湯機。貯湯ユニットを含むもの。 | I43: 8 | J43: 6 | K43: 高効率な省エネルギー機器の普及（業務その他部門）業務用給湯器の導入 | L43: 表1-29 | M43: -
...

Sheet 水準表_表紙
N2: 資料４
B15: 2026年度環境省LD-Tech水準表（案）
B22: Ver. 1.0
E29: 令和８年（2026年）10月

Sheet 水準表_補足
B2: 2026年度 環境省LD-Tech水準表 Ver. 1.0
B10: 項目 | D10: 主な記載内容
B11: 水準表クラスNo.
B13: 区 分
B21: 設備・機器等
B25: 原理・しくみ
B27: クラス
B29: 申請区分
B35: Oriented
B38: 項目 | D38: 主な記載内容
B39: LD-Tech水準
B44: 指標 | C44: 測定単位
C46: 評価方法 のタイプ
C52: 計算方法
C54: 試験条件
B56: 備考
B59: 記号の 使用方法

Sheet 水準表_補足②
A1: 2024年度環境省LD-Tech水準表Vwe1.0からの更新箇所
A3: 更新履歴
A4: Ver.1.1更新（2025年3月25日）：特別申請によるLD-Tech水準の設定及び編集上の誤りのため更新
A6: 【2025年３月25日更新】
A8: 変更概要 | B8: 水準表 クラスNo. | C8: 区分 | D8: 設備・機器等の 名称 | E8: クラス | G8: 更新後 （赤字が23年度からの修正点、 青字が24年度水準表Ver1.0からの修正点） | K8: 更新前 （取消線は修正点） | Q8: 備考
C9: 技術分類 | E9: 条件 | F9: 能力 （単位） | G9: 認証対象 | H9: LD-Tech 水準 | I9: 測定単位 | K9: クラス | M9: 認証対象 | N9: LD-Tech 水準 | O9: 測定単位
I10: 単 位 | J10: 名 称 | K10: 条 件 | L10: 能力 | O10: 単 位 | P10: 名 称
A11: LD-Tech水準を設定 | B11: S-005004 | C11: 空調機（ヒートポンプ・個別方式） | D11: 氷蓄熱式パッケージエアコン | E11: ー | F11: 22.4kW超28.0kW以下 | G11: 〇 | H11: 3.06 | I11: ー | J11: 日量蓄熱利用冷房効率 | K11: ー | L11: 22.4kW超28.0kW以下 | M11: 〇 | N11: ー | O11: ー | P11: 日量蓄熱利用冷房効率 | Q11: 2024年度環境省LD-Tech認証製品において、特別申請（LD-Tech水準未設定における申請方式）で応募され、認証を受けた製品の中で最高性能の値を採用。
B12: S-005005 | E12: ー | F12: 28.0kW超45.0kW以下 | G12: 〇 | H12: 3.19 | I12: ー | K12: ー | L12: 28.0kW超45.0kW以下 | M12: 〇 | N12: ー | O12: ー
B13: S-005006 | E13: ー | F13: 45.0kW超56.0kW以下 | G13: 〇 | H13: 2.77 | I13: ー | K13: ー | L13: 45.0kW超56.0kW以下 | M13: 〇 | N13: ー | O13: ー
B14: S-005007 | E14: ー | F14: 56.0kW超80.0kW以下 | G14: 〇 | H14: 3.34 | I14: ー | K14: ー | L14: 56.0kW超80.0kW以下 | M14: 〇 | N14: ー | O14: ー
B15: S-005008 | E15: ー | F15: 80.0kW超112.0kW以下 | G15: 〇 | H15: 3.14 | I15: ー | K15: ー | L15: 80.0kW超112.0kW以下 | M15: 〇 | N15: ー | O15: ー
B16: S-197002 | C16: 燃焼式給湯器 | D16: ハイブリッド給湯機（家庭用） | E16: 給湯暖房兼用機（給湯、暖房：ヒートポンプ、ガス） | F16: ー | G16: 〇 | H16: 148.1 | I16: ー | J16: 年間給湯効率 | K16: 給湯暖房兼用機（給湯、暖房：ヒートポンプ、ガス） | L16: ー | M16: 〇 | N16: ー | O16: ー | P16: 年間給湯効率
A17: 測定単位を修正 | B17: S-071001 | C17: モータ利用機器（圧縮機） | D17: 熱回収式ねじ容積形圧縮機 | E17: 給油式 | F17: 37kW、25kW | G17: 〇 | H17: 0.41 | I17: （m3/min）/kW | J17: エネルギー原単位 | K17: 給油式 | L17: 37kW、25kW | M17: 〇 | N17: 0.41 | O17: % | P17: エネルギー原単位 | Q17: 2024年度環境省LD-Tech水準表Ver1.1には、2023年度環境省LD-Tech水準表Ver1.2の記載内容を反映。
A18: 測定単位とLD-Tech水準を修正 | B18: S-071002 | F18: 75kW、 60kW | G18: 〇 | H18: 2.15 | L18: 75kW、 60kW | M18: 〇 | N18: 0.88
A19: 測定単位を修正 | B19: S-071003 | E19: オイルフリー式 | F19: 37kW、25kW | G19: 〇 | H19: 0.41 | K19: オイルフリー式 | L19: 37kW、25kW | M19: 〇 | N19: 0.41
A20: 測定単位を修正 | B20: S-071004 | F20: 75kW、 60kW | G20: 〇 | H20: 0.87 | L20: 75kW、 60kW | M20: 〇 | N20: 0.87
A21: クラス条件・LD-Tech水準を修正 | B21: S-096001 | C21: その他 | D21: 二流体加湿器 | E21: 平均粒子径7.5µm、システム全体の加湿量100kg/h、ノズル1個当たりの噴霧水量Q0＝2.1L/h | F21: ー | G21: 〇 | H21: 12.4 | I21: NL/min | J21: 体積流量 | K21: 平均粒子径7.5㎛、加湿量100kg/h | L21: ー | M21: 〇 | N21: 13.3 | O21: NL/min | P21: 体積流量 | Q21: 2023年度環境省LD-Tech認証製品一覧Ver1.4の認証製品にて最も高性能である数値を採用。
A22: クラス条件・LD-Tech水準を修正 | B22: S-096002 | D22: 二流体加湿器 | E22: 平均粒子径10µm、システム全体の加湿量100kg/h、ノズル1個当たりの噴霧水量Q0＝3.0L/h | F22: ー | G22: 〇 | H22: 10.5 | K22: 平均粒子径10㎛、加湿量100kg/h | L22: ー | M22: 〇 | N22: 11.2 | Q22: 2024年度環境省LD-Tech水準表Ver1.1には、2023年度環境省LD-Tech水準表Ver1.2の記載内容を反映。
A24: 変更概要 | B24: 水準表 クラスNo. | C24: 区分 | D24: 設備・機器等の 名称 | E24: 更新後（青字が24年度水準表Ver1.0からの修正点） | K24: 更新前（取消線は、修正点） | Q24: 備考
C25: 技術分類 | E25: 計算方法（計算式） | H25: 試験条件（説明） | K25: 計算方法（計算式） | N25: 試験条件（説明）
A27: クラス | B27: S-096001～ S-096002 | C27: その他 | D27: 二流体加湿器 | E27: 試験条件によって計測したシステム全体の体積（空気）流量V0（L/min）は、空気温度T0（℃）、空気圧力P0（MPa）の状態での値であるため、学術的な基準状態であるシステム全体の体積（空気）流量V1（NL/min）を、温度0（℃）、相対湿度（0％）、標準大気圧時（圧力1気圧＝0.1013MPa）の値に、ボイル・シャルルの法則を用いて換算する。なお、換算式は、V1＝V0×（273/（273＋T0））×（（0.1013+P0）／0.1013）とする。 次に、実際に噴霧するノズル1個あたりの噴霧水量Q1（L/h）に対する代表点として、ノズル1個あたりの噴霧水量Q0（L/h）からノズル1個あたりの加湿量（kg/h）を求める。 なお、換算式は、ノズル1個あたりの加湿量（kg/h）=Q0×空気温度T0での水密度（kg/m3）×0.001（m3/L）とする。 最後に、システム全体の加湿量100kg/h（20℃の水と想定）に必要なノズル1個あたりの体積（空気）流量V2（NL/min）を式から換算する。 なお、換算式は、V2＝V1×（ノズル1個あたりの加湿量/システム全体の加湿量）とする。 | H27: 工場に設置されたエアコンプレッサから高圧（0.6MPa程度）、かつ乾燥空気（相対湿度０％）が供給され、二流体加湿器のミストノズルに必要な圧力まで減圧された流入空気に対し、システム全体の加湿量100kg/hを達成する条件にて、ミストノズルの1次側において、空気温度T0（℃）、空気圧力P0（MPa）、体積（空気）流量V0（L/min）を超音波流量計によって計測及び算出する。なお、P0はゲージ圧とする。 ミストノズルは、同じザウター平均粒子径のミストを噴霧する場合でも、ノズルごとに使用する空気圧は異なるため、空気圧力P0（MPa）のとき、クラス条件にて定められたザウター平均粒子径で噴霧することを条件とし、供給する水の流量として、ノズル１個あたりの噴霧水量Q0（L/h）を設定する。 | K27: 試験条件によって計測した空気流量V0（L/min）は、空気温度T0（℃）、空気圧力P0（MPa）の状態での値であるため、学術的な基準状態であるV1（NL/min）を、温度0（℃）、相対湿度（0％）、標準大気圧時（圧力1気圧＝0.1013MPa）の値に、ボイル・シャルルの法則を用いて換算する。なお、換算式は、V1＝V0×（273/（273＋T0））×（（0.1013+P0）／0.1013）とする。 次に、噴霧水量Q0（L/min）に対して、代表点として、有効加湿量10kg/hに必要な噴霧水量Q2（L/min）を求め、そのときの必要な空気流量V2（NL/min）を式から換算する。なお、換算式は、V2＝V1×（Q2/Q0）とする。 | N27: 工場に設置されたエアコンプレッサから高圧（0.6MPa程度）、かつ乾燥空気（相対湿度０％）が供給され、二流体加湿器のミストノズルに必要な圧力まで減圧された流入空気に対し、ミストノズルの1次側において、空気温度T0（℃）、空気圧力P0（MPa）、空気流量V0（L/min）を超音波流量計によって体積流量を計測する。なお、P0はゲージ圧を計測する。 ミストノズルは、同じザウター平均粒子径のミストを噴霧する場合でも、ノズルごとに使用する空気圧は異なるため、空気圧力P0（MPa）のとき、ザウター平均粒子径10μmを噴霧することを条件とし、供給する水の流量として、噴霧水量Q0（L/min）を計測する。最後に、体積流量＝エア消費量×（エア噴霧量/加湿量）で体積流量を求める。 | Q27: 2024年度環境省LD-Tech水準表Ver1.1には、2023年度環境省LD-Tech水準表Ver1.2の記載内容を反映。
Q29: 以上

Sheet 水準表_本体
K3: 水準表 クラスNo. | L3: 区分 | M3: 概 要 | O3: クラス | R3: 申請区分 | S3: Oriented | T3: LD-Tech 水準 | V3: 指標
B4: 区分 | C4: 識別KEY | L4: 技術分類 | M4: 設備・機器等 | N4: 原理・しくみ | O4: 条件 | P4: 能力 （名称） | Q4: 能力 （単位） | V4: 測定単位 | X4: 評価方法のタイプ | Y4: 計算方法 | AB4: 試験条件
C5: IE名 | D5: IE＆クラス条件 | E5: IE＆クラス条件＆クラス能力（名称） | F5: IE＆クラス条件＆クラス能力（名称）＆測定単位 | G5: IE＆クラス条件＆クラス能力（名称）＆測定単位＆評価方式のタイプ | H5: IE＆クラス条件＆クラス能力（名称）＆測定単位＆評価方式のタイプ＆準拠する規格（計算方法） | I5: IE＆クラス条件＆クラス能力（名称）＆測定単位＆評価方式のタイプ＆準拠する規格（計算方法）＆準拠する規格（試験条件） | V5: 単位 | W5: 名称 | Y5: 準拠する 規格 | Z5: 規格の 名称 | AA5: 計算式 | AB5: 準拠する 規格 | AC5: 規格の 名称 | AD5: 説明
B6: =VLOOKUP(K6,[5]水準表DB!$E$8:$H$1510,4,FALSE) -> A | C6: =M6 -> ガスヒートポンプ | D6: =M6&O6 -> ガスヒートポンプ- | E6: =D6&P6 -> ガスヒートポンプ-相当馬力数 | F6: =E6&V6&W6 -> ガスヒートポンプ-相当馬力数-COPp | G6: =F6&X6 -> ガスヒートポンプ-相当馬力数-COPp標準規格による評価 | H6: =G6&Y6 -> ガスヒートポンプ-相当馬力数-COPp標準規格による評価- | I6: =H6&AB6 -> ガスヒートポンプ-相当馬力数-COPp標準規格による評価-JRA4067:2015またはJISB8627:2006 | K6: S-001001 | L6: 空調機（ヒートポンプ・個別方式） | M6: ガスヒートポンプ | N6: 室外機内のコンプレッサの駆動をガスエンジンで行うヒートポンプ方式の空気調和機。 | O6: - | P6: 相当馬力数 | Q6: 7.5HP以下 | R6: 通常申請または簡易申請 | S6: Oriented | T6: 1.19 | V6: - | W6: COPp | X6: 標準規格による評価 | Y6: - | Z6: - | AA6: COPp=（Ccr＋Chr）/2 Ccr=Φcr/(Gcr+Pcr/(3600/9760))、Chr=Φhr/(Ghr+Phr/(3600/9760)) Ccr：冷房成績係数 Chr：暖房成績係数 Φcr：定格冷房標準能力(kW） Φhr：定格暖房標準能力(kW） Gcr：定格冷房標準ガス消費量(kW） Ghr：定格暖房標準ガス消費量(kW） Pcr：定格冷房標準消費電力(kW） Phr：定格暖房標準消費電力(kW） ※COPpは、小数点3桁目を切捨て、小数点2桁目までを表示する。 | AB6: JRA4067:2015またはJISB8627:2006 | AC6: いずれもガスヒートポンプ冷暖房機 | AD6: JRA4067:2015またはJISB8627:2 006に準拠。ただし、電源の周波数は、50Hzとする。
B7: =VLOOKUP(K7,[5]水準表DB!$E$8:$H$1510,4,FALSE) -> A | C7: =M7 -> ガスヒートポンプ | D7: =M7&O7 -> ガスヒートポンプ- | E7: =D7&P7 -> ガスヒートポンプ-相当馬力数 | F7: =E7&V7&W7 -> ガスヒートポンプ-相当馬力数-COPp | G7: =F7&X7 -> ガスヒートポンプ-相当馬力数-COPp標準規格による評価 | H7: =G7&Y7 -> ガスヒートポンプ-相当馬力数-COPp標準規格による評価- | I7: =H7&AB7 -> ガスヒートポンプ-相当馬力数-COPp標準規格による評価-JRA4067:2015またはJISB8627:2006 | K7: S-001002 | L7: 空調機（ヒートポンプ・個別方式） | M7: ガスヒートポンプ | N7: 室外機内のコンプレッサの駆動をガスエンジンで行うヒートポンプ方式の空気調和機。 | O7: - | P7: 相当馬力数 | Q7: 7.5HP超10HP以下 | R7: 通常申請または簡易申請 | S7: Oriented | T7: 1.28 | V7: - | W7: COPp | X7: 標準規格による評価 | Y7: - | Z7: - | AA7: COPp=（Ccr＋Chr）/2 Ccr=Φcr/(Gcr+Pcr/(3600/9760))、Chr=Φhr/(Ghr+Phr/(3600/9760)) Ccr：冷房成績係数 Chr：暖房成績係数 Φcr：定格冷房標準能力(kW） Φhr：定格暖房標準能力(kW） Gcr：定格冷房標準ガス消費量(kW） Ghr：定格暖房標準ガス消費量(kW） Pcr：定格冷房標準消費電力(kW） Phr：定格暖房標準消費電力(kW） ※COPpは、小数点3桁目を切捨て、小数点2桁目までを表示する。 | AB7: JRA4067:2015またはJISB8627:2006 | AC7: いずれもガスヒートポンプ冷暖房機 | AD7: JRA4067:2015またはJISB8627:2006に準拠。ただし、電源の周波数は、50Hzとする。
B8: =VLOOKUP(K8,[5]水準表DB!$E$8:$H$1510,4,FALSE) -> A | C8: =M8 -> ガスヒートポンプ | D8: =M8&O8 -> ガスヒートポンプ- | E8: =D8&P8 -> ガスヒートポンプ-相当馬力数 | F8: =E8&V8&W8 -> ガスヒートポンプ-相当馬力数-COPp | G8: =F8&X8 -> ガスヒートポンプ-相当馬力数-COPp標準規格による評価 | H8: =G8&Y8 -> ガスヒートポンプ-相当馬力数-COPp標準規格による評価- | I8: =H8&AB8 -> ガスヒートポンプ-相当馬力数-COPp標準規格による評価-JRA4067:2015またはJISB8627:2006 | K8: S-001003 | L8: 空調機（ヒートポンプ・個別方式） | M8: ガスヒートポンプ | N8: 室外機内のコンプレッサの駆動をガスエンジンで行うヒートポンプ方式の空気調和機。 | O8: - | P8: 相当馬力数 | Q8: 10HP超16HP以下 | R8: 通常申請または簡易申請 | S8: Oriented | T8: 1.47 | V8: - | W8: COPp | X8: 標準規格による評価 | Y8: - | Z8: - | AA8: COPp=（Ccr＋Chr）/2 Ccr=Φcr/(Gcr+Pcr/(3600/9760))、Chr=Φhr/(Ghr+Phr/(3600/9760)) Ccr：冷房成績係数 Chr：暖房成績係数 Φcr：定格冷房標準能力(kW） Φhr：定格暖房標準能力(kW） Gcr：定格冷房標準ガス消費量(kW） Ghr：定格暖房標準ガス消費量(kW） Pcr：定格冷房標準消費電力(kW） Phr：定格暖房標準消費電力(kW） ※COPpは、小数点3桁目を切捨て、小数点2桁目までを表示する。 | AB8: JRA4067:2015またはJISB8627:2006 | AC8: いずれもガスヒートポンプ冷暖房機 | AD8: JRA4067:2015またはJISB8627:2006に準拠。ただし、電源の周波数は、50Hzとする。
B9: =VLOOKUP(K9,[5]水準表DB!$E$8:$H$1510,4,FALSE) -> A | C9: =M9 -> ガスヒートポンプ | D9: =M9&O9 -> ガスヒートポンプ- | E9: =D9&P9 -> ガスヒートポンプ-相当馬力数 | F9: =E9&V9&W9 -> ガスヒートポンプ-相当馬力数-COPp | G9: =F9&X9 -> ガスヒートポンプ-相当馬力数-COPp標準規格による評価 | H9: =G9&Y9 -> ガスヒートポンプ-相当馬力数-COPp標準規格による評価- | I9: =H9&AB9 -> ガスヒートポンプ-相当馬力数-COPp標準規格による評価-JRA4067:2015またはJISB8627:2006 | K9: S-001004 | L9: 空調機（ヒートポンプ・個別方式） | M9: ガスヒートポンプ | N9: 室外機内のコンプレッサの駆動をガスエンジンで行うヒートポンプ方式の空気調和機。 | O9: - | P9: 相当馬力数 | Q9: 16HP超25HP以下 | R9: 通常申請または簡易申請 | S9: Oriented | T9: 1.38 | V9: - | W9: COPp | X9: 標準規格による評価 | Y9: - | Z9: - | AA9: COPp=（Ccr＋Chr）/2 Ccr=Φcr/(Gcr+Pcr/(3600/9760))、Chr=Φhr/(Ghr+Phr/(3600/9760)) Ccr：冷房成績係数 Chr：暖房成績係数 Φcr：定格冷房標準能力(kW） Φhr：定格暖房標準能力(kW） Gcr：定格冷房標準ガス消費量(kW） Ghr：定格暖房標準ガス消費量(kW） Pcr：定格冷房標準消費電力(kW） Phr：定格暖房標準消費電力(kW） ※COPpは、小数点3桁目を切捨て、小数点2桁目までを表示する。 | AB9: JRA4067:2015またはJISB8627:2006 | AC9: いずれもガスヒートポンプ冷暖房機 | AD9: JRA4067:2015またはJISB8627:2006に準拠。ただし、電源の周波数は、50Hzとする。
B10: =VLOOKUP(K10,[5]水準表DB!$E$8:$H$1510,4,FALSE) -> A | C10: =M10 -> ガスヒートポンプ | D10: =M10&O10 -> ガスヒートポンプ- | E10: =D10&P10 -> ガスヒートポンプ-相当馬力数 | F10: =E10&V10&W10 -> ガスヒートポンプ-相当馬力数-COPp | G10: =F10&X10 -> ガスヒートポンプ-相当馬力数-COPp標準規格による評価 | H10: =G10&Y10 -> ガスヒートポンプ-相当馬力数-COPp標準規格による評価- | I10: =H10&AB10 -> ガスヒートポンプ-相当馬力数-COPp標準規格による評価-JRA4067:2015またはJISB8627:2006 | K10: S-001005 | L10: 空調機（ヒートポンプ・個別方式） | M10: ガスヒートポンプ | N10: 室外機内のコンプレッサの駆動をガスエンジンで行うヒートポンプ方式の空気調和機。 | O10: - | P10: 相当馬力数 | Q10: 25HP超 | R10: 通常申請 | S10: Oriented | T10: 1.3 | V10: - | W10: COPp | X10: 標準規格による評価 | Y10: - | Z10: - | AA10: COPp=（Ccr＋Chr）/2 Ccr=Φcr/(Gcr+Pcr/(3600/9760))、Chr=Φhr/(Ghr+Phr/(3600/9760)) Ccr：冷房成績係数 Chr：暖房成績係数 Φcr：定格冷房標準能力(kW） Φhr：定格暖房標準能力(kW） Gcr：定格冷房標準ガス消費量(kW） Ghr：定格暖房標準ガス消費量(kW） Pcr：定格冷房標準消費電力(kW） Phr：定格暖房標準消費電力(kW） ※COPpは、小数点3桁目を切捨て、小数点2桁目までを表示する。 | AB10: JRA4067:2015またはJISB8627:2006 | AC10: いずれもガスヒートポンプ冷暖房機 | AD10: JRA4067:2015またはJISB8627:2006に準拠。ただし、電源の周波数は、50Hzとする。
B11: =VLOOKUP(K11,[5]水準表DB!$E$8:$H$1510,4,FALSE) -> A | C11: =M11 -> ガスヒートポンプ | D11: =M11&O11 -> ガスヒートポンプ- | E11: =D11&P11 -> ガスヒートポンプ-相当馬力数 | F11: =E11&V11&W11 -> ガスヒートポンプ-相当馬力数-期間成績係数（APFp） | G11: =F11&X11 -> ガスヒートポンプ-相当馬力数-期間成績係数（APFp）標準規格による評価 | H11: =G11&Y11 -> ガスヒートポンプ-相当馬力数-期間成績係数（APFp）標準規格による評価JISB8627:2015 | I11: =H11&AB11 -> ガスヒートポンプ-相当馬力数-期間成績係数（APFp）標準規格による評価JISB8627:2015JISB8627:2015 | K11: S-001006 | L11: 空調機（ヒートポンプ・個別方式） | M11: ガスヒートポンプ | N11: 室外機内のコンプレッサの駆動をガスエンジンで行うヒートポンプ方式の空気調和機。 | O11: - | P11: 相当馬力数 | Q11: 7.5HP以下 | R11: 特別申請 | S11: Oriented | T11: - | V11: - | W11: 期間成績係数（APFp） | X11: 標準規格による評価 | Y11: JISB8627:2015 | Z11: ガスヒートポンプ冷暖房機 | AA11: JISB8627:2015に準拠 | AB11: JISB8627:2015 | AC11: ガスヒートポンプ冷暖房機 | AD11: JISB8627:2015に準拠
B12: =VLOOKUP(K12,[5]水準表DB!$E$8:$H$1510,4,FALSE) -> A | C12: =M12 -> ガスヒートポンプ | D12: =M12&O12 -> ガスヒートポンプ- | E12: =D12&P12 -> ガスヒートポンプ-相当馬力数 | F12: =E12&V12&W12 -> ガスヒートポンプ-相当馬力数-期間成績係数（APFp） | G12: =F12&X12 -> ガスヒートポンプ-相当馬力数-期間成績係数（APFp）標準規格による評価 | H12: =G12&Y12 -> ガスヒートポンプ-相当馬力数-期間成績係数（APFp）標準規格による評価JISB8627:2015 | I12: =H12&AB12 -> ガスヒートポンプ-相当馬力数-期間成績係数（APFp）標準規格による評価JISB8627:2015JISB8627:2015 | K12: S-001007 | L12: 空調機（ヒートポンプ・個別方式） | M12: ガスヒートポンプ | N12: 室外機内のコンプレッサの駆動をガスエンジンで行うヒートポンプ方式の空気調和機。 | O12: - | P12: 相当馬力数 | Q12: 7.5HP超10HP以下 | R12: 通常申請または簡易申請 | S12: Oriented | T12: 1.65 | V12: - | W12: 期間成績係数（APFp） | X12: 標準規格による評価 | Y12: JISB8627:2015 | Z12: ガスヒートポンプ冷暖房機 | AA12: JISB8627:2015に準拠 | AB12: JISB8627:2015 | AC12: ガスヒートポンプ冷暖房機 | AD12: JISB8627:2015に準拠
B13: =VLOOKUP(K13,[5]水準表DB!$E$8:$H$1510,4,FALSE) -> A | C13: =M13 -> ガスヒートポンプ | D13: =M13&O13 -> ガスヒートポンプ- | E13: =D13&P13 -> ガスヒートポンプ-相当馬力数 | F13: =E13&V13&W13 -> ガスヒートポンプ-相当馬力数-期間成績係数（APFp） | G13: =F13&X13 -> ガスヒートポンプ-相当馬力数-期間成績係数（APFp）標準規格による評価 | H13: =G13&Y13 -> ガスヒートポンプ-相当馬力数-期間成績係数（APFp）標準規格による評価JISB8627:2015 | I13: =H13&AB13 -> ガスヒートポンプ-相当馬力数-期間成績係数（APFp）標準規格による評価JISB8627:2015JISB8627:2015 | K13: S-001008 | L13: 空調機（ヒートポンプ・個別方式） | M13: ガスヒートポンプ | N13: 室外機内のコンプレッサの駆動をガスエンジンで行うヒートポンプ方式の空気調和機。 | O13: - | P13: 相当馬力数 | Q13: 10HP超16HP以下 | R13: 通常申請または簡易申請 | S13: Oriented | T13: 2.2 | V13: - | W13: 期間成績係数（APFp） | X13: 標準規格による評価 | Y13: JISB8627:2015 | Z13: ガスヒートポンプ冷暖房機 | AA13: JISB8627:2015に準拠 | AB13: JISB8627:2015 | AC13: ガスヒートポンプ冷暖房機 | AD13: JISB8627:2015に準拠
B14: =VLOOKUP(K14,[5]水準表DB!$E$8:$H$1510,4,FALSE) -> A | C14: =M14 -> ガスヒートポンプ | D14: =M14&O14 -> ガスヒートポンプ- | E14: =D14&P14 -> ガスヒートポンプ-相当馬力数 | F14: =E14&V14&W14 -> ガスヒートポンプ-相当馬力数-期間成績係数（APFp） | G14: =F14&X14 -> ガスヒートポンプ-相当馬力数-期間成績係数（APFp）標準規格による評価 | H14: =G14&Y14 -> ガスヒートポンプ-相当馬力数-期間成績係数（APFp）標準規格による評価JISB8627:2015 | I14: =H14&AB14 -> ガスヒートポンプ-相当馬力数-期間成績係数（APFp）標準規格による評価JISB8627:2015JISB8627:2015 | K14: S-001009 | L14: 空調機（ヒートポンプ・個別方式） | M14: ガスヒートポンプ | N14: 室外機内のコンプレッサの駆動をガスエンジンで行うヒートポンプ方式の空気調和機。 | O14: - | P14: 相当馬力数 | Q14: 16HP超25HP以下 | R14: 通常申請または簡易申請 | S14: Oriented | T14: 2.21 | V14: - | W14: 期間成績係数（APFp） | X14: 標準規格による評価 | Y14: JISB8627:2015 | Z14: ガスヒートポンプ冷暖房機 | AA14: JISB8627:2015に準拠 | AB14: JISB8627:2015 | AC14: ガスヒートポンプ冷暖房機 | AD14: JISB8627:2015に準拠
B15: =VLOOKUP(K15,[5]水準表DB!$E$8:$H$1510,4,FALSE) -> A | C15: =M15 -> ガスヒートポンプ | D15: =M15&O15 -> ガスヒートポンプ- | E15: =D15&P15 -> ガスヒートポンプ-相当馬力数 | F15: =E15&V15&W15 -> ガスヒートポンプ-相当馬力数-期間成績係数（APFp） | G15: =F15&X15 -> ガスヒートポンプ-相当馬力数-期間成績係数（APFp）標準規格による評価 | H15: =G15&Y15 -> ガスヒートポンプ-相当馬力数-期間成績係数（APFp）標準規格による評価JISB8627:2015 | I15: =H15&AB15 -> ガスヒートポンプ-相当馬力数-期間成績係数（APFp）標準規格による評価JISB8627:2015JISB8627:2015 | K15: S-001010 | L15: 空調機（ヒートポンプ・個別方式） | M15: ガスヒートポンプ | N15: 室外機内のコンプレッサの駆動をガスエンジンで行うヒートポンプ方式の空気調和機。 | O15: - | P15: 相当馬力数 | Q15: 25HP超 | R15: 通常申請または簡易申請 | S15: Oriented | T15: 2.21 | V15: - | W15: 期間成績係数（APFp） | X15: 標準規格による評価 | Y15: JISB8627:2015 | Z15: ガスヒートポンプ冷暖房機 | AA15: JISB8627:2015に準拠 | AB15: JISB8627:2015 | AC15: ガスヒートポンプ冷暖房機 | AD15: JISB8627:2015に準拠
B16: =VLOOKUP(K16,[5]水準表DB!$E$8:$H$1510,4,FALSE) -> A | C16: =M16 -> ガスヒートポンプ | D16: =M16&O16 -> ガスヒートポンプ寒冷地仕様 | E16: =D16&P16 -> ガスヒートポンプ寒冷地仕様相当馬力数 | F16: =E16&V16&W16 -> ガスヒートポンプ寒冷地仕様相当馬力数-COPp | G16: =F16&X16 -> ガスヒートポンプ寒冷地仕様相当馬力数-COPp標準規格による評価 | H16: =G16&Y16 -> ガスヒートポンプ寒冷地仕様相当馬力数-COPp標準規格による評価- | I16: =H16&AB16 -> ガスヒートポンプ寒冷地仕様相当馬力数-COPp標準規格による評価-JRA4067:2015またはJISB8627:2006 | K16: S-001011 | L16: 空調機（ヒートポンプ・個別方式） | M16: ガスヒートポンプ | N16: 室外機内のコンプレッサの駆動をガスエンジンで行うヒートポンプ方式の空気調和機。 | O16: 寒冷地仕様 | P16: 相当馬力数 | Q16: 7.5HP以下 | R16: 通常申請 | S16: Oriented | T16: 1.19 | V16: - | W16: COPp | X16: 標準規格による評価 | Y16: - | Z16: - | AA16: COPp=（Ccr＋Chr）/2 Ccr=Φcr/(Gcr+Pcr/(3600/9760))、Chr=Φhr/(Ghr+Phr/(3600/9760)) Ccr：冷房成績係数 Chr：暖房成績係数 Φcr：定格冷房標準能力(kW） Φhr：定格暖房標準能力(kW） Gcr：定格冷房標準ガス消費量(kW） Ghr：定格暖房標準ガス消費量(kW） Pcr：定格冷房標準消費電力(kW） Phr：定格暖房標準消費電力(kW） ※COPpは、小数点3桁目を切捨て、小数点2桁目までを表示する。 | AB16: JRA4067:2015またはJISB8627:2006 | AC16: いずれもガスヒートポンプ冷暖房機 | AD16: JRA4067:2015またはJISB8627:2006に準拠。ただし、電源の周波数は、50Hzとする。
B17: =VLOOKUP(K17,[5]水準表DB!$E$8:$H$1510,4,FALSE) -> A | C17: =M17 -> ガスヒートポンプ | D17: =M17&O17 -> ガスヒートポンプ寒冷地仕様 | E17: =D17&P17 -> ガスヒートポンプ寒冷地仕様相当馬力数 | F17: =E17&V17&W17 -> ガスヒートポンプ寒冷地仕様相当馬力数-COPp | G17: =F17&X17 -> ガスヒートポンプ寒冷地仕様相当馬力数-COPp標準規格による評価 | H17: =G17&Y17 -> ガスヒートポンプ寒冷地仕様相当馬力数-COPp標準規格による評価- | I17: =H17&AB17 -> ガスヒートポンプ寒冷地仕様相当馬力数-COPp標準規格による評価-JRA4067:2015またはJISB8627:2006 | K17: S-001012 | L17: 空調機（ヒートポンプ・個別方式） | M17: ガスヒートポンプ | N17: 室外機内のコンプレッサの駆動をガスエンジンで行うヒートポンプ方式の空気調和機。 | O17: 寒冷地仕様 | P17: 相当馬力数 | Q17: 7.5HP超10HP以下 | R17: 通常申請または簡易申請 | S17: Oriented | T17: 1.28 | V17: - | W17: COPp | X17: 標準規格による評価 | Y17: - | Z17: - | AA17: COPp=（Ccr＋Chr）/2 Ccr=Φcr/(Gcr+Pcr/(3600/9760))、Chr=Φhr/(Ghr+Phr/(3600/9760)) Ccr：冷房成績係数 Chr：暖房成績係数 Φcr：定格冷房標準能力(kW） Φhr：定格暖房標準能力(kW） Gcr：定格冷房標準ガス消費量(kW） Ghr：定格暖房標準ガス消費量(kW） Pcr：定格冷房標準消費電力(kW） Phr：定格暖房標準消費電力(kW） ※COPpは、小数点3桁目を切捨て、小数点2桁目までを表示する。 | AB17: JRA4067:2015またはJISB8627:2006 | AC17: いずれもガスヒートポンプ冷暖房機 | AD17: JRA4067:2015またはJISB8627:2006に準拠。ただし、電源の周波数は、50Hzとする。
B18: =VLOOKUP(K18,[5]水準表DB!$E$8:$H$1510,4,FALSE) -> A | C18: =M18 -> ガスヒートポンプ | D18: =M18&O18 -> ガスヒートポンプ寒冷地仕様 | E18: =D18&P18 -> ガスヒートポンプ寒冷地仕様相当馬力数 | F18: =E18&V18&W18 -> ガスヒートポンプ寒冷地仕様相当馬力数-COPp | G18: =F18&X18 -> ガスヒートポンプ寒冷地仕様相当馬力数-COPp標準規格による評価 | H18: =G18&Y18 -> ガスヒートポンプ寒冷地仕様相当馬力数-COPp標準規格による評価- | I18: =H18&AB18 -> ガスヒートポンプ寒冷地仕様相当馬力数-COPp標準規格による評価-JRA4067:2015またはJISB8627:2006 | K18: S-001013 | L18: 空調機（ヒートポンプ・個別方式） | M18: ガスヒートポンプ | N18: 室外機内のコンプレッサの駆動をガスエンジンで行うヒートポンプ方式の空気調和機。 | O18: 寒冷地仕様 | P18: 相当馬力数 | Q18: 10HP超16HP以下 | R18: 通常申請または簡易申請 | S18: Oriented | T18: 1.47 | V18: - | W18: COPp | X18: 標準規格による評価 | Y18: - | Z18: - | AA18: COPp=（Ccr＋Chr）/2 Ccr=Φcr/(Gcr+Pcr/(3600/9760))、Chr=Φhr/(Ghr+Phr/(3600/9760)) Ccr：冷房成績係数 Chr：暖房成績係数 Φcr：定格冷房標準能力(kW） Φhr：定格暖房標準能力(kW） Gcr：定格冷房標準ガス消費量(kW） Ghr：定格暖房標準ガス消費量(kW） Pcr：定格冷房標準消費電力(kW） Phr：定格暖房標準消費電力(kW） ※COPpは、小数点3桁目を切捨て、小数点2桁目までを表示する。 | AB18: JRA4067:2015またはJISB8627:2006 | AC18: いずれもガスヒートポンプ冷暖房機 | AD18: JRA4067:2015またはJISB8627:2006に準拠。ただし、電源の周波数は、50Hzとする。
B19: =VLOOKUP(K19,[5]水準表DB!$E$8:$H$1510,4,FALSE) -> A | C19: =M19 -> ガスヒートポンプ | D19: =M19&O19 -> ガスヒートポンプ寒冷地仕様 | E19: =D19&P19 -> ガスヒートポンプ寒冷地仕様相当馬力数 | F19: =E19&V19&W19 -> ガスヒートポンプ寒冷地仕様相当馬力数-COPp | G19: =F19&X19 -> ガスヒートポンプ寒冷地仕様相当馬力数-COPp標準規格による評価 | H19: =G19&Y19 -> ガスヒートポンプ寒冷地仕様相当馬力数-COPp標準規格による評価- | I19: =H19&AB19 -> ガスヒートポンプ寒冷地仕様相当馬力数-COPp標準規格による評価-JRA4067:2015またはJISB8627:2006 | K19: S-001014 | L19: 空調機（ヒートポンプ・個別方式） | M19: ガスヒートポンプ | N19: 室外機内のコンプレッサの駆動をガスエンジンで行うヒートポンプ方式の空気調和機。 | O19: 寒冷地仕様 | P19: 相当馬力数 | Q19: 16HP超25HP以下 | R19: 通常申請または簡易申請 | S19: Oriented | T19: 1.38 | V19: - | W19: COPp | X19: 標準規格による評価 | Y19: - | Z19: - | AA19: COPp=（Ccr＋Chr）/2 Ccr=Φcr/(Gcr+Pcr/(3600/9760))、Chr=Φhr/(Ghr+Phr/(3600/9760)) Ccr：冷房成績係数 Chr：暖房成績係数 Φcr：定格冷房標準能力(kW） Φhr：定格暖房標準能力(kW） Gcr：定格冷房標準ガス消費量(kW） Ghr：定格暖房標準ガス消費量(kW） Pcr：定格冷房標準消費電力(kW） Phr：定格暖房標準消費電力(kW） ※COPpは、小数点3桁目を切捨て、小数点2桁目までを表示する。 | AB19: JRA4067:2015またはJISB8627:2006 | AC19: いずれもガスヒートポンプ冷暖房機 | AD19: JRA4067:2015またはJISB8627:2006に準拠。ただし、電源の周波数は、50Hzとする。
B20: =VLOOKUP(K20,[5]水準表DB!$E$8:$H$1510,4,FALSE) -> A | C20: =M20 -> ガスヒートポンプ | D20: =M20&O20 -> ガスヒートポンプ寒冷地仕様 | E20: =D20&P20 -> ガスヒートポンプ寒冷地仕様相当馬力数 | F20: =E20&V20&W20 -> ガスヒートポンプ寒冷地仕様相当馬力数-COPp | G20: =F20&X20 -> ガスヒートポンプ寒冷地仕様相当馬力数-COPp標準規格による評価 | H20: =G20&Y20 -> ガスヒートポンプ寒冷地仕様相当馬力数-COPp標準規格による評価- | I20: =H20&AB20 -> ガスヒートポンプ寒冷地仕様相当馬力数-COPp標準規格による評価-JRA4067:2015またはJISB8627:2006 | K20: S-001015 | L20: 空調機（ヒートポンプ・個別方式） | M20: ガスヒートポンプ | N20: 室外機内のコンプレッサの駆動をガスエンジンで行うヒートポンプ方式の空気調和機。 | O20: 寒冷地仕様 | P20: 相当馬力数 | Q20: 25HP超 | R20: 通常申請または簡易申請 | S20: Oriented | T20: 1.27 | V20: - | W20: COPp | X20: 標準規格による評価 | Y20: - | Z20: - | AA20: COPp=（Ccr＋Chr）/2 Ccr=Φcr/(Gcr+Pcr/(3600/9760))、Chr=Φhr/(Ghr+Phr/(3600/9760)) Ccr：冷房成績係数 Chr：暖房成績係数 Φcr：定格冷房標準能力(kW） Φhr：定格暖房標準能力(kW） Gcr：定格冷房標準ガス消費量(kW） Ghr：定格暖房標準ガス消費量(kW） Pcr：定格冷房標準消費電力(kW） Phr：定格暖房標準消費電力(kW） ※COPpは、小数点3桁目を切捨て、小数点2桁目までを表示する。 | AB20: JRA4067:2015またはJISB8627:2006 | AC20: いずれもガスヒートポンプ冷暖房機 | AD20: JRA4067:2015またはJISB8627:2006に準拠。ただし、電源の周波数は、50Hzとする。
B21: =VLOOKUP(K21,[5]水準表DB!$E$8:$H$1510,4,FALSE) -> A | C21: =M21 -> ガスヒートポンプ | D21: =M21&O21 -> ガスヒートポンプ寒冷地仕様 | E21: =D21&P21 -> ガスヒートポンプ寒冷地仕様相当馬力数 | F21: =E21&V21&W21 -> ガスヒートポンプ寒冷地仕様相当馬力数-期間成績係数（APFp） | G21: =F21&X21 -> ガスヒートポンプ寒冷地仕様相当馬力数-期間成績係数（APFp）標準規格による評価 | H21: =G21&Y21 -> ガスヒートポンプ寒冷地仕様相当馬力数-期間成績係数（APFp）標準規格による評価JISB8627:2015 | I21: =H21&AB21 -> ガスヒートポンプ寒冷地仕様相当馬力数-期間成績係数（APFp）標準規格による評価JISB8627:2015JISB8627:2015 | K21: S-001016 | L21: 空調機（ヒートポンプ・個別方式） | M21: ガスヒートポンプ | N21: 室外機内のコンプレッサの駆動をガスエンジンで行うヒートポンプ方式の空気調和機。 | O21: 寒冷地仕様 | P21: 相当馬力数 | Q21: 7.5HP以下 | R21: 特別申請 | S21: Oriented | T21: - | V21: - | W21: 期間成績係数（APFp） | X21: 標準規格による評価 | Y21: JISB8627:2015 | Z21: ガスヒートポンプ冷暖房機 | AA21: JISB8627:2015に準拠 | AB21: JISB8627:2015 | AC21: ガスヒートポンプ冷暖房機 | AD21: JISB8627:2015に準拠
B22: =VLOOKUP(K22,[5]水準表DB!$E$8:$H$1510,4,FALSE) -> A | C22: =M22 -> ガスヒートポンプ | D22: =M22&O22 -> ガスヒートポンプ寒冷地仕様 | E22: =D22&P22 -> ガスヒートポンプ寒冷地仕様相当馬力数 | F22: =E22&V22&W22 -> ガスヒートポンプ寒冷地仕様相当馬力数-期間成績係数（APFp） | G22: =F22&X22 -> ガスヒートポンプ寒冷地仕様相当馬力数-期間成績係数（APFp）標準規格による評価 | H22: =G22&Y22 -> ガスヒートポンプ寒冷地仕様相当馬力数-期間成績係数（APFp）標準規格による評価JISB8627:2015 | I22: =H22&AB22 -> ガスヒートポンプ寒冷地仕様相当馬力数-期間成績係数（APFp）標準規格による評価JISB8627:2015JISB8627:2015 | K22: S-001017 | L22: 空調機（ヒートポンプ・個別方式） | M22: ガスヒートポンプ | N22: 室外機内のコンプレッサの駆動をガスエンジンで行うヒートポンプ方式の空気調和機。 | O22: 寒冷地仕様 | P22: 相当馬力数 | Q22: 7.5HP超10HP以下 | R22: 通常申請または簡易申請 | S22: Oriented | T22: 1.65 | V22: - | W22: 期間成績係数（APFp） | X22: 標準規格による評価 | Y22: JISB8627:2015 | Z22: ガスヒートポンプ冷暖房機 | AA22: JISB8627:2015に準拠 | AB22: JISB8627:2015 | AC22: ガスヒートポンプ冷暖房機 | AD22: JISB8627:2015に準拠
B23: =VLOOKUP(K23,[5]水準表DB!$E$8:$H$1510,4,FALSE) -> A | C23: =M23 -> ガスヒートポンプ | D23: =M23&O23 -> ガスヒートポンプ寒冷地仕様 | E23: =D23&P23 -> ガスヒートポンプ寒冷地仕様相当馬力数 | F23: =E23&V23&W23 -> ガスヒートポンプ寒冷地仕様相当馬力数-期間成績係数（APFp） | G23: =F23&X23 -> ガスヒートポンプ寒冷地仕様相当馬力数-期間成績係数（APFp）標準規格による評価 | H23: =G23&Y23 -> ガスヒートポンプ寒冷地仕様相当馬力数-期間成績係数（APFp）標準規格による評価JISB8627:2015 | I23: =H23&AB23 -> ガスヒートポンプ寒冷地仕様相当馬力数-期間成績係数（APFp）標準規格による評価JISB8627:2015JISB8627:2015 | K23: S-001018 | L23: 空調機（ヒートポンプ・個別方式） | M23: ガスヒートポンプ | N23: 室外機内のコンプレッサの駆動をガスエンジンで行うヒートポンプ方式の空気調和機。 | O23: 寒冷地仕様 | P23: 相当馬力数 | Q23: 10HP超16HP以下 | R23: 通常申請または簡易申請 | S23: Oriented | T23: 2.09 | V23: - | W23: 期間成績係数（APFp） | X23: 標準規格による評価 | Y23: JISB8627:2015 | Z23: ガスヒートポンプ冷暖房機 | AA23: JISB8627:2015に準拠 | AB23: JISB8627:2015 | AC23: ガスヒートポンプ冷暖房機 | AD23: JISB8627:2015に準拠
B24: =VLOOKUP(K24,[5]水準表DB!$E$8:$H$1510,4,FALSE) -> A | C24: =M24 -> ガスヒートポンプ | D24: =M24&O24 -> ガスヒートポンプ寒冷地仕様 | E24: =D24&P24 -> ガスヒートポンプ寒冷地仕様相当馬力数 | F24: =E24&V24&W24 -> ガスヒートポンプ寒冷地仕様相当馬力数-期間成績係数（APFp） | G24: =F24&X24 -> ガスヒートポンプ寒冷地仕様相当馬力数-期間成績係数（APFp）標準規格による評価 | H24: =G24&Y24 -> ガスヒートポンプ寒冷地仕様相当馬力数-期間成績係数（APFp）標準規格による評価JISB8627:2015 | I24: =H24&AB24 -> ガスヒートポンプ寒冷地仕様相当馬力数-期間成績係数（APFp）標準規格による評価JISB8627:2015JISB8627:2015 | K24: S-001019 | L24: 空調機（ヒートポンプ・個別方式） | M24: ガスヒートポンプ | N24: 室外機内のコンプレッサの駆動をガスエンジンで行うヒートポンプ方式の空気調和機。 | O24: 寒冷地仕様 | P24: 相当馬力数 | Q24: 16HP超25HP以下 | R24: 通常申請または簡易申請 | S24: Oriented | T24: 2.19 | V24: - | W24: 期間成績係数（APFp） | X24: 標準規格による評価 | Y24: JISB8627:2015 | Z24: ガスヒートポンプ冷暖房機 | AA24: JISB8627:2015に準拠 | AB24: JISB8627:2015 | AC24: ガスヒートポンプ冷暖房機 | AD24: JISB8627:2015に準拠
B25: =VLOOKUP(K25,[5]水準表DB!$E$8:$H$1510,4,FALSE) -> A | C25: =M25 -> ガスヒートポンプ | D25: =M25&O25 -> ガスヒートポンプ寒冷地仕様 | E25: =D25&P25 -> ガスヒートポンプ寒冷地仕様相当馬力数 | F25: =E25&V25&W25 -> ガスヒートポンプ寒冷地仕様相当馬力数-期間成績係数（APFp） | G25: =F25&X25 -> ガスヒートポンプ寒冷地仕様相当馬力数-期間成績係数（APFp）標準規格による評価 | H25: =G25&Y25 -> ガスヒートポンプ寒冷地仕様相当馬力数-期間成績係数（APFp）標準規格による評価JISB8627:2015 | I25: =H25&AB25 -> ガスヒートポンプ寒冷地仕様相当馬力数-期間成績係数（APFp）標準規格による評価JISB8627:2015JISB8627:2015 | K25: S-001020 | L25: 空調機（ヒートポンプ・個別方式） | M25: ガスヒートポンプ | N25: 室外機内のコンプレッサの駆動をガスエンジンで行うヒートポンプ方式の空気調和機。 | O25: 寒冷地仕様 | P25: 相当馬力数 | Q25: 25HP超 | R25: 通常申請または簡易申請 | S25: Oriented | T25: 2.12 | V25: - | W25: 期間成績係数（APFp） | X25: 標準規格による評価 | Y25: JISB8627:2015 | Z25: ガスヒートポンプ冷暖房機 | AA25: JISB8627:2015に準拠 | AB25: JISB8627:2015 | AC25: ガスヒートポンプ冷暖房機 | AD25: JISB8627:2015に準拠
B26: =VLOOKUP(K26,[5]水準表DB!$E$8:$H$1510,4,FALSE) -> A | C26: =M26 -> ガスヒートポンプ | D26: =M26&O26 -> ガスヒートポンプ発電機付 | E26: =D26&P26 -> ガスヒートポンプ発電機付相当馬力数 | F26: =E26&V26&W26 -> ガスヒートポンプ発電機付相当馬力数-COPp | G26: =F26&X26 -> ガスヒートポンプ発電機付相当馬力数-COPp標準規格による評価 | H26: =G26&Y26 -> ガスヒートポンプ発電機付相当馬力数-COPp標準規格による評価- | I26: =H26&AB26 -> ガスヒートポンプ発電機付相当馬力数-COPp標準規格による評価-JRA4067:2015またはJISB8627:2006 | K26: S-001021 | L26: 空調機（ヒートポンプ・個別方式） | M26: ガスヒートポンプ | N26: 室外機内のコンプレッサの駆動をガスエンジンで行うヒートポンプ方式の空気調和機。 | O26: 発電機付 | P26: 相当馬力数 | Q26: 7.5HP以下 | R26: 特別申請 | S26: Oriented | T26: - | V26: - | W26: COPp | X26: 標準規格による評価 | Y26: - | Z26: - | AA26: COPp=（Ccr＋Chr）/2 Ccr=Φcr/(Gcr+Pcr/(3600/9760))、Chr=Φhr/(Ghr+Phr/(3600/9760)) Ccr：冷房成績係数 Chr：暖房成績係数 Φcr：定格冷房標準能力(kW） Φhr：定格暖房標準能力(kW） Gcr：定格冷房標準ガス消費量(kW） Ghr：定格暖房標準ガス消費量(kW） Pcr：定格冷房標準消費電力(kW） Phr：定格暖房標準消費電力(kW） ※COPpは、小数点3桁目を切捨て、小数点2桁目までを表示する。 | AB26: JRA4067:2015またはJISB8627:2006 | AC26: いずれもガスヒートポンプ冷暖房機 | AD26: JRA4067:2015またはJISB8627:2006に準拠。ただし、電源の周波数は、50Hzとする。
B27: =VLOOKUP(K27,[5]水準表DB!$E$8:$H$1510,4,FALSE) -> A | C27: =M27 -> ガスヒートポンプ | D27: =M27&O27 -> ガスヒートポンプ発電機付 | E27: =D27&P27 -> ガスヒートポンプ発電機付相当馬力数 | F27: =E27&V27&W27 -> ガスヒートポンプ発電機付相当馬力数-COPp | G27: =F27&X27 -> ガスヒートポンプ発電機付相当馬力数-COPp標準規格による評価 | H27: =G27&Y27 -> ガスヒートポンプ発電機付相当馬力数-COPp標準規格による評価- | I27: =H27&AB27 -> ガスヒートポンプ発電機付相当馬力数-COPp標準規格による評価-JRA4067:2015またはJISB8627:2006 | K27: S-001022 | L27: 空調機（ヒートポンプ・個別方式） | M27: ガスヒートポンプ | N27: 室外機内のコンプレッサの駆動をガスエンジンで行うヒートポンプ方式の空気調和機。 | O27: 発電機付 | P27: 相当馬力数 | Q27: 7.5HP超10HP以下 | R27: 特別申請 | S27: Oriented | T27: - | V27: - | W27: COPp | X27: 標準規格による評価 | Y27: - | Z27: - | AA27: COPp=（Ccr＋Chr）/2 Ccr=Φcr/(Gcr+Pcr/(3600/9760))、Chr=Φhr/(Ghr+Phr/(3600/9760)) Ccr：冷房成績係数 Chr：暖房成績係数 Φcr：定格冷房標準能力(kW） Φhr：定格暖房標準能力(kW） Gcr：定格冷房標準ガス消費量(kW） Ghr：定格暖房標準ガス消費量(kW） Pcr：定格冷房標準消費電力(kW） Phr：定格暖房標準消費電力(kW） ※COPpは、小数点3桁目を切捨て、小数点2桁目までを表示する。 | AB27: JRA4067:2015またはJISB8627:2006 | AC27: いずれもガスヒートポンプ冷暖房機 | AD27: JRA4067:2015またはJISB8627:2006に準拠。ただし、電源の周波数は、50Hzとする。
B28: =VLOOKUP(K28,[5]水準表DB!$E$8:$H$1510,4,FALSE) -> A | C28: =M28 -> ガスヒートポンプ | D28: =M28&O28 -> ガスヒートポンプ発電機付 | E28: =D28&P28 -> ガスヒートポンプ発電機付相当馬力数 | F28: =E28&V28&W28 -> ガスヒートポンプ発電機付相当馬力数-COPp | G28: =F28&X28 -> ガスヒートポンプ発電機付相当馬力数-COPp標準規格による評価 | H28: =G28&Y28 -> ガスヒートポンプ発電機付相当馬力数-COPp標準規格による評価- | I28: =H28&AB28 -> ガスヒートポンプ発電機付相当馬力数-COPp標準規格による評価-JRA4067:2015またはJISB8627:2006 | K28: S-001023 | L28: 空調機（ヒートポンプ・個別方式） | M28: ガスヒートポンプ | N28: 室外機内のコンプレッサの駆動をガスエンジンで行うヒートポンプ方式の空気調和機。 | O28: 発電機付 | P28: 相当馬力数 | Q28: 10HP超16HP以下 | R28: 通常申請 | S28: Oriented | T28: 1.34 | V28: - | W28: COPp | X28: 標準規格による評価 | Y28: - | Z28: - | AA28: COPp=（Ccr＋Chr）/2 Ccr=Φcr/(Gcr+Pcr/(3600/9760))、Chr=Φhr/(Ghr+Phr/(3600/9760)) Ccr：冷房成績係数 Chr：暖房成績係数 Φcr：定格冷房標準能力(kW） Φhr：定格暖房標準能力(kW） Gcr：定格冷房標準ガス消費量(kW） Ghr：定格暖房標準ガス消費量(kW） Pcr：定格冷房標準消費電力(kW） Phr：定格暖房標準消費電力(kW） ※COPpは、小数点3桁目を切捨て、小数点2桁目までを表示する。 | AB28: JRA4067:2015またはJISB8627:2006 | AC28: いずれもガスヒートポンプ冷暖房機 | AD28: JRA4067:2015またはJISB8627:2006に準拠。ただし、電源の周波数は、50Hzとする。
B29: =VLOOKUP(K29,[5]水準表DB!$E$8:$H$1510,4,FALSE) -> A | C29: =M29 -> ガスヒートポンプ | D29: =M29&O29 -> ガスヒートポンプ発電機付 | E29: =D29&P29 -> ガスヒートポンプ発電機付相当馬力数 | F29: =E29&V29&W29 -> ガスヒートポンプ発電機付相当馬力数-COPp | G29: =F29&X29 -> ガスヒートポンプ発電機付相当馬力数-COPp標準規格による評価 | H29: =G29&Y29 -> ガスヒートポンプ発電機付相当馬力数-COPp標準規格による評価- | I29: =H29&AB29 -> ガスヒートポンプ発電機付相当馬力数-COPp標準規格による評価-JRA4067:2015またはJISB8627:2006 | K29: S-001024 | L29: 空調機（ヒートポンプ・個別方式） | M29: ガスヒートポンプ | N29: 室外機内のコンプレッサの駆動をガスエンジンで行うヒートポンプ方式の空気調和機。 | O29: 発電機付 | P29: 相当馬力数 | Q29: 16HP超25HP以下 | R29: 通常申請 | S29: Oriented | T29: 1.38 | V29: - | W29: COPp | X29: 標準規格による評価 | Y29: - | Z29: - | AA29: COPp=（Ccr＋Chr）/2 Ccr=Φcr/(Gcr+Pcr/(3600/9760))、Chr=Φhr/(Ghr+Phr/(3600/9760)) Ccr：冷房成績係数 Chr：暖房成績係数 Φcr：定格冷房標準能力(kW） Φhr：定格暖房標準能力(kW） Gcr：定格冷房標準ガス消費量(kW） Ghr：定格暖房標準ガス消費量(kW） Pcr：定格冷房標準消費電力(kW） Phr：定格暖房標準消費電力(kW） ※COPpは、小数点3桁目を切捨て、小数点2桁目までを表示する。 | AB29: JRA4067:2015またはJISB8627:2006 | AC29: いずれもガスヒートポンプ冷暖房機 | AD29: JRA4067:2015またはJISB8627:2006に準拠。ただし、電源の周波数は、50Hzとする。
B30: =VLOOKUP(K30,[5]水準表DB!$E$8:$H$1510,4,FALSE) -> A | C30: =M30 -> ガスヒートポンプ | D30: =M30&O30 -> ガスヒートポンプ発電機付 | E30: =D30&P30 -> ガスヒートポンプ発電機付相当馬力数 | F30: =E30&V30&W30 -> ガスヒートポンプ発電機付相当馬力数-COPp | G30: =F30&X30 -> ガスヒートポンプ発電機付相当馬力数-COPp標準規格による評価 | H30: =G30&Y30 -> ガスヒートポンプ発電機付相当馬力数-COPp標準規格による評価- | I30: =H30&AB30 -> ガスヒートポンプ発電機付相当馬力数-COPp標準規格による評価-JRA4067:2015またはJISB8627:2006 | K30: S-001025 | L30: 空調機（ヒートポンプ・個別方式） | M30: ガスヒートポンプ | N30: 室外機内のコンプレッサの駆動をガスエンジンで行うヒートポンプ方式の空気調和機。 | O30: 発電機付 | P30: 相当馬力数 | Q30: 25HP超 | R30: 通常申請 | S30: Oriented | T30: 1.27 | V30: - | W30: COPp | X30: 標準規格による評価 | Y30: - | Z30: - | AA30: COPp=（Ccr＋Chr）/2 Ccr=Φcr/(Gcr+Pcr/(3600/9760))、Chr=Φhr/(Ghr+Phr/(3600/9760)) Ccr：冷房成績係数 Chr：暖房成績係数 Φcr：定格冷房標準能力(kW） Φhr：定格暖房標準能力(kW） Gcr：定格冷房標準ガス消費量(kW） Ghr：定格暖房標準ガス消費量(kW） Pcr：定格冷房標準消費電力(kW） Phr：定格暖房標準消費電力(kW） ※COPpは、小数点3桁目を切捨て、小数点2桁目までを表示する。 | AB30: JRA4067:2015またはJISB8627:2006 | AC30: いずれもガスヒートポンプ冷暖房機 | AD30: JRA4067:2015またはJISB8627:2006に準拠。ただし、電源の周波数は、50Hzとする。
B31: =VLOOKUP(K31,[5]水準表DB!$E$8:$H$1510,4,FALSE) -> A | C31: =M31 -> ガスヒートポンプ | D31: =M31&O31 -> ガスヒートポンプ発電機付 | E31: =D31&P31 -> ガスヒートポンプ発電機付相当馬力数 | F31: =E31&V31&W31 -> ガスヒートポンプ発電機付相当馬力数-期間成績係数（APFp） | G31: =F31&X31 -> ガスヒートポンプ発電機付相当馬力数-期間成績係数（APFp）標準規格による評価 | H31: =G31&Y31 -> ガスヒートポンプ発電機付相当馬力数-期間成績係数（APFp）標準規格による評価JISB8627:2015 | I31: =H31&AB31 -> ガスヒートポンプ発電機付相当馬力数-期間成績係数（APFp）標準規格による評価JISB8627:2015JISB8627:2015 | K31: S-001026 | L31: 空調機（ヒートポンプ・個別方式） | M31: ガスヒートポンプ | N31: 室外機内のコンプレッサの駆動をガスエンジンで行うヒートポンプ方式の空気調和機。 | O31: 発電機付 | P31: 相当馬力数 | Q31: 7.5HP以下 | R31: 特別申請 | S31: Oriented | T31: - | V31: - | W31: 期間成績係数（APFp） | X31: 標準規格による評価 | Y31: JISB8627:2015 | Z31: ガスヒートポンプ冷暖房機 | AA31: JISB8627:2015に準拠 | AB31: JISB8627:2015 | AC31: ガスヒートポンプ冷暖房機 | AD31: JISB8627:2015に準拠
B32: =VLOOKUP(K32,[5]水準表DB!$E$8:$H$1510,4,FALSE) -> A | C32: =M32 -> ガスヒートポンプ | D32: =M32&O32 -> ガスヒートポンプ発電機付 | E32: =D32&P32 -> ガスヒートポンプ発電機付相当馬力数 | F32: =E32&V32&W32 -> ガスヒートポンプ発電機付相当馬力数-期間成績係数（APFp） | G32: =F32&X32 -> ガスヒートポンプ発電機付相当馬力数-期間成績係数（APFp）標準規格による評価 | H32: =G32&Y32 -> ガスヒートポンプ発電機付相当馬力数-期間成績係数（APFp）標準規格による評価JISB8627:2015 | I32: =H32&AB32 -> ガスヒートポンプ発電機付相当馬力数-期間成績係数（APFp）標準規格による評価JISB8627:2015JISB8627:2015 | K32: S-001027 | L32: 空調機（ヒートポンプ・個別方式） | M32: ガスヒートポンプ | N32: 室外機内のコンプレッサの駆動をガスエンジンで行うヒートポンプ方式の空気調和機。 | O32: 発電機付 | P32: 相当馬力数 | Q32: 7.5HP超10HP以下 | R32: 特別申請 | S32: Oriented | T32: - | V32: - | W32: 期間成績係数（APFp） | X32: 標準規格による評価 | Y32: JISB8627:2015 | Z32: ガスヒートポンプ冷暖房機 | AA32: JISB8627:2015に準拠 | AB32: JISB8627:2015 | AC32: ガスヒートポンプ冷暖房機 | AD32: JISB8627:2015に準拠
B33: =VLOOKUP(K33,[5]水準表DB!$E$8:$H$1510,4,FALSE) -> A | C33: =M33 -> ガスヒートポンプ | D33: =M33&O33 -> ガスヒートポンプ発電機付 | E33: =D33&P33 -> ガスヒートポンプ発電機付相当馬力数 | F33: =E33&V33&W33 -> ガスヒートポンプ発電機付相当馬力数-期間成績係数（APFp） | G33: =F33&X33 -> ガスヒートポンプ発電機付相当馬力数-期間成績係数（APFp）標準規格による評価 | H33: =G33&Y33 -> ガスヒートポンプ発電機付相当馬力数-期間成績係数（APFp）標準規格による評価JISB8627:2015 | I33: =H33&AB33 -> ガスヒートポンプ発電機付相当馬力数-期間成績係数（APFp）標準規格による評価JISB8627:2015JISB8627:2015 | K33: S-001028 | L33: 空調機（ヒートポンプ・個別方式） | M33: ガスヒートポンプ | N33: 室外機内のコンプレッサの駆動をガスエンジンで行うヒートポンプ方式の空気調和機。 | O33: 発電機付 | P33: 相当馬力数 | Q33: 10HP超16HP以下 | R33: 通常申請 | S33: Oriented | T33: 2.09 | V33: - | W33: 期間成績係数（APFp） | X33: 標準規格による評価 | Y33: JISB8627:2015 | Z33: ガスヒートポンプ冷暖房機 | AA33: JISB8627:2015に準拠 | AB33: JISB8627:2015 | AC33: ガスヒートポンプ冷暖房機 | AD33: JISB8627:2015に準拠
B34: =VLOOKUP(K34,[5]水準表DB!$E$8:$H$1510,4,FALSE) -> A | C34: =M34 -> ガスヒートポンプ | D34: =M34&O34 -> ガスヒートポンプ発電機付 | E34: =D34&P34 -> ガスヒートポンプ発電機付相当馬力数 | F34: =E34&V34&W34 -> ガスヒートポンプ発電機付相当馬力数-期間成績係数（APFp） | G34: =F34&X34 -> ガスヒートポンプ発電機付相当馬力数-期間成績係数（APFp）標準規格による評価 | H34: =G34&Y34 -> ガスヒートポンプ発電機付相当馬力数-期間成績係数（APFp）標準規格による評価JISB8627:2015 | I34: =H34&AB34 -> ガスヒートポンプ発電機付相当馬力数-期間成績係数（APFp）標準規格による評価JISB8627:2015JISB8627:2015 | K34: S-001029 | L34: 空調機（ヒートポンプ・個別方式） | M34: ガスヒートポンプ | N34: 室外機内のコンプレッサの駆動をガスエンジンで行うヒートポンプ方式の空気調和機。 | O34: 発電機付 | P34: 相当馬力数 | Q34: 16HP超25HP以下 | R34: 通常申請または簡易申請 | S34: Oriented | T34: 2.09 | V34: - | W34: 期間成績係数（APFp） | X34: 標準規格による評価 | Y34: JISB8627:2015 | Z34: ガスヒートポンプ冷暖房機 | AA34: JISB8627:2015に準拠 | AB34: JISB8627:2015 | AC34: ガスヒートポンプ冷暖房機 | AD34: JISB8627:2015に準拠
B35: =VLOOKUP(K35,[5]水準表DB!$E$8:$H$1510,4,FALSE) -> A | C35: =M35 -> ガスヒートポンプ | D35: =M35&O35 -> ガスヒートポンプ発電機付 | E35: =D35&P35 -> ガスヒートポンプ発電機付相当馬力数 | F35: =E35&V35&W35 -> ガスヒートポンプ発電機付相当馬力数-期間成績係数（APFp） | G35: =F35&X35 -> ガスヒートポンプ発電機付相当馬力数-期間成績係数（APFp）標準規格による評価 | H35: =G35&Y35 -> ガスヒートポンプ発電機付相当馬力数-期間成績係数（APFp）標準規格による評価JISB8627:2015 | I35: =H35&AB35 -> ガスヒートポンプ発電機付相当馬力数-期間成績係数（APFp）標準規格による評価JISB8627:2015JISB8627:2015 | K35: S-001030 | L35: 空調機（ヒートポンプ・個別方式） | M35: ガスヒートポンプ | N35: 室外機内のコンプレッサの駆動をガスエンジンで行うヒートポンプ方式の空気調和機。 | O35: 発電機付 | P35: 相当馬力数 | Q35: 25HP超 | R35: 通常申請 | S35: Oriented | T35: 1.91 | V35: - | W35: 期間成績係数（APFp） | X35: 標準規格による評価 | Y35: JISB8627:2015 | Z35: ガスヒートポンプ冷暖房機 | AA35: JISB8627:2015に準拠 | AB35: JISB8627:2015 | AC35: ガスヒートポンプ冷暖房機 | AD35: JISB8627:2015に準拠
B36: =VLOOKUP(K36,[5]水準表DB!$E$8:$H$1510,4,FALSE) -> A | C36: =M36 -> パッケージエアコン（店舗･オフィス用） | D36: =M36&O36 -> パッケージエアコン（店舗･オフィス用）- | E36: =D36&P36 -> パッケージエアコン（店舗･オフィス用）-冷房能力 | F36: =E36&V36&W36 -> パッケージエアコン（店舗･オフィス用）-冷房能力-- | G36: =F36&X36 -> パッケージエアコン（店舗･オフィス用）-冷房能力--- | H36: =G36&Y36 -> パッケージエアコン（店舗･オフィス用）-冷房能力---- | I36: =H36&AB36 -> パッケージエアコン（店舗･オフィス用）-冷房能力----- | K36: S-002001 | L36: 空調機（ヒートポンプ・個別方式） | M36: パッケージエアコン（店舗･オフィス用） | N36: 電動圧縮機を用いるヒートポンプ式の空気調和機で、冷房能力が4～28kW程度。主に店舗･オフィス向け。 | O36: - | P36: 冷房能力 | Q36: - | R36: （トップランナー制度規定のため）申請対象外 | T36: - | V36: - | W36: - | X36: - | Y36: - | Z36: - | AA36: - | AB36: - | AC36: - | AD36: -
B37: =VLOOKUP(K37,[5]水準表DB!$E$8:$H$1510,4,FALSE) -> A | C37: =M37 -> パッケージエアコン（設備用） | D37: =M37&O37 -> パッケージエアコン（設備用）- | E37: =D37&P37 -> パッケージエアコン（設備用）-冷房能力 | F37: =E37&V37&W37 -> パッケージエアコン（設備用）-冷房能力-- | G37: =F37&X37 -> パッケージエアコン（設備用）-冷房能力--- | H37: =G37&Y37 -> パッケージエアコン（設備用）-冷房能力---- | I37: =H37&AB37 -> パッケージエアコン（設備用）-冷房能力----- | K37: S-003001 | L37: 空調機（ヒートポンプ・個別方式） | M37: パッケージエアコン（設備用） | N37: 電動圧縮機を用いるヒートポンプ式の空気調和機で、冷房能力が9～140kW程度。主に工場向け。 | O37: - | P37: 冷房能力 | Q37: 28kW以下 | R37: （トップランナー制度規定のため）申請対象外 | T37: - | V37: - | W37: - | X37: - | Y37: - | Z37: - | AA37: - | AB37: - | AC37: - | AD37: -
B38: =VLOOKUP(K38,[5]水準表DB!$E$8:$H$1510,4,FALSE) -> A | C38: =M38 -> パッケージエアコン（設備用） | D38: =M38&O38 -> パッケージエアコン（設備用）- | E38: =D38&P38 -> パッケージエアコン（設備用）-冷房能力 | F38: =E38&V38&W38 -> パッケージエアコン（設備用）-冷房能力-通年エネルギー消費効率（APF） | G38: =F38&X38 -> パッケージエアコン（設備用）-冷房能力-通年エネルギー消費効率（APF）標準規格による評価 | H38: =G38&Y38 -> パッケージエアコン（設備用）-冷房能力-通年エネルギー消費効率（APF）標準規格による評価JISB8616:2015 | I38: =H38&AB38 -> パッケージエアコン（設備用）-冷房能力-通年エネルギー消費効率（APF）標準規格による評価JISB8616:2015JISB8616:2015 | K38: S-003002 | L38: 空調機（ヒートポンプ・個別方式） | M38: パッケージエアコン（設備用） | N38: 電動圧縮機を用いるヒートポンプ式の空気調和機で、冷房能力が9～140kW程度。主に工場向け。 | O38: - | P38: 冷房能力 | Q38: 28kW超 45kW以下 | R38: 通常申請または簡易申請 | T38: 4.2 | V38: - | W38: 通年エネルギー消費効率（APF） | X38: 標準規格による評価 | Y38: JISB8616:2015 | Z38: パッケージエアコンディショナ | AA38: JISB8616:2015に準拠 | AB38: JISB8616:2015 | AC38: パッケージエアコンディショナ | AD38: JISB8616:2015に準拠
B39: =VLOOKUP(K39,[5]水準表DB!$E$8:$H$1510,4,FALSE) -> A | C39: =M39 -> パッケージエアコン（設備用） | D39: =M39&O39 -> パッケージエアコン（設備用）- | E39: =D39&P39 -> パッケージエアコン（設備用）-冷房能力 | F39: =E39&V39&W39 -> パッケージエアコン（設備用）-冷房能力-通年エネルギー消費効率（APF） | G39: =F39&X39 -> パッケージエアコン（設備用）-冷房能力-通年エネルギー消費効率（APF）標準規格による評価 | H39: =G39&Y39 -> パッケージエアコン（設備用）-冷房能力-通年エネルギー消費効率（APF）標準規格による評価JISB8616:2015 | I39: =H39&AB39 -> パッケージエアコン（設備用）-冷房能力-通年エネルギー消費効率（APF）標準規格による評価JISB8616:2015JISB8616:2015 | K39: S-003003 | L39: 空調機（ヒートポンプ・個別方式） | M39: パッケージエアコン（設備用） | N39: 電動圧縮機を用いるヒートポンプ式の空気調和機で、冷房能力が9～140kW程度。主に工場向け。 | O39: - | P39: 冷房能力 | Q39: 45kW超 56kW以下 | R39: 通常申請 | T39: 4.3 | V39: - | W39: 通年エネルギー消費効率（APF） | X39: 標準規格による評価 | Y39: JISB8616:2015 | Z39: パッケージエアコンディショナ | AA39: JISB8616:2015に準拠 | AB39: JISB8616:2015 | AC39: パッケージエアコンディショナ | AD39: JISB8616:2015に準拠
B40: =VLOOKUP(K40,[5]水準表DB!$E$8:$H$1510,4,FALSE) -> A | C40: =M40 -> パッケージエアコン（設備用） | D40: =M40&O40 -> パッケージエアコン（設備用）- | E40: =D40&P40 -> パッケージエアコン（設備用）-冷房能力 | F40: =E40&V40&W40 -> パッケージエアコン（設備用）-冷房能力-通年エネルギー消費効率（APF） | G40: =F40&X40 -> パッケージエアコン（設備用）-冷房能力-通年エネルギー消費効率（APF）標準規格による評価 | H40: =G40&Y40 -> パッケージエアコン（設備用）-冷房能力-通年エネルギー消費効率（APF）標準規格による評価JISB8616:2015 | I40: =H40&AB40 -> パッケージエアコン（設備用）-冷房能力-通年エネルギー消費効率（APF）標準規格による評価JISB8616:2015JISB8616:2015 | K40: S-003004 | L40: 空調機（ヒートポンプ・個別方式） | M40: パッケージエアコン（設備用） | N40: 電動圧縮機を用いるヒートポンプ式の空気調和機で、冷房能力が9～140kW程度。主に工場向け。 | O40: - | P40: 冷房能力 | Q40: 56kW超 80kW以下 | R40: 通常申請 | T40: 4 | V40: - | W40: 通年エネルギー消費効率（APF） | X40: 標準規格による評価 | Y40: JISB8616:2015 | Z40: パッケージエアコンディショナ | AA40: JISB8616:2015に準拠 | AB40: JISB8616:2015 | AC40: パッケージエアコンディショナ | AD40: JISB8616:2015に準拠
B41: =VLOOKUP(K41,[5]水準表DB!$E$8:$H$1510,4,FALSE) -> A | C41: =M41 -> パッケージエアコン（設備用） | D41: =M41&O41 -> パッケージエアコン（設備用）- | E41: =D41&P41 -> パッケージエアコン（設備用）-冷房能力 | F41: =E41&V41&W41 -> パッケージエアコン（設備用）-冷房能力-通年エネルギー消費効率（APF） | G41: =F41&X41 -> パッケージエアコン（設備用）-冷房能力-通年エネルギー消費効率（APF）標準規格による評価 | H41: =G41&Y41 -> パッケージエアコン（設備用）-冷房能力-通年エネルギー消費効率（APF）標準規格による評価JISB8616:2015 | I41: =H41&AB41 -> パッケージエアコン（設備用）-冷房能力-通年エネルギー消費効率（APF）標準規格による評価JISB8616:2015JISB8616:2015 | K41: S-003005 | L41: 空調機（ヒートポンプ・個別方式） | M41: パッケージエアコン（設備用） | N41: 電動圧縮機を用いるヒートポンプ式の空気調和機で、冷房能力が9～140kW程度。主に工場向け。 | O41: - | P41: 冷房能力 | Q41: 80kW超 112kW以下 | R41: 通常申請 | T41: 3.7 | V41: - | W41: 通年エネルギー消費効率（APF） | X41: 標準規格による評価 | Y41: JISB8616:2015 | Z41: パッケージエアコンディショナ | AA41: JISB8616:2015に準拠 | AB41: JISB8616:2015 | AC41: パッケージエアコンディショナ | AD41: JISB8616:2015に準拠
B42: =VLOOKUP(K42,[5]水準表DB!$E$8:$H$1510,4,FALSE) -> A | C42: =M42 -> パッケージエアコン（設備用） | D42: =M42&O42 -> パッケージエアコン（設備用）- | E42: =D42&P42 -> パッケージエアコン（設備用）-冷房能力 | F42: =E42&V42&W42 -> パッケージエアコン（設備用）-冷房能力-通年エネルギー消費効率（APF） | G42: =F42&X42 -> パッケージエアコン（設備用）-冷房能力-通年エネルギー消費効率（APF）標準規格による評価 | H42: =G42&Y42 -> パッケージエアコン（設備用）-冷房能力-通年エネルギー消費効率（APF）標準規格による評価JISB8616:2015 | I42: =H42&AB42 -> パッケージエアコン（設備用）-冷房能力-通年エネルギー消費効率（APF）標準規格による評価JISB8616:2015JISB8616:2015 | K42: S-003006 | L42: 空調機（ヒートポンプ・個別方式） | M42: パッケージエアコン（設備用） | N42: 電動圧縮機を用いるヒートポンプ式の空気調和機で、冷房能力が9～140kW程度。主に工場向け。 | O42: - | P42: 冷房能力 | Q42: 112kW超 140kW以下 | R42: 通常申請 | T42: 3.8 | V42: - | W42: 通年エネルギー消費効率（APF） | X42: 標準規格による評価 | Y42: JISB8616:2015 | Z42: パッケージエアコンディショナ | AA42: JISB8616:2015に準拠 | AB42: JISB8616:2015 | AC42: パッケージエアコンディショナ | AD42: JISB8616:2015に準拠
...

Sheet 水準表_別紙
C1: 別紙
C3: No. | D3: 設備・機器等 | E3: クラス | G3: LD-Tech水準 | H3: 備 考
E5: 条件 | F5: 能力
C6: S-092001 | D6: BEMS（制御サービス・空調・熱源・中央方式） | E6: 空気熱源仕様 | F6: - | G6: 下記の①～⑤の条件を満たすBEMSサービスであること。 ①冷水負荷熱量、冷水出口温度、外気温度、熱源機エネルギー消費量、冷水ポンプエネルギー消費量を計測できる機能を保有 ②上記①の計測粒度が1分単位以内であること ③冷水負荷熱量、冷水出口温度、外気温度、を説明変数として、合計のエネルギー消費量（熱源機エネルギー消費量、冷水ポンプエネルギー消費量の合計）が最小となるような冷水出口温度を（過去の実績データに基づいて）自動で算出できる機能を保有 ④上記の算出結果に基づいて冷水出口温度を自動制御できる機能を保有 ⑤導入可能な施設が、限定されない | H6: 複数の設備・機器等及び事業者にまたがりサービスが提供されるケースが存在するため、「BEMSサービス」を認証単位とした。その上で、審査・認証の実現可能性の観点から「具備機能による評価」を行うこととした。 事例調査の結果、BEMSサービスには、情報提供サービス及び制御サービスが存在するが、中でも提供件数の最も多い中央方式の空調機を対象とした制御サービスを認証対象として設定した。 文献調査及び企業・有識者へのヒアリングに基づき、サービスにおいて求められる機能要件は、下記の通りとし、本リストでは下記の「要件0」及び「要件1」に基づいて水準を設定している。 要件0（必須）：導入可能な施設が限定されない 要件1：セントラル空調システム全体のエネルギー消費量が最小となる負荷熱量を自動で算出し、それに基づいて自動的にシステムを制御可能
C7: S-092002 | D7: BEMS（制御サービス・空調・熱源・中央方式） | E7: 水熱源仕様 | F7: - | G7: 下記の①～⑤の条件を満たすBEMSサービスであること。 ①冷水負荷熱量、冷水出口温度、冷却水入口温度、外気温度、熱源機エネルギー消費量、熱源補機エネルギー消費量、冷水ポンプエネルギー消費量、冷却水ポンプエネルギー消費量を計測できる機能を保有 ②上記①の計測粒度が1分単位以内であること ③冷水負荷熱量、冷水出口温度、冷却水入口温度、外気温度を説明変数として、合計のエネルギー消費量（熱源機エネルギー消費量、熱源補機エネルギー消費量、冷水ポンプエネルギー消費量、冷却水ポンプエネルギー消費量の合計）が最小となるような冷水出口温度を（過去の実績データに基づいて）自動で算出できる機能を保有 ④上記③の算出結果に基づいて冷水出口温度を自動制御できる機能を保有 ⑤導入可能な施設が、限定されない | H7: 複数の設備・機器等及び事業者にまたがりサービスが提供されるケースが存在するため、「BEMSサービス」を認証単位とした。その上で、審査・認証の実現可能性の観点から「具備機能による評価」を行うこととした。 事例調査の結果、BEMSサービスには、情報提供サービス及び制御サービスが存在するが、中でも提供件数の最も多い中央方式の空調機を対象とした制御サービスを認証対象として設定した。 文献調査及び企業・有識者へのヒアリングに基づき、サービスにおいて求められる機能要件は、下記の通りとし、本リストでは下記の「要件0」及び「要件1」に基づいて水準を設定している。 要件0（必須）：導入可能な施設が限定されない 要件1：セントラル空調システム全体のエネルギー消費量が最小となる負荷熱量を自動で算出し、それに基づいて自動的にシステムを制御可能
C8: S-092003 | D8: BEMS（制御サービス・空調・熱源・中央方式） | E8: 複合熱源仕様 | F8: - | G8: 下記の①～⑦の条件を満たすBEMSサービスであること。 ①冷熱負荷熱量、温熱負荷熱量を計測または算出できる機能を保有 ②外気温湿度の計測・過去実績・予測データを利用できる機能を保有 ③熱源機の冷温水設定温度、冷温水出口・入口温度、冷温水流量、熱源機・補器類消費電力を計測できる機能を保有 ④上記①～③の計測粒度が１分単位以内であるか、計測データによっては、補間して１分単位以内のデータにできること ⑤冷熱負荷熱量、温熱負荷熱量、外気温湿度の計測・過去実績・予測データ、熱源機の冷温水設定温度、冷温水出口・入口温度、冷温水流量を説明変数として、合計のエネルギー（熱源機エネルギー消費量、補機類エネルギー消費量）が最少となるような、各熱源機の熱負荷処理配分、各機器の設定値、運転モードを自動で算出できる機能を保有 ⑥上記⑤の算出結果に基づいて自動制御できる機能を保有 ⑦導入可能な施設が、限定されない | H8: 複数の設備・機器等及び事業者にまたがりサービスが提供されるケースが存在するため、「BEMSサービス」を認証単位とした。その上で、審査・認証の実現可能性の観点から「具備機能による評価」を行うこととした。 事例調査の結果、BEMSサービスには、情報提供サービス及び制御サービスが存在するが、中でも提供件数の最も多い中央方式の空調機を対象とした制御サービスを認証対象として設定した。 文献調査及び企業・有識者へのヒアリングに基づき、サービスにおいて求められる機能要件は、下記の通りとし、本リストでは下記の「要件0」及び「要件1」に基づいて水準を設定している。 要件0（必須）：導入可能な施設が限定されない 要件1：セントラル空調システム全体のエネルギー消費量が最小となる負荷熱量を自動で算出し、それに基づいて自動的にシステムを制御可能
C9: S-268001 | D9: BEMS（制御サービス・空調・熱源・個別方式・中央方式併用） | E9: - | F9: - | G9: 下記の①～⑨の条件を満たすBEMSサービスであること。 ①外気温湿度の計測・過去実績・予測データを利用できる機能を保有 ②室内における冷熱負荷熱量、温熱負荷熱量を計測または算出できる機能を有し、それを潜熱負荷、顕熱負荷に分けることができる機能を保有 ③中央熱源方式にあっては、熱源機の冷温水設定温度、冷温水出口・入口温度、冷温水流量、熱源機、補器類消費電力を計測できる機能を保有 ④空調機及び外調機は、給気温湿度、露点温度、ファン風量、ファン消費電力を計測できる機能を保有 ⑤個別空調方式にあっては、機器の運転モード、設定温度、消費電力を計測できる機能を保有 ⑥上記①～⑤の計測粒度が１分単位以内であるか、計測データによっては、補間して１分単位以内のデータにできること ⑦③～⑤のデータに基づいて、中央熱源方式の熱源機、補器類の消費電力、空調機、外調機の消費電力、個別空調機の消費電力の合計が最小となるような中央熱源方式と個別空調方式の熱負荷配分、各機器の設定値、運転モードを自動で算出できる機能を保有 ⑧上記⑦の算出結果に基づいて自動制御できる機能を保有 ⑨導入可能な施設が、限定されない | H9: 複数の設備・機器等及び事業者にまたがりサービスが提供されるケースが存在するため、「BEMSサービス」を認証単位とした。その上で、審査・認証の実現可能性の観点から「具備機能による評価」を行うこととした。 事例調査の結果、BEMSサービスには、情報提供サービス及び制御サービスが存在するが、中でも提供件数の最も多い中央方式の空調機を対象とした制御サービスを認証対象として設定した。 文献調査及び企業・有識者へのヒアリングに基づき、サービスにおいて求められる機能要件は、下記の通りとし、本リストでは下記の「要件0」及び「要件1」に基づいて水準を設定している。 要件0（必須）：導入可能な施設が限定されない 要件1：セントラル空調システム全体のエネルギー消費量が最小となる負荷熱量を自動で算出し、それに基づいて自動的にシステムを制御可能
C10: S-126001 | D10: 内部熱交換最適化蒸留システム | E10: 蒸留塔が高圧部（濃縮部）と低圧部（回収部）とで物理的に分離しており一体型でないもの | F10: - | G10: 下記の①および②の条件を満たす蒸留システムであること。 ①高圧部と低圧部とで熱交換できる機能を保有 ②蒸留塔内部の熱分布を調整し熱交換率を最適化できる機能を保有 | H10: 本設備・機器等は、個別受注設計生産されるため標準条件（試験条件、計算方法）を設定し、定量評価する方法はそぐわないと判断し、審査・認証の実現可能性の観点から「具備機能による評価」を行うこととした。 文献調査及び企業・有識者へのヒアリングに基づき、本設備・機器等として求められる機能要件をLD-Tech水準とした。
C11: S-186001 | D11: HEMS（情報提供サービス・家電全般） | E11: - | F11: - | G11: 下記の①～⑤の条件を満たすHEMSサービスであること。 ①対象住宅全体の電力消費量を、30分単位以内で計測できる機能を保有 ②上記①において計測したエネルギー消費量と、他住宅で計測したエネルギー消費量を比較し、対象住宅全体のエネルギー消費量のランキング情報を表示できる機能を保有 ③上記②のランキング情報を、対象住宅におけるユーザー属性別※に表示できる機能を保有 ※地域別、間取別、家族構成別の3種いずれも ④導入可能な住宅が、単一の住宅メーカーが供給する住宅に限定されない ⑤導入の際にインターネット接続サービスへの加入が必要な場合、集合住宅向け全戸一括契約型へのサービス加入を前提としない | H11: 複数の設備・機器等及び事業者にまたがりサービスが提供されるケースが存在するため、「HEMSサービス」を認証単位とした。その上で、審査・認証の実現可能性の観点から「具備機能による評価」を行うこととした。 事例調査の結果、HEMSサービスには、情報提供サービス及び制御サービスが存在するが、中でも提供件数の最も多い家電全般を対象とした情報提供サービスを認証対象として設定した。 文献調査及び企業・有識者へのヒアリングに基づき、サービスにおいて求められる機能要件は、下記のいずれかとし、本リストでは「要件0」および「要件3」を対象とし水準を設定している。 要件0（必須）：導入可能な住宅が限定的されていない 要件1：現状のエネルギー消費量に応じて省エネアドバイス、および目標の省エネ量が提供可能 要件2：現状の光熱水道費に応じて節約アドバイス、および目標の節約額を提供可能 要件3：エネルギー消費量が類似している世帯との比較情報の提供が可能 要件4：過去のサービス利用履歴の情報に基づいて、より興味・関心の強い情報の提供が可能 要件5：現状のエネルギー消費量が自身の平均的な消費量と比較して多くなったタイミングで、消費量が多いことを閲覧頻度が多い媒体へPush配信可能

Sheet ⇒水準推移

Sheet L2-Tech
B5: L2-Tech水準表 | M5: クラス整理 | U5: 水準表情報No. | AB5: L2-Tech水準値 | AP5: 水準値変化 | BC5: 認証実績 | BJ5: 認証実績クラス特定
A6: 2020 | B6: 部門1 | C6: 部門2 | D6: 技術分類 | E6: 設備・機器等 | F6: 原理・しくみ | G6: クラス 条件 | H6: クラス 能力（名称） | I6: クラス能力（単位） | J6: 測定単位（名称） | K6: 認証対象 | L6: TR該当 | M6: A | N6: B | O6: C | P6: D | Q6: 製品調査 実施有無 | R6: 更新サイクル | S6: 性能判断基準 | T6: KEY | U6: 2016夏 | V6: 2016冬 | W6: 2017夏 | X6: 2017冬 | Y6: 2018 | Z6: 2019 | AA6: 2020 | AB6: 2016夏 | AC6: 2016冬 | AD6: 2017夏 | AE6: 2017冬 | AF6: 2018 | AG6: 2019 | AH6: 2020素案 | AI6: 2020認証対象 | AJ6: 別紙水準 | AK6: 複層ガラス | AL6: 19認証製品最高値 | AM6: 2020 | AN6: 2021素案 | AO6: 20認証製品最高値 | AP6: 16夏→16冬 | AQ6: 16冬→17夏 | AR6: 17夏→17冬 | AS6: 16夏→17夏 | AT6: 16冬→17冬 | AU6: 17冬→18 | AV6: 18→19 | AW6: 16冬→18 | AX6: 17→19 | AY6: 16冬→19 | AZ6: 19-20 | BA6: 18→20 | BB6: 17冬→20 | BC6: 2016夏 | BD6: 2016冬 | BE6: 2017夏 | BF6: 2017冬 | BG6: 2018 | BH6: 2019 | BI6: 2020 | BJ6: 2020対象外クラス | BK6: 2019-20対象外クラス | BL6: 2018-20対象外クラス
A7: S-005901 | B7: 産業・業務（業種共通） | C7: 空調 | D7: 空調機（ヒートポンプ・個別方式） | E7: ガスヒートポンプ | F7: 室外機内のコンプレッサの駆動をガスエンジンで行うヒートポンプ方式の空気調和機。 | G7: - | H7: 相当馬力数 | I7: 7.5HP以下 | J7: COPp | K7: 通常または簡易 | M7: 1 | O7: 1 | S7: 大 | T7: ガスヒートポンプ-7.5HP以下COPp | U7: S-001778 | V7: S-001778 | W7: S-001778 | X7: S-002139 | Y7: S-003275 | Z7: S-004535 | AA7: S-005901 | AB7: 1.19 | AC7: 1.19 | AD7: 1.19 | AE7: 1.19 | AF7: 1.19 | AG7: 1.19 | AH7: 1.19 | AI7: 通常または簡易 | AJ7: 0 | AK7: 0 | AL7: 1.19 | AM7: 1.19 | AN7: 1.19 | AO7: 1.19 | AP7: なし | AQ7: なし | AR7: なし | AS7: なし | AT7: なし | AU7: なし | AV7: なし | AW7: なし | AX7: なし | AY7: なし | AZ7: なし | BA7: なし | BB7: なし | BC7: あり | BD7: あり | BE7: あり | BF7: あり | BG7: あり | BH7: あり | BI7: あり | BJ7: 0 | BK7: 0 | BL7: 0
A8: S-005902 | B8: 産業・業務（業種共通） | C8: 空調 | D8: 空調機（ヒートポンプ・個別方式） | E8: ガスヒートポンプ | F8: 室外機内のコンプレッサの駆動をガスエンジンで行うヒートポンプ方式の空気調和機。 | G8: - | H8: 相当馬力数 | I8: 7.5HP超10HP以下 | J8: COPp | K8: 通常または簡易 | M8: 1 | O8: 1 | S8: 大 | T8: ガスヒートポンプ-7.5HP超10HP以下COPp | U8: S-001779 | V8: S-001779 | W8: S-001779 | X8: S-002112 | Y8: S-003276 | Z8: S-004536 | AA8: S-005902 | AB8: 1.22 | AC8: 1.22 | AD8: 1.22 | AE8: 1.22 | AF8: 1.22 | AG8: 1.22 | AH8: 1.22 | AI8: 通常または簡易 | AJ8: 0 | AK8: 0 | AL8: 1.22 | AM8: 1.22 | AN8: 1.22 | AO8: 1.22 | AP8: なし | AQ8: なし | AR8: なし | AS8: なし | AT8: なし | AU8: なし | AV8: なし | AW8: なし | AX8: なし | AY8: なし | AZ8: なし | BA8: なし | BB8: なし | BC8: あり | BD8: あり | BE8: あり | BF8: あり | BG8: あり | BH8: あり | BI8: あり | BJ8: 0 | BK8: 0 | BL8: 0
A9: S-005903 | B9: 産業・業務（業種共通） | C9: 空調 | D9: 空調機（ヒートポンプ・個別方式） | E9: ガスヒートポンプ | F9: 室外機内のコンプレッサの駆動をガスエンジンで行うヒートポンプ方式の空気調和機。 | G9: - | H9: 相当馬力数 | I9: 10HP超16HP以下 | J9: COPp | K9: 通常または簡易 | M9: 1 | O9: 1 | S9: 大 | T9: ガスヒートポンプ-10HP超16HP以下COPp | U9: S-001780 | V9: S-001780 | W9: S-001780 | X9: S-002110 | Y9: S-003277 | Z9: S-004537 | AA9: S-005903 | AB9: 1.33 | AC9: 1.33 | AD9: 1.33 | AE9: 1.33 | AF9: 1.33 | AG9: 1.33 | AH9: 1.33 | AI9: 通常または簡易 | AJ9: 0 | AK9: 0 | AL9: 1.33 | AM9: 1.33 | AN9: 1.33 | AO9: 1.33 | AP9: なし | AQ9: なし | AR9: なし | AS9: なし | AT9: なし | AU9: なし | AV9: なし | AW9: なし | AX9: なし | AY9: なし | AZ9: なし | BA9: なし | BB9: なし | BC9: あり | BD9: あり | BE9: あり | BF9: あり | BG9: あり | BH9: あり | BI9: あり | BJ9: 0 | BK9: 0 | BL9: 0
A10: S-005904 | B10: 産業・業務（業種共通） | C10: 空調 | D10: 空調機（ヒートポンプ・個別方式） | E10: ガスヒートポンプ | F10: 室外機内のコンプレッサの駆動をガスエンジンで行うヒートポンプ方式の空気調和機。 | G10: - | H10: 相当馬力数 | I10: 16HP超25HP以下 | J10: COPp | K10: 通常または簡易 | M10: 1 | O10: 1 | S10: 大 | T10: ガスヒートポンプ-16HP超25HP以下COPp | U10: S-001781 | V10: S-001781 | W10: S-001781 | X10: S-002150 | Y10: S-003278 | Z10: S-004538 | AA10: S-005904 | AB10: 1.34 | AC10: 1.34 | AD10: 1.34 | AE10: 1.34 | AF10: 1.34 | AG10: 1.34 | AH10: 1.34 | AI10: 通常または簡易 | AJ10: 0 | AK10: 0 | AL10: 1.34 | AM10: 1.34 | AN10: 1.34 | AO10: 1.34 | AP10: なし | AQ10: なし | AR10: なし | AS10: なし | AT10: なし | AU10: なし | AV10: なし | AW10: なし | AX10: なし | AY10: なし | AZ10: なし | BA10: なし | BB10: なし | BC10: あり | BD10: あり | BE10: あり | BF10: あり | BG10: あり | BH10: あり | BI10: あり | BJ10: 0 | BK10: 0 | BL10: 0
A11: S-005905 | B11: 産業・業務（業種共通） | C11: 空調 | D11: 空調機（ヒートポンプ・個別方式） | E11: ガスヒートポンプ | F11: 室外機内のコンプレッサの駆動をガスエンジンで行うヒートポンプ方式の空気調和機。 | G11: - | H11: 相当馬力数 | I11: 25HP超 | J11: COPp | K11: 通常または簡易 | M11: 1 | O11: 1 | S11: 大 | T11: ガスヒートポンプ-25HP超COPp | U11: S-001782 | V11: S-001782 | W11: S-001782 | X11: S-002115 | Y11: S-003279 | Z11: S-004539 | AA11: S-005905 | AB11: 1.3 | AC11: 1.3 | AD11: 1.3 | AE11: 1.3 | AF11: 1.3 | AG11: 1.3 | AH11: 1.3 | AI11: 通常または簡易 | AJ11: 0 | AK11: 0 | AL11: 1.3 | AM11: 1.3 | AN11: 1.3 | AO11: 1.3 | AP11: なし | AQ11: なし | AR11: なし | AS11: なし | AT11: なし | AU11: なし | AV11: なし | AW11: なし | AX11: なし | AY11: なし | AZ11: なし | BA11: なし | BB11: なし | BC11: あり | BD11: あり | BE11: あり | BF11: あり | BG11: あり | BH11: あり | BI11: あり | BJ11: 0 | BK11: 0 | BL11: 0
