{"text_format":"1","workbook":"xlsx","n_sheets":70,"sheets":["1 フローチャート","2-1 設備条件シート","2-2 運転条件シート","2-3 貯湯量確認シート","3 効果算定シート","3の効果算定シートの裏","4 平均効率計算シート","4の複数ボイラの平均効率算出方法の裏","たたき台　5 ヒートポンプ更新シート","たたき台　5のヒートポンプ更新シートの裏","燃料データ_新","改訂日","計算シート","データ集","データ集②","入水温度回帰式データ","係数表","燃料データ_旧","資料１.","寒冷地(γ既定値)","温暖地(γ個別入力)","寒冷地(γ個別入力)","γ一覧表","札幌","青森","盛岡","仙台","秋田","山形","福島","水戸","宇都宮","前橋","さいたま","千葉","東京","横浜","新潟","富山","金沢","福井","甲府","長野","岐阜","静岡","名古屋","津","大津","京都","大阪","神戸","奈良","和歌山","鳥取","松江","岡山","広島","山口","徳島","高松","松山","高知","福岡","佐賀","長崎","熊本","大分","宮崎","鹿児島","那覇"],"not_rendered":{"charts":0,"images":3,"macros":1,"external_links":1,"defined_names":81,"comments":0,"pivot_tables":0},"unopened":[],"bounds":{"document_bytes":16777216,"sheet_cells":100000,"rows_first":2000,"rows_last":500,"rows_between":2000,"halvings":0,"cell_chars":16384,"cell_head_chars":4096},"cells_cut":0,"cells_raw":0,"read":"whole","date_system":"1900"}

{"sheet":"1 フローチャート","index":0,"n_rows":62,"n_cols":16,"rows_kept":62,"cut":false,"hidden":false,"merged":[[0,0,0,10]]}
[]
[]
[]
[]
[]
[]
[null,null,null,null,null,null," "]
[]
[]
[]
[null,null,null,null,null,null,null,null,null,null,null,null,null,null,null," "]
[]
[]
[]
[]
[]
[]
[]
[]
[]
[]
[]
[]
[]
[]
[]
[]
[]
[]
[]
[]
[]
[]
[]
[]
[]
[]
[]
[]
[]
[]
[]
[]
[]
[]
[]
[]
[]
[]
[]
[]
[]
[]
[]
[]
[]
[]
[]
[]
[]
[]
[null,"（※別シート【2-1 設備条件シート】【2-2 運転条件シート】へ入力）",null,null,null,null,null,null,null,"（※CO2削減対策の効果算定ガイドライン等）"]

{"sheet":"2-1 設備条件シート","index":1,"n_rows":25,"n_cols":15,"rows_kept":25,"cut":false,"hidden":false,"merged":[[19,4,19,12],[20,4,20,12],[2,12,3,13],[18,3,19,3],[4,2,5,13],[7,11,8,12],[9,11,10,12],[11,11,12,12],[15,10,16,10],[15,4,16,9],[15,11,16,12],[18,4,18,13],[7,10,8,10],[7,4,8,9],[11,4,12,9],[13,4,14,9],[7,3,10,3],[11,3,12,3],[13,3,14,3],[15,3,16,3],[2,4,3,11],[2,2,3,3],[13,10,14,10],[9,10,10,10],[11,10,12,10],[9,4,10,9],[13,11,14,12]]}
[]
[]
[null,null,null,null,"給湯年間活動量算定ツール（EHP版）",null,null,null,null,null,null,null,"Ver. 1.1.2"]
[]
[null,null,"ヒートポンプ給湯装置の年間電力使用量の算定"]
[]
[]
[null,null,null,null,"給湯ヒートポンプを設置する都道府県を選択",null,null,null,null,null,"選択"]
[]
[null,null,null,null,"選択した都道府県庁所在地",null,null,null,null,null,"自動表示",{"$f":"IF($L$8=\"\",\"\",VLOOKUP($L$8,γ一覧表!$C$3:$F$50,2,FALSE))","v":""}]
[]
[null,null,null,1,"給湯ヒートポンプを導入する建物用途を選択",null,null,null,null,null,"選択"]
[]
[null,null,null,2,"導入予定の給湯ヒートポンプの給湯方式を選択",null,null,null,null,null,"選択"]
[]
[null,null,null,3,"導入予定の給湯ヒートポンプの冷媒種を選択",null,null,null,null,null,"選択",null,null,{"$f":"ROUNDUP($L$16,1)","v":0}]
[]
[]
[null,null,null,"注意事項","● 本ツールは、設備更新の効果を簡易的に把握するために開発されたものであり、他の目的に利用することは想定されていません。"]
[null,null,null,null,"● あらゆる入力に対して正しい計算結果が得られることを保証するものではありません。"]
[null,null,null,null,"    計算結果の取り扱いについては、自己責任でお願いします。"]
[]
[]
[]
[null,null,null,null,null,null,null,null,null,null,null,null,null,null,{"$f":"IF($L$8=\"\",\"\",\"\")","v":""}]

{"sheet":"2-2 運転条件シート","index":2,"n_rows":143,"n_cols":47,"rows_kept":143,"cut":false,"hidden":false,"merged":[[46,33,46,35],[47,33,47,35],[48,33,48,35],[26,34,29,35],[30,34,31,35],[40,34,40,35],[40,29,40,30],[48,31,48,32],[44,33,44,35],[45,33,45,35],[35,32,35,33],[35,34,36,35],[36,32,36,33],[37,34,37,35],[38,32,38,33],[38,34,39,35],[39,32,39,33],[37,29,37,30],[38,29,39,30],[35,29,36,30],[81,2,82,2],[81,27,82,27],[43,31,43,32],[43,33,43,35],[39,18,39,19],[28,13,28,15],[28,16,28,17],[27,12,27,18],[29,12,30,12],[29,13,30,15],[31,6,31,7],[49,2,50,2],[65,27,66,27],[45,31,45,32],[46,31,46,32],[47,31,47,32],[49,27,50,27],[65,2,66,2],[44,31,44,32],[29,6,30,7],[29,19,30,19],[29,18,30,18],[29,9,29,11],[39,2,39,3],[1,2,1,3],[2,2,2,3],[3,2,3,3],[4,2,4,3],[5,2,5,3],[31,13,31,15],[31,16,31,17],[27,2,31,5],[29,16,30,17],[30,9,30,11],[31,8,31,11],[39,4,39,5],[35,4,35,5],[35,2,35,3],[11,30,11,31],[15,30,15,31],[26,21,26,30],[29,28,30,28],[37,21,38,22],[37,23,38,23],[37,24,38,24],[37,25,38,25],[19,30,19,31],[20,30,20,31],[39,21,40,22],[39,23,40,23],[39,24,40,24],[39,25,40,25],[29,21,29,27],[30,21,30,27],[21,30,21,31],[16,30,16,31],[17,30,17,31],[18,30,18,31],[39,27,39,28],[38,18,38,19],[35,18,35,19],[13,30,13,31],[14,30,14,31],[36,2,36,3],[7,31,7,33],[35,21,36,22],[35,23,36,23],[35,24,36,24],[35,25,36,25],[12,30,12,31],[27,21,28,23],[29,30,30,30],[8,30,8,31],[9,30,9,31],[10,30,10,31],[38,2,38,3],[36,18,36,19],[38,4,38,5],[36,4,36,5],[35,27,35,28],[36,27,36,28],[38,27,38,28],[26,36,31,38],[6,31,6,33],[28,9,28,11],[26,8,26,19],[27,8,27,11],[27,6,27,7],[28,6,28,7],[26,2,26,7],[27,24,28,29]]}
[]
[null,null,"給湯HPの設置場所"]
[null,null,{"$f":"IF('2-1 設備条件シート'!L8=\"\",\"\",'2-1 設備条件シート'!L8)","v":""},null,null,"手順1：給湯ヒートポンプを使用する月、時間を下記の指定の色で塗る(指定の色以外で塗ると計算できません。)",null,null,null,null,null,null,null,null,null,null,null,null,null,null,null,null,null,null,null,null,null,null,null,null,null,null,"自動表示"]
[null,null,{"$f":"VLOOKUP($C$3,γ一覧表!$C$3:$E$50,2,FALSE)","v":{"$error":"#N/A"}},null,null,null,"オレンジ","【左から6番目、一番薄い色(アクセント2,白＋基本色80％)】",null,null,null,null,null,null,null,null,null,null,null,null,null,null,null,null,null,null,null,null,null,null,null,null,"選択"]
[null,null,"使用するγ値",null,null,"手順2：各月の運転日数を入力する",null,null,null,null,null,null,null,null,null,null,null,null,null,null,null,null,null,null,null,null,null,null,null,null,null,null,"入力"]
[null,null,{"$f":"IFERROR(VLOOKUP($C$3,γ一覧表!$C$3:$D$50,2,FALSE),\"\")","v":""},null,null,"手順3：Ctrl + Alt + F9を同時に押す",null,null,null,null,null,null," ",null,null,null,null,null,null,null,null,null,null,null,null,null,null,null,null,null,null,null,null,"Ver. 1.1.2"]
[null,null,null,null,null,"手順4：黄色のセルに値を入力する(青は自動計算)",null,null,null,null,null,null,null,null,null,null,null,null,null,null,null,null,null,null,null,null,"  ",null,null,null,"用途",{"$f":"'2-1 設備条件シート'!L14","v":0}]
[null,null,"(1) 時刻別平均気温 T1[℃]",null,null,null,null,null,null,null,null,null,null,null,null,null,null,null,null,null,null,null,null,null,null,null,null,null,null,null,"冷媒",{"$f":"'2-1 設備条件シート'!L16","v":0}]
[null,null,null," 時刻",null,null,null,null,null,null,null,null,null,null,null,null,null,null,null,null,null,null,null,null,null,null,null,null,null,null,"月別入水温度θ",null,"月別能力","焚上温度"]
[null,null,"月",0,1,2,3,4,5,6,7,8,9,10,11,12,13,14,15,16,17,18,19,20,21,22,23,"運転日数","月","季節","T3 [℃]",null,"Qm［kW］","T2 [℃]"]
[null,null,4,{"$f":"IFERROR(INDIRECT($C$4&\"!B5\"),\"\")","v":""},{"$f":"IFERROR(INDIRECT($C$4&\"!C5\"),\"\")","v":""},{"$f":"IFERROR(INDIRECT($C$4&\"!D5\"),\"\")","v":""},{"$f":"IFERROR(INDIRECT($C$4&\"!E5\"),\"\")","v":""},{"$f":"IFERROR(INDIRECT($C$4&\"!F5\"),\"\")","v":""},{"$f":"IFERROR(INDIRECT($C$4&\"!G5\"),\"\")","v":""},{"$f":"IFERROR(INDIRECT($C$4&\"!H5\"),\"\")","v":""},{"$f":"IFERROR(INDIRECT($C$4&\"!I5\"),\"\")","v":""},{"$f":"IFERROR(INDIRECT($C$4&\"!J5\"),\"\")","v":""},{"$f":"IFERROR(INDIRECT($C$4&\"!K5\"),\"\")","v":""},{"$f":"IFERROR(INDIRECT($C$4&\"!L5\"),\"\")","v":""},{"$f":"IFERROR(INDIRECT($C$4&\"!M5\"),\"\")","v":""},{"$f":"IFERROR(INDIRECT($C$4&\"!N5\"),\"\")","v":""},{"$f":"IFERROR(INDIRECT($C$4&\"!O5\"),\"\")","v":""},{"$f":"IFERROR(INDIRECT($C$4&\"!P5\"),\"\")","v":""},{"$f":"IFERROR(INDIRECT($C$4&\"!Q5\"),\"\")","v":""},{"$f":"IFERROR(INDIRECT($C$4&\"!R5\"),\"\")","v":""},{"$f":"IFERROR(INDIRECT($C$4&\"!S5\"),\"\")","v":""},{"$f":"IFERROR(INDIRECT($C$4&\"!T5\"),\"\")","v":""},{"$f":"IFERROR(INDIRECT($C$4&\"!U5\"),\"\")","v":""},{"$f":"IFERROR(INDIRECT($C$4&\"!V5\"),\"\")","v":""},{"$f":"IFERROR(INDIRECT($C$4&\"!W5\"),\"\")","v":""},{"$f":"IFERROR(INDIRECT($C$4&\"!X5\"),\"\")","v":""},{"$f":"IFERROR(INDIRECT($C$4&\"!Y5\"),\"\")","v":""},null,4,{"$f":"データ集②!D6","v":""},{"$f":"IFERROR(計算シート!E13,\"\")","v":""}]
[null,null,5,{"$f":"IFERROR(INDIRECT($C$4&\"!B6\"),\"\")","v":""},{"$f":"IFERROR(INDIRECT($C$4&\"!C6\"),\"\")","v":""},{"$f":"IFERROR(INDIRECT($C$4&\"!D6\"),\"\")","v":""},{"$f":"IFERROR(INDIRECT($C$4&\"!E6\"),\"\")","v":""},{"$f":"IFERROR(INDIRECT($C$4&\"!F6\"),\"\")","v":""},{"$f":"IFERROR(INDIRECT($C$4&\"!G6\"),\"\")","v":""},{"$f":"IFERROR(INDIRECT($C$4&\"!H6\"),\"\")","v":""},{"$f":"IFERROR(INDIRECT($C$4&\"!I6\"),\"\")","v":""},{"$f":"IFERROR(INDIRECT($C$4&\"!J6\"),\"\")","v":""},{"$f":"IFERROR(INDIRECT($C$4&\"!K6\"),\"\")","v":""},{"$f":"IFERROR(INDIRECT($C$4&\"!L6\"),\"\")","v":""},{"$f":"IFERROR(INDIRECT($C$4&\"!M6\"),\"\")","v":""},{"$f":"IFERROR(INDIRECT($C$4&\"!N6\"),\"\")","v":""},{"$f":"IFERROR(INDIRECT($C$4&\"!O6\"),\"\")","v":""},{"$f":"IFERROR(INDIRECT($C$4&\"!P6\"),\"\")","v":""},{"$f":"IFERROR(INDIRECT($C$4&\"!Q6\"),\"\")","v":""},{"$f":"IFERROR(INDIRECT($C$4&\"!R6\"),\"\")","v":""},{"$f":"IFERROR(INDIRECT($C$4&\"!S6\"),\"\")","v":""},{"$f":"IFERROR(INDIRECT($C$4&\"!T6\"),\"\")","v":""},{"$f":"IFERROR(INDIRECT($C$4&\"!U6\"),\"\")","v":""},{"$f":"IFERROR(INDIRECT($C$4&\"!V6\"),\"\")","v":""},{"$f":"IFERROR(INDIRECT($C$4&\"!W6\"),\"\")","v":""},{"$f":"IFERROR(INDIRECT($C$4&\"!X6\"),\"\")","v":""},{"$f":"IFERROR(INDIRECT($C$4&\"!Y6\"),\"\")","v":""},null,5,{"$f":"データ集②!E6","v":""},{"$f":"IFERROR(計算シート!M13,\"\")","v":""}]
[null,null,6,{"$f":"IFERROR(INDIRECT($C$4&\"!B7\"),\"\")","v":""},{"$f":"IFERROR(INDIRECT($C$4&\"!C7\"),\"\")","v":""},{"$f":"IFERROR(INDIRECT($C$4&\"!D7\"),\"\")","v":""},{"$f":"IFERROR(INDIRECT($C$4&\"!E7\"),\"\")","v":""},{"$f":"IFERROR(INDIRECT($C$4&\"!F7\"),\"\")","v":""},{"$f":"IFERROR(INDIRECT($C$4&\"!G7\"),\"\")","v":""},{"$f":"IFERROR(INDIRECT($C$4&\"!H7\"),\"\")","v":""},{"$f":"IFERROR(INDIRECT($C$4&\"!I7\"),\"\")","v":""},{"$f":"IFERROR(INDIRECT($C$4&\"!J7\"),\"\")","v":""},{"$f":"IFERROR(INDIRECT($C$4&\"!K7\"),\"\")","v":""},{"$f":"IFERROR(INDIRECT($C$4&\"!L7\"),\"\")","v":""},{"$f":"IFERROR(INDIRECT($C$4&\"!M7\"),\"\")","v":""},{"$f":"IFERROR(INDIRECT($C$4&\"!N7\"),\"\")","v":""},{"$f":"IFERROR(INDIRECT($C$4&\"!O7\"),\"\")","v":""},{"$f":"IFERROR(INDIRECT($C$4&\"!P7\"),\"\")","v":""},{"$f":"IFERROR(INDIRECT($C$4&\"!Q7\"),\"\")","v":""},{"$f":"IFERROR(INDIRECT($C$4&\"!R7\"),\"\")","v":""},{"$f":"IFERROR(INDIRECT($C$4&\"!S7\"),\"\")","v":""},{"$f":"IFERROR(INDIRECT($C$4&\"!T7\"),\"\")","v":""},{"$f":"IFERROR(INDIRECT($C$4&\"!U7\"),\"\")","v":""},{"$f":"IFERROR(INDIRECT($C$4&\"!V7\"),\"\")","v":""},{"$f":"IFERROR(INDIRECT($C$4&\"!W7\"),\"\")","v":""},{"$f":"IFERROR(INDIRECT($C$4&\"!X7\"),\"\")","v":""},{"$f":"IFERROR(INDIRECT($C$4&\"!Y7\"),\"\")","v":""},null,6,{"$f":"データ集②!F6","v":""},{"$f":"IFERROR(計算シート!T13,\"\")","v":""}]
[null,null,7,{"$f":"IFERROR(INDIRECT($C$4&\"!B8\"),\"\")","v":""},{"$f":"IFERROR(INDIRECT($C$4&\"!C8\"),\"\")","v":""},{"$f":"IFERROR(INDIRECT($C$4&\"!D8\"),\"\")","v":""},{"$f":"IFERROR(INDIRECT($C$4&\"!E8\"),\"\")","v":""},{"$f":"IFERROR(INDIRECT($C$4&\"!F8\"),\"\")","v":""},{"$f":"IFERROR(INDIRECT($C$4&\"!G8\"),\"\")","v":""},{"$f":"IFERROR(INDIRECT($C$4&\"!H8\"),\"\")","v":""},{"$f":"IFERROR(INDIRECT($C$4&\"!I8\"),\"\")","v":""},{"$f":"IFERROR(INDIRECT($C$4&\"!J8\"),\"\")","v":""},{"$f":"IFERROR(INDIRECT($C$4&\"!K8\"),\"\")","v":""},{"$f":"IFERROR(INDIRECT($C$4&\"!L8\"),\"\")","v":""},{"$f":"IFERROR(INDIRECT($C$4&\"!M8\"),\"\")","v":""},{"$f":"IFERROR(INDIRECT($C$4&\"!N8\"),\"\")","v":""},{"$f":"IFERROR(INDIRECT($C$4&\"!O8\"),\"\")","v":""},{"$f":"IFERROR(INDIRECT($C$4&\"!P8\"),\"\")","v":""},{"$f":"IFERROR(INDIRECT($C$4&\"!Q8\"),\"\")","v":""},{"$f":"IFERROR(INDIRECT($C$4&\"!R8\"),\"\")","v":""},{"$f":"IFERROR(INDIRECT($C$4&\"!S8\"),\"\")","v":""},{"$f":"IFERROR(INDIRECT($C$4&\"!T8\"),\"\")","v":""},{"$f":"IFERROR(INDIRECT($C$4&\"!U8\"),\"\")","v":""},{"$f":"IFERROR(INDIRECT($C$4&\"!V8\"),\"\")","v":""},{"$f":"IFERROR(INDIRECT($C$4&\"!W8\"),\"\")","v":""},{"$f":"IFERROR(INDIRECT($C$4&\"!X8\"),\"\")","v":""},{"$f":"IFERROR(INDIRECT($C$4&\"!Y8\"),\"\")","v":""},null,7,{"$f":"データ集②!G6","v":""},{"$f":"IFERROR(計算シート!AA13,\"\")","v":""}]
[null,null,8,{"$f":"IFERROR(INDIRECT($C$4&\"!B9\"),\"\")","v":""},{"$f":"IFERROR(INDIRECT($C$4&\"!C9\"),\"\")","v":""},{"$f":"IFERROR(INDIRECT($C$4&\"!D9\"),\"\")","v":""},{"$f":"IFERROR(INDIRECT($C$4&\"!E9\"),\"\")","v":""},{"$f":"IFERROR(INDIRECT($C$4&\"!F9\"),\"\")","v":""},{"$f":"IFERROR(INDIRECT($C$4&\"!G9\"),\"\")","v":""},{"$f":"IFERROR(INDIRECT($C$4&\"!H9\"),\"\")","v":""},{"$f":"IFERROR(INDIRECT($C$4&\"!I9\"),\"\")","v":""},{"$f":"IFERROR(INDIRECT($C$4&\"!J9\"),\"\")","v":""},{"$f":"IFERROR(INDIRECT($C$4&\"!K9\"),\"\")","v":""},{"$f":"IFERROR(INDIRECT($C$4&\"!L9\"),\"\")","v":""},{"$f":"IFERROR(INDIRECT($C$4&\"!M9\"),\"\")","v":""},{"$f":"IFERROR(INDIRECT($C$4&\"!N9\"),\"\")","v":""},{"$f":"IFERROR(INDIRECT($C$4&\"!O9\"),\"\")","v":""},{"$f":"IFERROR(INDIRECT($C$4&\"!P9\"),\"\")","v":""},{"$f":"IFERROR(INDIRECT($C$4&\"!Q9\"),\"\")","v":""},{"$f":"IFERROR(INDIRECT($C$4&\"!R9\"),\"\")","v":""},{"$f":"IFERROR(INDIRECT($C$4&\"!S9\"),\"\")","v":""},{"$f":"IFERROR(INDIRECT($C$4&\"!T9\"),\"\")","v":""},{"$f":"IFERROR(INDIRECT($C$4&\"!U9\"),\"\")","v":""},{"$f":"IFERROR(INDIRECT($C$4&\"!V9\"),\"\")","v":""},{"$f":"IFERROR(INDIRECT($C$4&\"!W9\"),\"\")","v":""},{"$f":"IFERROR(INDIRECT($C$4&\"!X9\"),\"\")","v":""},{"$f":"IFERROR(INDIRECT($C$4&\"!Y9\"),\"\")","v":""},null,8,{"$f":"データ集②!H6","v":""},{"$f":"IFERROR(計算シート!AH13,\"\")","v":""}]
[null,null,9,{"$f":"IFERROR(INDIRECT($C$4&\"!B10\"),\"\")","v":""},{"$f":"IFERROR(INDIRECT($C$4&\"!C10\"),\"\")","v":""},{"$f":"IFERROR(INDIRECT($C$4&\"!D10\"),\"\")","v":""},{"$f":"IFERROR(INDIRECT($C$4&\"!E10\"),\"\")","v":""},{"$f":"IFERROR(INDIRECT($C$4&\"!F10\"),\"\")","v":""},{"$f":"IFERROR(INDIRECT($C$4&\"!G10\"),\"\")","v":""},{"$f":"IFERROR(INDIRECT($C$4&\"!H10\"),\"\")","v":""},{"$f":"IFERROR(INDIRECT($C$4&\"!I10\"),\"\")","v":""},{"$f":"IFERROR(INDIRECT($C$4&\"!J10\"),\"\")","v":""},{"$f":"IFERROR(INDIRECT($C$4&\"!K10\"),\"\")","v":""},{"$f":"IFERROR(INDIRECT($C$4&\"!L10\"),\"\")","v":""},{"$f":"IFERROR(INDIRECT($C$4&\"!M10\"),\"\")","v":""},{"$f":"IFERROR(INDIRECT($C$4&\"!N10\"),\"\")","v":""},{"$f":"IFERROR(INDIRECT($C$4&\"!O10\"),\"\")","v":""},{"$f":"IFERROR(INDIRECT($C$4&\"!P10\"),\"\")","v":""},{"$f":"IFERROR(INDIRECT($C$4&\"!Q10\"),\"\")","v":""},{"$f":"IFERROR(INDIRECT($C$4&\"!R10\"),\"\")","v":""},{"$f":"IFERROR(INDIRECT($C$4&\"!S10\"),\"\")","v":""},{"$f":"IFERROR(INDIRECT($C$4&\"!T10\"),\"\")","v":""},{"$f":"IFERROR(INDIRECT($C$4&\"!U10\"),\"\")","v":""},{"$f":"IFERROR(INDIRECT($C$4&\"!V10\"),\"\")","v":""},{"$f":"IFERROR(INDIRECT($C$4&\"!W10\"),\"\")","v":""},{"$f":"IFERROR(INDIRECT($C$4&\"!X10\"),\"\")","v":""},{"$f":"IFERROR(INDIRECT($C$4&\"!Y10\"),\"\")","v":""},null,9,{"$f":"データ集②!I6","v":""},{"$f":"IFERROR(計算シート!AO13,\"\")","v":""}]
[null,null,10,{"$f":"IFERROR(INDIRECT($C$4&\"!B11\"),\"\")","v":""},{"$f":"IFERROR(INDIRECT($C$4&\"!C11\"),\"\")","v":""},{"$f":"IFERROR(INDIRECT($C$4&\"!D11\"),\"\")","v":""},{"$f":"IFERROR(INDIRECT($C$4&\"!E11\"),\"\")","v":""},{"$f":"IFERROR(INDIRECT($C$4&\"!F11\"),\"\")","v":""},{"$f":"IFERROR(INDIRECT($C$4&\"!G11\"),\"\")","v":""},{"$f":"IFERROR(INDIRECT($C$4&\"!H11\"),\"\")","v":""},{"$f":"IFERROR(INDIRECT($C$4&\"!I11\"),\"\")","v":""},{"$f":"IFERROR(INDIRECT($C$4&\"!J11\"),\"\")","v":""},{"$f":"IFERROR(INDIRECT($C$4&\"!K11\"),\"\")","v":""},{"$f":"IFERROR(INDIRECT($C$4&\"!L11\"),\"\")","v":""},{"$f":"IFERROR(INDIRECT($C$4&\"!M11\"),\"\")","v":""},{"$f":"IFERROR(INDIRECT($C$4&\"!N11\"),\"\")","v":""},{"$f":"IFERROR(INDIRECT($C$4&\"!O11\"),\"\")","v":""},{"$f":"IFERROR(INDIRECT($C$4&\"!P11\"),\"\")","v":""},{"$f":"IFERROR(INDIRECT($C$4&\"!Q11\"),\"\")","v":""},{"$f":"IFERROR(INDIRECT($C$4&\"!R11\"),\"\")","v":""},{"$f":"IFERROR(INDIRECT($C$4&\"!S11\"),\"\")","v":""},{"$f":"IFERROR(INDIRECT($C$4&\"!T11\"),\"\")","v":""},{"$f":"IFERROR(INDIRECT($C$4&\"!U11\"),\"\")","v":""},{"$f":"IFERROR(INDIRECT($C$4&\"!V11\"),\"\")","v":""},{"$f":"IFERROR(INDIRECT($C$4&\"!W11\"),\"\")","v":""},{"$f":"IFERROR(INDIRECT($C$4&\"!X11\"),\"\")","v":""},{"$f":"IFERROR(INDIRECT($C$4&\"!Y11\"),\"\")","v":""},null,10,{"$f":"データ集②!J6","v":""},{"$f":"IFERROR(計算シート!AV13,\"\")","v":""}]
[null,null,11,{"$f":"IFERROR(INDIRECT($C$4&\"!B12\"),\"\")","v":""},{"$f":"IFERROR(INDIRECT($C$4&\"!C12\"),\"\")","v":""},{"$f":"IFERROR(INDIRECT($C$4&\"!D12\"),\"\")","v":""},{"$f":"IFERROR(INDIRECT($C$4&\"!E12\"),\"\")","v":""},{"$f":"IFERROR(INDIRECT($C$4&\"!F12\"),\"\")","v":""},{"$f":"IFERROR(INDIRECT($C$4&\"!G12\"),\"\")","v":""},{"$f":"IFERROR(INDIRECT($C$4&\"!H12\"),\"\")","v":""},{"$f":"IFERROR(INDIRECT($C$4&\"!I12\"),\"\")","v":""},{"$f":"IFERROR(INDIRECT($C$4&\"!J12\"),\"\")","v":""},{"$f":"IFERROR(INDIRECT($C$4&\"!K12\"),\"\")","v":""},{"$f":"IFERROR(INDIRECT($C$4&\"!L12\"),\"\")","v":""},{"$f":"IFERROR(INDIRECT($C$4&\"!M12\"),\"\")","v":""},{"$f":"IFERROR(INDIRECT($C$4&\"!N12\"),\"\")","v":""},{"$f":"IFERROR(INDIRECT($C$4&\"!O12\"),\"\")","v":""},{"$f":"IFERROR(INDIRECT($C$4&\"!P12\"),\"\")","v":""},{"$f":"IFERROR(INDIRECT($C$4&\"!Q12\"),\"\")","v":""},{"$f":"IFERROR(INDIRECT($C$4&\"!R12\"),\"\")","v":""},{"$f":"IFERROR(INDIRECT($C$4&\"!S12\"),\"\")","v":""},{"$f":"IFERROR(INDIRECT($C$4&\"!T12\"),\"\")","v":""},{"$f":"IFERROR(INDIRECT($C$4&\"!U12\"),\"\")","v":""},{"$f":"IFERROR(INDIRECT($C$4&\"!V12\"),\"\")","v":""},{"$f":"IFERROR(INDIRECT($C$4&\"!W12\"),\"\")","v":""},{"$f":"IFERROR(INDIRECT($C$4&\"!X12\"),\"\")","v":""},{"$f":"IFERROR(INDIRECT($C$4&\"!Y12\"),\"\")","v":""},null,11,{"$f":"データ集②!K6","v":""},{"$f":"IFERROR(計算シート!BC13,\"\")","v":""}]
[null,null,12,{"$f":"IFERROR(INDIRECT($C$4&\"!B13\"),\"\")","v":""},{"$f":"IFERROR(INDIRECT($C$4&\"!C13\"),\"\")","v":""},{"$f":"IFERROR(INDIRECT($C$4&\"!D13\"),\"\")","v":""},{"$f":"IFERROR(INDIRECT($C$4&\"!E13\"),\"\")","v":""},{"$f":"IFERROR(INDIRECT($C$4&\"!F13\"),\"\")","v":""},{"$f":"IFERROR(INDIRECT($C$4&\"!G13\"),\"\")","v":""},{"$f":"IFERROR(INDIRECT($C$4&\"!H13\"),\"\")","v":""},{"$f":"IFERROR(INDIRECT($C$4&\"!I13\"),\"\")","v":""},{"$f":"IFERROR(INDIRECT($C$4&\"!J13\"),\"\")","v":""},{"$f":"IFERROR(INDIRECT($C$4&\"!K13\"),\"\")","v":""},{"$f":"IFERROR(INDIRECT($C$4&\"!L13\"),\"\")","v":""},{"$f":"IFERROR(INDIRECT($C$4&\"!M13\"),\"\")","v":""},{"$f":"IFERROR(INDIRECT($C$4&\"!N13\"),\"\")","v":""},{"$f":"IFERROR(INDIRECT($C$4&\"!O13\"),\"\")","v":""},{"$f":"IFERROR(INDIRECT($C$4&\"!P13\"),\"\")","v":""},{"$f":"IFERROR(INDIRECT($C$4&\"!Q13\"),\"\")","v":""},{"$f":"IFERROR(INDIRECT($C$4&\"!R13\"),\"\")","v":""},{"$f":"IFERROR(INDIRECT($C$4&\"!S13\"),\"\")","v":""},{"$f":"IFERROR(INDIRECT($C$4&\"!T13\"),\"\")","v":""},{"$f":"IFERROR(INDIRECT($C$4&\"!U13\"),\"\")","v":""},{"$f":"IFERROR(INDIRECT($C$4&\"!V13\"),\"\")","v":""},{"$f":"IFERROR(INDIRECT($C$4&\"!W13\"),\"\")","v":""},{"$f":"IFERROR(INDIRECT($C$4&\"!X13\"),\"\")","v":""},{"$f":"IFERROR(INDIRECT($C$4&\"!Y13\"),\"\")","v":""},null,12,{"$f":"データ集②!L6","v":""},{"$f":"IFERROR(計算シート!BJ13,\"\")","v":""}]
[null,null,1,{"$f":"IFERROR(INDIRECT($C$4&\"!B14\"),\"\")","v":""},{"$f":"IFERROR(INDIRECT($C$4&\"!C14\"),\"\")","v":""},{"$f":"IFERROR(INDIRECT($C$4&\"!D14\"),\"\")","v":""},{"$f":"IFERROR(INDIRECT($C$4&\"!E14\"),\"\")","v":""},{"$f":"IFERROR(INDIRECT($C$4&\"!F14\"),\"\")","v":""},{"$f":"IFERROR(INDIRECT($C$4&\"!G14\"),\"\")","v":""},{"$f":"IFERROR(INDIRECT($C$4&\"!H14\"),\"\")","v":""},{"$f":"IFERROR(INDIRECT($C$4&\"!I14\"),\"\")","v":""},{"$f":"IFERROR(INDIRECT($C$4&\"!J14\"),\"\")","v":""},{"$f":"IFERROR(INDIRECT($C$4&\"!K14\"),\"\")","v":""},{"$f":"IFERROR(INDIRECT($C$4&\"!L14\"),\"\")","v":""},{"$f":"IFERROR(INDIRECT($C$4&\"!M14\"),\"\")","v":""},{"$f":"IFERROR(INDIRECT($C$4&\"!N14\"),\"\")","v":""},{"$f":"IFERROR(INDIRECT($C$4&\"!O14\"),\"\")","v":""},{"$f":"IFERROR(INDIRECT($C$4&\"!P14\"),\"\")","v":""},{"$f":"IFERROR(INDIRECT($C$4&\"!Q14\"),\"\")","v":""},{"$f":"IFERROR(INDIRECT($C$4&\"!R14\"),\"\")","v":""},{"$f":"IFERROR(INDIRECT($C$4&\"!S14\"),\"\")","v":""},{"$f":"IFERROR(INDIRECT($C$4&\"!T14\"),\"\")","v":""},{"$f":"IFERROR(INDIRECT($C$4&\"!U14\"),\"\")","v":""},{"$f":"IFERROR(INDIRECT($C$4&\"!V14\"),\"\")","v":""},{"$f":"IFERROR(INDIRECT($C$4&\"!W14\"),\"\")","v":""},{"$f":"IFERROR(INDIRECT($C$4&\"!X14\"),\"\")","v":""},{"$f":"IFERROR(INDIRECT($C$4&\"!Y14\"),\"\")","v":""},null,1,{"$f":"データ集②!M6","v":""},{"$f":"IFERROR(計算シート!BQ13,\"\")","v":""}]
[null,null,2,{"$f":"IFERROR(INDIRECT($C$4&\"!B15\"),\"\")","v":""},{"$f":"IFERROR(INDIRECT($C$4&\"!C15\"),\"\")","v":""},{"$f":"IFERROR(INDIRECT($C$4&\"!D15\"),\"\")","v":""},{"$f":"IFERROR(INDIRECT($C$4&\"!E15\"),\"\")","v":""},{"$f":"IFERROR(INDIRECT($C$4&\"!F15\"),\"\")","v":""},{"$f":"IFERROR(INDIRECT($C$4&\"!G15\"),\"\")","v":""},{"$f":"IFERROR(INDIRECT($C$4&\"!H15\"),\"\")","v":""},{"$f":"IFERROR(INDIRECT($C$4&\"!I15\"),\"\")","v":""},{"$f":"IFERROR(INDIRECT($C$4&\"!J15\"),\"\")","v":""},{"$f":"IFERROR(INDIRECT($C$4&\"!K15\"),\"\")","v":""},{"$f":"IFERROR(INDIRECT($C$4&\"!L15\"),\"\")","v":""},{"$f":"IFERROR(INDIRECT($C$4&\"!M15\"),\"\")","v":""},{"$f":"IFERROR(INDIRECT($C$4&\"!N15\"),\"\")","v":""},{"$f":"IFERROR(INDIRECT($C$4&\"!O15\"),\"\")","v":""},{"$f":"IFERROR(INDIRECT($C$4&\"!P15\"),\"\")","v":""},{"$f":"IFERROR(INDIRECT($C$4&\"!Q15\"),\"\")","v":""},{"$f":"IFERROR(INDIRECT($C$4&\"!R15\"),\"\")","v":""},{"$f":"IFERROR(INDIRECT($C$4&\"!S15\"),\"\")","v":""},{"$f":"IFERROR(INDIRECT($C$4&\"!T15\"),\"\")","v":""},{"$f":"IFERROR(INDIRECT($C$4&\"!U15\"),\"\")","v":""},{"$f":"IFERROR(INDIRECT($C$4&\"!V15\"),\"\")","v":""},{"$f":"IFERROR(INDIRECT($C$4&\"!W15\"),\"\")","v":""},{"$f":"IFERROR(INDIRECT($C$4&\"!X15\"),\"\")","v":""},{"$f":"IFERROR(INDIRECT($C$4&\"!Y15\"),\"\")","v":""},null,2,{"$f":"データ集②!N6","v":""},{"$f":"IFERROR(計算シート!BX13,\"\")","v":""}]
[null,null,3,{"$f":"IFERROR(INDIRECT($C$4&\"!B16\"),\"\")","v":""},{"$f":"IFERROR(INDIRECT($C$4&\"!C16\"),\"\")","v":""},{"$f":"IFERROR(INDIRECT($C$4&\"!D16\"),\"\")","v":""},{"$f":"IFERROR(INDIRECT($C$4&\"!E16\"),\"\")","v":""},{"$f":"IFERROR(INDIRECT($C$4&\"!F16\"),\"\")","v":""},{"$f":"IFERROR(INDIRECT($C$4&\"!G16\"),\"\")","v":""},{"$f":"IFERROR(INDIRECT($C$4&\"!H16\"),\"\")","v":""},{"$f":"IFERROR(INDIRECT($C$4&\"!I16\"),\"\")","v":""},{"$f":"IFERROR(INDIRECT($C$4&\"!J16\"),\"\")","v":""},{"$f":"IFERROR(INDIRECT($C$4&\"!K16\"),\"\")","v":""},{"$f":"IFERROR(INDIRECT($C$4&\"!L16\"),\"\")","v":""},{"$f":"IFERROR(INDIRECT($C$4&\"!M16\"),\"\")","v":""},{"$f":"IFERROR(INDIRECT($C$4&\"!N16\"),\"\")","v":""},{"$f":"IFERROR(INDIRECT($C$4&\"!O16\"),\"\")","v":""},{"$f":"IFERROR(INDIRECT($C$4&\"!P16\"),\"\")","v":""},{"$f":"IFERROR(INDIRECT($C$4&\"!Q16\"),\"\")","v":""},{"$f":"IFERROR(INDIRECT($C$4&\"!R16\"),\"\")","v":""},{"$f":"IFERROR(INDIRECT($C$4&\"!S16\"),\"\")","v":""},{"$f":"IFERROR(INDIRECT($C$4&\"!T16\"),\"\")","v":""},{"$f":"IFERROR(INDIRECT($C$4&\"!U16\"),\"\")","v":""},{"$f":"IFERROR(INDIRECT($C$4&\"!V16\"),\"\")","v":""},{"$f":"IFERROR(INDIRECT($C$4&\"!W16\"),\"\")","v":""},{"$f":"IFERROR(INDIRECT($C$4&\"!X16\"),\"\")","v":""},{"$f":"IFERROR(INDIRECT($C$4&\"!Y16\"),\"\")","v":""},null,3,{"$f":"データ集②!O6","v":""},{"$f":"IFERROR(計算シート!CE13,\"\")","v":""}]
[null,null,null,null,null,null,null,null,null,null,null,null,null,null,null,null,null,null,null,"●時刻別平均気温表記載の数値は、選択された都道府県の県庁所在地の月別、時刻別平均気温",null,null,null,null,null,null,null,null,null,null,null,null,null,"●焚上温度選択の際、(2)参照"]
[null,null,null,null,null,null,null,null,null,null,null,null,null,null,null,null,null,null,null,"●本データは気象庁発表の1992年4月1日から2022年3月31日までの30年の1時間データを整理したもの"]
[null,null,null,null,null,null,null,null,null,null,null,null,null,null,null,null,null,null,null,"●2月はうるう日を含みます"]
[null,null,"(2)",null,null,null,null,null,null,null,null,null,null,null,null,null,null,null,null,null,null,"(3)",null,null,null,null,null,null,null,null,null,null,null,null,"(4)"]
[null,null,null,null,null,null,null,null,"方式、冷媒および焚上温度 一覧表",null,null,null,null,null,null,null,null,null,null,null,null,"導入予定の給湯ヒートポンプの台数を入力",null,null,null,null,null,null,null,null,null,null,"台",null,"工程の必要給湯量[ℓ/日]",null,{"$f":"IF(データ集!Q17>2,データ集!S18,\"\")","v":""}]
[null,null,"給湯ヒートポンプ",null,null,null,"方式",null,"一過式",null,null,null,"循環式",null,null,null,null,null,null,"保温加熱",null,{"$f":"'2-1 設備条件シート'!L12","v":0},null,null,{"$f":"IFERROR(VLOOKUP(V28,データ集!D51:V55,2,FALSE),\"\")","v":""},null,null,null,null,null,"人数",null,{"$f":"IFERROR(VLOOKUP(V28,データ集!D51:V55,18,FALSE),\"\")","v":""}]
[null,null,null,null,null,null,"冷媒",null,"R744","2元(R410A,R134a)",null,null,"R410A","2元(R410A,R134a)",null,null,"2段(R454C)",null,"R407C","R744",null,null,null,null,null,null,null,null,null,null,{"$f":"IFERROR(VLOOKUP(V28,データ集!D51:W55,20,FALSE),\"\")","v":""},null,{"$f":"IFERROR(VLOOKUP(V28,データ集!D51:V55,19,FALSE),\"\")","v":""}]
[null,null,null,null,null,null,"焚上温度",null,65,65,null,null,60,60,null,null,65,null,60,90,null,"土・日の繫忙度と日数を入力/（日）",null,null,null,null,null,null,"繁忙度",null,"日数",null,"日"]
[null,null,null,null,null,null,null,null,90,90,null,null,null,null,null,null,null,null,null,null,null,"祝祭日の繫忙度と日数を入力/（日）",null,null,null,null,null,null,null,null,null,null,"日"]
[null,null,null,null,null,null,"入水温度",null,"各地域の月別θ",null,null,null,55,55,null,null,60,null,55,60,null,null,null,null,null,null,null,"●繁忙度は、毎日くり返し作業の場合、1.0を入力"]
[]
[]
[null,null,"(5)",null,null,null,null,null,null,null,null,null,null,null,null,null,null,null,null,null,null,"(6)給湯EHPの最大値と最小能力月の値",null,null,null,null,null,"(7)必要給湯量を設定した時の計算結果",null,null,null,null,"(8)用途別の計算結果"]
[null,null,{"$f":"'2-1 設備条件シート'!L10","v":""},null,{"$f":"'2-1 設備条件シート'!L12","v":0},null,"4月","5月","6月","7月","8月","9月","10月","11月","12月","1月","2月","3月","合計",null,null,"項目",null,"該当月","[kWh/台・月]","[kWh/月]",null,"合計消費電力ΣΦn",null,{"$f":"IFERROR(計算シート!$BO91,\"\")","v":""},null,null,"合計消費電力ΣΦ",null,{"$f":"IF(計算シート!CE81=0,\"\",計算シート!CE81)","v":""}]
[null,null,"月別消費電力(1台)",null,"［kWｈ］",null,{"$f":"IFERROR((計算シート!I60),\"\")","v":0},{"$f":"IFERROR((計算シート!P60),\"\")","v":0},{"$f":"IFERROR((計算シート!W60),\"\")","v":0},{"$f":"IFERROR((計算シート!AD60),\"\")","v":0},{"$f":"IFERROR((計算シート!AK60),\"\")","v":0},{"$f":"IFERROR((計算シート!AR60),\"\")","v":0},{"$f":"IFERROR((計算シート!AY60),\"\")","v":0},{"$f":"IFERROR((計算シート!BF60),\"\")","v":0},{"$f":"IFERROR((計算シート!BM60),\"\")","v":0},{"$f":"IFERROR((計算シート!BT60),\"\")","v":0},{"$f":"IFERROR((計算シート!CA60),\"\")","v":0},{"$f":"IFERROR((計算シート!CH60),\"\")","v":0},{"$f":"IF(SUM(G37:R37)=0,\"\",SUM(G37:R37))","v":""},null,null,null,null,null,null,null,null,"［kWh/年・台］",null,null,null,null,"［kWh/年・台］"]
[null,null,"給湯能力Q／効率COPe×稼動対象時間×給湯使用時間×負荷率",null,null,null,null,null,null,null,null,null,null,null,null,null,null,null,null,null,null,"給湯能力最小",null,{"$f":"IFERROR(計算シート!BF83,\"\")","v":""},{"$f":"IFERROR(計算シート!BG83,\"\")","v":""},{"$f":"IFERROR(計算シート!BH83,\"\")","v":""},null,"台数",{"$f":"AF27&\"\"","v":""},{"$f":"IFERROR(計算シート!BO92,\"\")","v":""},null,null,"台数",{"$f":"AF27&\"\"","v":""},{"$f":"IF(計算シート!CE82=0,\"\",計算シート!CE82)","v":""}]
[null,null,{"$f":"'2-1 設備条件シート'!L10","v":""},null,{"$f":"'2-1 設備条件シート'!L12","v":0},null,"4月","5月","6月","7月","8月","9月","10月","11月","12月","1月","2月","3月","合計",null,null,null,null,null,null,null,null,"合計給湯能力ΣQn",null,{"$f":"IFERROR(計算シート!BO93,\"\")","v":""},null,null,"合計給湯能力ΣQ",null,{"$f":"IF(計算シート!CE83=0,\"\",計算シート!CE83)","v":""}]
[null,null,"月別消費電力(合計)",null,"［kWｈ］",null,{"$f":"IFERROR((G$37*$AF$27),\"\")","v":0},0,0,0,0,0,0,0,0,0,0,0,{"$f":"IF(SUM(G40:R40)=0,\"\",SUM(G40:R40))","v":""},null,null,"給湯能力最大",null,{"$f":"IFERROR(計算シート!BF85,\"\")","v":""},{"$f":"IFERROR(計算シート!BG85,\"\")","v":""},{"$f":"IFERROR(計算シート!BH85,\"\")","v":""},null,"［kWh/年・台］",null,null,null,null,"［kWh/年・台］"]
[null,null,null,null,null,null,null,null,null,null,null,null,null,null,null,null,null,null,null,null,null,null,null,null,null,null,null,"台数",{"$f":"AF27&\"\"","v":""},{"$f":"IFERROR(計算シート!BO94,\"\")","v":""},null,null,"台数",{"$f":"AF27&\"\"","v":""},{"$f":"IF(計算シート!CE84=0,\"\",計算シート!CE84)","v":""}]
[]
[]
[null,null,null,null,null,null,null,null,null,null,null,null,null,null,null,null,null,null,null,null,null,null,null,null,null,null,null,null,null,null,null,"季節（JRAIA）",null,"外気温度と季節"]
[null,null,null,null,null,null,null,null,null,null,null,null,null,null,null,null,null,null,null,null,null,null,null,null,null,null,null,null,null,null,null,"夏期",null,"21℃＜T1d"]
[null,null,null,null,null,null,null,null,null,null,null,null,null,null,null,null,null,null,null,null,null,null,null,null,null,null,null,null,null,null,null,"中間期",null,"11℃＜T1d≦21℃"]
[null,null,null,null,null,null,null,null,null,null,null,null,null,null,null,null,null,null,null,null,null,null,null,null,null,null,null,null,null,null,null,"冬季標準",null,"6℃＜T1d≦11℃"]
[null,null,null,null,null,null,null,null,null,null,null,null,null,null,null,null,null,null,null,null,null,null,null,null,null,null,null,null,null,null,null,"着霜期",null,"0℃＜T1d≦6℃"]
[null,null,"作業表1(青色のセルを「24」、オレンジ色のセルを「19」として抽出）",null,null,null,null,null,null,null,null,null,null,null,null,null,null,null,null,null,null,null,null,null,null,null,null,null,null,null,null,"厳冬期",null,"T1d≦0℃"]
[null,null,"月"," 時刻",null,null,null,null,null,null,null,null,null,null,null,null,null,null,null,null,null,null,null,null,null,null,null,"月"]
[null,null,null,0,1,2,3,4,5,6,7,8,9,10,11,12,13,14,15,16,17,18,19,20,21,22,23]
[null,null,4,{"$f":"CELLCOLOR($D$11)","v":-4142},{"$f":"CELLCOLOR($E$11)","v":-4142},{"$f":"CELLCOLOR($F$11)","v":-4142},{"$f":"CELLCOLOR($G$11)","v":-4142},{"$f":"CELLCOLOR($H$11)","v":-4142},{"$f":"CELLCOLOR($I$11)","v":-4142},{"$f":"CELLCOLOR($J$11)","v":-4142},{"$f":"CELLCOLOR($K$11)","v":-4142},{"$f":"CELLCOLOR($L$11)","v":-4142},{"$f":"CELLCOLOR($M$11)","v":-4142},{"$f":"CELLCOLOR($N$11)","v":-4142},{"$f":"CELLCOLOR($O$11)","v":-4142},{"$f":"CELLCOLOR($P$11)","v":-4142},{"$f":"CELLCOLOR($Q$11)","v":-4142},{"$f":"CELLCOLOR($R$11)","v":-4142},{"$f":"CELLCOLOR($S$11)","v":-4142},{"$f":"CELLCOLOR($T$11)","v":-4142},{"$f":"CELLCOLOR($U$11)","v":-4142},{"$f":"CELLCOLOR($V$11)","v":-4142},{"$f":"CELLCOLOR($W$11)","v":-4142},{"$f":"CELLCOLOR($X$11)","v":-4142},{"$f":"CELLCOLOR($Y$11)","v":-4142},{"$f":"CELLCOLOR($Z$11)","v":-4142},{"$f":"CELLCOLOR($AA$11)","v":-4142},4]
[null,null,5,{"$f":"CELLCOLOR($D$12)","v":-4142},{"$f":"CELLCOLOR($E$12)","v":-4142},{"$f":"CELLCOLOR($F$12)","v":-4142},{"$f":"CELLCOLOR($G$12)","v":-4142},{"$f":"CELLCOLOR($H$12)","v":-4142},{"$f":"CELLCOLOR($I$12)","v":-4142},{"$f":"CELLCOLOR($J$12)","v":-4142},{"$f":"CELLCOLOR($K$12)","v":-4142},{"$f":"CELLCOLOR($L$12)","v":-4142},{"$f":"CELLCOLOR($M$12)","v":-4142},{"$f":"CELLCOLOR($N$12)","v":-4142},{"$f":"CELLCOLOR($O$12)","v":-4142},{"$f":"CELLCOLOR($P$12)","v":-4142},{"$f":"CELLCOLOR($Q$12)","v":-4142},{"$f":"CELLCOLOR($R$12)","v":-4142},{"$f":"CELLCOLOR($S$12)","v":-4142},{"$f":"CELLCOLOR($T$12)","v":-4142},{"$f":"CELLCOLOR($U$12)","v":-4142},{"$f":"CELLCOLOR($V$12)","v":-4142},{"$f":"CELLCOLOR($W$12)","v":-4142},{"$f":"CELLCOLOR($X$12)","v":-4142},{"$f":"CELLCOLOR($Y$12)","v":-4142},{"$f":"CELLCOLOR($Z$12)","v":-4142},{"$f":"CELLCOLOR($AA$12)","v":-4142},5]
[null,null,6,{"$f":"CELLCOLOR($D$13)","v":-4142},{"$f":"CELLCOLOR($E$13)","v":-4142},{"$f":"CELLCOLOR($F$13)","v":-4142},{"$f":"CELLCOLOR($G$13)","v":-4142},{"$f":"CELLCOLOR($H$13)","v":-4142},{"$f":"CELLCOLOR($I$13)","v":-4142},{"$f":"CELLCOLOR($J$13)","v":-4142},{"$f":"CELLCOLOR($K$13)","v":-4142},{"$f":"CELLCOLOR($L$13)","v":-4142},{"$f":"CELLCOLOR($M$13)","v":-4142},{"$f":"CELLCOLOR($N$13)","v":-4142},{"$f":"CELLCOLOR($O$13)","v":-4142},{"$f":"CELLCOLOR($P$13)","v":-4142},{"$f":"CELLCOLOR($Q$13)","v":-4142},{"$f":"CELLCOLOR($R$13)","v":-4142},{"$f":"CELLCOLOR($S$13)","v":-4142},{"$f":"CELLCOLOR($T$13)","v":-4142},{"$f":"CELLCOLOR($U$13)","v":-4142},{"$f":"CELLCOLOR($V$13)","v":-4142},{"$f":"CELLCOLOR($W$13)","v":-4142},{"$f":"CELLCOLOR($X$13)","v":-4142},{"$f":"CELLCOLOR($Y$13)","v":-4142},{"$f":"CELLCOLOR($Z$13)","v":-4142},{"$f":"CELLCOLOR($AA$13)","v":-4142},6]
[null,null,7,{"$f":"CELLCOLOR($D$14)","v":-4142},{"$f":"CELLCOLOR($E$14)","v":-4142},{"$f":"CELLCOLOR($F$14)","v":-4142},{"$f":"CELLCOLOR($G$14)","v":-4142},{"$f":"CELLCOLOR($H$14)","v":-4142},{"$f":"CELLCOLOR($I$14)","v":-4142},{"$f":"CELLCOLOR($J$14)","v":-4142},{"$f":"CELLCOLOR($K$14)","v":-4142},{"$f":"CELLCOLOR($L$14)","v":-4142},{"$f":"CELLCOLOR($M$14)","v":-4142},{"$f":"CELLCOLOR($N$14)","v":-4142},{"$f":"CELLCOLOR($O$14)","v":-4142},{"$f":"CELLCOLOR($P$14)","v":-4142},{"$f":"CELLCOLOR($Q$14)","v":-4142},{"$f":"CELLCOLOR($R$14)","v":-4142},{"$f":"CELLCOLOR($S$14)","v":-4142},{"$f":"CELLCOLOR($T$14)","v":-4142},{"$f":"CELLCOLOR($U$14)","v":-4142},{"$f":"CELLCOLOR($V$14)","v":-4142},{"$f":"CELLCOLOR($W$14)","v":-4142},{"$f":"CELLCOLOR($X$14)","v":-4142},{"$f":"CELLCOLOR($Y$14)","v":-4142},{"$f":"CELLCOLOR($Z$14)","v":-4142},{"$f":"CELLCOLOR($AA$14)","v":-4142},7]
[null,null,8,{"$f":"CELLCOLOR($D$15)","v":-4142},{"$f":"CELLCOLOR($E$15)","v":-4142},{"$f":"CELLCOLOR($F$15)","v":-4142},{"$f":"CELLCOLOR($G$15)","v":-4142},{"$f":"CELLCOLOR($H$15)","v":-4142},{"$f":"CELLCOLOR($I$15)","v":-4142},{"$f":"CELLCOLOR($J$15)","v":-4142},{"$f":"CELLCOLOR($K$15)","v":-4142},{"$f":"CELLCOLOR($L$15)","v":-4142},{"$f":"CELLCOLOR($M$15)","v":-4142},{"$f":"CELLCOLOR($N$15)","v":-4142},{"$f":"CELLCOLOR($O$15)","v":-4142},{"$f":"CELLCOLOR($P$15)","v":-4142},{"$f":"CELLCOLOR($Q$15)","v":-4142},{"$f":"CELLCOLOR($R$15)","v":-4142},{"$f":"CELLCOLOR($S$15)","v":-4142},{"$f":"CELLCOLOR($T$15)","v":-4142},{"$f":"CELLCOLOR($U$15)","v":-4142},{"$f":"CELLCOLOR($V$15)","v":-4142},{"$f":"CELLCOLOR($W$15)","v":-4142},{"$f":"CELLCOLOR($X$15)","v":-4142},{"$f":"CELLCOLOR($Y$15)","v":-4142},{"$f":"CELLCOLOR($Z$15)","v":-4142},{"$f":"CELLCOLOR($AA$15)","v":-4142},8]
[null,null,9,{"$f":"CELLCOLOR($D$16)","v":-4142},{"$f":"CELLCOLOR($E$16)","v":-4142},{"$f":"CELLCOLOR($F$16)","v":-4142},{"$f":"CELLCOLOR($G$16)","v":-4142},{"$f":"CELLCOLOR($H$16)","v":-4142},{"$f":"CELLCOLOR($I$16)","v":-4142},{"$f":"CELLCOLOR($J$16)","v":-4142},{"$f":"CELLCOLOR($K$16)","v":-4142},{"$f":"CELLCOLOR($L$16)","v":-4142},{"$f":"CELLCOLOR($M$16)","v":-4142},{"$f":"CELLCOLOR($N$16)","v":-4142},{"$f":"CELLCOLOR($O$16)","v":-4142},{"$f":"CELLCOLOR($P$16)","v":-4142},{"$f":"CELLCOLOR($Q$16)","v":-4142},{"$f":"CELLCOLOR($R$16)","v":-4142},{"$f":"CELLCOLOR($S$16)","v":-4142},{"$f":"CELLCOLOR($T$16)","v":-4142},{"$f":"CELLCOLOR($U$16)","v":-4142},{"$f":"CELLCOLOR($V$16)","v":-4142},{"$f":"CELLCOLOR($W$16)","v":-4142},{"$f":"CELLCOLOR($X$16)","v":-4142},{"$f":"CELLCOLOR($Y$16)","v":-4142},{"$f":"CELLCOLOR($Z$16)","v":-4142},{"$f":"CELLCOLOR($AA$16)","v":-4142},9]
[null,null,10,{"$f":"CELLCOLOR($D$17)","v":-4142},{"$f":"CELLCOLOR($E$17)","v":-4142},{"$f":"CELLCOLOR($F$17)","v":-4142},{"$f":"CELLCOLOR($G$17)","v":-4142},{"$f":"CELLCOLOR($H$17)","v":-4142},{"$f":"CELLCOLOR($I$17)","v":-4142},{"$f":"CELLCOLOR($J$17)","v":-4142},{"$f":"CELLCOLOR($K$17)","v":-4142},{"$f":"CELLCOLOR($L$17)","v":-4142},{"$f":"CELLCOLOR($M$17)","v":-4142},{"$f":"CELLCOLOR($N$17)","v":-4142},{"$f":"CELLCOLOR($O$17)","v":-4142},{"$f":"CELLCOLOR($P$17)","v":-4142},{"$f":"CELLCOLOR($Q$17)","v":-4142},{"$f":"CELLCOLOR($R$17)","v":-4142},{"$f":"CELLCOLOR($S$17)","v":-4142},{"$f":"CELLCOLOR($T$17)","v":-4142},{"$f":"CELLCOLOR($U$17)","v":-4142},{"$f":"CELLCOLOR($V$17)","v":-4142},{"$f":"CELLCOLOR($W$17)","v":-4142},{"$f":"CELLCOLOR($X$17)","v":-4142},{"$f":"CELLCOLOR($Y$17)","v":-4142},{"$f":"CELLCOLOR($Z$17)","v":-4142},{"$f":"CELLCOLOR($AA$17)","v":-4142},10]
[null,null,11,{"$f":"CELLCOLOR($D$18)","v":-4142},{"$f":"CELLCOLOR($E$18)","v":-4142},{"$f":"CELLCOLOR($F$18)","v":-4142},{"$f":"CELLCOLOR($G$18)","v":-4142},{"$f":"CELLCOLOR($H$18)","v":-4142},{"$f":"CELLCOLOR($I$18)","v":-4142},{"$f":"CELLCOLOR($J$18)","v":-4142},{"$f":"CELLCOLOR($K$18)","v":-4142},{"$f":"CELLCOLOR($L$18)","v":-4142},{"$f":"CELLCOLOR($M$18)","v":-4142},{"$f":"CELLCOLOR($N$18)","v":-4142},{"$f":"CELLCOLOR($O$18)","v":-4142},{"$f":"CELLCOLOR($P$18)","v":-4142},{"$f":"CELLCOLOR($Q$18)","v":-4142},{"$f":"CELLCOLOR($R$18)","v":-4142},{"$f":"CELLCOLOR($S$18)","v":-4142},{"$f":"CELLCOLOR($T$18)","v":-4142},{"$f":"CELLCOLOR($U$18)","v":-4142},{"$f":"CELLCOLOR($V$18)","v":-4142},{"$f":"CELLCOLOR($W$18)","v":-4142},{"$f":"CELLCOLOR($X$18)","v":-4142},{"$f":"CELLCOLOR($Y$18)","v":-4142},{"$f":"CELLCOLOR($Z$18)","v":-4142},{"$f":"CELLCOLOR($AA$18)","v":-4142},11]
[null,null,12,{"$f":"CELLCOLOR($D$19)","v":-4142},{"$f":"CELLCOLOR($E$19)","v":-4142},{"$f":"CELLCOLOR($F$19)","v":-4142},{"$f":"CELLCOLOR($G$19)","v":-4142},{"$f":"CELLCOLOR($H$19)","v":-4142},{"$f":"CELLCOLOR($I$19)","v":-4142},{"$f":"CELLCOLOR($J$19)","v":-4142},{"$f":"CELLCOLOR($K$19)","v":-4142},{"$f":"CELLCOLOR($L$19)","v":-4142},{"$f":"CELLCOLOR($M$19)","v":-4142},{"$f":"CELLCOLOR($N$19)","v":-4142},{"$f":"CELLCOLOR($O$19)","v":-4142},{"$f":"CELLCOLOR($P$19)","v":-4142},{"$f":"CELLCOLOR($Q$19)","v":-4142},{"$f":"CELLCOLOR($R$19)","v":-4142},{"$f":"CELLCOLOR($S$19)","v":-4142},{"$f":"CELLCOLOR($T$19)","v":-4142},{"$f":"CELLCOLOR($U$19)","v":-4142},{"$f":"CELLCOLOR($V$19)","v":-4142},{"$f":"CELLCOLOR($W$19)","v":-4142},{"$f":"CELLCOLOR($X$19)","v":-4142},{"$f":"CELLCOLOR($Y$19)","v":-4142},{"$f":"CELLCOLOR($Z$19)","v":-4142},{"$f":"CELLCOLOR($AA$19)","v":-4142},12]
[null,null,1,{"$f":"CELLCOLOR($D$20)","v":-4142},{"$f":"CELLCOLOR($E$20)","v":-4142},{"$f":"CELLCOLOR($F$20)","v":-4142},{"$f":"CELLCOLOR($G$20)","v":-4142},{"$f":"CELLCOLOR($H$20)","v":-4142},{"$f":"CELLCOLOR($I$20)","v":-4142},{"$f":"CELLCOLOR($J$20)","v":-4142},{"$f":"CELLCOLOR($K$20)","v":-4142},{"$f":"CELLCOLOR($L$20)","v":-4142},{"$f":"CELLCOLOR($M$20)","v":-4142},{"$f":"CELLCOLOR($N$20)","v":-4142},{"$f":"CELLCOLOR($O$20)","v":-4142},{"$f":"CELLCOLOR($P$20)","v":-4142},{"$f":"CELLCOLOR($Q$20)","v":-4142},{"$f":"CELLCOLOR($R$20)","v":-4142},{"$f":"CELLCOLOR($S$20)","v":-4142},{"$f":"CELLCOLOR($T$20)","v":-4142},{"$f":"CELLCOLOR($U$20)","v":-4142},{"$f":"CELLCOLOR($V$20)","v":-4142},{"$f":"CELLCOLOR($W$20)","v":-4142},{"$f":"CELLCOLOR($X$20)","v":-4142},{"$f":"CELLCOLOR($Y$20)","v":-4142},{"$f":"CELLCOLOR($Z$20)","v":-4142},{"$f":"CELLCOLOR($AA$20)","v":-4142},1]
[null,null,2,{"$f":"CELLCOLOR($D$21)","v":-4142},{"$f":"CELLCOLOR($E$21)","v":-4142},{"$f":"CELLCOLOR($F$21)","v":-4142},{"$f":"CELLCOLOR($G$21)","v":-4142},{"$f":"CELLCOLOR($H$21)","v":-4142},{"$f":"CELLCOLOR($I$21)","v":-4142},{"$f":"CELLCOLOR($J$21)","v":-4142},{"$f":"CELLCOLOR($K$21)","v":-4142},{"$f":"CELLCOLOR($L$21)","v":-4142},{"$f":"CELLCOLOR($M$21)","v":-4142},{"$f":"CELLCOLOR($N$21)","v":-4142},{"$f":"CELLCOLOR($O$21)","v":-4142},{"$f":"CELLCOLOR($P$21)","v":-4142},{"$f":"CELLCOLOR($Q$21)","v":-4142},{"$f":"CELLCOLOR($R$21)","v":-4142},{"$f":"CELLCOLOR($S$21)","v":-4142},{"$f":"CELLCOLOR($T$21)","v":-4142},{"$f":"CELLCOLOR($U$21)","v":-4142},{"$f":"CELLCOLOR($V$21)","v":-4142},{"$f":"CELLCOLOR($W$21)","v":-4142},{"$f":"CELLCOLOR($X$21)","v":-4142},{"$f":"CELLCOLOR($Y$21)","v":-4142},{"$f":"CELLCOLOR($Z$21)","v":-4142},{"$f":"CELLCOLOR($AA$21)","v":-4142},2]
[null,null,3,{"$f":"CELLCOLOR($D$22)","v":-4142},{"$f":"CELLCOLOR($E$22)","v":-4142},{"$f":"CELLCOLOR($F$22)","v":-4142},{"$f":"CELLCOLOR($G$22)","v":-4142},{"$f":"CELLCOLOR($H$22)","v":-4142},{"$f":"CELLCOLOR($I$22)","v":-4142},{"$f":"CELLCOLOR($J$22)","v":-4142},{"$f":"CELLCOLOR($K$22)","v":-4142},{"$f":"CELLCOLOR($L$22)","v":-4142},{"$f":"CELLCOLOR($M$22)","v":-4142},{"$f":"CELLCOLOR($N$22)","v":-4142},{"$f":"CELLCOLOR($O$22)","v":-4142},{"$f":"CELLCOLOR($P$22)","v":-4142},{"$f":"CELLCOLOR($Q$22)","v":-4142},{"$f":"CELLCOLOR($R$22)","v":-4142},{"$f":"CELLCOLOR($S$22)","v":-4142},{"$f":"CELLCOLOR($T$22)","v":-4142},{"$f":"CELLCOLOR($U$22)","v":-4142},{"$f":"CELLCOLOR($V$22)","v":-4142},{"$f":"CELLCOLOR($W$22)","v":-4142},{"$f":"CELLCOLOR($X$22)","v":-4142},{"$f":"CELLCOLOR($Y$22)","v":-4142},{"$f":"CELLCOLOR($Z$22)","v":-4142},{"$f":"CELLCOLOR($AA$22)","v":-4142},3]
[null,null,null,{"$f":"IF(SUM(COUNTIF(D52:D63,19))>0,1,\"\")","v":""},"","","","","","","","","","","","","","","","","","","","","",{"$f":"IF(SUM(COUNTIF(Z52:Z63,19))>0,1,\"\")","v":""},"",{"$f":"COUNT(D64:AA64)","v":0}]
[null,null,"作業表2-1(冷房)",null,"●月▲時の平均気温(四捨五入で表示）"]
[null,null,"月"," 時刻",null,null,null,null,null,null,null,null,null,null,null,null,null,null,null,null,null,null,null,null,null,null,null,"月"]
[null,null,null,0,1,2,3,4,5,6,7,8,9,10,11,12,13,14,15,16,17,18,19,20,21,22,23]
[null,null,4,{"$f":"IF($D$52=24,ROUND($D$11,0),\"\")&\"\"","v":""},{"$f":"IF($E$52=24,ROUND($E$11,0),\"\")&\"\"","v":""},{"$f":"IF($F$52=24,ROUND($F$11,0),\"\")&\"\"","v":""},{"$f":"IF($G$52=24,ROUND($G$11,0),\"\")&\"\"","v":""},{"$f":"IF($H$52=24,ROUND($H$11,0),\"\")&\"\"","v":""},{"$f":"IF($I$52=24,ROUND($I$11,0),\"\")&\"\"","v":""},{"$f":"IF($J$52=24,ROUND($J$11,0),\"\")&\"\"","v":""},{"$f":"IF($K$52=24,ROUND($K$11,0),\"\")&\"\"","v":""},{"$f":"IF($L$52=24,ROUND($L$11,0),\"\")&\"\"","v":""},{"$f":"IF($M$52=24,ROUND($M$11,0),\"\")&\"\"","v":""},{"$f":"IF($N$52=24,ROUND($N$11,0),\"\")&\"\"","v":""},{"$f":"IF($O$52=24,ROUND($O$11,0),\"\")&\"\"","v":""},{"$f":"IF($P$52=24,ROUND($P$11,0),\"\")&\"\"","v":""},{"$f":"IF($Q$52=24,ROUND($Q$11,0),\"\")&\"\"","v":""},{"$f":"IF($R$52=24,ROUND($R$11,0),\"\")&\"\"","v":""},{"$f":"IF($S$52=24,ROUND($S$11,0),\"\")&\"\"","v":""},{"$f":"IF($T$52=24,ROUND($T$11,0),\"\")&\"\"","v":""},{"$f":"IF($U$52=24,ROUND($U$11,0),\"\")&\"\"","v":""},{"$f":"IF($V$52=24,ROUND($V$11,0),\"\")&\"\"","v":""},{"$f":"IF($W$52=24,ROUND($W$11,0),\"\")&\"\"","v":""},{"$f":"IF($X$52=24,ROUND($X$11,0),\"\")&\"\"","v":""},{"$f":"IF($Y$52=24,ROUND($Y$11,0),\"\")&\"\"","v":""},{"$f":"IF($Z$52=24,ROUND($Z$11,0),\"\")&\"\"","v":""},{"$f":"IF($AA$52=24,ROUND($AA$11,0),\"\")&\"\"","v":""},4]
[null,null,5,{"$f":"IF($D$53=24,ROUND($D$12,0),\"\")&\"\"","v":""},{"$f":"IF($E$53=24,ROUND($E$12,0),\"\")&\"\"","v":""},{"$f":"IF($F$53=24,ROUND($F$12,0),\"\")&\"\"","v":""},{"$f":"IF($G$53=24,ROUND($G$12,0),\"\")&\"\"","v":""},{"$f":"IF($H$53=24,ROUND($H$12,0),\"\")&\"\"","v":""},{"$f":"IF($I$53=24,ROUND($I$12,0),\"\")&\"\"","v":""},{"$f":"IF($J$53=24,ROUND($J$12,0),\"\")&\"\"","v":""},{"$f":"IF($K$53=24,ROUND($K$12,0),\"\")&\"\"","v":""},{"$f":"IF($L$53=24,ROUND($L$12,0),\"\")&\"\"","v":""},{"$f":"IF($M$53=24,ROUND($M$12,0),\"\")&\"\"","v":""},{"$f":"IF($N$53=24,ROUND($N$12,0),\"\")&\"\"","v":""},{"$f":"IF($O$53=24,ROUND($O$12,0),\"\")&\"\"","v":""},{"$f":"IF($P$53=24,ROUND($P$12,0),\"\")&\"\"","v":""},{"$f":"IF($Q$53=24,ROUND($Q$12,0),\"\")&\"\"","v":""},{"$f":"IF($R$53=24,ROUND($R$12,0),\"\")&\"\"","v":""},{"$f":"IF($S$53=24,ROUND($S$12,0),\"\")&\"\"","v":""},{"$f":"IF($T$53=24,ROUND($T$12,0),\"\")&\"\"","v":""},{"$f":"IF($U$53=24,ROUND($U$12,0),\"\")&\"\"","v":""},{"$f":"IF($V$53=24,ROUND($V$12,0),\"\")&\"\"","v":""},{"$f":"IF($W$53=24,ROUND($W$12,0),\"\")&\"\"","v":""},{"$f":"IF($X$53=24,ROUND($X$12,0),\"\")&\"\"","v":""},{"$f":"IF($Y$53=24,ROUND($Y$12,0),\"\")&\"\"","v":""},{"$f":"IF($Z$53=24,ROUND($Z$12,0),\"\")&\"\"","v":""},{"$f":"IF($AA$53=24,ROUND($AA$12,0),\"\")&\"\"","v":""},5]
[null,null,6,{"$f":"IF($D$54=24,ROUND($D$13,0),\"\")&\"\"","v":""},{"$f":"IF($E$54=24,ROUND($E$13,0),\"\")&\"\"","v":""},{"$f":"IF($F$54=24,ROUND($F$13,0),\"\")&\"\"","v":""},{"$f":"IF($G$54=24,ROUND($G$13,0),\"\")&\"\"","v":""},{"$f":"IF($H$54=24,ROUND($H$13,0),\"\")&\"\"","v":""},{"$f":"IF($I$54=24,ROUND($I$13,0),\"\")&\"\"","v":""},{"$f":"IF($J$54=24,ROUND($J$13,0),\"\")&\"\"","v":""},{"$f":"IF($K$54=24,ROUND($K$13,0),\"\")&\"\"","v":""},{"$f":"IF($L$54=24,ROUND($L$13,0),\"\")&\"\"","v":""},{"$f":"IF($M$54=24,ROUND($M$13,0),\"\")&\"\"","v":""},{"$f":"IF($N$54=24,ROUND($N$13,0),\"\")&\"\"","v":""},{"$f":"IF($O$54=24,ROUND($O$13,0),\"\")&\"\"","v":""},{"$f":"IF($P$54=24,ROUND($P$13,0),\"\")&\"\"","v":""},{"$f":"IF($Q$54=24,ROUND($Q$13,0),\"\")&\"\"","v":""},{"$f":"IF($R$54=24,ROUND($R$13,0),\"\")&\"\"","v":""},{"$f":"IF($S$54=24,ROUND($S$13,0),\"\")&\"\"","v":""},{"$f":"IF($T$54=24,ROUND($T$13,0),\"\")&\"\"","v":""},{"$f":"IF($U$54=24,ROUND($U$13,0),\"\")&\"\"","v":""},{"$f":"IF($V$54=24,ROUND($V$13,0),\"\")&\"\"","v":""},{"$f":"IF($W$54=24,ROUND($W$13,0),\"\")&\"\"","v":""},{"$f":"IF($X$54=24,ROUND($X$13,0),\"\")&\"\"","v":""},{"$f":"IF($Y$54=24,ROUND($Y$13,0),\"\")&\"\"","v":""},{"$f":"IF($Z$54=24,ROUND($Z$13,0),\"\")&\"\"","v":""},{"$f":"IF($AA$54=24,ROUND($AA$13,0),\"\")&\"\"","v":""},6]
[null,null,7,{"$f":"IF($D$55=24,ROUND($D$14,0),\"\")&\"\"","v":""},{"$f":"IF($E$55=24,ROUND($E$14,0),\"\")&\"\"","v":""},{"$f":"IF($F$55=24,ROUND($F$14,0),\"\")&\"\"","v":""},{"$f":"IF($G$55=24,ROUND($G$14,0),\"\")&\"\"","v":""},{"$f":"IF($H$55=24,ROUND($H$14,0),\"\")&\"\"","v":""},{"$f":"IF($I$55=24,ROUND($I$14,0),\"\")&\"\"","v":""},{"$f":"IF($J$55=24,ROUND($J$14,0),\"\")&\"\"","v":""},{"$f":"IF($K$55=24,ROUND($K$14,0),\"\")&\"\"","v":""},{"$f":"IF($L$55=24,ROUND($L$14,0),\"\")&\"\"","v":""},{"$f":"IF($M$55=24,ROUND($M$14,0),\"\")&\"\"","v":""},{"$f":"IF($N$55=24,ROUND($N$14,0),\"\")&\"\"","v":""},{"$f":"IF($O$55=24,ROUND($O$14,0),\"\")&\"\"","v":""},{"$f":"IF($P$55=24,ROUND($P$14,0),\"\")&\"\"","v":""},{"$f":"IF($Q$55=24,ROUND($Q$14,0),\"\")&\"\"","v":""},{"$f":"IF($R$55=24,ROUND($R$14,0),\"\")&\"\"","v":""},{"$f":"IF($S$55=24,ROUND($S$14,0),\"\")&\"\"","v":""},{"$f":"IF($T$55=24,ROUND($T$14,0),\"\")&\"\"","v":""},{"$f":"IF($U$55=24,ROUND($U$14,0),\"\")&\"\"","v":""},{"$f":"IF($V$55=24,ROUND($V$14,0),\"\")&\"\"","v":""},{"$f":"IF($W$55=24,ROUND($W$14,0),\"\")&\"\"","v":""},{"$f":"IF($X$55=24,ROUND($X$14,0),\"\")&\"\"","v":""},{"$f":"IF($Y$55=24,ROUND($Y$14,0),\"\")&\"\"","v":""},{"$f":"IF($Z$55=24,ROUND($Z$14,0),\"\")&\"\"","v":""},{"$f":"IF($AA$55=24,ROUND($AA$14,0),\"\")&\"\"","v":""},7]
[null,null,8,{"$f":"IF($D$56=24,ROUND($D$15,0),\"\")&\"\"","v":""},{"$f":"IF($E$56=24,ROUND($E$15,0),\"\")&\"\"","v":""},{"$f":"IF($F$56=24,ROUND($F$15,0),\"\")&\"\"","v":""},{"$f":"IF($G$56=24,ROUND($G$15,0),\"\")&\"\"","v":""},{"$f":"IF($H$56=24,ROUND($H$15,0),\"\")&\"\"","v":""},{"$f":"IF($I$56=24,ROUND($I$15,0),\"\")&\"\"","v":""},{"$f":"IF($J$56=24,ROUND($J$15,0),\"\")&\"\"","v":""},{"$f":"IF($K$56=24,ROUND($K$15,0),\"\")&\"\"","v":""},{"$f":"IF($L$56=24,ROUND($L$15,0),\"\")&\"\"","v":""},{"$f":"IF($M$56=24,ROUND($M$15,0),\"\")&\"\"","v":""},{"$f":"IF($N$56=24,ROUND($N$15,0),\"\")&\"\"","v":""},{"$f":"IF($O$56=24,ROUND($O$15,0),\"\")&\"\"","v":""},{"$f":"IF($P$56=24,ROUND($P$15,0),\"\")&\"\"","v":""},{"$f":"IF($Q$56=24,ROUND($Q$15,0),\"\")&\"\"","v":""},{"$f":"IF($R$56=24,ROUND($R$15,0),\"\")&\"\"","v":""},{"$f":"IF($S$56=24,ROUND($S$15,0),\"\")&\"\"","v":""},{"$f":"IF($T$56=24,ROUND($T$15,0),\"\")&\"\"","v":""},{"$f":"IF($U$56=24,ROUND($U$15,0),\"\")&\"\"","v":""},{"$f":"IF($V$56=24,ROUND($V$15,0),\"\")&\"\"","v":""},{"$f":"IF($W$56=24,ROUND($W$15,0),\"\")&\"\"","v":""},{"$f":"IF($X$56=24,ROUND($X$15,0),\"\")&\"\"","v":""},{"$f":"IF($Y$56=24,ROUND($Y$15,0),\"\")&\"\"","v":""},{"$f":"IF($Z$56=24,ROUND($Z$15,0),\"\")&\"\"","v":""},{"$f":"IF($AA$56=24,ROUND($AA$15,0),\"\")&\"\"","v":""},8]
[null,null,9,{"$f":"IF($D$57=24,ROUND($D$16,0),\"\")&\"\"","v":""},{"$f":"IF($E$57=24,ROUND($E$16,0),\"\")&\"\"","v":""},{"$f":"IF($F$57=24,ROUND($F$16,0),\"\")&\"\"","v":""},{"$f":"IF($G$57=24,ROUND($G$16,0),\"\")&\"\"","v":""},{"$f":"IF($H$57=24,ROUND($H$16,0),\"\")&\"\"","v":""},{"$f":"IF($I$57=24,ROUND($I$16,0),\"\")&\"\"","v":""},{"$f":"IF($J$57=24,ROUND($J$16,0),\"\")&\"\"","v":""},{"$f":"IF($K$57=24,ROUND($K$16,0),\"\")&\"\"","v":""},{"$f":"IF($L$57=24,ROUND($L$16,0),\"\")&\"\"","v":""},{"$f":"IF($M$57=24,ROUND($M$16,0),\"\")&\"\"","v":""},{"$f":"IF($N$57=24,ROUND($N$16,0),\"\")&\"\"","v":""},{"$f":"IF($O$57=24,ROUND($O$16,0),\"\")&\"\"","v":""},{"$f":"IF($P$57=24,ROUND($P$16,0),\"\")&\"\"","v":""},{"$f":"IF($Q$57=24,ROUND($Q$16,0),\"\")&\"\"","v":""},{"$f":"IF($R$57=24,ROUND($R$16,0),\"\")&\"\"","v":""},{"$f":"IF($S$57=24,ROUND($S$16,0),\"\")&\"\"","v":""},{"$f":"IF($T$57=24,ROUND($T$16,0),\"\")&\"\"","v":""},{"$f":"IF($U$57=24,ROUND($U$16,0),\"\")&\"\"","v":""},{"$f":"IF($V$57=24,ROUND($V$16,0),\"\")&\"\"","v":""},{"$f":"IF($W$57=24,ROUND($W$16,0),\"\")&\"\"","v":""},{"$f":"IF($X$57=24,ROUND($X$16,0),\"\")&\"\"","v":""},{"$f":"IF($Y$57=24,ROUND($Y$16,0),\"\")&\"\"","v":""},{"$f":"IF($Z$57=24,ROUND($Z$16,0),\"\")&\"\"","v":""},{"$f":"IF($AA$57=24,ROUND($AA$16,0),\"\")&\"\"","v":""},9]
[null,null,10,{"$f":"IF($D$58=24,ROUND($D$17,0),\"\")&\"\"","v":""},{"$f":"IF($E$58=24,ROUND($E$17,0),\"\")&\"\"","v":""},{"$f":"IF($F$58=24,ROUND($F$17,0),\"\")&\"\"","v":""},{"$f":"IF($G$58=24,ROUND($G$17,0),\"\")&\"\"","v":""},{"$f":"IF($H$58=24,ROUND($H$17,0),\"\")&\"\"","v":""},{"$f":"IF($I$58=24,ROUND($I$17,0),\"\")&\"\"","v":""},{"$f":"IF($J$58=24,ROUND($J$17,0),\"\")&\"\"","v":""},{"$f":"IF($K$58=24,ROUND($K$17,0),\"\")&\"\"","v":""},{"$f":"IF($L$58=24,ROUND($L$17,0),\"\")&\"\"","v":""},{"$f":"IF($M$58=24,ROUND($M$17,0),\"\")&\"\"","v":""},{"$f":"IF($N$58=24,ROUND($N$17,0),\"\")&\"\"","v":""},{"$f":"IF($O$58=24,ROUND($O$17,0),\"\")&\"\"","v":""},{"$f":"IF($P$58=24,ROUND($P$17,0),\"\")&\"\"","v":""},{"$f":"IF($Q$58=24,ROUND($Q$17,0),\"\")&\"\"","v":""},{"$f":"IF($R$58=24,ROUND($R$17,0),\"\")&\"\"","v":""},{"$f":"IF($S$58=24,ROUND($S$17,0),\"\")&\"\"","v":""},{"$f":"IF($T$58=24,ROUND($T$17,0),\"\")&\"\"","v":""},{"$f":"IF($U$58=24,ROUND($U$17,0),\"\")&\"\"","v":""},{"$f":"IF($V$58=24,ROUND($V$17,0),\"\")&\"\"","v":""},{"$f":"IF($W$58=24,ROUND($W$17,0),\"\")&\"\"","v":""},{"$f":"IF($X$58=24,ROUND($X$17,0),\"\")&\"\"","v":""},{"$f":"IF($Y$58=24,ROUND($Y$17,0),\"\")&\"\"","v":""},{"$f":"IF($Z$58=24,ROUND($Z$17,0),\"\")&\"\"","v":""},{"$f":"IF($AA$58=24,ROUND($AA$17,0),\"\")&\"\"","v":""},10]
[null,null,11,{"$f":"IF($D$59=24,ROUND($D$18,0),\"\")&\"\"","v":""},{"$f":"IF($E$59=24,ROUND($E$18,0),\"\")&\"\"","v":""},{"$f":"IF($F$59=24,ROUND($F$18,0),\"\")&\"\"","v":""},{"$f":"IF($G$59=24,ROUND($G$18,0),\"\")&\"\"","v":""},{"$f":"IF($H$59=24,ROUND($H$18,0),\"\")&\"\"","v":""},{"$f":"IF($I$59=24,ROUND($I$18,0),\"\")&\"\"","v":""},{"$f":"IF($J$59=24,ROUND($J$18,0),\"\")&\"\"","v":""},{"$f":"IF($K$59=24,ROUND($K$18,0),\"\")&\"\"","v":""},{"$f":"IF($L$59=24,ROUND($L$18,0),\"\")&\"\"","v":""},{"$f":"IF($M$59=24,ROUND($M$18,0),\"\")&\"\"","v":""},{"$f":"IF($N$59=24,ROUND($N$18,0),\"\")&\"\"","v":""},{"$f":"IF($O$59=24,ROUND($O$18,0),\"\")&\"\"","v":""},{"$f":"IF($P$59=24,ROUND($P$18,0),\"\")&\"\"","v":""},{"$f":"IF($Q$59=24,ROUND($Q$18,0),\"\")&\"\"","v":""},{"$f":"IF($R$59=24,ROUND($R$18,0),\"\")&\"\"","v":""},{"$f":"IF($S$59=24,ROUND($S$18,0),\"\")&\"\"","v":""},{"$f":"IF($T$59=24,ROUND($T$18,0),\"\")&\"\"","v":""},{"$f":"IF($U$59=24,ROUND($U$18,0),\"\")&\"\"","v":""},{"$f":"IF($V$59=24,ROUND($V$18,0),\"\")&\"\"","v":""},{"$f":"IF($W$59=24,ROUND($W$18,0),\"\")&\"\"","v":""},{"$f":"IF($X$59=24,ROUND($X$18,0),\"\")&\"\"","v":""},{"$f":"IF($Y$59=24,ROUND($Y$18,0),\"\")&\"\"","v":""},{"$f":"IF($Z$59=24,ROUND($Z$18,0),\"\")&\"\"","v":""},{"$f":"IF($AA$59=24,ROUND($AA$18,0),\"\")&\"\"","v":""},11]
[null,null,12,{"$f":"IF($D$60=24,ROUND($D$19,0),\"\")&\"\"","v":""},{"$f":"IF($E$60=24,ROUND($E$19,0),\"\")&\"\"","v":""},{"$f":"IF($F$60=24,ROUND($F$19,0),\"\")&\"\"","v":""},{"$f":"IF($G$60=24,ROUND($G$19,0),\"\")&\"\"","v":""},{"$f":"IF($H$60=24,ROUND($H$19,0),\"\")&\"\"","v":""},{"$f":"IF($I$60=24,ROUND($I$19,0),\"\")&\"\"","v":""},{"$f":"IF($J$60=24,ROUND($J$19,0),\"\")&\"\"","v":""},{"$f":"IF($K$60=24,ROUND($K$19,0),\"\")&\"\"","v":""},{"$f":"IF($L$60=24,ROUND($L$19,0),\"\")&\"\"","v":""},{"$f":"IF($M$60=24,ROUND($M$19,0),\"\")&\"\"","v":""},{"$f":"IF($N$60=24,ROUND($N$19,0),\"\")&\"\"","v":""},{"$f":"IF($O$60=24,ROUND($O$19,0),\"\")&\"\"","v":""},{"$f":"IF($P$60=24,ROUND($P$19,0),\"\")&\"\"","v":""},{"$f":"IF($Q$60=24,ROUND($Q$19,0),\"\")&\"\"","v":""},{"$f":"IF($R$60=24,ROUND($R$19,0),\"\")&\"\"","v":""},{"$f":"IF($S$60=24,ROUND($S$19,0),\"\")&\"\"","v":""},{"$f":"IF($T$60=24,ROUND($T$19,0),\"\")&\"\"","v":""},{"$f":"IF($U$60=24,ROUND($U$19,0),\"\")&\"\"","v":""},{"$f":"IF($V$60=24,ROUND($V$19,0),\"\")&\"\"","v":""},{"$f":"IF($W$60=24,ROUND($W$19,0),\"\")&\"\"","v":""},{"$f":"IF($X$60=24,ROUND($X$19,0),\"\")&\"\"","v":""},{"$f":"IF($Y$60=24,ROUND($Y$19,0),\"\")&\"\"","v":""},{"$f":"IF($Z$60=24,ROUND($Z$19,0),\"\")&\"\"","v":""},{"$f":"IF($AA$60=24,ROUND($AA$19,0),\"\")&\"\"","v":""},12]
[null,null,1,{"$f":"IF($D$61=24,ROUND($D$20,0),\"\")&\"\"","v":""},{"$f":"IF($E$61=24,ROUND($E$20,0),\"\")&\"\"","v":""},{"$f":"IF($F$61=24,ROUND($F$20,0),\"\")&\"\"","v":""},{"$f":"IF($G$61=24,ROUND($G$20,0),\"\")&\"\"","v":""},{"$f":"IF($H$61=24,ROUND($H$20,0),\"\")&\"\"","v":""},{"$f":"IF($I$61=24,ROUND($I$20,0),\"\")&\"\"","v":""},{"$f":"IF($J$61=24,ROUND($J$20,0),\"\")&\"\"","v":""},{"$f":"IF($K$61=24,ROUND($K$20,0),\"\")&\"\"","v":""},{"$f":"IF($L$61=24,ROUND($L$20,0),\"\")&\"\"","v":""},{"$f":"IF($M$61=24,ROUND($M$20,0),\"\")&\"\"","v":""},{"$f":"IF($N$61=24,ROUND($N$20,0),\"\")&\"\"","v":""},{"$f":"IF($O$61=24,ROUND($O$20,0),\"\")&\"\"","v":""},{"$f":"IF($P$61=24,ROUND($P$20,0),\"\")&\"\"","v":""},{"$f":"IF($Q$61=24,ROUND($Q$20,0),\"\")&\"\"","v":""},{"$f":"IF($R$61=24,ROUND($R$20,0),\"\")&\"\"","v":""},{"$f":"IF($S$61=24,ROUND($S$20,0),\"\")&\"\"","v":""},{"$f":"IF($T$61=24,ROUND($T$20,0),\"\")&\"\"","v":""},{"$f":"IF($U$61=24,ROUND($U$20,0),\"\")&\"\"","v":""},{"$f":"IF($V$61=24,ROUND($V$20,0),\"\")&\"\"","v":""},{"$f":"IF($W$61=24,ROUND($W$20,0),\"\")&\"\"","v":""},{"$f":"IF($X$61=24,ROUND($X$20,0),\"\")&\"\"","v":""},{"$f":"IF($Y$61=24,ROUND($Y$20,0),\"\")&\"\"","v":""},{"$f":"IF($Z$61=24,ROUND($Z$20,0),\"\")&\"\"","v":""},{"$f":"IF($AA$61=24,ROUND($AA$20,0),\"\")&\"\"","v":""},1]
[null,null,2,{"$f":"IF($D$62=24,ROUND($D$21,0),\"\")&\"\"","v":""},{"$f":"IF($E$62=24,ROUND($E$21,0),\"\")&\"\"","v":""},{"$f":"IF($F$62=24,ROUND($F$21,0),\"\")&\"\"","v":""},{"$f":"IF($G$62=24,ROUND($G$21,0),\"\")&\"\"","v":""},{"$f":"IF($H$62=24,ROUND($H$21,0),\"\")&\"\"","v":""},{"$f":"IF($I$62=24,ROUND($I$21,0),\"\")&\"\"","v":""},{"$f":"IF($J$62=24,ROUND($J$21,0),\"\")&\"\"","v":""},{"$f":"IF($K$62=24,ROUND($K$21,0),\"\")&\"\"","v":""},{"$f":"IF($L$62=24,ROUND($L$21,0),\"\")&\"\"","v":""},{"$f":"IF($M$62=24,ROUND($M$21,0),\"\")&\"\"","v":""},{"$f":"IF($N$62=24,ROUND($N$21,0),\"\")&\"\"","v":""},{"$f":"IF($O$62=24,ROUND($O$21,0),\"\")&\"\"","v":""},{"$f":"IF($P$62=24,ROUND($P$21,0),\"\")&\"\"","v":""},{"$f":"IF($Q$62=24,ROUND($Q$21,0),\"\")&\"\"","v":""},{"$f":"IF($R$62=24,ROUND($R$21,0),\"\")&\"\"","v":""},{"$f":"IF($S$62=24,ROUND($S$21,0),\"\")&\"\"","v":""},{"$f":"IF($T$62=24,ROUND($T$21,0),\"\")&\"\"","v":""},{"$f":"IF($U$62=24,ROUND($U$21,0),\"\")&\"\"","v":""},{"$f":"IF($V$62=24,ROUND($V$21,0),\"\")&\"\"","v":""},{"$f":"IF($W$62=24,ROUND($W$21,0),\"\")&\"\"","v":""},{"$f":"IF($X$62=24,ROUND($X$21,0),\"\")&\"\"","v":""},{"$f":"IF($Y$62=24,ROUND($Y$21,0),\"\")&\"\"","v":""},{"$f":"IF($Z$62=24,ROUND($Z$21,0),\"\")&\"\"","v":""},{"$f":"IF($AA$62=24,ROUND($AA$21,0),\"\")&\"\"","v":""},2]
[null,null,3,{"$f":"IF($D$63=24,ROUND($D$22,0),\"\")&\"\"","v":""},{"$f":"IF($E$63=24,ROUND($E$22,0),\"\")&\"\"","v":""},{"$f":"IF($F$63=24,ROUND($F$22,0),\"\")&\"\"","v":""},{"$f":"IF($G$63=24,ROUND($G$22,0),\"\")&\"\"","v":""},{"$f":"IF($H$63=24,ROUND($H$22,0),\"\")&\"\"","v":""},{"$f":"IF($I$63=24,ROUND($I$22,0),\"\")&\"\"","v":""},{"$f":"IF($J$63=24,ROUND($J$22,0),\"\")&\"\"","v":""},{"$f":"IF($K$63=24,ROUND($K$22,0),\"\")&\"\"","v":""},{"$f":"IF($L$63=24,ROUND($L$22,0),\"\")&\"\"","v":""},{"$f":"IF($M$63=24,ROUND($M$22,0),\"\")&\"\"","v":""},{"$f":"IF($N$63=24,ROUND($N$22,0),\"\")&\"\"","v":""},{"$f":"IF($O$63=24,ROUND($O$22,0),\"\")&\"\"","v":""},{"$f":"IF($P$63=24,ROUND($P$22,0),\"\")&\"\"","v":""},{"$f":"IF($Q$63=24,ROUND($Q$22,0),\"\")&\"\"","v":""},{"$f":"IF($R$63=24,ROUND($R$22,0),\"\")&\"\"","v":""},{"$f":"IF($S$63=24,ROUND($S$22,0),\"\")&\"\"","v":""},{"$f":"IF($T$63=24,ROUND($T$22,0),\"\")&\"\"","v":""},{"$f":"IF($U$63=24,ROUND($U$22,0),\"\")&\"\"","v":""},{"$f":"IF($V$63=24,ROUND($V$22,0),\"\")&\"\"","v":""},{"$f":"IF($W$63=24,ROUND($W$22,0),\"\")&\"\"","v":""},{"$f":"IF($X$63=24,ROUND($X$22,0),\"\")&\"\"","v":""},{"$f":"IF($Y$63=24,ROUND($Y$22,0),\"\")&\"\"","v":""},{"$f":"IF($Z$63=24,ROUND($Z$22,0),\"\")&\"\"","v":""},{"$f":"IF($AA$63=24,ROUND($AA$22,0),\"\")&\"\"","v":""},3]
[]
[null,null,"作業表2-2(暖房)",null,"●月▲時の平均気温(四捨五入で表示）",null,null,null,null,null,null,null,null,null,null,null,null," "]
[null,null,"月"," 時刻",null,null,null,null,null,null,null,null,null,null,null,null,null,null,null,null,null,null,null,null,null,null,null,"月"]
[null,null,null,0,1,2,3,4,5,6,7,8,9,10,11,12,13,14,15,16,17,18,19,20,21,22,23]
[null,null,4,{"$f":"IF($D$52=19,ROUND($D$11,0),\"★\")","v":"★"},{"$f":"IF($E$52=19,ROUND($E$11,0),\"★\")","v":"★"},{"$f":"IF($F$52=19,ROUND($F$11,0),\"★\")","v":"★"},{"$f":"IF($G$52=19,ROUND($G$11,0),\"★\")","v":"★"},{"$f":"IF($H$52=19,ROUND($H$11,0),\"★\")","v":"★"},{"$f":"IF($I$52=19,ROUND($I$11,0),\"★\")","v":"★"},{"$f":"IF($J$52=19,ROUND($J$11,0),\"★\")","v":"★"},{"$f":"IF($K$52=19,ROUND($K$11,0),\"★\")","v":"★"},{"$f":"IF($L$52=19,ROUND($L$11,0),\"★\")","v":"★"},{"$f":"IF($M$52=19,ROUND($M$11,0),\"★\")","v":"★"},{"$f":"IF($N$52=19,ROUND($N$11,0),\"★\")","v":"★"},{"$f":"IF($O$52=19,ROUND($O$11,0),\"★\")","v":"★"},{"$f":"IF($P$52=19,ROUND($P$11,0),\"★\")","v":"★"},{"$f":"IF($Q$52=19,ROUND($Q$11,0),\"★\")","v":"★"},{"$f":"IF($R$52=19,ROUND($R$11,0),\"★\")","v":"★"},{"$f":"IF($S$52=19,ROUND($S$11,0),\"★\")","v":"★"},{"$f":"IF($T$52=19,ROUND($T$11,0),\"★\")","v":"★"},{"$f":"IF($U$52=19,ROUND($U$11,0),\"★\")","v":"★"},{"$f":"IF($V$52=19,ROUND($V$11,0),\"★\")","v":"★"},{"$f":"IF($W$52=19,ROUND($W$11,0),\"★\")","v":"★"},{"$f":"IF($X$52=19,ROUND($X$11,0),\"★\")","v":"★"},{"$f":"IF($Y$52=19,ROUND($Y$11,0),\"★\")","v":"★"},{"$f":"IF($Z$52=19,ROUND($Z$11,0),\"★\")","v":"★"},{"$f":"IF($AA$52=19,ROUND($AA$11,0),\"★\")","v":"★"},4,{"$f":"IFERROR(AVERAGE(D84:AA84),\"\")","v":""}]
[null,null,5,{"$f":"IF($D$53=19,ROUND($D$12,0),\"★\")","v":"★"},{"$f":"IF($E$53=19,ROUND($E$12,0),\"★\")","v":"★"},{"$f":"IF($F$53=19,ROUND($F$12,0),\"★\")","v":"★"},{"$f":"IF($G$53=19,ROUND($G$12,0),\"★\")","v":"★"},{"$f":"IF($H$53=19,ROUND($H$12,0),\"★\")","v":"★"},{"$f":"IF($I$53=19,ROUND($I$12,0),\"★\")","v":"★"},{"$f":"IF($J$53=19,ROUND($J$12,0),\"★\")","v":"★"},{"$f":"IF($K$53=19,ROUND($K$12,0),\"★\")","v":"★"},{"$f":"IF($L$53=19,ROUND($L$12,0),\"★\")","v":"★"},{"$f":"IF($M$53=19,ROUND($M$12,0),\"★\")","v":"★"},{"$f":"IF($N$53=19,ROUND($N$12,0),\"★\")","v":"★"},{"$f":"IF($O$53=19,ROUND($O$12,0),\"★\")","v":"★"},{"$f":"IF($P$53=19,ROUND($P$12,0),\"★\")","v":"★"},{"$f":"IF($Q$53=19,ROUND($Q$12,0),\"★\")","v":"★"},{"$f":"IF($R$53=19,ROUND($R$12,0),\"★\")","v":"★"},{"$f":"IF($S$53=19,ROUND($S$12,0),\"★\")","v":"★"},{"$f":"IF($T$53=19,ROUND($T$12,0),\"★\")","v":"★"},{"$f":"IF($U$53=19,ROUND($U$12,0),\"★\")","v":"★"},{"$f":"IF($V$53=19,ROUND($V$12,0),\"★\")","v":"★"},{"$f":"IF($W$53=19,ROUND($W$12,0),\"★\")","v":"★"},{"$f":"IF($X$53=19,ROUND($X$12,0),\"★\")","v":"★"},{"$f":"IF($Y$53=19,ROUND($Y$12,0),\"★\")","v":"★"},{"$f":"IF($Z$53=19,ROUND($Z$12,0),\"★\")","v":"★"},{"$f":"IF($AA$53=19,ROUND($AA$12,0),\"★\")","v":"★"},5,""]
[null,null,6,{"$f":"IF($D$54=19,ROUND($D$13,0),\"★\")","v":"★"},{"$f":"IF($E$54=19,ROUND($E$13,0),\"★\")","v":"★"},{"$f":"IF($F$54=19,ROUND($F$13,0),\"★\")","v":"★"},{"$f":"IF($G$54=19,ROUND($G$13,0),\"★\")","v":"★"},{"$f":"IF($H$54=19,ROUND($H$13,0),\"★\")","v":"★"},{"$f":"IF($I$54=19,ROUND($I$13,0),\"★\")","v":"★"},{"$f":"IF($J$54=19,ROUND($J$13,0),\"★\")","v":"★"},{"$f":"IF($K$54=19,ROUND($K$13,0),\"★\")","v":"★"},{"$f":"IF($L$54=19,ROUND($L$13,0),\"★\")","v":"★"},{"$f":"IF($M$54=19,ROUND($M$13,0),\"★\")","v":"★"},{"$f":"IF($N$54=19,ROUND($N$13,0),\"★\")","v":"★"},{"$f":"IF($O$54=19,ROUND($O$13,0),\"★\")","v":"★"},{"$f":"IF($P$54=19,ROUND($P$13,0),\"★\")","v":"★"},{"$f":"IF($Q$54=19,ROUND($Q$13,0),\"★\")","v":"★"},{"$f":"IF($R$54=19,ROUND($R$13,0),\"★\")","v":"★"},{"$f":"IF($S$54=19,ROUND($S$13,0),\"★\")","v":"★"},{"$f":"IF($T$54=19,ROUND($T$13,0),\"★\")","v":"★"},{"$f":"IF($U$54=19,ROUND($U$13,0),\"★\")","v":"★"},{"$f":"IF($V$54=19,ROUND($V$13,0),\"★\")","v":"★"},{"$f":"IF($W$54=19,ROUND($W$13,0),\"★\")","v":"★"},{"$f":"IF($X$54=19,ROUND($X$13,0),\"★\")","v":"★"},{"$f":"IF($Y$54=19,ROUND($Y$13,0),\"★\")","v":"★"},{"$f":"IF($Z$54=19,ROUND($Z$13,0),\"★\")","v":"★"},{"$f":"IF($AA$54=19,ROUND($AA$13,0),\"★\")","v":"★"},6,""]
[null,null,7,{"$f":"IF($D$55=19,ROUND($D$14,0),\"★\")","v":"★"},{"$f":"IF($E$55=19,ROUND($E$14,0),\"★\")","v":"★"},{"$f":"IF($F$55=19,ROUND($F$14,0),\"★\")","v":"★"},{"$f":"IF($G$55=19,ROUND($G$14,0),\"★\")","v":"★"},{"$f":"IF($H$55=19,ROUND($H$14,0),\"★\")","v":"★"},{"$f":"IF($I$55=19,ROUND($I$14,0),\"★\")","v":"★"},{"$f":"IF($J$55=19,ROUND($J$14,0),\"★\")","v":"★"},{"$f":"IF($K$55=19,ROUND($K$14,0),\"★\")","v":"★"},{"$f":"IF($L$55=19,ROUND($L$14,0),\"★\")","v":"★"},{"$f":"IF($M$55=19,ROUND($M$14,0),\"★\")","v":"★"},{"$f":"IF($N$55=19,ROUND($N$14,0),\"★\")","v":"★"},{"$f":"IF($O$55=19,ROUND($O$14,0),\"★\")","v":"★"},{"$f":"IF($P$55=19,ROUND($P$14,0),\"★\")","v":"★"},{"$f":"IF($Q$55=19,ROUND($Q$14,0),\"★\")","v":"★"},{"$f":"IF($R$55=19,ROUND($R$14,0),\"★\")","v":"★"},{"$f":"IF($S$55=19,ROUND($S$14,0),\"★\")","v":"★"},{"$f":"IF($T$55=19,ROUND($T$14,0),\"★\")","v":"★"},{"$f":"IF($U$55=19,ROUND($U$14,0),\"★\")","v":"★"},{"$f":"IF($V$55=19,ROUND($V$14,0),\"★\")","v":"★"},{"$f":"IF($W$55=19,ROUND($W$14,0),\"★\")","v":"★"},{"$f":"IF($X$55=19,ROUND($X$14,0),\"★\")","v":"★"},{"$f":"IF($Y$55=19,ROUND($Y$14,0),\"★\")","v":"★"},{"$f":"IF($Z$55=19,ROUND($Z$14,0),\"★\")","v":"★"},{"$f":"IF($AA$55=19,ROUND($AA$14,0),\"★\")","v":"★"},7,""]
[null,null,8,{"$f":"IF($D$56=19,ROUND($D$15,0),\"★\")","v":"★"},{"$f":"IF($E$56=19,ROUND($E$15,0),\"★\")","v":"★"},{"$f":"IF($F$56=19,ROUND($F$15,0),\"★\")","v":"★"},{"$f":"IF($G$56=19,ROUND($G$15,0),\"★\")","v":"★"},{"$f":"IF($H$56=19,ROUND($H$15,0),\"★\")","v":"★"},{"$f":"IF($I$56=19,ROUND($I$15,0),\"★\")","v":"★"},{"$f":"IF($J$56=19,ROUND($J$15,0),\"★\")","v":"★"},{"$f":"IF($K$56=19,ROUND($K$15,0),\"★\")","v":"★"},{"$f":"IF($L$56=19,ROUND($L$15,0),\"★\")","v":"★"},{"$f":"IF($M$56=19,ROUND($M$15,0),\"★\")","v":"★"},{"$f":"IF($N$56=19,ROUND($N$15,0),\"★\")","v":"★"},{"$f":"IF($O$56=19,ROUND($O$15,0),\"★\")","v":"★"},{"$f":"IF($P$56=19,ROUND($P$15,0),\"★\")","v":"★"},{"$f":"IF($Q$56=19,ROUND($Q$15,0),\"★\")","v":"★"},{"$f":"IF($R$56=19,ROUND($R$15,0),\"★\")","v":"★"},{"$f":"IF($S$56=19,ROUND($S$15,0),\"★\")","v":"★"},{"$f":"IF($T$56=19,ROUND($T$15,0),\"★\")","v":"★"},{"$f":"IF($U$56=19,ROUND($U$15,0),\"★\")","v":"★"},{"$f":"IF($V$56=19,ROUND($V$15,0),\"★\")","v":"★"},{"$f":"IF($W$56=19,ROUND($W$15,0),\"★\")","v":"★"},{"$f":"IF($X$56=19,ROUND($X$15,0),\"★\")","v":"★"},{"$f":"IF($Y$56=19,ROUND($Y$15,0),\"★\")","v":"★"},{"$f":"IF($Z$56=19,ROUND($Z$15,0),\"★\")","v":"★"},{"$f":"IF($AA$56=19,ROUND($AA$15,0),\"★\")","v":"★"},8,""]
[null,null,9,{"$f":"IF($D$57=19,ROUND($D$16,0),\"★\")","v":"★"},{"$f":"IF($E$57=19,ROUND($E$16,0),\"★\")","v":"★"},{"$f":"IF($F$57=19,ROUND($F$16,0),\"★\")","v":"★"},{"$f":"IF($G$57=19,ROUND($G$16,0),\"★\")","v":"★"},{"$f":"IF($H$57=19,ROUND($H$16,0),\"★\")","v":"★"},{"$f":"IF($I$57=19,ROUND($I$16,0),\"★\")","v":"★"},{"$f":"IF($J$57=19,ROUND($J$16,0),\"★\")","v":"★"},{"$f":"IF($K$57=19,ROUND($K$16,0),\"★\")","v":"★"},{"$f":"IF($L$57=19,ROUND($L$16,0),\"★\")","v":"★"},{"$f":"IF($M$57=19,ROUND($M$16,0),\"★\")","v":"★"},{"$f":"IF($N$57=19,ROUND($N$16,0),\"★\")","v":"★"},{"$f":"IF($O$57=19,ROUND($O$16,0),\"★\")","v":"★"},{"$f":"IF($P$57=19,ROUND($P$16,0),\"★\")","v":"★"},{"$f":"IF($Q$57=19,ROUND($Q$16,0),\"★\")","v":"★"},{"$f":"IF($R$57=19,ROUND($R$16,0),\"★\")","v":"★"},{"$f":"IF($S$57=19,ROUND($S$16,0),\"★\")","v":"★"},{"$f":"IF($T$57=19,ROUND($T$16,0),\"★\")","v":"★"},{"$f":"IF($U$57=19,ROUND($U$16,0),\"★\")","v":"★"},{"$f":"IF($V$57=19,ROUND($V$16,0),\"★\")","v":"★"},{"$f":"IF($W$57=19,ROUND($W$16,0),\"★\")","v":"★"},{"$f":"IF($X$57=19,ROUND($X$16,0),\"★\")","v":"★"},{"$f":"IF($Y$57=19,ROUND($Y$16,0),\"★\")","v":"★"},{"$f":"IF($Z$57=19,ROUND($Z$16,0),\"★\")","v":"★"},{"$f":"IF($AA$57=19,ROUND($AA$16,0),\"★\")","v":"★"},9,""]
[null,null,10,{"$f":"IF($D$58=19,ROUND($D$17,0),\"★\")","v":"★"},{"$f":"IF($E$58=19,ROUND($E$17,0),\"★\")","v":"★"},{"$f":"IF($F$58=19,ROUND($F$17,0),\"★\")","v":"★"},{"$f":"IF($G$58=19,ROUND($G$17,0),\"★\")","v":"★"},{"$f":"IF($H$58=19,ROUND($H$17,0),\"★\")","v":"★"},{"$f":"IF($I$58=19,ROUND($I$17,0),\"★\")","v":"★"},{"$f":"IF($J$58=19,ROUND($J$17,0),\"★\")","v":"★"},{"$f":"IF($K$58=19,ROUND($K$17,0),\"★\")","v":"★"},{"$f":"IF($L$58=19,ROUND($L$17,0),\"★\")","v":"★"},{"$f":"IF($M$58=19,ROUND($M$17,0),\"★\")","v":"★"},{"$f":"IF($N$58=19,ROUND($N$17,0),\"★\")","v":"★"},{"$f":"IF($O$58=19,ROUND($O$17,0),\"★\")","v":"★"},{"$f":"IF($P$58=19,ROUND($P$17,0),\"★\")","v":"★"},{"$f":"IF($Q$58=19,ROUND($Q$17,0),\"★\")","v":"★"},{"$f":"IF($R$58=19,ROUND($R$17,0),\"★\")","v":"★"},{"$f":"IF($S$58=19,ROUND($S$17,0),\"★\")","v":"★"},{"$f":"IF($T$58=19,ROUND($T$17,0),\"★\")","v":"★"},{"$f":"IF($U$58=19,ROUND($U$17,0),\"★\")","v":"★"},{"$f":"IF($V$58=19,ROUND($V$17,0),\"★\")","v":"★"},{"$f":"IF($W$58=19,ROUND($W$17,0),\"★\")","v":"★"},{"$f":"IF($X$58=19,ROUND($X$17,0),\"★\")","v":"★"},{"$f":"IF($Y$58=19,ROUND($Y$17,0),\"★\")","v":"★"},{"$f":"IF($Z$58=19,ROUND($Z$17,0),\"★\")","v":"★"},{"$f":"IF($AA$58=19,ROUND($AA$17,0),\"★\")","v":"★"},10,""]
[null,null,11,{"$f":"IF($D$59=19,ROUND($D$18,0),\"★\")","v":"★"},{"$f":"IF($E$59=19,ROUND($E$18,0),\"★\")","v":"★"},{"$f":"IF($F$59=19,ROUND($F$18,0),\"★\")","v":"★"},{"$f":"IF($G$59=19,ROUND($G$18,0),\"★\")","v":"★"},{"$f":"IF($H$59=19,ROUND($H$18,0),\"★\")","v":"★"},{"$f":"IF($I$59=19,ROUND($I$18,0),\"★\")","v":"★"},{"$f":"IF($J$59=19,ROUND($J$18,0),\"★\")","v":"★"},{"$f":"IF($K$59=19,ROUND($K$18,0),\"★\")","v":"★"},{"$f":"IF($L$59=19,ROUND($L$18,0),\"★\")","v":"★"},{"$f":"IF($M$59=19,ROUND($M$18,0),\"★\")","v":"★"},{"$f":"IF($N$59=19,ROUND($N$18,0),\"★\")","v":"★"},{"$f":"IF($O$59=19,ROUND($O$18,0),\"★\")","v":"★"},{"$f":"IF($P$59=19,ROUND($P$18,0),\"★\")","v":"★"},{"$f":"IF($Q$59=19,ROUND($Q$18,0),\"★\")","v":"★"},{"$f":"IF($R$59=19,ROUND($R$18,0),\"★\")","v":"★"},{"$f":"IF($S$59=19,ROUND($S$18,0),\"★\")","v":"★"},{"$f":"IF($T$59=19,ROUND($T$18,0),\"★\")","v":"★"},{"$f":"IF($U$59=19,ROUND($U$18,0),\"★\")","v":"★"},{"$f":"IF($V$59=19,ROUND($V$18,0),\"★\")","v":"★"},{"$f":"IF($W$59=19,ROUND($W$18,0),\"★\")","v":"★"},{"$f":"IF($X$59=19,ROUND($X$18,0),\"★\")","v":"★"},{"$f":"IF($Y$59=19,ROUND($Y$18,0),\"★\")","v":"★"},{"$f":"IF($Z$59=19,ROUND($Z$18,0),\"★\")","v":"★"},{"$f":"IF($AA$59=19,ROUND($AA$18,0),\"★\")","v":"★"},11,""]
[null,null,12,{"$f":"IF($D$60=19,ROUND($D$19,0),\"★\")","v":"★"},{"$f":"IF($E$60=19,ROUND($E$19,0),\"★\")","v":"★"},{"$f":"IF($F$60=19,ROUND($F$19,0),\"★\")","v":"★"},{"$f":"IF($G$60=19,ROUND($G$19,0),\"★\")","v":"★"},{"$f":"IF($H$60=19,ROUND($H$19,0),\"★\")","v":"★"},{"$f":"IF($I$60=19,ROUND($I$19,0),\"★\")","v":"★"},{"$f":"IF($J$60=19,ROUND($J$19,0),\"★\")","v":"★"},{"$f":"IF($K$60=19,ROUND($K$19,0),\"★\")","v":"★"},{"$f":"IF($L$60=19,ROUND($L$19,0),\"★\")","v":"★"},{"$f":"IF($M$60=19,ROUND($M$19,0),\"★\")","v":"★"},{"$f":"IF($N$60=19,ROUND($N$19,0),\"★\")","v":"★"},{"$f":"IF($O$60=19,ROUND($O$19,0),\"★\")","v":"★"},{"$f":"IF($P$60=19,ROUND($P$19,0),\"★\")","v":"★"},{"$f":"IF($Q$60=19,ROUND($Q$19,0),\"★\")","v":"★"},{"$f":"IF($R$60=19,ROUND($R$19,0),\"★\")","v":"★"},{"$f":"IF($S$60=19,ROUND($S$19,0),\"★\")","v":"★"},{"$f":"IF($T$60=19,ROUND($T$19,0),\"★\")","v":"★"},{"$f":"IF($U$60=19,ROUND($U$19,0),\"★\")","v":"★"},{"$f":"IF($V$60=19,ROUND($V$19,0),\"★\")","v":"★"},{"$f":"IF($W$60=19,ROUND($W$19,0),\"★\")","v":"★"},{"$f":"IF($X$60=19,ROUND($X$19,0),\"★\")","v":"★"},{"$f":"IF($Y$60=19,ROUND($Y$19,0),\"★\")","v":"★"},{"$f":"IF($Z$60=19,ROUND($Z$19,0),\"★\")","v":"★"},{"$f":"IF($AA$60=19,ROUND($AA$19,0),\"★\")","v":"★"},12,""]
[null,null,1,{"$f":"IF($D$61=19,ROUND($D$20,0),\"★\")","v":"★"},{"$f":"IF($E$61=19,ROUND($E$20,0),\"★\")","v":"★"},{"$f":"IF($F$61=19,ROUND($F$20,0),\"★\")","v":"★"},{"$f":"IF($G$61=19,ROUND($G$20,0),\"★\")","v":"★"},{"$f":"IF($H$61=19,ROUND($H$20,0),\"★\")","v":"★"},{"$f":"IF($I$61=19,ROUND($I$20,0),\"★\")","v":"★"},{"$f":"IF($J$61=19,ROUND($J$20,0),\"★\")","v":"★"},{"$f":"IF($K$61=19,ROUND($K$20,0),\"★\")","v":"★"},{"$f":"IF($L$61=19,ROUND($L$20,0),\"★\")","v":"★"},{"$f":"IF($M$61=19,ROUND($M$20,0),\"★\")","v":"★"},{"$f":"IF($N$61=19,ROUND($N$20,0),\"★\")","v":"★"},{"$f":"IF($O$61=19,ROUND($O$20,0),\"★\")","v":"★"},{"$f":"IF($P$61=19,ROUND($P$20,0),\"★\")","v":"★"},{"$f":"IF($Q$61=19,ROUND($Q$20,0),\"★\")","v":"★"},{"$f":"IF($R$61=19,ROUND($R$20,0),\"★\")","v":"★"},{"$f":"IF($S$61=19,ROUND($S$20,0),\"★\")","v":"★"},{"$f":"IF($T$61=19,ROUND($T$20,0),\"★\")","v":"★"},{"$f":"IF($U$61=19,ROUND($U$20,0),\"★\")","v":"★"},{"$f":"IF($V$61=19,ROUND($V$20,0),\"★\")","v":"★"},{"$f":"IF($W$61=19,ROUND($W$20,0),\"★\")","v":"★"},{"$f":"IF($X$61=19,ROUND($X$20,0),\"★\")","v":"★"},{"$f":"IF($Y$61=19,ROUND($Y$20,0),\"★\")","v":"★"},{"$f":"IF($Z$61=19,ROUND($Z$20,0),\"★\")","v":"★"},{"$f":"IF($AA$61=19,ROUND($AA$20,0),\"★\")","v":"★"},1,""]
[null,null,2,{"$f":"IF($D$62=19,ROUND($D$21,0),\"★\")","v":"★"},{"$f":"IF($E$62=19,ROUND($E$21,0),\"★\")","v":"★"},{"$f":"IF($F$62=19,ROUND($F$21,0),\"★\")","v":"★"},{"$f":"IF($G$62=19,ROUND($G$21,0),\"★\")","v":"★"},{"$f":"IF($H$62=19,ROUND($H$21,0),\"★\")","v":"★"},{"$f":"IF($I$62=19,ROUND($I$21,0),\"★\")","v":"★"},{"$f":"IF($J$62=19,ROUND($J$21,0),\"★\")","v":"★"},{"$f":"IF($K$62=19,ROUND($K$21,0),\"★\")","v":"★"},{"$f":"IF($L$62=19,ROUND($L$21,0),\"★\")","v":"★"},{"$f":"IF($M$62=19,ROUND($M$21,0),\"★\")","v":"★"},{"$f":"IF($N$62=19,ROUND($N$21,0),\"★\")","v":"★"},{"$f":"IF($O$62=19,ROUND($O$21,0),\"★\")","v":"★"},{"$f":"IF($P$62=19,ROUND($P$21,0),\"★\")","v":"★"},{"$f":"IF($Q$62=19,ROUND($Q$21,0),\"★\")","v":"★"},{"$f":"IF($R$62=19,ROUND($R$21,0),\"★\")","v":"★"},{"$f":"IF($S$62=19,ROUND($S$21,0),\"★\")","v":"★"},{"$f":"IF($T$62=19,ROUND($T$21,0),\"★\")","v":"★"},{"$f":"IF($U$62=19,ROUND($U$21,0),\"★\")","v":"★"},{"$f":"IF($V$62=19,ROUND($V$21,0),\"★\")","v":"★"},{"$f":"IF($W$62=19,ROUND($W$21,0),\"★\")","v":"★"},{"$f":"IF($X$62=19,ROUND($X$21,0),\"★\")","v":"★"},{"$f":"IF($Y$62=19,ROUND($Y$21,0),\"★\")","v":"★"},{"$f":"IF($Z$62=19,ROUND($Z$21,0),\"★\")","v":"★"},{"$f":"IF($AA$62=19,ROUND($AA$21,0),\"★\")","v":"★"},2,""]
[null,null,3,{"$f":"IF($D$63=19,ROUND($D$22,0),\"★\")","v":"★"},{"$f":"IF($E$63=19,ROUND($E$22,0),\"★\")","v":"★"},{"$f":"IF($F$63=19,ROUND($F$22,0),\"★\")","v":"★"},{"$f":"IF($G$63=19,ROUND($G$22,0),\"★\")","v":"★"},{"$f":"IF($H$63=19,ROUND($H$22,0),\"★\")","v":"★"},{"$f":"IF($I$63=19,ROUND($I$22,0),\"★\")","v":"★"},{"$f":"IF($J$63=19,ROUND($J$22,0),\"★\")","v":"★"},{"$f":"IF($K$63=19,ROUND($K$22,0),\"★\")","v":"★"},{"$f":"IF($L$63=19,ROUND($L$22,0),\"★\")","v":"★"},{"$f":"IF($M$63=19,ROUND($M$22,0),\"★\")","v":"★"},{"$f":"IF($N$63=19,ROUND($N$22,0),\"★\")","v":"★"},{"$f":"IF($O$63=19,ROUND($O$22,0),\"★\")","v":"★"},{"$f":"IF($P$63=19,ROUND($P$22,0),\"★\")","v":"★"},{"$f":"IF($Q$63=19,ROUND($Q$22,0),\"★\")","v":"★"},{"$f":"IF($R$63=19,ROUND($R$22,0),\"★\")","v":"★"},{"$f":"IF($S$63=19,ROUND($S$22,0),\"★\")","v":"★"},{"$f":"IF($T$63=19,ROUND($T$22,0),\"★\")","v":"★"},{"$f":"IF($U$63=19,ROUND($U$22,0),\"★\")","v":"★"},{"$f":"IF($V$63=19,ROUND($V$22,0),\"★\")","v":"★"},{"$f":"IF($W$63=19,ROUND($W$22,0),\"★\")","v":"★"},{"$f":"IF($X$63=19,ROUND($X$22,0),\"★\")","v":"★"},{"$f":"IF($Y$63=19,ROUND($Y$22,0),\"★\")","v":"★"},{"$f":"IF($Z$63=19,ROUND($Z$22,0),\"★\")","v":"★"},{"$f":"IF($AA$63=19,ROUND($AA$22,0),\"★\")","v":"★"},3,""]
[]
[null,null,"冷房期間中　温度(T)が発生する時間[hour]"]
[null,null,null," 温度(T)"]
[null,null,"月",-6,-5,-4,-3,-2,-1,0,1,2,3,4,5,6,7,8,9,10,11,12,13,14,15,16,17,18,19,20,21,22,23,24,25,26,27,28,29,30,31,32,33,34,35,"月"]
[null,null,4,{"$f":"COUNTIF($D$68:$AA$68,$D$99)*$AB$11","v":0},{"$f":"COUNTIF($D$68:$AA$68,$E$99)*$AB$11","v":0},{"$f":"COUNTIF($D$68:$AA$68,$F$99)*$AB$11","v":0},{"$f":"COUNTIF($D$68:$AA$68,$G$99)*$AB$11","v":0},{"$f":"COUNTIF($D$68:$AA$68,$H$99)*$AB$11","v":0},{"$f":"COUNTIF($D$68:$AA$68,$I$99)*$AB$11","v":0},{"$f":"COUNTIF($D$68:$AA$68,$J$99)*$AB$11","v":0},{"$f":"COUNTIF($D$68:$AA$68,$K$99)*$AB$11","v":0},{"$f":"COUNTIF($D$68:$AA$68,$L$99)*$AB$11","v":0},{"$f":"COUNTIF($D$68:$AA$68,$M$99)*$AB$11","v":0},{"$f":"COUNTIF($D$68:$AA$68,$N$99)*$AB$11","v":0},{"$f":"COUNTIF($D$68:$AA$68,$O$99)*$AB$11","v":0},{"$f":"COUNTIF($D$68:$AA$68,$P$99)*$AB$11","v":0},{"$f":"COUNTIF($D$68:$AA$68,$Q$99)*$AB$11","v":0},{"$f":"COUNTIF($D$68:$AA$68,$R$99)*$AB$11","v":0},{"$f":"COUNTIF($D$68:$AA$68,$S$99)*$AB$11","v":0},{"$f":"COUNTIF($D$68:$AA$68,$T$99)*$AB$11","v":0},{"$f":"COUNTIF($D$68:$AA$68,$U$99)*$AB$11","v":0},{"$f":"COUNTIF($D$68:$AA$68,$V$99)*$AB$11","v":0},{"$f":"COUNTIF($D$68:$AA$68,$W$99)*$AB$11","v":0},{"$f":"COUNTIF($D$68:$AA$68,$X$99)*$AB$11","v":0},{"$f":"COUNTIF($D$68:$AA$68,$Y$99)*$AB$11","v":0},{"$f":"COUNTIF($D$68:$AA$68,$Z$99)*$AB$11","v":0},{"$f":"COUNTIF($D$68:$AA$68,$AA$99)*$AB$11","v":0},{"$f":"COUNTIF($D$68:$AA$68,$AB$99)*$AB$11","v":0},{"$f":"COUNTIF($D$68:$AA$68,$AC$99)*$AB$11","v":0},{"$f":"COUNTIF($D$68:$AA$68,$AD$99)*$AB$11","v":0},{"$f":"COUNTIF($D$68:$AA$68,$AE$99)*$AB$11","v":0},{"$f":"COUNTIF($D$68:$AA$68,$AF$99)*$AB$11","v":0},{"$f":"COUNTIF($D$68:$AA$68,$AG$99)*$AB$11","v":0},{"$f":"COUNTIF($D$68:$AA$68,$AH$99)*$AB$11","v":0},{"$f":"COUNTIF($D$68:$AA$68,$AI$99)*$AB$11","v":0},{"$f":"COUNTIF($D$68:$AA$68,$AJ$99)*$AB$11","v":0},{"$f":"COUNTIF($D$68:$AA$68,$AK$99)*$AB$11","v":0},{"$f":"COUNTIF($D$68:$AA$68,$AL$99)*$AB$11","v":0},{"$f":"COUNTIF($D$68:$AA$68,$AM$99)*$AB$11","v":0},{"$f":"COUNTIF($D$68:$AA$68,$AN$99)*$AB$11","v":0},{"$f":"COUNTIF($D$68:$AA$68,$AO$99)*$AB$11","v":0},{"$f":"COUNTIF($D$68:$AA$68,$AP$99)*$AB$11","v":0},{"$f":"COUNTIF($D$68:$AA$68,$AQ$99)*$AB$11","v":0},{"$f":"COUNTIF($D$68:$AA$68,$AR$99)*$AB$11","v":0},{"$f":"COUNTIF($D$68:$AA$68,$AS$99)*$AB$11","v":0},4,{"$f":"SUMPRODUCT(D100:AS100,$D$113:$AS$113)","v":{"$error":"#REF!"}}]
[null,null,5,{"$f":"COUNTIF($D$69:$AA$69,$D$99)*$AB$12","v":0},{"$f":"COUNTIF($D$69:$AA$69,$E$99)*$AB$12","v":0},{"$f":"COUNTIF($D$69:$AA$69,$F$99)*$AB$12","v":0},{"$f":"COUNTIF($D$69:$AA$69,$G$99)*$AB$12","v":0},{"$f":"COUNTIF($D$69:$AA$69,$H$99)*$AB$12","v":0},{"$f":"COUNTIF($D$69:$AA$69,$I$99)*$AB$12","v":0},{"$f":"COUNTIF($D$69:$AA$69,$J$99)*$AB$12","v":0},{"$f":"COUNTIF($D$69:$AA$69,$K$99)*$AB$12","v":0},{"$f":"COUNTIF($D$69:$AA$69,$L$99)*$AB$12","v":0},{"$f":"COUNTIF($D$69:$AA$69,$M$99)*$AB$12","v":0},{"$f":"COUNTIF($D$69:$AA$69,$N$99)*$AB$12","v":0},{"$f":"COUNTIF($D$69:$AA$69,$O$99)*$AB$12","v":0},{"$f":"COUNTIF($D$69:$AA$69,$P$99)*$AB$12","v":0},{"$f":"COUNTIF($D$69:$AA$69,$Q$99)*$AB$12","v":0},{"$f":"COUNTIF($D$69:$AA$69,$R$99)*$AB$12","v":0},{"$f":"COUNTIF($D$69:$AA$69,$S$99)*$AB$12","v":0},{"$f":"COUNTIF($D$69:$AA$69,$T$99)*$AB$12","v":0},{"$f":"COUNTIF($D$69:$AA$69,$U$99)*$AB$12","v":0},{"$f":"COUNTIF($D$69:$AA$69,$V$99)*$AB$12","v":0},{"$f":"COUNTIF($D$69:$AA$69,$W$99)*$AB$12","v":0},{"$f":"COUNTIF($D$69:$AA$69,$X$99)*$AB$12","v":0},{"$f":"COUNTIF($D$69:$AA$69,$Y$99)*$AB$12","v":0},{"$f":"COUNTIF($D$69:$AA$69,$Z$99)*$AB$12","v":0},{"$f":"COUNTIF($D$69:$AA$69,$AA$99)*$AB$12","v":0},{"$f":"COUNTIF($D$69:$AA$69,$AB$99)*$AB$12","v":0},{"$f":"COUNTIF($D$69:$AA$69,$AC$99)*$AB$12","v":0},{"$f":"COUNTIF($D$69:$AA$69,$AD$99)*$AB$12","v":0},{"$f":"COUNTIF($D$69:$AA$69,$AE$99)*$AB$12","v":0},{"$f":"COUNTIF($D$69:$AA$69,$AF$99)*$AB$12","v":0},{"$f":"COUNTIF($D$69:$AA$69,$AG$99)*$AB$12","v":0},{"$f":"COUNTIF($D$69:$AA$69,$AH$99)*$AB$12","v":0},{"$f":"COUNTIF($D$69:$AA$69,$AI$99)*$AB$12","v":0},{"$f":"COUNTIF($D$69:$AA$69,$AJ$99)*$AB$12","v":0},{"$f":"COUNTIF($D$69:$AA$69,$AK$99)*$AB$12","v":0},{"$f":"COUNTIF($D$69:$AA$69,$AL$99)*$AB$12","v":0},{"$f":"COUNTIF($D$69:$AA$69,$AM$99)*$AB$12","v":0},{"$f":"COUNTIF($D$69:$AA$69,$AN$99)*$AB$12","v":0},{"$f":"COUNTIF($D$69:$AA$69,$AO$99)*$AB$12","v":0},{"$f":"COUNTIF($D$69:$AA$69,$AP$99)*$AB$12","v":0},{"$f":"COUNTIF($D$69:$AA$69,$AQ$99)*$AB$12","v":0},{"$f":"COUNTIF($D$69:$AA$69,$AR$99)*$AB$12","v":0},{"$f":"COUNTIF($D$69:$AA$69,$AS$99)*#REF!","v":{"$error":"#REF!"}},5,{"$f":"SUMPRODUCT(D101:AS101,$D$113:$AS$113)","v":{"$error":"#REF!"}}]
[null,null,6,{"$f":"COUNTIF($D$70:$AA$70,$D$99)*$AB$13","v":0},{"$f":"COUNTIF($D$70:$AA$70,$E$99)*$AB$13","v":0},{"$f":"COUNTIF($D$70:$AA$70,$F$99)*$AB$13","v":0},{"$f":"COUNTIF($D$70:$AA$70,$G$99)*$AB$13","v":0},{"$f":"COUNTIF($D$70:$AA$70,$H$99)*$AB$13","v":0},{"$f":"COUNTIF($D$70:$AA$70,$I$99)*$AB$13","v":0},{"$f":"COUNTIF($D$70:$AA$70,$J$99)*$AB$13","v":0},{"$f":"COUNTIF($D$70:$AA$70,$K$99)*$AB$13","v":0},{"$f":"COUNTIF($D$70:$AA$70,$L$99)*$AB$13","v":0},{"$f":"COUNTIF($D$70:$AA$70,$M$99)*$AB$13","v":0},{"$f":"COUNTIF($D$70:$AA$70,$N$99)*$AB$13","v":0},{"$f":"COUNTIF($D$70:$AA$70,$O$99)*$AB$13","v":0},{"$f":"COUNTIF($D$70:$AA$70,$P$99)*$AB$13","v":0},{"$f":"COUNTIF($D$70:$AA$70,$Q$99)*$AB$13","v":0},{"$f":"COUNTIF($D$70:$AA$70,$R$99)*$AB$13","v":0},{"$f":"COUNTIF($D$70:$AA$70,$S$99)*$AB$13","v":0},{"$f":"COUNTIF($D$70:$AA$70,$T$99)*$AB$13","v":0},{"$f":"COUNTIF($D$70:$AA$70,$U$99)*$AB$13","v":0},{"$f":"COUNTIF($D$70:$AA$70,$V$99)*$AB$13","v":0},{"$f":"COUNTIF($D$70:$AA$70,$W$99)*$AB$13","v":0},{"$f":"COUNTIF($D$70:$AA$70,$X$99)*$AB$13","v":0},{"$f":"COUNTIF($D$70:$AA$70,$Y$99)*$AB$13","v":0},{"$f":"COUNTIF($D$70:$AA$70,$Z$99)*$AB$13","v":0},{"$f":"COUNTIF($D$70:$AA$70,$AA$99)*$AB$13","v":0},{"$f":"COUNTIF($D$70:$AA$70,$AB$99)*$AB$13","v":0},{"$f":"COUNTIF($D$70:$AA$70,$AC$99)*$AB$13","v":0},{"$f":"COUNTIF($D$70:$AA$70,$AD$99)*$AB$13","v":0},{"$f":"COUNTIF($D$70:$AA$70,$AE$99)*$AB$13","v":0},{"$f":"COUNTIF($D$70:$AA$70,$AF$99)*$AB$13","v":0},{"$f":"COUNTIF($D$70:$AA$70,$AG$99)*$AB$13","v":0},{"$f":"COUNTIF($D$70:$AA$70,$AH$99)*$AB$13","v":0},{"$f":"COUNTIF($D$70:$AA$70,$AI$99)*$AB$13","v":0},{"$f":"COUNTIF($D$70:$AA$70,$AJ$99)*$AB$13","v":0},{"$f":"COUNTIF($D$70:$AA$70,$AK$99)*$AB$13","v":0},{"$f":"COUNTIF($D$70:$AA$70,$AL$99)*$AB$13","v":0},{"$f":"COUNTIF($D$70:$AA$70,$AM$99)*$AB$13","v":0},{"$f":"COUNTIF($D$70:$AA$70,$AN$99)*$AB$13","v":0},{"$f":"COUNTIF($D$70:$AA$70,$AO$99)*$AB$13","v":0},{"$f":"COUNTIF($D$70:$AA$70,$AP$99)*$AB$13","v":0},{"$f":"COUNTIF($D$70:$AA$70,$AQ$99)*$AB$13","v":0},{"$f":"COUNTIF($D$70:$AA$70,$AR$99)*$AB$13","v":0},{"$f":"COUNTIF($D$70:$AA$70,$AS$99)*$AB$13","v":0},6,{"$error":"#REF!"}]
[null,null,7,{"$f":"COUNTIF($D$71:$AA$71,$D$99)*$AB$14","v":0},{"$f":"COUNTIF($D$71:$AA$71,$E$99)*$AB$14","v":0},{"$f":"COUNTIF($D$71:$AA$71,$F$99)*$AB$14","v":0},{"$f":"COUNTIF($D$71:$AA$71,$G$99)*$AB$14","v":0},{"$f":"COUNTIF($D$71:$AA$71,$H$99)*$AB$14","v":0},{"$f":"COUNTIF($D$71:$AA$71,$I$99)*$AB$14","v":0},{"$f":"COUNTIF($D$71:$AA$71,$J$99)*$AB$14","v":0},{"$f":"COUNTIF($D$71:$AA$71,$K$99)*$AB$14","v":0},{"$f":"COUNTIF($D$71:$AA$71,$L$99)*$AB$14","v":0},{"$f":"COUNTIF($D$71:$AA$71,$M$99)*$AB$14","v":0},{"$f":"COUNTIF($D$71:$AA$71,$N$99)*$AB$14","v":0},{"$f":"COUNTIF($D$71:$AA$71,$O$99)*$AB$14","v":0},{"$f":"COUNTIF($D$71:$AA$71,$P$99)*$AB$14","v":0},{"$f":"COUNTIF($D$71:$AA$71,$Q$99)*$AB$14","v":0},{"$f":"COUNTIF($D$71:$AA$71,$R$99)*$AB$14","v":0},{"$f":"COUNTIF($D$71:$AA$71,$S$99)*$AB$14","v":0},{"$f":"COUNTIF($D$71:$AA$71,$T$99)*$AB$14","v":0},{"$f":"COUNTIF($D$71:$AA$71,$U$99)*$AB$14","v":0},{"$f":"COUNTIF($D$71:$AA$71,$V$99)*$AB$14","v":0},{"$f":"COUNTIF($D$71:$AA$71,$W$99)*$AB$14","v":0},{"$f":"COUNTIF($D$71:$AA$71,$X$99)*$AB$14","v":0},{"$f":"COUNTIF($D$71:$AA$71,$Y$99)*$AB$14","v":0},{"$f":"COUNTIF($D$71:$AA$71,$Z$99)*$AB$14","v":0},{"$f":"COUNTIF($D$71:$AA$71,$AA$99)*$AB$14","v":0},{"$f":"COUNTIF($D$71:$AA$71,$AB$99)*$AB$14","v":0},{"$f":"COUNTIF($D$71:$AA$71,$AC$99)*$AB$14","v":0},{"$f":"COUNTIF($D$71:$AA$71,$AD$99)*$AB$14","v":0},{"$f":"COUNTIF($D$71:$AA$71,$AE$99)*$AB$14","v":0},{"$f":"COUNTIF($D$71:$AA$71,$AF$99)*$AB$14","v":0},{"$f":"COUNTIF($D$71:$AA$71,$AG$99)*$AB$14","v":0},{"$f":"COUNTIF($D$71:$AA$71,$AH$99)*$AB$14","v":0},{"$f":"COUNTIF($D$71:$AA$71,$AI$99)*$AB$14","v":0},{"$f":"COUNTIF($D$71:$AA$71,$AJ$99)*$AB$14","v":0},{"$f":"COUNTIF($D$71:$AA$71,$AK$99)*$AB$14","v":0},{"$f":"COUNTIF($D$71:$AA$71,$AL$99)*$AB$14","v":0},{"$f":"COUNTIF($D$71:$AA$71,$AM$99)*$AB$14","v":0},{"$f":"COUNTIF($D$71:$AA$71,$AN$99)*$AB$14","v":0},{"$f":"COUNTIF($D$71:$AA$71,$AO$99)*$AB$14","v":0},{"$f":"COUNTIF($D$71:$AA$71,$AP$99)*$AB$14","v":0},{"$f":"COUNTIF($D$71:$AA$71,$AQ$99)*$AB$14","v":0},{"$f":"COUNTIF($D$71:$AA$71,$AR$99)*$AB$14","v":0},{"$f":"COUNTIF($D$71:$AA$71,$AS$99)*$AB$14","v":0},7,{"$error":"#REF!"}]
[null,null,8,{"$f":"COUNTIF($D$72:$AA$72,$D$99)*$AB$15","v":0},{"$f":"COUNTIF($D$72:$AA$72,$E$99)*$AB$15","v":0},{"$f":"COUNTIF($D$72:$AA$72,$F$99)*$AB$15","v":0},{"$f":"COUNTIF($D$72:$AA$72,$G$99)*$AB$15","v":0},{"$f":"COUNTIF($D$72:$AA$72,$H$99)*$AB$15","v":0},{"$f":"COUNTIF($D$72:$AA$72,$I$99)*$AB$15","v":0},{"$f":"COUNTIF($D$72:$AA$72,$J$99)*$AB$15","v":0},{"$f":"COUNTIF($D$72:$AA$72,$K$99)*$AB$15","v":0},{"$f":"COUNTIF($D$72:$AA$72,$L$99)*$AB$15","v":0},{"$f":"COUNTIF($D$72:$AA$72,$M$99)*$AB$15","v":0},{"$f":"COUNTIF($D$72:$AA$72,$N$99)*$AB$15","v":0},{"$f":"COUNTIF($D$72:$AA$72,$O$99)*$AB$15","v":0},{"$f":"COUNTIF($D$72:$AA$72,$P$99)*$AB$15","v":0},{"$f":"COUNTIF($D$72:$AA$72,$Q$99)*$AB$15","v":0},{"$f":"COUNTIF($D$72:$AA$72,$R$99)*$AB$15","v":0},{"$f":"COUNTIF($D$72:$AA$72,$S$99)*$AB$15","v":0},{"$f":"COUNTIF($D$72:$AA$72,$T$99)*$AB$15","v":0},{"$f":"COUNTIF($D$72:$AA$72,$U$99)*$AB$15","v":0},{"$f":"COUNTIF($D$72:$AA$72,$V$99)*$AB$15","v":0},{"$f":"COUNTIF($D$72:$AA$72,$W$99)*$AB$15","v":0},{"$f":"COUNTIF($D$72:$AA$72,$X$99)*$AB$15","v":0},{"$f":"COUNTIF($D$72:$AA$72,$Y$99)*$AB$15","v":0},{"$f":"COUNTIF($D$72:$AA$72,$Z$99)*$AB$15","v":0},{"$f":"COUNTIF($D$72:$AA$72,$AA$99)*$AB$15","v":0},{"$f":"COUNTIF($D$72:$AA$72,$AB$99)*$AB$15","v":0},{"$f":"COUNTIF($D$72:$AA$72,$AC$99)*$AB$15","v":0},{"$f":"COUNTIF($D$72:$AA$72,$AD$99)*$AB$15","v":0},{"$f":"COUNTIF($D$72:$AA$72,$AE$99)*$AB$15","v":0},{"$f":"COUNTIF($D$72:$AA$72,$AF$99)*$AB$15","v":0},{"$f":"COUNTIF($D$72:$AA$72,$AG$99)*$AB$15","v":0},{"$f":"COUNTIF($D$72:$AA$72,$AH$99)*$AB$15","v":0},{"$f":"COUNTIF($D$72:$AA$72,$AI$99)*$AB$15","v":0},{"$f":"COUNTIF($D$72:$AA$72,$AJ$99)*$AB$15","v":0},{"$f":"COUNTIF($D$72:$AA$72,$AK$99)*$AB$15","v":0},{"$f":"COUNTIF($D$72:$AA$72,$AL$99)*$AB$15","v":0},{"$f":"COUNTIF($D$72:$AA$72,$AM$99)*$AB$15","v":0},{"$f":"COUNTIF($D$72:$AA$72,$AN$99)*$AB$15","v":0},{"$f":"COUNTIF($D$72:$AA$72,$AO$99)*$AB$15","v":0},{"$f":"COUNTIF($D$72:$AA$72,$AP$99)*$AB$15","v":0},{"$f":"COUNTIF($D$72:$AA$72,$AQ$99)*$AB$15","v":0},{"$f":"COUNTIF($D$72:$AA$72,$AR$99)*$AB$15","v":0},{"$f":"COUNTIF($D$72:$AA$72,$AS$99)*$AB$15","v":0},8,{"$error":"#REF!"}]
[null,null,9,{"$f":"COUNTIF($D$73:$AA$73,$D$99)*$AB$16","v":0},{"$f":"COUNTIF($D$73:$AA$73,$E$99)*$AB$16","v":0},{"$f":"COUNTIF($D$73:$AA$73,$F$99)*$AB$16","v":0},{"$f":"COUNTIF($D$73:$AA$73,$G$99)*$AB$16","v":0},{"$f":"COUNTIF($D$73:$AA$73,$H$99)*$AB$16","v":0},{"$f":"COUNTIF($D$73:$AA$73,$I$99)*$AB$16","v":0},{"$f":"COUNTIF($D$73:$AA$73,$J$99)*$AB$16","v":0},{"$f":"COUNTIF($D$73:$AA$73,$K$99)*$AB$16","v":0},{"$f":"COUNTIF($D$73:$AA$73,$L$99)*$AB$16","v":0},{"$f":"COUNTIF($D$73:$AA$73,$M$99)*$AB$16","v":0},{"$f":"COUNTIF($D$73:$AA$73,$N$99)*$AB$16","v":0},{"$f":"COUNTIF($D$73:$AA$73,$O$99)*$AB$16","v":0},{"$f":"COUNTIF($D$73:$AA$73,$P$99)*$AB$16","v":0},{"$f":"COUNTIF($D$73:$AA$73,$Q$99)*$AB$16","v":0},{"$f":"COUNTIF($D$73:$AA$73,$R$99)*$AB$16","v":0},{"$f":"COUNTIF($D$73:$AA$73,$S$99)*$AB$16","v":0},{"$f":"COUNTIF($D$73:$AA$73,$T$99)*$AB$16","v":0},{"$f":"COUNTIF($D$73:$AA$73,$U$99)*$AB$16","v":0},{"$f":"COUNTIF($D$73:$AA$73,$V$99)*$AB$16","v":0},{"$f":"COUNTIF($D$73:$AA$73,$W$99)*$AB$16","v":0},{"$f":"COUNTIF($D$73:$AA$73,$X$99)*$AB$16","v":0},{"$f":"COUNTIF($D$73:$AA$73,$Y$99)*$AB$16","v":0},{"$f":"COUNTIF($D$73:$AA$73,$Z$99)*$AB$16","v":0},{"$f":"COUNTIF($D$73:$AA$73,$AA$99)*$AB$16","v":0},{"$f":"COUNTIF($D$73:$AA$73,$AB$99)*$AB$16","v":0},{"$f":"COUNTIF($D$73:$AA$73,$AC$99)*$AB$16","v":0},{"$f":"COUNTIF($D$73:$AA$73,$AD$99)*$AB$16","v":0},{"$f":"COUNTIF($D$73:$AA$73,$AE$99)*$AB$16","v":0},{"$f":"COUNTIF($D$73:$AA$73,$AF$99)*$AB$16","v":0},{"$f":"COUNTIF($D$73:$AA$73,$AG$99)*$AB$16","v":0},{"$f":"COUNTIF($D$73:$AA$73,$AH$99)*$AB$16","v":0},{"$f":"COUNTIF($D$73:$AA$73,$AI$99)*$AB$16","v":0},{"$f":"COUNTIF($D$73:$AA$73,$AJ$99)*$AB$16","v":0},{"$f":"COUNTIF($D$73:$AA$73,$AK$99)*$AB$16","v":0},{"$f":"COUNTIF($D$73:$AA$73,$AL$99)*$AB$16","v":0},{"$f":"COUNTIF($D$73:$AA$73,$AM$99)*$AB$16","v":0},{"$f":"COUNTIF($D$73:$AA$73,$AN$99)*$AB$16","v":0},{"$f":"COUNTIF($D$73:$AA$73,$AO$99)*$AB$16","v":0},{"$f":"COUNTIF($D$73:$AA$73,$AP$99)*$AB$16","v":0},{"$f":"COUNTIF($D$73:$AA$73,$AQ$99)*$AB$16","v":0},{"$f":"COUNTIF($D$73:$AA$73,$AR$99)*$AB$16","v":0},{"$f":"COUNTIF($D$73:$AA$73,$AS$99)*$AB$16","v":0},9,{"$error":"#REF!"}]
[null,null,10,{"$f":"COUNTIF($D$74:$AA$74,$D$99)*$AB$17","v":0},{"$f":"COUNTIF($D$74:$AA$74,$E$99)*$AB$17","v":0},{"$f":"COUNTIF($D$74:$AA$74,$F$99)*$AB$17","v":0},{"$f":"COUNTIF($D$74:$AA$74,$G$99)*$AB$17","v":0},{"$f":"COUNTIF($D$74:$AA$74,$H$99)*$AB$17","v":0},{"$f":"COUNTIF($D$74:$AA$74,$I$99)*$AB$17","v":0},{"$f":"COUNTIF($D$74:$AA$74,$J$99)*$AB$17","v":0},{"$f":"COUNTIF($D$74:$AA$74,$K$99)*$AB$17","v":0},{"$f":"COUNTIF($D$74:$AA$74,$L$99)*$AB$17","v":0},{"$f":"COUNTIF($D$74:$AA$74,$M$99)*$AB$17","v":0},{"$f":"COUNTIF($D$74:$AA$74,$N$99)*$AB$17","v":0},{"$f":"COUNTIF($D$74:$AA$74,$O$99)*$AB$17","v":0},{"$f":"COUNTIF($D$74:$AA$74,$P$99)*$AB$17","v":0},{"$f":"COUNTIF($D$74:$AA$74,$Q$99)*$AB$17","v":0},{"$f":"COUNTIF($D$74:$AA$74,$R$99)*$AB$17","v":0},{"$f":"COUNTIF($D$74:$AA$74,$S$99)*$AB$17","v":0},{"$f":"COUNTIF($D$74:$AA$74,$T$99)*$AB$17","v":0},{"$f":"COUNTIF($D$74:$AA$74,$U$99)*$AB$17","v":0},{"$f":"COUNTIF($D$74:$AA$74,$V$99)*$AB$17","v":0},{"$f":"COUNTIF($D$74:$AA$74,$W$99)*$AB$17","v":0},{"$f":"COUNTIF($D$74:$AA$74,$X$99)*$AB$17","v":0},{"$f":"COUNTIF($D$74:$AA$74,$Y$99)*$AB$17","v":0},{"$f":"COUNTIF($D$74:$AA$74,$Z$99)*$AB$17","v":0},{"$f":"COUNTIF($D$74:$AA$74,$AA$99)*$AB$17","v":0},{"$f":"COUNTIF($D$74:$AA$74,$AB$99)*$AB$17","v":0},{"$f":"COUNTIF($D$74:$AA$74,$AC$99)*$AB$17","v":0},{"$f":"COUNTIF($D$74:$AA$74,$AD$99)*$AB$17","v":0},{"$f":"COUNTIF($D$74:$AA$74,$AE$99)*$AB$17","v":0},{"$f":"COUNTIF($D$74:$AA$74,$AF$99)*$AB$17","v":0},{"$f":"COUNTIF($D$74:$AA$74,$AG$99)*$AB$17","v":0},{"$f":"COUNTIF($D$74:$AA$74,$AH$99)*$AB$17","v":0},{"$f":"COUNTIF($D$74:$AA$74,$AI$99)*$AB$17","v":0},{"$f":"COUNTIF($D$74:$AA$74,$AJ$99)*$AB$17","v":0},{"$f":"COUNTIF($D$74:$AA$74,$AK$99)*$AB$17","v":0},{"$f":"COUNTIF($D$74:$AA$74,$AL$99)*$AB$17","v":0},{"$f":"COUNTIF($D$74:$AA$74,$AM$99)*$AB$17","v":0},{"$f":"COUNTIF($D$74:$AA$74,$AN$99)*$AB$17","v":0},{"$f":"COUNTIF($D$74:$AA$74,$AO$99)*$AB$17","v":0},{"$f":"COUNTIF($D$74:$AA$74,$AP$99)*$AB$17","v":0},{"$f":"COUNTIF($D$74:$AA$74,$AQ$99)*$AB$17","v":0},{"$f":"COUNTIF($D$74:$AA$74,$AR$99)*$AB$17","v":0},{"$f":"COUNTIF($D$74:$AA$74,$AS$99)*$AB$17","v":0},10,{"$error":"#REF!"}]
[null,null,11,{"$f":"COUNTIF($D$75:$AA$75,$D$99)*$AB$18","v":0},{"$f":"COUNTIF($D$75:$AA$75,$E$99)*$AB$18","v":0},{"$f":"COUNTIF($D$75:$AA$75,$F$99)*$AB$18","v":0},{"$f":"COUNTIF($D$75:$AA$75,$G$99)*$AB$18","v":0},{"$f":"COUNTIF($D$75:$AA$75,$H$99)*$AB$18","v":0},{"$f":"COUNTIF($D$75:$AA$75,$I$99)*$AB$18","v":0},{"$f":"COUNTIF($D$75:$AA$75,$J$99)*$AB$18","v":0},{"$f":"COUNTIF($D$75:$AA$75,$K$99)*$AB$18","v":0},{"$f":"COUNTIF($D$75:$AA$75,$L$99)*$AB$18","v":0},{"$f":"COUNTIF($D$75:$AA$75,$M$99)*$AB$18","v":0},{"$f":"COUNTIF($D$75:$AA$75,$N$99)*$AB$18","v":0},{"$f":"COUNTIF($D$75:$AA$75,$O$99)*$AB$18","v":0},{"$f":"COUNTIF($D$75:$AA$75,$P$99)*$AB$18","v":0},{"$f":"COUNTIF($D$75:$AA$75,$Q$99)*$AB$18","v":0},{"$f":"COUNTIF($D$75:$AA$75,$R$99)*$AB$18","v":0},{"$f":"COUNTIF($D$75:$AA$75,$S$99)*$AB$18","v":0},{"$f":"COUNTIF($D$75:$AA$75,$T$99)*$AB$18","v":0},{"$f":"COUNTIF($D$75:$AA$75,$U$99)*$AB$18","v":0},{"$f":"COUNTIF($D$75:$AA$75,$V$99)*$AB$18","v":0},{"$f":"COUNTIF($D$75:$AA$75,$W$99)*$AB$18","v":0},{"$f":"COUNTIF($D$75:$AA$75,$X$99)*$AB$18","v":0},{"$f":"COUNTIF($D$75:$AA$75,$Y$99)*$AB$18","v":0},{"$f":"COUNTIF($D$75:$AA$75,$Z$99)*$AB$18","v":0},{"$f":"COUNTIF($D$75:$AA$75,$AA$99)*$AB$18","v":0},{"$f":"COUNTIF($D$75:$AA$75,$AB$99)*$AB$18","v":0},{"$f":"COUNTIF($D$75:$AA$75,$AC$99)*$AB$18","v":0},{"$f":"COUNTIF($D$75:$AA$75,$AD$99)*$AB$18","v":0},{"$f":"COUNTIF($D$75:$AA$75,$AE$99)*$AB$18","v":0},{"$f":"COUNTIF($D$75:$AA$75,$AF$99)*$AB$18","v":0},{"$f":"COUNTIF($D$75:$AA$75,$AG$99)*$AB$18","v":0},{"$f":"COUNTIF($D$75:$AA$75,$AH$99)*$AB$18","v":0},{"$f":"COUNTIF($D$75:$AA$75,$AI$99)*$AB$18","v":0},{"$f":"COUNTIF($D$75:$AA$75,$AJ$99)*$AB$18","v":0},{"$f":"COUNTIF($D$75:$AA$75,$AK$99)*$AB$18","v":0},{"$f":"COUNTIF($D$75:$AA$75,$AL$99)*$AB$18","v":0},{"$f":"COUNTIF($D$75:$AA$75,$AM$99)*$AB$18","v":0},{"$f":"COUNTIF($D$75:$AA$75,$AN$99)*$AB$18","v":0},{"$f":"COUNTIF($D$75:$AA$75,$AO$99)*$AB$18","v":0},{"$f":"COUNTIF($D$75:$AA$75,$AP$99)*$AB$18","v":0},{"$f":"COUNTIF($D$75:$AA$75,$AQ$99)*$AB$18","v":0},{"$f":"COUNTIF($D$75:$AA$75,$AR$99)*$AB$18","v":0},{"$f":"COUNTIF($D$75:$AA$75,$AS$99)*$AB$18","v":0},11,{"$error":"#REF!"}]
[null,null,12,{"$f":"COUNTIF($D$76:$AA$76,$D$99)*$AB$19","v":0},{"$f":"COUNTIF($D$76:$AA$76,$E$99)*$AB$19","v":0},{"$f":"COUNTIF($D$76:$AA$76,$F$99)*$AB$19","v":0},{"$f":"COUNTIF($D$76:$AA$76,$G$99)*$AB$19","v":0},{"$f":"COUNTIF($D$76:$AA$76,$H$99)*$AB$19","v":0},{"$f":"COUNTIF($D$76:$AA$76,$I$99)*$AB$19","v":0},{"$f":"COUNTIF($D$76:$AA$76,$J$99)*$AB$19","v":0},{"$f":"COUNTIF($D$76:$AA$76,$K$99)*$AB$19","v":0},{"$f":"COUNTIF($D$76:$AA$76,$L$99)*$AB$19","v":0},{"$f":"COUNTIF($D$76:$AA$76,$M$99)*$AB$19","v":0},{"$f":"COUNTIF($D$76:$AA$76,$N$99)*$AB$19","v":0},{"$f":"COUNTIF($D$76:$AA$76,$O$99)*$AB$19","v":0},{"$f":"COUNTIF($D$76:$AA$76,$P$99)*$AB$19","v":0},{"$f":"COUNTIF($D$76:$AA$76,$Q$99)*$AB$19","v":0},{"$f":"COUNTIF($D$76:$AA$76,$R$99)*$AB$19","v":0},{"$f":"COUNTIF($D$76:$AA$76,$S$99)*$AB$19","v":0},{"$f":"COUNTIF($D$76:$AA$76,$T$99)*$AB$19","v":0},{"$f":"COUNTIF($D$76:$AA$76,$U$99)*$AB$19","v":0},{"$f":"COUNTIF($D$76:$AA$76,$V$99)*$AB$19","v":0},{"$f":"COUNTIF($D$76:$AA$76,$W$99)*$AB$19","v":0},{"$f":"COUNTIF($D$76:$AA$76,$X$99)*$AB$19","v":0},{"$f":"COUNTIF($D$76:$AA$76,$Y$99)*$AB$19","v":0},{"$f":"COUNTIF($D$76:$AA$76,$Z$99)*$AB$19","v":0},{"$f":"COUNTIF($D$76:$AA$76,$AA$99)*$AB$19","v":0},{"$f":"COUNTIF($D$76:$AA$76,$AB$99)*$AB$19","v":0},{"$f":"COUNTIF($D$76:$AA$76,$AC$99)*$AB$19","v":0},{"$f":"COUNTIF($D$76:$AA$76,$AD$99)*$AB$19","v":0},{"$f":"COUNTIF($D$76:$AA$76,$AE$99)*$AB$19","v":0},{"$f":"COUNTIF($D$76:$AA$76,$AF$99)*$AB$19","v":0},{"$f":"COUNTIF($D$76:$AA$76,$AG$99)*$AB$19","v":0},{"$f":"COUNTIF($D$76:$AA$76,$AH$99)*$AB$19","v":0},{"$f":"COUNTIF($D$76:$AA$76,$AI$99)*$AB$19","v":0},{"$f":"COUNTIF($D$76:$AA$76,$AJ$99)*$AB$19","v":0},{"$f":"COUNTIF($D$76:$AA$76,$AK$99)*$AB$19","v":0},{"$f":"COUNTIF($D$76:$AA$76,$AL$99)*$AB$19","v":0},{"$f":"COUNTIF($D$76:$AA$76,$AM$99)*$AB$19","v":0},{"$f":"COUNTIF($D$76:$AA$76,$AN$99)*$AB$19","v":0},{"$f":"COUNTIF($D$76:$AA$76,$AO$99)*$AB$19","v":0},{"$f":"COUNTIF($D$76:$AA$76,$AP$99)*$AB$19","v":0},{"$f":"COUNTIF($D$76:$AA$76,$AQ$99)*$AB$19","v":0},{"$f":"COUNTIF($D$76:$AA$76,$AR$99)*$AB$19","v":0},{"$f":"COUNTIF($D$76:$AA$76,$AS$99)*$AB$19","v":0},12,{"$error":"#REF!"}]
[null,null,1,{"$f":"COUNTIF($D$77:$AA$77,$D$99)*$AB$20","v":0},{"$f":"COUNTIF($D$77:$AA$77,$E$99)*$AB$20","v":0},{"$f":"COUNTIF($D$77:$AA$77,$F$99)*$AB$20","v":0},{"$f":"COUNTIF($D$77:$AA$77,$G$99)*$AB$20","v":0},{"$f":"COUNTIF($D$77:$AA$77,$H$99)*$AB$20","v":0},{"$f":"COUNTIF($D$77:$AA$77,$I$99)*$AB$20","v":0},{"$f":"COUNTIF($D$77:$AA$77,$J$99)*$AB$20","v":0},{"$f":"COUNTIF($D$77:$AA$77,$K$99)*$AB$20","v":0},{"$f":"COUNTIF($D$77:$AA$77,$L$99)*$AB$20","v":0},{"$f":"COUNTIF($D$77:$AA$77,$M$99)*$AB$20","v":0},{"$f":"COUNTIF($D$77:$AA$77,$N$99)*$AB$20","v":0},{"$f":"COUNTIF($D$77:$AA$77,$O$99)*$AB$20","v":0},{"$f":"COUNTIF($D$77:$AA$77,$P$99)*$AB$20","v":0},{"$f":"COUNTIF($D$77:$AA$77,$Q$99)*$AB$20","v":0},{"$f":"COUNTIF($D$77:$AA$77,$R$99)*$AB$20","v":0},{"$f":"COUNTIF($D$77:$AA$77,$S$99)*$AB$20","v":0},{"$f":"COUNTIF($D$77:$AA$77,$T$99)*$AB$20","v":0},{"$f":"COUNTIF($D$77:$AA$77,$U$99)*$AB$20","v":0},{"$f":"COUNTIF($D$77:$AA$77,$V$99)*$AB$20","v":0},{"$f":"COUNTIF($D$77:$AA$77,$W$99)*$AB$20","v":0},{"$f":"COUNTIF($D$77:$AA$77,$X$99)*$AB$20","v":0},{"$f":"COUNTIF($D$77:$AA$77,$Y$99)*$AB$20","v":0},{"$f":"COUNTIF($D$77:$AA$77,$Z$99)*$AB$20","v":0},{"$f":"COUNTIF($D$77:$AA$77,$AA$99)*$AB$20","v":0},{"$f":"COUNTIF($D$77:$AA$77,$AB$99)*$AB$20","v":0},{"$f":"COUNTIF($D$77:$AA$77,$AC$99)*$AB$20","v":0},{"$f":"COUNTIF($D$77:$AA$77,$AD$99)*$AB$20","v":0},{"$f":"COUNTIF($D$77:$AA$77,$AE$99)*$AB$20","v":0},{"$f":"COUNTIF($D$77:$AA$77,$AF$99)*$AB$20","v":0},{"$f":"COUNTIF($D$77:$AA$77,$AG$99)*$AB$20","v":0},{"$f":"COUNTIF($D$77:$AA$77,$AH$99)*$AB$20","v":0},{"$f":"COUNTIF($D$77:$AA$77,$AI$99)*$AB$20","v":0},{"$f":"COUNTIF($D$77:$AA$77,$AJ$99)*$AB$20","v":0},{"$f":"COUNTIF($D$77:$AA$77,$AK$99)*$AB$20","v":0},{"$f":"COUNTIF($D$77:$AA$77,$AL$99)*$AB$20","v":0},{"$f":"COUNTIF($D$77:$AA$77,$AM$99)*$AB$20","v":0},{"$f":"COUNTIF($D$77:$AA$77,$AN$99)*$AB$20","v":0},{"$f":"COUNTIF($D$77:$AA$77,$AO$99)*$AB$20","v":0},{"$f":"COUNTIF($D$77:$AA$77,$AP$99)*$AB$20","v":0},{"$f":"COUNTIF($D$77:$AA$77,$AQ$99)*$AB$20","v":0},{"$f":"COUNTIF($D$77:$AA$77,$AR$99)*$AB$20","v":0},{"$f":"COUNTIF($D$77:$AA$77,$AS$99)*$AB$20","v":0},1,{"$error":"#REF!"}]
[null,null,2,{"$f":"COUNTIF($D$78:$AA$78,$D$99)*$AB$21","v":0},{"$f":"COUNTIF($D$78:$AA$78,$E$99)*$AB$21","v":0},{"$f":"COUNTIF($D$78:$AA$78,$F$99)*$AB$21","v":0},{"$f":"COUNTIF($D$78:$AA$78,$G$99)*$AB$21","v":0},{"$f":"COUNTIF($D$78:$AA$78,$H$99)*$AB$21","v":0},{"$f":"COUNTIF($D$78:$AA$78,$I$99)*$AB$21","v":0},{"$f":"COUNTIF($D$78:$AA$78,$J$99)*$AB$21","v":0},{"$f":"COUNTIF($D$78:$AA$78,$K$99)*$AB$21","v":0},{"$f":"COUNTIF($D$78:$AA$78,$L$99)*$AB$21","v":0},{"$f":"COUNTIF($D$78:$AA$78,$M$99)*$AB$21","v":0},{"$f":"COUNTIF($D$78:$AA$78,$N$99)*$AB$21","v":0},{"$f":"COUNTIF($D$78:$AA$78,$O$99)*$AB$21","v":0},{"$f":"COUNTIF($D$78:$AA$78,$P$99)*$AB$21","v":0},{"$f":"COUNTIF($D$78:$AA$78,$Q$99)*$AB$21","v":0},{"$f":"COUNTIF($D$78:$AA$78,$R$99)*$AB$21","v":0},{"$f":"COUNTIF($D$78:$AA$78,$S$99)*$AB$21","v":0},{"$f":"COUNTIF($D$78:$AA$78,$T$99)*$AB$21","v":0},{"$f":"COUNTIF($D$78:$AA$78,$U$99)*$AB$21","v":0},{"$f":"COUNTIF($D$78:$AA$78,$V$99)*$AB$21","v":0},{"$f":"COUNTIF($D$78:$AA$78,$W$99)*$AB$21","v":0},{"$f":"COUNTIF($D$78:$AA$78,$X$99)*$AB$21","v":0},{"$f":"COUNTIF($D$78:$AA$78,$Y$99)*$AB$21","v":0},{"$f":"COUNTIF($D$78:$AA$78,$Z$99)*$AB$21","v":0},{"$f":"COUNTIF($D$78:$AA$78,$AA$99)*$AB$21","v":0},{"$f":"COUNTIF($D$78:$AA$78,$AB$99)*$AB$21","v":0},{"$f":"COUNTIF($D$78:$AA$78,$AC$99)*$AB$21","v":0},{"$f":"COUNTIF($D$78:$AA$78,$AD$99)*$AB$21","v":0},{"$f":"COUNTIF($D$78:$AA$78,$AE$99)*$AB$21","v":0},{"$f":"COUNTIF($D$78:$AA$78,$AF$99)*$AB$21","v":0},{"$f":"COUNTIF($D$78:$AA$78,$AG$99)*$AB$21","v":0},{"$f":"COUNTIF($D$78:$AA$78,$AH$99)*$AB$21","v":0},{"$f":"COUNTIF($D$78:$AA$78,$AI$99)*$AB$21","v":0},{"$f":"COUNTIF($D$78:$AA$78,$AJ$99)*$AB$21","v":0},{"$f":"COUNTIF($D$78:$AA$78,$AK$99)*$AB$21","v":0},{"$f":"COUNTIF($D$78:$AA$78,$AL$99)*$AB$21","v":0},{"$f":"COUNTIF($D$78:$AA$78,$AM$99)*$AB$21","v":0},{"$f":"COUNTIF($D$78:$AA$78,$AN$99)*$AB$21","v":0},{"$f":"COUNTIF($D$78:$AA$78,$AO$99)*$AB$21","v":0},{"$f":"COUNTIF($D$78:$AA$78,$AP$99)*$AB$21","v":0},{"$f":"COUNTIF($D$78:$AA$78,$AQ$99)*$AB$21","v":0},{"$f":"COUNTIF($D$78:$AA$78,$AR$99)*$AB$21","v":0},{"$f":"COUNTIF($D$78:$AA$78,$AS$99)*$AB$21","v":0},2,{"$error":"#REF!"}]
[null,null,3,{"$f":"COUNTIF($D$79:$AA$79,$D$99)*$AB$22","v":0},{"$f":"COUNTIF($D$79:$AA$79,$E$99)*$AB$22","v":0},{"$f":"COUNTIF($D$79:$AA$79,$F$99)*$AB$22","v":0},{"$f":"COUNTIF($D$79:$AA$79,$G$99)*$AB$22","v":0},{"$f":"COUNTIF($D$79:$AA$79,$H$99)*$AB$22","v":0},{"$f":"COUNTIF($D$79:$AA$79,$I$99)*$AB$22","v":0},{"$f":"COUNTIF($D$79:$AA$79,$J$99)*$AB$22","v":0},{"$f":"COUNTIF($D$79:$AA$79,$K$99)*$AB$22","v":0},{"$f":"COUNTIF($D$79:$AA$79,$L$99)*$AB$22","v":0},{"$f":"COUNTIF($D$79:$AA$79,$M$99)*$AB$22","v":0},{"$f":"COUNTIF($D$79:$AA$79,$N$99)*$AB$22","v":0},{"$f":"COUNTIF($D$79:$AA$79,$O$99)*$AB$22","v":0},{"$f":"COUNTIF($D$79:$AA$79,$P$99)*$AB$22","v":0},{"$f":"COUNTIF($D$79:$AA$79,$Q$99)*$AB$22","v":0},{"$f":"COUNTIF($D$79:$AA$79,$R$99)*$AB$22","v":0},{"$f":"COUNTIF($D$79:$AA$79,$S$99)*$AB$22","v":0},{"$f":"COUNTIF($D$79:$AA$79,$T$99)*$AB$22","v":0},{"$f":"COUNTIF($D$79:$AA$79,$U$99)*$AB$22","v":0},{"$f":"COUNTIF($D$79:$AA$79,$V$99)*$AB$22","v":0},{"$f":"COUNTIF($D$79:$AA$79,$W$99)*$AB$22","v":0},{"$f":"COUNTIF($D$79:$AA$79,$X$99)*$AB$22","v":0},{"$f":"COUNTIF($D$79:$AA$79,$Y$99)*$AB$22","v":0},{"$f":"COUNTIF($D$79:$AA$79,$Z$99)*$AB$22","v":0},{"$f":"COUNTIF($D$79:$AA$79,$AA$99)*$AB$22","v":0},{"$f":"COUNTIF($D$79:$AA$79,$AB$99)*$AB$22","v":0},{"$f":"COUNTIF($D$79:$AA$79,$AC$99)*$AB$22","v":0},{"$f":"COUNTIF($D$79:$AA$79,$AD$99)*$AB$22","v":0},{"$f":"COUNTIF($D$79:$AA$79,$AE$99)*$AB$22","v":0},{"$f":"COUNTIF($D$79:$AA$79,$AF$99)*$AB$22","v":0},{"$f":"COUNTIF($D$79:$AA$79,$AG$99)*$AB$22","v":0},{"$f":"COUNTIF($D$79:$AA$79,$AH$99)*$AB$22","v":0},{"$f":"COUNTIF($D$79:$AA$79,$AI$99)*$AB$22","v":0},{"$f":"COUNTIF($D$79:$AA$79,$AJ$99)*$AB$22","v":0},{"$f":"COUNTIF($D$79:$AA$79,$AK$99)*$AB$22","v":0},{"$f":"COUNTIF($D$79:$AA$79,$AL$99)*$AB$22","v":0},{"$f":"COUNTIF($D$79:$AA$79,$AM$99)*$AB$22","v":0},{"$f":"COUNTIF($D$79:$AA$79,$AN$99)*$AB$22","v":0},{"$f":"COUNTIF($D$79:$AA$79,$AO$99)*$AB$22","v":0},{"$f":"COUNTIF($D$79:$AA$79,$AP$99)*$AB$22","v":0},{"$f":"COUNTIF($D$79:$AA$79,$AQ$99)*$AB$22","v":0},{"$f":"COUNTIF($D$79:$AA$79,$AR$99)*$AB$22","v":0},{"$f":"COUNTIF($D$79:$AA$79,$AS$99)*$AB$22","v":0},3,{"$error":"#REF!"}]
[null,null,"発生時間",{"$f":"SUM($D$100:$D$111)","v":0},{"$f":"SUM($E$100:$E$111)","v":0},{"$f":"SUM($F$100:$F$111)","v":0},{"$f":"SUM($G$100:$G$111)","v":0},{"$f":"SUM($H$100:$H$111)","v":0},{"$f":"SUM($I$100:$I$111)","v":0},{"$f":"SUM($J$100:$J$111)","v":0},{"$f":"SUM($K$100:$K$111)","v":0},{"$f":"SUM($L$100:$L$111)","v":0},{"$f":"SUM($M$100:$M$111)","v":0},{"$f":"SUM($N$100:$N$111)","v":0},{"$f":"SUM($O$100:$O$111)","v":0},{"$f":"SUM($P$100:$P$111)","v":0},{"$f":"SUM($Q$100:$Q$111)","v":0},{"$f":"SUM($R$100:$R$111)","v":0},{"$f":"SUM($S$100:$S$111)","v":0},{"$f":"SUM($T$100:$T$111)","v":0},{"$f":"SUM($U$100:$U$111)","v":0},{"$f":"SUM($V$100:$V$111)","v":0},{"$f":"SUM($W$100:$W$111)","v":0},{"$f":"SUM($X$100:$X$111)","v":0},{"$f":"SUM($Y$100:$Y$111)","v":0},{"$f":"SUM($Z$100:$Z$111)","v":0},{"$f":"SUM($AA$100:$AA$111)","v":0},{"$f":"SUM($AB$100:$AB$111)","v":0},{"$f":"SUM($AC$100:$AC$111)","v":0},{"$f":"SUM($AD$100:$AD$111)","v":0},{"$f":"SUM($AE$100:$AE$111)","v":0},{"$f":"SUM($AF$100:$AF$111)","v":0},{"$f":"SUM($AG$100:$AG$111)","v":0},{"$f":"SUM($AH$100:$AH$111)","v":0},{"$f":"SUM($AI$100:$AI$111)","v":0},{"$f":"SUM($AJ$100:$AJ$111)","v":0},{"$f":"SUM($AK$100:$AK$111)","v":0},{"$f":"SUM($AL$100:$AL$111)","v":0},{"$f":"SUM($AM$100:$AM$111)","v":0},{"$f":"SUM($AN$100:$AN$111)","v":0},{"$f":"SUM($AO$100:$AO$111)","v":0},{"$f":"SUM($AP$100:$AP$111)","v":0},{"$f":"SUM($AQ$100:$AQ$111)","v":0},{"$f":"SUM($AR$100:$AR$111)","v":0},{"$f":"SUM($AS$100:$AS$111)","v":{"$error":"#REF!"}},"発生時間"]
[null,"εc","冷房時消費電力比",{"$f":"$D$114/$D$118","v":{"$error":"#REF!"}},{"$f":"$E$114/$E$118","v":{"$error":"#REF!"}},{"$f":"$F$114/$F$118","v":{"$error":"#REF!"}},{"$f":"$G$114/$G$118","v":{"$error":"#REF!"}},{"$f":"$H$114/$H$118","v":{"$error":"#REF!"}},{"$f":"$I$114/$I$118","v":{"$error":"#REF!"}},{"$f":"$J$114/$J$118","v":{"$error":"#REF!"}},{"$f":"$K$114/$K$118","v":{"$error":"#REF!"}},{"$f":"$L$114/$L$118","v":{"$error":"#REF!"}},{"$f":"$M$114/$M$118","v":{"$error":"#REF!"}},{"$f":"$N$114/$N$118","v":{"$error":"#REF!"}},{"$f":"$O$114/$O$118","v":{"$error":"#REF!"}},{"$f":"$P$114/$P$118","v":{"$error":"#REF!"}},{"$f":"$Q$114/$Q$118","v":{"$error":"#REF!"}},{"$f":"$R$114/$R$118","v":{"$error":"#REF!"}},{"$f":"$S$114/$S$118","v":{"$error":"#REF!"}},{"$f":"$T$114/$T$118","v":{"$error":"#REF!"}},{"$f":"$U$114/$U$118","v":{"$error":"#REF!"}},{"$f":"$V$114/$V$118","v":{"$error":"#REF!"}},{"$f":"$W$114/$W$118","v":{"$error":"#REF!"}},{"$f":"$X$114/$X$118","v":{"$error":"#REF!"}},{"$f":"$Y$114/$Y$118","v":{"$error":"#REF!"}},{"$f":"$Z$114/$Z$118","v":{"$error":"#REF!"}},{"$f":"$AA$114/$AA$118","v":{"$error":"#REF!"}},{"$f":"$AB$114/$AB$118","v":{"$error":"#REF!"}},{"$f":"$AC$114/$AC$118","v":{"$error":"#REF!"}},{"$f":"$AD$114/$AD$118","v":{"$error":"#REF!"}},{"$f":"$AE$114/$AE$118","v":{"$error":"#REF!"}},{"$f":"$AF$114/$AF$118","v":{"$error":"#REF!"}},{"$f":"$AG$114/$AG$118","v":{"$error":"#REF!"}},{"$f":"$AH$114/$AH$118","v":{"$error":"#REF!"}},{"$f":"$AI$114/$AI$118","v":{"$error":"#REF!"}},{"$f":"$AJ$114/$AJ$118","v":{"$error":"#REF!"}},{"$f":"$AK$114/$AK$118","v":{"$error":"#REF!"}},{"$f":"$AL$114/$AL$118","v":{"$error":"#REF!"}},{"$f":"$AM$114/$AM$118","v":{"$error":"#REF!"}},{"$f":"$AN$114/$AN$118","v":{"$error":"#REF!"}},{"$f":"$AO$114/$AO$118","v":{"$error":"#REF!"}},{"$f":"$AP$114/$AP$118","v":{"$error":"#REF!"}},{"$f":"$AQ$114/$AQ$118","v":{"$error":"#REF!"}},{"$f":"$AR$114/$AR$118","v":{"$error":"#REF!"}},{"$f":"$AS$114/$AS$118","v":{"$error":"#REF!"}},"冷房時消費電力比"]
[null,"αc","冷房空調負荷率",{"$f":"IF((1/(35-$AF$27))*$D$99-$AF$27/(35-$AF$27)<0,0,IF((1/(35-$AF$27))*$D$99-$AF$27/(35-$AF$27)>1,1,(1/(35-$AF$27))*$D$99-$AF$27/(35-$AF$27)))","v":0},{"$f":"IF((1/(35-$AF$27))*$E$99-$AF$27/(35-$AF$27)<0,0,IF((1/(35-$AF$27))*$E$99-$AF$27/(35-$AF$27)>1,1,(1/(35-$AF$27))*$E$99-$AF$27/(35-$AF$27)))","v":0},{"$f":"IF((1/(35-$AF$27))*$F$99-$AF$27/(35-$AF$27)<0,0,IF((1/(35-$AF$27))*$F$99-$AF$27/(35-$AF$27)>1,1,(1/(35-$AF$27))*$F$99-$AF$27/(35-$AF$27)))","v":0},{"$f":"IF((1/(35-$AF$27))*$G$99-$AF$27/(35-$AF$27)<0,0,IF((1/(35-$AF$27))*$G$99-$AF$27/(35-$AF$27)>1,1,(1/(35-$AF$27))*$G$99-$AF$27/(35-$AF$27)))","v":0},{"$f":"IF((1/(35-$AF$27))*$H$99-$AF$27/(35-$AF$27)<0,0,IF((1/(35-$AF$27))*$H$99-$AF$27/(35-$AF$27)>1,1,(1/(35-$AF$27))*$H$99-$AF$27/(35-$AF$27)))","v":0},{"$f":"IF((1/(35-$AF$27))*$I$99-$AF$27/(35-$AF$27)<0,0,IF((1/(35-$AF$27))*$I$99-$AF$27/(35-$AF$27)>1,1,(1/(35-$AF$27))*$I$99-$AF$27/(35-$AF$27)))","v":0},{"$f":"IF((1/(35-$AF$27))*$J$99-$AF$27/(35-$AF$27)<0,0,IF((1/(35-$AF$27))*$J$99-$AF$27/(35-$AF$27)>1,1,(1/(35-$AF$27))*$J$99-$AF$27/(35-$AF$27)))","v":0},{"$f":"IF((1/(35-$AF$27))*$K$99-$AF$27/(35-$AF$27)<0,0,IF((1/(35-$AF$27))*$K$99-$AF$27/(35-$AF$27)>1,1,(1/(35-$AF$27))*$K$99-$AF$27/(35-$AF$27)))","v":2.8571428571428571E-2},{"$f":"IF((1/(35-$AF$27))*$L$99-$AF$27/(35-$AF$27)<0,0,IF((1/(35-$AF$27))*$L$99-$AF$27/(35-$AF$27)>1,1,(1/(35-$AF$27))*$L$99-$AF$27/(35-$AF$27)))","v":5.7142857142857141E-2},{"$f":"IF((1/(35-$AF$27))*$M$99-$AF$27/(35-$AF$27)<0,0,IF((1/(35-$AF$27))*$M$99-$AF$27/(35-$AF$27)>1,1,(1/(35-$AF$27))*$M$99-$AF$27/(35-$AF$27)))","v":8.5714285714285715E-2},{"$f":"IF((1/(35-$AF$27))*$N$99-$AF$27/(35-$AF$27)<0,0,IF((1/(35-$AF$27))*$N$99-$AF$27/(35-$AF$27)>1,1,(1/(35-$AF$27))*$N$99-$AF$27/(35-$AF$27)))","v":0.11428571428571428},{"$f":"IF((1/(35-$AF$27))*$O$99-$AF$27/(35-$AF$27)<0,0,IF((1/(35-$AF$27))*$O$99-$AF$27/(35-$AF$27)>1,1,(1/(35-$AF$27))*$O$99-$AF$27/(35-$AF$27)))","v":0.14285714285714285},{"$f":"IF((1/(35-$AF$27))*$P$99-$AF$27/(35-$AF$27)<0,0,IF((1/(35-$AF$27))*$P$99-$AF$27/(35-$AF$27)>1,1,(1/(35-$AF$27))*$P$99-$AF$27/(35-$AF$27)))","v":0.17142857142857143},{"$f":"IF((1/(35-$AF$27))*$Q$99-$AF$27/(35-$AF$27)<0,0,IF((1/(35-$AF$27))*$Q$99-$AF$27/(35-$AF$27)>1,1,(1/(35-$AF$27))*$Q$99-$AF$27/(35-$AF$27)))","v":0.19999999999999998},{"$f":"IF((1/(35-$AF$27))*$R$99-$AF$27/(35-$AF$27)<0,0,IF((1/(35-$AF$27))*$R$99-$AF$27/(35-$AF$27)>1,1,(1/(35-$AF$27))*$R$99-$AF$27/(35-$AF$27)))","v":0.22857142857142856},{"$f":"IF((1/(35-$AF$27))*$S$99-$AF$27/(35-$AF$27)<0,0,IF((1/(35-$AF$27))*$S$99-$AF$27/(35-$AF$27)>1,1,(1/(35-$AF$27))*$S$99-$AF$27/(35-$AF$27)))","v":0.25714285714285712},{"$f":"IF((1/(35-$AF$27))*$T$99-$AF$27/(35-$AF$27)<0,0,IF((1/(35-$AF$27))*$T$99-$AF$27/(35-$AF$27)>1,1,(1/(35-$AF$27))*$T$99-$AF$27/(35-$AF$27)))","v":0.2857142857142857},{"$f":"IF((1/(35-$AF$27))*$U$99-$AF$27/(35-$AF$27)<0,0,IF((1/(35-$AF$27))*$U$99-$AF$27/(35-$AF$27)>1,1,(1/(35-$AF$27))*$U$99-$AF$27/(35-$AF$27)))","v":0.31428571428571428},{"$f":"IF((1/(35-$AF$27))*$V$99-$AF$27/(35-$AF$27)<0,0,IF((1/(35-$AF$27))*$V$99-$AF$27/(35-$AF$27)>1,1,(1/(35-$AF$27))*$V$99-$AF$27/(35-$AF$27)))","v":0.34285714285714286},{"$f":"IF((1/(35-$AF$27))*$W$99-$AF$27/(35-$AF$27)<0,0,IF((1/(35-$AF$27))*$W$99-$AF$27/(35-$AF$27)>1,1,(1/(35-$AF$27))*$W$99-$AF$27/(35-$AF$27)))","v":0.37142857142857144},{"$f":"IF((1/(35-$AF$27))*$X$99-$AF$27/(35-$AF$27)<0,0,IF((1/(35-$AF$27))*$X$99-$AF$27/(35-$AF$27)>1,1,(1/(35-$AF$27))*$X$99-$AF$27/(35-$AF$27)))","v":0.39999999999999997},{"$f":"IF((1/(35-$AF$27))*$Y$99-$AF$27/(35-$AF$27)<0,0,IF((1/(35-$AF$27))*$Y$99-$AF$27/(35-$AF$27)>1,1,(1/(35-$AF$27))*$Y$99-$AF$27/(35-$AF$27)))","v":0.42857142857142855},{"$f":"IF((1/(35-$AF$27))*$Z$99-$AF$27/(35-$AF$27)<0,0,IF((1/(35-$AF$27))*$Z$99-$AF$27/(35-$AF$27)>1,1,(1/(35-$AF$27))*$Z$99-$AF$27/(35-$AF$27)))","v":0.45714285714285713},{"$f":"IF((1/(35-$AF$27))*$AA$99-$AF$27/(35-$AF$27)<0,0,IF((1/(35-$AF$27))*$AA$99-$AF$27/(35-$AF$27)>1,1,(1/(35-$AF$27))*$AA$99-$AF$27/(35-$AF$27)))","v":0.48571428571428571},{"$f":"IF((1/(35-$AF$27))*$AB$99-$AF$27/(35-$AF$27)<0,0,IF((1/(35-$AF$27))*$AB$99-$AF$27/(35-$AF$27)>1,1,(1/(35-$AF$27))*$AB$99-$AF$27/(35-$AF$27)))","v":0.51428571428571423},{"$f":"IF((1/(35-$AF$27))*$AC$99-$AF$27/(35-$AF$27)<0,0,IF((1/(35-$AF$27))*$AC$99-$AF$27/(35-$AF$27)>1,1,(1/(35-$AF$27))*$AC$99-$AF$27/(35-$AF$27)))","v":0.54285714285714282},{"$f":"IF((1/(35-$AF$27))*$AD$99-$AF$27/(35-$AF$27)<0,0,IF((1/(35-$AF$27))*$AD$99-$AF$27/(35-$AF$27)>1,1,(1/(35-$AF$27))*$AD$99-$AF$27/(35-$AF$27)))","v":0.5714285714285714},{"$f":"IF((1/(35-$AF$27))*$AE$99-$AF$27/(35-$AF$27)<0,0,IF((1/(35-$AF$27))*$AE$99-$AF$27/(35-$AF$27)>1,1,(1/(35-$AF$27))*$AE$99-$AF$27/(35-$AF$27)))","v":0.6},{"$f":"IF((1/(35-$AF$27))*$AF$99-$AF$27/(35-$AF$27)<0,0,IF((1/(35-$AF$27))*$AF$99-$AF$27/(35-$AF$27)>1,1,(1/(35-$AF$27))*$AF$99-$AF$27/(35-$AF$27)))","v":0.62857142857142856},{"$f":"IF((1/(35-$AF$27))*$AG$99-$AF$27/(35-$AF$27)<0,0,IF((1/(35-$AF$27))*$AG$99-$AF$27/(35-$AF$27)>1,1,(1/(35-$AF$27))*$AG$99-$AF$27/(35-$AF$27)))","v":0.65714285714285714},{"$f":"IF((1/(35-$AF$27))*$AH$99-$AF$27/(35-$AF$27)<0,0,IF((1/(35-$AF$27))*$AH$99-$AF$27/(35-$AF$27)>1,1,(1/(35-$AF$27))*$AH$99-$AF$27/(35-$AF$27)))","v":0.68571428571428572},{"$f":"IF((1/(35-$AF$27))*$AI$99-$AF$27/(35-$AF$27)<0,0,IF((1/(35-$AF$27))*$AI$99-$AF$27/(35-$AF$27)>1,1,(1/(35-$AF$27))*$AI$99-$AF$27/(35-$AF$27)))","v":0.7142857142857143},{"$f":"IF((1/(35-$AF$27))*$AJ$99-$AF$27/(35-$AF$27)<0,0,IF((1/(35-$AF$27))*$AJ$99-$AF$27/(35-$AF$27)>1,1,(1/(35-$AF$27))*$AJ$99-$AF$27/(35-$AF$27)))","v":0.74285714285714288},{"$f":"IF((1/(35-$AF$27))*$AK$99-$AF$27/(35-$AF$27)<0,0,IF((1/(35-$AF$27))*$AK$99-$AF$27/(35-$AF$27)>1,1,(1/(35-$AF$27))*$AK$99-$AF$27/(35-$AF$27)))","v":0.77142857142857135},{"$f":"IF((1/(35-$AF$27))*$AL$99-$AF$27/(35-$AF$27)<0,0,IF((1/(35-$AF$27))*$AL$99-$AF$27/(35-$AF$27)>1,1,(1/(35-$AF$27))*$AL$99-$AF$27/(35-$AF$27)))","v":0.79999999999999993},{"$f":"IF((1/(35-$AF$27))*$AM$99-$AF$27/(35-$AF$27)<0,0,IF((1/(35-$AF$27))*$AM$99-$AF$27/(35-$AF$27)>1,1,(1/(35-$AF$27))*$AM$99-$AF$27/(35-$AF$27)))","v":0.82857142857142851},{"$f":"IF((1/(35-$AF$27))*$AN$99-$AF$27/(35-$AF$27)<0,0,IF((1/(35-$AF$27))*$AN$99-$AF$27/(35-$AF$27)>1,1,(1/(35-$AF$27))*$AN$99-$AF$27/(35-$AF$27)))","v":0.8571428571428571},{"$f":"IF((1/(35-$AF$27))*$AO$99-$AF$27/(35-$AF$27)<0,0,IF((1/(35-$AF$27))*$AO$99-$AF$27/(35-$AF$27)>1,1,(1/(35-$AF$27))*$AO$99-$AF$27/(35-$AF$27)))","v":0.88571428571428568},{"$f":"IF((1/(35-$AF$27))*$AP$99-$AF$27/(35-$AF$27)<0,0,IF((1/(35-$AF$27))*$AP$99-$AF$27/(35-$AF$27)>1,1,(1/(35-$AF$27))*$AP$99-$AF$27/(35-$AF$27)))","v":0.91428571428571426},{"$f":"IF((1/(35-$AF$27))*$AQ$99-$AF$27/(35-$AF$27)<0,0,IF((1/(35-$AF$27))*$AQ$99-$AF$27/(35-$AF$27)>1,1,(1/(35-$AF$27))*$AQ$99-$AF$27/(35-$AF$27)))","v":0.94285714285714284},{"$f":"IF((1/(35-$AF$27))*$AR$99-$AF$27/(35-$AF$27)<0,0,IF((1/(35-$AF$27))*$AR$99-$AF$27/(35-$AF$27)>1,1,(1/(35-$AF$27))*$AR$99-$AF$27/(35-$AF$27)))","v":0.97142857142857142},{"$f":"IF((1/(35-$AF$27))*$AS$99-$AF$27/(35-$AF$27)<0,0,IF((1/(35-$AF$27))*$AS$99-$AF$27/(35-$AF$27)>1,1,(1/(35-$AF$27))*$AS$99-$AF$27/(35-$AF$27)))","v":1},"冷房空調負荷率"]
[null,"Φc","冷房能力",{"$f":"(#REF!-1.077*#REF!)/6*($D$99-35)+#REF!","v":{"$error":"#REF!"}},{"$f":"(#REF!-1.077*#REF!)/6*($E$99-35)+#REF!","v":{"$error":"#REF!"}},{"$f":"(#REF!-1.077*#REF!)/6*($F$99-35)+#REF!","v":{"$error":"#REF!"}},{"$f":"(#REF!-1.077*#REF!)/6*($G$99-35)+#REF!","v":{"$error":"#REF!"}},{"$f":"(#REF!-1.077*#REF!)/6*($H$99-35)+#REF!","v":{"$error":"#REF!"}},{"$f":"(#REF!-1.077*#REF!)/6*($I$99-35)+#REF!","v":{"$error":"#REF!"}},{"$f":"(#REF!-1.077*#REF!)/6*($J$99-35)+#REF!","v":{"$error":"#REF!"}},{"$f":"(#REF!-1.077*#REF!)/6*($K$99-35)+#REF!","v":{"$error":"#REF!"}},{"$f":"(#REF!-1.077*#REF!)/6*($L$99-35)+#REF!","v":{"$error":"#REF!"}},{"$f":"(#REF!-1.077*#REF!)/6*($M$99-35)+#REF!","v":{"$error":"#REF!"}},{"$f":"(#REF!-1.077*#REF!)/6*($N$99-35)+#REF!","v":{"$error":"#REF!"}},{"$f":"(#REF!-1.077*#REF!)/6*($O$99-35)+#REF!","v":{"$error":"#REF!"}},{"$f":"(#REF!-1.077*#REF!)/6*($P$99-35)+#REF!","v":{"$error":"#REF!"}},{"$f":"(#REF!-1.077*#REF!)/6*($Q$99-35)+#REF!","v":{"$error":"#REF!"}},{"$f":"(#REF!-1.077*#REF!)/6*($R$99-35)+#REF!","v":{"$error":"#REF!"}},{"$f":"(#REF!-1.077*#REF!)/6*($S$99-35)+#REF!","v":{"$error":"#REF!"}},{"$f":"(#REF!-1.077*#REF!)/6*($T$99-35)+#REF!","v":{"$error":"#REF!"}},{"$f":"(#REF!-1.077*#REF!)/6*($U$99-35)+#REF!","v":{"$error":"#REF!"}},{"$f":"(#REF!-1.077*#REF!)/6*($V$99-35)+#REF!","v":{"$error":"#REF!"}},{"$f":"(#REF!-1.077*#REF!)/6*($W$99-35)+#REF!","v":{"$error":"#REF!"}},{"$f":"(#REF!-1.077*#REF!)/6*($X$99-35)+#REF!","v":{"$error":"#REF!"}},{"$f":"(#REF!-1.077*#REF!)/6*($Y$99-35)+#REF!","v":{"$error":"#REF!"}},{"$f":"(#REF!-1.077*#REF!)/6*($Z$99-35)+#REF!","v":{"$error":"#REF!"}},{"$f":"(#REF!-1.077*#REF!)/6*($AA$99-35)+#REF!","v":{"$error":"#REF!"}},{"$f":"(#REF!-1.077*#REF!)/6*($AB$99-35)+#REF!","v":{"$error":"#REF!"}},{"$f":"(#REF!-1.077*#REF!)/6*($AC$99-35)+#REF!","v":{"$error":"#REF!"}},{"$f":"(#REF!-1.077*#REF!)/6*($AD$99-35)+#REF!","v":{"$error":"#REF!"}},{"$f":"(#REF!-1.077*#REF!)/6*($AE$99-35)+#REF!","v":{"$error":"#REF!"}},{"$f":"(#REF!-1.077*#REF!)/6*($AF$99-35)+#REF!","v":{"$error":"#REF!"}},{"$f":"(#REF!-1.077*#REF!)/6*($AG$99-35)+#REF!","v":{"$error":"#REF!"}},{"$f":"(#REF!-1.077*#REF!)/6*($AH$99-35)+#REF!","v":{"$error":"#REF!"}},{"$f":"(#REF!-1.077*#REF!)/6*($AI$99-35)+#REF!","v":{"$error":"#REF!"}},{"$f":"(#REF!-1.077*#REF!)/6*($AJ$99-35)+#REF!","v":{"$error":"#REF!"}},{"$f":"(#REF!-1.077*#REF!)/6*($AK$99-35)+#REF!","v":{"$error":"#REF!"}},{"$f":"(#REF!-1.077*#REF!)/6*($AL$99-35)+#REF!","v":{"$error":"#REF!"}},{"$f":"(#REF!-1.077*#REF!)/6*($AM$99-35)+#REF!","v":{"$error":"#REF!"}},{"$f":"(#REF!-1.077*#REF!)/6*($AN$99-35)+#REF!","v":{"$error":"#REF!"}},{"$f":"(#REF!-1.077*#REF!)/6*($AO$99-35)+#REF!","v":{"$error":"#REF!"}},{"$f":"(#REF!-1.077*#REF!)/6*($AP$99-35)+#REF!","v":{"$error":"#REF!"}},{"$f":"(#REF!-1.077*#REF!)/6*($AQ$99-35)+#REF!","v":{"$error":"#REF!"}},{"$f":"(#REF!-1.077*#REF!)/6*($AR$99-35)+#REF!","v":{"$error":"#REF!"}},{"$f":"(#REF!-1.077*#REF!)/6*($AS$99-35)+#REF!","v":{"$error":"#REF!"}},"冷房能力"]
[null,"Pc","消費電力",{"$f":"($AF$28-0.914*$AF$28)/6*($D$99-35)+$AF$28","v":0},{"$f":"($AF$28-0.914*$AF$28)/6*($E$99-35)+$AF$28","v":0},{"$f":"($AF$28-0.914*$AF$28)/6*($F$99-35)+$AF$28","v":0},{"$f":"($AF$28-0.914*$AF$28)/6*($G$99-35)+$AF$28","v":0},{"$f":"($AF$28-0.914*$AF$28)/6*($H$99-35)+$AF$28","v":0},{"$f":"($AF$28-0.914*$AF$28)/6*($I$99-35)+$AF$28","v":0},{"$f":"($AF$28-0.914*$AF$28)/6*($J$99-35)+$AF$28","v":0},{"$f":"($AF$28-0.914*$AF$28)/6*($K$99-35)+$AF$28","v":0},{"$f":"($AF$28-0.914*$AF$28)/6*($L$99-35)+$AF$28","v":0},{"$f":"($AF$28-0.914*$AF$28)/6*($M$99-35)+$AF$28","v":0},{"$f":"($AF$28-0.914*$AF$28)/6*($N$99-35)+$AF$28","v":0},{"$f":"($AF$28-0.914*$AF$28)/6*($O$99-35)+$AF$28","v":0},{"$f":"($AF$28-0.914*$AF$28)/6*($P$99-35)+$AF$28","v":0},{"$f":"($AF$28-0.914*$AF$28)/6*($Q$99-35)+$AF$28","v":0},{"$f":"($AF$28-0.914*$AF$28)/6*($R$99-35)+$AF$28","v":0},{"$f":"($AF$28-0.914*$AF$28)/6*($S$99-35)+$AF$28","v":0},{"$f":"($AF$28-0.914*$AF$28)/6*($T$99-35)+$AF$28","v":0},{"$f":"($AF$28-0.914*$AF$28)/6*($U$99-35)+$AF$28","v":0},{"$f":"($AF$28-0.914*$AF$28)/6*($V$99-35)+$AF$28","v":0},{"$f":"($AF$28-0.914*$AF$28)/6*($W$99-35)+$AF$28","v":0},{"$f":"($AF$28-0.914*$AF$28)/6*($X$99-35)+$AF$28","v":0},{"$f":"($AF$28-0.914*$AF$28)/6*($Y$99-35)+$AF$28","v":0},{"$f":"($AF$28-0.914*$AF$28)/6*($Z$99-35)+$AF$28","v":0},{"$f":"($AF$28-0.914*$AF$28)/6*($AA$99-35)+$AF$28","v":0},{"$f":"($AF$28-0.914*$AF$28)/6*($AB$99-35)+$AF$28","v":0},{"$f":"($AF$28-0.914*$AF$28)/6*($AC$99-35)+$AF$28","v":0},{"$f":"($AF$28-0.914*$AF$28)/6*($AD$99-35)+$AF$28","v":0},{"$f":"($AF$28-0.914*$AF$28)/6*($AE$99-35)+$AF$28","v":0},{"$f":"($AF$28-0.914*$AF$28)/6*($AF$99-35)+$AF$28","v":0},{"$f":"($AF$28-0.914*$AF$28)/6*($AG$99-35)+$AF$28","v":0},{"$f":"($AF$28-0.914*$AF$28)/6*($AH$99-35)+$AF$28","v":0},{"$f":"($AF$28-0.914*$AF$28)/6*($AI$99-35)+$AF$28","v":0},{"$f":"($AF$28-0.914*$AF$28)/6*($AJ$99-35)+$AF$28","v":0},{"$f":"($AF$28-0.914*$AF$28)/6*($AK$99-35)+$AF$28","v":0},{"$f":"($AF$28-0.914*$AF$28)/6*($AL$99-35)+$AF$28","v":0},{"$f":"($AF$28-0.914*$AF$28)/6*($AM$99-35)+$AF$28","v":0},{"$f":"($AF$28-0.914*$AF$28)/6*($AN$99-35)+$AF$28","v":0},{"$f":"($AF$28-0.914*$AF$28)/6*($AO$99-35)+$AF$28","v":0},{"$f":"($AF$28-0.914*$AF$28)/6*($AP$99-35)+$AF$28","v":0},{"$f":"($AF$28-0.914*$AF$28)/6*($AQ$99-35)+$AF$28","v":0},{"$f":"($AF$28-0.914*$AF$28)/6*($AR$99-35)+$AF$28","v":0},{"$f":"($AF$28-0.914*$AF$28)/6*($AS$99-35)+$AF$28","v":0},"消費電力"]
[null,"σc","COP",{"$f":"$D$115/$D$116","v":{"$error":"#REF!"}},{"$f":"$E$115/$E$116","v":{"$error":"#REF!"}},{"$f":"$F$115/$F$116","v":{"$error":"#REF!"}},{"$f":"$G$115/$G$116","v":{"$error":"#REF!"}},{"$f":"$H$115/$H$116","v":{"$error":"#REF!"}},{"$f":"$I$115/$I$116","v":{"$error":"#REF!"}},{"$f":"$J$115/$J$116","v":{"$error":"#REF!"}},{"$f":"$K$115/$K$116","v":{"$error":"#REF!"}},{"$f":"$L$115/$L$116","v":{"$error":"#REF!"}},{"$f":"$M$115/$M$116","v":{"$error":"#REF!"}},{"$f":"$N$115/$N$116","v":{"$error":"#REF!"}},{"$f":"$O$115/$O$116","v":{"$error":"#REF!"}},{"$f":"$P$115/$P$116","v":{"$error":"#REF!"}},{"$f":"$Q$115/$Q$116","v":{"$error":"#REF!"}},{"$f":"$R$115/$R$116","v":{"$error":"#REF!"}},{"$f":"$S$115/$S$116","v":{"$error":"#REF!"}},{"$f":"$T$115/$T$116","v":{"$error":"#REF!"}},{"$f":"$U$115/$U$116","v":{"$error":"#REF!"}},{"$f":"$V$115/$V$116","v":{"$error":"#REF!"}},{"$f":"$W$115/$W$116","v":{"$error":"#REF!"}},{"$f":"$X$115/$X$116","v":{"$error":"#REF!"}},{"$f":"$Y$115/$Y$116","v":{"$error":"#REF!"}},{"$f":"$Z$115/$Z$116","v":{"$error":"#REF!"}},{"$f":"$AA$115/$AA$116","v":{"$error":"#REF!"}},{"$f":"$AB$115/$AB$116","v":{"$error":"#REF!"}},{"$f":"$AC$115/$AC$116","v":{"$error":"#REF!"}},{"$f":"$AD$115/$AD$116","v":{"$error":"#REF!"}},{"$f":"$AE$115/$AE$116","v":{"$error":"#REF!"}},{"$f":"$AF$115/$AF$116","v":{"$error":"#REF!"}},{"$f":"$AG$115/$AG$116","v":{"$error":"#REF!"}},{"$f":"$AH$115/$AH$116","v":{"$error":"#REF!"}},{"$f":"$AI$115/$AI$116","v":{"$error":"#REF!"}},{"$f":"$AJ$115/$AJ$116","v":{"$error":"#REF!"}},{"$f":"$AK$115/$AK$116","v":{"$error":"#REF!"}},{"$f":"$AL$115/$AL$116","v":{"$error":"#REF!"}},{"$f":"$AM$115/$AM$116","v":{"$error":"#REF!"}},{"$f":"$AN$115/$AN$116","v":{"$error":"#REF!"}},{"$f":"$AO$115/$AO$116","v":{"$error":"#REF!"}},{"$f":"$AP$115/$AP$116","v":{"$error":"#REF!"}},{"$f":"$AQ$115/$AQ$116","v":{"$error":"#REF!"}},{"$f":"$AR$115/$AR$116","v":{"$error":"#REF!"}},{"$f":"$AS$115/$AS$116","v":{"$error":"#REF!"}},"COP"]
[null,"βc","冷房COP比",{"$f":"$D$117/$AS$117","v":{"$error":"#REF!"}},{"$f":"$E$117/$AS$117","v":{"$error":"#REF!"}},{"$f":"$F$117/$AS$117","v":{"$error":"#REF!"}},{"$f":"$G$117/$AS$117","v":{"$error":"#REF!"}},{"$f":"$H$117/$AS$117","v":{"$error":"#REF!"}},{"$f":"$I$117/$AS$117","v":{"$error":"#REF!"}},{"$f":"$J$117/$AS$117","v":{"$error":"#REF!"}},{"$f":"$K$117/$AS$117","v":{"$error":"#REF!"}},{"$f":"$L$117/$AS$117","v":{"$error":"#REF!"}},{"$f":"$M$117/$AS$117","v":{"$error":"#REF!"}},{"$f":"$N$117/$AS$117","v":{"$error":"#REF!"}},{"$f":"$O$117/$AS$117","v":{"$error":"#REF!"}},{"$f":"$P$117/$AS$117","v":{"$error":"#REF!"}},{"$f":"$Q$117/$AS$117","v":{"$error":"#REF!"}},{"$f":"$R$117/$AS$117","v":{"$error":"#REF!"}},{"$f":"$S$117/$AS$117","v":{"$error":"#REF!"}},{"$f":"$T$117/$AS$117","v":{"$error":"#REF!"}},{"$f":"$U$117/$AS$117","v":{"$error":"#REF!"}},{"$f":"$V$117/$AS$117","v":{"$error":"#REF!"}},{"$f":"$W$117/$AS$117","v":{"$error":"#REF!"}},{"$f":"$X$117/$AS$117","v":{"$error":"#REF!"}},{"$f":"$Y$117/$AS$117","v":{"$error":"#REF!"}},{"$f":"$Z$117/$AS$117","v":{"$error":"#REF!"}},{"$f":"$AA$117/$AS$117","v":{"$error":"#REF!"}},{"$f":"$AB$117/$AS$117","v":{"$error":"#REF!"}},{"$f":"$AC$117/$AS$117","v":{"$error":"#REF!"}},{"$f":"$AD$117/$AS$117","v":{"$error":"#REF!"}},{"$f":"$AE$117/$AS$117","v":{"$error":"#REF!"}},{"$f":"$AF$117/$AS$117","v":{"$error":"#REF!"}},{"$f":"$AG$117/$AS$117","v":{"$error":"#REF!"}},{"$f":"$AH$117/$AS$117","v":{"$error":"#REF!"}},{"$f":"$AI$117/$AS$117","v":{"$error":"#REF!"}},{"$f":"$AJ$117/$AS$117","v":{"$error":"#REF!"}},{"$f":"$AK$117/$AS$117","v":{"$error":"#REF!"}},{"$f":"$AL$117/$AS$117","v":{"$error":"#REF!"}},{"$f":"$AM$117/$AS$117","v":{"$error":"#REF!"}},{"$f":"$AN$117/$AS$117","v":{"$error":"#REF!"}},{"$f":"$AO$117/$AS$117","v":{"$error":"#REF!"}},{"$f":"$AP$117/$AS$117","v":{"$error":"#REF!"}},{"$f":"$AQ$117/$AS$117","v":{"$error":"#REF!"}},{"$f":"$AR$117/$AS$117","v":{"$error":"#REF!"}},{"$f":"$AS$117/$AS$117","v":{"$error":"#REF!"}},"冷房COP比"]
[null,"Σ合計",{"$f":"SUM($D$119:$AS$119)","v":{"$error":"#REF!"}},{"$f":"$D$112*$D$113","v":{"$error":"#REF!"}},{"$f":"$E$112*$E$113","v":{"$error":"#REF!"}},{"$f":"$F$112*$F$113","v":{"$error":"#REF!"}},{"$f":"$G$112*$G$113","v":{"$error":"#REF!"}},{"$f":"$H$112*$H$113","v":{"$error":"#REF!"}},{"$f":"$I$112*$I$113","v":{"$error":"#REF!"}},{"$f":"$J$112*$J$113","v":{"$error":"#REF!"}},{"$f":"$K$112*$K$113","v":{"$error":"#REF!"}},{"$f":"$L$112*$L$113","v":{"$error":"#REF!"}},{"$f":"$M$112*$M$113","v":{"$error":"#REF!"}},{"$f":"$N$112*$N$113","v":{"$error":"#REF!"}},{"$f":"$O$112*$O$113","v":{"$error":"#REF!"}},{"$f":"$P$112*$P$113","v":{"$error":"#REF!"}},{"$f":"$Q$112*$Q$113","v":{"$error":"#REF!"}},{"$f":"$R$112*$R$113","v":{"$error":"#REF!"}},{"$f":"$S$112*$S$113","v":{"$error":"#REF!"}},{"$f":"$T$112*$T$113","v":{"$error":"#REF!"}},{"$f":"$U$112*$U$113","v":{"$error":"#REF!"}},{"$f":"$V$112*$V$113","v":{"$error":"#REF!"}},{"$f":"$W$112*$W$113","v":{"$error":"#REF!"}},{"$f":"$X$112*$X$113","v":{"$error":"#REF!"}},{"$f":"$Y$112*$Y$113","v":{"$error":"#REF!"}},{"$f":"$Z$112*$Z$113","v":{"$error":"#REF!"}},{"$f":"$AA$112*$AA$113","v":{"$error":"#REF!"}},{"$f":"$AB$112*$AB$113","v":{"$error":"#REF!"}},{"$f":"$AC$112*$AC$113","v":{"$error":"#REF!"}},{"$f":"$AD$112*$AD$113","v":{"$error":"#REF!"}},{"$f":"$AE$112*$AE$113","v":{"$error":"#REF!"}},{"$f":"$AF$112*$AF$113","v":{"$error":"#REF!"}},{"$f":"$AG$112*$AG$113","v":{"$error":"#REF!"}},{"$f":"$AH$112*$AH$113","v":{"$error":"#REF!"}},{"$f":"$AI$112*$AI$113","v":{"$error":"#REF!"}},{"$f":"$AJ$112*$AJ$113","v":{"$error":"#REF!"}},{"$f":"$AK$112*$AK$113","v":{"$error":"#REF!"}},{"$f":"$AL$112*$AL$113","v":{"$error":"#REF!"}},{"$f":"$AM$112*$AM$113","v":{"$error":"#REF!"}},{"$f":"$AN$112*$AN$113","v":{"$error":"#REF!"}},{"$f":"$AO$112*$AO$113","v":{"$error":"#REF!"}},{"$f":"$AP$112*$AP$113","v":{"$error":"#REF!"}},{"$f":"$AQ$112*$AQ$113","v":{"$error":"#REF!"}},{"$f":"$AR$112*$AR$113","v":{"$error":"#REF!"}},{"$f":"$AS$112*$AS$113","v":{"$error":"#REF!"}},{"$f":"SUM($D$119:$AS$119)","v":{"$error":"#REF!"}},{"$f":"SUM(AU100:AU111)","v":{"$error":"#REF!"}}]
[]
[null,null,"温度(Tid)が発生する時間[hour]"]
[null,null,null," 温度(T)"]
[null,null,"月",-6,-5,-4,-3,-2,-1,0,1,2,3,4,5,6,7,8,9,10,11,12,13,14,15,16,17,18,19,20,21,22,23,24,25,26,27,28,29,30,31,32,33,34,35,"月"]
[null,null,4,{"$f":"COUNTIF($D$84:$AA$84,$D$123)*$AB$11","v":0},{"$f":"COUNTIF($D$84:$AA$84,$E$123)*$AB$11","v":0},{"$f":"COUNTIF($D$84:$AA$84,$F$123)*$AB$11","v":0},{"$f":"COUNTIF($D$84:$AA$84,$G$123)*$AB$11","v":0},{"$f":"COUNTIF($D$84:$AA$84,$H$123)*$AB$11","v":0},{"$f":"COUNTIF($D$84:$AA$84,$I$123)*$AB$11","v":0},{"$f":"COUNTIF($D$84:$AA$84,$J$123)*$AB$11","v":0},{"$f":"COUNTIF($D$84:$AA$84,$K$123)*$AB$11","v":0},{"$f":"COUNTIF($D$84:$AA$84,$L$123)*$AB$11","v":0},{"$f":"COUNTIF($D$84:$AA$84,$M$123)*$AB$11","v":0},{"$f":"COUNTIF($D$84:$AA$84,$N$123)*$AB$11","v":0},{"$f":"COUNTIF($D$84:$AA$84,$O$123)*$AB$11","v":0},{"$f":"COUNTIF($D$84:$AA$84,$P$123)*$AB$11","v":0},{"$f":"COUNTIF($D$84:$AA$84,$Q$123)*$AB$11","v":0},{"$f":"COUNTIF($D$84:$AA$84,$R$123)*$AB$11","v":0},{"$f":"COUNTIF($D$84:$AA$84,$S$123)*$AB$11","v":0},{"$f":"COUNTIF($D$84:$AA$84,$T$123)*$AB$11","v":0},{"$f":"COUNTIF($D$84:$AA$84,$U$123)*$AB$11","v":0},{"$f":"COUNTIF($D$84:$AA$84,$V$123)*$AB$11","v":0},{"$f":"COUNTIF($D$84:$AA$84,$W$123)*$AB$11","v":0},{"$f":"COUNTIF($D$84:$AA$84,$X$123)*$AB$11","v":0},{"$f":"COUNTIF($D$84:$AA$84,$Y$123)*$AB$11","v":0},{"$f":"COUNTIF($D$84:$AA$84,$Z$123)*$AB$11","v":0},{"$f":"COUNTIF($D$84:$AA$84,$AA$123)*$AB$11","v":0},{"$f":"COUNTIF($D$84:$AA$84,$AB$123)*$AB$11","v":0},{"$f":"COUNTIF($D$84:$AA$84,$AC$123)*$AB$11","v":0},{"$f":"COUNTIF($D$84:$AA$84,$AD$123)*$AB$11","v":0},{"$f":"COUNTIF($D$84:$AA$84,$AE$123)*$AB$11","v":0},{"$f":"COUNTIF($D$84:$AA$84,$AF$123)*$AB$11","v":0},{"$f":"COUNTIF($D$84:$AA$84,$AG$123)*$AB$11","v":0},{"$f":"COUNTIF($D$84:$AA$84,$AH$123)*$AB$11","v":0},{"$f":"COUNTIF($D$84:$AA$84,$AI$123)*$AB$11","v":0},{"$f":"COUNTIF($D$84:$AA$84,$AJ$123)*$AB$11","v":0},{"$f":"COUNTIF($D$84:$AA$84,$AK$123)*$AB$11","v":0},{"$f":"COUNTIF($D$84:$AA$84,$AL$123)*$AB$11","v":0},{"$f":"COUNTIF($D$84:$AA$84,$AM$123)*$AB$11","v":0},{"$f":"COUNTIF($D$84:$AA$84,$AN$123)*$AB$11","v":0},{"$f":"COUNTIF($D$84:$AA$84,$AO$123)*$AB$11","v":0},{"$f":"COUNTIF($D$84:$AA$84,$AP$123)*$AB$11","v":0},{"$f":"COUNTIF($D$84:$AA$84,$AQ$123)*$AB$11","v":0},{"$f":"COUNTIF($D$84:$AA$84,$AR$123)*$AB$11","v":0},{"$f":"COUNTIF($D$84:$AA$84,$AS$123)*$AB$11","v":0},4,{"$f":"SUMPRODUCT(D124:AS124,$D$137:$AS$137)","v":{"$error":"#REF!"}}]
[null,null,5,{"$f":"COUNTIF($D$85:$AA$85,$D$123)*$AB$12","v":0},{"$f":"COUNTIF($D$85:$AA$85,$E$123)*$AB$12","v":0},{"$f":"COUNTIF($D$85:$AA$85,$F$123)*$AB$12","v":0},{"$f":"COUNTIF($D$85:$AA$85,$G$123)*$AB$12","v":0},{"$f":"COUNTIF($D$85:$AA$85,$H$123)*$AB$12","v":0},{"$f":"COUNTIF($D$85:$AA$85,$I$123)*$AB$12","v":0},{"$f":"COUNTIF($D$85:$AA$85,$J$123)*$AB$12","v":0},{"$f":"COUNTIF($D$85:$AA$85,$K$123)*$AB$12","v":0},{"$f":"COUNTIF($D$85:$AA$85,$L$123)*$AB$12","v":0},{"$f":"COUNTIF($D$85:$AA$85,$M$123)*$AB$12","v":0},{"$f":"COUNTIF($D$85:$AA$85,$N$123)*$AB$12","v":0},{"$f":"COUNTIF($D$85:$AA$85,$O$123)*$AB$12","v":0},{"$f":"COUNTIF($D$85:$AA$85,$P$123)*$AB$12","v":0},{"$f":"COUNTIF($D$85:$AA$85,$Q$123)*$AB$12","v":0},{"$f":"COUNTIF($D$85:$AA$85,$R$123)*$AB$12","v":0},{"$f":"COUNTIF($D$85:$AA$85,$S$123)*$AB$12","v":0},{"$f":"COUNTIF($D$85:$AA$85,$T$123)*$AB$12","v":0},{"$f":"COUNTIF($D$85:$AA$85,$U$123)*$AB$12","v":0},{"$f":"COUNTIF($D$85:$AA$85,$V$123)*$AB$12","v":0},{"$f":"COUNTIF($D$85:$AA$85,$W$123)*$AB$12","v":0},{"$f":"COUNTIF($D$85:$AA$85,$X$123)*$AB$12","v":0},{"$f":"COUNTIF($D$85:$AA$85,$Y$123)*$AB$12","v":0},{"$f":"COUNTIF($D$85:$AA$85,$Z$123)*$AB$12","v":0},{"$f":"COUNTIF($D$85:$AA$85,$AA$123)*$AB$12","v":0},{"$f":"COUNTIF($D$85:$AA$85,$AB$123)*$AB$12","v":0},{"$f":"COUNTIF($D$85:$AA$85,$AC$123)*$AB$12","v":0},{"$f":"COUNTIF($D$85:$AA$85,$AD$123)*$AB$12","v":0},{"$f":"COUNTIF($D$85:$AA$85,$AE$123)*$AB$12","v":0},{"$f":"COUNTIF($D$85:$AA$85,$AF$123)*$AB$12","v":0},{"$f":"COUNTIF($D$85:$AA$85,$AG$123)*$AB$12","v":0},{"$f":"COUNTIF($D$85:$AA$85,$AH$123)*$AB$12","v":0},{"$f":"COUNTIF($D$85:$AA$85,$AI$123)*$AB$12","v":0},{"$f":"COUNTIF($D$85:$AA$85,$AJ$123)*$AB$12","v":0},{"$f":"COUNTIF($D$85:$AA$85,$AK$123)*$AB$12","v":0},{"$f":"COUNTIF($D$85:$AA$85,$AL$123)*$AB$12","v":0},{"$f":"COUNTIF($D$85:$AA$85,$AM$123)*$AB$12","v":0},{"$f":"COUNTIF($D$85:$AA$85,$AN$123)*$AB$12","v":0},{"$f":"COUNTIF($D$85:$AA$85,$AO$123)*$AB$12","v":0},{"$f":"COUNTIF($D$85:$AA$85,$AP$123)*$AB$12","v":0},{"$f":"COUNTIF($D$85:$AA$85,$AQ$123)*$AB$12","v":0},{"$f":"COUNTIF($D$85:$AA$85,$AR$123)*$AB$12","v":0},{"$f":"COUNTIF($D$85:$AA$85,$AS$123)*$AB$12","v":0},5,{"$f":"SUMPRODUCT(D125:AS125,$D$137:$AS$137)","v":{"$error":"#REF!"}}]
[null,null,6,{"$f":"COUNTIF($D$86:$AA$86,$D$123)*$AB$13","v":0},{"$f":"COUNTIF($D$86:$AA$86,$E$123)*$AB$13","v":0},{"$f":"COUNTIF($D$86:$AA$86,$F$123)*$AB$13","v":0},{"$f":"COUNTIF($D$86:$AA$86,$G$123)*$AB$13","v":0},{"$f":"COUNTIF($D$86:$AA$86,$H$123)*$AB$13","v":0},{"$f":"COUNTIF($D$86:$AA$86,$I$123)*$AB$13","v":0},{"$f":"COUNTIF($D$86:$AA$86,$J$123)*$AB$13","v":0},{"$f":"COUNTIF($D$86:$AA$86,$K$123)*$AB$13","v":0},{"$f":"COUNTIF($D$86:$AA$86,$L$123)*$AB$13","v":0},{"$f":"COUNTIF($D$86:$AA$86,$M$123)*$AB$13","v":0},{"$f":"COUNTIF($D$86:$AA$86,$N$123)*$AB$13","v":0},{"$f":"COUNTIF($D$86:$AA$86,$O$123)*$AB$13","v":0},{"$f":"COUNTIF($D$86:$AA$86,$P$123)*$AB$13","v":0},{"$f":"COUNTIF($D$86:$AA$86,$Q$123)*$AB$13","v":0},{"$f":"COUNTIF($D$86:$AA$86,$R$123)*$AB$13","v":0},{"$f":"COUNTIF($D$86:$AA$86,$S$123)*$AB$13","v":0},{"$f":"COUNTIF($D$86:$AA$86,$T$123)*$AB$13","v":0},{"$f":"COUNTIF($D$86:$AA$86,$U$123)*$AB$13","v":0},{"$f":"COUNTIF($D$86:$AA$86,$V$123)*$AB$13","v":0},{"$f":"COUNTIF($D$86:$AA$86,$W$123)*$AB$13","v":0},{"$f":"COUNTIF($D$86:$AA$86,$X$123)*$AB$13","v":0},{"$f":"COUNTIF($D$86:$AA$86,$Y$123)*$AB$13","v":0},{"$f":"COUNTIF($D$86:$AA$86,$Z$123)*$AB$13","v":0},{"$f":"COUNTIF($D$86:$AA$86,$AA$123)*$AB$13","v":0},{"$f":"COUNTIF($D$86:$AA$86,$AB$123)*$AB$13","v":0},{"$f":"COUNTIF($D$86:$AA$86,$AC$123)*$AB$13","v":0},{"$f":"COUNTIF($D$86:$AA$86,$AD$123)*$AB$13","v":0},{"$f":"COUNTIF($D$86:$AA$86,$AE$123)*$AB$13","v":0},{"$f":"COUNTIF($D$86:$AA$86,$AF$123)*$AB$13","v":0},{"$f":"COUNTIF($D$86:$AA$86,$AG$123)*$AB$13","v":0},{"$f":"COUNTIF($D$86:$AA$86,$AH$123)*$AB$13","v":0},{"$f":"COUNTIF($D$86:$AA$86,$AI$123)*$AB$13","v":0},{"$f":"COUNTIF($D$86:$AA$86,$AJ$123)*$AB$13","v":0},{"$f":"COUNTIF($D$86:$AA$86,$AK$123)*$AB$13","v":0},{"$f":"COUNTIF($D$86:$AA$86,$AL$123)*$AB$13","v":0},{"$f":"COUNTIF($D$86:$AA$86,$AM$123)*$AB$13","v":0},{"$f":"COUNTIF($D$86:$AA$86,$AN$123)*$AB$13","v":0},{"$f":"COUNTIF($D$86:$AA$86,$AO$123)*$AB$13","v":0},{"$f":"COUNTIF($D$86:$AA$86,$AP$123)*$AB$13","v":0},{"$f":"COUNTIF($D$86:$AA$86,$AQ$123)*$AB$13","v":0},{"$f":"COUNTIF($D$86:$AA$86,$AR$123)*$AB$13","v":0},{"$f":"COUNTIF($D$86:$AA$86,$AS$123)*$AB$13","v":0},6,{"$error":"#REF!"}]
[null,null,7,{"$f":"COUNTIF($D$87:$AA$87,$D$123)*$AB$14","v":0},{"$f":"COUNTIF($D$87:$AA$87,$E$123)*$AB$14","v":0},{"$f":"COUNTIF($D$87:$AA$87,$F$123)*$AB$14","v":0},{"$f":"COUNTIF($D$87:$AA$87,$G$123)*$AB$14","v":0},{"$f":"COUNTIF($D$87:$AA$87,$H$123)*$AB$14","v":0},{"$f":"COUNTIF($D$87:$AA$87,$I$123)*$AB$14","v":0},{"$f":"COUNTIF($D$87:$AA$87,$J$123)*$AB$14","v":0},{"$f":"COUNTIF($D$87:$AA$87,$K$123)*$AB$14","v":0},{"$f":"COUNTIF($D$87:$AA$87,$L$123)*$AB$14","v":0},{"$f":"COUNTIF($D$87:$AA$87,$M$123)*$AB$14","v":0},{"$f":"COUNTIF($D$87:$AA$87,$N$123)*$AB$14","v":0},{"$f":"COUNTIF($D$87:$AA$87,$O$123)*$AB$14","v":0},{"$f":"COUNTIF($D$87:$AA$87,$P$123)*$AB$14","v":0},{"$f":"COUNTIF($D$87:$AA$87,$Q$123)*$AB$14","v":0},{"$f":"COUNTIF($D$87:$AA$87,$R$123)*$AB$14","v":0},{"$f":"COUNTIF($D$87:$AA$87,$S$123)*$AB$14","v":0},{"$f":"COUNTIF($D$87:$AA$87,$T$123)*$AB$14","v":0},{"$f":"COUNTIF($D$87:$AA$87,$U$123)*$AB$14","v":0},{"$f":"COUNTIF($D$87:$AA$87,$V$123)*$AB$14","v":0},{"$f":"COUNTIF($D$87:$AA$87,$W$123)*$AB$14","v":0},{"$f":"COUNTIF($D$87:$AA$87,$X$123)*$AB$14","v":0},{"$f":"COUNTIF($D$87:$AA$87,$Y$123)*$AB$14","v":0},{"$f":"COUNTIF($D$87:$AA$87,$Z$123)*$AB$14","v":0},{"$f":"COUNTIF($D$87:$AA$87,$AA$123)*$AB$14","v":0},{"$f":"COUNTIF($D$87:$AA$87,$AB$123)*$AB$14","v":0},{"$f":"COUNTIF($D$87:$AA$87,$AC$123)*$AB$14","v":0},{"$f":"COUNTIF($D$87:$AA$87,$AD$123)*$AB$14","v":0},{"$f":"COUNTIF($D$87:$AA$87,$AE$123)*$AB$14","v":0},{"$f":"COUNTIF($D$87:$AA$87,$AF$123)*$AB$14","v":0},{"$f":"COUNTIF($D$87:$AA$87,$AG$123)*$AB$14","v":0},{"$f":"COUNTIF($D$87:$AA$87,$AH$123)*$AB$14","v":0},{"$f":"COUNTIF($D$87:$AA$87,$AI$123)*$AB$14","v":0},{"$f":"COUNTIF($D$87:$AA$87,$AJ$123)*$AB$14","v":0},{"$f":"COUNTIF($D$87:$AA$87,$AK$123)*$AB$14","v":0},{"$f":"COUNTIF($D$87:$AA$87,$AL$123)*$AB$14","v":0},{"$f":"COUNTIF($D$87:$AA$87,$AM$123)*$AB$14","v":0},{"$f":"COUNTIF($D$87:$AA$87,$AN$123)*$AB$14","v":0},{"$f":"COUNTIF($D$87:$AA$87,$AO$123)*$AB$14","v":0},{"$f":"COUNTIF($D$87:$AA$87,$AP$123)*$AB$14","v":0},{"$f":"COUNTIF($D$87:$AA$87,$AQ$123)*$AB$14","v":0},{"$f":"COUNTIF($D$87:$AA$87,$AR$123)*$AB$14","v":0},{"$f":"COUNTIF($D$87:$AA$87,$AS$123)*$AB$14","v":0},7,{"$error":"#REF!"}]
[null,null,8,{"$f":"COUNTIF($D$88:$AA$88,$D$123)*$AB$15","v":0},{"$f":"COUNTIF($D$88:$AA$88,$E$123)*$AB$15","v":0},{"$f":"COUNTIF($D$88:$AA$88,$F$123)*$AB$15","v":0},{"$f":"COUNTIF($D$88:$AA$88,$G$123)*$AB$15","v":0},{"$f":"COUNTIF($D$88:$AA$88,$H$123)*$AB$15","v":0},{"$f":"COUNTIF($D$88:$AA$88,$I$123)*$AB$15","v":0},{"$f":"COUNTIF($D$88:$AA$88,$J$123)*$AB$15","v":0},{"$f":"COUNTIF($D$88:$AA$88,$K$123)*$AB$15","v":0},{"$f":"COUNTIF($D$88:$AA$88,$L$123)*$AB$15","v":0},{"$f":"COUNTIF($D$88:$AA$88,$M$123)*$AB$15","v":0},{"$f":"COUNTIF($D$88:$AA$88,$N$123)*$AB$15","v":0},{"$f":"COUNTIF($D$88:$AA$88,$O$123)*$AB$15","v":0},{"$f":"COUNTIF($D$88:$AA$88,$P$123)*$AB$15","v":0},{"$f":"COUNTIF($D$88:$AA$88,$Q$123)*$AB$15","v":0},{"$f":"COUNTIF($D$88:$AA$88,$R$123)*$AB$15","v":0},{"$f":"COUNTIF($D$88:$AA$88,$S$123)*$AB$15","v":0},{"$f":"COUNTIF($D$88:$AA$88,$T$123)*$AB$15","v":0},{"$f":"COUNTIF($D$88:$AA$88,$U$123)*$AB$15","v":0},{"$f":"COUNTIF($D$88:$AA$88,$V$123)*$AB$15","v":0},{"$f":"COUNTIF($D$88:$AA$88,$W$123)*$AB$15","v":0},{"$f":"COUNTIF($D$88:$AA$88,$X$123)*$AB$15","v":0},{"$f":"COUNTIF($D$88:$AA$88,$Y$123)*$AB$15","v":0},{"$f":"COUNTIF($D$88:$AA$88,$Z$123)*$AB$15","v":0},{"$f":"COUNTIF($D$88:$AA$88,$AA$123)*$AB$15","v":0},{"$f":"COUNTIF($D$88:$AA$88,$AB$123)*$AB$15","v":0},{"$f":"COUNTIF($D$88:$AA$88,$AC$123)*$AB$15","v":0},{"$f":"COUNTIF($D$88:$AA$88,$AD$123)*$AB$15","v":0},{"$f":"COUNTIF($D$88:$AA$88,$AE$123)*$AB$15","v":0},{"$f":"COUNTIF($D$88:$AA$88,$AF$123)*$AB$15","v":0},{"$f":"COUNTIF($D$88:$AA$88,$AG$123)*$AB$15","v":0},{"$f":"COUNTIF($D$88:$AA$88,$AH$123)*$AB$15","v":0},{"$f":"COUNTIF($D$88:$AA$88,$AI$123)*$AB$15","v":0},{"$f":"COUNTIF($D$88:$AA$88,$AJ$123)*$AB$15","v":0},{"$f":"COUNTIF($D$88:$AA$88,$AK$123)*$AB$15","v":0},{"$f":"COUNTIF($D$88:$AA$88,$AL$123)*$AB$15","v":0},{"$f":"COUNTIF($D$88:$AA$88,$AM$123)*$AB$15","v":0},{"$f":"COUNTIF($D$88:$AA$88,$AN$123)*$AB$15","v":0},{"$f":"COUNTIF($D$88:$AA$88,$AO$123)*$AB$15","v":0},{"$f":"COUNTIF($D$88:$AA$88,$AP$123)*$AB$15","v":0},{"$f":"COUNTIF($D$88:$AA$88,$AQ$123)*$AB$15","v":0},{"$f":"COUNTIF($D$88:$AA$88,$AR$123)*$AB$15","v":0},{"$f":"COUNTIF($D$88:$AA$88,$AS$123)*$AB$15","v":0},8,{"$error":"#REF!"}]
[null,null,9,{"$f":"COUNTIF($D$89:$AA$89,$D$123)*$AB$16","v":0},{"$f":"COUNTIF($D$89:$AA$89,$E$123)*$AB$16","v":0},{"$f":"COUNTIF($D$89:$AA$89,$F$123)*$AB$16","v":0},{"$f":"COUNTIF($D$89:$AA$89,$G$123)*$AB$16","v":0},{"$f":"COUNTIF($D$89:$AA$89,$H$123)*$AB$16","v":0},{"$f":"COUNTIF($D$89:$AA$89,$I$123)*$AB$16","v":0},{"$f":"COUNTIF($D$89:$AA$89,$J$123)*$AB$16","v":0},{"$f":"COUNTIF($D$89:$AA$89,$K$123)*$AB$16","v":0},{"$f":"COUNTIF($D$89:$AA$89,$L$123)*$AB$16","v":0},{"$f":"COUNTIF($D$89:$AA$89,$M$123)*$AB$16","v":0},{"$f":"COUNTIF($D$89:$AA$89,$N$123)*$AB$16","v":0},{"$f":"COUNTIF($D$89:$AA$89,$O$123)*$AB$16","v":0},{"$f":"COUNTIF($D$89:$AA$89,$P$123)*$AB$16","v":0},{"$f":"COUNTIF($D$89:$AA$89,$Q$123)*$AB$16","v":0},{"$f":"COUNTIF($D$89:$AA$89,$R$123)*$AB$16","v":0},{"$f":"COUNTIF($D$89:$AA$89,$S$123)*$AB$16","v":0},{"$f":"COUNTIF($D$89:$AA$89,$T$123)*$AB$16","v":0},{"$f":"COUNTIF($D$89:$AA$89,$U$123)*$AB$16","v":0},{"$f":"COUNTIF($D$89:$AA$89,$V$123)*$AB$16","v":0},{"$f":"COUNTIF($D$89:$AA$89,$W$123)*$AB$16","v":0},{"$f":"COUNTIF($D$89:$AA$89,$X$123)*$AB$16","v":0},{"$f":"COUNTIF($D$89:$AA$89,$Y$123)*$AB$16","v":0},{"$f":"COUNTIF($D$89:$AA$89,$Z$123)*$AB$16","v":0},{"$f":"COUNTIF($D$89:$AA$89,$AA$123)*$AB$16","v":0},{"$f":"COUNTIF($D$89:$AA$89,$AB$123)*$AB$16","v":0},{"$f":"COUNTIF($D$89:$AA$89,$AC$123)*$AB$16","v":0},{"$f":"COUNTIF($D$89:$AA$89,$AD$123)*$AB$16","v":0},{"$f":"COUNTIF($D$89:$AA$89,$AE$123)*$AB$16","v":0},{"$f":"COUNTIF($D$89:$AA$89,$AF$123)*$AB$16","v":0},{"$f":"COUNTIF($D$89:$AA$89,$AG$123)*$AB$16","v":0},{"$f":"COUNTIF($D$89:$AA$89,$AH$123)*$AB$16","v":0},{"$f":"COUNTIF($D$89:$AA$89,$AI$123)*$AB$16","v":0},{"$f":"COUNTIF($D$89:$AA$89,$AJ$123)*$AB$16","v":0},{"$f":"COUNTIF($D$89:$AA$89,$AK$123)*$AB$16","v":0},{"$f":"COUNTIF($D$89:$AA$89,$AL$123)*$AB$16","v":0},{"$f":"COUNTIF($D$89:$AA$89,$AM$123)*$AB$16","v":0},{"$f":"COUNTIF($D$89:$AA$89,$AN$123)*$AB$16","v":0},{"$f":"COUNTIF($D$89:$AA$89,$AO$123)*$AB$16","v":0},{"$f":"COUNTIF($D$89:$AA$89,$AP$123)*$AB$16","v":0},{"$f":"COUNTIF($D$89:$AA$89,$AQ$123)*$AB$16","v":0},{"$f":"COUNTIF($D$89:$AA$89,$AR$123)*$AB$16","v":0},{"$f":"COUNTIF($D$89:$AA$89,$AS$123)*$AB$16","v":0},9,{"$error":"#REF!"}]
[null,null,10,{"$f":"COUNTIF($D$90:$AA$90,$D$123)*$AB$17","v":0},{"$f":"COUNTIF($D$90:$AA$90,$E$123)*$AB$17","v":0},{"$f":"COUNTIF($D$90:$AA$90,$F$123)*$AB$17","v":0},{"$f":"COUNTIF($D$90:$AA$90,$G$123)*$AB$17","v":0},{"$f":"COUNTIF($D$90:$AA$90,$H$123)*$AB$17","v":0},{"$f":"COUNTIF($D$90:$AA$90,$I$123)*$AB$17","v":0},{"$f":"COUNTIF($D$90:$AA$90,$J$123)*$AB$17","v":0},{"$f":"COUNTIF($D$90:$AA$90,$K$123)*$AB$17","v":0},{"$f":"COUNTIF($D$90:$AA$90,$L$123)*$AB$17","v":0},{"$f":"COUNTIF($D$90:$AA$90,$M$123)*$AB$17","v":0},{"$f":"COUNTIF($D$90:$AA$90,$N$123)*$AB$17","v":0},{"$f":"COUNTIF($D$90:$AA$90,$O$123)*$AB$17","v":0},{"$f":"COUNTIF($D$90:$AA$90,$P$123)*$AB$17","v":0},{"$f":"COUNTIF($D$90:$AA$90,$Q$123)*$AB$17","v":0},{"$f":"COUNTIF($D$90:$AA$90,$R$123)*$AB$17","v":0},{"$f":"COUNTIF($D$90:$AA$90,$S$123)*$AB$17","v":0},{"$f":"COUNTIF($D$90:$AA$90,$T$123)*$AB$17","v":0},{"$f":"COUNTIF($D$90:$AA$90,$U$123)*$AB$17","v":0},{"$f":"COUNTIF($D$90:$AA$90,$V$123)*$AB$17","v":0},{"$f":"COUNTIF($D$90:$AA$90,$W$123)*$AB$17","v":0},{"$f":"COUNTIF($D$90:$AA$90,$X$123)*$AB$17","v":0},{"$f":"COUNTIF($D$90:$AA$90,$Y$123)*$AB$17","v":0},{"$f":"COUNTIF($D$90:$AA$90,$Z$123)*$AB$17","v":0},{"$f":"COUNTIF($D$90:$AA$90,$AA$123)*$AB$17","v":0},{"$f":"COUNTIF($D$90:$AA$90,$AB$123)*$AB$17","v":0},{"$f":"COUNTIF($D$90:$AA$90,$AC$123)*$AB$17","v":0},{"$f":"COUNTIF($D$90:$AA$90,$AD$123)*$AB$17","v":0},{"$f":"COUNTIF($D$90:$AA$90,$AE$123)*$AB$17","v":0},{"$f":"COUNTIF($D$90:$AA$90,$AF$123)*$AB$17","v":0},{"$f":"COUNTIF($D$90:$AA$90,$AG$123)*$AB$17","v":0},{"$f":"COUNTIF($D$90:$AA$90,$AH$123)*$AB$17","v":0},{"$f":"COUNTIF($D$90:$AA$90,$AI$123)*$AB$17","v":0},{"$f":"COUNTIF($D$90:$AA$90,$AJ$123)*$AB$17","v":0},{"$f":"COUNTIF($D$90:$AA$90,$AK$123)*$AB$17","v":0},{"$f":"COUNTIF($D$90:$AA$90,$AL$123)*$AB$17","v":0},{"$f":"COUNTIF($D$90:$AA$90,$AM$123)*$AB$17","v":0},{"$f":"COUNTIF($D$90:$AA$90,$AN$123)*$AB$17","v":0},{"$f":"COUNTIF($D$90:$AA$90,$AO$123)*$AB$17","v":0},{"$f":"COUNTIF($D$90:$AA$90,$AP$123)*$AB$17","v":0},{"$f":"COUNTIF($D$90:$AA$90,$AQ$123)*$AB$17","v":0},{"$f":"COUNTIF($D$90:$AA$90,$AR$123)*$AB$17","v":0},{"$f":"COUNTIF($D$90:$AA$90,$AS$123)*$AB$17","v":0},10,{"$error":"#REF!"}]
[null,null,11,{"$f":"COUNTIF($D$91:$AA$91,$D$123)*$AB$18","v":0},{"$f":"COUNTIF($D$91:$AA$91,$E$123)*$AB$18","v":0},{"$f":"COUNTIF($D$91:$AA$91,$F$123)*$AB$18","v":0},{"$f":"COUNTIF($D$91:$AA$91,$G$123)*$AB$18","v":0},{"$f":"COUNTIF($D$91:$AA$91,$H$123)*$AB$18","v":0},{"$f":"COUNTIF($D$91:$AA$91,$I$123)*$AB$18","v":0},{"$f":"COUNTIF($D$91:$AA$91,$J$123)*$AB$18","v":0},{"$f":"COUNTIF($D$91:$AA$91,$K$123)*$AB$18","v":0},{"$f":"COUNTIF($D$91:$AA$91,$L$123)*$AB$18","v":0},{"$f":"COUNTIF($D$91:$AA$91,$M$123)*$AB$18","v":0},{"$f":"COUNTIF($D$91:$AA$91,$N$123)*$AB$18","v":0},{"$f":"COUNTIF($D$91:$AA$91,$O$123)*$AB$18","v":0},{"$f":"COUNTIF($D$91:$AA$91,$P$123)*$AB$18","v":0},{"$f":"COUNTIF($D$91:$AA$91,$Q$123)*$AB$18","v":0},{"$f":"COUNTIF($D$91:$AA$91,$R$123)*$AB$18","v":0},{"$f":"COUNTIF($D$91:$AA$91,$S$123)*$AB$18","v":0},{"$f":"COUNTIF($D$91:$AA$91,$T$123)*$AB$18","v":0},{"$f":"COUNTIF($D$91:$AA$91,$U$123)*$AB$18","v":0},{"$f":"COUNTIF($D$91:$AA$91,$V$123)*$AB$18","v":0},{"$f":"COUNTIF($D$91:$AA$91,$W$123)*$AB$18","v":0},{"$f":"COUNTIF($D$91:$AA$91,$X$123)*$AB$18","v":0},{"$f":"COUNTIF($D$91:$AA$91,$Y$123)*$AB$18","v":0},{"$f":"COUNTIF($D$91:$AA$91,$Z$123)*$AB$18","v":0},{"$f":"COUNTIF($D$91:$AA$91,$AA$123)*$AB$18","v":0},{"$f":"COUNTIF($D$91:$AA$91,$AB$123)*$AB$18","v":0},{"$f":"COUNTIF($D$91:$AA$91,$AC$123)*$AB$18","v":0},{"$f":"COUNTIF($D$91:$AA$91,$AD$123)*$AB$18","v":0},{"$f":"COUNTIF($D$91:$AA$91,$AE$123)*$AB$18","v":0},{"$f":"COUNTIF($D$91:$AA$91,$AF$123)*$AB$18","v":0},{"$f":"COUNTIF($D$91:$AA$91,$AG$123)*$AB$18","v":0},{"$f":"COUNTIF($D$91:$AA$91,$AH$123)*$AB$18","v":0},{"$f":"COUNTIF($D$91:$AA$91,$AI$123)*$AB$18","v":0},{"$f":"COUNTIF($D$91:$AA$91,$AJ$123)*$AB$18","v":0},{"$f":"COUNTIF($D$91:$AA$91,$AK$123)*$AB$18","v":0},{"$f":"COUNTIF($D$91:$AA$91,$AL$123)*$AB$18","v":0},{"$f":"COUNTIF($D$91:$AA$91,$AM$123)*$AB$18","v":0},{"$f":"COUNTIF($D$91:$AA$91,$AN$123)*$AB$18","v":0},{"$f":"COUNTIF($D$91:$AA$91,$AO$123)*$AB$18","v":0},{"$f":"COUNTIF($D$91:$AA$91,$AP$123)*$AB$18","v":0},{"$f":"COUNTIF($D$91:$AA$91,$AQ$123)*$AB$18","v":0},{"$f":"COUNTIF($D$91:$AA$91,$AR$123)*$AB$18","v":0},{"$f":"COUNTIF($D$91:$AA$91,$AS$123)*$AB$18","v":0},11,{"$error":"#REF!"}]
[null,null,12,{"$f":"COUNTIF($D$92:$AA$92,$D$123)*$AB$19","v":0},{"$f":"COUNTIF($D$92:$AA$92,$E$123)*$AB$19","v":0},{"$f":"COUNTIF($D$92:$AA$92,$F$123)*$AB$19","v":0},{"$f":"COUNTIF($D$92:$AA$92,$G$123)*$AB$19","v":0},{"$f":"COUNTIF($D$92:$AA$92,$H$123)*$AB$19","v":0},{"$f":"COUNTIF($D$92:$AA$92,$I$123)*$AB$19","v":0},{"$f":"COUNTIF($D$92:$AA$92,$J$123)*$AB$19","v":0},{"$f":"COUNTIF($D$92:$AA$92,$K$123)*$AB$19","v":0},{"$f":"COUNTIF($D$92:$AA$92,$L$123)*$AB$19","v":0},{"$f":"COUNTIF($D$92:$AA$92,$M$123)*$AB$19","v":0},{"$f":"COUNTIF($D$92:$AA$92,$N$123)*$AB$19","v":0},{"$f":"COUNTIF($D$92:$AA$92,$O$123)*$AB$19","v":0},{"$f":"COUNTIF($D$92:$AA$92,$P$123)*$AB$19","v":0},{"$f":"COUNTIF($D$92:$AA$92,$Q$123)*$AB$19","v":0},{"$f":"COUNTIF($D$92:$AA$92,$R$123)*$AB$19","v":0},{"$f":"COUNTIF($D$92:$AA$92,$S$123)*$AB$19","v":0},{"$f":"COUNTIF($D$92:$AA$92,$T$123)*$AB$19","v":0},{"$f":"COUNTIF($D$92:$AA$92,$U$123)*$AB$19","v":0},{"$f":"COUNTIF($D$92:$AA$92,$V$123)*$AB$19","v":0},{"$f":"COUNTIF($D$92:$AA$92,$W$123)*$AB$19","v":0},{"$f":"COUNTIF($D$92:$AA$92,$X$123)*$AB$19","v":0},{"$f":"COUNTIF($D$92:$AA$92,$Y$123)*$AB$19","v":0},{"$f":"COUNTIF($D$92:$AA$92,$Z$123)*$AB$19","v":0},{"$f":"COUNTIF($D$92:$AA$92,$AA$123)*$AB$19","v":0},{"$f":"COUNTIF($D$92:$AA$92,$AB$123)*$AB$19","v":0},{"$f":"COUNTIF($D$92:$AA$92,$AC$123)*$AB$19","v":0},{"$f":"COUNTIF($D$92:$AA$92,$AD$123)*$AB$19","v":0},{"$f":"COUNTIF($D$92:$AA$92,$AE$123)*$AB$19","v":0},{"$f":"COUNTIF($D$92:$AA$92,$AF$123)*$AB$19","v":0},{"$f":"COUNTIF($D$92:$AA$92,$AG$123)*$AB$19","v":0},{"$f":"COUNTIF($D$92:$AA$92,$AH$123)*$AB$19","v":0},{"$f":"COUNTIF($D$92:$AA$92,$AI$123)*$AB$19","v":0},{"$f":"COUNTIF($D$92:$AA$92,$AJ$123)*$AB$19","v":0},{"$f":"COUNTIF($D$92:$AA$92,$AK$123)*$AB$19","v":0},{"$f":"COUNTIF($D$92:$AA$92,$AL$123)*$AB$19","v":0},{"$f":"COUNTIF($D$92:$AA$92,$AM$123)*$AB$19","v":0},{"$f":"COUNTIF($D$92:$AA$92,$AN$123)*$AB$19","v":0},{"$f":"COUNTIF($D$92:$AA$92,$AO$123)*$AB$19","v":0},{"$f":"COUNTIF($D$92:$AA$92,$AP$123)*$AB$19","v":0},{"$f":"COUNTIF($D$92:$AA$92,$AQ$123)*$AB$19","v":0},{"$f":"COUNTIF($D$92:$AA$92,$AR$123)*$AB$19","v":0},{"$f":"COUNTIF($D$92:$AA$92,$AS$123)*$AB$19","v":0},12,{"$error":"#REF!"}]
[null,null,1,{"$f":"COUNTIF($D$93:$AA$93,$D$123)*$AB$20","v":0},{"$f":"COUNTIF($D$93:$AA$93,$E$123)*$AB$20","v":0},{"$f":"COUNTIF($D$93:$AA$93,$F$123)*$AB$20","v":0},{"$f":"COUNTIF($D$93:$AA$93,$G$123)*$AB$20","v":0},{"$f":"COUNTIF($D$93:$AA$93,$H$123)*$AB$20","v":0},{"$f":"COUNTIF($D$93:$AA$93,$I$123)*$AB$20","v":0},{"$f":"COUNTIF($D$93:$AA$93,$J$123)*$AB$20","v":0},{"$f":"COUNTIF($D$93:$AA$93,$K$123)*$AB$20","v":0},{"$f":"COUNTIF($D$93:$AA$93,$L$123)*$AB$20","v":0},{"$f":"COUNTIF($D$93:$AA$93,$M$123)*$AB$20","v":0},{"$f":"COUNTIF($D$93:$AA$93,$N$123)*$AB$20","v":0},{"$f":"COUNTIF($D$93:$AA$93,$O$123)*$AB$20","v":0},{"$f":"COUNTIF($D$93:$AA$93,$P$123)*$AB$20","v":0},{"$f":"COUNTIF($D$93:$AA$93,$Q$123)*$AB$20","v":0},{"$f":"COUNTIF($D$93:$AA$93,$R$123)*$AB$20","v":0},{"$f":"COUNTIF($D$93:$AA$93,$S$123)*$AB$20","v":0},{"$f":"COUNTIF($D$93:$AA$93,$T$123)*$AB$20","v":0},{"$f":"COUNTIF($D$93:$AA$93,$U$123)*$AB$20","v":0},{"$f":"COUNTIF($D$93:$AA$93,$V$123)*$AB$20","v":0},{"$f":"COUNTIF($D$93:$AA$93,$W$123)*$AB$20","v":0},{"$f":"COUNTIF($D$93:$AA$93,$X$123)*$AB$20","v":0},{"$f":"COUNTIF($D$93:$AA$93,$Y$123)*$AB$20","v":0},{"$f":"COUNTIF($D$93:$AA$93,$Z$123)*$AB$20","v":0},{"$f":"COUNTIF($D$93:$AA$93,$AA$123)*$AB$20","v":0},{"$f":"COUNTIF($D$93:$AA$93,$AB$123)*$AB$20","v":0},{"$f":"COUNTIF($D$93:$AA$93,$AC$123)*$AB$20","v":0},{"$f":"COUNTIF($D$93:$AA$93,$AD$123)*$AB$20","v":0},{"$f":"COUNTIF($D$93:$AA$93,$AE$123)*$AB$20","v":0},{"$f":"COUNTIF($D$93:$AA$93,$AF$123)*$AB$20","v":0},{"$f":"COUNTIF($D$93:$AA$93,$AG$123)*$AB$20","v":0},{"$f":"COUNTIF($D$93:$AA$93,$AH$123)*$AB$20","v":0},{"$f":"COUNTIF($D$93:$AA$93,$AI$123)*$AB$20","v":0},{"$f":"COUNTIF($D$93:$AA$93,$AJ$123)*$AB$20","v":0},{"$f":"COUNTIF($D$93:$AA$93,$AK$123)*$AB$20","v":0},{"$f":"COUNTIF($D$93:$AA$93,$AL$123)*$AB$20","v":0},{"$f":"COUNTIF($D$93:$AA$93,$AM$123)*$AB$20","v":0},{"$f":"COUNTIF($D$93:$AA$93,$AN$123)*$AB$20","v":0},{"$f":"COUNTIF($D$93:$AA$93,$AO$123)*$AB$20","v":0},{"$f":"COUNTIF($D$93:$AA$93,$AP$123)*$AB$20","v":0},{"$f":"COUNTIF($D$93:$AA$93,$AQ$123)*$AB$20","v":0},{"$f":"COUNTIF($D$93:$AA$93,$AR$123)*$AB$20","v":0},{"$f":"COUNTIF($D$93:$AA$93,$AS$123)*$AB$20","v":0},1,{"$error":"#REF!"}]
[null,null,2,{"$f":"COUNTIF($D$94:$AA$94,$D$123)*$AB$21","v":0},{"$f":"COUNTIF($D$94:$AA$94,$E$123)*$AB$21","v":0},{"$f":"COUNTIF($D$94:$AA$94,$F$123)*$AB$21","v":0},{"$f":"COUNTIF($D$94:$AA$94,$G$123)*$AB$21","v":0},{"$f":"COUNTIF($D$94:$AA$94,$H$123)*$AB$21","v":0},{"$f":"COUNTIF($D$94:$AA$94,$I$123)*$AB$21","v":0},{"$f":"COUNTIF($D$94:$AA$94,$J$123)*$AB$21","v":0},{"$f":"COUNTIF($D$94:$AA$94,$K$123)*$AB$21","v":0},{"$f":"COUNTIF($D$94:$AA$94,$L$123)*$AB$21","v":0},{"$f":"COUNTIF($D$94:$AA$94,$M$123)*$AB$21","v":0},{"$f":"COUNTIF($D$94:$AA$94,$N$123)*$AB$21","v":0},{"$f":"COUNTIF($D$94:$AA$94,$O$123)*$AB$21","v":0},{"$f":"COUNTIF($D$94:$AA$94,$P$123)*$AB$21","v":0},{"$f":"COUNTIF($D$94:$AA$94,$Q$123)*$AB$21","v":0},{"$f":"COUNTIF($D$94:$AA$94,$R$123)*$AB$21","v":0},{"$f":"COUNTIF($D$94:$AA$94,$S$123)*$AB$21","v":0},{"$f":"COUNTIF($D$94:$AA$94,$T$123)*$AB$21","v":0},{"$f":"COUNTIF($D$94:$AA$94,$U$123)*$AB$21","v":0},{"$f":"COUNTIF($D$94:$AA$94,$V$123)*$AB$21","v":0},{"$f":"COUNTIF($D$94:$AA$94,$W$123)*$AB$21","v":0},{"$f":"COUNTIF($D$94:$AA$94,$X$123)*$AB$21","v":0},{"$f":"COUNTIF($D$94:$AA$94,$Y$123)*$AB$21","v":0},{"$f":"COUNTIF($D$94:$AA$94,$Z$123)*$AB$21","v":0},{"$f":"COUNTIF($D$94:$AA$94,$AA$123)*$AB$21","v":0},{"$f":"COUNTIF($D$94:$AA$94,$AB$123)*$AB$21","v":0},{"$f":"COUNTIF($D$94:$AA$94,$AC$123)*$AB$21","v":0},{"$f":"COUNTIF($D$94:$AA$94,$AD$123)*$AB$21","v":0},{"$f":"COUNTIF($D$94:$AA$94,$AE$123)*$AB$21","v":0},{"$f":"COUNTIF($D$94:$AA$94,$AF$123)*$AB$21","v":0},{"$f":"COUNTIF($D$94:$AA$94,$AG$123)*$AB$21","v":0},{"$f":"COUNTIF($D$94:$AA$94,$AH$123)*$AB$21","v":0},{"$f":"COUNTIF($D$94:$AA$94,$AI$123)*$AB$21","v":0},{"$f":"COUNTIF($D$94:$AA$94,$AJ$123)*$AB$21","v":0},{"$f":"COUNTIF($D$94:$AA$94,$AK$123)*$AB$21","v":0},{"$f":"COUNTIF($D$94:$AA$94,$AL$123)*$AB$21","v":0},{"$f":"COUNTIF($D$94:$AA$94,$AM$123)*$AB$21","v":0},{"$f":"COUNTIF($D$94:$AA$94,$AN$123)*$AB$21","v":0},{"$f":"COUNTIF($D$94:$AA$94,$AO$123)*$AB$21","v":0},{"$f":"COUNTIF($D$94:$AA$94,$AP$123)*$AB$21","v":0},{"$f":"COUNTIF($D$94:$AA$94,$AQ$123)*$AB$21","v":0},{"$f":"COUNTIF($D$94:$AA$94,$AR$123)*$AB$21","v":0},{"$f":"COUNTIF($D$94:$AA$94,$AS$123)*$AB$21","v":0},2,{"$error":"#REF!"}]
[null,null,3,{"$f":"COUNTIF($D$95:$AA$95,$D$123)*$AB$22","v":0},{"$f":"COUNTIF($D$95:$AA$95,$E$123)*$AB$22","v":0},{"$f":"COUNTIF($D$95:$AA$95,$F$123)*$AB$22","v":0},{"$f":"COUNTIF($D$95:$AA$95,$G$123)*$AB$22","v":0},{"$f":"COUNTIF($D$95:$AA$95,$H$123)*$AB$22","v":0},{"$f":"COUNTIF($D$95:$AA$95,$I$123)*$AB$22","v":0},{"$f":"COUNTIF($D$95:$AA$95,$J$123)*$AB$22","v":0},{"$f":"COUNTIF($D$95:$AA$95,$K$123)*$AB$22","v":0},{"$f":"COUNTIF($D$95:$AA$95,$L$123)*$AB$22","v":0},{"$f":"COUNTIF($D$95:$AA$95,$M$123)*$AB$22","v":0},{"$f":"COUNTIF($D$95:$AA$95,$N$123)*$AB$22","v":0},{"$f":"COUNTIF($D$95:$AA$95,$O$123)*$AB$22","v":0},{"$f":"COUNTIF($D$95:$AA$95,$P$123)*$AB$22","v":0},{"$f":"COUNTIF($D$95:$AA$95,$Q$123)*$AB$22","v":0},{"$f":"COUNTIF($D$95:$AA$95,$R$123)*$AB$22","v":0},{"$f":"COUNTIF($D$95:$AA$95,$S$123)*$AB$22","v":0},{"$f":"COUNTIF($D$95:$AA$95,$T$123)*$AB$22","v":0},{"$f":"COUNTIF($D$95:$AA$95,$U$123)*$AB$22","v":0},{"$f":"COUNTIF($D$95:$AA$95,$V$123)*$AB$22","v":0},{"$f":"COUNTIF($D$95:$AA$95,$W$123)*$AB$22","v":0},{"$f":"COUNTIF($D$95:$AA$95,$X$123)*$AB$22","v":0},{"$f":"COUNTIF($D$95:$AA$95,$Y$123)*$AB$22","v":0},{"$f":"COUNTIF($D$95:$AA$95,$Z$123)*$AB$22","v":0},{"$f":"COUNTIF($D$95:$AA$95,$AA$123)*$AB$22","v":0},{"$f":"COUNTIF($D$95:$AA$95,$AB$123)*$AB$22","v":0},{"$f":"COUNTIF($D$95:$AA$95,$AC$123)*$AB$22","v":0},{"$f":"COUNTIF($D$95:$AA$95,$AD$123)*$AB$22","v":0},{"$f":"COUNTIF($D$95:$AA$95,$AE$123)*$AB$22","v":0},{"$f":"COUNTIF($D$95:$AA$95,$AF$123)*$AB$22","v":0},{"$f":"COUNTIF($D$95:$AA$95,$AG$123)*$AB$22","v":0},{"$f":"COUNTIF($D$95:$AA$95,$AH$123)*$AB$22","v":0},{"$f":"COUNTIF($D$95:$AA$95,$AI$123)*$AB$22","v":0},{"$f":"COUNTIF($D$95:$AA$95,$AJ$123)*$AB$22","v":0},{"$f":"COUNTIF($D$95:$AA$95,$AK$123)*$AB$22","v":0},{"$f":"COUNTIF($D$95:$AA$95,$AL$123)*$AB$22","v":0},{"$f":"COUNTIF($D$95:$AA$95,$AM$123)*$AB$22","v":0},{"$f":"COUNTIF($D$95:$AA$95,$AN$123)*$AB$22","v":0},{"$f":"COUNTIF($D$95:$AA$95,$AO$123)*$AB$22","v":0},{"$f":"COUNTIF($D$95:$AA$95,$AP$123)*$AB$22","v":0},{"$f":"COUNTIF($D$95:$AA$95,$AQ$123)*$AB$22","v":0},{"$f":"COUNTIF($D$95:$AA$95,$AR$123)*$AB$22","v":0},{"$f":"COUNTIF($D$95:$AA$95,$AS$123)*$AB$22","v":0},3,{"$error":"#REF!"}]
[null,null,"発生時間",{"$f":"SUM($D$124:$D$135)","v":0},{"$f":"SUM($E$124:$E$135)","v":0},{"$f":"SUM($F$124:$F$135)","v":0},{"$f":"SUM($G$124:$G$135)","v":0},{"$f":"SUM($H$124:$H$135)","v":0},{"$f":"SUM($I$124:$I$135)","v":0},{"$f":"SUM($J$124:$J$135)","v":0},{"$f":"SUM($K$124:$K$135)","v":0},{"$f":"SUM($L$124:$L$135)","v":0},{"$f":"SUM($M$124:$M$135)","v":0},{"$f":"SUM($N$124:$N$135)","v":0},{"$f":"SUM($O$124:$O$135)","v":0},{"$f":"SUM($P$124:$P$135)","v":0},{"$f":"SUM($Q$124:$Q$135)","v":0},{"$f":"SUM($R$124:$R$135)","v":0},{"$f":"SUM($S$124:$S$135)","v":0},{"$f":"SUM($T$124:$T$135)","v":0},{"$f":"SUM($U$124:$U$135)","v":0},{"$f":"SUM($V$124:$V$135)","v":0},{"$f":"SUM($W$124:$W$135)","v":0},{"$f":"SUM($X$124:$X$135)","v":0},{"$f":"SUM($Y$124:$Y$135)","v":0},{"$f":"SUM($Z$124:$Z$135)","v":0},{"$f":"SUM($AA$124:$AA$135)","v":0},{"$f":"SUM($AB$124:$AB$135)","v":0},{"$f":"SUM($AC$124:$AC$135)","v":0},{"$f":"SUM($AD$124:$AD$135)","v":0},{"$f":"SUM($AE$124:$AE$135)","v":0},{"$f":"SUM($AF$124:$AF$135)","v":0},{"$f":"SUM($AG$124:$AG$135)","v":0},{"$f":"SUM($AH$124:$AH$135)","v":0},{"$f":"SUM($AI$124:$AI$135)","v":0},{"$f":"SUM($AJ$124:$AJ$135)","v":0},{"$f":"SUM($AK$124:$AK$135)","v":0},{"$f":"SUM($AL$124:$AL$135)","v":0},{"$f":"SUM($AM$124:$AM$135)","v":0},{"$f":"SUM($AN$124:$AN$135)","v":0},{"$f":"SUM($AO$124:$AO$135)","v":0},{"$f":"SUM($AP$124:$AP$135)","v":0},{"$f":"SUM($AQ$124:$AQ$135)","v":0},{"$f":"SUM($AR$124:$AR$135)","v":0},{"$f":"SUM($AS$124:$AS$135)","v":0},"発生時間"]
[null,"εw","暖房時消費電力比",{"$f":"$D$138/$D$142","v":{"$error":"#REF!"}},{"$f":"$E$138/$E$142","v":{"$error":"#REF!"}},{"$f":"$F$138/$F$142","v":{"$error":"#REF!"}},{"$f":"$G$138/$G$142","v":{"$error":"#REF!"}},{"$f":"$H$138/$H$142","v":{"$error":"#REF!"}},{"$f":"$I$138/$I$142","v":{"$error":"#REF!"}},{"$f":"$J$138/$J$142","v":{"$error":"#REF!"}},{"$f":"$K$138/$K$142","v":{"$error":"#REF!"}},{"$f":"$L$138/$L$142","v":{"$error":"#REF!"}},{"$f":"$M$138/$M$142","v":{"$error":"#REF!"}},{"$f":"$N$138/$N$142","v":{"$error":"#REF!"}},{"$f":"$O$138/$O$142","v":{"$error":"#REF!"}},{"$f":"$P$138/$P$142","v":{"$error":"#REF!"}},{"$f":"$Q$138/$Q$142","v":{"$error":"#REF!"}},{"$f":"$R$138/$R$142","v":{"$error":"#REF!"}},{"$f":"$S$138/$S$142","v":{"$error":"#REF!"}},{"$f":"$T$138/$T$142","v":{"$error":"#REF!"}},{"$f":"$U$138/$U$142","v":{"$error":"#REF!"}},{"$f":"$V$138/$V$142","v":{"$error":"#REF!"}},{"$f":"$W$138/$W$142","v":{"$error":"#REF!"}},{"$f":"$X$138/$X$142","v":{"$error":"#REF!"}},{"$f":"$Y$138/$Y$142","v":{"$error":"#REF!"}},{"$f":"$Z$138/$Z$142","v":{"$error":"#REF!"}},{"$f":"$AA$138/$AA$142","v":{"$error":"#REF!"}},{"$f":"$AB$138/$AB$142","v":{"$error":"#REF!"}},{"$f":"$AC$138/$AC$142","v":{"$error":"#REF!"}},{"$f":"$AD$138/$AD$142","v":{"$error":"#REF!"}},{"$f":"$AE$138/$AE$142","v":{"$error":"#REF!"}},{"$f":"$AF$138/$AF$142","v":{"$error":"#REF!"}},{"$f":"$AG$138/$AG$142","v":{"$error":"#REF!"}},{"$f":"$AH$138/$AH$142","v":{"$error":"#REF!"}},{"$f":"$AI$138/$AI$142","v":{"$error":"#REF!"}},{"$f":"$AJ$138/$AJ$142","v":{"$error":"#REF!"}},{"$f":"$AK$138/$AK$142","v":{"$error":"#REF!"}},{"$f":"$AL$138/$AL$142","v":{"$error":"#REF!"}},{"$f":"$AM$138/$AM$142","v":{"$error":"#REF!"}},{"$f":"$AN$138/$AN$142","v":{"$error":"#REF!"}},{"$f":"$AO$138/$AO$142","v":{"$error":"#REF!"}},{"$f":"$AP$138/$AP$142","v":{"$error":"#REF!"}},{"$f":"$AQ$138/$AQ$142","v":{"$error":"#REF!"}},{"$f":"$AR$138/$AR$142","v":{"$error":"#REF!"}},{"$f":"$AS$138/$AS$142","v":{"$error":"#REF!"}},"暖房時消費電力比"]
[null,"αw","暖房空調負荷率",{"$f":"IF((1/(0-#REF!))*$D$123+1<0,0,IF((1/(0-#REF!))*$D$123+1>1,1,(1/(0-#REF!))*$D$123+1))","v":{"$error":"#REF!"}},{"$f":"IF((1/(0-#REF!))*$E$123+1<0,0,IF((1/(0-#REF!))*$E$123+1>1,1,(1/(0-#REF!))*$E$123+1))","v":{"$error":"#REF!"}},{"$f":"IF((1/(0-#REF!))*$F$123+1<0,0,IF((1/(0-#REF!))*$F$123+1>1,1,(1/(0-#REF!))*$F$123+1))","v":{"$error":"#REF!"}},{"$f":"IF((1/(0-#REF!))*$G$123+1<0,0,IF((1/(0-#REF!))*$G$123+1>1,1,(1/(0-#REF!))*$G$123+1))","v":{"$error":"#REF!"}},{"$f":"IF((1/(0-#REF!))*$H$123+1<0,0,IF((1/(0-#REF!))*$H$123+1>1,1,(1/(0-#REF!))*$H$123+1))","v":{"$error":"#REF!"}},{"$f":"IF((1/(0-#REF!))*$I$123+1<0,0,IF((1/(0-#REF!))*$I$123+1>1,1,(1/(0-#REF!))*$I$123+1))","v":{"$error":"#REF!"}},{"$f":"IF((1/(0-#REF!))*$J$123+1<0,0,IF((1/(0-#REF!))*$J$123+1>1,1,(1/(0-#REF!))*$J$123+1))","v":{"$error":"#REF!"}},{"$f":"IF((1/(0-#REF!))*$K$123+1<0,0,IF((1/(0-#REF!))*$K$123+1>1,1,(1/(0-#REF!))*$K$123+1))","v":{"$error":"#REF!"}},{"$f":"IF((1/(0-#REF!))*$L$123+1<0,0,IF((1/(0-#REF!))*$L$123+1>1,1,(1/(0-#REF!))*$L$123+1))","v":{"$error":"#REF!"}},{"$f":"IF((1/(0-#REF!))*$M$123+1<0,0,IF((1/(0-#REF!))*$M$123+1>1,1,(1/(0-#REF!))*$M$123+1))","v":{"$error":"#REF!"}},{"$f":"IF((1/(0-#REF!))*$N$123+1<0,0,IF((1/(0-#REF!))*$N$123+1>1,1,(1/(0-#REF!))*$N$123+1))","v":{"$error":"#REF!"}},{"$f":"IF((1/(0-#REF!))*$O$123+1<0,0,IF((1/(0-#REF!))*$O$123+1>1,1,(1/(0-#REF!))*$O$123+1))","v":{"$error":"#REF!"}},{"$f":"IF((1/(0-#REF!))*$P$123+1<0,0,IF((1/(0-#REF!))*$P$123+1>1,1,(1/(0-#REF!))*$P$123+1))","v":{"$error":"#REF!"}},{"$f":"IF((1/(0-#REF!))*$Q$123+1<0,0,IF((1/(0-#REF!))*$Q$123+1>1,1,(1/(0-#REF!))*$Q$123+1))","v":{"$error":"#REF!"}},{"$f":"IF((1/(0-#REF!))*$R$123+1<0,0,IF((1/(0-#REF!))*$R$123+1>1,1,(1/(0-#REF!))*$R$123+1))","v":{"$error":"#REF!"}},{"$f":"IF((1/(0-#REF!))*$S$123+1<0,0,IF((1/(0-#REF!))*$S$123+1>1,1,(1/(0-#REF!))*$S$123+1))","v":{"$error":"#REF!"}},{"$f":"IF((1/(0-#REF!))*$T$123+1<0,0,IF((1/(0-#REF!))*$T$123+1>1,1,(1/(0-#REF!))*$T$123+1))","v":{"$error":"#REF!"}},{"$f":"IF((1/(0-#REF!))*$U$123+1<0,0,IF((1/(0-#REF!))*$U$123+1>1,1,(1/(0-#REF!))*$U$123+1))","v":{"$error":"#REF!"}},{"$f":"IF((1/(0-#REF!))*$V$123+1<0,0,IF((1/(0-#REF!))*$V$123+1>1,1,(1/(0-#REF!))*$V$123+1))","v":{"$error":"#REF!"}},{"$f":"IF((1/(0-#REF!))*$W$123+1<0,0,IF((1/(0-#REF!))*$W$123+1>1,1,(1/(0-#REF!))*$W$123+1))","v":{"$error":"#REF!"}},{"$f":"IF((1/(0-#REF!))*$X$123+1<0,0,IF((1/(0-#REF!))*$X$123+1>1,1,(1/(0-#REF!))*$X$123+1))","v":{"$error":"#REF!"}},{"$f":"IF((1/(0-#REF!))*$Y$123+1<0,0,IF((1/(0-#REF!))*$Y$123+1>1,1,(1/(0-#REF!))*$Y$123+1))","v":{"$error":"#REF!"}},{"$f":"IF((1/(0-#REF!))*$Z$123+1<0,0,IF((1/(0-#REF!))*$Z$123+1>1,1,(1/(0-#REF!))*$Z$123+1))","v":{"$error":"#REF!"}},{"$f":"IF((1/(0-#REF!))*$AA$123+1<0,0,IF((1/(0-#REF!))*$AA$123+1>1,1,(1/(0-#REF!))*$AA$123+1))","v":{"$error":"#REF!"}},{"$f":"IF((1/(0-#REF!))*$AB$123+1<0,0,IF((1/(0-#REF!))*$AB$123+1>1,1,(1/(0-#REF!))*$AB$123+1))","v":{"$error":"#REF!"}},{"$f":"IF((1/(0-#REF!))*$AC$123+1<0,0,IF((1/(0-#REF!))*$AC$123+1>1,1,(1/(0-#REF!))*$AC$123+1))","v":{"$error":"#REF!"}},{"$f":"IF((1/(0-#REF!))*$AD$123+1<0,0,IF((1/(0-#REF!))*$AD$123+1>1,1,(1/(0-#REF!))*$AD$123+1))","v":{"$error":"#REF!"}},{"$f":"IF((1/(0-#REF!))*$AE$123+1<0,0,IF((1/(0-#REF!))*$AE$123+1>1,1,(1/(0-#REF!))*$AE$123+1))","v":{"$error":"#REF!"}},{"$f":"IF((1/(0-#REF!))*$AF$123+1<0,0,IF((1/(0-#REF!))*$AF$123+1>1,1,(1/(0-#REF!))*$AF$123+1))","v":{"$error":"#REF!"}},{"$f":"IF((1/(0-#REF!))*$AG$123+1<0,0,IF((1/(0-#REF!))*$AG$123+1>1,1,(1/(0-#REF!))*$AG$123+1))","v":{"$error":"#REF!"}},{"$f":"IF((1/(0-#REF!))*$AH$123+1<0,0,IF((1/(0-#REF!))*$AH$123+1>1,1,(1/(0-#REF!))*$AH$123+1))","v":{"$error":"#REF!"}},{"$f":"IF((1/(0-#REF!))*$AI$123+1<0,0,IF((1/(0-#REF!))*$AI$123+1>1,1,(1/(0-#REF!))*$AI$123+1))","v":{"$error":"#REF!"}},{"$f":"IF((1/(0-#REF!))*$AJ$123+1<0,0,IF((1/(0-#REF!))*$AJ$123+1>1,1,(1/(0-#REF!))*$AJ$123+1))","v":{"$error":"#REF!"}},{"$f":"IF((1/(0-#REF!))*$AK$123+1<0,0,IF((1/(0-#REF!))*$AK$123+1>1,1,(1/(0-#REF!))*$AK$123+1))","v":{"$error":"#REF!"}},{"$f":"IF((1/(0-#REF!))*$AL$123+1<0,0,IF((1/(0-#REF!))*$AL$123+1>1,1,(1/(0-#REF!))*$AL$123+1))","v":{"$error":"#REF!"}},{"$f":"IF((1/(0-#REF!))*$AM$123+1<0,0,IF((1/(0-#REF!))*$AM$123+1>1,1,(1/(0-#REF!))*$AM$123+1))","v":{"$error":"#REF!"}},{"$f":"IF((1/(0-#REF!))*$AN$123+1<0,0,IF((1/(0-#REF!))*$AN$123+1>1,1,(1/(0-#REF!))*$AN$123+1))","v":{"$error":"#REF!"}},{"$f":"IF((1/(0-#REF!))*$AO$123+1<0,0,IF((1/(0-#REF!))*$AO$123+1>1,1,(1/(0-#REF!))*$AO$123+1))","v":{"$error":"#REF!"}},{"$f":"IF((1/(0-#REF!))*$AP$123+1<0,0,IF((1/(0-#REF!))*$AP$123+1>1,1,(1/(0-#REF!))*$AP$123+1))","v":{"$error":"#REF!"}},{"$f":"IF((1/(0-#REF!))*$AQ$123+1<0,0,IF((1/(0-#REF!))*$AQ$123+1>1,1,(1/(0-#REF!))*$AQ$123+1))","v":{"$error":"#REF!"}},{"$f":"IF((1/(0-#REF!))*$AR$123+1<0,0,IF((1/(0-#REF!))*$AR$123+1>1,1,(1/(0-#REF!))*$AR$123+1))","v":{"$error":"#REF!"}},{"$f":"IF((1/(0-#REF!))*$AS$123+1<0,0,IF((1/(0-#REF!))*$AS$123+1>1,1,(1/(0-#REF!))*$AS$123+1))","v":{"$error":"#REF!"}},"暖房空調負荷率"]
[null,"Φw","暖房能力",{"$f":"(#REF!-0.64*#REF!)/14*($D$123-7)+#REF!","v":{"$error":"#REF!"}},{"$f":"(#REF!-0.64*#REF!)/14*($E$123-7)+#REF!","v":{"$error":"#REF!"}},{"$f":"(#REF!-0.64*#REF!)/14*($F$123-7)+#REF!","v":{"$error":"#REF!"}},{"$f":"(#REF!-0.64*#REF!)/14*($G$123-7)+#REF!","v":{"$error":"#REF!"}},{"$f":"(#REF!-0.64*#REF!)/14*($H$123-7)+#REF!","v":{"$error":"#REF!"}},{"$f":"(#REF!-0.64*#REF!)/14*($I$123-7)+#REF!","v":{"$error":"#REF!"}},{"$f":"(#REF!-0.64*#REF!)/14*($J$123-7)+#REF!","v":{"$error":"#REF!"}},{"$f":"(#REF!-0.64*#REF!)/14*($K$123-7)+#REF!","v":{"$error":"#REF!"}},{"$f":"(#REF!-0.64*#REF!)/14*($L$123-7)+#REF!","v":{"$error":"#REF!"}},{"$f":"(#REF!-0.64*#REF!)/14*($M$123-7)+#REF!","v":{"$error":"#REF!"}},{"$f":"(#REF!-0.64*#REF!)/14*($N$123-7)+#REF!","v":{"$error":"#REF!"}},{"$f":"(#REF!-0.64*#REF!)/14*($O$123-7)+#REF!","v":{"$error":"#REF!"}},{"$f":"(#REF!-0.64*#REF!)/14*($P$123-7)+#REF!","v":{"$error":"#REF!"}},{"$f":"(#REF!-0.64*#REF!)/14*($Q$123-7)+#REF!","v":{"$error":"#REF!"}},{"$f":"(#REF!-0.64*#REF!)/14*($R$123-7)+#REF!","v":{"$error":"#REF!"}},{"$f":"(#REF!-0.64*#REF!)/14*($S$123-7)+#REF!","v":{"$error":"#REF!"}},{"$f":"(#REF!-0.64*#REF!)/14*($T$123-7)+#REF!","v":{"$error":"#REF!"}},{"$f":"(#REF!-0.64*#REF!)/14*($U$123-7)+#REF!","v":{"$error":"#REF!"}},{"$f":"(#REF!-0.64*#REF!)/14*($V$123-7)+#REF!","v":{"$error":"#REF!"}},{"$f":"(#REF!-0.64*#REF!)/14*($W$123-7)+#REF!","v":{"$error":"#REF!"}},{"$f":"(#REF!-0.64*#REF!)/14*($X$123-7)+#REF!","v":{"$error":"#REF!"}},{"$f":"(#REF!-0.64*#REF!)/14*($Y$123-7)+#REF!","v":{"$error":"#REF!"}},{"$f":"(#REF!-0.64*#REF!)/14*($Z$123-7)+#REF!","v":{"$error":"#REF!"}},{"$f":"(#REF!-0.64*#REF!)/14*($AA$123-7)+#REF!","v":{"$error":"#REF!"}},{"$f":"(#REF!-0.64*#REF!)/14*($AB$123-7)+#REF!","v":{"$error":"#REF!"}},{"$f":"(#REF!-0.64*#REF!)/14*($AC$123-7)+#REF!","v":{"$error":"#REF!"}},{"$f":"(#REF!-0.64*#REF!)/14*($AD$123-7)+#REF!","v":{"$error":"#REF!"}},{"$f":"(#REF!-0.64*#REF!)/14*($AE$123-7)+#REF!","v":{"$error":"#REF!"}},{"$f":"(#REF!-0.64*#REF!)/14*($AF$123-7)+#REF!","v":{"$error":"#REF!"}},{"$f":"(#REF!-0.64*#REF!)/14*($AG$123-7)+#REF!","v":{"$error":"#REF!"}},{"$f":"(#REF!-0.64*#REF!)/14*($AH$123-7)+#REF!","v":{"$error":"#REF!"}},{"$f":"(#REF!-0.64*#REF!)/14*($AI$123-7)+#REF!","v":{"$error":"#REF!"}},{"$f":"(#REF!-0.64*#REF!)/14*($AJ$123-7)+#REF!","v":{"$error":"#REF!"}},{"$f":"(#REF!-0.64*#REF!)/14*($AK$123-7)+#REF!","v":{"$error":"#REF!"}},{"$f":"(#REF!-0.64*#REF!)/14*($AL$123-7)+#REF!","v":{"$error":"#REF!"}},{"$f":"(#REF!-0.64*#REF!)/14*($AM$123-7)+#REF!","v":{"$error":"#REF!"}},{"$f":"(#REF!-0.64*#REF!)/14*($AN$123-7)+#REF!","v":{"$error":"#REF!"}},{"$f":"(#REF!-0.64*#REF!)/14*($AO$123-7)+#REF!","v":{"$error":"#REF!"}},{"$f":"(#REF!-0.64*#REF!)/14*($AP$123-7)+#REF!","v":{"$error":"#REF!"}},{"$f":"(#REF!-0.64*#REF!)/14*($AQ$123-7)+#REF!","v":{"$error":"#REF!"}},{"$f":"(#REF!-0.64*#REF!)/14*($AR$123-7)+#REF!","v":{"$error":"#REF!"}},{"$f":"(#REF!-0.64*#REF!)/14*($AS$123-7)+#REF!","v":{"$error":"#REF!"}},"暖房能力"]
[null,"Pw","消費電力",{"$f":"(#REF!-0.82*#REF!)/14*($D$123-7)+#REF!","v":{"$error":"#REF!"}},{"$f":"(#REF!-0.82*#REF!)/14*($E$123-7)+#REF!","v":{"$error":"#REF!"}},{"$f":"(#REF!-0.82*#REF!)/14*($F$123-7)+#REF!","v":{"$error":"#REF!"}},{"$f":"(#REF!-0.82*#REF!)/14*($G$123-7)+#REF!","v":{"$error":"#REF!"}},{"$f":"(#REF!-0.82*#REF!)/14*($H$123-7)+#REF!","v":{"$error":"#REF!"}},{"$f":"(#REF!-0.82*#REF!)/14*($I$123-7)+#REF!","v":{"$error":"#REF!"}},{"$f":"(#REF!-0.82*#REF!)/14*($J$123-7)+#REF!","v":{"$error":"#REF!"}},{"$f":"(#REF!-0.82*#REF!)/14*($K$123-7)+#REF!","v":{"$error":"#REF!"}},{"$f":"(#REF!-0.82*#REF!)/14*($L$123-7)+#REF!","v":{"$error":"#REF!"}},{"$f":"(#REF!-0.82*#REF!)/14*($M$123-7)+#REF!","v":{"$error":"#REF!"}},{"$f":"(#REF!-0.82*#REF!)/14*($N$123-7)+#REF!","v":{"$error":"#REF!"}},{"$f":"(#REF!-0.82*#REF!)/14*($O$123-7)+#REF!","v":{"$error":"#REF!"}},{"$f":"(#REF!-0.82*#REF!)/14*($P$123-7)+#REF!","v":{"$error":"#REF!"}},{"$f":"(#REF!-0.82*#REF!)/14*($Q$123-7)+#REF!","v":{"$error":"#REF!"}},{"$f":"(#REF!-0.82*#REF!)/14*($R$123-7)+#REF!","v":{"$error":"#REF!"}},{"$f":"(#REF!-0.82*#REF!)/14*($S$123-7)+#REF!","v":{"$error":"#REF!"}},{"$f":"(#REF!-0.82*#REF!)/14*($T$123-7)+#REF!","v":{"$error":"#REF!"}},{"$f":"(#REF!-0.82*#REF!)/14*($U$123-7)+#REF!","v":{"$error":"#REF!"}},{"$f":"(#REF!-0.82*#REF!)/14*($V$123-7)+#REF!","v":{"$error":"#REF!"}},{"$f":"(#REF!-0.82*#REF!)/14*($W$123-7)+#REF!","v":{"$error":"#REF!"}},{"$f":"(#REF!-0.82*#REF!)/14*($X$123-7)+#REF!","v":{"$error":"#REF!"}},{"$f":"(#REF!-0.82*#REF!)/14*($Y$123-7)+#REF!","v":{"$error":"#REF!"}},{"$f":"(#REF!-0.82*#REF!)/14*($Z$123-7)+#REF!","v":{"$error":"#REF!"}},{"$f":"(#REF!-0.82*#REF!)/14*($AA$123-7)+#REF!","v":{"$error":"#REF!"}},{"$f":"(#REF!-0.82*#REF!)/14*($AB$123-7)+#REF!","v":{"$error":"#REF!"}},{"$f":"(#REF!-0.82*#REF!)/14*($AC$123-7)+#REF!","v":{"$error":"#REF!"}},{"$f":"(#REF!-0.82*#REF!)/14*($AD$123-7)+#REF!","v":{"$error":"#REF!"}},{"$f":"(#REF!-0.82*#REF!)/14*($AE$123-7)+#REF!","v":{"$error":"#REF!"}},{"$f":"(#REF!-0.82*#REF!)/14*($AF$123-7)+#REF!","v":{"$error":"#REF!"}},{"$f":"(#REF!-0.82*#REF!)/14*($AG$123-7)+#REF!","v":{"$error":"#REF!"}},{"$f":"(#REF!-0.82*#REF!)/14*($AH$123-7)+#REF!","v":{"$error":"#REF!"}},{"$f":"(#REF!-0.82*#REF!)/14*($AI$123-7)+#REF!","v":{"$error":"#REF!"}},{"$f":"(#REF!-0.82*#REF!)/14*($AJ$123-7)+#REF!","v":{"$error":"#REF!"}},{"$f":"(#REF!-0.82*#REF!)/14*($AK$123-7)+#REF!","v":{"$error":"#REF!"}},{"$f":"(#REF!-0.82*#REF!)/14*($AL$123-7)+#REF!","v":{"$error":"#REF!"}},{"$f":"(#REF!-0.82*#REF!)/14*($AM$123-7)+#REF!","v":{"$error":"#REF!"}},{"$f":"(#REF!-0.82*#REF!)/14*($AN$123-7)+#REF!","v":{"$error":"#REF!"}},{"$f":"(#REF!-0.82*#REF!)/14*($AO$123-7)+#REF!","v":{"$error":"#REF!"}},{"$f":"(#REF!-0.82*#REF!)/14*($AP$123-7)+#REF!","v":{"$error":"#REF!"}},{"$f":"(#REF!-0.82*#REF!)/14*($AQ$123-7)+#REF!","v":{"$error":"#REF!"}},{"$f":"(#REF!-0.82*#REF!)/14*($AR$123-7)+#REF!","v":{"$error":"#REF!"}},{"$f":"(#REF!-0.82*#REF!)/14*($AS$123-7)+#REF!","v":{"$error":"#REF!"}},"消費電力"]
[null,"σw","COP",{"$f":"$D$139/$D$140","v":{"$error":"#REF!"}},{"$f":"$E$139/$E$140","v":{"$error":"#REF!"}},{"$f":"$F$139/$F$140","v":{"$error":"#REF!"}},{"$f":"$G$139/$G$140","v":{"$error":"#REF!"}},{"$f":"$H$139/$H$140","v":{"$error":"#REF!"}},{"$f":"$I$139/$I$140","v":{"$error":"#REF!"}},{"$f":"$J$139/$J$140","v":{"$error":"#REF!"}},{"$f":"$K$139/$K$140","v":{"$error":"#REF!"}},{"$f":"$L$139/$L$140","v":{"$error":"#REF!"}},{"$f":"$M$139/$M$140","v":{"$error":"#REF!"}},{"$f":"$N$139/$N$140","v":{"$error":"#REF!"}},{"$f":"$O$139/$O$140","v":{"$error":"#REF!"}},{"$f":"$P$139/$P$140","v":{"$error":"#REF!"}},{"$f":"$Q$139/$Q$140","v":{"$error":"#REF!"}},{"$f":"$R$139/$R$140","v":{"$error":"#REF!"}},{"$f":"$S$139/$S$140","v":{"$error":"#REF!"}},{"$f":"$T$139/$T$140","v":{"$error":"#REF!"}},{"$f":"$U$139/$U$140","v":{"$error":"#REF!"}},{"$f":"$V$139/$V$140","v":{"$error":"#REF!"}},{"$f":"$W$139/$W$140","v":{"$error":"#REF!"}},{"$f":"$X$139/$X$140","v":{"$error":"#REF!"}},{"$f":"$Y$139/$Y$140","v":{"$error":"#REF!"}},{"$f":"$Z$139/$Z$140","v":{"$error":"#REF!"}},{"$f":"$AA$139/$AA$140","v":{"$error":"#REF!"}},{"$f":"$AB$139/$AB$140","v":{"$error":"#REF!"}},{"$f":"$AC$139/$AC$140","v":{"$error":"#REF!"}},{"$f":"$AD$139/$AD$140","v":{"$error":"#REF!"}},{"$f":"$AE$139/$AE$140","v":{"$error":"#REF!"}},{"$f":"$AF$139/$AF$140","v":{"$error":"#REF!"}},{"$f":"$AG$139/$AG$140","v":{"$error":"#REF!"}},{"$f":"$AH$139/$AH$140","v":{"$error":"#REF!"}},{"$f":"$AI$139/$AI$140","v":{"$error":"#REF!"}},{"$f":"$AJ$139/$AJ$140","v":{"$error":"#REF!"}},{"$f":"$AK$139/$AK$140","v":{"$error":"#REF!"}},{"$f":"$AL$139/$AL$140","v":{"$error":"#REF!"}},{"$f":"$AM$139/$AM$140","v":{"$error":"#REF!"}},{"$f":"$AN$139/$AN$140","v":{"$error":"#REF!"}},{"$f":"$AO$139/$AO$140","v":{"$error":"#REF!"}},{"$f":"$AP$139/$AP$140","v":{"$error":"#REF!"}},{"$f":"$AQ$139/$AQ$140","v":{"$error":"#REF!"}},{"$f":"$AR$139/$AR$140","v":{"$error":"#REF!"}},{"$f":"$AS$139/$AS$140","v":{"$error":"#REF!"}},"COP"]
[null,"βw","暖房COP比",{"$f":"$D$141/$Q$141","v":{"$error":"#REF!"}},{"$f":"$E$141/$Q$141","v":{"$error":"#REF!"}},{"$f":"$F$141/$Q$141","v":{"$error":"#REF!"}},{"$f":"$G$141/$Q$141","v":{"$error":"#REF!"}},{"$f":"$H$141/$Q$141","v":{"$error":"#REF!"}},{"$f":"$I$141/$Q$141","v":{"$error":"#REF!"}},{"$f":"$J$141/$Q$141","v":{"$error":"#REF!"}},{"$f":"$K$141/$Q$141","v":{"$error":"#REF!"}},{"$f":"$L$141/$Q$141","v":{"$error":"#REF!"}},{"$f":"$M$141/$Q$141","v":{"$error":"#REF!"}},{"$f":"$N$141/$Q$141","v":{"$error":"#REF!"}},{"$f":"$O$141/$Q$141","v":{"$error":"#REF!"}},{"$f":"$P$141/$Q$141","v":{"$error":"#REF!"}},{"$f":"$Q$141/$Q$141","v":{"$error":"#REF!"}},{"$f":"$R$141/$Q$141","v":{"$error":"#REF!"}},{"$f":"$S$141/$Q$141","v":{"$error":"#REF!"}},{"$f":"$T$141/$Q$141","v":{"$error":"#REF!"}},{"$f":"$U$141/$Q$141","v":{"$error":"#REF!"}},{"$f":"$V$141/$Q$141","v":{"$error":"#REF!"}},{"$f":"$W$141/$Q$141","v":{"$error":"#REF!"}},{"$f":"$X$141/$Q$141","v":{"$error":"#REF!"}},{"$f":"$Y$141/$Q$141","v":{"$error":"#REF!"}},{"$f":"$Z$141/$Q$141","v":{"$error":"#REF!"}},{"$f":"$AA$141/$Q$141","v":{"$error":"#REF!"}},{"$f":"$AB$141/$Q$141","v":{"$error":"#REF!"}},{"$f":"$AC$141/$Q$141","v":{"$error":"#REF!"}},{"$f":"$AD$141/$Q$141","v":{"$error":"#REF!"}},{"$f":"$AE$141/$Q$141","v":{"$error":"#REF!"}},{"$f":"$AF$141/$Q$141","v":{"$error":"#REF!"}},{"$f":"$AG$141/$Q$141","v":{"$error":"#REF!"}},{"$f":"$AH$141/$Q$141","v":{"$error":"#REF!"}},{"$f":"$AI$141/$Q$141","v":{"$error":"#REF!"}},{"$f":"$AJ$141/$Q$141","v":{"$error":"#REF!"}},{"$f":"$AK$141/$Q$141","v":{"$error":"#REF!"}},{"$f":"$AL$141/$Q$141","v":{"$error":"#REF!"}},{"$f":"$AM$141/$Q$141","v":{"$error":"#REF!"}},{"$f":"$AN$141/$Q$141","v":{"$error":"#REF!"}},{"$f":"$AO$141/$Q$141","v":{"$error":"#REF!"}},{"$f":"$AP$141/$Q$141","v":{"$error":"#REF!"}},{"$f":"$AQ$141/$Q$141","v":{"$error":"#REF!"}},{"$f":"$AR$141/$Q$141","v":{"$error":"#REF!"}},{"$f":"$AS$141/$Q$141","v":{"$error":"#REF!"}},"暖房COP比"]
[null,"Σ合計",{"$f":"SUM($D$143:$AS$143)","v":{"$error":"#REF!"}},{"$f":"$D$136*$D$137","v":{"$error":"#REF!"}},{"$f":"$E$136*$E$137","v":{"$error":"#REF!"}},{"$f":"$F$136*$F$137","v":{"$error":"#REF!"}},{"$f":"$G$136*$G$137","v":{"$error":"#REF!"}},{"$f":"$H$136*$H$137","v":{"$error":"#REF!"}},{"$f":"$I$136*$I$137","v":{"$error":"#REF!"}},{"$f":"$J$136*$J$137","v":{"$error":"#REF!"}},{"$f":"$K$136*$K$137","v":{"$error":"#REF!"}},{"$f":"$L$136*$L$137","v":{"$error":"#REF!"}},{"$f":"$M$136*$M$137","v":{"$error":"#REF!"}},{"$f":"$N$136*$N$137","v":{"$error":"#REF!"}},{"$f":"$O$136*$O$137","v":{"$error":"#REF!"}},{"$f":"$P$136*$P$137","v":{"$error":"#REF!"}},{"$f":"$Q$136*$Q$137","v":{"$error":"#REF!"}},{"$f":"$R$136*$R$137","v":{"$error":"#REF!"}},{"$f":"$S$136*$S$137","v":{"$error":"#REF!"}},{"$f":"$T$136*$T$137","v":{"$error":"#REF!"}},{"$f":"$U$136*$U$137","v":{"$error":"#REF!"}},{"$f":"$V$136*$V$137","v":{"$error":"#REF!"}},{"$f":"$W$136*$W$137","v":{"$error":"#REF!"}},{"$f":"$X$136*$X$137","v":{"$error":"#REF!"}},{"$f":"$Y$136*$Y$137","v":{"$error":"#REF!"}},{"$f":"$Z$136*$Z$137","v":{"$error":"#REF!"}},{"$f":"$AA$136*$AA$137","v":{"$error":"#REF!"}},{"$f":"$AB$136*$AB$137","v":{"$error":"#REF!"}},{"$f":"$AC$136*$AC$137","v":{"$error":"#REF!"}},{"$f":"$AD$136*$AD$137","v":{"$error":"#REF!"}},{"$f":"$AE$136*$AE$137","v":{"$error":"#REF!"}},{"$f":"$AF$136*$AF$137","v":{"$error":"#REF!"}},{"$f":"$AG$136*$AG$137","v":{"$error":"#REF!"}},{"$f":"$AH$136*$AH$137","v":{"$error":"#REF!"}},{"$f":"$AI$136*$AI$137","v":{"$error":"#REF!"}},{"$f":"$AJ$136*$AJ$137","v":{"$error":"#REF!"}},{"$f":"$AK$136*$AK$137","v":{"$error":"#REF!"}},{"$f":"$AL$136*$AL$137","v":{"$error":"#REF!"}},{"$f":"$AM$136*$AM$137","v":{"$error":"#REF!"}},{"$f":"$AN$136*$AN$137","v":{"$error":"#REF!"}},{"$f":"$AO$136*$AO$137","v":{"$error":"#REF!"}},{"$f":"$AP$136*$AP$137","v":{"$error":"#REF!"}},{"$f":"$AQ$136*$AQ$137","v":{"$error":"#REF!"}},{"$f":"$AR$136*$AR$137","v":{"$error":"#REF!"}},{"$f":"$AS$136*$AS$137","v":{"$error":"#REF!"}},{"$f":"SUM($D$143:$AS$143)","v":{"$error":"#REF!"}},{"$f":"SUM(AU124:AU135)","v":{"$error":"#REF!"}}]

{"sheet":"2-3 貯湯量確認シート","index":3,"n_rows":54,"n_cols":18,"rows_kept":54,"cut":false,"hidden":false,"merged":[[29,16,29,17],[30,16,30,17],[36,7,36,8],[37,7,37,8],[36,16,36,17],[37,16,37,17],[34,13,34,14],[38,16,38,17],[31,16,31,17],[43,7,43,8],[46,1,46,2],[44,7,44,8],[45,7,45,8],[34,4,34,5],[41,4,41,5],[28,13,28,14],[38,7,38,8],[19,13,19,14],[19,7,19,8],[48,1,48,2],[32,10,32,11],[39,1,39,2],[42,1,42,2],[39,10,39,11],[32,1,32,2],[29,7,29,8],[30,7,30,8],[31,7,31,8],[27,4,27,5],[27,13,27,14],[11,5,11,6],[12,5,12,6],[52,2,52,3],[28,16,28,17],[35,1,35,2],[35,4,35,5],[35,7,35,8],[35,10,35,11],[35,13,35,14],[35,16,35,17],[28,1,28,2],[28,4,28,5],[42,4,42,5],[42,7,42,8],[28,7,28,8],[28,10,28,11]]}
["貯湯量の確認"]
[null,"施設の日給湯量Ld[Ｌ/h］からピーク給湯量Lp[L/h］を求め必要な貯湯量Ｖ［L]を算定する。",null,null,null,null,null,null,null,null,null,null,"自動計算"]
[]
["　"]
[null,"th1：ピーク開始時の貯湯温度　［℃］",null,null,null,null,{"$f":"IF('2-2 運転条件シート'!C6=\"\",\"\",'2-2 運転条件シート'!AH21)","v":""},"［℃］","（65℃または90℃）"]
[null,"th2：ピーク終了後の貯湯温度　［℃］",null,null,null,null,{"$f":"IFERROR(VLOOKUP(G5,データ集!I29:J31,2,FALSE),\"\")","v":""},"［℃］"]
[null,"Ｈ：加熱能力※３）　［kW]",null,null,null,null,{"$f":"IF('2-2 運転条件シート'!AG20=\"\",\"\",'2-2 運転条件シート'!AG20)","v":""},"［kW/台]　×",{"$f":"IF('2-2 運転条件シート'!AF27=0,\"\",'2-2 運転条件シート'!AF27)","v":""},"[台]","(※3)：冬季能力（日本冷凍工業会規格JRA4050:2007R））"]
[null,"tc：入水温度※３）　［℃]",null,null,null,null,{"$f":"データ集②!M8","v":""},"［℃］","（選択地域の最大給湯負荷月の入水温度)"]
[null,"T：ピーク継続時間　　［h]",null,null,null,null,{"$f":"IFERROR(VLOOKUP('2-2 運転条件シート'!V28,データ集!D34:H38,2,FALSE),\"\")","v":""},"［h]","（病院、事務所ビルはピーク1h、他施設は2h程度）"]
[]
[]
[null,"Ld：日平均給湯量　　　　　［L/日］",null,null,null,{"$f":"IFERROR(VLOOKUP('2-2 運転条件シート'!V28,データ集!D34:W38,16,FALSE),\"\")","v":""},null,"［L/日]","（③計算シートの「日給湯量の算出方法例」最大繁忙月繁忙度例と日給湯量算定/病院(老健) 参照）"]
[null,"Lp：ピーク時の給湯量　［Ｌ/ｈ]",null,null,null,{"$f":"IFERROR(データ集!AA36,\"\")","v":""},null,"［L/ｈ]","（日給湯量Q÷日稼働時間×ピーク係数3.5　日稼働時間は附表の「最大繁忙月の日給湯量算定例」の"]
[null,null,null,null,null,null,null,null,"該当施設に「給湯ヒートポンプ運転時間」を入力する）"]
[null,null,null,null,null,null,null,null,"例：病院14h/日、シティーホテル・温泉旅館・24h/日、オフィスビル10h/日、飲食・店舗12h/日）"]
[null,"日給湯量の算出内容"]
[null,null,"・給湯熱量は「給湯ヒートポンプツールが計算する冬季の月給湯能力［kWh］」から月給湯量［L/月］を算出。"]
[null,null,"（一部給湯ボイラーが残存する場合、全体の燃料使用量から給湯ヒートポンプ能力を差引いて算出した給湯量［L/月」を合算）"]
[]
[null,null,"給湯ヒートポンプ",null,{"$f":"I7","v":""},"台の","給湯熱量",{"$f":"IF(計算シート!AE83=0,\"\",計算シート!AE83)","v":""},null,"MJ/1月",null,"給湯量","(焚上65℃）",{"$f":"IFERROR(計算シート!AM83,\"\")","v":""},null,"ℓ/1月"]
[]
[{"$f":"B29","v":"繁忙度"},null,"・給湯全負荷相当時間の算出には「給湯ヒートポンプ年間活動量算定ツール」の該当月の日稼働時間［h/日］を使用。"]
[{"$f":"B30","v":"土・日"},null,"・用途別の繁忙度から最大日給湯量を算定。繁忙度は該当月の在室人員、病床使用数、宿泊者数、入場者数などから算定。"]
[{"$f":"B31","v":"祝祭日"},null,"・給湯熱量の一番大きい月の熱量から繁忙度により最大日給湯量を算定。",null,null,null,null,null,null,null,null,null,null,null,null,null,null," "]
[{"$f":"D29","v":"日数\n［日/月］"},null,"・表の",null,"は繁忙度の最も高い日を示す。"]
[{"$f":"'2-2 運転条件シート'!V28","v":0},null,"・算定ツールでは、用途・地域により給湯熱量［MJ/月］が変化しますが、表の値は年間活動量算定ツールの選定用途・地域での同じ値を使用しています。"]
[null,"最大繁忙月の日給湯量算定例"]
[null,null,null,null,"病院(老健)",null,null,{"$f":"データ集!AG3","v":"-"},"h/日",null,"最大繁忙月の日給湯量算定例",null,null,"シティーホテル",null,null,{"$f":"データ集!AG4","v":"-"},"h/日"]
[null,"繁忙度",null,"日数\n［日/月］","給湯全負荷\n相当時間［ｈ]",null,"負荷\n割合","日給湯負荷［ℓ/日］　",null,null,"繁忙度",null,"日数\n［日/月］","給湯全負荷\n相当時間［ｈ]",null,"負荷\n割合","日給湯負荷［ℓ/日］"]
[null,"土・日",{"$f":"IFERROR(_xlfn.XLOOKUP(A23&A26,データ集!W4:W13&データ集!T4:T13,データ集!AB4:AB13),\"\")","v":""},{"$f":"IFERROR(_xlfn.XLOOKUP(A23&A26,データ集!W4:W13&データ集!T4:T13,データ集!AA4:AA13),\"\")","v":""},{"$f":"IFERROR(C30*D30*$H$28,\"\")","v":""},"［ｈ]",{"$f":"IFERROR(E30/$E$33,\"\")","v":""},{"$f":"IFERROR($N$20*G30/D30,\"\")","v":""},null,null,"祝祭日",{"$f":"IFERROR(_xlfn.XLOOKUP(A24&A26,データ集!Y4:Y13&データ集!T4:T13,データ集!AB4:'データ集'!AB13),\"\")","v":""},{"$f":"IFERROR(_xlfn.XLOOKUP(A24&A26,データ集!Y4:Y13&データ集!T4:T13,データ集!AA4:AA13),\"\")","v":""},{"$f":"IFERROR(L30*M30*$Q$28,\"\")","v":""},"［ｈ]",{"$f":"IFERROR(N30/$N$33,\"\")","v":""},{"$f":"IFERROR($N$20*P30/M30,\"\")","v":""}]
[null,"祝祭日",{"$f":"IFERROR(_xlfn.XLOOKUP(A24&A26,データ集!Y4:Y13&データ集!T4:T13,データ集!AB4:'データ集'!AB13),\"\")","v":""},{"$f":"IFERROR(_xlfn.XLOOKUP(A24&A26,データ集!Y4:Y13&データ集!T4:T13,データ集!AA4:AA13),\"\")","v":""},{"$f":"IFERROR(C31*D31*$H$28,\"\")","v":""},"［ｈ]",{"$f":"IFERROR(E31/$E$33,\"\")","v":""},{"$f":"IFERROR($N$20*G31/D31,\"\")","v":""},null,null,"土・日",{"$f":"IFERROR(_xlfn.XLOOKUP(A23&A26,データ集!W4:W13&データ集!T4:T13,データ集!AB4:AB13),\"\")","v":""},{"$f":"IFERROR(_xlfn.XLOOKUP(A23&A26,データ集!W4:W13&データ集!T4:T13,データ集!AA4:AA13),\"\")","v":""},{"$f":"IFERROR(L31*M31*$Q$28,\"\")","v":""},"［ｈ]",{"$f":"IFERROR(N31/$N$33,\"\")","v":""},{"$f":"IFERROR($N$20*P31/M31,\"\")","v":""}]
[null,"平日",1,{"$f":"IFERROR(31-(D30+D31),\"\")","v":""},{"$f":"IFERROR(C32*D32*$H$28,\"\")","v":""},"［ｈ]",{"$f":"IFERROR(E32/$E$33,\"\")","v":""},{"$f":"IFERROR($N$20*G32/D32,\"\")","v":""},null,null,"平日",0.8,{"$f":"IFERROR(31-(M30+M31),\"\")","v":""},{"$f":"IFERROR(L32*M32*$Q$28,\"\")","v":""},"［ｈ]",{"$f":"IFERROR(N32/$N$33,\"\")","v":""},{"$f":"IFERROR($N$20*P32/M32,\"\")","v":""}]
[null,"計",null,{"$f":"SUM(D30:D32)","v":0},{"$f":"SUM(E30:E32)","v":0},"［h/月］",{"$f":"SUM(G30:G32)","v":0},{"$f":"IFERROR(D30*H30+D31*H31+D32*H32,\"\")","v":""},"［ℓ/月］",null,"計",null,{"$f":"SUM(M30:M32)","v":0},{"$f":"SUM(N30:N32)","v":0},"［h/月］",{"$f":"SUM(P30:P32)","v":0},{"$f":"IFERROR(M30*Q30+M31*Q31+M32*Q32,\"\")","v":""},"［ℓ/月］"]
[]
[null,"最大繁忙月の日給湯量算定例",null,null,"温泉旅館",null,null,{"$f":"データ集!AG5","v":"-"},"h/日",null,"最大繁忙月の日給湯量算定例",null,null,"オフィスビル",null,null,{"$f":"データ集!AG6","v":"-"},"h/日"]
[null,"繁忙度",null,"日数\n［日/月］","給湯全負荷\n相当時間［ｈ]",null,"負荷\n割合","日給湯負荷［ℓ/日］",null,null,"繁忙度",null,"日数\n［日/月］","給湯全負荷\n相当時間［ｈ]",null,"負荷\n割合","日給湯負荷［ℓ/日］"]
[null,"祝祭日",{"$f":"IFERROR(_xlfn.XLOOKUP(A24&A26,データ集!Y4:Y13&データ集!T4:T13,データ集!AB4:'データ集'!AB13),\"\")","v":""},{"$f":"IFERROR(_xlfn.XLOOKUP(A24&A26,データ集!Y4:Y13&データ集!T4:T13,データ集!AA4:AA13),\"\")","v":""},{"$f":"IFERROR(C37*D37*$H$35,\"\")","v":""},"［ｈ]",{"$f":"IFERROR(E37/$E$40,\"\")","v":""},{"$f":"IFERROR($N$20*G37/D37,\"\")","v":""},null,null,"土・日",{"$f":"IFERROR(_xlfn.XLOOKUP(A23&A26,データ集!W4:W13&データ集!T4:T13,データ集!AB4:AB13),\"\")","v":""},{"$f":"IFERROR(_xlfn.XLOOKUP(A23&A26,データ集!W4:W13&データ集!T4:T13,データ集!AA4:AA13),\"\")","v":""},{"$f":"IFERROR(L37*M37*$Q$35,\"\")","v":""},"［ｈ]",{"$f":"IFERROR(N37/$N$40,\"\")","v":""},{"$f":"IFERROR($N$20*P37/M37,\"\")","v":""}]
[null,"土・日",{"$f":"IFERROR(_xlfn.XLOOKUP(A23&A26,データ集!W4:W13&データ集!T4:T13,データ集!AB4:AB13),\"\")","v":""},{"$f":"IFERROR(_xlfn.XLOOKUP(A23&A26,データ集!W4:W13&データ集!T4:T13,データ集!AA4:AA13),\"\")","v":""},{"$f":"IFERROR(C38*D38*$H$35,\"\")","v":""},"［ｈ]",{"$f":"IFERROR(E38/$E$40,\"\")","v":""},{"$f":"IFERROR($N$20*G38/D38,\"\")","v":""},null,null,"祝祭日",{"$f":"IFERROR(_xlfn.XLOOKUP(A24&A26,データ集!Y4:Y13&データ集!T4:T13,データ集!AB4:'データ集'!AB13),\"\")","v":""},{"$f":"IFERROR(_xlfn.XLOOKUP(A24&A26,データ集!Y4:Y13&データ集!T4:T13,データ集!AA4:AA13),\"\")","v":""},{"$f":"IFERROR(L38*M38*$Q$35,\"\")","v":""},"［ｈ]",{"$f":"IFERROR(N38/$N$40,\"\")","v":""},{"$f":"IFERROR($N$20*P38/M38,\"\")","v":""}]
[null,"平日",0.5,{"$f":"IFERROR(31-(D37+D38),\"\")","v":""},{"$f":"IFERROR(C39*D39*$H$35,\"\")","v":""},"［ｈ]",{"$f":"IFERROR(E39/$E$40,\"\")","v":""},{"$f":"IFERROR($N$20*G39/D39,\"\")","v":""},null,null,"平日",1,{"$f":"IFERROR(31-(M37+M38),\"\")","v":""},{"$f":"IFERROR(L39*M39*$Q$35,\"\")","v":""},"［ｈ]",{"$f":"IFERROR(N39/$N$40,\"\")","v":""},{"$f":"IFERROR($N$20*P39/M39,\"\")","v":""}]
[null,"計",null,{"$f":"IFERROR(SUM(D37:D39),\"\")","v":0},{"$f":"SUM(E37:E39)","v":0},"［h/月］",{"$f":"SUM(G37:G39)","v":0},{"$f":"IFERROR(D37*H37+D38*H38+D39*H39,\"\")","v":""},"［ℓ/月］",null,"計",null,{"$f":"SUM(M37:M39)","v":0},{"$f":"SUM(N37:N39)","v":0},"［h/月］",{"$f":"SUM(P37:P39)","v":0},{"$f":"IFERROR(M37*Q37+M38*Q38+M39*Q39,\"\")","v":""},"［ℓ/月］"]
[]
[null,"最大繁忙月の日給湯量算定例",null,null,"飲食・店舗例",null,null,{"$f":"データ集!AG7","v":"-"},"h/日"]
[null,"繁忙度",null,"日数\n［日/月］","給湯全負荷\n相当時間［ｈ]",null,"負荷\n割合","日給湯負荷［ℓ/日］"]
[null,"土・日",{"$f":"IFERROR(_xlfn.XLOOKUP(A23&A26,データ集!W4:W13&データ集!T4:T13,データ集!AB4:AB13),\"\")","v":""},{"$f":"IFERROR(_xlfn.XLOOKUP(A23&A26,データ集!W4:W13&データ集!T4:T13,データ集!AA4:AA13),\"\")","v":""},{"$f":"IFERROR(C44*D44*$H$42,\"\")","v":""},"［ｈ]",{"$f":"IFERROR(E44/$E$47,\"\")","v":""},{"$f":"IFERROR($N$20*G44/D44,\"\")","v":""}]
[null,"祝祭日",{"$f":"IFERROR(_xlfn.XLOOKUP(A24&A26,データ集!Y4:Y13&データ集!T4:T13,データ集!AB4:'データ集'!AB13),\"\")","v":""},{"$f":"IFERROR(_xlfn.XLOOKUP(A24&A26,データ集!Y4:Y13&データ集!T4:T13,データ集!AA4:AA13),\"\")","v":""},{"$f":"IFERROR(C45*D45*$H$42,\"\")","v":""},"［ｈ]",{"$f":"IFERROR(E45/$E$47,\"\")","v":""},{"$f":"IFERROR($N$20*G45/D45,\"\")","v":""}]
[null,"平日",0.6,{"$f":"IFERROR(31-(D44+D45),\"\")","v":""},{"$f":"IFERROR(C46*D46*$H$42,\"\")","v":""},"［ｈ]",{"$f":"IFERROR(E46/$E$47,\"\")","v":""},{"$f":"IFERROR($N$20*G46/D46,\"\")","v":""}]
[null,"計",null,{"$f":"SUM(D44:D46)","v":0},{"$f":"SUM(E44:E46)","v":0},"［h/月］",{"$f":"SUM(G44:G46)","v":0},{"$f":"IFERROR(D44*H44+D45*H45+D46*H46,\"\")","v":""},"［ℓ/月］"]
[]
[null,"計算結果"]
[null,"Ｖ：必要有効貯湯容量　　　［Ｌ]"]
[null,"4.2（th1-th2）V ≧ 4.2｛（th1+th2)/2－tc｝Lp－HT"]
[null,"Ｖ ≧","〔4.2｛(65＋53)／2－15 ｝×Lp－ＨT3600〕 ／  4.2 (th1－th2)"]
[{"$f":"IFERROR(ROUND(+(4.2*((($G$5+$G$6)/2-$G$8)*$F$13*$G$9)-($G$7*$I$7*3600*$G$9))/(4.2*($G$5-$G$6)),-3),\"\")","v":""},"Ｖ ≧",{"$f":"IF(A53<0,0,A53)","v":""},null,"［Ｌ]","（実容量は×1.3程度）"]
[null,"日給湯量に対する割合：",null,null,{"$f":"IFERROR(ROUND(+$A$53/$F$12,2),\"\")","v":""}]

{"sheet":"3 効果算定シート","index":4,"n_rows":46,"n_cols":14,"rows_kept":46,"cut":false,"hidden":false,"merged":[[19,0,19,10],[1,0,1,12],[0,0,0,12],[3,0,4,0],[3,1,4,9],[3,10,4,10],[3,11,4,12],[18,11,18,12],[18,1,18,9],[5,0,5,12],[6,0,6,12],[8,0,9,0],[8,10,9,10],[8,11,8,12],[9,11,9,12],[24,11,24,12],[10,0,10,11],[11,0,11,11],[13,0,14,0],[13,10,14,10],[13,11,13,12],[14,11,14,12],[15,0,15,11],[21,11,21,12],[23,0,24,0],[23,10,24,10],[23,11,23,12],[17,0,18,0],[17,10,18,10],[17,11,17,12],[19,11,19,12],[25,0,25,11],[27,8,27,9],[27,11,27,12],[28,8,28,9],[28,11,28,12],[27,0,29,0],[29,11,29,12],[29,8,29,9],[34,1,35,3],[34,4,35,5],[34,6,34,9],[34,10,35,11],[35,6,35,7],[35,8,35,9],[36,1,36,3],[36,4,36,5],[36,6,36,7],[36,8,36,9],[36,10,40,11],[37,1,37,3],[37,4,37,5],[37,6,37,7],[37,8,37,9],[38,1,38,3],[38,4,38,5],[38,6,38,7],[38,8,38,9],[39,1,40,3],[39,4,39,5],[39,6,39,7],[39,8,39,9],[40,4,40,5],[40,6,40,7],[40,8,40,9],[42,1,42,3],[42,4,42,5],[42,6,42,7],[42,8,42,9],[45,10,46,11],[43,1,44,3],[43,10,44,11],[42,10,42,11],[41,1,41,3],[41,4,41,5],[41,6,41,7],[41,8,41,9],[41,10,41,11],[45,1,46,3],[43,4,44,5],[43,6,44,7],[43,8,44,9],[45,4,46,5],[45,6,46,7],[45,8,46,9]]}
[]
["Step1～7の操作により既存設備と導入設備の電力使用量等が自動的に計算・表示されます。"]
[]
["Step \n1","現在お使いのボイラの燃料は何ですか？9種類の中からお選びください。\n(注1a、注1b）",null,null,null,null,null,null,null,null,"選択"]
[]
["注1a. LPGは、ガス会社の購買伝票を確認し、kgまたはｔ(トン)表示であればLPG(液)を、m3表示であればLPG(ガス)を選択 してください。"]
["注1b. 都市ガスについては、ガス会社の購買伝票の数値をそのまま入力する場合は㎥を、0℃1気圧の標準状態に換算する場合はNm3を選択して\n　　　　ください。"]
[]
[2,"1で選択した燃料の購買伝票などから基準年度燃料使用量を入力してください。",null,null,null,null,null,null,null,null,"入力"]
[null,"(注2a、注2b)",null,null,null,null,null,null,null,null,null,{"$f":"IFERROR(VLOOKUP(L4,燃料データ_新!A20:E28,5,FALSE),\"\")","v":""}]
["注2a. 基準年度燃料使用量とは、直近過去3年度間の平均値(令和3年度～令和5年度)、または令和5年度のいずれかの数値となります。"]
["注2b. ここに表示されない単位は、購買店にご確認ください。"]
[]
[3,"現在お使いのボイラのカタログや仕様書からボイラ効率を調べて入力してください。",null,null,null,null,null,null,null,null,"入力",{"$f":"IFERROR('4の複数ボイラの平均効率算出方法の裏'!L21,\"\")","v":""}]
[null,"ボイラーが1台の場合でも「4 平均効率計算シート」をお使いください。自動入力(青色セル)となります。（注3）",null,null,null,null,null,null,null,null,null,"％ "]
["注3. ボイラー効率は真発熱量(低位発熱量)で入力してください。ご不明の場合は購入店、もしくはメーカーにご確認ください。"]
[]
[4,"導入予定のヒートポンプの電力使用量の推定値を入力してください。",null,null,null,null,null,null,null,null,"入力",{"$f":"IF(L24=\"\",\"\",'2-2 運転条件シート'!S40)","v":""}]
[null,"【2-2 運転条件シート】の建物用途別の計算結果が推定値として自動入力(青色セル)されています。（注4）"]
["注4. 工程の必要給湯量を設定した時の計算結果を入力する場合は黄色のセルに手入力してください。",null,null,null,null,null,null,null,null,null,null,"kWh/年"]
[]
[5,"導入予定の補助ボイラの燃料は何ですか？8種類の中からお選びください。",null,null,null,null,null,null,null,null,"選択"]
[]
[6,"導入予定の補助ボイラのカタログや仕様書からボイラ効率を調べて入力してください。",null,null,null,null,null,null,null,null,"入力",{"$f":"IFERROR('4の複数ボイラの平均効率算出方法の裏'!L49,\"\")","v":""}]
[null,"ボイラーが1台の場合でも「4 平均効率計算シート」をお使いください。自動入力(青色セル)となります。（注5）",null,null,null,null,null,null,null,null,null,"％ "]
["注5. ボイラ効率は真発熱量(低位発熱量)で入力してください。ご不明の場合は購入店、もしくはメーカーにご確認ください。"]
[]
[7,"Step1で選択した燃料の一般的な単価",null,null,null,null,null,null,{"$f":"IFERROR(VLOOKUP(L4,燃料データ_新!A2:I14,9,FALSE),\"\")","v":""},null,"入力"]
[null,"Step5で選択した燃料の一般的な単価",null,null,null,null,null,null,{"$f":"IFERROR(VLOOKUP(L22,燃料データ_新!A2:I14,9,FALSE),\"\")","v":""},null,"入力"]
[null,"Step5で選択したヒートポンプの電力の一般的な単価",null,null,null,null,null,null,{"$f":"IF(I29=\"\",\"\",\"千円/千kWh\")","v":""},null,"入力"]
[]
[]
[]
[]
[null,"項    目",null,null,"A.既存設備",null,"導入設備",null,null,null,"B+C"]
[null,null,null,null,null,null,"B.給湯\nヒートポンプ",null,"C.給湯ボイラ"]
[null,"ボイラ効率(％)",null,null,{"$f":"IF(L14=0,\"\",L14)","v":""},null,null,null,{"$f":"IF(L24=0,\"\",L24)","v":""}]
[null,"燃料種別",null,null,{"$f":"IF(L4=0,\"\",L4)","v":""},null,{"$f":"L22","v":0},null,{"$f":"IF(L22=0,\"\",L22)","v":""}]
[null,"真発熱量",null,null,{"$f":"IFERROR(VLOOKUP(E38,燃料データ_新!A2:B14,2,FALSE),\"\")","v":""},null,null,null,{"$f":"IFERROR(VLOOKUP(I38,燃料データ_新!A2:B14,2,FALSE),\"\")","v":""}]
[null,"燃料使用量",null,null,{"$f":"IF(L9=0,\"\",L9)","v":""},null,{"$f":"IF(E40=\"\",\"\",'3の効果算定シートの裏'!F7)","v":""},null,{"$f":"IF(I37=\"\",\"\",'3の効果算定シートの裏'!G7)","v":""}]
[null,null,null,null,{"$f":"IFERROR(VLOOKUP(L4,燃料データ_新!A2:D14,4,FALSE),\"\")","v":""},null,{"$f":"IF(G40=\"\",\"\",\"千kWh/年\")","v":""},null,{"$f":"IFERROR(VLOOKUP(L22,燃料データ_新!A2:D14,4,FALSE),\"\")","v":""}]
[null,"CO2排出量(t-CO2/年)",null,null,{"$f":"'3の効果算定シートの裏'!D8","v":""},null,{"$f":"IF(G40=\"\",\"\",'3の効果算定シートの裏'!F8)","v":""},null,{"$f":"IF(I37=\"\",\"\",'3の効果算定シートの裏'!G8)","v":""},null,{"$f":"IF(I37=\"\",\"\",'3の効果算定シートの裏'!I8)","v":""}]
[null,"CO2削減量(t-CO2/年)",null,null,null,null,null,null,null,null,{"$f":"IF(I37=\"\",\"\",'3の効果算定シートの裏'!I9)","v":""},null,"削減率(%)",{"$f":"IFERROR('3の効果算定シートの裏'!M14,\"\")","v":""}]
[null,"エネルギー使用量\n(GJ/年)",null,null,{"$f":"'3の効果算定シートの裏'!D10","v":""},null,{"$f":"IF(G42=\"\",\"\",'3の効果算定シートの裏'!F10)","v":""},null,{"$f":"IF(I37=\"\",\"\",'3の効果算定シートの裏'!G10)","v":""},null,{"$f":"IF(I37=\"\",\"\",'3の効果算定シートの裏'!I10)","v":""},null,"省エネ率(%)",{"$f":"IFERROR('3の効果算定シートの裏'!M15,\"\")","v":""}]
[]
[null,"エネルギーコスト\n(千円/年)",null,null,{"$f":"IFERROR('3の効果算定シートの裏'!D11,\"\")","v":""},null,{"$f":"IF(G44=\"\",\"\",'3の効果算定シートの裏'!F11)","v":""},null,{"$f":"IFERROR('3の効果算定シートの裏'!G11,\"\")","v":""},null,{"$f":"IFERROR(G46+I46,\"\")","v":""}]

{"sheet":"3の効果算定シートの裏","index":5,"n_rows":24,"n_cols":14,"rows_kept":24,"cut":false,"hidden":true,"merged":[[0,5,0,6],[1,2,2,2],[2,8,6,8],[18,3,18,4],[18,5,18,6]]}
[null,null,null,"既存設備",null,"導入設備"]
[null,null,"項    目","A",null,"B","C",null,"B+C"]
[null,null,null,null,null,"給湯ヒートポンプ","給湯ボイラ"]
[null,null,"ボイラ効率(％)",{"$f":"'3 効果算定シート'!E37","v":""},null,null,{"$f":"'3 効果算定シート'!I37","v":""}]
[null,null,"燃料種別",{"$f":"'3 効果算定シート'!E38","v":""},null,null,{"$f":"'3 効果算定シート'!I38","v":""}]
[null,null,"真発熱量",{"$f":"'3 効果算定シート'!E39","v":""},null,null,{"$f":"'3 効果算定シート'!I39","v":""},null,null,{"$f":"VLOOKUP(G5,燃料データ_新!A2:D14,4,FALSE)","v":{"$error":"#N/A"}},{"$f":"K7-K8","v":{"$error":"#VALUE!"}},"a-b=c"]
[null,{"$f":"VLOOKUP(D5,燃料データ_新!A2:D14,4,FALSE)","v":{"$error":"#N/A"}},"燃料使用量",{"$f":"燃料データ_新!G21","v":""},null,{"$f":"IF(F20,G20,E20)","v":{"$error":"#VALUE!"}},{"$f":"K6/G4/G6*100","v":{"$error":"#VALUE!"}},"d",null,"既存発熱量",{"$f":"D7*D4*0.01*D6","v":{"$error":"#VALUE!"}},"a=","既存燃料使用量×既存ボイラー効率×低位発熱量"]
[null,null,"CO2排出量(t-CO2/年)",{"$f":"燃料データ_新!H32","v":""},null,{"$f":"IF(F21,G21,E21)","v":{"$error":"#VALUE!"}},{"$f":"G7*J9","v":{"$error":"#VALUE!"}},"f",{"$f":"F8+G8","v":{"$error":"#VALUE!"}},"合計給湯能力",{"$f":"計算シート!$CE$84/1000*3.6","v":0},"b=","導入HPの給湯能力×台数÷1000×3.6"]
[null,null,"CO2削減量(t-CO2/年)",null,null,null,null,null,{"$f":"D8-F8-G8","v":{"$error":"#VALUE!"}},{"$f":"VLOOKUP(G5,燃料データ_新!A31:E43,5,FALSE)","v":{"$error":"#N/A"}},"z","f=","d×z","z=「燃料データ_新」シートの既存CO2排出量より"]
[null,null,"エネルギー使用量(GJ/年)",{"$f":"IF('3 効果算定シート'!L4=\"電気\",燃料データ_新!J39,燃料データ_新!H39)","v":""},null,{"$error":"#VALUE!"},{"$f":"G7*J10","v":{"$error":"#VALUE!"}},"e",{"$f":"F10+G10","v":{"$error":"#VALUE!"}},{"$f":"IF(G5=\"電気\",E12,J11)","v":{"$error":"#N/A"}},"①","e=","d×導入高位発熱量"]
[null,null,"エネルギーコスト（千円/年）",{"$f":"D14*燃料データ_新!G21","v":{"$error":"#VALUE!"}},null,{"$error":"#VALUE!"},{"$f":"G7*D15","v":{"$error":"#VALUE!"}},null,{"$f":"F11+G11","v":{"$error":"#VALUE!"}},{"$f":"VLOOKUP(G5,燃料データ_新!A31:E43,2,FALSE)","v":{"$error":"#N/A"}},"②"]
[null,"",null,null,8.64,"←係数",null,null,null,null,"導入が電気なら①、そうでないなら②　数値入替え"]
["係数",4.3399999999999998E-4]
["Step1で選択した燃料の一般的な単価",null,null,{"$f":"'3 効果算定シート'!L28","v":0},null,null,null,null,null,null,null,"削減率(%)",{"$f":"I9/D8*100","v":{"$error":"#VALUE!"}}]
["Step5で選択した燃料の一般的な単価",null,null,{"$f":"'3 効果算定シート'!L29","v":0},null,null,null,null,null,null,null,"省エネ率(%)",{"$f":"(D10-I10)/(D10/100)","v":{"$error":"#VALUE!"}}]
["Step5で選択したヒートポンプの電力の一般的な単価",null,null,{"$f":"'3 効果算定シート'!L30","v":0}]
[]
[]
[null,null,"効果算定シート　L18枠の数値差替え表","「2-2 運転条件シート」の月別消費電力（合計）から自動入力",null,"step4を手入力した場合"]
[null,null,"燃料使用量",{"$f":"'2-2 運転条件シート'!S40","v":""},{"$f":"TRUNC(D20/1000)","v":{"$error":"#VALUE!"}},{"$f":"'3 効果算定シート'!L19","v":0},{"$f":"TRUNC(F20/1000)","v":0}]
[null,null,"CO2排出量(t-CO2/年)",{"$f":"D20*B13*1000","v":{"$error":"#VALUE!"}},{"$f":"TRUNC(D21/1000)","v":{"$error":"#VALUE!"}},{"$f":"F20*B13*1000","v":0},{"$f":"TRUNC(F21/1000)","v":0}]
[null,null,"CO2削減量(t-CO2/年)"]
[null,null,"エネルギー使用量(GJ/年)",{"$f":"D20*E12","v":{"$error":"#VALUE!"}},{"$f":"D23/1000","v":{"$error":"#VALUE!"}},{"$f":"F20*E12","v":0},{"$f":"F23/1000","v":0}]
[null,null,"エネルギーコスト（千円/年）",{"$f":"D20*D16","v":{"$error":"#VALUE!"}},{"$f":"D24/1000","v":{"$error":"#VALUE!"}},{"$f":"F20*D16","v":0},{"$f":"F24/1000","v":0}]

{"sheet":"4 平均効率計算シート","index":6,"n_rows":8,"n_cols":14,"rows_kept":8,"cut":false,"hidden":false,"merged":[[6,0,6,1],[6,12,7,12],[7,0,7,1],[1,0,1,1],[2,0,2,1],[2,12,3,12],[3,0,3,1],[5,0,5,1]]}
["※複数ボイラーの効率が異なる場合の平均効率を計算します。"]
["既存設備",null,"1号機","2号機","3号機","4号機","5号機","6号機","7号機","8号機","9号機","10号機","平均効率"]
["相当蒸発量 [kg/h]",null,null,null,null,null,null,null,null,null,null,null,{"$f":"IFERROR('4の複数ボイラの平均効率算出方法の裏'!L20,\"\")","v":""},{"$f":"M3*100","v":{"$error":"#VALUE!"}}]
["ボイラー効率 [％]"]
[]
["導入設備",null,"11号機","12号機","13号機","14号機","15号機","16号機","17号機","18号機","19号機","20号機","平均効率"]
["相当蒸発量 [kg/h]",null,null,null,null,null,null,null,null,null,null,null,{"$f":"IFERROR('4の複数ボイラの平均効率算出方法の裏'!L48,\"\")","v":""},{"$f":"M7*100","v":{"$error":"#VALUE!"}}]
["ボイラー効率 [％]"]

{"sheet":"4の複数ボイラの平均効率算出方法の裏","index":7,"n_rows":57,"n_cols":16,"rows_kept":57,"cut":false,"hidden":true,"merged":[[40,1,40,2],[40,3,40,4]]}
[]
["導入前","ボイラ効率","η","W",null,"W(相当蒸発量 kg/h）",null,null,null,null,null,null,null,1,"燃料使用量：Q1［kl/年］、[t/年]または［千Nm3/年］"]
["１号機",{"$f":"'4 平均効率計算シート'!C4","v":0},{"$f":"B3/100","v":0},{"$f":"'4 平均効率計算シート'!C3","v":0},null,"η(効率/100)",null,null,null,null,null,null,null,2,"ボイラー燃料使用量：1～10号機q1～10 [kl/年]、[t/年]または［千Nm3/年］"]
["２号機",{"$f":"'4 平均効率計算シート'!D4","v":0},{"$f":"B4/100","v":0},{"$f":"'4 平均効率計算シート'!D3","v":0},null,null,null,null,null,null,null,null,null,3,"ボイラー出力（相当蒸発量）：W1～W10［kg/h］"]
["３号機",{"$f":"'4 平均効率計算シート'!E4","v":0},{"$f":"B5/100","v":0},{"$f":"'4 平均効率計算シート'!E3","v":0},null,null,null,null,null,null,null,null,null,4,"ボイラー効率：η1～η10[％]"]
["４号機",{"$f":"'4 平均効率計算シート'!F4","v":0},{"$f":"B6/100","v":0},{"$f":"'4 平均効率計算シート'!F3","v":0},null,null,null,null,null,null,null,null,null,5,"ボイラー平均効率：ηA [％]"]
["５号機",{"$f":"'4 平均効率計算シート'!G4","v":0},0,{"$f":"'4 平均効率計算シート'!G3","v":0},null,null,null,null,null,null,null,null,null,6,"燃料真発熱量（低位発熱量）：HL1［GJ/kl］、[GJ/t]または［GJ/千Nm3］"]
["６号機",{"$f":"'4 平均効率計算シート'!H4","v":0},0,{"$f":"'4 平均効率計算シート'!H3","v":0}]
["７号機",{"$f":"'4 平均効率計算シート'!I4","v":0},0,{"$f":"'4 平均効率計算シート'!I3","v":0}]
["８号機",{"$f":"'4 平均効率計算シート'!J4","v":0},0,{"$f":"'4 平均効率計算シート'!J3","v":0}]
["９号機",{"$f":"'4 平均効率計算シート'!K4","v":0},0,{"$f":"'4 平均効率計算シート'!K3","v":0}]
["10号機",{"$f":"'4 平均効率計算シート'!L4","v":0},0,{"$f":"'4 平均効率計算シート'!L3","v":0}]
[]
[]
["１号機","２号機","３号機","４号機","５号機","６号機","７号機","８号機","９号機","10号機","合計"]
[{"$f":"'4 平均効率計算シート'!C$3","v":0},{"$f":"'4 平均効率計算シート'!D$3","v":0},{"$f":"'4 平均効率計算シート'!E$3","v":0},{"$f":"'4 平均効率計算シート'!F$3","v":0},{"$f":"'4 平均効率計算シート'!G$3","v":0},{"$f":"'4 平均効率計算シート'!H$3","v":0},{"$f":"'4 平均効率計算シート'!I$3","v":0},{"$f":"'4 平均効率計算シート'!J$3","v":0},{"$f":"'4 平均効率計算シート'!K$3","v":0},{"$f":"'4 平均効率計算シート'!L$3","v":0},{"$f":"SUM(A16:J16)","v":0},null,"W"]
[{"$f":"C3","v":0},{"$f":"C4","v":0},{"$f":"C5","v":0},{"$f":"C6","v":0},{"$f":"C7","v":0},{"$f":"C8","v":0},{"$f":"C9","v":0},{"$f":"C10","v":0},{"$f":"C11","v":0},{"$f":"C12","v":0},null,null,"η"]
[{"$f":"A16*A17","v":0},{"$f":"B16*B17","v":0},{"$f":"C16*C17","v":0},{"$f":"D16*D17","v":0},0,0,0,0,0,0]
[null,{"$f":"SUM(A18:B18)","v":0},{"$f":"SUM(A18:C18)","v":0},{"$f":"SUM(A18:D18)","v":0},{"$f":"SUM(A18:E18)","v":0},{"$f":"SUM(A18:F18)","v":0},{"$f":"SUM(A18:G18)","v":0},{"$f":"SUM(A18:H18)","v":0},{"$f":"SUM(A18:I18)","v":0},{"$f":"SUM(A18:J18)","v":0}]
[{"$f":"A18/K16","v":{"$error":"#DIV/0!"}},{"$f":"B19/K16","v":{"$error":"#DIV/0!"}},{"$f":"C19/K16","v":{"$error":"#DIV/0!"}},{"$f":"D19/K16","v":{"$error":"#DIV/0!"}},{"$f":"E19/K16","v":{"$error":"#DIV/0!"}},{"$f":"F19/K16","v":{"$error":"#DIV/0!"}},{"$f":"G19/K16","v":{"$error":"#DIV/0!"}},{"$f":"H19/K16","v":{"$error":"#DIV/0!"}},{"$f":"I19/K16","v":{"$error":"#DIV/0!"}},{"$f":"J19/K16","v":{"$error":"#DIV/0!"}},null,{"$f":"INDEX(A20:J20,COUNTA(A20:J20))","v":{"$error":"#DIV/0!"}}]
[null,null,null,null,null,null,null,null,null,null,null,{"$f":"L20*100","v":{"$error":"#DIV/0!"}},"%"]
[null,null,null,null,null,null,null,null,null,null,null,"最後のデータ"]
[]
[]
[]
[]
[]
[]
[]
["導入後","ボイラ効率","η","W"]
["11号機",{"$f":"'4 平均効率計算シート'!C8","v":0},{"$f":"B31/100","v":0},{"$f":"'4 平均効率計算シート'!C7","v":0}]
["12号機",{"$f":"'4 平均効率計算シート'!D8","v":0},{"$f":"B32/100","v":0},{"$f":"'4 平均効率計算シート'!D7","v":0}]
["13号機",{"$f":"'4 平均効率計算シート'!E8","v":0},{"$f":"B33/100","v":0},{"$f":"'4 平均効率計算シート'!E7","v":0}]
["14号機",{"$f":"'4 平均効率計算シート'!F8","v":0},0,{"$f":"'4 平均効率計算シート'!F7","v":0}]
["15号機",{"$f":"'4 平均効率計算シート'!G8","v":0},0,{"$f":"'4 平均効率計算シート'!G7","v":0}]
["16号機",{"$f":"'4 平均効率計算シート'!H8","v":0},0,{"$f":"'4 平均効率計算シート'!H7","v":0}]
["17号機",{"$f":"'4 平均効率計算シート'!I8","v":0},0,{"$f":"'4 平均効率計算シート'!I7","v":0}]
["18号機",{"$f":"'4 平均効率計算シート'!J8","v":0},0,{"$f":"'4 平均効率計算シート'!J7","v":0}]
["19号機",{"$f":"'4 平均効率計算シート'!K8","v":0},0,{"$f":"'4 平均効率計算シート'!K7","v":0}]
["20号機",{"$f":"'4 平均効率計算シート'!L8","v":0},0,{"$f":"'4 平均効率計算シート'!L7","v":0}]
[]
[]
["11号機","12号機","13号機","14号機","15号機","16号機","17号機","18号機","19号機","20号機","合計"]
[{"$f":"'4 平均効率計算シート'!C$7","v":0},{"$f":"'4 平均効率計算シート'!D$7","v":0},{"$f":"'4 平均効率計算シート'!E$7","v":0},{"$f":"'4 平均効率計算シート'!F$7","v":0},{"$f":"'4 平均効率計算シート'!G$7","v":0},{"$f":"'4 平均効率計算シート'!H$7","v":0},{"$f":"'4 平均効率計算シート'!I$7","v":0},{"$f":"'4 平均効率計算シート'!J$7","v":0},{"$f":"'4 平均効率計算シート'!K$7","v":0},{"$f":"'4 平均効率計算シート'!L$7","v":0},{"$f":"SUM(A44:J44)","v":0}]
[{"$f":"C31","v":0},{"$f":"C32","v":0},{"$f":"C33","v":0},{"$f":"C34","v":0},{"$f":"C35","v":0},{"$f":"C36","v":0},{"$f":"C37","v":0},{"$f":"C38","v":0},{"$f":"C39","v":0},{"$f":"C40","v":0},null,null,null,null,0.9,{"$f":"A45*PRODUCT(A46:A54)*A44","v":{"$error":"#DIV/0!"}}]
[{"$f":"A44*A45","v":0},{"$f":"B44*B45","v":0},0,0,0,0,0,0,0,0,null,null,null,null,0.89]
[null,{"$f":"SUM(A46:B46)","v":0},{"$f":"SUM(A46:C46)","v":0},{"$f":"SUM(A46:D46)","v":0},{"$f":"SUM(A46:E46)","v":0},{"$f":"SUM(A46:F46)","v":0},{"$f":"SUM(A46:G46)","v":0},{"$f":"SUM(A46:H46)","v":0},{"$f":"SUM(A46:I46)","v":0},{"$f":"SUM(A46:J46)","v":0},null,null,null,null,0.91]
[{"$f":"A46/K44","v":{"$error":"#DIV/0!"}},{"$f":"B47/K44","v":{"$error":"#DIV/0!"}},{"$f":"C47/K44","v":{"$error":"#DIV/0!"}},{"$f":"D47/K44","v":{"$error":"#DIV/0!"}},{"$f":"E47/K44","v":{"$error":"#DIV/0!"}},{"$f":"F47/K44","v":{"$error":"#DIV/0!"}},{"$f":"G47/K44","v":{"$error":"#DIV/0!"}},{"$f":"H47/K44","v":{"$error":"#DIV/0!"}},{"$f":"I47/K44","v":{"$error":"#DIV/0!"}},{"$f":"J47/K44","v":{"$error":"#DIV/0!"}},null,{"$f":"INDEX(A48:J48,COUNTA(A48:J48))","v":{"$error":"#DIV/0!"}},null,null,0.92]
[null,null,null,null,null,null,null,null,null,null,null,{"$f":"L48*100","v":{"$error":"#DIV/0!"}},"%",null,0.93]
[null,null,null,null,null,null,null,null,null,null,null,"最後のデータ",null,null,0.94]
[null,null,null,null,null,null,null,null,null,null,null,null,null,null,0.95]
[null,null,null,null,null,null,null,null,null,null,null,null,null,null,0.96]
[null,null,null,null,null,null,null,null,null,null,null,null,null,null,0.97]
[null,null,null,null,null,null,null,null,null,null,null,null,null,null,0.98]
[null,null,null,null,null,null,null,null,null,null,null,null,null,null,{"$f":"O46*PRODUCT(O47:O54)*B44","v":0}]
[]
[null,null,null,null,null,null,null,null,null,null,null,null,null,null,{"$f":"PRODUCT(IF(K46:K54<>0,K46:K54,\"\"))*K44","v":0}]

{"sheet":"たたき台　5 ヒートポンプ更新シート","index":8,"n_rows":24,"n_cols":14,"rows_kept":24,"cut":false,"hidden":true,"merged":[[21,2,21,4],[22,2,22,4],[23,2,23,4],[18,2,18,4],[17,2,17,4],[19,2,19,4],[21,5,21,7],[21,8,21,10],[22,5,22,7],[22,8,22,10],[23,5,23,7],[23,8,23,10],[7,16,7,17],[0,0,0,12],[1,0,1,12],[3,0,4,0],[3,1,4,9],[3,10,4,10],[3,11,3,12],[4,11,4,12],[11,11,11,12],[7,11,7,12],[8,11,8,12],[12,11,12,12],[11,0,12,0],[7,0,8,0],[7,10,8,10],[20,5,20,7],[20,8,20,10],[20,2,20,4],[7,1,8,9],[11,10,12,10],[11,1,12,8],[11,9,12,9],[18,8,18,10],[19,5,19,7],[19,8,19,10],[17,5,17,7],[17,8,17,10],[18,5,18,7]]}
[]
["Step 1～3 の操作により導入設備の電力使用量等が自動的に計算・表示されます。"]
[]
["Step\n 1","現在お使いのヒートポンプの電力使用量を入力してください。",null,null,null,null,null,null,null,null,"入力",67000]
[null,null,null,null,null,null,null,null,null,null,null,"kWh/年"]
["注1.複数台ある場合は、合計電力使用量を入力してください。"]
[]
[2,"導入予定のヒートポンプの電力使用量の推定値を入力してください。",null,null,null,null,null,null,null,null,"入力",{"$f":"'2-2 運転条件シート'!S40","v":""}]
[null,null,null,null,null,null,null,null,null,null,null,"kWh/年"]
["注2. 推定値は消費電力算出シートの建物用途別の計算結果が自動入力されています。"]
[]
[3,"Step 1と2の電力単価を入力してください。",null,null,null,null,null,null,null,null,"入力",25,null,{"$f":"IFERROR(VLOOKUP(L4,#REF!,2,FALSE),\"\")","v":""}]
[null,null,null,null,null,null,null,null,null,null,null,"円/kWh",null,{"$f":"IFERROR(VLOOKUP(#REF!,#REF!,2,FALSE),\"\")","v":""}]
[]
[]
[]
[]
[null,null,"項    目",null,null,"既存設備",null,null,"導入設備"]
[null,null,"真発熱量",null,null,{"$f":"'たたき台　5のヒートポンプ更新シートの裏'!H3","v":"3.6"},null,null,{"$f":"'たたき台　5のヒートポンプ更新シートの裏'!L3","v":{"$error":"#VALUE!"}}]
[null,null,"電力使用量\n(千kWh/年)",null,null,{"$f":"'たたき台　5のヒートポンプ更新シートの裏'!H4","v":67},null,null,{"$f":"'たたき台　5のヒートポンプ更新シートの裏'!L4","v":{"$error":"#VALUE!"}},null,null,null,null,"   "]
[null,null,"CO2排出量(t-CO2/年)",null,null,{"$f":"'たたき台　5のヒートポンプ更新シートの裏'!H5","v":29.077999999999999},null,null,{"$f":"'たたき台　5のヒートポンプ更新シートの裏'!L5","v":{"$error":"#VALUE!"}}]
[null,null,"CO2削減量(t-CO2/年)",null,null,null,null,null,{"$f":"'たたき台　5のヒートポンプ更新シートの裏'!L6","v":{"$error":"#VALUE!"}},null,null,"削減率\n(%)",{"$f":"F21-I21/F21","v":{"$error":"#VALUE!"}}]
[null,null,"エネルギー使用量(GJ/年)",null,null,{"$f":"'たたき台　5のヒートポンプ更新シートの裏'!H7","v":578.88},null,null,{"$f":"'たたき台　5のヒートポンプ更新シートの裏'!L7","v":{"$error":"#VALUE!"}},null,null,"省エネ率\n(%)",{"$f":"(F23-I23)/(F23/100)","v":{"$error":"#VALUE!"}}]
[null,null,"エネルギーコスト(千円/年)",null,null,{"$f":"'たたき台　5のヒートポンプ更新シートの裏'!H8","v":1675},null,null,{"$f":"'たたき台　5のヒートポンプ更新シートの裏'!L8","v":{"$error":"#VALUE!"}},null,null,null,null," "]

{"sheet":"たたき台　5のヒートポンプ更新シートの裏","index":9,"n_rows":13,"n_cols":13,"rows_kept":13,"cut":false,"hidden":true,"merged":[[12,0,12,1],[3,5,3,6],[4,5,4,6],[5,5,5,6],[6,5,6,6],[5,2,5,4],[6,2,6,4],[3,2,3,4],[4,2,4,4],[7,5,7,6],[6,9,6,10],[7,9,7,10],[1,2,1,4],[2,2,2,4],[7,2,7,4],[1,5,1,6],[2,5,2,6],[1,9,1,10],[2,9,2,10],[3,9,3,10],[4,9,4,10],[5,9,5,10]]}
[null,null,null,null,null,null,null,"表",null,null,null,"表"]
[null,null,"項    目",null,null,null,null,"既存設備",null,null,null,"導入設備"]
[null,null,"真発熱量",null,null,null,null,{"$f":"IF('たたき台　5 ヒートポンプ更新シート'!L4,\"3.6\",\"\")","v":"3.6"},null,null,null,{"$f":"IF('たたき台　5 ヒートポンプ更新シート'!L8,\"3.6\",\"\")","v":{"$error":"#VALUE!"}}]
[null,null,"電力使用量\n(千kWh/年)",null,null,{"$f":"'たたき台　5 ヒートポンプ更新シート'!L4","v":67000},null,{"$f":"F4/1000","v":67},null,{"$f":"'2-2 運転条件シート'!S40","v":""},null,{"$f":"'2-2 運転条件シート'!S40/1000","v":{"$error":"#VALUE!"}},"千kWh/年"]
[null,null,"CO2排出量(t-CO2/年)",null,null,{"$f":"F4*C12","v":29078},null,{"$f":"H4*C12","v":29.077999999999999},null,{"$f":"J4*C12","v":{"$error":"#VALUE!"}},null,{"$f":"L4*C12","v":{"$error":"#VALUE!"}},"t-CO2/年"]
[null,null,"CO2削減量(t-CO2/年)",null,null,null,null,null,null,{"$f":"F5-J5","v":{"$error":"#VALUE!"}},null,{"$f":"J6/1000","v":{"$error":"#VALUE!"}}]
[null,null,"エネルギー使用量(GJ/年)",null,null,{"$f":"F4*C13","v":578880},null,{"$f":"H4*C13","v":578.88},null,{"$f":"J4*C13","v":{"$error":"#VALUE!"}},null,{"$f":"L4*C13","v":{"$error":"#VALUE!"}},"GJ/年"]
[null,null,"エネルギーコスト(千円/年)",null,null,{"$f":"F4*B11","v":1675000},null,{"$f":"H4*B11","v":1675},null,{"$f":"J4*B11","v":{"$error":"#VALUE!"}},null,{"$f":"L4*B11","v":{"$error":"#VALUE!"}},"千円/年"]
[]
[]
["単価",{"$f":"'たたき台　5 ヒートポンプ更新シート'!L12","v":25},"円/kWh"]
["CO2排出係数",null,0.434]
["電力の一次エネルギー換算係数",null,8.64]

{"sheet":"燃料データ_新","index":10,"n_rows":46,"n_cols":11,"rows_kept":46,"cut":false,"hidden":true,"merged":[[33,6,34,6],[37,6,38,6],[40,6,41,6],[0,5,0,8],[18,6,19,6],[18,8,19,8],[22,6,23,6],[22,8,23,8],[30,6,31,6]]}
["◆燃料一覧表","(低)",null,null,null,"エネルギー単価"]
["A重油",36.729999999999997,"GJ/kL","kL/年","GJ/年",85,1,{"$f":"F2*G2","v":85},"千円/kL"]
["C重油",39.67,"GJ/kL","kL/年","GJ/年",68,1,{"$f":"F3*G3","v":68},"千円/kL"]
["灯油",34.270000000000003,"GJ/kL","kL/年","GJ/年",101,1,101,"千円/kL"]
["LPG(液)",46.44,"GJ/t","t/年","GJ/年",140,1,140,"千円/t"]
["LPG(ガス)",46.44,"GJ/t","千m3/年","GJ/年",140,2.1833999999999998,305.67599999999999,"千円/t"]
["LNG",49.84,"GJ/t","t/年","GJ/年",101,1,101,"千円/t"]
["都市ガス(Nm3)",40.630000000000003,"GJ/千Nm3","千Nm3/年","GJ/年",94,1,94,"千円/千Nm3"]
["都市ガス(m3)",40.630000000000003,"GJ/千m3","千m3/年","GJ/年",94,0.92910000000000004,87.335400000000007,"千円/千m3"]
["電気",3.6,"GJ/千kWh","千kWh/年","GJ/年",24,1,24,"千円/千kWh"]
["LPG",46.44,"GJ/t","t/年","GJ/年",140,1,140,"千円/t"]
["LNG",49.84,"GJ/t","t/年","GJ/年",101,1,101,"千円/t"]
["都市ガス",40.630000000000003,"GJ/千Nm3","千Nm3/年","GJ/年",94,1,94,"千円/千Nm3"]
["木質ペレット",12.57,"GJ/t","t/年","GJ/年",25,1,25,"千円/t"]
["【注★】既存と導入の燃料種を統合した表からVLOOKUPで値を返すように変更。"]
["（プルダウンリストの燃料名が既存と導入で表現違いあり。違いがあるとVLOOKUPで拾わないため燃料名重複させている）"]
[]
[]
["◆既存燃料使用量算定",null,null,null,null,null,"既存燃料使用量",null,"既存エネルギーコスト",{"$f":"IFERROR(VLOOKUP('3 効果算定シート'!E38,燃料データ_新!A2:H14,8,FALSE),\"\")","v":""},"円"]
["A重油",1,{"$f":"'3 効果算定シート'!$L$9","v":0},{"$f":"B20*C20","v":0},"kL/年",null,null,null,null,{"$f":"IFERROR(J19*G21,\"\")","v":""},"千円/年"]
["C重油",1,{"$f":"'3 効果算定シート'!$L$9","v":0},{"$f":"B21*C21","v":0},"kL/年","⇐単位",{"$f":"IFERROR(VLOOKUP('3 効果算定シート'!L4,燃料データ_新!A20:D28,4,FALSE),\"\")","v":""},null,"手入力","","千円/年"]
["灯油",1,{"$f":"'3 効果算定シート'!$L$9","v":0},0,"kL/年",null," "]
["LPG(液)",1,{"$f":"'3 効果算定シート'!$L$9","v":0},0,"t/年",null,"導入燃料使用量",null,"導入エネルギーコスト"," ","円"]
["LPG(ガス)",2.1833999999999998,{"$f":"'3 効果算定シート'!$L$9","v":0},0,"千m3/年",null,null,null,null,{"$f":"IFERROR(J23*G25,\"\")","v":""},"千円/年"]
["LNG",1,{"$f":"'3 効果算定シート'!$L$9","v":0},0,"t/年","⇐単位",{"$f":"IFERROR((G21*'3 効果算定シート'!E37*'3 効果算定シート'!E39)/('3 効果算定シート'!I37*'3 効果算定シート'!I39),\"\")","v":""},null,"手入力",null,"千円/年"]
["都市ガス(Nm3)",1,{"$f":"'3 効果算定シート'!$L$9","v":0},0,"千Nm3/年"]
["都市ガス(m3)",0.92910000000000004,{"$f":"'3 効果算定シート'!$L$9","v":0},0,"千m3/年"]
["電気",1,{"$f":"'3 効果算定シート'!$L$9","v":0},{"$f":"C28*B28","v":0},"千kWh/年"]
[]
["CO2排出量算定","a（高）",null,"b","c=a×ｂ","[t-CO2/GJ]"]
["A重油",38.9,"GJ/kL",7.0694087403598976E-2,{"$f":"B31*D31","v":2.75},null,"既存CO2排出量",{"$f":"IFERROR(VLOOKUP('3 効果算定シート'!E38,燃料データ_新!A31:E43,5,FALSE),\"\")","v":""},"→「3の効果算定シートの裏」のｚ"]
["C重油",41.78,"GJ/kL",7.4198180947821921E-2,3.1,null,null,{"$f":"IFERROR(H31*G21,\"\")","v":""},"t-co2/年"]
["灯油",36.49,"GJ/kL",6.8511921074266915E-2,2.5]
["LPG(液)",50.08,"GJ/t",5.9704472843450485E-2,2.99,null,"導入CO2排出量"]
["LPG(ガス)",50.08,"GJ/t",5.9704472843450485E-2,2.99,null,null,{"$f":"IFERROR(H34*G25,\"\")","v":""}]
["LNG",54.7,"GJ/t",5.1005484460694694E-2,2.79]
["都市ガス(Nm3)",45,"GJ/千Nm3",5.0444444444444445E-2,{"$f":"B37*D37","v":2.27},null,null,"A",null,"B"]
["都市ガス(m3)",45,"GJ/千m3",5.0444444444444445E-2,2.27,"2025-04-03","既存エネ使用量",{"$f":"IFERROR(VLOOKUP('3 効果算定シート'!E38,燃料データ_新!A31:E43,2,FALSE),\"\")","v":""},null,8.64,"既存で電気を選んだ時はB、それ以外はA"]
["電気",3.6,"GJ/千kWh",0.12166666666666666,{"$f":"B39*D39","v":0.438},"係数変更",null,{"$f":"IFERROR(H38*G21,\"\")","v":""},"GJ/年",{"$f":"G21*J38","v":{"$error":"#VALUE!"}},"算定シートの裏のD10にリンク"]
["LPG",50.08,"GJ/t",5.9704472843450485E-2,2.99]
["LNG",54.7,"GJ/t",5.1005484460694694E-2,2.79,null,"導入エネ使用量"]
["都市ガス",45,"GJ/千Nm3",5.0444444444444445E-2,2.27,null,null,{"$f":"IFERROR(H41*G25,\"\")","v":""}]
["木質ペレット",13.21,"GJ/t",0,0]
["【注★】と同様"]
["※電気の場合は1次エネルギー換算として"]
[null,8.64,"GJ/千kWh"]

{"sheet":"改訂日","index":11,"n_rows":5,"n_cols":4,"rows_kept":5,"cut":false,"hidden":true,"merged":[]}
["改訂日","Ver","担当","内容"]
["2025-01-29","1.0"]
["2025-02-19","1.1","大原","計算式の修正、排出係数等修正"]
["2025-03-28","1.1.1","大原","修正係数の調整、導入設備の平均効率計算修正"]
["2025-04-03","1.1.2","鈴木","電気のCO2排出係数を0.434→0.438に変更"]

{"sheet":"計算シート","index":12,"n_rows":111,"n_cols":88,"rows_kept":111,"cut":false,"hidden":true,"merged":[[99,27,99,28],[98,26,98,28],[90,66,90,68],[91,66,91,68],[92,66,92,68],[93,66,93,68],[109,24,109,25],[110,24,110,25],[109,27,109,28],[93,22,93,25],[94,22,94,25],[92,22,92,25],[98,22,98,25],[103,23,103,25],[103,30,103,31],[103,38,103,39],[91,20,94,21],[0,6,0,8],[1,6,1,8],[2,6,2,8],[3,6,3,8],[4,6,4,8],[5,6,5,8],[6,6,6,8],[7,6,7,8],[8,6,8,8],[75,9,75,10],[73,2,73,7],[74,2,74,7],[75,2,75,7],[74,13,74,14],[75,13,75,14],[75,16,75,17],[73,13,73,15],[73,20,73,22],[74,20,74,21],[75,20,75,21],[80,57,81,57],[80,59,81,59],[82,57,83,57],[82,58,83,58],[83,66,83,68],[85,30,85,31],[85,38,85,39],[80,55,81,56],[82,55,83,56],[84,55,85,56],[84,57,85,57],[80,58,81,58],[84,58,85,58],[82,59,83,59],[84,59,85,59],[80,61,83,62],[84,61,85,62],[82,66,82,68],[82,38,82,39],[82,82,82,84],[67,9,67,10],[67,16,67,17],[66,13,66,14],[67,13,67,14],[66,20,66,21],[67,20,67,21],[59,50,59,51],[66,83,66,84],[67,83,67,84],[67,58,67,59],[66,62,66,63],[67,62,67,63],[67,65,67,66],[66,69,66,70],[67,69,67,70],[59,36,59,37],[59,43,59,44],[59,71,59,72],[59,78,59,79],[67,23,67,24],[66,27,66,28],[67,27,67,28],[81,66,81,68],[59,85,59,86],[80,82,80,84],[66,2,66,7],[67,2,67,7],[67,72,67,73],[67,44,67,45],[66,48,66,49],[67,48,67,49],[67,51,67,52],[66,55,66,56],[67,55,67,56],[66,34,66,35],[67,34,67,35],[67,37,67,38],[66,41,66,42],[67,41,67,42],[80,74,80,76],[67,30,67,31],[80,66,80,68],[73,48,73,50],[74,48,74,49],[75,48,75,49],[75,51,75,52],[73,55,73,57],[81,82,81,84],[9,6,9,8],[6,1,6,2],[2,1,2,2],[1,1,1,2],[3,1,3,2],[4,1,4,2],[5,1,5,2],[11,11,12,11],[59,64,59,65],[16,0,16,1],[17,0,17,1],[18,0,18,1],[19,0,19,1],[21,0,21,1],[59,29,59,30],[20,0,20,1],[22,0,22,1],[75,34,75,35],[75,37,75,38],[73,41,73,43],[74,41,74,42],[75,41,75,42],[75,44,75,45],[83,82,83,84],[67,86,67,87],[11,3,12,3],[59,8,59,9],[59,15,59,16],[59,22,59,23],[59,57,59,58],[11,60,12,60],[11,67,12,67],[11,74,12,74],[11,81,12,81],[11,18,12,18],[11,25,12,25],[11,32,12,32],[11,39,12,39],[11,46,12,46],[11,53,12,53],[66,76,66,77],[67,76,67,77],[67,79,67,80],[83,74,83,76],[65,2,65,7],[81,74,81,76],[82,74,82,76],[75,23,75,24],[73,27,73,29],[74,27,74,28],[75,27,75,28],[75,30,75,31],[73,34,73,36],[74,34,74,35],[88,30,88,31],[74,55,74,56],[75,55,75,56],[88,38,88,39],[82,30,82,31],[73,76,73,78],[74,76,74,77],[75,76,75,77],[75,79,75,80],[73,83,73,85],[74,83,74,84],[75,83,75,84],[75,86,75,87],[75,58,75,59],[73,62,73,64],[74,62,74,63],[75,62,75,63],[75,65,75,66],[73,69,73,71],[74,69,74,70],[75,69,75,70],[75,72,75,73]]}
[null,null,null,"方式","焚上温度","入口水温","冷媒種類",null,null,null,-6,-5,-4,-3,-2,-1,0,1,2,3,4,5,6,7,8,9,10,11,12,13,14,15,16,17,18,19,20,21,22,23,24,25,26,27,28,29,30,31,32,33,34,35]
["季節(JRAIA)","外気温度と季節",null,"一過式",65,50,"R744",null,null,"α1",0.3,0.3,0.3,0.3,0.3,0.3,0.3,0.28000000000000003,0.28000000000000003,0.28000000000000003,0.28000000000000003,0.28000000000000003,0.28000000000000003,0.28000000000000003,0.28000000000000003,0.28000000000000003,0.28000000000000003,0.28000000000000003,0.27,0.27,0.27,0.27,0.27,0.27,0.27,0.27,0.27,0.27,0.22,0.22,0.22,0.22,0.22,0.22,0.22,0.22,0.22,0.22,0.22,0.22,0.22,0.22]
["夏期","21℃＜T1d",null,"一過式",65,50,"2元(R410A/R134a)",null,null,"α2",0.28999999999999998,0.28999999999999998,0.28999999999999998,0.28999999999999998,0.28999999999999998,0.28999999999999998,0.28999999999999998,0.22,0.22,0.22,0.22,0.22,0.22,0.25,0.25,0.25,0.25,0.25,0.22,0.22,0.22,0.22,0.22,0.22,0.22,0.22,0.22,0.22,0.2,0.2,0.2,0.2,0.2,0.2,0.2,0.2,0.2,0.2,0.2,0.2,0.2,0.2]
["中間期","11℃＜T1d≦21℃",null,"一過式",90,70,"R744",null,null,"α1",0.3,0.3,0.3,0.3,0.3,0.3,0.3,0.3,0.3,0.3,0.3,0.3,0.3,0.3,0.3,0.3,0.3,0.3,0.34,0.34,0.34,0.34,0.34,0.34,0.34,0.34,0.34,0.34,0.27,0.27,0.27,0.27,0.27,0.27,0.27,0.27,0.27,0.27,0.27,0.27,0.27,0.27]
["冬季標準","6℃＜T1d≦11℃",null,"一過式",90,70,"2元(R410A/R134a)",null,null,"α2",0.28000000000000003,0.28000000000000003,0.28000000000000003,0.28000000000000003,0.28000000000000003,0.28000000000000003,0.28000000000000003,0.26,0.26,0.26,0.26,0.26,0.26,0.25,0.25,0.25,0.25,0.25,0.24,0.24,0.24,0.24,0.24,0.24,0.24,0.24,0.24,0.24,0.25,0.25,0.25,0.25,0.25,0.25,0.25,0.25,0.25,0.25,0.25,0.25,0.25,0.25]
["着霜期","0℃＜T1d≦6℃",null,"循環式",60,45,"R410A",null,null,"ζ2",0.3,0.3,0.3,0.3,0.3,0.3,0.3,0.28999999999999998,0.28999999999999998,0.28999999999999998,0.28999999999999998,0.28999999999999998,0.28999999999999998,0.34,0.34,0.34,0.34,0.34,0.34,0.34,0.34,0.34,0.34,0.34,0.34,0.34,0.34,0.34,0.36,0.36,0.36,0.36,0.36,0.36,0.36,0.36,0.36,0.36,0.36,0.36,0.36,0.36]
["厳冬期","T1d≦0℃",null,"循環式",60,45,"2元(R410A/R134a)",null,null,"ζ1",0.35,0.35,0.35,0.35,0.35,0.35,0.35,0.35,0.35,0.35,0.35,0.35,0.35,0.38,0.38,0.38,0.38,0.38,0.34,0.34,0.34,0.34,0.34,0.34,0.34,0.34,0.34,0.34,0.28999999999999998,0.28999999999999998,0.28999999999999998,0.28999999999999998,0.28999999999999998,0.28999999999999998,0.28999999999999998,0.28999999999999998,0.28999999999999998,0.28999999999999998,0.28999999999999998,0.28999999999999998,0.28999999999999998,0.28999999999999998]
["θ","℃",null,"循環式",65,50,"2段(R454C)",null,null,"ε",0.38,0.38,0.38,0.38,0.38,0.38,0.38,0.4,0.4,0.4,0.4,0.4,0.4,0.39,0.39,0.39,0.39,0.39,0.35,0.35,0.35,0.35,0.35,0.35,0.35,0.35,0.35,0.35,0.34,0.34,0.34,0.34,0.34,0.34,0.34,0.34,0.34,0.34,0.34,0.34,0.34,0.34]
["循環式",55,"R410A","循環式",60,45,"R407C",null,null,"γ2",0.39,0.39,0.39,0.39,0.39,0.39,0.39,0.39,0.39,0.39,0.39,0.39,0.39,0.39,0.39,0.39,0.39,0.39,0.38,0.38,0.38,0.38,0.38,0.38,0.38,0.38,0.38,0.38,0.32,0.32,0.32,0.32,0.32,0.32,0.32,0.32,0.32,0.32,0.32,0.32,0.32,0.32]
["循環式",55,"2元(R410A/R134a)","保温加熱",90,70,"R744",null,null,"β",0.23,0.23,0.23,0.23,0.23,0.23,0.23,0.26,0.26,0.26,0.26,0.26,0.26,0.26,0.26,0.26,0.26,0.26,0.25,0.25,0.25,0.25,0.25,0.25,0.25,0.25,0.25,0.25,0.21,0.21,0.21,0.21,0.21,0.21,0.21,0.21,0.21,0.21,0.21,0.21,0.21,0.21]
["循環式",60,"2段(R454C)"]
["循環式",55,"R407C","4月","θ","η","q",null,null,null,null,"５月","θ","η","q",null,null,null,"６月","θ","η","q",null,null,null,"７月","θ","η","q",null,null,null,"８月","θ","η","q",null,null,null,"９月","θ","η","q",null,null,null,"10月","θ","η","q",null,null,null,"11月","θ","η","q",null,null,null,"12月","θ","η","q",null,null,null,"1月","θ","η","q",null,null,null,"2月","θ","η","q",null,null,null,"3月","θ","η","q"]
["保温加熱",60,"R744",null,{"$f":"IF(A18=\"一過式\",データ集②!D8,計算シート!A14)","v":{"$error":"#N/A"}},{"$f":"IFERROR(データ集!G5,\"\")","v":""},{"$f":"'2-2 運転条件シート'!AG11","v":0},null,null,null,null,null,{"$f":"IF(A18=\"一過式\",データ集②!E8,計算シート!A14)","v":{"$error":"#N/A"}},{"$f":"IFERROR(データ集!G6,\"\")","v":""},{"$f":"'2-2 運転条件シート'!AG12","v":0},null,null,null,null,{"$f":"IF(A18=\"一過式\",データ集②!F8,計算シート!A14)","v":{"$error":"#N/A"}},{"$f":"IFERROR(データ集!G7,\"\")","v":""},{"$f":"'2-2 運転条件シート'!AG13","v":0},null,null,null,null,{"$f":"IF(A18=\"一過式\",データ集②!G8,計算シート!A14)","v":{"$error":"#N/A"}},{"$f":"IFERROR(データ集!G8,\"\")","v":""},{"$f":"'2-2 運転条件シート'!AG14","v":0},null,null,null,null,{"$f":"IF(A18=\"一過式\",データ集②!H8,計算シート!A14)","v":{"$error":"#N/A"}},{"$f":"IFERROR(データ集!G9,\"\")","v":""},{"$f":"'2-2 運転条件シート'!AG15","v":0},null,null,null,null,{"$f":"IF(A18=\"一過式\",データ集②!I8,計算シート!A14)","v":{"$error":"#N/A"}},{"$f":"IFERROR(データ集!G10,\"\")","v":""},{"$f":"'2-2 運転条件シート'!AG16","v":0},null,null,null,null,{"$f":"IF(A18=\"一過式\",データ集②!J8,計算シート!A14)","v":{"$error":"#N/A"}},{"$f":"IFERROR(データ集!G11,\"\")","v":""},{"$f":"'2-2 運転条件シート'!AG17","v":0},null,null,null,null,{"$f":"IF(A18=\"一過式\",データ集②!K8,計算シート!A14)","v":{"$error":"#N/A"}},{"$f":"IFERROR(データ集!G12,\"\")","v":""},{"$f":"'2-2 運転条件シート'!AG18","v":0},null,null,null,null,{"$f":"IF(A18=\"一過式\",データ集②!L8,計算シート!A14)","v":{"$error":"#N/A"}},{"$f":"IFERROR(データ集!G13,\"\")","v":""},{"$f":"'2-2 運転条件シート'!AG19","v":0},null,null,null,null,{"$f":"IF(A18=\"一過式\",データ集②!M8,計算シート!A14)","v":{"$error":"#N/A"}},{"$f":"IFERROR(データ集!G14,\"\")","v":""},{"$f":"'2-2 運転条件シート'!AG20","v":0},null,null,null,null,{"$f":"IF(A18=\"一過式\",データ集②!N8,計算シート!A14)","v":{"$error":"#N/A"}},{"$f":"IFERROR(データ集!G15,\"\")","v":""},{"$f":"'2-2 運転条件シート'!AG21","v":0},null,null,null,null,{"$f":"IF(A18=\"一過式\",データ集②!O8,計算シート!A14)","v":{"$error":"#N/A"}},{"$f":"IFERROR(データ集!G16,\"\")","v":""},{"$f":"'2-2 運転条件シート'!AG22","v":0}]
[{"$f":"_xlfn.XLOOKUP(A18&A20,A9:A13&C9:C13,B9:B13)","v":{"$error":"#N/A"}},"←循環式のθ",null,null,"発生時間","修正係数","給湯理論","給湯効率","消費電力1","消費電力量\nΦ4","能力\nQ4","発生時間","修正係数","給湯理論","給湯効率","消費電力1","消費電力量\nΦ5","能力\nQ5","発生時間","修正係数","給湯理論","給湯効率","消費電力1","消費電力量\nΦ6","能力\nQ6","発生時間","修正係数","給湯理論","給湯効率","消費電力1","消費電力量\nΦ７","能力\nQ７","発生時間","修正係数","給湯理論","給湯効率","消費電力1","消費電力量\nΦ８","能力\nQ８","発生時間","修正係数","給湯理論","給湯効率","消費電力1","消費電力量\nΦ９","能力\nQ９","発生時間","修正係数","給湯理論","給湯効率","消費電力1","消費電力量\nΦ10","能力\nQ10","発生時間","修正係数","給湯理論","給湯効率","消費電力1","消費電力量\nΦ11","能力\nQ11","発生時間","修正係数","給湯理論","給湯効率","消費電力1","消費電力量\nΦ12","能力\nQ12","発生時間","修正係数","給湯理論","給湯効率","消費電力1","消費電力量\nΦ1","能力\nQ1","発生時間","修正係数","給湯理論","給湯効率","消費電力1","消費電力量\nΦ2","能力\nQ2","発生時間","修正係数","給湯理論","給湯効率","消費電力1","消費電力量\nΦ3","能力\nQ3"]
[null,null,null,"入口\n乾球温度","t",{"$f":"IFERROR(_xlfn.XLOOKUP($A$18&$A$19&$A$20,$D$2:$D$10&$E$2:$E$10&G2:$G$10,J$2:J$10),\"\")","v":""},"COP","COPe","p","P×η×t","ｑ\n\nt×η×q","t",{"$f":"IFERROR(_xlfn.XLOOKUP($A$18&$A$19&$A$20,$D$2:$D$10&$E$2:$E$10&G2:$G$10,J$2:J$10),\"\")","v":""},"COP","COPe","p","P×η×t","ｑ\n\nt×η×q","t",{"$f":"IFERROR(_xlfn.XLOOKUP($A$18&$A$19&$A$20,$D$2:$D$10&$E$2:$E$10&$G$2:$G$10,J$2:J$10),\"\")","v":""},"COP","COPe","p","P×η×t","ｑ\n\nt×η×q","t",{"$f":"IFERROR(_xlfn.XLOOKUP($A$18&$A$19&$A$20,$D$2:$D$10&$E$2:$E$10&$G$2:$G$10,J$2:J$10),\"\")","v":""},"COP","COPe","p","P×η×t","ｑ\n\nt×η×q","t",{"$f":"IFERROR(_xlfn.XLOOKUP($A$18&$A$19&$A$20,$D$2:$D$10&$E$2:$E$10&$G$2:$G$10,J$2:J$10),\"\")","v":""},"COP","COPe","p","P×η×t","ｑ\n\nt×η×q","t",{"$f":"IFERROR(_xlfn.XLOOKUP($A$18&$A$19&$A$20,$D$2:$D$10&$E$2:$E$10&$G$2:$G$10,J$2:J$10),\"\")","v":""},"COP","COPe","p","P×η×t","ｑ\n\nt×η×q","t",{"$f":"IFERROR(_xlfn.XLOOKUP($A$18&$A$19&$A$20,$D$2:$D$10&$E$2:$E$10&$G$2:$G$10,J$2:J$10),\"\")","v":""},"COP","COPe","p","P×η×t","ｑ\n\nt×η×q","t",{"$f":"IFERROR(_xlfn.XLOOKUP($A$18&$A$19&$A$20,$D$2:$D$10&$E$2:$E$10&$G$2:$G$10,J$2:J$10),\"\")","v":""},"COP","COPe","p","P×η×t","ｑ\n\nt×η×q","t",{"$f":"IFERROR(_xlfn.XLOOKUP($A$18&$A$19&$A$20,$D$2:$D$10&$E$2:$E$10&$G$2:$G$10,J$2:J$10),\"\")","v":""},"COP","COPe","p","P×η×t","ｑ\n\nt×η×q","t",{"$f":"IFERROR(_xlfn.XLOOKUP($A$18&$A$19&$A$20,$D$2:$D$10&$E$2:$E$10&$G$2:$G$10,J$2:J$10),\"\")","v":""},"COP","COPe","p","P×η×t","ｑ\n\nt×η×q","t",{"$f":"IFERROR(_xlfn.XLOOKUP($A$18&$A$19&$A$20,$D$2:$D$10&$E$2:$E$10&$G$2:$G$10,J$2:J$10),\"\")","v":""},"COP","COPe","p","P×η×t","ｑ\n\nt×η×q","t",{"$f":"IFERROR(_xlfn.XLOOKUP($A$18&$A$19&$A$20,$D$2:$D$10&$E$2:$E$10&$G$2:$G$10,J$2:J$10),\"\")","v":""},"COP","COPe","p","P×η×t","ｑ\n\nt×η×q"]
[null,null,null,"T1d [℃]","[h]","[-]","COPh(li1)","[-]","[kW]","[kWh]","［kWh]","[h]","[-]","COPh(li1)","[-]","[kW]","[kWh]","［kWh]","[h]","[-]","COPh(li1)","[-]","[kW]","[kWh]","［kWh]","[h]","[-]","COPh(li1)","[-]","[kW]","[kWh]","［kWh]","[h]","[-]","COPh(li1)","[-]","[kW]","[kWh]","［kWh]","[h]","[-]","COPh(li1)","[-]","[kW]","[kWh]","［kWh]","[h]","[-]","COPh(li1)","[-]","[kW]","[kWh]","［kWh]","[h]","[-]","COPh(li1)","[-]","[kW]","[kWh]","［kWh]","[h]","[-]","COPh(li1)","[-]","[kW]","[kWh]","［kWh]","[h]","[-]","COPh(li1)","[-]","[kW]","[kWh]","［kWh]","[h]","[-]","COPh(li1)","[-]","[kW]","[kWh]","［kWh]","[h]","[-]","COPh(li1)","[-]","[kW]","[kWh]","［kWh]"]
[{"$f":"'2-1 設備条件シート'!L10","v":""},null,null,-6,{"$f":"'2-2 運転条件シート'!D124","v":0},{"$f":"IFERROR(_xlfn.XLOOKUP($A$18&$A$19&$A$20,$D$2:$D$10&$E$2:$E$10&$G$2:$G$10,K$2:K$10),\"\")","v":""},{"$f":"IFERROR(ROUND(1/(1-((D17+273)*LN(($A$19+273)/($E$13+273)))/($A$19-$E$13)),1),\"\")","v":""},{"$f":"IFERROR(ROUND(F17*G17,1),\"\")","v":""},{"$f":"IFERROR($G$13/H17,\"\")","v":""},{"$f":"IFERROR($G$13/H17*E17*$F$13,\"\")","v":""},{"$f":"IFERROR($G$13*$F$13*E17,\"-\")","v":"-"},{"$f":"'2-2 運転条件シート'!D125","v":0},{"$f":"IFERROR(_xlfn.XLOOKUP($A$18&$A$19&$A$20,$D$2:$D$10&$E$2:$E$10&$G$2:$G$10,K$2:K$10),\"\")","v":""},{"$f":"IFERROR(ROUND(1/(1-((D17+273)*LN(($A$19+273)/($M$13+273)))/($A$19-$M$13)),1),\"\")","v":""},{"$f":"IFERROR(ROUND(M17*N17,1),\"\")","v":""},{"$f":"IFERROR($O$13/O17,\"\")","v":""},{"$f":"IFERROR($O$13/O17*L17*$N$13,\"\")","v":""},{"$f":"IFERROR($O$13*$N$13*L17,\"-\")","v":"-"},{"$f":"'2-2 運転条件シート'!D126","v":0},{"$f":"IFERROR(_xlfn.XLOOKUP($A$18&$A$19&$A$20,$D$2:$D$10&$E$2:$E$10&$G$2:$G$10,K$2:K$10),\"\")","v":""},{"$f":"IFERROR(ROUND(1/(1-((D17+273)*LN(($A$19+273)/($T$13+273)))/($A$19-$T$13)),1),\"\")","v":""},{"$f":"IFERROR(ROUND(T17*U17,1),\"\")","v":""},{"$f":"IFERROR($V$13/V17,\"\")","v":""},{"$f":"IFERROR($V$13/V17*S17*$U$13,\"\")","v":""},{"$f":"IFERROR($V$13*$U$13*S17,\"-\")","v":"-"},{"$f":"'2-2 運転条件シート'!D127","v":0},{"$f":"IFERROR(_xlfn.XLOOKUP($A$18&$A$19&$A$20,$D$2:$D$10&$E$2:$E$10&$G$2:$G$10,K$2:K$10),\"\")","v":""},{"$f":"IFERROR(ROUND(1/(1-((D17+273)*LN(($A$19+273)/($AA$13+273)))/($A$19-$AA$13)),1),\"\")","v":""},{"$f":"IFERROR(ROUND(AA17*AB17,1),\"\")","v":""},{"$f":"IFERROR($AC$13/AC17,\"\")","v":""},{"$f":"IFERROR($AC$13/AC17*Z17*$AB$13,\"\")","v":""},{"$f":"IFERROR($AC$13*$AB$13*Z17,\"-\")","v":"-"},{"$f":"'2-2 運転条件シート'!D128","v":0},{"$f":"IFERROR(_xlfn.XLOOKUP($A$18&$A$19&$A$20,$D$2:$D$10&$E$2:$E$10&$G$2:$G$10,K$2:K$10),\"\")","v":""},{"$f":"IFERROR(ROUND(1/(1-((D17+273)*LN(($A$19+273)/($AH$13+273)))/($A$19-$AH$13)),1),\"\")","v":""},{"$f":"IFERROR(ROUND(AH17*AI17,1),\"\")","v":""},{"$f":"IFERROR($AJ$13/AJ17,\"\")","v":""},{"$f":"IFERROR($AJ$13/AJ17*AG17*$AI$13,\"\")","v":""},{"$f":"IFERROR($AJ$13*$AI$13*AG17,\"-\")","v":"-"},{"$f":"'2-2 運転条件シート'!D129","v":0},{"$f":"IFERROR(_xlfn.XLOOKUP($A$18&$A$19&$A$20,$D$2:$D$10&$E$2:$E$10&$G$2:$G$10,K$2:K$10),\"\")","v":""},{"$f":"IFERROR(ROUND(1/(1-((D17+273)*LN(($A$19+273)/($AO$13+273)))/($A$19-$AO$13)),1),\"\")","v":""},{"$f":"IFERROR(ROUND(AO17*AP17,1),\"\")","v":""},{"$f":"IFERROR($AQ$13/AQ17,\"\")","v":""},{"$f":"IFERROR($AQ$13/AQ17*AN17*$AP$13,\"\")","v":""},{"$f":"IFERROR($AQ$13*$AP$13*AN17,\"-\")","v":"-"},{"$f":"'2-2 運転条件シート'!D130","v":0},{"$f":"IFERROR(_xlfn.XLOOKUP($A$18&$A$19&$A$20,$D$2:$D$10&$E$2:$E$10&$G$2:$G$10,K$2:K$10),\"\")","v":""},{"$f":"IFERROR(ROUND(1/(1-((D17+273)*LN(($A$19+273)/($AV$13+273)))/($A$19-$AV$13)),1),\"\")","v":""},{"$f":"IFERROR(ROUND(AV17*AW17,1),\"\")","v":""},{"$f":"IFERROR($AX$13/AX17,\"\")","v":""},{"$f":"IFERROR($AX$13/AX17*AU17*$AW$13,\"\")","v":""},{"$f":"IFERROR($AX$13*$AW$13*AU17,\"-\")","v":"-"},{"$f":"'2-2 運転条件シート'!D131","v":0},{"$f":"IFERROR(_xlfn.XLOOKUP($A$18&$A$19&$A$20,$D$2:$D$10&$E$2:$E$10&$G$2:$G$10,K$2:K$10),\"\")","v":""},{"$f":"IFERROR(ROUND(1/(1-((D17+273)*LN(($A$19+273)/($BC$13+273)))/($A$19-$BC$13)),1),\"\")","v":""},{"$f":"IFERROR(ROUND(BC17*BD17,1),\"\")","v":""},{"$f":"IFERROR($BE$13/BE17,\"\")","v":""},{"$f":"IFERROR($BE$13/BE17*BB17*$BD$13,\"\")","v":""},{"$f":"IFERROR($BE$13*$BD$13*BB17,\"-\")","v":"-"},{"$f":"'2-2 運転条件シート'!D132","v":0},{"$f":"IFERROR(_xlfn.XLOOKUP($A$18&$A$19&$A$20,$D$2:$D$10&$E$2:$E$10&$G$2:$G$10,K$2:K$10),\"\")","v":""},{"$f":"IFERROR(ROUND(1/(1-((D17+273)*LN(($A$19+273)/($BJ$13+273)))/($A$19-$BJ$13)),1),\"\")","v":""},{"$f":"IFERROR(ROUND(BJ17*BK17,1),\"\")","v":""},{"$f":"IFERROR($BL$13/BL17,\"\")","v":""},{"$f":"IFERROR($BL$13/BL17*BI17*$BK$13,\"\")","v":""},{"$f":"IFERROR($BL$13*$BK$13*BI17,\"-\")","v":"-"},{"$f":"'2-2 運転条件シート'!D133","v":0},{"$f":"IFERROR(_xlfn.XLOOKUP($A$18&$A$19&$A$20,$D$2:$D$10&$E$2:$E$10&$G$2:$G$10,K$2:K$10),\"\")","v":""},{"$f":"IFERROR(ROUND(1/(1-((D17+273)*LN(($A$19+273)/($BQ$13+273)))/($A$19-$BQ$13)),1),\"\")","v":""},{"$f":"IFERROR(ROUND(BQ17*BR17,1),\"\")","v":""},{"$f":"IFERROR($BS$13/BS17,\"\")","v":""},{"$f":"IFERROR($BS$13/BS17*BP17*$BR$13,\"\")","v":""},{"$f":"IFERROR($BS$13*$BR$13*BP17,\"-\")","v":"-"},{"$f":"'2-2 運転条件シート'!D134","v":0},{"$f":"IFERROR(_xlfn.XLOOKUP($A$18&$A$19&$A$20,$D$2:$D$10&$E$2:$E$10&$G$2:$G$10,K$2:K$10),\"\")","v":""},{"$f":"IFERROR(ROUND(1/(1-((D17+273)*LN(($A$19+273)/($BX$13+273)))/($A$19-$BX$13)),1),\"\")","v":""},{"$f":"IFERROR(ROUND(BX17*BY17,1),\"\")","v":""},{"$f":"IFERROR($BZ$13/BZ17,\"\")","v":""},{"$f":"IFERROR($BZ$13/BZ17*BW17*$BY$13,\"\")","v":""},{"$f":"IFERROR($BZ$13*$BY$13*BW17,\"-\")","v":"-"},{"$f":"'2-2 運転条件シート'!D135","v":0},{"$f":"IFERROR(_xlfn.XLOOKUP($A$18&$A$19&$A$20,$D$2:$D$10&$E$2:$E$10&$G$2:$G$10,K$2:K$10),\"\")","v":""},{"$f":"IFERROR(ROUND(1/(1-((D17+273)*LN(($A$19+273)/($CE$13+273)))/($A$19-$CE$13)),1),\"\")","v":""},{"$f":"IFERROR(ROUND(CE17*CF17,1),\"\")","v":""},{"$f":"IFERROR($CG$13/CG17,\"\")","v":""},{"$f":"IFERROR($CG$13/CG17*CD17*$CF$13,\"\")","v":""},{"$f":"IFERROR($CG$13*$CF$13*CD17,\"-\")","v":"-"}]
[{"$f":"'2-1 設備条件シート'!L14","v":0},null,null,-5,{"$f":"'2-2 運転条件シート'!E124","v":0},{"$f":"IFERROR(_xlfn.XLOOKUP($A$18&$A$19&$A$20,$D$2:$D$10&$E$2:$E$10&$G$2:$G$10,L$2:L$10),\"\")","v":""},{"$f":"IFERROR(ROUND(1/(1-((D18+273)*LN(($A$19+273)/($E$13+273)))/($A$19-$E$13)),1),\"\")","v":""},{"$f":"IFERROR(ROUND(F18*G18,1),\"\")","v":""},{"$f":"IFERROR($G$13/H18,\"\")","v":""},{"$f":"IFERROR($G$13/H18*E18*$F$13,\"\")","v":""},{"$f":"IFERROR($G$13*$F$13*E18,\"-\")","v":"-"},{"$f":"'2-2 運転条件シート'!E125","v":0},{"$f":"IFERROR(_xlfn.XLOOKUP($A$18&$A$19&$A$20,$D$2:$D$10&$E$2:$E$10&$G$2:$G$10,L$2:L$10),\"\")","v":""},"",{"$f":"IFERROR(ROUND(M18*N18,1),\"\")","v":""},{"$f":"IFERROR($O$13/O18,\"\")","v":""},{"$f":"IFERROR($O$13/O18*L18*$N$13,\"\")","v":""},{"$f":"IFERROR($O$13*$N$13*L18,\"-\")","v":"-"},{"$f":"'2-2 運転条件シート'!E126","v":0},{"$f":"IFERROR(_xlfn.XLOOKUP($A$18&$A$19&$A$20,$D$2:$D$10&$E$2:$E$10&$G$2:$G$10,L$2:L$10),\"\")","v":""},"",{"$f":"IFERROR(ROUND(T18*U18,1),\"\")","v":""},{"$f":"IFERROR($V$13/V18,\"\")","v":""},{"$f":"IFERROR($V$13/V18*S18*$U$13,\"\")","v":""},{"$f":"IFERROR($V$13*$U$13*S18,\"-\")","v":"-"},{"$f":"'2-2 運転条件シート'!E127","v":0},{"$f":"IFERROR(_xlfn.XLOOKUP($A$18&$A$19&$A$20,$D$2:$D$10&$E$2:$E$10&$G$2:$G$10,L$2:L$10),\"\")","v":""},"",{"$f":"IFERROR(ROUND(AA18*AB18,1),\"\")","v":""},{"$f":"IFERROR($AC$13/AC18,\"\")","v":""},{"$f":"IFERROR($AC$13/AC18*Z18*$AB$13,\"\")","v":""},{"$f":"IFERROR($AC$13*$AB$13*Z18,\"-\")","v":"-"},{"$f":"'2-2 運転条件シート'!E128","v":0},{"$f":"IFERROR(_xlfn.XLOOKUP($A$18&$A$19&$A$20,$D$2:$D$10&$E$2:$E$10&$G$2:$G$10,L$2:L$10),\"\")","v":""},"",{"$f":"IFERROR(ROUND(AH18*AI18,1),\"\")","v":""},{"$f":"IFERROR($AJ$13/AJ18,\"\")","v":""},{"$f":"IFERROR($AJ$13/AJ18*AG18*$AI$13,\"\")","v":""},{"$f":"IFERROR($AJ$13*$AI$13*AG18,\"-\")","v":"-"},{"$f":"'2-2 運転条件シート'!E129","v":0},{"$f":"IFERROR(_xlfn.XLOOKUP($A$18&$A$19&$A$20,$D$2:$D$10&$E$2:$E$10&$G$2:$G$10,L$2:L$10),\"\")","v":""},{"$f":"IFERROR(ROUND(1/(1-((D18+273)*LN(($A$19+273)/($AO$13+273)))/($A$19-$AO$13)),1),\"\")","v":""},{"$f":"IFERROR(ROUND(AO18*AP18,1),\"\")","v":""},{"$f":"IFERROR($AQ$13/AQ18,\"\")","v":""},{"$f":"IFERROR($AQ$13/AQ18*AN18*$AP$13,\"\")","v":""},{"$f":"IFERROR($AQ$13*$AP$13*AN18,\"-\")","v":"-"},{"$f":"'2-2 運転条件シート'!E130","v":0},{"$f":"IFERROR(_xlfn.XLOOKUP($A$18&$A$19&$A$20,$D$2:$D$10&$E$2:$E$10&$G$2:$G$10,L$2:L$10),\"\")","v":""},{"$f":"IFERROR(ROUND(1/(1-((D18+273)*LN(($A$19+273)/($AV$13+273)))/($A$19-$AV$13)),1),\"\")","v":""},{"$f":"IFERROR(ROUND(AV18*AW18,1),\"\")","v":""},{"$f":"IFERROR($AX$13/AX18,\"\")","v":""},{"$f":"IFERROR($AX$13/AX18*AU18*$AW$13,\"\")","v":""},{"$f":"IFERROR($AX$13*$AW$13*AU18,\"-\")","v":"-"},{"$f":"'2-2 運転条件シート'!E131","v":0},{"$f":"IFERROR(_xlfn.XLOOKUP($A$18&$A$19&$A$20,$D$2:$D$10&$E$2:$E$10&$G$2:$G$10,L$2:L$10),\"\")","v":""},"",{"$f":"IFERROR(ROUND(BC18*BD18,1),\"\")","v":""},{"$f":"IFERROR($BE$13/BE18,\"\")","v":""},{"$f":"IFERROR($BE$13/BE18*BB18*$BD$13,\"\")","v":""},{"$f":"IFERROR($BE$13*$BD$13*BB18,\"-\")","v":"-"},{"$f":"'2-2 運転条件シート'!E132","v":0},{"$f":"IFERROR(_xlfn.XLOOKUP($A$18&$A$19&$A$20,$D$2:$D$10&$E$2:$E$10&$G$2:$G$10,L$2:L$10),\"\")","v":""},"",{"$f":"IFERROR(ROUND(BJ18*BK18,1),\"\")","v":""},{"$f":"IFERROR($BL$13/BL18,\"\")","v":""},{"$f":"IFERROR($BL$13/BL18*BI18*$BK$13,\"\")","v":""},{"$f":"IFERROR($BL$13*$BK$13*BI18,\"-\")","v":"-"},{"$f":"'2-2 運転条件シート'!E133","v":0},{"$f":"IFERROR(_xlfn.XLOOKUP($A$18&$A$19&$A$20,$D$2:$D$10&$E$2:$E$10&$G$2:$G$10,L$2:L$10),\"\")","v":""},"",{"$f":"IFERROR(ROUND(BQ18*BR18,1),\"\")","v":""},{"$f":"IFERROR($BS$13/BS18,\"\")","v":""},{"$f":"IFERROR($BS$13/BS18*BP18*$BR$13,\"\")","v":""},{"$f":"IFERROR($BS$13*$BR$13*BP18,\"-\")","v":"-"},{"$f":"'2-2 運転条件シート'!E134","v":0},{"$f":"IFERROR(_xlfn.XLOOKUP($A$18&$A$19&$A$20,$D$2:$D$10&$E$2:$E$10&$G$2:$G$10,L$2:L$10),\"\")","v":""},"",{"$f":"IFERROR(ROUND(BX18*BY18,1),\"\")","v":""},{"$f":"IFERROR($BZ$13/BZ18,\"\")","v":""},{"$f":"IFERROR($BZ$13/BZ18*BW18*$BY$13,\"\")","v":""},{"$f":"IFERROR($BZ$13*$BY$13*BW18,\"-\")","v":"-"},{"$f":"'2-2 運転条件シート'!E135","v":0},{"$f":"IFERROR(_xlfn.XLOOKUP($A$18&$A$19&$A$20,$D$2:$D$10&$E$2:$E$10&$G$2:$G$10,L$2:L$10),\"\")","v":""},"",{"$f":"IFERROR(ROUND(CE18*CF18,1),\"\")","v":""},{"$f":"IFERROR($CG$13/CG18,\"\")","v":""},{"$f":"IFERROR($CG$13/CG18*CD18*$CF$13,\"\")","v":""},{"$f":"IFERROR($CG$13*$CF$13*CD18,\"-\")","v":"-"}]
[{"$f":"'2-2 運転条件シート'!AH11","v":0},null,"焚上温度",-4,{"$f":"'2-2 運転条件シート'!F124","v":0},{"$f":"IFERROR(_xlfn.XLOOKUP($A$18&$A$19&$A$20,$D$2:$D$10&$E$2:$E$10&$G$2:$G$10,M$2:M$10),\"\")","v":""},"","",{"$f":"IFERROR($G$13/H19,\"\")","v":""},"","-",{"$f":"'2-2 運転条件シート'!F125","v":0},{"$f":"IFERROR(_xlfn.XLOOKUP($A$18&$A$19&$A$20,$D$2:$D$10&$E$2:$E$10&$G$2:$G$10,M$2:M$10),\"\")","v":""},"","","","","-",{"$f":"'2-2 運転条件シート'!F126","v":0},{"$f":"IFERROR(_xlfn.XLOOKUP($A$18&$A$19&$A$20,$D$2:$D$10&$E$2:$E$10&$G$2:$G$10,M$2:M$10),\"\")","v":""},"",{"$f":"IFERROR(ROUND(T19*U19,1),\"\")","v":""},"","","-",{"$f":"'2-2 運転条件シート'!F127","v":0},{"$f":"IFERROR(_xlfn.XLOOKUP($A$18&$A$19&$A$20,$D$2:$D$10&$E$2:$E$10&$G$2:$G$10,M$2:M$10),\"\")","v":""},"","","","","-",{"$f":"'2-2 運転条件シート'!F128","v":0},{"$f":"IFERROR(_xlfn.XLOOKUP($A$18&$A$19&$A$20,$D$2:$D$10&$E$2:$E$10&$G$2:$G$10,M$2:M$10),\"\")","v":""},"",{"$f":"IFERROR(ROUND(AH19*AI19,1),\"\")","v":""},"","","-",{"$f":"'2-2 運転条件シート'!F129","v":0},{"$f":"IFERROR(_xlfn.XLOOKUP($A$18&$A$19&$A$20,$D$2:$D$10&$E$2:$E$10&$G$2:$G$10,M$2:M$10),\"\")","v":""},"",{"$f":"IFERROR(ROUND(AO19*AP19,1),\"\")","v":""},"","","-",{"$f":"'2-2 運転条件シート'!F130","v":0},{"$f":"IFERROR(_xlfn.XLOOKUP($A$18&$A$19&$A$20,$D$2:$D$10&$E$2:$E$10&$G$2:$G$10,M$2:M$10),\"\")","v":""},{"$f":"IFERROR(ROUND(1/(1-((D19+273)*LN(($A$19+273)/($AV$13+273)))/($A$19-$AV$13)),1),\"\")","v":""},"","","","-",{"$f":"'2-2 運転条件シート'!F131","v":0},{"$f":"IFERROR(_xlfn.XLOOKUP($A$18&$A$19&$A$20,$D$2:$D$10&$E$2:$E$10&$G$2:$G$10,M$2:M$10),\"\")","v":""},"","","","","-",{"$f":"'2-2 運転条件シート'!F132","v":0},{"$f":"IFERROR(_xlfn.XLOOKUP($A$18&$A$19&$A$20,$D$2:$D$10&$E$2:$E$10&$G$2:$G$10,M$2:M$10),\"\")","v":""},"","","","","-",{"$f":"'2-2 運転条件シート'!F133","v":0},{"$f":"IFERROR(_xlfn.XLOOKUP($A$18&$A$19&$A$20,$D$2:$D$10&$E$2:$E$10&$G$2:$G$10,M$2:M$10),\"\")","v":""},"","","","","-",{"$f":"'2-2 運転条件シート'!F134","v":0},{"$f":"IFERROR(_xlfn.XLOOKUP($A$18&$A$19&$A$20,$D$2:$D$10&$E$2:$E$10&$G$2:$G$10,M$2:M$10),\"\")","v":""},"","","","","-",{"$f":"'2-2 運転条件シート'!F135","v":0},{"$f":"IFERROR(_xlfn.XLOOKUP($A$18&$A$19&$A$20,$D$2:$D$10&$E$2:$E$10&$G$2:$G$10,M$2:M$10),\"\")","v":""},"","","","","-"]
[{"$f":"'2-1 設備条件シート'!L16","v":0},null,null,-3,{"$f":"'2-2 運転条件シート'!G124","v":0},{"$f":"IFERROR(_xlfn.XLOOKUP($A$18&$A$19&$A$20,$D$2:$D$10&$E$2:$E$10&$G$2:$G$10,N$2:N$10),\"\")","v":""},"","","","","-",{"$f":"'2-2 運転条件シート'!G125","v":0},{"$f":"IFERROR(_xlfn.XLOOKUP($A$18&$A$19&$A$20,$D$2:$D$10&$E$2:$E$10&$G$2:$G$10,N$2:N$10),\"\")","v":""},"","","","","-",{"$f":"'2-2 運転条件シート'!G126","v":0},{"$f":"IFERROR(_xlfn.XLOOKUP($A$18&$A$19&$A$20,$D$2:$D$10&$E$2:$E$10&$G$2:$G$10,N$2:N$10),\"\")","v":""},"",{"$f":"IFERROR(ROUND(T20*U20,1),\"\")","v":""},"","","-",{"$f":"'2-2 運転条件シート'!G127","v":0},{"$f":"IFERROR(_xlfn.XLOOKUP($A$18&$A$19&$A$20,$D$2:$D$10&$E$2:$E$10&$G$2:$G$10,N$2:N$10),\"\")","v":""},"","","","","-",{"$f":"'2-2 運転条件シート'!G128","v":0},{"$f":"IFERROR(_xlfn.XLOOKUP($A$18&$A$19&$A$20,$D$2:$D$10&$E$2:$E$10&$G$2:$G$10,N$2:N$10),\"\")","v":""},"","","","","-",{"$f":"'2-2 運転条件シート'!G129","v":0},{"$f":"IFERROR(_xlfn.XLOOKUP($A$18&$A$19&$A$20,$D$2:$D$10&$E$2:$E$10&$G$2:$G$10,N$2:N$10),\"\")","v":""},"","","","","-",{"$f":"'2-2 運転条件シート'!G130","v":0},{"$f":"IFERROR(_xlfn.XLOOKUP($A$18&$A$19&$A$20,$D$2:$D$10&$E$2:$E$10&$G$2:$G$10,N$2:N$10),\"\")","v":""},"","","","","-",{"$f":"'2-2 運転条件シート'!G131","v":0},{"$f":"IFERROR(_xlfn.XLOOKUP($A$18&$A$19&$A$20,$D$2:$D$10&$E$2:$E$10&$G$2:$G$10,N$2:N$10),\"\")","v":""},"","","","","-",{"$f":"'2-2 運転条件シート'!G132","v":0},{"$f":"IFERROR(_xlfn.XLOOKUP($A$18&$A$19&$A$20,$D$2:$D$10&$E$2:$E$10&$G$2:$G$10,N$2:N$10),\"\")","v":""},"","","","","-",{"$f":"'2-2 運転条件シート'!G133","v":0},{"$f":"IFERROR(_xlfn.XLOOKUP($A$18&$A$19&$A$20,$D$2:$D$10&$E$2:$E$10&$G$2:$G$10,N$2:N$10),\"\")","v":""},"","","","","-",{"$f":"'2-2 運転条件シート'!G134","v":0},{"$f":"IFERROR(_xlfn.XLOOKUP($A$18&$A$19&$A$20,$D$2:$D$10&$E$2:$E$10&$G$2:$G$10,N$2:N$10),\"\")","v":""},"","","","","-",{"$f":"'2-2 運転条件シート'!G135","v":0},{"$f":"IFERROR(_xlfn.XLOOKUP($A$18&$A$19&$A$20,$D$2:$D$10&$E$2:$E$10&$G$2:$G$10,N$2:N$10),\"\")","v":""},"","","","","-"]
[{"$f":"IFERROR(_xlfn.XLOOKUP(A18&A19&A20&F15,D2:D10&E2:E10&G2:G10&J2:J10,F2:F10),\"-\")","v":"-"},null,"ピーク終了時の貯湯温度",-2,{"$f":"'2-2 運転条件シート'!H124","v":0},{"$f":"IFERROR(_xlfn.XLOOKUP($A$18&$A$19&$A$20,$D$2:$D$10&$E$2:$E$10&$G$2:$G$10,O$2:O$10),\"\")","v":""},"","","","","-",{"$f":"'2-2 運転条件シート'!H125","v":0},{"$f":"IFERROR(_xlfn.XLOOKUP($A$18&$A$19&$A$20,$D$2:$D$10&$E$2:$E$10&$G$2:$G$10,O$2:O$10),\"\")","v":""},"",{"$f":"IFERROR(ROUND(M21*N21,1),\"\")","v":""},"","","-",{"$f":"'2-2 運転条件シート'!H126","v":0},{"$f":"IFERROR(_xlfn.XLOOKUP($A$18&$A$19&$A$20,$D$2:$D$10&$E$2:$E$10&$G$2:$G$10,O$2:O$10),\"\")","v":""},"","","","","-",{"$f":"'2-2 運転条件シート'!H127","v":0},{"$f":"IFERROR(_xlfn.XLOOKUP($A$18&$A$19&$A$20,$D$2:$D$10&$E$2:$E$10&$G$2:$G$10,O$2:O$10),\"\")","v":""},"","","","","-",{"$f":"'2-2 運転条件シート'!H128","v":0},{"$f":"IFERROR(_xlfn.XLOOKUP($A$18&$A$19&$A$20,$D$2:$D$10&$E$2:$E$10&$G$2:$G$10,O$2:O$10),\"\")","v":""},"","","","","-",{"$f":"'2-2 運転条件シート'!H129","v":0},{"$f":"IFERROR(_xlfn.XLOOKUP($A$18&$A$19&$A$20,$D$2:$D$10&$E$2:$E$10&$G$2:$G$10,O$2:O$10),\"\")","v":""},{"$f":"IFERROR(ROUND(1/(1-((D21+273)*LN(($A$19+273)/($AO$13+273)))/($A$19-$AO$13)),1),\"\")","v":""},"","","","-",{"$f":"'2-2 運転条件シート'!H130","v":0},{"$f":"IFERROR(_xlfn.XLOOKUP($A$18&$A$19&$A$20,$D$2:$D$10&$E$2:$E$10&$G$2:$G$10,O$2:O$10),\"\")","v":""},"","",{"$f":"IFERROR($AX$13/AX21,\"\")","v":""},"","-",{"$f":"'2-2 運転条件シート'!H131","v":0},{"$f":"IFERROR(_xlfn.XLOOKUP($A$18&$A$19&$A$20,$D$2:$D$10&$E$2:$E$10&$G$2:$G$10,O$2:O$10),\"\")","v":""},"","","","","-",{"$f":"'2-2 運転条件シート'!H132","v":0},{"$f":"IFERROR(_xlfn.XLOOKUP($A$18&$A$19&$A$20,$D$2:$D$10&$E$2:$E$10&$G$2:$G$10,O$2:O$10),\"\")","v":""},"","",{"$f":"IFERROR($BL$13/BL21,\"\")","v":""},"","-",{"$f":"'2-2 運転条件シート'!H133","v":0},{"$f":"IFERROR(_xlfn.XLOOKUP($A$18&$A$19&$A$20,$D$2:$D$10&$E$2:$E$10&$G$2:$G$10,O$2:O$10),\"\")","v":""},"","","","","-",{"$f":"'2-2 運転条件シート'!H134","v":0},{"$f":"IFERROR(_xlfn.XLOOKUP($A$18&$A$19&$A$20,$D$2:$D$10&$E$2:$E$10&$G$2:$G$10,O$2:O$10),\"\")","v":""},"","","","","-",{"$f":"'2-2 運転条件シート'!H135","v":0},{"$f":"IFERROR(_xlfn.XLOOKUP($A$18&$A$19&$A$20,$D$2:$D$10&$E$2:$E$10&$G$2:$G$10,O$2:O$10),\"\")","v":""},"","","","","-"]
[{"$f":"'2-1 設備条件シート'!L12","v":0},null,null,-1,{"$f":"'2-2 運転条件シート'!I124","v":0},{"$f":"IFERROR(_xlfn.XLOOKUP($A$18&$A$19&$A$20,$D$2:$D$10&$E$2:$E$10&$G$2:$G$10,P$2:P$10),\"\")","v":""},"","","","","-",{"$f":"'2-2 運転条件シート'!I125","v":0},{"$f":"IFERROR(_xlfn.XLOOKUP($A$18&$A$19&$A$20,$D$2:$D$10&$E$2:$E$10&$G$2:$G$10,P$2:P$10),\"\")","v":""},"",{"$f":"IFERROR(ROUND(M22*N22,1),\"\")","v":""},"","","-",{"$f":"'2-2 運転条件シート'!I126","v":0},{"$f":"IFERROR(_xlfn.XLOOKUP($A$18&$A$19&$A$20,$D$2:$D$10&$E$2:$E$10&$G$2:$G$10,P$2:P$10),\"\")","v":""},"","","","","-",{"$f":"'2-2 運転条件シート'!I127","v":0},{"$f":"IFERROR(_xlfn.XLOOKUP($A$18&$A$19&$A$20,$D$2:$D$10&$E$2:$E$10&$G$2:$G$10,P$2:P$10),\"\")","v":""},"","","","","-",{"$f":"'2-2 運転条件シート'!I128","v":0},{"$f":"IFERROR(_xlfn.XLOOKUP($A$18&$A$19&$A$20,$D$2:$D$10&$E$2:$E$10&$G$2:$G$10,P$2:P$10),\"\")","v":""},"","","","","-",{"$f":"'2-2 運転条件シート'!I129","v":0},{"$f":"IFERROR(_xlfn.XLOOKUP($A$18&$A$19&$A$20,$D$2:$D$10&$E$2:$E$10&$G$2:$G$10,P$2:P$10),\"\")","v":""},"","","","","-",{"$f":"'2-2 運転条件シート'!I130","v":0},{"$f":"IFERROR(_xlfn.XLOOKUP($A$18&$A$19&$A$20,$D$2:$D$10&$E$2:$E$10&$G$2:$G$10,P$2:P$10),\"\")","v":""},"","","","","-",{"$f":"'2-2 運転条件シート'!I131","v":0},{"$f":"IFERROR(_xlfn.XLOOKUP($A$18&$A$19&$A$20,$D$2:$D$10&$E$2:$E$10&$G$2:$G$10,P$2:P$10),\"\")","v":""},"","","","","-",{"$f":"'2-2 運転条件シート'!I132","v":0},{"$f":"IFERROR(_xlfn.XLOOKUP($A$18&$A$19&$A$20,$D$2:$D$10&$E$2:$E$10&$G$2:$G$10,P$2:P$10),\"\")","v":""},"","","","","-",{"$f":"'2-2 運転条件シート'!I133","v":0},{"$f":"IFERROR(_xlfn.XLOOKUP($A$18&$A$19&$A$20,$D$2:$D$10&$E$2:$E$10&$G$2:$G$10,P$2:P$10),\"\")","v":""},"","","","","-",{"$f":"'2-2 運転条件シート'!I134","v":0},{"$f":"IFERROR(_xlfn.XLOOKUP($A$18&$A$19&$A$20,$D$2:$D$10&$E$2:$E$10&$G$2:$G$10,P$2:P$10),\"\")","v":""},"","","","","-",{"$f":"'2-2 運転条件シート'!I135","v":0},{"$f":"IFERROR(_xlfn.XLOOKUP($A$18&$A$19&$A$20,$D$2:$D$10&$E$2:$E$10&$G$2:$G$10,P$2:P$10),\"\")","v":""},"","","","","-"]
[{"$f":"データ集②!M8","v":""},null,"各地域の1月入水温度",0,{"$f":"'2-2 運転条件シート'!J124","v":0},{"$f":"IFERROR(_xlfn.XLOOKUP($A$18&$A$19&$A$20,$D$2:$D$10&$E$2:$E$10&$G$2:$G$10,Q$2:Q$10),\"\")","v":""},"","","","","-",{"$f":"'2-2 運転条件シート'!J125","v":0},{"$f":"IFERROR(_xlfn.XLOOKUP($A$18&$A$19&$A$20,$D$2:$D$10&$E$2:$E$10&$G$2:$G$10,Q$2:Q$10),\"\")","v":""},"","","","","-",{"$f":"'2-2 運転条件シート'!J126","v":0},{"$f":"IFERROR(_xlfn.XLOOKUP($A$18&$A$19&$A$20,$D$2:$D$10&$E$2:$E$10&$G$2:$G$10,Q$2:Q$10),\"\")","v":""},"","","","","-",{"$f":"'2-2 運転条件シート'!J127","v":0},{"$f":"IFERROR(_xlfn.XLOOKUP($A$18&$A$19&$A$20,$D$2:$D$10&$E$2:$E$10&$G$2:$G$10,Q$2:Q$10),\"\")","v":""},"","","","","-",{"$f":"'2-2 運転条件シート'!J128","v":0},{"$f":"IFERROR(_xlfn.XLOOKUP($A$18&$A$19&$A$20,$D$2:$D$10&$E$2:$E$10&$G$2:$G$10,Q$2:Q$10),\"\")","v":""},"","","","","-",{"$f":"'2-2 運転条件シート'!J129","v":0},{"$f":"IFERROR(_xlfn.XLOOKUP($A$18&$A$19&$A$20,$D$2:$D$10&$E$2:$E$10&$G$2:$G$10,Q$2:Q$10),\"\")","v":""},"","","","","-",{"$f":"'2-2 運転条件シート'!J130","v":0},{"$f":"IFERROR(_xlfn.XLOOKUP($A$18&$A$19&$A$20,$D$2:$D$10&$E$2:$E$10&$G$2:$G$10,Q$2:Q$10),\"\")","v":""},"","","","","-",{"$f":"'2-2 運転条件シート'!J131","v":0},{"$f":"IFERROR(_xlfn.XLOOKUP($A$18&$A$19&$A$20,$D$2:$D$10&$E$2:$E$10&$G$2:$G$10,Q$2:Q$10),\"\")","v":""},"","","","","-",{"$f":"'2-2 運転条件シート'!J132","v":0},{"$f":"IFERROR(_xlfn.XLOOKUP($A$18&$A$19&$A$20,$D$2:$D$10&$E$2:$E$10&$G$2:$G$10,Q$2:Q$10),\"\")","v":""},"","","","","-",{"$f":"'2-2 運転条件シート'!J133","v":0},{"$f":"IFERROR(_xlfn.XLOOKUP($A$18&$A$19&$A$20,$D$2:$D$10&$E$2:$E$10&$G$2:$G$10,Q$2:Q$10),\"\")","v":""},"","","","","-",{"$f":"'2-2 運転条件シート'!J134","v":0},{"$f":"IFERROR(_xlfn.XLOOKUP($A$18&$A$19&$A$20,$D$2:$D$10&$E$2:$E$10&$G$2:$G$10,Q$2:Q$10),\"\")","v":""},"","","","","-",{"$f":"'2-2 運転条件シート'!J135","v":0},{"$f":"IFERROR(_xlfn.XLOOKUP($A$18&$A$19&$A$20,$D$2:$D$10&$E$2:$E$10&$G$2:$G$10,Q$2:Q$10),\"\")","v":""},"","","","","-"]
[null,null,null,1,{"$f":"'2-2 運転条件シート'!K124","v":0},{"$f":"IFERROR(_xlfn.XLOOKUP($A$18&$A$19&$A$20,$D$2:$D$10&$E$2:$E$10&$G$2:$G$10,R$2:R$10),\"\")","v":""},"","","","","-",{"$f":"'2-2 運転条件シート'!K125","v":0},{"$f":"IFERROR(_xlfn.XLOOKUP($A$18&$A$19&$A$20,$D$2:$D$10&$E$2:$E$10&$G$2:$G$10,R$2:R$10),\"\")","v":""},"",{"$f":"IFERROR(ROUND(M24*N24,1),\"\")","v":""},"","","-",{"$f":"'2-2 運転条件シート'!K126","v":0},{"$f":"IFERROR(_xlfn.XLOOKUP($A$18&$A$19&$A$20,$D$2:$D$10&$E$2:$E$10&$G$2:$G$10,R$2:R$10),\"\")","v":""},"","","","","-",{"$f":"'2-2 運転条件シート'!K127","v":0},{"$f":"IFERROR(_xlfn.XLOOKUP($A$18&$A$19&$A$20,$D$2:$D$10&$E$2:$E$10&$G$2:$G$10,R$2:R$10),\"\")","v":""},"","","","","-",{"$f":"'2-2 運転条件シート'!K128","v":0},{"$f":"IFERROR(_xlfn.XLOOKUP($A$18&$A$19&$A$20,$D$2:$D$10&$E$2:$E$10&$G$2:$G$10,R$2:R$10),\"\")","v":""},"","","","","-",{"$f":"'2-2 運転条件シート'!K129","v":0},{"$f":"IFERROR(_xlfn.XLOOKUP($A$18&$A$19&$A$20,$D$2:$D$10&$E$2:$E$10&$G$2:$G$10,R$2:R$10),\"\")","v":""},"","","","","-",{"$f":"'2-2 運転条件シート'!K130","v":0},{"$f":"IFERROR(_xlfn.XLOOKUP($A$18&$A$19&$A$20,$D$2:$D$10&$E$2:$E$10&$G$2:$G$10,R$2:R$10),\"\")","v":""},"","","","","-",{"$f":"'2-2 運転条件シート'!K131","v":0},{"$f":"IFERROR(_xlfn.XLOOKUP($A$18&$A$19&$A$20,$D$2:$D$10&$E$2:$E$10&$G$2:$G$10,R$2:R$10),\"\")","v":""},"","","","","-",{"$f":"'2-2 運転条件シート'!K132","v":0},{"$f":"IFERROR(_xlfn.XLOOKUP($A$18&$A$19&$A$20,$D$2:$D$10&$E$2:$E$10&$G$2:$G$10,R$2:R$10),\"\")","v":""},"","","","","-",{"$f":"'2-2 運転条件シート'!K133","v":0},{"$f":"IFERROR(_xlfn.XLOOKUP($A$18&$A$19&$A$20,$D$2:$D$10&$E$2:$E$10&$G$2:$G$10,R$2:R$10),\"\")","v":""},"","","","","-",{"$f":"'2-2 運転条件シート'!K134","v":0},{"$f":"IFERROR(_xlfn.XLOOKUP($A$18&$A$19&$A$20,$D$2:$D$10&$E$2:$E$10&$G$2:$G$10,R$2:R$10),\"\")","v":""},"","","","","-",{"$f":"'2-2 運転条件シート'!K135","v":0},{"$f":"IFERROR(_xlfn.XLOOKUP($A$18&$A$19&$A$20,$D$2:$D$10&$E$2:$E$10&$G$2:$G$10,R$2:R$10),\"\")","v":""},"","","","","-"]
[null,null,null,2,{"$f":"'2-2 運転条件シート'!L124","v":0},{"$f":"IFERROR(_xlfn.XLOOKUP($A$18&$A$19&$A$20,$D$2:$D$10&$E$2:$E$10&$G$2:$G$10,S$2:S$10),\"\")","v":""},"","","","","-",{"$f":"'2-2 運転条件シート'!L125","v":0},{"$f":"IFERROR(_xlfn.XLOOKUP($A$18&$A$19&$A$20,$D$2:$D$10&$E$2:$E$10&$G$2:$G$10,S$2:S$10),\"\")","v":""},"",{"$f":"IFERROR(ROUND(M25*N25,1),\"\")","v":""},"","","-",{"$f":"'2-2 運転条件シート'!L126","v":0},{"$f":"IFERROR(_xlfn.XLOOKUP($A$18&$A$19&$A$20,$D$2:$D$10&$E$2:$E$10&$G$2:$G$10,S$2:S$10),\"\")","v":""},"","","","","-",{"$f":"'2-2 運転条件シート'!L127","v":0},{"$f":"IFERROR(_xlfn.XLOOKUP($A$18&$A$19&$A$20,$D$2:$D$10&$E$2:$E$10&$G$2:$G$10,S$2:S$10),\"\")","v":""},"","","","","-",{"$f":"'2-2 運転条件シート'!L128","v":0},{"$f":"IFERROR(_xlfn.XLOOKUP($A$18&$A$19&$A$20,$D$2:$D$10&$E$2:$E$10&$G$2:$G$10,S$2:S$10),\"\")","v":""},"","","","","-",{"$f":"'2-2 運転条件シート'!L129","v":0},{"$f":"IFERROR(_xlfn.XLOOKUP($A$18&$A$19&$A$20,$D$2:$D$10&$E$2:$E$10&$G$2:$G$10,S$2:S$10),\"\")","v":""},"","","","","-",{"$f":"'2-2 運転条件シート'!L130","v":0},{"$f":"IFERROR(_xlfn.XLOOKUP($A$18&$A$19&$A$20,$D$2:$D$10&$E$2:$E$10&$G$2:$G$10,S$2:S$10),\"\")","v":""},"","","","","-",{"$f":"'2-2 運転条件シート'!L131","v":0},{"$f":"IFERROR(_xlfn.XLOOKUP($A$18&$A$19&$A$20,$D$2:$D$10&$E$2:$E$10&$G$2:$G$10,S$2:S$10),\"\")","v":""},"","","","","-",{"$f":"'2-2 運転条件シート'!L132","v":0},{"$f":"IFERROR(_xlfn.XLOOKUP($A$18&$A$19&$A$20,$D$2:$D$10&$E$2:$E$10&$G$2:$G$10,S$2:S$10),\"\")","v":""},"","","","","-",{"$f":"'2-2 運転条件シート'!L133","v":0},{"$f":"IFERROR(_xlfn.XLOOKUP($A$18&$A$19&$A$20,$D$2:$D$10&$E$2:$E$10&$G$2:$G$10,S$2:S$10),\"\")","v":""},"","","","","-",{"$f":"'2-2 運転条件シート'!L134","v":0},{"$f":"IFERROR(_xlfn.XLOOKUP($A$18&$A$19&$A$20,$D$2:$D$10&$E$2:$E$10&$G$2:$G$10,S$2:S$10),\"\")","v":""},"","","","","-",{"$f":"'2-2 運転条件シート'!L135","v":0},{"$f":"IFERROR(_xlfn.XLOOKUP($A$18&$A$19&$A$20,$D$2:$D$10&$E$2:$E$10&$G$2:$G$10,S$2:S$10),\"\")","v":""},"","","","","-"]
[null,null,null,3,{"$f":"'2-2 運転条件シート'!M124","v":0},{"$f":"IFERROR(_xlfn.XLOOKUP($A$18&$A$19&$A$20,$D$2:$D$10&$E$2:$E$10&$G$2:$G$10,T$2:T$10),\"\")","v":""},"","","","","-",{"$f":"'2-2 運転条件シート'!M125","v":0},{"$f":"IFERROR(_xlfn.XLOOKUP($A$18&$A$19&$A$20,$D$2:$D$10&$E$2:$E$10&$G$2:$G$10,T$2:T$10),\"\")","v":""},"",{"$f":"IFERROR(ROUND(M26*N26,1),\"\")","v":""},"","","-",{"$f":"'2-2 運転条件シート'!M126","v":0},{"$f":"IFERROR(_xlfn.XLOOKUP($A$18&$A$19&$A$20,$D$2:$D$10&$E$2:$E$10&$G$2:$G$10,T$2:T$10),\"\")","v":""},"","","","","-",{"$f":"'2-2 運転条件シート'!M127","v":0},{"$f":"IFERROR(_xlfn.XLOOKUP($A$18&$A$19&$A$20,$D$2:$D$10&$E$2:$E$10&$G$2:$G$10,T$2:T$10),\"\")","v":""},"","","","","-",{"$f":"'2-2 運転条件シート'!M128","v":0},{"$f":"IFERROR(_xlfn.XLOOKUP($A$18&$A$19&$A$20,$D$2:$D$10&$E$2:$E$10&$G$2:$G$10,T$2:T$10),\"\")","v":""},"","","","","-",{"$f":"'2-2 運転条件シート'!M129","v":0},{"$f":"IFERROR(_xlfn.XLOOKUP($A$18&$A$19&$A$20,$D$2:$D$10&$E$2:$E$10&$G$2:$G$10,T$2:T$10),\"\")","v":""},"","","","","-",{"$f":"'2-2 運転条件シート'!M130","v":0},{"$f":"IFERROR(_xlfn.XLOOKUP($A$18&$A$19&$A$20,$D$2:$D$10&$E$2:$E$10&$G$2:$G$10,T$2:T$10),\"\")","v":""},"","","","","-",{"$f":"'2-2 運転条件シート'!M131","v":0},{"$f":"IFERROR(_xlfn.XLOOKUP($A$18&$A$19&$A$20,$D$2:$D$10&$E$2:$E$10&$G$2:$G$10,T$2:T$10),\"\")","v":""},"","","","","-",{"$f":"'2-2 運転条件シート'!M132","v":0},{"$f":"IFERROR(_xlfn.XLOOKUP($A$18&$A$19&$A$20,$D$2:$D$10&$E$2:$E$10&$G$2:$G$10,T$2:T$10),\"\")","v":""},"","","","","-",{"$f":"'2-2 運転条件シート'!M133","v":0},{"$f":"IFERROR(_xlfn.XLOOKUP($A$18&$A$19&$A$20,$D$2:$D$10&$E$2:$E$10&$G$2:$G$10,T$2:T$10),\"\")","v":""},"","","","","-",{"$f":"'2-2 運転条件シート'!M134","v":0},{"$f":"IFERROR(_xlfn.XLOOKUP($A$18&$A$19&$A$20,$D$2:$D$10&$E$2:$E$10&$G$2:$G$10,T$2:T$10),\"\")","v":""},"","","","","-",{"$f":"'2-2 運転条件シート'!M135","v":0},{"$f":"IFERROR(_xlfn.XLOOKUP($A$18&$A$19&$A$20,$D$2:$D$10&$E$2:$E$10&$G$2:$G$10,T$2:T$10),\"\")","v":""},"","","","","-"]
[null,null,null,4,{"$f":"'2-2 運転条件シート'!N124","v":0},{"$f":"IFERROR(_xlfn.XLOOKUP($A$18&$A$19&$A$20,$D$2:$D$10&$E$2:$E$10&$G$2:$G$10,U$2:U$10),\"\")","v":""},"","","","","-",{"$f":"'2-2 運転条件シート'!N125","v":0},{"$f":"IFERROR(_xlfn.XLOOKUP($A$18&$A$19&$A$20,$D$2:$D$10&$E$2:$E$10&$G$2:$G$10,U$2:U$10),\"\")","v":""},"",{"$f":"IFERROR(ROUND(M27*N27,1),\"\")","v":""},"","","-",{"$f":"'2-2 運転条件シート'!N126","v":0},{"$f":"IFERROR(_xlfn.XLOOKUP($A$18&$A$19&$A$20,$D$2:$D$10&$E$2:$E$10&$G$2:$G$10,U$2:U$10),\"\")","v":""},"","","","","-",{"$f":"'2-2 運転条件シート'!N127","v":0},{"$f":"IFERROR(_xlfn.XLOOKUP($A$18&$A$19&$A$20,$D$2:$D$10&$E$2:$E$10&$G$2:$G$10,U$2:U$10),\"\")","v":""},"","","","","-",{"$f":"'2-2 運転条件シート'!N128","v":0},{"$f":"IFERROR(_xlfn.XLOOKUP($A$18&$A$19&$A$20,$D$2:$D$10&$E$2:$E$10&$G$2:$G$10,U$2:U$10),\"\")","v":""},"","","","","-",{"$f":"'2-2 運転条件シート'!N129","v":0},{"$f":"IFERROR(_xlfn.XLOOKUP($A$18&$A$19&$A$20,$D$2:$D$10&$E$2:$E$10&$G$2:$G$10,U$2:U$10),\"\")","v":""},"","","","","-",{"$f":"'2-2 運転条件シート'!N130","v":0},{"$f":"IFERROR(_xlfn.XLOOKUP($A$18&$A$19&$A$20,$D$2:$D$10&$E$2:$E$10&$G$2:$G$10,U$2:U$10),\"\")","v":""},"","","","","-",{"$f":"'2-2 運転条件シート'!N131","v":0},{"$f":"IFERROR(_xlfn.XLOOKUP($A$18&$A$19&$A$20,$D$2:$D$10&$E$2:$E$10&$G$2:$G$10,U$2:U$10),\"\")","v":""},"","","","","-",{"$f":"'2-2 運転条件シート'!N132","v":0},{"$f":"IFERROR(_xlfn.XLOOKUP($A$18&$A$19&$A$20,$D$2:$D$10&$E$2:$E$10&$G$2:$G$10,U$2:U$10),\"\")","v":""},"","","","","-",{"$f":"'2-2 運転条件シート'!N133","v":0},{"$f":"IFERROR(_xlfn.XLOOKUP($A$18&$A$19&$A$20,$D$2:$D$10&$E$2:$E$10&$G$2:$G$10,U$2:U$10),\"\")","v":""},"","","","","-",{"$f":"'2-2 運転条件シート'!N134","v":0},{"$f":"IFERROR(_xlfn.XLOOKUP($A$18&$A$19&$A$20,$D$2:$D$10&$E$2:$E$10&$G$2:$G$10,U$2:U$10),\"\")","v":""},"","","","","-",{"$f":"'2-2 運転条件シート'!N135","v":0},{"$f":"IFERROR(_xlfn.XLOOKUP($A$18&$A$19&$A$20,$D$2:$D$10&$E$2:$E$10&$G$2:$G$10,U$2:U$10),\"\")","v":""},"","","","","-"]
[null,null,null,5,{"$f":"'2-2 運転条件シート'!O124","v":0},{"$f":"IFERROR(_xlfn.XLOOKUP($A$18&$A$19&$A$20,$D$2:$D$10&$E$2:$E$10&$G$2:$G$10,V$2:V$10),\"\")","v":""},"","",{"$f":"IFERROR($G$13/H28,\"\")","v":""},{"$f":"IFERROR($G$13/H28*E28*$F$13,\"\")","v":""},{"$f":"IFERROR($G$13*$F$13*E28,\"-\")","v":"-"},{"$f":"'2-2 運転条件シート'!O125","v":0},{"$f":"IFERROR(_xlfn.XLOOKUP($A$18&$A$19&$A$20,$D$2:$D$10&$E$2:$E$10&$G$2:$G$10,V$2:V$10),\"\")","v":""},"","","","","-",{"$f":"'2-2 運転条件シート'!O126","v":0},{"$f":"IFERROR(_xlfn.XLOOKUP($A$18&$A$19&$A$20,$D$2:$D$10&$E$2:$E$10&$G$2:$G$10,V$2:V$10),\"\")","v":""},"","","","","-",{"$f":"'2-2 運転条件シート'!O127","v":0},{"$f":"IFERROR(_xlfn.XLOOKUP($A$18&$A$19&$A$20,$D$2:$D$10&$E$2:$E$10&$G$2:$G$10,V$2:V$10),\"\")","v":""},"","","","","-",{"$f":"'2-2 運転条件シート'!O128","v":0},{"$f":"IFERROR(_xlfn.XLOOKUP($A$18&$A$19&$A$20,$D$2:$D$10&$E$2:$E$10&$G$2:$G$10,V$2:V$10),\"\")","v":""},"","","","","-",{"$f":"'2-2 運転条件シート'!O129","v":0},{"$f":"IFERROR(_xlfn.XLOOKUP($A$18&$A$19&$A$20,$D$2:$D$10&$E$2:$E$10&$G$2:$G$10,V$2:V$10),\"\")","v":""},"","","","","-",{"$f":"'2-2 運転条件シート'!O130","v":0},{"$f":"IFERROR(_xlfn.XLOOKUP($A$18&$A$19&$A$20,$D$2:$D$10&$E$2:$E$10&$G$2:$G$10,V$2:V$10),\"\")","v":""},"","","","","-",{"$f":"'2-2 運転条件シート'!O131","v":0},{"$f":"IFERROR(_xlfn.XLOOKUP($A$18&$A$19&$A$20,$D$2:$D$10&$E$2:$E$10&$G$2:$G$10,V$2:V$10),\"\")","v":""},"","","","","-",{"$f":"'2-2 運転条件シート'!O132","v":0},{"$f":"IFERROR(_xlfn.XLOOKUP($A$18&$A$19&$A$20,$D$2:$D$10&$E$2:$E$10&$G$2:$G$10,V$2:V$10),\"\")","v":""},"","","","","-",{"$f":"'2-2 運転条件シート'!O133","v":0},{"$f":"IFERROR(_xlfn.XLOOKUP($A$18&$A$19&$A$20,$D$2:$D$10&$E$2:$E$10&$G$2:$G$10,V$2:V$10),\"\")","v":""},"","","","",{"$f":"IFERROR($BS$13*$BR$13*BP28,\"-\")","v":"-"},{"$f":"'2-2 運転条件シート'!O134","v":0},{"$f":"IFERROR(_xlfn.XLOOKUP($A$18&$A$19&$A$20,$D$2:$D$10&$E$2:$E$10&$G$2:$G$10,V$2:V$10),\"\")","v":""},"","","","","-",{"$f":"'2-2 運転条件シート'!O135","v":0},{"$f":"IFERROR(_xlfn.XLOOKUP($A$18&$A$19&$A$20,$D$2:$D$10&$E$2:$E$10&$G$2:$G$10,V$2:V$10),\"\")","v":""},"","","","","-"]
[null,null,null,6,{"$f":"'2-2 運転条件シート'!P124","v":0},{"$f":"IFERROR(_xlfn.XLOOKUP($A$18&$A$19&$A$20,$D$2:$D$10&$E$2:$E$10&$G$2:$G$10,W$2:W$10),\"\")","v":""},"","","",{"$f":"IFERROR($G$13/H29*E29*$F$13,\"\")","v":""},"-",{"$f":"'2-2 運転条件シート'!P125","v":0},{"$f":"IFERROR(_xlfn.XLOOKUP($A$18&$A$19&$A$20,$D$2:$D$10&$E$2:$E$10&$G$2:$G$10,W$2:W$10),\"\")","v":""},"","","","","-",{"$f":"'2-2 運転条件シート'!P126","v":0},{"$f":"IFERROR(_xlfn.XLOOKUP($A$18&$A$19&$A$20,$D$2:$D$10&$E$2:$E$10&$G$2:$G$10,W$2:W$10),\"\")","v":""},"","","","","-",{"$f":"'2-2 運転条件シート'!P127","v":0},{"$f":"IFERROR(_xlfn.XLOOKUP($A$18&$A$19&$A$20,$D$2:$D$10&$E$2:$E$10&$G$2:$G$10,W$2:W$10),\"\")","v":""},"","","","","-",{"$f":"'2-2 運転条件シート'!P128","v":0},{"$f":"IFERROR(_xlfn.XLOOKUP($A$18&$A$19&$A$20,$D$2:$D$10&$E$2:$E$10&$G$2:$G$10,W$2:W$10),\"\")","v":""},"","","","","-",{"$f":"'2-2 運転条件シート'!P129","v":0},{"$f":"IFERROR(_xlfn.XLOOKUP($A$18&$A$19&$A$20,$D$2:$D$10&$E$2:$E$10&$G$2:$G$10,W$2:W$10),\"\")","v":""},"","","","","-",{"$f":"'2-2 運転条件シート'!P130","v":0},{"$f":"IFERROR(_xlfn.XLOOKUP($A$18&$A$19&$A$20,$D$2:$D$10&$E$2:$E$10&$G$2:$G$10,W$2:W$10),\"\")","v":""},"","","","","-",{"$f":"'2-2 運転条件シート'!P131","v":0},{"$f":"IFERROR(_xlfn.XLOOKUP($A$18&$A$19&$A$20,$D$2:$D$10&$E$2:$E$10&$G$2:$G$10,W$2:W$10),\"\")","v":""},"","","","","-",{"$f":"'2-2 運転条件シート'!P132","v":0},{"$f":"IFERROR(_xlfn.XLOOKUP($A$18&$A$19&$A$20,$D$2:$D$10&$E$2:$E$10&$G$2:$G$10,W$2:W$10),\"\")","v":""},"","","","","-",{"$f":"'2-2 運転条件シート'!P133","v":0},{"$f":"IFERROR(_xlfn.XLOOKUP($A$18&$A$19&$A$20,$D$2:$D$10&$E$2:$E$10&$G$2:$G$10,W$2:W$10),\"\")","v":""},"","","","","-",{"$f":"'2-2 運転条件シート'!P134","v":0},{"$f":"IFERROR(_xlfn.XLOOKUP($A$18&$A$19&$A$20,$D$2:$D$10&$E$2:$E$10&$G$2:$G$10,W$2:W$10),\"\")","v":""},"","","","","-",{"$f":"'2-2 運転条件シート'!P135","v":0},{"$f":"IFERROR(_xlfn.XLOOKUP($A$18&$A$19&$A$20,$D$2:$D$10&$E$2:$E$10&$G$2:$G$10,W$2:W$10),\"\")","v":""},"","","","","-"]
[null,null,null,7,{"$f":"'2-2 運転条件シート'!Q124","v":0},{"$f":"IFERROR(_xlfn.XLOOKUP($A$18&$A$19&$A$20,$D$2:$D$10&$E$2:$E$10&$G$2:$G$10,X$2:X$10),\"\")","v":""},"","","","","-",{"$f":"'2-2 運転条件シート'!Q125","v":0},{"$f":"IFERROR(_xlfn.XLOOKUP($A$18&$A$19&$A$20,$D$2:$D$10&$E$2:$E$10&$G$2:$G$10,X$2:X$10),\"\")","v":""},"","","","","-",{"$f":"'2-2 運転条件シート'!Q126","v":0},{"$f":"IFERROR(_xlfn.XLOOKUP($A$18&$A$19&$A$20,$D$2:$D$10&$E$2:$E$10&$G$2:$G$10,X$2:X$10),\"\")","v":""},"","","","","-",{"$f":"'2-2 運転条件シート'!Q127","v":0},{"$f":"IFERROR(_xlfn.XLOOKUP($A$18&$A$19&$A$20,$D$2:$D$10&$E$2:$E$10&$G$2:$G$10,X$2:X$10),\"\")","v":""},"","","","","-",{"$f":"'2-2 運転条件シート'!Q128","v":0},{"$f":"IFERROR(_xlfn.XLOOKUP($A$18&$A$19&$A$20,$D$2:$D$10&$E$2:$E$10&$G$2:$G$10,X$2:X$10),\"\")","v":""},"","","","","-",{"$f":"'2-2 運転条件シート'!Q129","v":0},{"$f":"IFERROR(_xlfn.XLOOKUP($A$18&$A$19&$A$20,$D$2:$D$10&$E$2:$E$10&$G$2:$G$10,X$2:X$10),\"\")","v":""},"","","","","-",{"$f":"'2-2 運転条件シート'!Q130","v":0},{"$f":"IFERROR(_xlfn.XLOOKUP($A$18&$A$19&$A$20,$D$2:$D$10&$E$2:$E$10&$G$2:$G$10,X$2:X$10),\"\")","v":""},"","","","","-",{"$f":"'2-2 運転条件シート'!Q131","v":0},{"$f":"IFERROR(_xlfn.XLOOKUP($A$18&$A$19&$A$20,$D$2:$D$10&$E$2:$E$10&$G$2:$G$10,X$2:X$10),\"\")","v":""},"","","","","-",{"$f":"'2-2 運転条件シート'!Q132","v":0},{"$f":"IFERROR(_xlfn.XLOOKUP($A$18&$A$19&$A$20,$D$2:$D$10&$E$2:$E$10&$G$2:$G$10,X$2:X$10),\"\")","v":""},"","","","","-",{"$f":"'2-2 運転条件シート'!Q133","v":0},{"$f":"IFERROR(_xlfn.XLOOKUP($A$18&$A$19&$A$20,$D$2:$D$10&$E$2:$E$10&$G$2:$G$10,X$2:X$10),\"\")","v":""},"","","","","-",{"$f":"'2-2 運転条件シート'!Q134","v":0},{"$f":"IFERROR(_xlfn.XLOOKUP($A$18&$A$19&$A$20,$D$2:$D$10&$E$2:$E$10&$G$2:$G$10,X$2:X$10),\"\")","v":""},"","","","","-",{"$f":"'2-2 運転条件シート'!Q135","v":0},{"$f":"IFERROR(_xlfn.XLOOKUP($A$18&$A$19&$A$20,$D$2:$D$10&$E$2:$E$10&$G$2:$G$10,X$2:X$10),\"\")","v":""},"","","","","-"]
[null,null,null,8,{"$f":"'2-2 運転条件シート'!R124","v":0},{"$f":"IFERROR(_xlfn.XLOOKUP($A$18&$A$19&$A$20,$D$2:$D$10&$E$2:$E$10&$G$2:$G$10,Y$2:Y$10),\"\")","v":""},"","","","","-",{"$f":"'2-2 運転条件シート'!R125","v":0},{"$f":"IFERROR(_xlfn.XLOOKUP($A$18&$A$19&$A$20,$D$2:$D$10&$E$2:$E$10&$G$2:$G$10,Y$2:Y$10),\"\")","v":""},"","","","","-",{"$f":"'2-2 運転条件シート'!R126","v":0},{"$f":"IFERROR(_xlfn.XLOOKUP($A$18&$A$19&$A$20,$D$2:$D$10&$E$2:$E$10&$G$2:$G$10,Y$2:Y$10),\"\")","v":""},"","","","","-",{"$f":"'2-2 運転条件シート'!R127","v":0},{"$f":"IFERROR(_xlfn.XLOOKUP($A$18&$A$19&$A$20,$D$2:$D$10&$E$2:$E$10&$G$2:$G$10,Y$2:Y$10),\"\")","v":""},"","","","","-",{"$f":"'2-2 運転条件シート'!R128","v":0},{"$f":"IFERROR(_xlfn.XLOOKUP($A$18&$A$19&$A$20,$D$2:$D$10&$E$2:$E$10&$G$2:$G$10,Y$2:Y$10),\"\")","v":""},"","","","","-",{"$f":"'2-2 運転条件シート'!R129","v":0},{"$f":"IFERROR(_xlfn.XLOOKUP($A$18&$A$19&$A$20,$D$2:$D$10&$E$2:$E$10&$G$2:$G$10,Y$2:Y$10),\"\")","v":""},"","","","","-",{"$f":"'2-2 運転条件シート'!R130","v":0},{"$f":"IFERROR(_xlfn.XLOOKUP($A$18&$A$19&$A$20,$D$2:$D$10&$E$2:$E$10&$G$2:$G$10,Y$2:Y$10),\"\")","v":""},"","","","","-",{"$f":"'2-2 運転条件シート'!R131","v":0},{"$f":"IFERROR(_xlfn.XLOOKUP($A$18&$A$19&$A$20,$D$2:$D$10&$E$2:$E$10&$G$2:$G$10,Y$2:Y$10),\"\")","v":""},"","","","","-",{"$f":"'2-2 運転条件シート'!R132","v":0},{"$f":"IFERROR(_xlfn.XLOOKUP($A$18&$A$19&$A$20,$D$2:$D$10&$E$2:$E$10&$G$2:$G$10,Y$2:Y$10),\"\")","v":""},"","","","","-",{"$f":"'2-2 運転条件シート'!R133","v":0},{"$f":"IFERROR(_xlfn.XLOOKUP($A$18&$A$19&$A$20,$D$2:$D$10&$E$2:$E$10&$G$2:$G$10,Y$2:Y$10),\"\")","v":""},"","","","","-",{"$f":"'2-2 運転条件シート'!R134","v":0},{"$f":"IFERROR(_xlfn.XLOOKUP($A$18&$A$19&$A$20,$D$2:$D$10&$E$2:$E$10&$G$2:$G$10,Y$2:Y$10),\"\")","v":""},"","","","","-",{"$f":"'2-2 運転条件シート'!R135","v":0},{"$f":"IFERROR(_xlfn.XLOOKUP($A$18&$A$19&$A$20,$D$2:$D$10&$E$2:$E$10&$G$2:$G$10,Y$2:Y$10),\"\")","v":""},"","","","","-"]
[null,null,null,9,{"$f":"'2-2 運転条件シート'!S124","v":0},{"$f":"IFERROR(_xlfn.XLOOKUP($A$18&$A$19&$A$20,$D$2:$D$10&$E$2:$E$10&$G$2:$G$10,Z$2:Z$10),\"\")","v":""},"","","","","-",{"$f":"'2-2 運転条件シート'!S125","v":0},{"$f":"IFERROR(_xlfn.XLOOKUP($A$18&$A$19&$A$20,$D$2:$D$10&$E$2:$E$10&$G$2:$G$10,Z$2:Z$10),\"\")","v":""},"","","","","-",{"$f":"'2-2 運転条件シート'!S126","v":0},{"$f":"IFERROR(_xlfn.XLOOKUP($A$18&$A$19&$A$20,$D$2:$D$10&$E$2:$E$10&$G$2:$G$10,Z$2:Z$10),\"\")","v":""},"","","","","-",{"$f":"'2-2 運転条件シート'!S127","v":0},{"$f":"IFERROR(_xlfn.XLOOKUP($A$18&$A$19&$A$20,$D$2:$D$10&$E$2:$E$10&$G$2:$G$10,Z$2:Z$10),\"\")","v":""},"","","","","-",{"$f":"'2-2 運転条件シート'!S128","v":0},{"$f":"IFERROR(_xlfn.XLOOKUP($A$18&$A$19&$A$20,$D$2:$D$10&$E$2:$E$10&$G$2:$G$10,Z$2:Z$10),\"\")","v":""},"","","","","-",{"$f":"'2-2 運転条件シート'!S129","v":0},{"$f":"IFERROR(_xlfn.XLOOKUP($A$18&$A$19&$A$20,$D$2:$D$10&$E$2:$E$10&$G$2:$G$10,Z$2:Z$10),\"\")","v":""},"","","","","-",{"$f":"'2-2 運転条件シート'!S130","v":0},{"$f":"IFERROR(_xlfn.XLOOKUP($A$18&$A$19&$A$20,$D$2:$D$10&$E$2:$E$10&$G$2:$G$10,Z$2:Z$10),\"\")","v":""},"","","","","-",{"$f":"'2-2 運転条件シート'!S131","v":0},{"$f":"IFERROR(_xlfn.XLOOKUP($A$18&$A$19&$A$20,$D$2:$D$10&$E$2:$E$10&$G$2:$G$10,Z$2:Z$10),\"\")","v":""},"","","","","-",{"$f":"'2-2 運転条件シート'!S132","v":0},{"$f":"IFERROR(_xlfn.XLOOKUP($A$18&$A$19&$A$20,$D$2:$D$10&$E$2:$E$10&$G$2:$G$10,Z$2:Z$10),\"\")","v":""},"","","","","-",{"$f":"'2-2 運転条件シート'!S133","v":0},{"$f":"IFERROR(_xlfn.XLOOKUP($A$18&$A$19&$A$20,$D$2:$D$10&$E$2:$E$10&$G$2:$G$10,Z$2:Z$10),\"\")","v":""},"","","","","-",{"$f":"'2-2 運転条件シート'!S134","v":0},{"$f":"IFERROR(_xlfn.XLOOKUP($A$18&$A$19&$A$20,$D$2:$D$10&$E$2:$E$10&$G$2:$G$10,Z$2:Z$10),\"\")","v":""},"","","","","-",{"$f":"'2-2 運転条件シート'!S135","v":0},{"$f":"IFERROR(_xlfn.XLOOKUP($A$18&$A$19&$A$20,$D$2:$D$10&$E$2:$E$10&$G$2:$G$10,Z$2:Z$10),\"\")","v":""},"","","","","-"]
[null,null,null,10,{"$f":"'2-2 運転条件シート'!T124","v":0},{"$f":"IFERROR(_xlfn.XLOOKUP($A$18&$A$19&$A$20,$D$2:$D$10&$E$2:$E$10&$G$2:$G$10,AA$2:AA$10),\"\")","v":""},"","","","","-",{"$f":"'2-2 運転条件シート'!T125","v":0},{"$f":"IFERROR(_xlfn.XLOOKUP($A$18&$A$19&$A$20,$D$2:$D$10&$E$2:$E$10&$G$2:$G$10,AA$2:AA$10),\"\")","v":""},"","","","","-",{"$f":"'2-2 運転条件シート'!T126","v":0},{"$f":"IFERROR(_xlfn.XLOOKUP($A$18&$A$19&$A$20,$D$2:$D$10&$E$2:$E$10&$G$2:$G$10,AA$2:AA$10),\"\")","v":""},"","","","","-",{"$f":"'2-2 運転条件シート'!T127","v":0},{"$f":"IFERROR(_xlfn.XLOOKUP($A$18&$A$19&$A$20,$D$2:$D$10&$E$2:$E$10&$G$2:$G$10,AA$2:AA$10),\"\")","v":""},"","","","","-",{"$f":"'2-2 運転条件シート'!T128","v":0},{"$f":"IFERROR(_xlfn.XLOOKUP($A$18&$A$19&$A$20,$D$2:$D$10&$E$2:$E$10&$G$2:$G$10,AA$2:AA$10),\"\")","v":""},"","","","","-",{"$f":"'2-2 運転条件シート'!T129","v":0},{"$f":"IFERROR(_xlfn.XLOOKUP($A$18&$A$19&$A$20,$D$2:$D$10&$E$2:$E$10&$G$2:$G$10,AA$2:AA$10),\"\")","v":""},"","","","","-",{"$f":"'2-2 運転条件シート'!T130","v":0},{"$f":"IFERROR(_xlfn.XLOOKUP($A$18&$A$19&$A$20,$D$2:$D$10&$E$2:$E$10&$G$2:$G$10,AA$2:AA$10),\"\")","v":""},"","","","","-",{"$f":"'2-2 運転条件シート'!T131","v":0},{"$f":"IFERROR(_xlfn.XLOOKUP($A$18&$A$19&$A$20,$D$2:$D$10&$E$2:$E$10&$G$2:$G$10,AA$2:AA$10),\"\")","v":""},"","","","","-",{"$f":"'2-2 運転条件シート'!T132","v":0},{"$f":"IFERROR(_xlfn.XLOOKUP($A$18&$A$19&$A$20,$D$2:$D$10&$E$2:$E$10&$G$2:$G$10,AA$2:AA$10),\"\")","v":""},"","","","","-",{"$f":"'2-2 運転条件シート'!T133","v":0},{"$f":"IFERROR(_xlfn.XLOOKUP($A$18&$A$19&$A$20,$D$2:$D$10&$E$2:$E$10&$G$2:$G$10,AA$2:AA$10),\"\")","v":""},"","","","","-",{"$f":"'2-2 運転条件シート'!T134","v":0},{"$f":"IFERROR(_xlfn.XLOOKUP($A$18&$A$19&$A$20,$D$2:$D$10&$E$2:$E$10&$G$2:$G$10,AA$2:AA$10),\"\")","v":""},"","","","","-",{"$f":"'2-2 運転条件シート'!T135","v":0},{"$f":"IFERROR(_xlfn.XLOOKUP($A$18&$A$19&$A$20,$D$2:$D$10&$E$2:$E$10&$G$2:$G$10,AA$2:AA$10),\"\")","v":""},"","","","","-"]
[null,null,null,11,{"$f":"'2-2 運転条件シート'!U124","v":0},{"$f":"IFERROR(_xlfn.XLOOKUP($A$18&$A$19&$A$20,$D$2:$D$10&$E$2:$E$10&$G$2:$G$10,AB$2:AB$10),\"\")","v":""},"","","","","-",{"$f":"'2-2 運転条件シート'!U125","v":0},{"$f":"IFERROR(_xlfn.XLOOKUP($A$18&$A$19&$A$20,$D$2:$D$10&$E$2:$E$10&$G$2:$G$10,AB$2:AB$10),\"\")","v":""},"","","","","-",{"$f":"'2-2 運転条件シート'!U126","v":0},{"$f":"IFERROR(_xlfn.XLOOKUP($A$18&$A$19&$A$20,$D$2:$D$10&$E$2:$E$10&$G$2:$G$10,AB$2:AB$10),\"\")","v":""},"","","","","-",{"$f":"'2-2 運転条件シート'!U127","v":0},{"$f":"IFERROR(_xlfn.XLOOKUP($A$18&$A$19&$A$20,$D$2:$D$10&$E$2:$E$10&$G$2:$G$10,AB$2:AB$10),\"\")","v":""},"","","","","-",{"$f":"'2-2 運転条件シート'!U128","v":0},{"$f":"IFERROR(_xlfn.XLOOKUP($A$18&$A$19&$A$20,$D$2:$D$10&$E$2:$E$10&$G$2:$G$10,AB$2:AB$10),\"\")","v":""},"","","","","-",{"$f":"'2-2 運転条件シート'!U129","v":0},{"$f":"IFERROR(_xlfn.XLOOKUP($A$18&$A$19&$A$20,$D$2:$D$10&$E$2:$E$10&$G$2:$G$10,AB$2:AB$10),\"\")","v":""},"","","","","-",{"$f":"'2-2 運転条件シート'!U130","v":0},{"$f":"IFERROR(_xlfn.XLOOKUP($A$18&$A$19&$A$20,$D$2:$D$10&$E$2:$E$10&$G$2:$G$10,AB$2:AB$10),\"\")","v":""},"","","","","-",{"$f":"'2-2 運転条件シート'!U131","v":0},{"$f":"IFERROR(_xlfn.XLOOKUP($A$18&$A$19&$A$20,$D$2:$D$10&$E$2:$E$10&$G$2:$G$10,AB$2:AB$10),\"\")","v":""},"","","","","-",{"$f":"'2-2 運転条件シート'!U132","v":0},{"$f":"IFERROR(_xlfn.XLOOKUP($A$18&$A$19&$A$20,$D$2:$D$10&$E$2:$E$10&$G$2:$G$10,AB$2:AB$10),\"\")","v":""},"","","","","-",{"$f":"'2-2 運転条件シート'!U133","v":0},{"$f":"IFERROR(_xlfn.XLOOKUP($A$18&$A$19&$A$20,$D$2:$D$10&$E$2:$E$10&$G$2:$G$10,AB$2:AB$10),\"\")","v":""},"","","","","-",{"$f":"'2-2 運転条件シート'!U134","v":0},{"$f":"IFERROR(_xlfn.XLOOKUP($A$18&$A$19&$A$20,$D$2:$D$10&$E$2:$E$10&$G$2:$G$10,AB$2:AB$10),\"\")","v":""},"","","","","-",{"$f":"'2-2 運転条件シート'!U135","v":0},{"$f":"IFERROR(_xlfn.XLOOKUP($A$18&$A$19&$A$20,$D$2:$D$10&$E$2:$E$10&$G$2:$G$10,AB$2:AB$10),\"\")","v":""},"","","","","-"]
["　",null,null,12,{"$f":"'2-2 運転条件シート'!V124","v":0},{"$f":"IFERROR(_xlfn.XLOOKUP($A$18&$A$19&$A$20,$D$2:$D$10&$E$2:$E$10&$G$2:$G$10,AC$2:AC$10),\"\")","v":""},"","","","","-",{"$f":"'2-2 運転条件シート'!V125","v":0},{"$f":"IFERROR(_xlfn.XLOOKUP($A$18&$A$19&$A$20,$D$2:$D$10&$E$2:$E$10&$G$2:$G$10,AC$2:AC$10),\"\")","v":""},"","","",{"$f":"IFERROR($O$13/O35*L35*$N$13,\"\")","v":""},"-",{"$f":"'2-2 運転条件シート'!V126","v":0},{"$f":"IFERROR(_xlfn.XLOOKUP($A$18&$A$19&$A$20,$D$2:$D$10&$E$2:$E$10&$G$2:$G$10,AC$2:AC$10),\"\")","v":""},"","","","","-",{"$f":"'2-2 運転条件シート'!V127","v":0},{"$f":"IFERROR(_xlfn.XLOOKUP($A$18&$A$19&$A$20,$D$2:$D$10&$E$2:$E$10&$G$2:$G$10,AC$2:AC$10),\"\")","v":""},"","","","","-",{"$f":"'2-2 運転条件シート'!V128","v":0},{"$f":"IFERROR(_xlfn.XLOOKUP($A$18&$A$19&$A$20,$D$2:$D$10&$E$2:$E$10&$G$2:$G$10,AC$2:AC$10),\"\")","v":""},"","","","","-",{"$f":"'2-2 運転条件シート'!V129","v":0},{"$f":"IFERROR(_xlfn.XLOOKUP($A$18&$A$19&$A$20,$D$2:$D$10&$E$2:$E$10&$G$2:$G$10,AC$2:AC$10),\"\")","v":""},"","","","","-",{"$f":"'2-2 運転条件シート'!V130","v":0},{"$f":"IFERROR(_xlfn.XLOOKUP($A$18&$A$19&$A$20,$D$2:$D$10&$E$2:$E$10&$G$2:$G$10,AC$2:AC$10),\"\")","v":""},"","","","","-",{"$f":"'2-2 運転条件シート'!V131","v":0},{"$f":"IFERROR(_xlfn.XLOOKUP($A$18&$A$19&$A$20,$D$2:$D$10&$E$2:$E$10&$G$2:$G$10,AC$2:AC$10),\"\")","v":""},"","","","","-",{"$f":"'2-2 運転条件シート'!V132","v":0},{"$f":"IFERROR(_xlfn.XLOOKUP($A$18&$A$19&$A$20,$D$2:$D$10&$E$2:$E$10&$G$2:$G$10,AC$2:AC$10),\"\")","v":""},"","","","","-",{"$f":"'2-2 運転条件シート'!V133","v":0},{"$f":"IFERROR(_xlfn.XLOOKUP($A$18&$A$19&$A$20,$D$2:$D$10&$E$2:$E$10&$G$2:$G$10,AC$2:AC$10),\"\")","v":""},"","","","","-",{"$f":"'2-2 運転条件シート'!V134","v":0},{"$f":"IFERROR(_xlfn.XLOOKUP($A$18&$A$19&$A$20,$D$2:$D$10&$E$2:$E$10&$G$2:$G$10,AC$2:AC$10),\"\")","v":""},"","","","","-",{"$f":"'2-2 運転条件シート'!V135","v":0},{"$f":"IFERROR(_xlfn.XLOOKUP($A$18&$A$19&$A$20,$D$2:$D$10&$E$2:$E$10&$G$2:$G$10,AC$2:AC$10),\"\")","v":""},"","","","","-"]
[null,null,null,13,{"$f":"'2-2 運転条件シート'!W124","v":0},{"$f":"IFERROR(_xlfn.XLOOKUP($A$18&$A$19&$A$20,$D$2:$D$10&$E$2:$E$10&$G$2:$G$10,AD$2:AD$10),\"\")","v":""},"","","","","-",{"$f":"'2-2 運転条件シート'!W125","v":0},{"$f":"IFERROR(_xlfn.XLOOKUP($A$18&$A$19&$A$20,$D$2:$D$10&$E$2:$E$10&$G$2:$G$10,AD$2:AD$10),\"\")","v":""},"","","","","-",{"$f":"'2-2 運転条件シート'!W126","v":0},{"$f":"IFERROR(_xlfn.XLOOKUP($A$18&$A$19&$A$20,$D$2:$D$10&$E$2:$E$10&$G$2:$G$10,AD$2:AD$10),\"\")","v":""},"","","","","-",{"$f":"'2-2 運転条件シート'!W127","v":0},{"$f":"IFERROR(_xlfn.XLOOKUP($A$18&$A$19&$A$20,$D$2:$D$10&$E$2:$E$10&$G$2:$G$10,AD$2:AD$10),\"\")","v":""},"","","","","-",{"$f":"'2-2 運転条件シート'!W128","v":0},{"$f":"IFERROR(_xlfn.XLOOKUP($A$18&$A$19&$A$20,$D$2:$D$10&$E$2:$E$10&$G$2:$G$10,AD$2:AD$10),\"\")","v":""},"","","","","-",{"$f":"'2-2 運転条件シート'!W129","v":0},{"$f":"IFERROR(_xlfn.XLOOKUP($A$18&$A$19&$A$20,$D$2:$D$10&$E$2:$E$10&$G$2:$G$10,AD$2:AD$10),\"\")","v":""},"","","","","-",{"$f":"'2-2 運転条件シート'!W130","v":0},{"$f":"IFERROR(_xlfn.XLOOKUP($A$18&$A$19&$A$20,$D$2:$D$10&$E$2:$E$10&$G$2:$G$10,AD$2:AD$10),\"\")","v":""},"","","","","-",{"$f":"'2-2 運転条件シート'!W131","v":0},{"$f":"IFERROR(_xlfn.XLOOKUP($A$18&$A$19&$A$20,$D$2:$D$10&$E$2:$E$10&$G$2:$G$10,AD$2:AD$10),\"\")","v":""},"","","","","-",{"$f":"'2-2 運転条件シート'!W132","v":0},{"$f":"IFERROR(_xlfn.XLOOKUP($A$18&$A$19&$A$20,$D$2:$D$10&$E$2:$E$10&$G$2:$G$10,AD$2:AD$10),\"\")","v":""},"","","","","-",{"$f":"'2-2 運転条件シート'!W133","v":0},{"$f":"IFERROR(_xlfn.XLOOKUP($A$18&$A$19&$A$20,$D$2:$D$10&$E$2:$E$10&$G$2:$G$10,AD$2:AD$10),\"\")","v":""},"","","","","-",{"$f":"'2-2 運転条件シート'!W134","v":0},{"$f":"IFERROR(_xlfn.XLOOKUP($A$18&$A$19&$A$20,$D$2:$D$10&$E$2:$E$10&$G$2:$G$10,AD$2:AD$10),\"\")","v":""},"","","","","-",{"$f":"'2-2 運転条件シート'!W135","v":0},{"$f":"IFERROR(_xlfn.XLOOKUP($A$18&$A$19&$A$20,$D$2:$D$10&$E$2:$E$10&$G$2:$G$10,AD$2:AD$10),\"\")","v":""},"","","","","-"]
[null,null,null,14,{"$f":"'2-2 運転条件シート'!X124","v":0},{"$f":"IFERROR(_xlfn.XLOOKUP($A$18&$A$19&$A$20,$D$2:$D$10&$E$2:$E$10&$G$2:$G$10,AE$2:AE$10),\"\")","v":""},"","","","",{"$f":"IFERROR($G$13*$F$13*E37,\"-\")","v":"-"},{"$f":"'2-2 運転条件シート'!X125","v":0},{"$f":"IFERROR(_xlfn.XLOOKUP($A$18&$A$19&$A$20,$D$2:$D$10&$E$2:$E$10&$G$2:$G$10,AE$2:AE$10),\"\")","v":""},"","","","","-",{"$f":"'2-2 運転条件シート'!X126","v":0},{"$f":"IFERROR(_xlfn.XLOOKUP($A$18&$A$19&$A$20,$D$2:$D$10&$E$2:$E$10&$G$2:$G$10,AE$2:AE$10),\"\")","v":""},"","","","","-",{"$f":"'2-2 運転条件シート'!X127","v":0},{"$f":"IFERROR(_xlfn.XLOOKUP($A$18&$A$19&$A$20,$D$2:$D$10&$E$2:$E$10&$G$2:$G$10,AE$2:AE$10),\"\")","v":""},"","","","","-",{"$f":"'2-2 運転条件シート'!X128","v":0},{"$f":"IFERROR(_xlfn.XLOOKUP($A$18&$A$19&$A$20,$D$2:$D$10&$E$2:$E$10&$G$2:$G$10,AE$2:AE$10),\"\")","v":""},"","","","","-",{"$f":"'2-2 運転条件シート'!X129","v":0},{"$f":"IFERROR(_xlfn.XLOOKUP($A$18&$A$19&$A$20,$D$2:$D$10&$E$2:$E$10&$G$2:$G$10,AE$2:AE$10),\"\")","v":""},"","","","","-",{"$f":"'2-2 運転条件シート'!X130","v":0},{"$f":"IFERROR(_xlfn.XLOOKUP($A$18&$A$19&$A$20,$D$2:$D$10&$E$2:$E$10&$G$2:$G$10,AE$2:AE$10),\"\")","v":""},"","","","","-",{"$f":"'2-2 運転条件シート'!X131","v":0},{"$f":"IFERROR(_xlfn.XLOOKUP($A$18&$A$19&$A$20,$D$2:$D$10&$E$2:$E$10&$G$2:$G$10,AE$2:AE$10),\"\")","v":""},"","","","","-",{"$f":"'2-2 運転条件シート'!X132","v":0},{"$f":"IFERROR(_xlfn.XLOOKUP($A$18&$A$19&$A$20,$D$2:$D$10&$E$2:$E$10&$G$2:$G$10,AE$2:AE$10),\"\")","v":""},"","","","","-",{"$f":"'2-2 運転条件シート'!X133","v":0},{"$f":"IFERROR(_xlfn.XLOOKUP($A$18&$A$19&$A$20,$D$2:$D$10&$E$2:$E$10&$G$2:$G$10,AE$2:AE$10),\"\")","v":""},"","","","","-",{"$f":"'2-2 運転条件シート'!X134","v":0},{"$f":"IFERROR(_xlfn.XLOOKUP($A$18&$A$19&$A$20,$D$2:$D$10&$E$2:$E$10&$G$2:$G$10,AE$2:AE$10),\"\")","v":""},"","","","","-",{"$f":"'2-2 運転条件シート'!X135","v":0},{"$f":"IFERROR(_xlfn.XLOOKUP($A$18&$A$19&$A$20,$D$2:$D$10&$E$2:$E$10&$G$2:$G$10,AE$2:AE$10),\"\")","v":""},"","","","","-"]
[null,null,null,15,{"$f":"'2-2 運転条件シート'!Y124","v":0},{"$f":"IFERROR(_xlfn.XLOOKUP($A$18&$A$19&$A$20,$D$2:$D$10&$E$2:$E$10&$G$2:$G$10,AF$2:AF$10),\"\")","v":""},"","","","","-",{"$f":"'2-2 運転条件シート'!Y125","v":0},{"$f":"IFERROR(_xlfn.XLOOKUP($A$18&$A$19&$A$20,$D$2:$D$10&$E$2:$E$10&$G$2:$G$10,AF$2:AF$10),\"\")","v":""},"","","","","-",{"$f":"'2-2 運転条件シート'!Y126","v":0},{"$f":"IFERROR(_xlfn.XLOOKUP($A$18&$A$19&$A$20,$D$2:$D$10&$E$2:$E$10&$G$2:$G$10,AF$2:AF$10),\"\")","v":""},"","","","","-",{"$f":"'2-2 運転条件シート'!Y127","v":0},{"$f":"IFERROR(_xlfn.XLOOKUP($A$18&$A$19&$A$20,$D$2:$D$10&$E$2:$E$10&$G$2:$G$10,AF$2:AF$10),\"\")","v":""},"","","","","-",{"$f":"'2-2 運転条件シート'!Y128","v":0},{"$f":"IFERROR(_xlfn.XLOOKUP($A$18&$A$19&$A$20,$D$2:$D$10&$E$2:$E$10&$G$2:$G$10,AF$2:AF$10),\"\")","v":""},"","","","","-",{"$f":"'2-2 運転条件シート'!Y129","v":0},{"$f":"IFERROR(_xlfn.XLOOKUP($A$18&$A$19&$A$20,$D$2:$D$10&$E$2:$E$10&$G$2:$G$10,AF$2:AF$10),\"\")","v":""},"","","","","-",{"$f":"'2-2 運転条件シート'!Y130","v":0},{"$f":"IFERROR(_xlfn.XLOOKUP($A$18&$A$19&$A$20,$D$2:$D$10&$E$2:$E$10&$G$2:$G$10,AF$2:AF$10),\"\")","v":""},"","","","","-",{"$f":"'2-2 運転条件シート'!Y131","v":0},{"$f":"IFERROR(_xlfn.XLOOKUP($A$18&$A$19&$A$20,$D$2:$D$10&$E$2:$E$10&$G$2:$G$10,AF$2:AF$10),\"\")","v":""},"","","","","-",{"$f":"'2-2 運転条件シート'!Y132","v":0},{"$f":"IFERROR(_xlfn.XLOOKUP($A$18&$A$19&$A$20,$D$2:$D$10&$E$2:$E$10&$G$2:$G$10,AF$2:AF$10),\"\")","v":""},"","","","","-",{"$f":"'2-2 運転条件シート'!Y133","v":0},{"$f":"IFERROR(_xlfn.XLOOKUP($A$18&$A$19&$A$20,$D$2:$D$10&$E$2:$E$10&$G$2:$G$10,AF$2:AF$10),\"\")","v":""},"","","","","-",{"$f":"'2-2 運転条件シート'!Y134","v":0},{"$f":"IFERROR(_xlfn.XLOOKUP($A$18&$A$19&$A$20,$D$2:$D$10&$E$2:$E$10&$G$2:$G$10,AF$2:AF$10),\"\")","v":""},"","","","","-",{"$f":"'2-2 運転条件シート'!Y135","v":0},{"$f":"IFERROR(_xlfn.XLOOKUP($A$18&$A$19&$A$20,$D$2:$D$10&$E$2:$E$10&$G$2:$G$10,AF$2:AF$10),\"\")","v":""},"","","","","-"]
[null,null,"　",16,{"$f":"'2-2 運転条件シート'!Z124","v":0},{"$f":"IFERROR(_xlfn.XLOOKUP($A$18&$A$19&$A$20,$D$2:$D$10&$E$2:$E$10&$G$2:$G$10,AG$2:AG$10),\"\")","v":""},"","","","","-",{"$f":"'2-2 運転条件シート'!Z125","v":0},{"$f":"IFERROR(_xlfn.XLOOKUP($A$18&$A$19&$A$20,$D$2:$D$10&$E$2:$E$10&$G$2:$G$10,AG$2:AG$10),\"\")","v":""},"","","","","-",{"$f":"'2-2 運転条件シート'!Z126","v":0},{"$f":"IFERROR(_xlfn.XLOOKUP($A$18&$A$19&$A$20,$D$2:$D$10&$E$2:$E$10&$G$2:$G$10,AG$2:AG$10),\"\")","v":""},"","","","","-",{"$f":"'2-2 運転条件シート'!Z127","v":0},{"$f":"IFERROR(_xlfn.XLOOKUP($A$18&$A$19&$A$20,$D$2:$D$10&$E$2:$E$10&$G$2:$G$10,AG$2:AG$10),\"\")","v":""},"","","","","-",{"$f":"'2-2 運転条件シート'!Z128","v":0},{"$f":"IFERROR(_xlfn.XLOOKUP($A$18&$A$19&$A$20,$D$2:$D$10&$E$2:$E$10&$G$2:$G$10,AG$2:AG$10),\"\")","v":""},"","","","","-",{"$f":"'2-2 運転条件シート'!Z129","v":0},{"$f":"IFERROR(_xlfn.XLOOKUP($A$18&$A$19&$A$20,$D$2:$D$10&$E$2:$E$10&$G$2:$G$10,AG$2:AG$10),\"\")","v":""},"","","","","-",{"$f":"'2-2 運転条件シート'!Z130","v":0},{"$f":"IFERROR(_xlfn.XLOOKUP($A$18&$A$19&$A$20,$D$2:$D$10&$E$2:$E$10&$G$2:$G$10,AG$2:AG$10),\"\")","v":""},"","","","","-",{"$f":"'2-2 運転条件シート'!Z131","v":0},{"$f":"IFERROR(_xlfn.XLOOKUP($A$18&$A$19&$A$20,$D$2:$D$10&$E$2:$E$10&$G$2:$G$10,AG$2:AG$10),\"\")","v":""},"","","","","-",{"$f":"'2-2 運転条件シート'!Z132","v":0},{"$f":"IFERROR(_xlfn.XLOOKUP($A$18&$A$19&$A$20,$D$2:$D$10&$E$2:$E$10&$G$2:$G$10,AG$2:AG$10),\"\")","v":""},"","","","","-",{"$f":"'2-2 運転条件シート'!Z133","v":0},{"$f":"IFERROR(_xlfn.XLOOKUP($A$18&$A$19&$A$20,$D$2:$D$10&$E$2:$E$10&$G$2:$G$10,AG$2:AG$10),\"\")","v":""},"","","","","-",{"$f":"'2-2 運転条件シート'!Z134","v":0},{"$f":"IFERROR(_xlfn.XLOOKUP($A$18&$A$19&$A$20,$D$2:$D$10&$E$2:$E$10&$G$2:$G$10,AG$2:AG$10),\"\")","v":""},"","","","","-",{"$f":"'2-2 運転条件シート'!Z135","v":0},{"$f":"IFERROR(_xlfn.XLOOKUP($A$18&$A$19&$A$20,$D$2:$D$10&$E$2:$E$10&$G$2:$G$10,AG$2:AG$10),\"\")","v":""},"","","","","-"]
[null,null," ",17,{"$f":"'2-2 運転条件シート'!AA124","v":0},{"$f":"IFERROR(_xlfn.XLOOKUP($A$18&$A$19&$A$20,$D$2:$D$10&$E$2:$E$10&$G$2:$G$10,AH$2:AH$10),\"\")","v":""},"","","","","-",{"$f":"'2-2 運転条件シート'!AA125","v":0},{"$f":"IFERROR(_xlfn.XLOOKUP($A$18&$A$19&$A$20,$D$2:$D$10&$E$2:$E$10&$G$2:$G$10,AH$2:AH$10),\"\")","v":""},"","","","","-",{"$f":"'2-2 運転条件シート'!AA126","v":0},{"$f":"IFERROR(_xlfn.XLOOKUP($A$18&$A$19&$A$20,$D$2:$D$10&$E$2:$E$10&$G$2:$G$10,AH$2:AH$10),\"\")","v":""},"","","","","-",{"$f":"'2-2 運転条件シート'!AA127","v":0},{"$f":"IFERROR(_xlfn.XLOOKUP($A$18&$A$19&$A$20,$D$2:$D$10&$E$2:$E$10&$G$2:$G$10,AH$2:AH$10),\"\")","v":""},"","","","","-",{"$f":"'2-2 運転条件シート'!AA128","v":0},{"$f":"IFERROR(_xlfn.XLOOKUP($A$18&$A$19&$A$20,$D$2:$D$10&$E$2:$E$10&$G$2:$G$10,AH$2:AH$10),\"\")","v":""},"","","","","-",{"$f":"'2-2 運転条件シート'!AA129","v":0},{"$f":"IFERROR(_xlfn.XLOOKUP($A$18&$A$19&$A$20,$D$2:$D$10&$E$2:$E$10&$G$2:$G$10,AH$2:AH$10),\"\")","v":""},"","","","","-",{"$f":"'2-2 運転条件シート'!AA130","v":0},{"$f":"IFERROR(_xlfn.XLOOKUP($A$18&$A$19&$A$20,$D$2:$D$10&$E$2:$E$10&$G$2:$G$10,AH$2:AH$10),\"\")","v":""},"","","","","-",{"$f":"'2-2 運転条件シート'!AA131","v":0},{"$f":"IFERROR(_xlfn.XLOOKUP($A$18&$A$19&$A$20,$D$2:$D$10&$E$2:$E$10&$G$2:$G$10,AH$2:AH$10),\"\")","v":""},"","","","","-",{"$f":"'2-2 運転条件シート'!AA132","v":0},{"$f":"IFERROR(_xlfn.XLOOKUP($A$18&$A$19&$A$20,$D$2:$D$10&$E$2:$E$10&$G$2:$G$10,AH$2:AH$10),\"\")","v":""},"","","","","-",{"$f":"'2-2 運転条件シート'!AA133","v":0},{"$f":"IFERROR(_xlfn.XLOOKUP($A$18&$A$19&$A$20,$D$2:$D$10&$E$2:$E$10&$G$2:$G$10,AH$2:AH$10),\"\")","v":""},"","","","","-",{"$f":"'2-2 運転条件シート'!AA134","v":0},{"$f":"IFERROR(_xlfn.XLOOKUP($A$18&$A$19&$A$20,$D$2:$D$10&$E$2:$E$10&$G$2:$G$10,AH$2:AH$10),\"\")","v":""},"","","","","-",{"$f":"'2-2 運転条件シート'!AA135","v":0},{"$f":"IFERROR(_xlfn.XLOOKUP($A$18&$A$19&$A$20,$D$2:$D$10&$E$2:$E$10&$G$2:$G$10,AH$2:AH$10),\"\")","v":""},"","","","","-"]
[null,null,null,18,{"$f":"'2-2 運転条件シート'!AB124","v":0},{"$f":"IFERROR(_xlfn.XLOOKUP($A$18&$A$19&$A$20,$D$2:$D$10&$E$2:$E$10&$G$2:$G$10,AI$2:AI$10),\"\")","v":""},"","","","","-",{"$f":"'2-2 運転条件シート'!AB125","v":0},{"$f":"IFERROR(_xlfn.XLOOKUP($A$18&$A$19&$A$20,$D$2:$D$10&$E$2:$E$10&$G$2:$G$10,AI$2:AI$10),\"\")","v":""},"","","","","-",{"$f":"'2-2 運転条件シート'!AB126","v":0},{"$f":"IFERROR(_xlfn.XLOOKUP($A$18&$A$19&$A$20,$D$2:$D$10&$E$2:$E$10&$G$2:$G$10,AI$2:AI$10),\"\")","v":""},"","","","","-",{"$f":"'2-2 運転条件シート'!AB127","v":0},{"$f":"IFERROR(_xlfn.XLOOKUP($A$18&$A$19&$A$20,$D$2:$D$10&$E$2:$E$10&$G$2:$G$10,AI$2:AI$10),\"\")","v":""},"","","","","-",{"$f":"'2-2 運転条件シート'!AB128","v":0},{"$f":"IFERROR(_xlfn.XLOOKUP($A$18&$A$19&$A$20,$D$2:$D$10&$E$2:$E$10&$G$2:$G$10,AI$2:AI$10),\"\")","v":""},"","","","","-",{"$f":"'2-2 運転条件シート'!AB129","v":0},{"$f":"IFERROR(_xlfn.XLOOKUP($A$18&$A$19&$A$20,$D$2:$D$10&$E$2:$E$10&$G$2:$G$10,AI$2:AI$10),\"\")","v":""},"","","","","-",{"$f":"'2-2 運転条件シート'!AB130","v":0},{"$f":"IFERROR(_xlfn.XLOOKUP($A$18&$A$19&$A$20,$D$2:$D$10&$E$2:$E$10&$G$2:$G$10,AI$2:AI$10),\"\")","v":""},"","","","","-",{"$f":"'2-2 運転条件シート'!AB131","v":0},{"$f":"IFERROR(_xlfn.XLOOKUP($A$18&$A$19&$A$20,$D$2:$D$10&$E$2:$E$10&$G$2:$G$10,AI$2:AI$10),\"\")","v":""},"","","","","-",{"$f":"'2-2 運転条件シート'!AB132","v":0},{"$f":"IFERROR(_xlfn.XLOOKUP($A$18&$A$19&$A$20,$D$2:$D$10&$E$2:$E$10&$G$2:$G$10,AI$2:AI$10),\"\")","v":""},"","","","","-",{"$f":"'2-2 運転条件シート'!AB133","v":0},{"$f":"IFERROR(_xlfn.XLOOKUP($A$18&$A$19&$A$20,$D$2:$D$10&$E$2:$E$10&$G$2:$G$10,AI$2:AI$10),\"\")","v":""},"","","","","-",{"$f":"'2-2 運転条件シート'!AB134","v":0},{"$f":"IFERROR(_xlfn.XLOOKUP($A$18&$A$19&$A$20,$D$2:$D$10&$E$2:$E$10&$G$2:$G$10,AI$2:AI$10),\"\")","v":""},"","","","","-",{"$f":"'2-2 運転条件シート'!AB135","v":0},{"$f":"IFERROR(_xlfn.XLOOKUP($A$18&$A$19&$A$20,$D$2:$D$10&$E$2:$E$10&$G$2:$G$10,AI$2:AI$10),\"\")","v":""},"","","","","-"]
[null,null,null,19,{"$f":"'2-2 運転条件シート'!AC124","v":0},{"$f":"IFERROR(_xlfn.XLOOKUP($A$18&$A$19&$A$20,$D$2:$D$10&$E$2:$E$10&$G$2:$G$10,AJ$2:AJ$10),\"\")","v":""},"","","","","-",{"$f":"'2-2 運転条件シート'!AC125","v":0},{"$f":"IFERROR(_xlfn.XLOOKUP($A$18&$A$19&$A$20,$D$2:$D$10&$E$2:$E$10&$G$2:$G$10,AJ$2:AJ$10),\"\")","v":""},"","","","","-",{"$f":"'2-2 運転条件シート'!AC126","v":0},{"$f":"IFERROR(_xlfn.XLOOKUP($A$18&$A$19&$A$20,$D$2:$D$10&$E$2:$E$10&$G$2:$G$10,AJ$2:AJ$10),\"\")","v":""},"","","","","-",{"$f":"'2-2 運転条件シート'!AC127","v":0},{"$f":"IFERROR(_xlfn.XLOOKUP($A$18&$A$19&$A$20,$D$2:$D$10&$E$2:$E$10&$G$2:$G$10,AJ$2:AJ$10),\"\")","v":""},"","","","","-",{"$f":"'2-2 運転条件シート'!AC128","v":0},{"$f":"IFERROR(_xlfn.XLOOKUP($A$18&$A$19&$A$20,$D$2:$D$10&$E$2:$E$10&$G$2:$G$10,AJ$2:AJ$10),\"\")","v":""},"","","","","-",{"$f":"'2-2 運転条件シート'!AC129","v":0},{"$f":"IFERROR(_xlfn.XLOOKUP($A$18&$A$19&$A$20,$D$2:$D$10&$E$2:$E$10&$G$2:$G$10,AJ$2:AJ$10),\"\")","v":""},"","","","","-",{"$f":"'2-2 運転条件シート'!AC130","v":0},{"$f":"IFERROR(_xlfn.XLOOKUP($A$18&$A$19&$A$20,$D$2:$D$10&$E$2:$E$10&$G$2:$G$10,AJ$2:AJ$10),\"\")","v":""},"","","","","-",{"$f":"'2-2 運転条件シート'!AC131","v":0},{"$f":"IFERROR(_xlfn.XLOOKUP($A$18&$A$19&$A$20,$D$2:$D$10&$E$2:$E$10&$G$2:$G$10,AJ$2:AJ$10),\"\")","v":""},"","","","","-",{"$f":"'2-2 運転条件シート'!AC132","v":0},{"$f":"IFERROR(_xlfn.XLOOKUP($A$18&$A$19&$A$20,$D$2:$D$10&$E$2:$E$10&$G$2:$G$10,AJ$2:AJ$10),\"\")","v":""},"","","","","-",{"$f":"'2-2 運転条件シート'!AC133","v":0},{"$f":"IFERROR(_xlfn.XLOOKUP($A$18&$A$19&$A$20,$D$2:$D$10&$E$2:$E$10&$G$2:$G$10,AJ$2:AJ$10),\"\")","v":""},"","","","","-",{"$f":"'2-2 運転条件シート'!AC134","v":0},{"$f":"IFERROR(_xlfn.XLOOKUP($A$18&$A$19&$A$20,$D$2:$D$10&$E$2:$E$10&$G$2:$G$10,AJ$2:AJ$10),\"\")","v":""},"","","","","-",{"$f":"'2-2 運転条件シート'!AC135","v":0},{"$f":"IFERROR(_xlfn.XLOOKUP($A$18&$A$19&$A$20,$D$2:$D$10&$E$2:$E$10&$G$2:$G$10,AJ$2:AJ$10),\"\")","v":""},"","","","","-"]
[null,null,null,20,{"$f":"'2-2 運転条件シート'!AD124","v":0},{"$f":"IFERROR(_xlfn.XLOOKUP($A$18&$A$19&$A$20,$D$2:$D$10&$E$2:$E$10&$G$2:$G$10,AK$2:AK$10),\"\")","v":""},"","","","","-",{"$f":"'2-2 運転条件シート'!AD125","v":0},{"$f":"IFERROR(_xlfn.XLOOKUP($A$18&$A$19&$A$20,$D$2:$D$10&$E$2:$E$10&$G$2:$G$10,AK$2:AK$10),\"\")","v":""},"","","","","-",{"$f":"'2-2 運転条件シート'!AD126","v":0},{"$f":"IFERROR(_xlfn.XLOOKUP($A$18&$A$19&$A$20,$D$2:$D$10&$E$2:$E$10&$G$2:$G$10,AK$2:AK$10),\"\")","v":""},"","","","","-",{"$f":"'2-2 運転条件シート'!AD127","v":0},{"$f":"IFERROR(_xlfn.XLOOKUP($A$18&$A$19&$A$20,$D$2:$D$10&$E$2:$E$10&$G$2:$G$10,AK$2:AK$10),\"\")","v":""},"","","","","-",{"$f":"'2-2 運転条件シート'!AD128","v":0},{"$f":"IFERROR(_xlfn.XLOOKUP($A$18&$A$19&$A$20,$D$2:$D$10&$E$2:$E$10&$G$2:$G$10,AK$2:AK$10),\"\")","v":""},"","","","","-",{"$f":"'2-2 運転条件シート'!AD129","v":0},{"$f":"IFERROR(_xlfn.XLOOKUP($A$18&$A$19&$A$20,$D$2:$D$10&$E$2:$E$10&$G$2:$G$10,AK$2:AK$10),\"\")","v":""},"","","","","-",{"$f":"'2-2 運転条件シート'!AD130","v":0},{"$f":"IFERROR(_xlfn.XLOOKUP($A$18&$A$19&$A$20,$D$2:$D$10&$E$2:$E$10&$G$2:$G$10,AK$2:AK$10),\"\")","v":""},"","","","","-",{"$f":"'2-2 運転条件シート'!AD131","v":0},{"$f":"IFERROR(_xlfn.XLOOKUP($A$18&$A$19&$A$20,$D$2:$D$10&$E$2:$E$10&$G$2:$G$10,AK$2:AK$10),\"\")","v":""},"","","","","-",{"$f":"'2-2 運転条件シート'!AD132","v":0},{"$f":"IFERROR(_xlfn.XLOOKUP($A$18&$A$19&$A$20,$D$2:$D$10&$E$2:$E$10&$G$2:$G$10,AK$2:AK$10),\"\")","v":""},"","","","","-",{"$f":"'2-2 運転条件シート'!AD133","v":0},{"$f":"IFERROR(_xlfn.XLOOKUP($A$18&$A$19&$A$20,$D$2:$D$10&$E$2:$E$10&$G$2:$G$10,AK$2:AK$10),\"\")","v":""},"","","","","-",{"$f":"'2-2 運転条件シート'!AD134","v":0},{"$f":"IFERROR(_xlfn.XLOOKUP($A$18&$A$19&$A$20,$D$2:$D$10&$E$2:$E$10&$G$2:$G$10,AK$2:AK$10),\"\")","v":""},"","","","","-",{"$f":"'2-2 運転条件シート'!AD135","v":0},{"$f":"IFERROR(_xlfn.XLOOKUP($A$18&$A$19&$A$20,$D$2:$D$10&$E$2:$E$10&$G$2:$G$10,AK$2:AK$10),\"\")","v":""},"","","","","-"]
[null,null,null,21,{"$f":"'2-2 運転条件シート'!AE124","v":0},{"$f":"IFERROR(_xlfn.XLOOKUP($A$18&$A$19&$A$20,$D$2:$D$10&$E$2:$E$10&$G$2:$G$10,AL$2:AL$10),\"\")","v":""},"","","","","-",{"$f":"'2-2 運転条件シート'!AE125","v":0},{"$f":"IFERROR(_xlfn.XLOOKUP($A$18&$A$19&$A$20,$D$2:$D$10&$E$2:$E$10&$G$2:$G$10,AL$2:AL$10),\"\")","v":""},"","","","","-",{"$f":"'2-2 運転条件シート'!AE126","v":0},{"$f":"IFERROR(_xlfn.XLOOKUP($A$18&$A$19&$A$20,$D$2:$D$10&$E$2:$E$10&$G$2:$G$10,AL$2:AL$10),\"\")","v":""},"","","","","-",{"$f":"'2-2 運転条件シート'!AE127","v":0},{"$f":"IFERROR(_xlfn.XLOOKUP($A$18&$A$19&$A$20,$D$2:$D$10&$E$2:$E$10&$G$2:$G$10,AL$2:AL$10),\"\")","v":""},"","","","","-",{"$f":"'2-2 運転条件シート'!AE128","v":0},{"$f":"IFERROR(_xlfn.XLOOKUP($A$18&$A$19&$A$20,$D$2:$D$10&$E$2:$E$10&$G$2:$G$10,AL$2:AL$10),\"\")","v":""},"","","","","-",{"$f":"'2-2 運転条件シート'!AE129","v":0},{"$f":"IFERROR(_xlfn.XLOOKUP($A$18&$A$19&$A$20,$D$2:$D$10&$E$2:$E$10&$G$2:$G$10,AL$2:AL$10),\"\")","v":""},"","","","","-",{"$f":"'2-2 運転条件シート'!AE130","v":0},{"$f":"IFERROR(_xlfn.XLOOKUP($A$18&$A$19&$A$20,$D$2:$D$10&$E$2:$E$10&$G$2:$G$10,AL$2:AL$10),\"\")","v":""},"","","","","-",{"$f":"'2-2 運転条件シート'!AE131","v":0},{"$f":"IFERROR(_xlfn.XLOOKUP($A$18&$A$19&$A$20,$D$2:$D$10&$E$2:$E$10&$G$2:$G$10,AL$2:AL$10),\"\")","v":""},"","","","","-",{"$f":"'2-2 運転条件シート'!AE132","v":0},{"$f":"IFERROR(_xlfn.XLOOKUP($A$18&$A$19&$A$20,$D$2:$D$10&$E$2:$E$10&$G$2:$G$10,AL$2:AL$10),\"\")","v":""},"","","","","-",{"$f":"'2-2 運転条件シート'!AE133","v":0},{"$f":"IFERROR(_xlfn.XLOOKUP($A$18&$A$19&$A$20,$D$2:$D$10&$E$2:$E$10&$G$2:$G$10,AL$2:AL$10),\"\")","v":""},"","","","","-",{"$f":"'2-2 運転条件シート'!AE134","v":0},{"$f":"IFERROR(_xlfn.XLOOKUP($A$18&$A$19&$A$20,$D$2:$D$10&$E$2:$E$10&$G$2:$G$10,AL$2:AL$10),\"\")","v":""},"","","","","-",{"$f":"'2-2 運転条件シート'!AE135","v":0},{"$f":"IFERROR(_xlfn.XLOOKUP($A$18&$A$19&$A$20,$D$2:$D$10&$E$2:$E$10&$G$2:$G$10,AL$2:AL$10),\"\")","v":""},"","","","","-"]
[null,null,null,22,{"$f":"'2-2 運転条件シート'!AF124","v":0},{"$f":"IFERROR(_xlfn.XLOOKUP($A$18&$A$19&$A$20,$D$2:$D$10&$E$2:$E$10&$G$2:$G$10,AM$2:AM$10),\"\")","v":""},"","","","","-",{"$f":"'2-2 運転条件シート'!AF125","v":0},{"$f":"IFERROR(_xlfn.XLOOKUP($A$18&$A$19&$A$20,$D$2:$D$10&$E$2:$E$10&$G$2:$G$10,AM$2:AM$10),\"\")","v":""},"","","","","-",{"$f":"'2-2 運転条件シート'!AF126","v":0},{"$f":"IFERROR(_xlfn.XLOOKUP($A$18&$A$19&$A$20,$D$2:$D$10&$E$2:$E$10&$G$2:$G$10,AM$2:AM$10),\"\")","v":""},"","","","","-",{"$f":"'2-2 運転条件シート'!AF127","v":0},{"$f":"IFERROR(_xlfn.XLOOKUP($A$18&$A$19&$A$20,$D$2:$D$10&$E$2:$E$10&$G$2:$G$10,AM$2:AM$10),\"\")","v":""},"","","","","-",{"$f":"'2-2 運転条件シート'!AF128","v":0},{"$f":"IFERROR(_xlfn.XLOOKUP($A$18&$A$19&$A$20,$D$2:$D$10&$E$2:$E$10&$G$2:$G$10,AM$2:AM$10),\"\")","v":""},"","","","","-",{"$f":"'2-2 運転条件シート'!AF129","v":0},{"$f":"IFERROR(_xlfn.XLOOKUP($A$18&$A$19&$A$20,$D$2:$D$10&$E$2:$E$10&$G$2:$G$10,AM$2:AM$10),\"\")","v":""},"","","","","-",{"$f":"'2-2 運転条件シート'!AF130","v":0},{"$f":"IFERROR(_xlfn.XLOOKUP($A$18&$A$19&$A$20,$D$2:$D$10&$E$2:$E$10&$G$2:$G$10,AM$2:AM$10),\"\")","v":""},"","","","","-",{"$f":"'2-2 運転条件シート'!AF131","v":0},{"$f":"IFERROR(_xlfn.XLOOKUP($A$18&$A$19&$A$20,$D$2:$D$10&$E$2:$E$10&$G$2:$G$10,AM$2:AM$10),\"\")","v":""},"","","","","-",{"$f":"'2-2 運転条件シート'!AF132","v":0},{"$f":"IFERROR(_xlfn.XLOOKUP($A$18&$A$19&$A$20,$D$2:$D$10&$E$2:$E$10&$G$2:$G$10,AM$2:AM$10),\"\")","v":""},"","","","","-",{"$f":"'2-2 運転条件シート'!AF133","v":0},{"$f":"IFERROR(_xlfn.XLOOKUP($A$18&$A$19&$A$20,$D$2:$D$10&$E$2:$E$10&$G$2:$G$10,AM$2:AM$10),\"\")","v":""},"","","","","-",{"$f":"'2-2 運転条件シート'!AF134","v":0},{"$f":"IFERROR(_xlfn.XLOOKUP($A$18&$A$19&$A$20,$D$2:$D$10&$E$2:$E$10&$G$2:$G$10,AM$2:AM$10),\"\")","v":""},"","","","","-",{"$f":"'2-2 運転条件シート'!AF135","v":0},{"$f":"IFERROR(_xlfn.XLOOKUP($A$18&$A$19&$A$20,$D$2:$D$10&$E$2:$E$10&$G$2:$G$10,AM$2:AM$10),\"\")","v":""},"","","","","-"]
[null,null,null,23,{"$f":"'2-2 運転条件シート'!AG124","v":0},{"$f":"IFERROR(_xlfn.XLOOKUP($A$18&$A$19&$A$20,$D$2:$D$10&$E$2:$E$10&$G$2:$G$10,AN$2:AN$10),\"\")","v":""},"","","","","-",{"$f":"'2-2 運転条件シート'!AG125","v":0},{"$f":"IFERROR(_xlfn.XLOOKUP($A$18&$A$19&$A$20,$D$2:$D$10&$E$2:$E$10&$G$2:$G$10,AN$2:AN$10),\"\")","v":""},"","","","","-",{"$f":"'2-2 運転条件シート'!AG126","v":0},{"$f":"IFERROR(_xlfn.XLOOKUP($A$18&$A$19&$A$20,$D$2:$D$10&$E$2:$E$10&$G$2:$G$10,AN$2:AN$10),\"\")","v":""},"","","","","-",{"$f":"'2-2 運転条件シート'!AG127","v":0},{"$f":"IFERROR(_xlfn.XLOOKUP($A$18&$A$19&$A$20,$D$2:$D$10&$E$2:$E$10&$G$2:$G$10,AN$2:AN$10),\"\")","v":""},"","","","","-",{"$f":"'2-2 運転条件シート'!AG128","v":0},{"$f":"IFERROR(_xlfn.XLOOKUP($A$18&$A$19&$A$20,$D$2:$D$10&$E$2:$E$10&$G$2:$G$10,AN$2:AN$10),\"\")","v":""},"","","","","-",{"$f":"'2-2 運転条件シート'!AG129","v":0},{"$f":"IFERROR(_xlfn.XLOOKUP($A$18&$A$19&$A$20,$D$2:$D$10&$E$2:$E$10&$G$2:$G$10,AN$2:AN$10),\"\")","v":""},"","","","","-",{"$f":"'2-2 運転条件シート'!AG130","v":0},{"$f":"IFERROR(_xlfn.XLOOKUP($A$18&$A$19&$A$20,$D$2:$D$10&$E$2:$E$10&$G$2:$G$10,AN$2:AN$10),\"\")","v":""},"","","","","-",{"$f":"'2-2 運転条件シート'!AG131","v":0},{"$f":"IFERROR(_xlfn.XLOOKUP($A$18&$A$19&$A$20,$D$2:$D$10&$E$2:$E$10&$G$2:$G$10,AN$2:AN$10),\"\")","v":""},"","","","","-",{"$f":"'2-2 運転条件シート'!AG132","v":0},{"$f":"IFERROR(_xlfn.XLOOKUP($A$18&$A$19&$A$20,$D$2:$D$10&$E$2:$E$10&$G$2:$G$10,AN$2:AN$10),\"\")","v":""},"","","","","-",{"$f":"'2-2 運転条件シート'!AG133","v":0},{"$f":"IFERROR(_xlfn.XLOOKUP($A$18&$A$19&$A$20,$D$2:$D$10&$E$2:$E$10&$G$2:$G$10,AN$2:AN$10),\"\")","v":""},"","","","","-",{"$f":"'2-2 運転条件シート'!AG134","v":0},{"$f":"IFERROR(_xlfn.XLOOKUP($A$18&$A$19&$A$20,$D$2:$D$10&$E$2:$E$10&$G$2:$G$10,AN$2:AN$10),\"\")","v":""},"","","","","-",{"$f":"'2-2 運転条件シート'!AG135","v":0},{"$f":"IFERROR(_xlfn.XLOOKUP($A$18&$A$19&$A$20,$D$2:$D$10&$E$2:$E$10&$G$2:$G$10,AN$2:AN$10),\"\")","v":""},"","","","","-"]
[null,null,null,24,{"$f":"'2-2 運転条件シート'!AH124","v":0},{"$f":"IFERROR(_xlfn.XLOOKUP($A$18&$A$19&$A$20,$D$2:$D$10&$E$2:$E$10&$G$2:$G$10,AO$2:AO$10),\"\")","v":""},"","","","","-",{"$f":"'2-2 運転条件シート'!AH125","v":0},{"$f":"IFERROR(_xlfn.XLOOKUP($A$18&$A$19&$A$20,$D$2:$D$10&$E$2:$E$10&$G$2:$G$10,AO$2:AO$10),\"\")","v":""},"","","","","-",{"$f":"'2-2 運転条件シート'!AH126","v":0},{"$f":"IFERROR(_xlfn.XLOOKUP($A$18&$A$19&$A$20,$D$2:$D$10&$E$2:$E$10&$G$2:$G$10,AO$2:AO$10),\"\")","v":""},"","","","","-",{"$f":"'2-2 運転条件シート'!AH127","v":0},{"$f":"IFERROR(_xlfn.XLOOKUP($A$18&$A$19&$A$20,$D$2:$D$10&$E$2:$E$10&$G$2:$G$10,AO$2:AO$10),\"\")","v":""},"","","","","-",{"$f":"'2-2 運転条件シート'!AH128","v":0},{"$f":"IFERROR(_xlfn.XLOOKUP($A$18&$A$19&$A$20,$D$2:$D$10&$E$2:$E$10&$G$2:$G$10,AO$2:AO$10),\"\")","v":""},"","","","","-",{"$f":"'2-2 運転条件シート'!AH129","v":0},{"$f":"IFERROR(_xlfn.XLOOKUP($A$18&$A$19&$A$20,$D$2:$D$10&$E$2:$E$10&$G$2:$G$10,AO$2:AO$10),\"\")","v":""},"","","","","-",{"$f":"'2-2 運転条件シート'!AH130","v":0},{"$f":"IFERROR(_xlfn.XLOOKUP($A$18&$A$19&$A$20,$D$2:$D$10&$E$2:$E$10&$G$2:$G$10,AO$2:AO$10),\"\")","v":""},"","","","","-",{"$f":"'2-2 運転条件シート'!AH131","v":0},{"$f":"IFERROR(_xlfn.XLOOKUP($A$18&$A$19&$A$20,$D$2:$D$10&$E$2:$E$10&$G$2:$G$10,AO$2:AO$10),\"\")","v":""},"","","","","-",{"$f":"'2-2 運転条件シート'!AH132","v":0},{"$f":"IFERROR(_xlfn.XLOOKUP($A$18&$A$19&$A$20,$D$2:$D$10&$E$2:$E$10&$G$2:$G$10,AO$2:AO$10),\"\")","v":""},"","","","","-",{"$f":"'2-2 運転条件シート'!AH133","v":0},{"$f":"IFERROR(_xlfn.XLOOKUP($A$18&$A$19&$A$20,$D$2:$D$10&$E$2:$E$10&$G$2:$G$10,AO$2:AO$10),\"\")","v":""},"","","","","-",{"$f":"'2-2 運転条件シート'!AH134","v":0},{"$f":"IFERROR(_xlfn.XLOOKUP($A$18&$A$19&$A$20,$D$2:$D$10&$E$2:$E$10&$G$2:$G$10,AO$2:AO$10),\"\")","v":""},"","","","","-",{"$f":"'2-2 運転条件シート'!AH135","v":0},{"$f":"IFERROR(_xlfn.XLOOKUP($A$18&$A$19&$A$20,$D$2:$D$10&$E$2:$E$10&$G$2:$G$10,AO$2:AO$10),\"\")","v":""},"","","","","-"]
[null,null,null,25,{"$f":"'2-2 運転条件シート'!AI124","v":0},{"$f":"IFERROR(_xlfn.XLOOKUP($A$18&$A$19&$A$20,$D$2:$D$10&$E$2:$E$10&$G$2:$G$10,AP$2:AP$10),\"\")","v":""},"","","","","-",{"$f":"'2-2 運転条件シート'!AI125","v":0},{"$f":"IFERROR(_xlfn.XLOOKUP($A$18&$A$19&$A$20,$D$2:$D$10&$E$2:$E$10&$G$2:$G$10,AP$2:AP$10),\"\")","v":""},"","","","","-",{"$f":"'2-2 運転条件シート'!AI126","v":0},{"$f":"IFERROR(_xlfn.XLOOKUP($A$18&$A$19&$A$20,$D$2:$D$10&$E$2:$E$10&$G$2:$G$10,AP$2:AP$10),\"\")","v":""},"","","","","-",{"$f":"'2-2 運転条件シート'!AI127","v":0},{"$f":"IFERROR(_xlfn.XLOOKUP($A$18&$A$19&$A$20,$D$2:$D$10&$E$2:$E$10&$G$2:$G$10,AP$2:AP$10),\"\")","v":""},"","","","","-",{"$f":"'2-2 運転条件シート'!AI128","v":0},{"$f":"IFERROR(_xlfn.XLOOKUP($A$18&$A$19&$A$20,$D$2:$D$10&$E$2:$E$10&$G$2:$G$10,AP$2:AP$10),\"\")","v":""},"","","","","-",{"$f":"'2-2 運転条件シート'!AI129","v":0},{"$f":"IFERROR(_xlfn.XLOOKUP($A$18&$A$19&$A$20,$D$2:$D$10&$E$2:$E$10&$G$2:$G$10,AP$2:AP$10),\"\")","v":""},"","","","","-",{"$f":"'2-2 運転条件シート'!AI130","v":0},{"$f":"IFERROR(_xlfn.XLOOKUP($A$18&$A$19&$A$20,$D$2:$D$10&$E$2:$E$10&$G$2:$G$10,AP$2:AP$10),\"\")","v":""},"","","","","-",{"$f":"'2-2 運転条件シート'!AI131","v":0},{"$f":"IFERROR(_xlfn.XLOOKUP($A$18&$A$19&$A$20,$D$2:$D$10&$E$2:$E$10&$G$2:$G$10,AP$2:AP$10),\"\")","v":""},"","","","","-",{"$f":"'2-2 運転条件シート'!AI132","v":0},{"$f":"IFERROR(_xlfn.XLOOKUP($A$18&$A$19&$A$20,$D$2:$D$10&$E$2:$E$10&$G$2:$G$10,AP$2:AP$10),\"\")","v":""},"","","","","-",{"$f":"'2-2 運転条件シート'!AI133","v":0},{"$f":"IFERROR(_xlfn.XLOOKUP($A$18&$A$19&$A$20,$D$2:$D$10&$E$2:$E$10&$G$2:$G$10,AP$2:AP$10),\"\")","v":""},"","","","","-",{"$f":"'2-2 運転条件シート'!AI134","v":0},{"$f":"IFERROR(_xlfn.XLOOKUP($A$18&$A$19&$A$20,$D$2:$D$10&$E$2:$E$10&$G$2:$G$10,AP$2:AP$10),\"\")","v":""},"","","","","-",{"$f":"'2-2 運転条件シート'!AI135","v":0},{"$f":"IFERROR(_xlfn.XLOOKUP($A$18&$A$19&$A$20,$D$2:$D$10&$E$2:$E$10&$G$2:$G$10,AP$2:AP$10),\"\")","v":""},"","","","","-"]
[null,null,null,26,{"$f":"'2-2 運転条件シート'!AJ124","v":0},{"$f":"IFERROR(_xlfn.XLOOKUP($A$18&$A$19&$A$20,$D$2:$D$10&$E$2:$E$10&$G$2:$G$10,AQ$2:AQ$10),\"\")","v":""},"","","","","-",{"$f":"'2-2 運転条件シート'!AJ125","v":0},{"$f":"IFERROR(_xlfn.XLOOKUP($A$18&$A$19&$A$20,$D$2:$D$10&$E$2:$E$10&$G$2:$G$10,AQ$2:AQ$10),\"\")","v":""},"","","","","-",{"$f":"'2-2 運転条件シート'!AJ126","v":0},{"$f":"IFERROR(_xlfn.XLOOKUP($A$18&$A$19&$A$20,$D$2:$D$10&$E$2:$E$10&$G$2:$G$10,AQ$2:AQ$10),\"\")","v":""},"","","","","-",{"$f":"'2-2 運転条件シート'!AJ127","v":0},{"$f":"IFERROR(_xlfn.XLOOKUP($A$18&$A$19&$A$20,$D$2:$D$10&$E$2:$E$10&$G$2:$G$10,AQ$2:AQ$10),\"\")","v":""},"","","","","-",{"$f":"'2-2 運転条件シート'!AJ128","v":0},{"$f":"IFERROR(_xlfn.XLOOKUP($A$18&$A$19&$A$20,$D$2:$D$10&$E$2:$E$10&$G$2:$G$10,AQ$2:AQ$10),\"\")","v":""},"","","","","-",{"$f":"'2-2 運転条件シート'!AJ129","v":0},{"$f":"IFERROR(_xlfn.XLOOKUP($A$18&$A$19&$A$20,$D$2:$D$10&$E$2:$E$10&$G$2:$G$10,AQ$2:AQ$10),\"\")","v":""},"","","","","-",{"$f":"'2-2 運転条件シート'!AJ130","v":0},{"$f":"IFERROR(_xlfn.XLOOKUP($A$18&$A$19&$A$20,$D$2:$D$10&$E$2:$E$10&$G$2:$G$10,AQ$2:AQ$10),\"\")","v":""},"","","","","-",{"$f":"'2-2 運転条件シート'!AJ131","v":0},{"$f":"IFERROR(_xlfn.XLOOKUP($A$18&$A$19&$A$20,$D$2:$D$10&$E$2:$E$10&$G$2:$G$10,AQ$2:AQ$10),\"\")","v":""},"","","","","-",{"$f":"'2-2 運転条件シート'!AJ132","v":0},{"$f":"IFERROR(_xlfn.XLOOKUP($A$18&$A$19&$A$20,$D$2:$D$10&$E$2:$E$10&$G$2:$G$10,AQ$2:AQ$10),\"\")","v":""},"","","","","-",{"$f":"'2-2 運転条件シート'!AJ133","v":0},{"$f":"IFERROR(_xlfn.XLOOKUP($A$18&$A$19&$A$20,$D$2:$D$10&$E$2:$E$10&$G$2:$G$10,AQ$2:AQ$10),\"\")","v":""},"","","","","-",{"$f":"'2-2 運転条件シート'!AJ134","v":0},{"$f":"IFERROR(_xlfn.XLOOKUP($A$18&$A$19&$A$20,$D$2:$D$10&$E$2:$E$10&$G$2:$G$10,AQ$2:AQ$10),\"\")","v":""},"","","","","-",{"$f":"'2-2 運転条件シート'!AJ135","v":0},{"$f":"IFERROR(_xlfn.XLOOKUP($A$18&$A$19&$A$20,$D$2:$D$10&$E$2:$E$10&$G$2:$G$10,AQ$2:AQ$10),\"\")","v":""},"","","","","-"]
[null,null,null,27,{"$f":"'2-2 運転条件シート'!AK124","v":0},{"$f":"IFERROR(_xlfn.XLOOKUP($A$18&$A$19&$A$20,$D$2:$D$10&$E$2:$E$10&$G$2:$G$10,AR$2:AR$10),\"\")","v":""},"","","","","-",{"$f":"'2-2 運転条件シート'!AK125","v":0},{"$f":"IFERROR(_xlfn.XLOOKUP($A$18&$A$19&$A$20,$D$2:$D$10&$E$2:$E$10&$G$2:$G$10,AR$2:AR$10),\"\")","v":""},"","","","","-",{"$f":"'2-2 運転条件シート'!AK126","v":0},{"$f":"IFERROR(_xlfn.XLOOKUP($A$18&$A$19&$A$20,$D$2:$D$10&$E$2:$E$10&$G$2:$G$10,AR$2:AR$10),\"\")","v":""},"","","","","-",{"$f":"'2-2 運転条件シート'!AK127","v":0},{"$f":"IFERROR(_xlfn.XLOOKUP($A$18&$A$19&$A$20,$D$2:$D$10&$E$2:$E$10&$G$2:$G$10,AR$2:AR$10),\"\")","v":""},"","","","","-",{"$f":"'2-2 運転条件シート'!AK128","v":0},{"$f":"IFERROR(_xlfn.XLOOKUP($A$18&$A$19&$A$20,$D$2:$D$10&$E$2:$E$10&$G$2:$G$10,AR$2:AR$10),\"\")","v":""},"","","","","-",{"$f":"'2-2 運転条件シート'!AK129","v":0},{"$f":"IFERROR(_xlfn.XLOOKUP($A$18&$A$19&$A$20,$D$2:$D$10&$E$2:$E$10&$G$2:$G$10,AR$2:AR$10),\"\")","v":""},"","","","","-",{"$f":"'2-2 運転条件シート'!AK130","v":0},{"$f":"IFERROR(_xlfn.XLOOKUP($A$18&$A$19&$A$20,$D$2:$D$10&$E$2:$E$10&$G$2:$G$10,AR$2:AR$10),\"\")","v":""},"","","","","-",{"$f":"'2-2 運転条件シート'!AK131","v":0},{"$f":"IFERROR(_xlfn.XLOOKUP($A$18&$A$19&$A$20,$D$2:$D$10&$E$2:$E$10&$G$2:$G$10,AR$2:AR$10),\"\")","v":""},"","","","","-",{"$f":"'2-2 運転条件シート'!AK132","v":0},{"$f":"IFERROR(_xlfn.XLOOKUP($A$18&$A$19&$A$20,$D$2:$D$10&$E$2:$E$10&$G$2:$G$10,AR$2:AR$10),\"\")","v":""},"","","","","-",{"$f":"'2-2 運転条件シート'!AK133","v":0},{"$f":"IFERROR(_xlfn.XLOOKUP($A$18&$A$19&$A$20,$D$2:$D$10&$E$2:$E$10&$G$2:$G$10,AR$2:AR$10),\"\")","v":""},"","","","","-",{"$f":"'2-2 運転条件シート'!AK134","v":0},{"$f":"IFERROR(_xlfn.XLOOKUP($A$18&$A$19&$A$20,$D$2:$D$10&$E$2:$E$10&$G$2:$G$10,AR$2:AR$10),\"\")","v":""},"","","","","-",{"$f":"'2-2 運転条件シート'!AK135","v":0},{"$f":"IFERROR(_xlfn.XLOOKUP($A$18&$A$19&$A$20,$D$2:$D$10&$E$2:$E$10&$G$2:$G$10,AR$2:AR$10),\"\")","v":""},"","","","","-"]
[null,null,null,28,{"$f":"'2-2 運転条件シート'!AL124","v":0},{"$f":"IFERROR(_xlfn.XLOOKUP($A$18&$A$19&$A$20,$D$2:$D$10&$E$2:$E$10&$G$2:$G$10,AS$2:AS$10),\"\")","v":""},"","","","","-",{"$f":"'2-2 運転条件シート'!AL125","v":0},{"$f":"IFERROR(_xlfn.XLOOKUP($A$18&$A$19&$A$20,$D$2:$D$10&$E$2:$E$10&$G$2:$G$10,AS$2:AS$10),\"\")","v":""},"","","","","-",{"$f":"'2-2 運転条件シート'!AL126","v":0},{"$f":"IFERROR(_xlfn.XLOOKUP($A$18&$A$19&$A$20,$D$2:$D$10&$E$2:$E$10&$G$2:$G$10,AS$2:AS$10),\"\")","v":""},"","","","","-",{"$f":"'2-2 運転条件シート'!AL127","v":0},{"$f":"IFERROR(_xlfn.XLOOKUP($A$18&$A$19&$A$20,$D$2:$D$10&$E$2:$E$10&$G$2:$G$10,AS$2:AS$10),\"\")","v":""},"","","","","-",{"$f":"'2-2 運転条件シート'!AL128","v":0},{"$f":"IFERROR(_xlfn.XLOOKUP($A$18&$A$19&$A$20,$D$2:$D$10&$E$2:$E$10&$G$2:$G$10,AS$2:AS$10),\"\")","v":""},"","","","","-",{"$f":"'2-2 運転条件シート'!AL129","v":0},{"$f":"IFERROR(_xlfn.XLOOKUP($A$18&$A$19&$A$20,$D$2:$D$10&$E$2:$E$10&$G$2:$G$10,AS$2:AS$10),\"\")","v":""},"","","","","-",{"$f":"'2-2 運転条件シート'!AL130","v":0},{"$f":"IFERROR(_xlfn.XLOOKUP($A$18&$A$19&$A$20,$D$2:$D$10&$E$2:$E$10&$G$2:$G$10,AS$2:AS$10),\"\")","v":""},"","","","","-",{"$f":"'2-2 運転条件シート'!AL131","v":0},{"$f":"IFERROR(_xlfn.XLOOKUP($A$18&$A$19&$A$20,$D$2:$D$10&$E$2:$E$10&$G$2:$G$10,AS$2:AS$10),\"\")","v":""},"","","","","-",{"$f":"'2-2 運転条件シート'!AL132","v":0},{"$f":"IFERROR(_xlfn.XLOOKUP($A$18&$A$19&$A$20,$D$2:$D$10&$E$2:$E$10&$G$2:$G$10,AS$2:AS$10),\"\")","v":""},"","","","","-",{"$f":"'2-2 運転条件シート'!AL133","v":0},{"$f":"IFERROR(_xlfn.XLOOKUP($A$18&$A$19&$A$20,$D$2:$D$10&$E$2:$E$10&$G$2:$G$10,AS$2:AS$10),\"\")","v":""},"","","","","-",{"$f":"'2-2 運転条件シート'!AL134","v":0},{"$f":"IFERROR(_xlfn.XLOOKUP($A$18&$A$19&$A$20,$D$2:$D$10&$E$2:$E$10&$G$2:$G$10,AS$2:AS$10),\"\")","v":""},"","","","","-",{"$f":"'2-2 運転条件シート'!AL135","v":0},{"$f":"IFERROR(_xlfn.XLOOKUP($A$18&$A$19&$A$20,$D$2:$D$10&$E$2:$E$10&$G$2:$G$10,AS$2:AS$10),\"\")","v":""},"","","","","-"]
[null,null,null,29,{"$f":"'2-2 運転条件シート'!AM124","v":0},{"$f":"IFERROR(_xlfn.XLOOKUP($A$18&$A$19&$A$20,$D$2:$D$10&$E$2:$E$10&$G$2:$G$10,AT$2:AT$10),\"\")","v":""},"","","","","-",{"$f":"'2-2 運転条件シート'!AM125","v":0},{"$f":"IFERROR(_xlfn.XLOOKUP($A$18&$A$19&$A$20,$D$2:$D$10&$E$2:$E$10&$G$2:$G$10,AT$2:AT$10),\"\")","v":""},"","","","","-",{"$f":"'2-2 運転条件シート'!AM126","v":0},{"$f":"IFERROR(_xlfn.XLOOKUP($A$18&$A$19&$A$20,$D$2:$D$10&$E$2:$E$10&$G$2:$G$10,AT$2:AT$10),\"\")","v":""},"","","","","-",{"$f":"'2-2 運転条件シート'!AM127","v":0},{"$f":"IFERROR(_xlfn.XLOOKUP($A$18&$A$19&$A$20,$D$2:$D$10&$E$2:$E$10&$G$2:$G$10,AT$2:AT$10),\"\")","v":""},"","",{"$f":"IFERROR($AC$13/AC52,\"\")","v":""},"","-",{"$f":"'2-2 運転条件シート'!AM128","v":0},{"$f":"IFERROR(_xlfn.XLOOKUP($A$18&$A$19&$A$20,$D$2:$D$10&$E$2:$E$10&$G$2:$G$10,AT$2:AT$10),\"\")","v":""},"","","","","-",{"$f":"'2-2 運転条件シート'!AM129","v":0},{"$f":"IFERROR(_xlfn.XLOOKUP($A$18&$A$19&$A$20,$D$2:$D$10&$E$2:$E$10&$G$2:$G$10,AT$2:AT$10),\"\")","v":""},"","","","","-",{"$f":"'2-2 運転条件シート'!AM130","v":0},{"$f":"IFERROR(_xlfn.XLOOKUP($A$18&$A$19&$A$20,$D$2:$D$10&$E$2:$E$10&$G$2:$G$10,AT$2:AT$10),\"\")","v":""},"","","","","-",{"$f":"'2-2 運転条件シート'!AM131","v":0},{"$f":"IFERROR(_xlfn.XLOOKUP($A$18&$A$19&$A$20,$D$2:$D$10&$E$2:$E$10&$G$2:$G$10,AT$2:AT$10),\"\")","v":""},"","","","","-",{"$f":"'2-2 運転条件シート'!AM132","v":0},{"$f":"IFERROR(_xlfn.XLOOKUP($A$18&$A$19&$A$20,$D$2:$D$10&$E$2:$E$10&$G$2:$G$10,AT$2:AT$10),\"\")","v":""},"","","","","-",{"$f":"'2-2 運転条件シート'!AM133","v":0},{"$f":"IFERROR(_xlfn.XLOOKUP($A$18&$A$19&$A$20,$D$2:$D$10&$E$2:$E$10&$G$2:$G$10,AT$2:AT$10),\"\")","v":""},"","","","","-",{"$f":"'2-2 運転条件シート'!AM134","v":0},{"$f":"IFERROR(_xlfn.XLOOKUP($A$18&$A$19&$A$20,$D$2:$D$10&$E$2:$E$10&$G$2:$G$10,AT$2:AT$10),\"\")","v":""},"","","","","-",{"$f":"'2-2 運転条件シート'!AM135","v":0},{"$f":"IFERROR(_xlfn.XLOOKUP($A$18&$A$19&$A$20,$D$2:$D$10&$E$2:$E$10&$G$2:$G$10,AT$2:AT$10),\"\")","v":""},"","","","","-"]
[null,null,null,30,{"$f":"'2-2 運転条件シート'!AN124","v":0},{"$f":"IFERROR(_xlfn.XLOOKUP($A$18&$A$19&$A$20,$D$2:$D$10&$E$2:$E$10&$G$2:$G$10,AU$2:AU$10),\"\")","v":""},"","","","","-",{"$f":"'2-2 運転条件シート'!AN125","v":0},{"$f":"IFERROR(_xlfn.XLOOKUP($A$18&$A$19&$A$20,$D$2:$D$10&$E$2:$E$10&$G$2:$G$10,AU$2:AU$10),\"\")","v":""},"","","","","-",{"$f":"'2-2 運転条件シート'!AN126","v":0},{"$f":"IFERROR(_xlfn.XLOOKUP($A$18&$A$19&$A$20,$D$2:$D$10&$E$2:$E$10&$G$2:$G$10,AU$2:AU$10),\"\")","v":""},"","","","","-",{"$f":"'2-2 運転条件シート'!AN127","v":0},{"$f":"IFERROR(_xlfn.XLOOKUP($A$18&$A$19&$A$20,$D$2:$D$10&$E$2:$E$10&$G$2:$G$10,AU$2:AU$10),\"\")","v":""},"","","","","-",{"$f":"'2-2 運転条件シート'!AN128","v":0},{"$f":"IFERROR(_xlfn.XLOOKUP($A$18&$A$19&$A$20,$D$2:$D$10&$E$2:$E$10&$G$2:$G$10,AU$2:AU$10),\"\")","v":""},"","","","","-",{"$f":"'2-2 運転条件シート'!AN129","v":0},{"$f":"IFERROR(_xlfn.XLOOKUP($A$18&$A$19&$A$20,$D$2:$D$10&$E$2:$E$10&$G$2:$G$10,AU$2:AU$10),\"\")","v":""},"","","","","-",{"$f":"'2-2 運転条件シート'!AN130","v":0},{"$f":"IFERROR(_xlfn.XLOOKUP($A$18&$A$19&$A$20,$D$2:$D$10&$E$2:$E$10&$G$2:$G$10,AU$2:AU$10),\"\")","v":""},"","","","","-",{"$f":"'2-2 運転条件シート'!AN131","v":0},{"$f":"IFERROR(_xlfn.XLOOKUP($A$18&$A$19&$A$20,$D$2:$D$10&$E$2:$E$10&$G$2:$G$10,AU$2:AU$10),\"\")","v":""},"","","","","-",{"$f":"'2-2 運転条件シート'!AN132","v":0},{"$f":"IFERROR(_xlfn.XLOOKUP($A$18&$A$19&$A$20,$D$2:$D$10&$E$2:$E$10&$G$2:$G$10,AU$2:AU$10),\"\")","v":""},"","","","","-",{"$f":"'2-2 運転条件シート'!AN133","v":0},{"$f":"IFERROR(_xlfn.XLOOKUP($A$18&$A$19&$A$20,$D$2:$D$10&$E$2:$E$10&$G$2:$G$10,AU$2:AU$10),\"\")","v":""},"","","","","-",{"$f":"'2-2 運転条件シート'!AN134","v":0},{"$f":"IFERROR(_xlfn.XLOOKUP($A$18&$A$19&$A$20,$D$2:$D$10&$E$2:$E$10&$G$2:$G$10,AU$2:AU$10),\"\")","v":""},"","","","","-",{"$f":"'2-2 運転条件シート'!AN135","v":0},{"$f":"IFERROR(_xlfn.XLOOKUP($A$18&$A$19&$A$20,$D$2:$D$10&$E$2:$E$10&$G$2:$G$10,AU$2:AU$10),\"\")","v":""},"","","","","-"]
[null,null,null,31,{"$f":"'2-2 運転条件シート'!AO124","v":0},{"$f":"IFERROR(_xlfn.XLOOKUP($A$18&$A$19&$A$20,$D$2:$D$10&$E$2:$E$10&$G$2:$G$10,AV$2:AV$10),\"\")","v":""},"","","","","-",{"$f":"'2-2 運転条件シート'!AO125","v":0},{"$f":"IFERROR(_xlfn.XLOOKUP($A$18&$A$19&$A$20,$D$2:$D$10&$E$2:$E$10&$G$2:$G$10,AV$2:AV$10),\"\")","v":""},"","","","","-",{"$f":"'2-2 運転条件シート'!AO126","v":0},{"$f":"IFERROR(_xlfn.XLOOKUP($A$18&$A$19&$A$20,$D$2:$D$10&$E$2:$E$10&$G$2:$G$10,AV$2:AV$10),\"\")","v":""},"","","","","-",{"$f":"'2-2 運転条件シート'!AO127","v":0},{"$f":"IFERROR(_xlfn.XLOOKUP($A$18&$A$19&$A$20,$D$2:$D$10&$E$2:$E$10&$G$2:$G$10,AV$2:AV$10),\"\")","v":""},"","","","","-",{"$f":"'2-2 運転条件シート'!AO128","v":0},{"$f":"IFERROR(_xlfn.XLOOKUP($A$18&$A$19&$A$20,$D$2:$D$10&$E$2:$E$10&$G$2:$G$10,AV$2:AV$10),\"\")","v":""},"","","","","-",{"$f":"'2-2 運転条件シート'!AO129","v":0},{"$f":"IFERROR(_xlfn.XLOOKUP($A$18&$A$19&$A$20,$D$2:$D$10&$E$2:$E$10&$G$2:$G$10,AV$2:AV$10),\"\")","v":""},"","","","","-",{"$f":"'2-2 運転条件シート'!AO130","v":0},{"$f":"IFERROR(_xlfn.XLOOKUP($A$18&$A$19&$A$20,$D$2:$D$10&$E$2:$E$10&$G$2:$G$10,AV$2:AV$10),\"\")","v":""},"","","","","-",{"$f":"'2-2 運転条件シート'!AO131","v":0},{"$f":"IFERROR(_xlfn.XLOOKUP($A$18&$A$19&$A$20,$D$2:$D$10&$E$2:$E$10&$G$2:$G$10,AV$2:AV$10),\"\")","v":""},"","","","","-",{"$f":"'2-2 運転条件シート'!AO132","v":0},{"$f":"IFERROR(_xlfn.XLOOKUP($A$18&$A$19&$A$20,$D$2:$D$10&$E$2:$E$10&$G$2:$G$10,AV$2:AV$10),\"\")","v":""},"","","","","-",{"$f":"'2-2 運転条件シート'!AO133","v":0},{"$f":"IFERROR(_xlfn.XLOOKUP($A$18&$A$19&$A$20,$D$2:$D$10&$E$2:$E$10&$G$2:$G$10,AV$2:AV$10),\"\")","v":""},"","","","","-",{"$f":"'2-2 運転条件シート'!AO134","v":0},{"$f":"IFERROR(_xlfn.XLOOKUP($A$18&$A$19&$A$20,$D$2:$D$10&$E$2:$E$10&$G$2:$G$10,AV$2:AV$10),\"\")","v":""},"","","","","-",{"$f":"'2-2 運転条件シート'!AO135","v":0},{"$f":"IFERROR(_xlfn.XLOOKUP($A$18&$A$19&$A$20,$D$2:$D$10&$E$2:$E$10&$G$2:$G$10,AV$2:AV$10),\"\")","v":""},"","","","","-"]
[null,null,null,32,{"$f":"'2-2 運転条件シート'!AP124","v":0},{"$f":"IFERROR(_xlfn.XLOOKUP($A$18&$A$19&$A$20,$D$2:$D$10&$E$2:$E$10&$G$2:$G$10,AW$2:AW$10),\"\")","v":""},"","","","","-",{"$f":"'2-2 運転条件シート'!AP125","v":0},{"$f":"IFERROR(_xlfn.XLOOKUP($A$18&$A$19&$A$20,$D$2:$D$10&$E$2:$E$10&$G$2:$G$10,AW$2:AW$10),\"\")","v":""},"","","","","-",{"$f":"'2-2 運転条件シート'!AP126","v":0},{"$f":"IFERROR(_xlfn.XLOOKUP($A$18&$A$19&$A$20,$D$2:$D$10&$E$2:$E$10&$G$2:$G$10,AW$2:AW$10),\"\")","v":""},"","","","","-",{"$f":"'2-2 運転条件シート'!AP127","v":0},{"$f":"IFERROR(_xlfn.XLOOKUP($A$18&$A$19&$A$20,$D$2:$D$10&$E$2:$E$10&$G$2:$G$10,AW$2:AW$10),\"\")","v":""},"","","","","-",{"$f":"'2-2 運転条件シート'!AP128","v":0},{"$f":"IFERROR(_xlfn.XLOOKUP($A$18&$A$19&$A$20,$D$2:$D$10&$E$2:$E$10&$G$2:$G$10,AW$2:AW$10),\"\")","v":""},"","","","","-",{"$f":"'2-2 運転条件シート'!AP129","v":0},{"$f":"IFERROR(_xlfn.XLOOKUP($A$18&$A$19&$A$20,$D$2:$D$10&$E$2:$E$10&$G$2:$G$10,AW$2:AW$10),\"\")","v":""},"","","","","-",{"$f":"'2-2 運転条件シート'!AP130","v":0},{"$f":"IFERROR(_xlfn.XLOOKUP($A$18&$A$19&$A$20,$D$2:$D$10&$E$2:$E$10&$G$2:$G$10,AW$2:AW$10),\"\")","v":""},"","","","","-",{"$f":"'2-2 運転条件シート'!AP131","v":0},{"$f":"IFERROR(_xlfn.XLOOKUP($A$18&$A$19&$A$20,$D$2:$D$10&$E$2:$E$10&$G$2:$G$10,AW$2:AW$10),\"\")","v":""},"","","","","-",{"$f":"'2-2 運転条件シート'!AP132","v":0},{"$f":"IFERROR(_xlfn.XLOOKUP($A$18&$A$19&$A$20,$D$2:$D$10&$E$2:$E$10&$G$2:$G$10,AW$2:AW$10),\"\")","v":""},"","","","","-",{"$f":"'2-2 運転条件シート'!AP133","v":0},{"$f":"IFERROR(_xlfn.XLOOKUP($A$18&$A$19&$A$20,$D$2:$D$10&$E$2:$E$10&$G$2:$G$10,AW$2:AW$10),\"\")","v":""},"","","","","-",{"$f":"'2-2 運転条件シート'!AP134","v":0},{"$f":"IFERROR(_xlfn.XLOOKUP($A$18&$A$19&$A$20,$D$2:$D$10&$E$2:$E$10&$G$2:$G$10,AW$2:AW$10),\"\")","v":""},"","","","","-",{"$f":"'2-2 運転条件シート'!AP135","v":0},{"$f":"IFERROR(_xlfn.XLOOKUP($A$18&$A$19&$A$20,$D$2:$D$10&$E$2:$E$10&$G$2:$G$10,AW$2:AW$10),\"\")","v":""},"","","","","-"]
[null,null,null,33,{"$f":"'2-2 運転条件シート'!AQ124","v":0},{"$f":"IFERROR(_xlfn.XLOOKUP($A$18&$A$19&$A$20,$D$2:$D$10&$E$2:$E$10&$G$2:$G$10,AX$2:AX$10),\"\")","v":""},"","","","","-",{"$f":"'2-2 運転条件シート'!AQ125","v":0},{"$f":"IFERROR(_xlfn.XLOOKUP($A$18&$A$19&$A$20,$D$2:$D$10&$E$2:$E$10&$G$2:$G$10,AX$2:AX$10),\"\")","v":""},"","","","","-",{"$f":"'2-2 運転条件シート'!AQ126","v":0},{"$f":"IFERROR(_xlfn.XLOOKUP($A$18&$A$19&$A$20,$D$2:$D$10&$E$2:$E$10&$G$2:$G$10,AX$2:AX$10),\"\")","v":""},"","","","","-",{"$f":"'2-2 運転条件シート'!AQ127","v":0},{"$f":"IFERROR(_xlfn.XLOOKUP($A$18&$A$19&$A$20,$D$2:$D$10&$E$2:$E$10&$G$2:$G$10,AX$2:AX$10),\"\")","v":""},"","","","","-",{"$f":"'2-2 運転条件シート'!AQ128","v":0},{"$f":"IFERROR(_xlfn.XLOOKUP($A$18&$A$19&$A$20,$D$2:$D$10&$E$2:$E$10&$G$2:$G$10,AX$2:AX$10),\"\")","v":""},"","","","","-",{"$f":"'2-2 運転条件シート'!AQ129","v":0},{"$f":"IFERROR(_xlfn.XLOOKUP($A$18&$A$19&$A$20,$D$2:$D$10&$E$2:$E$10&$G$2:$G$10,AX$2:AX$10),\"\")","v":""},"","","","","-",{"$f":"'2-2 運転条件シート'!AQ130","v":0},{"$f":"IFERROR(_xlfn.XLOOKUP($A$18&$A$19&$A$20,$D$2:$D$10&$E$2:$E$10&$G$2:$G$10,AX$2:AX$10),\"\")","v":""},"","","","","-",{"$f":"'2-2 運転条件シート'!AQ131","v":0},{"$f":"IFERROR(_xlfn.XLOOKUP($A$18&$A$19&$A$20,$D$2:$D$10&$E$2:$E$10&$G$2:$G$10,AX$2:AX$10),\"\")","v":""},"","","","","-",{"$f":"'2-2 運転条件シート'!AQ132","v":0},{"$f":"IFERROR(_xlfn.XLOOKUP($A$18&$A$19&$A$20,$D$2:$D$10&$E$2:$E$10&$G$2:$G$10,AX$2:AX$10),\"\")","v":""},"","","","","-",{"$f":"'2-2 運転条件シート'!AQ133","v":0},{"$f":"IFERROR(_xlfn.XLOOKUP($A$18&$A$19&$A$20,$D$2:$D$10&$E$2:$E$10&$G$2:$G$10,AX$2:AX$10),\"\")","v":""},"","","","","-",{"$f":"'2-2 運転条件シート'!AQ134","v":0},{"$f":"IFERROR(_xlfn.XLOOKUP($A$18&$A$19&$A$20,$D$2:$D$10&$E$2:$E$10&$G$2:$G$10,AX$2:AX$10),\"\")","v":""},"","","","","-",{"$f":"'2-2 運転条件シート'!AQ135","v":0},{"$f":"IFERROR(_xlfn.XLOOKUP($A$18&$A$19&$A$20,$D$2:$D$10&$E$2:$E$10&$G$2:$G$10,AX$2:AX$10),\"\")","v":""},"","","","","-"]
[null,null,null,34,{"$f":"'2-2 運転条件シート'!AR124","v":0},{"$f":"IFERROR(_xlfn.XLOOKUP($A$18&$A$19&$A$20,$D$2:$D$10&$E$2:$E$10&$G$2:$G$10,AY$2:AY$10),\"\")","v":""},"","","","","-",{"$f":"'2-2 運転条件シート'!AR125","v":0},{"$f":"IFERROR(_xlfn.XLOOKUP($A$18&$A$19&$A$20,$D$2:$D$10&$E$2:$E$10&$G$2:$G$10,AY$2:AY$10),\"\")","v":""},"","","","","-",{"$f":"'2-2 運転条件シート'!AR126","v":0},{"$f":"IFERROR(_xlfn.XLOOKUP($A$18&$A$19&$A$20,$D$2:$D$10&$E$2:$E$10&$G$2:$G$10,AY$2:AY$10),\"\")","v":""},"","","","","-",{"$f":"'2-2 運転条件シート'!AR127","v":0},{"$f":"IFERROR(_xlfn.XLOOKUP($A$18&$A$19&$A$20,$D$2:$D$10&$E$2:$E$10&$G$2:$G$10,AY$2:AY$10),\"\")","v":""},"","","","","-",{"$f":"'2-2 運転条件シート'!AR128","v":0},{"$f":"IFERROR(_xlfn.XLOOKUP($A$18&$A$19&$A$20,$D$2:$D$10&$E$2:$E$10&$G$2:$G$10,AY$2:AY$10),\"\")","v":""},"","","","","-",{"$f":"'2-2 運転条件シート'!AR129","v":0},{"$f":"IFERROR(_xlfn.XLOOKUP($A$18&$A$19&$A$20,$D$2:$D$10&$E$2:$E$10&$G$2:$G$10,AY$2:AY$10),\"\")","v":""},"","","","","-",{"$f":"'2-2 運転条件シート'!AR130","v":0},{"$f":"IFERROR(_xlfn.XLOOKUP($A$18&$A$19&$A$20,$D$2:$D$10&$E$2:$E$10&$G$2:$G$10,AY$2:AY$10),\"\")","v":""},"","","","","-",{"$f":"'2-2 運転条件シート'!AR131","v":0},{"$f":"IFERROR(_xlfn.XLOOKUP($A$18&$A$19&$A$20,$D$2:$D$10&$E$2:$E$10&$G$2:$G$10,AY$2:AY$10),\"\")","v":""},"","","","","-",{"$f":"'2-2 運転条件シート'!AR132","v":0},{"$f":"IFERROR(_xlfn.XLOOKUP($A$18&$A$19&$A$20,$D$2:$D$10&$E$2:$E$10&$G$2:$G$10,AY$2:AY$10),\"\")","v":""},"","","","","-",{"$f":"'2-2 運転条件シート'!AR133","v":0},{"$f":"IFERROR(_xlfn.XLOOKUP($A$18&$A$19&$A$20,$D$2:$D$10&$E$2:$E$10&$G$2:$G$10,AY$2:AY$10),\"\")","v":""},"","","","","-",{"$f":"'2-2 運転条件シート'!AR134","v":0},{"$f":"IFERROR(_xlfn.XLOOKUP($A$18&$A$19&$A$20,$D$2:$D$10&$E$2:$E$10&$G$2:$G$10,AY$2:AY$10),\"\")","v":""},"","","","","-",{"$f":"'2-2 運転条件シート'!AR135","v":0},{"$f":"IFERROR(_xlfn.XLOOKUP($A$18&$A$19&$A$20,$D$2:$D$10&$E$2:$E$10&$G$2:$G$10,AY$2:AY$10),\"\")","v":""},"","","","","-"]
[null,null,null,35,{"$f":"'2-2 運転条件シート'!AS124","v":0},{"$f":"IFERROR(_xlfn.XLOOKUP($A$18&$A$19&$A$20,$D$2:$D$10&$E$2:$E$10&$G$2:$G$10,AZ$2:AZ$10),\"\")","v":""},"","",{"$f":"IFERROR($G$13/H58,\"\")","v":""},"","-",{"$f":"'2-2 運転条件シート'!AS125","v":0},{"$f":"IFERROR(_xlfn.XLOOKUP($A$18&$A$19&$A$20,$D$2:$D$10&$E$2:$E$10&$G$2:$G$10,AZ$2:AZ$10),\"\")","v":""},"","",{"$f":"IFERROR($O$13/O58,\"\")","v":""},"","-",{"$f":"'2-2 運転条件シート'!AS126","v":0},{"$f":"IFERROR(_xlfn.XLOOKUP($A$18&$A$19&$A$20,$D$2:$D$10&$E$2:$E$10&$G$2:$G$10,AZ$2:AZ$10),\"\")","v":""},"","",{"$f":"IFERROR($V$13/V58,\"\")","v":""},"","-",{"$f":"'2-2 運転条件シート'!AS127","v":0},{"$f":"IFERROR(_xlfn.XLOOKUP($A$18&$A$19&$A$20,$D$2:$D$10&$E$2:$E$10&$G$2:$G$10,AZ$2:AZ$10),\"\")","v":""},"","","","","-",{"$f":"'2-2 運転条件シート'!AS128","v":0},{"$f":"IFERROR(_xlfn.XLOOKUP($A$18&$A$19&$A$20,$D$2:$D$10&$E$2:$E$10&$G$2:$G$10,AZ$2:AZ$10),\"\")","v":""},"","","","","-",{"$f":"'2-2 運転条件シート'!AS129","v":0},{"$f":"IFERROR(_xlfn.XLOOKUP($A$18&$A$19&$A$20,$D$2:$D$10&$E$2:$E$10&$G$2:$G$10,AZ$2:AZ$10),\"\")","v":""},"","","","","-",{"$f":"'2-2 運転条件シート'!AS130","v":0},{"$f":"IFERROR(_xlfn.XLOOKUP($A$18&$A$19&$A$20,$D$2:$D$10&$E$2:$E$10&$G$2:$G$10,AZ$2:AZ$10),\"\")","v":""},"","",{"$f":"IFERROR($AX$13/AX58,\"\")","v":""},"","-",{"$f":"'2-2 運転条件シート'!AS131","v":0},{"$f":"IFERROR(_xlfn.XLOOKUP($A$18&$A$19&$A$20,$D$2:$D$10&$E$2:$E$10&$G$2:$G$10,AZ$2:AZ$10),\"\")","v":""},"","","","","-",{"$f":"'2-2 運転条件シート'!AS132","v":0},{"$f":"IFERROR(_xlfn.XLOOKUP($A$18&$A$19&$A$20,$D$2:$D$10&$E$2:$E$10&$G$2:$G$10,AZ$2:AZ$10),\"\")","v":""},"","","","","-",{"$f":"'2-2 運転条件シート'!AS133","v":0},{"$f":"IFERROR(_xlfn.XLOOKUP($A$18&$A$19&$A$20,$D$2:$D$10&$E$2:$E$10&$G$2:$G$10,AZ$2:AZ$10),\"\")","v":""},"","","","","-",{"$f":"'2-2 運転条件シート'!AS134","v":0},{"$f":"IFERROR(_xlfn.XLOOKUP($A$18&$A$19&$A$20,$D$2:$D$10&$E$2:$E$10&$G$2:$G$10,AZ$2:AZ$10),\"\")","v":""},"","",{"$f":"IFERROR($BZ$13/BZ58,\"\")","v":""},"","-",{"$f":"'2-2 運転条件シート'!AS135","v":0},{"$f":"IFERROR(_xlfn.XLOOKUP($A$18&$A$19&$A$20,$D$2:$D$10&$E$2:$E$10&$G$2:$G$10,AZ$2:AZ$10),\"\")","v":""},"","","","","-"]
[null,null,null,"Σt(h)",{"$f":"SUM(E17:E58)","v":0},null,null,null,null,"必要熱源容量qme(kw) ⇒",{"$f":"IF($A$18=\"一過式\",データ集!$O5,データ集!$P5)","v":"★"},{"$f":"SUM(L17:L58)","v":0},null,null,null,null,null,{"$f":"IF($A$18=\"一過式\",データ集!$O6,データ集!$P6)","v":"★"},{"$f":"SUM(S17:S58)","v":0},null,null,null,null,null,{"$f":"IF($A$18=\"一過式\",データ集!$O7,データ集!$P7)","v":"★"},{"$f":"SUM(Z17:Z58)","v":0},null,null,null,null,null,{"$f":"IF($A$18=\"一過式\",データ集!$O8,データ集!$P8)","v":"★"},{"$f":"SUM(AG17:AG58)","v":0},null,null,null,null,null,{"$f":"IF($A$18=\"一過式\",データ集!$O9,データ集!$P9)","v":"★"},{"$f":"SUM(AN17:AN58)","v":0},null,null,null,null,null,{"$f":"IF($A$18=\"一過式\",データ集!$O10,データ集!$P10)","v":"★"},{"$f":"SUM(AU17:AU58)","v":0},null,null,null,null,null,{"$f":"IF($A$18=\"一過式\",データ集!$O11,データ集!$P11)","v":"★"},{"$f":"SUM(BB17:BB58)","v":0},null,null,null,null,null,{"$f":"IF($A$18=\"一過式\",データ集!$O12,データ集!$P12)","v":"★"},{"$f":"SUM(BI17:BI58)","v":0},null,null,null,null,null,{"$f":"IF($A$18=\"一過式\",データ集!$O13,データ集!$P13)","v":"★"},{"$f":"SUM(BP17:BP58)","v":0},null,null,null,null,null,{"$f":"IF($A$18=\"一過式\",データ集!$O14,データ集!$P14)","v":"★"},{"$f":"SUM(BW17:BW58)","v":0},null,null,null,null,null,{"$f":"IF($A$18=\"一過式\",データ集!$O15,データ集!$P15)","v":"★"},{"$f":"SUM(CD17:CD58)","v":0},null,null,null,null,null,{"$f":"IF($A$18=\"一過式\",データ集!$O16,データ集!$P16)","v":"★"}]
[null,null,null,null,null,null,null,"ηm＝0.71のΦ4とQ4の値：⇒",{"$f":"SUM(J17:J58)","v":0},null,{"$f":"SUM(K17:K59)","v":0},null,null,"〃","⇒",{"$f":"SUM(Q17:Q58)","v":0},null,{"$f":"SUM(R17:R58)","v":0},null,null,"〃","⇒",{"$f":"SUM(X17:X58)","v":0},null,{"$f":"SUM(Y17:Y58)","v":0},null,null,"〃","⇒",{"$f":"SUM(AE17:AE58)","v":0},null,{"$f":"SUM(AF17:AF58)","v":0},null,null,"〃","⇒",{"$f":"SUM(AL17:AL58)","v":0},null,{"$f":"SUM(AM17:AM58)","v":0},null,null,"〃","⇒",{"$f":"SUM(AS17:AS58)","v":0},null,{"$f":"SUM(AT17:AT58)","v":0},null,null,"〃","⇒",{"$f":"SUM(AZ17:AZ58)","v":0},null,{"$f":"SUM(BA17:BA58)","v":0},null,null,"〃","⇒",{"$f":"SUM(BG17:BG58)","v":0},null,{"$f":"SUM(BH17:BH58)","v":0},null,null,"〃","⇒",{"$f":"SUM(BN17:BN58)","v":0},null,{"$f":"SUM(BO17:BO58)","v":0},null,null,"〃","⇒",{"$f":"SUM(BU17:BU58)","v":0},null,{"$f":"SUM(BV17:BV58)","v":0},null,null,"〃","⇒",{"$f":"SUM(CB17:CB58)","v":0},null,{"$f":"SUM(CC17:CC58)","v":0},null,null,"〃","⇒",{"$f":"SUM(CI17:CI58)","v":0},null,{"$f":"SUM(CJ17:CJ58)","v":0}]
[null,null,null,null,null,null,null,"ηm＝1.00のΦ4とQ4の値：⇒","η4＝１",{"$f":"ROUND(+I$60/F$13,0)","v":{"$error":"#VALUE!"}},{"$f":"ROUND(+K$60/F$13,0)","v":{"$error":"#VALUE!"}},null,null,"η5＝１","⇒",null,{"$f":"ROUND(+P$60/N$13,0)","v":{"$error":"#VALUE!"}},{"$f":"ROUND(+R$60/N$13,0)","v":{"$error":"#VALUE!"}},null,null,"η6＝１","⇒",null,{"$f":"ROUND(+W$60/U$13,0)","v":{"$error":"#VALUE!"}},{"$f":"ROUND(+Y$60/U$13,0)","v":{"$error":"#VALUE!"}},null,null,"η7＝１","⇒",null,{"$f":"ROUND(+AD$60/AB$13,0)","v":{"$error":"#VALUE!"}},{"$f":"ROUND(+AF$60/AB$13,0)","v":{"$error":"#VALUE!"}},null,null,"η8＝１","⇒",null,{"$f":"ROUND(+AK$60/AI$13,0)","v":{"$error":"#VALUE!"}},{"$f":"ROUND(+AM$60/AI$13,0)","v":{"$error":"#VALUE!"}},null,null,"η9＝１","⇒",null,{"$f":"ROUND(+AR$60/AP$13,0)","v":{"$error":"#VALUE!"}},{"$f":"ROUND(+AT$60/AP$13,0)","v":{"$error":"#VALUE!"}},null,null,"η10＝１","⇒",null,{"$f":"ROUND(+AY$60/AW$13,0)","v":{"$error":"#VALUE!"}},{"$f":"ROUND(+BA$60/AW$13,0)","v":{"$error":"#VALUE!"}},null,null,"η11＝１","⇒",null,{"$f":"ROUND(+BF$60/BD$13,0)","v":{"$error":"#VALUE!"}},{"$f":"ROUND(+BH$60/BD$13,0)","v":{"$error":"#VALUE!"}},null,null,"η12＝１","⇒",null,{"$f":"ROUND(+BM$60/BK$13,0)","v":{"$error":"#VALUE!"}},{"$f":"ROUND(+BO$60/BK$13,0)","v":{"$error":"#VALUE!"}},null,null,"η1＝１","⇒",null,{"$f":"ROUND(+BT$60/BR$13,0)","v":{"$error":"#VALUE!"}},{"$f":"ROUND(+BV$60/BR$13,0)","v":{"$error":"#VALUE!"}},null,null,"η2＝１","⇒",null,{"$f":"ROUND(+CA$60/BY$13,0)","v":{"$error":"#VALUE!"}},{"$f":"ROUND(+CC$60/BY$13,0)","v":{"$error":"#VALUE!"}},null,null,"η3＝１","⇒",null,{"$f":"ROUND(+CH$60/CF$13,0)","v":{"$error":"#VALUE!"}},{"$f":"ROUND(+CJ$60/CF$13,0)","v":{"$error":"#VALUE!"}}]
[]
["ケース１","給湯加熱能力固定（最小月の最大値）　⇒",null,null,null,null,"給湯能力固定　⇒",null,null,{"$f":"+J61*K63/K61","v":{"$error":"#VALUE!"}},{"$f":"+$BG$83","v":{"$error":"#VALUE!"}},null,null,"給湯能力固定　⇒",null,null,{"$f":"+Q61*R63/R61","v":{"$error":"#VALUE!"}},{"$f":"+$BG$83","v":{"$error":"#VALUE!"}},null,null,"給湯能力固定　⇒",null,null,{"$f":"+X61*Y63/Y61","v":{"$error":"#VALUE!"}},{"$f":"+$BG$83","v":{"$error":"#VALUE!"}},null,null,"給湯能力固定　⇒",null,null,{"$f":"+AE61*AF63/AF61","v":{"$error":"#VALUE!"}},{"$f":"+$BG$83","v":{"$error":"#VALUE!"}},null,null,"給湯能力固定　⇒",null,null,{"$f":"+AL61*AM63/AM61","v":{"$error":"#VALUE!"}},{"$f":"+$BG$83","v":{"$error":"#VALUE!"}},null,null,"給湯能力固定　⇒",null,null,{"$f":"+AS61*AT63/AT61","v":{"$error":"#VALUE!"}},{"$f":"+$BG$83","v":{"$error":"#VALUE!"}},null,null,"給湯能力固定　⇒",null,null,{"$f":"+AZ61*BA63/BA61","v":{"$error":"#VALUE!"}},{"$f":"+$BG$83","v":{"$error":"#VALUE!"}},null,null,"給湯能力固定　⇒",null,null,{"$f":"+BG61*BH63/BH61","v":{"$error":"#VALUE!"}},{"$f":"+$BG$83","v":{"$error":"#VALUE!"}},null,null,"給湯能力固定　⇒",null,null,{"$f":"+BN61*BO63/BO61","v":{"$error":"#VALUE!"}},{"$f":"+$BG$83","v":{"$error":"#VALUE!"}},null,null,"給湯能力固定　⇒",null,null,{"$f":"+BU61*BV63/BV61","v":{"$error":"#VALUE!"}},{"$f":"+$BG$83","v":{"$error":"#VALUE!"}},null,null,"給湯能力固定　⇒",null,null,{"$f":"+CB61*CC63/CC61","v":{"$error":"#VALUE!"}},{"$f":"+$BG$83","v":{"$error":"#VALUE!"}},null,null,"給湯能力固定　⇒",null,null,{"$f":"+CI61*CJ63/CJ61","v":{"$error":"#VALUE!"}},{"$f":"+$BG$83","v":{"$error":"#VALUE!"}}]
[]
["ケース２","工場で必要な給湯加熱能力　⇒",null,null,null,null,null,null,null,"Q4ｅ×1台＝",{"$f":"$BJ$85/$BN$84","v":{"$error":"#DIV/0!"}},null,null,"⇒",null,null,"Q5ｅ×1台＝",{"$f":"$BJ$85/$BN$84","v":{"$error":"#DIV/0!"}},null,null,"⇒",null,null,"Q6ｅ×1台＝",{"$f":"$BJ$85/$BN$84","v":{"$error":"#DIV/0!"}},null,null,"⇒",null,null,"Q7ｅ×1台＝",{"$f":"$BJ$85/$BN$84","v":{"$error":"#DIV/0!"}},null,null,"⇒",null,null,"Q8ｅ×1台＝",{"$f":"$BJ$85/$BN$84","v":{"$error":"#DIV/0!"}},null,null,"⇒",null,null,"Q9ｅ×1台＝",{"$f":"$BJ$85/$BN$84","v":{"$error":"#DIV/0!"}},null,null,"⇒",null,null,"Q10ｅ×1台＝",{"$f":"$BJ$85/$BN$84","v":{"$error":"#DIV/0!"}},null,null,"⇒",null,null,"Q11ｅ×1台＝",{"$f":"$BJ$85/$BN$84","v":{"$error":"#DIV/0!"}},null,null,"⇒",null,null,"Q12ｅ×1台＝",{"$f":"$BJ$85/$BN$84","v":{"$error":"#DIV/0!"}},null,null,"⇒",null,null,"Q1ｅ×1台＝",{"$f":"$BJ$85/$BN$84","v":{"$error":"#DIV/0!"}},null,null,"⇒",null,null,"Q2ｅ×1台＝",{"$f":"$BJ$85/$BN$84","v":{"$error":"#DIV/0!"}},null,null,"⇒",null,null,"Q3ｅ×1台＝",{"$f":"$BJ$85/$BN$84","v":{"$error":"#DIV/0!"}}]
[null,null,"項目の説明",null,null,null,null,null,null,"Φ4e","Ｑ4e",null,null,null,"項目",null,"Φ5e","Ｑ5e",null,null,null,"項目",null,"Φ6e","Ｑ6e",null,null,null,"項目",null,"Φ7e","Ｑ7e",null,null,null,"項目",null,"Φ8e","Ｑ8e",null,null,null,"項目",null,"Φ9e","Ｑ9e",null,null,null,"項目",null,"Φ10e","Ｑ10e",null,null,null,"項目",null,"Φ11e","Ｑ11e",null,null,null,"項目",null,"Φ12e","Ｑ12e",null,null,null,"項目",null,"Φ1e","Ｑ1e",null,null,null,"項目",null,"Φ2e","Ｑ2e",null,null,null,"項目",null,"Φ3e","Ｑ3e"]
[null,null,"・時間毎に測定した給湯流量と温度差から算出した加熱能力Qｍe＝Σｑ×ηｍe×tm：⇒測定値を手入力　［kWh］\n・消費電力Φme＝Σｐ×ηme×tm：⇒自動　［kWh］",null,null,null,null,null,"4月",{"$f":"+J61*J68","v":{"$error":"#VALUE!"}},{"$f":"MIN(K61,K65)","v":{"$error":"#VALUE!"}},null,null,"〃　［kWh]",null,"5月",{"$f":"+Q61*Q68","v":{"$error":"#VALUE!"}},{"$f":"MIN(R61,R65)","v":{"$error":"#VALUE!"}},null,null,"〃　［kWh]",null,"6月",{"$f":"+X61*X68","v":{"$error":"#VALUE!"}},{"$f":"MIN(Y61,Y65)","v":{"$error":"#VALUE!"}},null,null,"〃　［kWh]",null,"7月",{"$f":"+AE61*AE68","v":{"$error":"#VALUE!"}},{"$f":"MIN(AF61,AF65)","v":{"$error":"#VALUE!"}},null,null,"〃　［kWh]",null,"8月",{"$f":"+AL61*AL68","v":{"$error":"#VALUE!"}},{"$f":"MIN(AM61,AM65)","v":{"$error":"#VALUE!"}},null,null,"〃　［kWh]",null,"9月",{"$f":"+AS61*AS68","v":{"$error":"#VALUE!"}},{"$f":"MIN(AT61,AT65)","v":{"$error":"#VALUE!"}},null,null,"〃　［kWh]",null,"10月",{"$f":"+AZ61*AZ68","v":{"$error":"#VALUE!"}},{"$f":"MIN(BA61,BA65)","v":{"$error":"#VALUE!"}},null,null,"〃　［kWh]",null,"11月",{"$f":"+BG61*BG68","v":{"$error":"#VALUE!"}},{"$f":"MIN(BH61,BH65)","v":{"$error":"#VALUE!"}},null,null,"〃　［kWh]",null,"12月",{"$f":"+BN61*BN68","v":{"$error":"#VALUE!"}},{"$f":"MIN(BO61,BO65)","v":{"$error":"#VALUE!"}},null,null,"〃　［kWh]",null,"1月",{"$f":"+BU61*BU68","v":{"$error":"#VALUE!"}},{"$f":"MIN(BV61,BV65)","v":{"$error":"#VALUE!"}},null,null,"〃　［kWh]",null,"2月",{"$f":"+CB61*CB68","v":{"$error":"#VALUE!"}},{"$f":"MIN(CC61,CC65)","v":{"$error":"#VALUE!"}},null,null,"〃　［kWh]",null,"3月",{"$f":"+CI61*CI68","v":{"$error":"#VALUE!"}},{"$f":"MIN(CJ61,CJ65)","v":{"$error":"#VALUE!"}}]
[null,null,"・月毎の測定負荷率ηme：⇒　自動（1.0以下)［－］",null,null,null,null,null,"η4e",{"$f":"ROUND(+K67/K61,3)","v":{"$error":"#VALUE!"}},null,null,null,"〃　［－]",null,"η5e",{"$f":"ROUND(+R67/R61,3)","v":{"$error":"#VALUE!"}},null,null,null,"〃　［－]",null,"η6e",{"$f":"ROUND(+Y67/Y61,3)","v":{"$error":"#VALUE!"}},null,null,null,"〃　［－]",null,"η7e",{"$f":"ROUND(+AF67/AF61,3)","v":{"$error":"#VALUE!"}},null,null,null,"〃　［－]",null,"η8e",{"$f":"ROUND(+AM67/AM61,3)","v":{"$error":"#VALUE!"}},null,null,null,"〃　［－]",null,"η9e",{"$f":"ROUND(+AT67/AT61,3)","v":{"$error":"#VALUE!"}},null,null,null,"〃　［－]",null,"η10e",{"$f":"ROUND(+BA67/BA61,3)","v":{"$error":"#VALUE!"}},null,null,null,"〃　［－]",null,"η11e",{"$f":"ROUND(+BH67/BH61,3)","v":{"$error":"#VALUE!"}},null,null,null,"〃　［－]",null,"η12e",{"$f":"ROUND(+BO67/BO61,3)","v":{"$error":"#VALUE!"}},null,null,null,"〃　［－]",null,"η1e",{"$f":"ROUND(+BV67/BV61,3)","v":{"$error":"#VALUE!"}},null,null,null,"〃　［－]",null,"η2e",{"$f":"ROUND(+CC67/CC61,3)","v":{"$error":"#VALUE!"}},null,null,null,"〃　［－]",null,"η3e",{"$f":"ROUND(+CJ67/CJ61,3)","v":{"$error":"#VALUE!"}}]
[null,null,"注）ηmeは測定した加熱能力Qmeを入力すると自動で計算される。ただしηｍ＜1.0",null,null,null,null,null,null,null,null,null,null,"注）：　　〃",null,null,null,null,null,null,"注）：　　〃",null,null,null,null,null,null,"注）：　　〃",null,null,null,null,null,null,"注）：　　〃",null,null,null,null,null,null,"注）：　　〃",null,null,null,null,null,null,"注）：　　〃",null,null,null,null,null,null,"注）：　　〃",null,null,null,null,null,null,"注）：　　〃",null,null,null,null,null,null,"注）：　　〃",null,null,null,null,null,null,"注）：　　〃",null,null,null,null,null,null,"注）：　　〃"]
[null,null,"　ηm>1.0の場合は給湯EHPの台数を増やすか上位能力のものを選定する。"]
[null,null,"注２）N：計算ツールで入力した台数"]
[]
["ケース３","工程で必要な加熱能力　⇒ Q4ｅ（1台）",null,null,null,null,null,null,"計算枠⇒",{"$f":"J61*J76","v":{"$error":"#VALUE!"}},{"$f":"E59*K59","v":{"$error":"#VALUE!"}},null,null,null,null,"計算枠⇒",{"$f":"Q61*Q76","v":{"$error":"#VALUE!"}},{"$f":"L59*R59","v":{"$error":"#VALUE!"}},null,null,null,null,"計算枠⇒",{"$f":"X61*X76","v":{"$error":"#VALUE!"}},{"$f":"S59*Y59","v":{"$error":"#VALUE!"}},null,null,null,null,"計算枠⇒",{"$f":"AE61*AE76","v":{"$error":"#VALUE!"}},{"$f":"Z59*AF59","v":{"$error":"#VALUE!"}},null,null,null,null,"計算枠⇒",{"$f":"AL61*AL76","v":{"$error":"#VALUE!"}},{"$f":"AG59*AM59","v":{"$error":"#VALUE!"}},null,null,null,null,"計算枠⇒",{"$f":"AS61*AS76","v":{"$error":"#VALUE!"}},{"$f":"AN59*AT59","v":{"$error":"#VALUE!"}},null,null,null,null,"計算枠⇒",{"$f":"AZ61*AZ76","v":{"$error":"#VALUE!"}},{"$f":"AU59*BA59","v":{"$error":"#VALUE!"}},null,null,null,null,"計算枠⇒",{"$f":"BG61*BG76","v":{"$error":"#VALUE!"}},{"$f":"BB59*BH59","v":{"$error":"#VALUE!"}},null,null,null,null,"計算枠⇒",{"$f":"BN61*BN76","v":{"$error":"#VALUE!"}},{"$f":"BI59*BO59","v":{"$error":"#VALUE!"}},null,null,null,null,"計算枠⇒",{"$f":"BU61*BU76","v":{"$error":"#VALUE!"}},{"$f":"BP59*BV59","v":{"$error":"#VALUE!"}},null,null,null,null,"計算枠⇒",{"$f":"CB61*CB76","v":{"$error":"#VALUE!"}},{"$f":"BW59*CC59","v":{"$error":"#VALUE!"}},null,null,null,null,"計算枠⇒",{"$f":"CI61*CI76","v":{"$error":"#VALUE!"}},{"$f":"CD59*CJ59","v":{"$error":"#VALUE!"}}]
[null,null,"項目の説明",null,null,null,null,null,null,"Φ4e","Ｑ4e",null,null,"項目",null,null,"Φ5e","Ｑ5e",null,null,"項目",null,null,"Φ6e","Ｑ6e",null,null,"項目",null,null,"Φ7e","Ｑ7e",null,null,"項目",null,null,"Φ8e","Ｑ8e",null,null,"項目",null,null,"Φ9e","Ｑ9e",null,null,"項目",null,null,"Φ10e","Ｑ10e",null,null,"項目",null,null,"Φ11e","Ｑ11e",null,null,"項目",null,null,"Φ12e","Ｑ12e",null,null,"項目",null,null,"Φ1e","Ｑ1e",null,null,"項目",null,null,"Φ2e","Ｑ2e",null,null,"項目",null,null,"Φ3e","Ｑ3e"]
[null,null,"・必要な給湯量（ケース3説明参照）と上表の温度差から加熱能力を算出しP値と比較する\nq [kW］＞ｑme [kW］ならOK。Qme＝qme×Σｔ［kWh］\n・消費電力　φme＝Σｐ×ηme×tm［kWh］",null,null,null,null,null,{"$f":"I67","v":"4月"},{"$f":"IF(J76>1,J61,J73)","v":{"$error":"#VALUE!"}},{"$f":"IF(J76>1,K61,K73)","v":{"$error":"#VALUE!"}},null,null,"〃　［kWh]",null,"5月",{"$f":"IF(Q76>1,Q61,Q73)","v":{"$error":"#VALUE!"}},{"$f":"IF(Q76>1,R61,R73)","v":{"$error":"#VALUE!"}},null,null,"〃　［kWh]",null,"6月",{"$f":"IF(X76>1,X61,X73)","v":{"$error":"#VALUE!"}},{"$f":"IF(X76>1,Y61,Y73)","v":{"$error":"#VALUE!"}},null,null,"〃　［kWh]",null,"7月",{"$f":"IF(AE76>1,AE61,AE73)","v":{"$error":"#VALUE!"}},{"$f":"IF(AE76>1,AF61,AF73)","v":{"$error":"#VALUE!"}},null,null,"〃　［kWh]",null,"8月",{"$f":"IF(AL76>1,AL61,AL73)","v":{"$error":"#VALUE!"}},{"$f":"IF(AL76>1,AM61,AM73)","v":{"$error":"#VALUE!"}},null,null,"〃　［kWh]",null,"9月",{"$f":"IF(AS76>1,AS61,AS73)","v":{"$error":"#VALUE!"}},{"$f":"IF(AS76>1,AT61,AT73)","v":{"$error":"#VALUE!"}},null,null,"〃　［kWh]",null,"10月",{"$f":"IF(AZ76>1,AZ61,AZ73)","v":{"$error":"#VALUE!"}},{"$f":"IF(AZ76>1,BA61,BA73)","v":{"$error":"#VALUE!"}},null,null,"〃　［kWh]",null,"11月",{"$f":"IF(BG76>1,BG61,BG73)","v":{"$error":"#VALUE!"}},{"$f":"IF(BG76>1,BH61,BH73)","v":{"$error":"#VALUE!"}},null,null,"〃　［kWh]",null,"12月",{"$f":"IF(BN76>1,BN61,BN73)","v":{"$error":"#VALUE!"}},{"$f":"IF(BN76>1,BO61,BO73)","v":{"$error":"#VALUE!"}},null,null,"〃　［kWh]",null,"1月",{"$f":"IF(BU76>1,BU61,BU73)","v":{"$error":"#VALUE!"}},{"$f":"IF(BU76>1,BV61,BV73)","v":{"$error":"#VALUE!"}},null,null,"〃　［kWh]",null,"2月",{"$f":"IF(CB76>1,CB61,CB73)","v":{"$error":"#VALUE!"}},{"$f":"IF(CB76>1,CC61,CC73)","v":{"$error":"#VALUE!"}},null,null,"〃　［kWh]",null,"3月",{"$f":"IF(CI76>1,CI61,CI73)","v":{"$error":"#VALUE!"}},{"$f":"IF(CI76>1,CJ61,CJ73)","v":{"$error":"#VALUE!"}}]
[null,null,"・月毎の測定負荷率ηme：⇒　自動（1.0以下)［－］",null,null,null,null,null,{"$f":"I68","v":"η4e"},{"$f":"ROUND(+K73/K61,2)","v":{"$error":"#VALUE!"}},null,null,null,"〃　［－]",null,"η5e",{"$f":"ROUND(+R73/R61,2)","v":{"$error":"#VALUE!"}},null,null,null,"〃　［－]",null,"η6e",{"$f":"ROUND(+Y73/Y61,2)","v":{"$error":"#VALUE!"}},null,null,null,"〃　［－]",null,"η7e",{"$f":"ROUND(+AF73/AF61,2)","v":{"$error":"#VALUE!"}},null,null,null,"〃　［－]",null,"η8e",{"$f":"ROUND(+AM73/AM61,2)","v":{"$error":"#VALUE!"}},null,null,null,"〃　［－]",null,"η9e",{"$f":"ROUND(+AT73/AT61,2)","v":{"$error":"#VALUE!"}},null,null,null,"〃　［－]",null,"η10e",{"$f":"ROUND(+BA73/BA61,2)","v":{"$error":"#VALUE!"}},null,null,null,"〃　［－]",null,"η11e",{"$f":"ROUND(+BH73/BH61,2)","v":{"$error":"#VALUE!"}},null,null,null,"〃　［－]",null,"η12e",{"$f":"ROUND(+BO73/BO61,2)","v":{"$error":"#VALUE!"}},null,null,null,"〃　［－]",null,"η1e",{"$f":"ROUND(+BV73/BV61,2)","v":{"$error":"#VALUE!"}},null,null,null,"〃　［－]",null,"η2e",{"$f":"ROUND(+CC73/CC61,2)","v":{"$error":"#VALUE!"}},null,null,null,"〃　［－]",null,"η3e",{"$f":"ROUND(+CJ73/CJ61,2)","v":{"$error":"#VALUE!"}}]
[null,null,"注1）ηmeは測定した加熱能力Qmeを入力すると",null,null,null,null,null,"ηe>１の場合、ηと入れ替え",null,null,null,null,"注）：　　〃",null,"ηe>１の場合、ηと入れ替え",null,null,null,null,"注）：　　〃",null,"ηe>１の場合、ηと入れ替え",null,null,null,null,"注）：　　〃",null,"ηe>１の場合、ηと入れ替え",null,null,null,null,"注）：　　〃",null,"ηe>１の場合、ηと入れ替え",null,null,null,null,"注）：　　〃",null,"ηe>１の場合、ηと入れ替え",null,null,null,null,"注）：　　〃",null,"ηe>１の場合、ηと入れ替え",null,null,null,null,"注）：　　〃",null,"ηe>１の場合、ηと入れ替え",null,null,null,null,"注）：　　〃",null,"ηe>１の場合、ηと入れ替え",null,null,null,null,"注）：　　〃",null,"ηe>１の場合、ηと入れ替え",null,null,null,null,"注）：　　〃",null,"ηe>１の場合、ηと入れ替え",null,null,null,null,"注）：　　〃",null,"ηe>１の場合、ηと入れ替え"]
[null,null,"自動で計算される。ただしηｍ＜1.0、ηm>1.0の場合の消費電力と能力はηm=1.0の値を使用する。"]
[null,null,"注2）N：計算ツールで入力した台数"]
[null,null,null,null,null,null,null,null,null,null,null,null,null,null,null,null,null,null,null,null,null,null,"日給湯量の算出方法例",null,null,null,null,null,null,null,null,null,null,null,null,null,null,null,null,null,null,null,null,null,null,null,null,null,null,null,null,null,null,null,null,"給湯EHPの最大値でかつ最小能力月の値",null,null,null,null,null,null,null,null,"ケース1　最小給湯能力で年間稼働する場合",null,null,null,null,null,null,null,"ケース2　必要給湯量を設定した時の計算結果",null,null,null,null,null,null,null,"用途別の計算結果"]
[null,null,null,null,null,null,null,null,null,null,null,null,null,null,null,null,null,null,null,null,null,null,"・給湯熱量は「給湯ヒートポンプツールが計算する冬季の月給湯能力［kWh］」から月給湯量［L/月］を算出。(一部給湯ボイラーが残存する場合、全体の燃料使用量から給湯ヒートポンプ能力を差引いて算出した給湯量［L/月」を合算)",null,null,null,null,null,null,null,null,null,null,null,null,null,null,null,null,null,null,null,null,null,null,null,null,null,null,null,null,null,null,null,null,"項目",null,"該当月","[kWh/台]","[kWh/月]",null,"工程の必要給湯量[ℓ/日]",null,null,"合計消費電力ΣΦn",null,{"$f":"+J63+Q63+X63+AE63+AL63+AS63+AZ63+BG63+BN63+BU63+CB63+CI63","v":{"$error":"#VALUE!"}},null,null,"［kWh/年・台］",null,null,"合計消費電力ΣΦn",null,{"$f":"+J67+Q67+X67+AE67+AL67+AS67+AZ67+BG67+BN67+BU67+CB67+CI67","v":{"$error":"#VALUE!"}},null,null,"［kWh/年・台］",null,null,"合計消費電力ΣΦ",null,{"$f":"I60+P60+W60+AD60+AK60+AR60+AY60+BF60+BM60+BT60+CA60+CH60","v":0},null,null,"［kWh/年・台］"]
[null,null,null,null,null,null,null,null,null,null,null,null,null,null,null,null,null,null,null,null,null,null,"■用途別自動計算",null,null,null,null,null,null,null,null,null,null,null,null,null,null,null,null,null,null,null,null,null,null,null,null,null,null,null,null,null,null,null,null,null,null,null,null,null,null,null,null,null,"台数",{"$f":"+AA89","v":0},{"$f":"+BO81*BN82","v":{"$error":"#VALUE!"}},null,null,null,null,null,"台数",{"$f":"AA89","v":0},{"$f":"+BW81*BV82","v":{"$error":"#VALUE!"}},null,null,null,null,null,"台数",{"$f":"AA83","v":0},{"$f":"CE81*CD82","v":0}]
[null,null,null,null,null,null,null,null,null,null,null,null,null,null,null,null,null,null,null,null,null,null,null,"給湯ヒートポンプ",null,null,{"$f":"'2-2 運転条件シート'!AF27","v":0},"台の",null,"給湯\n熱量",{"$f":"BV60*3.6*AA83","v":0},null,"MJ/1月",null,"給湯量","焚上\n(℃)",{"$f":"A19","v":0},null,{"$f":"+AE83*1000/(4.2*(A19-A23))","v":{"$error":"#VALUE!"}},null,"ℓ/1月",null,null,null,null,null,null,null,null,null,null,null,null,null,null,"給湯能力最小",null,{"$f":"データ集!L17","v":{"$error":"#VALUE!"}},{"$f":"データ集!J17","v":{"$error":"#VALUE!"}},{"$f":"BG83*BV82","v":{"$error":"#VALUE!"}},null,null,null,null,"合計給湯能力ΣQn",null,{"$f":"+BG83*12","v":{"$error":"#VALUE!"}},null,null,"［kWh/年・台］",null,null,"合計給湯能力ΣQn",null,{"$f":"+K67+R67+Y67+AF67+AM67+AT67+BA67+BH67+BO67+BV67+CC67+CJ67","v":{"$error":"#VALUE!"}},null,null,"［kWh/年・台］",null,null,"合計給湯能力ΣQ",null,{"$f":"K60+R60+Y60+AF60+AM60+AT60+BA60+BH60+BO60+BV60+CC60+CJ60","v":0},null,null,"［kWh/年・台］"]
[null,null,null,null,null,null,null,null,null,null,null,null,null,null,null,null,null,null,null,null,null,null,null,null,null,null,null,null,null,null,null,null,null,null,null,null,null,null,null,null,null,null,null,null,null,null,null,null,null,null,null,null,null,null,null,null,null,null,null,null,"⇒",null,null,null,"台数",{"$f":"+AA89","v":0},{"$f":"+BO83*BN84","v":{"$error":"#VALUE!"}},null,null,null,null,null,"台数",{"$f":"AA89","v":0},{"$f":"+BW83*BV84","v":{"$error":"#VALUE!"}},null,null,null,null,null,"台数",{"$f":"AA83","v":0},{"$f":"CE83*CD84","v":0}]
[null,null,null,null,null,null,null,null,null,null,null,null,null,null,null,null,null,null,null,null,"ケース１",null,"■給湯加熱能力固定（最小月の機器能力最大値）計算",null,null,null,null,null,null,null,null,null,null,null,null,null,null,null,null,null,null,null,null,null,null,null,null,null,null,null,null,null,null,null,null,"給湯能力最大",null,{"$f":"データ集!L18","v":{"$error":"#VALUE!"}},{"$f":"データ集!J18","v":{"$error":"#VALUE!"}},{"$f":"BG85*BV84","v":{"$error":"#VALUE!"}},null,{"$f":"'2-2 運転条件シート'!AI31","v":0}]
[null,null,null,null,null,null,null,null,null,null,null,null,null,null,null,null,null,null,null,null,null,null,null,"給湯ヒートポンプ",null,null,{"$f":"+AA83","v":0},"台の",null,"給湯\n熱量",{"$f":"+BG83*3.6*AA86","v":{"$error":"#VALUE!"}},null,"MJ/2月",null,"給湯量","焚上\n(℃)",{"$f":"+A19","v":0},null,{"$f":"+AE86*1000/(4.2*($A$19-$A$23))","v":{"$error":"#VALUE!"}},null,"ℓ/2月",null,{"$f":"BF83","v":{"$error":"#VALUE!"}}]
[null,null,null,null,null,null,null,null,null,null,null,null,null,null,null,null,null,null,null,null,"ケース２",null,"■測定した熱量が分かっている計算",null,null,null,null,null,null,null,null,null,null,null,null,null,null,null,null,null,null,null,null,null,null,null,null,null,null,null,null,null,null,null,null,null,null,null,null,null,null,"※工程の給湯使用量から推定した必要能力を入力"]
[null,null,null,null,null,null,null,null,null,null,null,null,null,null,null,null,null,null,null,null,null,null,"・給湯熱量は「給湯ヒートポンプツールが計算する冬季（１月または２月）で測定した給湯能力［kWh］」から月給湯量［L/月］を算出。(一部給湯ボイラーが残存する場合、全体の燃料使用量から給湯ヒートポンプ能力を差引いて算出した給湯量［L/月」を合算)"]
[null,null,null,null,null,null,null,null,null,null,null,null,null,null,null,null,null,null,null,null,null,null,null,"給湯ヒートポンプ",null,null,{"$f":"+AA83","v":0},"台の",null,"給湯\n熱量",{"$f":"+BV67*3.6*AA89","v":{"$error":"#VALUE!"}},null,"MJ/1月",null,"給湯量","焚上\n(℃)",{"$f":"+A19","v":0},null,{"$f":"+AE89*1000/(4.2*($A$19-$A$23))","v":{"$error":"#VALUE!"}},null,"ℓ/１月"]
[null,null,null,null,null,null,null,null,null,null,null,null,null,null,null,null,null,null,null,null,null,null,"・用途別の繁忙度から最大日給湯量を算定。繁忙度は該当月の在室人員、病床使用数、宿泊者数、入場者数などから算定。",null,null,null,null,null,null,null,null,null,null,null,null,null,null,null,null,null,null,null,null,null,null,null,null,null,null,null,null,null,null,null,null,null,null,null,null,null,null,null,null,null,"ケース３　測定した給湯量が分かっている時の消費電力と給湯能力計算結果"]
[null,null,null,null,null,null,null,null,null,null,null,null,null,null,null,null,null,null,null,null,null,null,"・給湯全負荷相当時間の算出には「給湯ヒートポンプ年間活動量算定ツール」の該当月の日稼働時間［h/日］を使用。",null,null,null,null,null,null,null,null,null,null,null,null,null,null,null,null,null,null,null,null,null,null,null,null,null,null,null,null,null,null,null,null,null,null,null,null,null,null,null,null,null,"合計消費電力ΣΦn",null,{"$f":"J73+Q73+X73+AE73+AL73+AS73+AZ73+BG73+BN73+BU73+CB73+CI73","v":{"$error":"#VALUE!"}}]
[null,null,null,null,null,null,null,null,null,null,null,null,null,null,null,null,null,null,null,null,"計算ツールの稼働時間",null,null,null,null,"病院(老健)",14,"h/日",null,null,null,null,null,null,null,null,null,null,null,null,null,null,null,null,null,null,null,null,null,null,null,null,null,null,null,null,null,null,null,null,null,null,null,null,"台数",{"$f":"AA104","v":0},{"$f":"BO91*BN92","v":{"$error":"#VALUE!"}}]
[null,null,null,null,null,null,null,null,null,null,null,null,null,null,null,null,null,null,null,null,null,null,"シティーホテル/温泉旅館",null,null,null,24,"h/日",null,null,null,null,null,null,null,null,null,null,null,null,null,null,null,null,null,null,null,null,null,null,null,null,null,null,null,null,null,null,null,null,null,null,null,null,"合計給湯能力ΣQn",null,{"$f":"K73+R73+Y73+AF73+AM73+AT73+BA73+BH73+BO73+BV73+CC73+CJ73","v":{"$error":"#VALUE!"}}]
[null,null,null,null,null,null,null,null,null,null,null,null,null,null,null,null,null,null,null,null,null,null,"オフィスビル",null,null,null,10,"h/日",null,null,null,null,null,null,null,null,null,null,null,null,null,null,null,null,null,null,null,null,null,null,null,null,null,null,null,null,null,null,null,null,null,null,null,null,"台数",{"$f":"AA104","v":0},{"$f":"BO93*BN94","v":{"$error":"#VALUE!"}}]
[null,null,null,null,null,null,null,null,null,null,null,null,null,null,null,null,null,null,null,null,null,null,"飲食・店舗",null,null,null,12,"h/日"]
[]
[null,null,null,null,null,null,null,null,null,null,null,null,null,null,null,null,null,null,null,null,"ケース3",null,"■測定した給湯量が分かっているときの給湯能力と消費電力の計算"]
[null,null,null,null,null,null,null,null,null,null,null,null,null,null,null,null,null,null,null,null,null,null,"・毎日決まった時間帯に給湯を使用する工程。平日のみ稼働する作業で繁忙度による時間給湯量の相違は生じないが、稼働する月と時間帯で外気温度、入水温度が異なるため毎月の給湯処理能力と消費電力が変わるため年間の推計が必要となる。"]
[null,null,null,null,null,null,null,null,null,null,null,null,null,null,null,null,null,null,null,null,null,null,"工程で必要な給湯量は：",null,null,null,{"$f":"'2-2 運転条件シート'!AI31","v":0},null,null,"ℓ/日"]
[null,null,null,null,null,null,null,null,null,null,null,null,null,null,null,null,null,null,null,null,null,null,"稼動時間帯は：",null,null,{"$f":"'2-2 運転条件シート'!AB64","v":0},"h/日",{"$f":"AA99/Z100","v":{"$error":"#DIV/0!"}},null,"ℓ/h","⇒","一過式"]
[]
[null,null,null,null,null,null,null,null,null,null,null,null,null,null,null,null,null,null,null,null,null,null,"*稼動時間帯は上表の赤字部分"]
[null,null,null,null,null,null,null,null,null,null,null,null,null,null,null,null,null,null,null,null,null,null,"・給湯能力の最大値［kWh］は「給湯ヒートポンプツールが計算する冬季（１月または２月）で決まる。(一部給湯ボイラーが残存する場合、全体の燃料使用量から給湯ヒートポンプ能力を差引いて算出した給湯量［L/月」を合算)"]
[null,null,null,null,null,null,null,null,null,null,null,null,null,null,null,null,null,null,null,null,null,null,null,"給湯ヒートポンプ",null,null,{"$f":"+AA83","v":0},"台の",null,"給湯\n熱量",{"$f":"データ集!M18*3.6*計算シート!AA104","v":{"$error":"#VALUE!"}},null,"MJ/1月",null,"給湯量","焚上\n(℃)",{"$f":"A19","v":0},null,{"$f":"AE104*1000/(4.2*(A19-A23))","v":{"$error":"#VALUE!"}},null,"ℓ/１月"]
[null,null,null,null,null,null,null,null,null,null,null,null,null,null,null,null,null,null,null,null,null,null,"・用途別の繁忙度から最大日給湯量を算定。繁忙度は該当月の在室人員、病床使用数、宿泊者数、入場者数などから算定。"]
[null,null,null,null,null,null,null,null,null,null,null,null,null,null,null,null,null,null,null,null,null,null,"・給湯全負荷相当時間の算出には「給湯ヒートポンプ年間活動量算定ツール」の該当月の日稼働時間［h/日］を使用。"]
[]
[]
[null,null,null,null,null,null,null,null,null,null,null,null,null,null,null,null,null,null,null,null,null,null,"■一過式で使用する給湯量[ℓ/h]を循環式で「給湯EHP」を循環する水量へ換算する係数βと一日の運転時間。"]
[null,null,null,null,null,null,null,null,null,null,null,null,null,null,null,null,null,null,null,null,null,null,null,"Κ","ｔ(h/日）",null,null,{"$f":"IFERROR((AA99/Y111*X111),\"★\")","v":"★"},null,"ℓ/ｈ","⇒","循環式"]
[null,null,null,null,null,null,null,null,null,null,null,null,null,null,null,null,null,null,null,null,null,null,null,{"$f":"IFERROR((A19-A23)/(A19-A14),\"★\")","v":"★"},{"$f":"'2-2 運転条件シート'!AB64","v":0}]

{"sheet":"データ集","index":13,"n_rows":63,"n_cols":33,"rows_kept":63,"cut":false,"hidden":true,"merged":[[1,9,1,11],[1,12,1,13],[2,12,3,13],[2,14,2,15],[1,14,1,15],[2,19,2,21],[2,22,2,23],[2,24,2,25],[17,9,17,10],[12,22,12,23],[3,24,3,25],[4,24,4,25],[5,24,5,25],[6,24,6,25],[7,24,7,25],[8,24,8,25],[9,24,9,25],[10,24,10,25],[11,24,11,25],[12,24,12,25],[3,22,3,23],[5,22,5,23],[7,22,7,23],[9,22,9,23],[11,22,11,23],[4,22,4,23],[6,22,6,23],[8,22,8,23],[10,22,10,23],[47,16,47,17],[46,16,46,17],[60,3,60,4],[56,6,56,7],[56,3,56,5],[57,8,57,10],[58,8,58,10],[58,3,58,4],[45,14,45,15],[47,14,47,15],[46,14,46,15],[47,11,47,12],[46,6,46,7],[47,4,47,5],[45,11,45,12],[44,11,44,12],[43,11,43,12],[39,4,40,7],[41,9,41,10],[56,2,57,2],[2,3,3,4],[2,7,3,7],[2,8,3,8],[1,6,1,7],[2,5,3,6],[28,3,30,7],[39,3,40,3],[41,3,42,3],[46,3,47,3],[41,4,41,5],[42,4,42,5],[43,4,43,5],[44,4,44,5],[45,4,45,5],[46,4,46,5],[39,8,39,12],[47,9,47,10],[46,9,46,10],[34,8,34,12],[33,8,33,12],[47,6,47,7],[43,6,43,7],[44,9,44,10],[62,6,62,7],[28,10,30,14],[32,4,32,7],[50,4,50,19],[54,4,54,19],[51,4,51,19],[52,4,52,19],[53,4,53,19],[61,3,61,4],[62,3,62,4],[57,6,57,7],[58,6,58,7],[59,6,59,7],[60,6,60,7],[61,6,61,7],[33,4,33,7],[34,4,34,7],[35,4,35,7],[36,4,36,7],[59,3,59,4],[57,3,57,4],[32,8,32,12],[44,14,44,15],[43,14,43,15],[42,6,42,7],[45,9,45,10],[42,9,42,10],[43,9,43,10],[41,6,41,7],[44,6,44,7],[45,6,45,7],[40,9,40,12],[37,4,37,7],[36,13,36,17],[37,13,37,17],[43,16,43,17],[41,16,41,17],[42,16,42,17],[41,14,41,15],[39,13,39,17],[35,8,35,12],[36,8,36,12],[37,8,37,12],[41,11,41,12],[40,14,40,17],[42,11,42,12],[31,24,31,25],[33,26,33,27],[34,26,34,27],[35,26,35,27],[32,24,32,27],[61,8,61,10],[62,8,62,10],[56,8,56,10],[42,14,42,15],[45,16,45,17],[44,16,44,17],[32,18,32,22],[33,18,33,22],[34,18,34,22],[35,18,35,22],[36,18,36,22],[37,18,37,22],[59,8,59,10],[60,8,60,10],[46,11,46,12],[32,13,32,17],[33,13,33,17],[34,13,34,17],[35,13,35,17],[11,9,11,10],[12,9,12,10],[13,9,13,10],[14,9,14,10],[15,9,15,10],[16,9,16,10],[2,9,3,11],[4,9,4,10],[5,9,5,10],[6,9,6,10],[7,9,7,10],[8,9,8,10],[9,9,9,10],[10,9,10,10],[12,16,12,17],[13,16,13,17],[14,16,14,17],[15,16,15,17],[16,16,16,17],[1,16,3,17],[4,16,4,17],[5,16,5,17],[6,16,6,17],[7,16,7,17],[8,16,8,17],[9,16,9,17],[10,16,10,17],[11,16,11,17]]}
[null,null,null,null,null,null,null,null,"貯湯量計算で使用"]
["都道府県","県庁所在地",null,null,null,null,{"$f":"MAX(H5:H16)","v":0},null,{"$f":"VLOOKUP(G2,H5:I16,2,FALSE)","v":{"$error":"#N/A"}},"ケース1",null,null,"ケース3",null,"必要熱源容量",null,"月毎の測定負荷率ηme：(自動1.0以下)",null,null,"貯湯量確認シートへ",null,null,null,null,null,null,null,null,null,"貯湯量確認シートへ自動入力",null,null,"h/日"]
["北海道","札幌市",null,{"$f":"'2-2 運転条件シート'!E36","v":0},null,"負荷率",null,"給湯負荷","入水温度θ","n=1",null,null,"Qe",null,"qme(kw) ",null,null,null,null,"施設",null,null,"土・日",null,"祝祭日",null,"日数","繁忙度",null,"病院(老健)",null,{"$f":"'2-2 運転条件シート'!$AB$64","v":0},{"$f":"IF(D3=AD3,AF3,\"-\")","v":"-"}]
["青森県","青森市",null,null,null,null,null,null,null,null,null,null,null,null,"一過式","循環式",null,null,null,"病院(老健)",null,null,"土・日",null,"土・日",null,{"$f":"'2-2 運転条件シート'!AF30","v":0},{"$f":"'2-2 運転条件シート'!AD30","v":0},null,"シティーホテル",null,{"$f":"'2-2 運転条件シート'!$AB$64","v":0},{"$f":"IF(D3=AD4,AF4,\"-\")","v":"-"}]
["岩手県","盛岡市",null,null,null,"4月",{"$f":"VLOOKUP('2-2 運転条件シート'!$E$36,データ集!$D$23:$P$27,2,FALSE)","v":{"$error":"#N/A"}},{"$f":"計算シート!K60","v":0},{"$f":"計算シート!E13","v":{"$error":"#N/A"}},{"$f":"計算シート!K61","v":{"$error":"#VALUE!"}},null,"4月",{"$f":"計算シート!K73","v":{"$error":"#VALUE!"}},"4月",{"$f":"計算シート!$AB$100*(計算シート!$A$19-計算シート!E$13)*4.2/3600","v":{"$error":"#DIV/0!"}},{"$f":"IFERROR((計算シート!$AB$110*(計算シート!$A$19-計算シート!E$13)*4.2/3600),\"★\")","v":"★"},{"$f":"計算シート!J76","v":{"$error":"#VALUE!"}},null,null,"病院(老健)",null,null,"祝祭日",null,"祝祭日",null,{"$f":"'2-2 運転条件シート'!AF31","v":0},{"$f":"'2-2 運転条件シート'!AD31","v":0},null,"温泉旅館",null,{"$f":"'2-2 運転条件シート'!$AB$64","v":0},{"$f":"IF(D3=AD5,AF5,\"-\")","v":"-"}]
["宮城県","仙台市",null,null,null,"5月",{"$f":"VLOOKUP('2-2 運転条件シート'!$E$36,データ集!$D$23:$P$27,3,FALSE)","v":{"$error":"#N/A"}},{"$f":"計算シート!R60","v":0},{"$f":"計算シート!M13","v":{"$error":"#N/A"}},{"$f":"計算シート!R61","v":{"$error":"#VALUE!"}},null,"5月",{"$f":"計算シート!R73","v":{"$error":"#VALUE!"}},"5月",{"$f":"計算シート!$AB$100*(計算シート!$A$19-計算シート!M$13)*4.2/3600","v":{"$error":"#DIV/0!"}},{"$f":"IFERROR((計算シート!$AB$110*(計算シート!$A$19-計算シート!M$13)*4.2/3600),\"★\")","v":"★"},{"$f":"計算シート!Q76","v":{"$error":"#VALUE!"}},null,null,"シティーホテル",null,null,"土・日",null,"土・日",null,{"$f":"'2-2 運転条件シート'!AF30","v":0},{"$f":"'2-2 運転条件シート'!AD30","v":0},null,"オフィスビル",null,{"$f":"'2-2 運転条件シート'!$AB$64","v":0},{"$f":"IF(D3=AD6,AF6,\"-\")","v":"-"}]
["秋田県","秋田市",null,null,null,"6月",{"$f":"VLOOKUP('2-2 運転条件シート'!$E$36,データ集!$D$23:$P$27,4,FALSE)","v":{"$error":"#N/A"}},{"$f":"計算シート!Y60","v":0},{"$f":"計算シート!T13","v":{"$error":"#N/A"}},{"$f":"計算シート!Y61","v":{"$error":"#VALUE!"}},null,"6月",{"$f":"計算シート!Y73","v":{"$error":"#VALUE!"}},"6月",{"$f":"計算シート!$AB$100*(計算シート!$A$19-計算シート!T$13)*4.2/3600","v":{"$error":"#DIV/0!"}},{"$f":"IFERROR((計算シート!$AB$110*(計算シート!$A$19-計算シート!T$13)*4.2/3600),\"★\")","v":"★"},{"$f":"計算シート!X76","v":{"$error":"#VALUE!"}},null,null,"シティーホテル",null,null,"祝祭日",null,"祝祭日",null,{"$f":"'2-2 運転条件シート'!AF31","v":0},{"$f":"'2-2 運転条件シート'!AD31","v":0},null,"飲食・店舗",null,{"$f":"'2-2 運転条件シート'!$AB$64","v":0},{"$f":"IF(D3=AD7,AF7,\"-\")","v":"-"}]
["山形県","山形市",null,null,null,"7月",{"$f":"VLOOKUP('2-2 運転条件シート'!$E$36,データ集!$D$23:$P$27,5,FALSE)","v":{"$error":"#N/A"}},{"$f":"計算シート!AF60","v":0},{"$f":"計算シート!AA13","v":{"$error":"#N/A"}},{"$f":"計算シート!AF61","v":{"$error":"#VALUE!"}},null,"7月",{"$f":"計算シート!AF73","v":{"$error":"#VALUE!"}},"7月",{"$f":"計算シート!$AB$100*(計算シート!$A$19-計算シート!AA$13)*4.2/3600","v":{"$error":"#DIV/0!"}},{"$f":"IFERROR((計算シート!$AB$110*(計算シート!$A$19-計算シート!AA$13)*4.2/3600),\"★\")","v":"★"},{"$f":"計算シート!AE76","v":{"$error":"#VALUE!"}},null,null,"温泉旅館",null,null,"土・日",null,"土・日",null,{"$f":"'2-2 運転条件シート'!AF30","v":0},{"$f":"'2-2 運転条件シート'!AD30","v":0}]
["福島県","福島市",null,null,null,"8月",{"$f":"VLOOKUP('2-2 運転条件シート'!$E$36,データ集!$D$23:$P$27,6,FALSE)","v":{"$error":"#N/A"}},{"$f":"計算シート!AM60","v":0},{"$f":"計算シート!AH13","v":{"$error":"#N/A"}},{"$f":"計算シート!AM61","v":{"$error":"#VALUE!"}},null,"8月",{"$f":"計算シート!AM73","v":{"$error":"#VALUE!"}},"8月",{"$f":"計算シート!$AB$100*(計算シート!$A$19-計算シート!AH$13)*4.2/3600","v":{"$error":"#DIV/0!"}},{"$f":"IFERROR((計算シート!$AB$110*(計算シート!$A$19-計算シート!AH$13)*4.2/3600),\"★\")","v":"★"},{"$f":"計算シート!AL76","v":{"$error":"#VALUE!"}},null,null,"温泉旅館",null,null,"祝祭日",null,"祝祭日",null,{"$f":"'2-2 運転条件シート'!AF31","v":0},{"$f":"'2-2 運転条件シート'!AD31","v":0}]
["茨城県","水戸市",null,null,null,"9月",{"$f":"VLOOKUP('2-2 運転条件シート'!$E$36,データ集!$D$23:$P$27,7,FALSE)","v":{"$error":"#N/A"}},{"$f":"計算シート!AT60","v":0},{"$f":"計算シート!AO13","v":{"$error":"#N/A"}},{"$f":"計算シート!AT61","v":{"$error":"#VALUE!"}},null,"9月",{"$f":"計算シート!AT73","v":{"$error":"#VALUE!"}},"9月",{"$f":"計算シート!$AB$100*(計算シート!$A$19-計算シート!AO$13)*4.2/3600","v":{"$error":"#DIV/0!"}},{"$f":"IFERROR((計算シート!$AB$110*(計算シート!$A$19-計算シート!AO$13)*4.2/3600),\"★\")","v":"★"},{"$f":"計算シート!AS76","v":{"$error":"#VALUE!"}},null,null,"オフィスビル",null,null,"土・日",null,"土・日",null,{"$f":"'2-2 運転条件シート'!AF30","v":0},{"$f":"'2-2 運転条件シート'!AD30","v":0}]
["栃木県","宇都宮市",null,null,null,"10月",{"$f":"VLOOKUP('2-2 運転条件シート'!$E$36,データ集!$D$23:$P$27,8,FALSE)","v":{"$error":"#N/A"}},{"$f":"計算シート!BA60","v":0},{"$f":"計算シート!AV13","v":{"$error":"#N/A"}},{"$f":"計算シート!BA61","v":{"$error":"#VALUE!"}},null,"10月",{"$f":"計算シート!BA73","v":{"$error":"#VALUE!"}},"10月",{"$f":"計算シート!$AB$100*(計算シート!$A$19-計算シート!AV$13)*4.2/3600","v":{"$error":"#DIV/0!"}},{"$f":"IFERROR((計算シート!$AB$110*(計算シート!$A$19-計算シート!AV$13)*4.2/3600),\"★\")","v":"★"},{"$f":"計算シート!AZ76","v":{"$error":"#VALUE!"}},null,null,"オフィスビル",null,null,"祝祭日",null,"祝祭日",null,{"$f":"'2-2 運転条件シート'!AF31","v":0},{"$f":"'2-2 運転条件シート'!AD31","v":0}]
["群馬県","前橋市",null,null,null,"11月",{"$f":"VLOOKUP('2-2 運転条件シート'!$E$36,データ集!$D$23:$P$27,9,FALSE)","v":{"$error":"#N/A"}},{"$f":"計算シート!BH60","v":0},{"$f":"計算シート!BC13","v":{"$error":"#N/A"}},{"$f":"計算シート!BH61","v":{"$error":"#VALUE!"}},null,"11月",{"$f":"計算シート!BH73","v":{"$error":"#VALUE!"}},"11月",{"$f":"計算シート!$AB$100*(計算シート!$A$19-計算シート!BC$13)*4.2/3600","v":{"$error":"#DIV/0!"}},{"$f":"IFERROR((計算シート!$AB$110*(計算シート!$A$19-計算シート!BC$13)*4.2/3600),\"★\")","v":"★"},{"$f":"計算シート!BG76","v":{"$error":"#VALUE!"}},null,null,"飲食・店舗",null,null,"土・日",null,"土・日",null,{"$f":"'2-2 運転条件シート'!AF30","v":0},{"$f":"'2-2 運転条件シート'!AD30","v":0}]
["埼玉県","さいたま市",null,null,null,"12月",{"$f":"VLOOKUP('2-2 運転条件シート'!$E$36,データ集!$D$23:$P$27,10,FALSE)","v":{"$error":"#N/A"}},{"$f":"計算シート!BO60","v":0},{"$f":"計算シート!BJ13","v":{"$error":"#N/A"}},{"$f":"計算シート!BO61","v":{"$error":"#VALUE!"}},null,"12月",{"$f":"計算シート!BO73","v":{"$error":"#VALUE!"}},"12月",{"$f":"計算シート!$AB$100*(計算シート!$A$19-計算シート!BJ$13)*4.2/3600","v":{"$error":"#DIV/0!"}},{"$f":"IFERROR((計算シート!$AB$110*(計算シート!$A$19-計算シート!BJ$13)*4.2/3600),\"★\")","v":"★"},{"$f":"計算シート!BN76","v":{"$error":"#VALUE!"}},null,null,"飲食・店舗",null,null,"祝祭日",null,"祝祭日",null,{"$f":"'2-2 運転条件シート'!AF31","v":0},{"$f":"'2-2 運転条件シート'!AD31","v":0}]
["千葉県","千葉市",null,null,null,"1月",{"$f":"VLOOKUP('2-2 運転条件シート'!$E$36,データ集!$D$23:$P$27,11,FALSE)","v":{"$error":"#N/A"}},{"$f":"計算シート!BV60","v":0},{"$f":"計算シート!BQ13","v":{"$error":"#N/A"}},{"$f":"計算シート!BV61","v":{"$error":"#VALUE!"}},null,"1月",{"$f":"計算シート!BV73","v":{"$error":"#VALUE!"}},"1月",{"$f":"計算シート!$AB$100*(計算シート!$A$19-計算シート!BQ$13)*4.2/3600","v":{"$error":"#DIV/0!"}},{"$f":"IFERROR((計算シート!$AB$110*(計算シート!$A$19-計算シート!BQ$13)*4.2/3600),\"★\")","v":"★"},{"$f":"計算シート!BU76","v":{"$error":"#VALUE!"}}]
["東京都","東京",null,null,null,"2月",{"$f":"VLOOKUP('2-2 運転条件シート'!$E$36,データ集!$D$23:$P$27,12,FALSE)","v":{"$error":"#N/A"}},{"$f":"計算シート!CC60","v":0},{"$f":"計算シート!BX13","v":{"$error":"#N/A"}},{"$f":"計算シート!CC61","v":{"$error":"#VALUE!"}},null,"2月",{"$f":"計算シート!CC73","v":{"$error":"#VALUE!"}},"2月",{"$f":"計算シート!$AB$100*(計算シート!$A$19-計算シート!BX$13)*4.2/3600","v":{"$error":"#DIV/0!"}},{"$f":"IFERROR((計算シート!$AB$110*(計算シート!$A$19-計算シート!BX$13)*4.2/3600),\"★\")","v":"★"},{"$f":"計算シート!CB76","v":{"$error":"#VALUE!"}}]
["神奈川県","横浜市",null,null,null,"3月",{"$f":"VLOOKUP('2-2 運転条件シート'!$E$36,データ集!$D$23:$P$27,13,FALSE)","v":{"$error":"#N/A"}},{"$f":"計算シート!CJ60","v":0},{"$f":"計算シート!CE13","v":{"$error":"#N/A"}},{"$f":"計算シート!CJ61","v":{"$error":"#VALUE!"}},null,"3月",{"$f":"計算シート!CJ73","v":{"$error":"#VALUE!"}},"3月",{"$f":"計算シート!$AB$100*(計算シート!$A$19-計算シート!CE$13)*4.2/3600","v":{"$error":"#DIV/0!"}},{"$f":"IFERROR((計算シート!$AB$110*(計算シート!$A$19-計算シート!CE$13)*4.2/3600),\"★\")","v":"★"},{"$f":"計算シート!CI76","v":{"$error":"#VALUE!"}}]
["新潟県","新潟市",null,null,null,null,null,null,"最小",{"$f":"MIN(J5:K16)","v":{"$error":"#VALUE!"}},null,{"$f":"VLOOKUP(J17,J5:L16,3,FALSE)","v":{"$error":"#VALUE!"}},null,null,null,null,{"$f":"COUNTIF(Q5:R16,\">1.0\")","v":0},null,"⇒1.0以上の月が2つ以上あった場合、「工程の必要給湯量」の入力が多すぎるため、運転条件シートで警告を出す。"]
["富山県","富山市",null,null,null,null,null,null,"最大",{"$f":"MAX(J5:K16)","v":{"$error":"#VALUE!"}},null,{"$f":"VLOOKUP(J18,J5:L16,3,FALSE)","v":{"$error":"#VALUE!"}},{"$f":"MAX(M5:N16)","v":{"$error":"#VALUE!"}},{"$f":"VLOOKUP(M18,M5:N16,2,FALSE)","v":{"$error":"#VALUE!"}},null,null,null,null,"現在選定の機器の容量を超える貯湯量が入力されています。再入力してください。"]
["石川県","金沢市"]
["福井県","福井市"]
["山梨県","甲府市",null,"建物用途別給湯負荷と月平均負荷率（％）"]
["長野県","長野市",null,"kWh/(㎡・年）","4月","5月","6月","7月","8月","9月","10月","11月","12月","1月","2月","3月"]
["岐阜県","岐阜市",null,"病院(老健)",0.79,0.77,0.79,0.82,0.82,0.78,0.8,0.83,0.83,0.74,0.77,0.8]
["静岡県","静岡市",null,"シティーホテル",0.74,0.68,0.72,0.65,0.62,0.61,0.7,0.72,0.72,0.74,0.81,0.7]
["愛知県","名古屋市",null,"温泉旅館",0.70500000000000007,0.66,0.67500000000000004,0.67999999999999994,0.65999999999999992,0.65999999999999992,0.67500000000000004,0.68500000000000005,0.69,0.75,0.79,0.70499999999999996,null,0.74,0.68,0.72,0.65,0.62,0.61,0.7,0.72,0.72,0.74,0.81,0.7,"⇐20250221に左記から変更"]
["三重県","津市",null,"オフィスビル",0.16,0.16,0.16,0.15,0.17,0.15,0.16,0.17,0.18,0.19,0.21,0.2]
["滋賀県","大津市",null,"飲食・店舗",0.42,0.43,0.42,0.41,0.39,0.4,0.4,0.43,0.39,0.4,0.42,0.43]
["京都府","京都市"]
["大阪府","大阪市",null,"ピーク開始時の貯湯温度",null,null,null,null,60,40,"ピーク終了時の貯湯温度"]
["兵庫県","神戸市",null,null,null,null,null,null,65,45]
["奈良県","奈良市",null,null,null,null,null,null,90,65]
["和歌山県","和歌山市",null,null,null,null,null,null,null,null,null,null,null,null,null,null,null,null,null,null,"a",null,null,"h","a/h*",null,3.5,"=","c"]
["鳥取県","鳥取市",null,"用途","ピーク継続時間",null,null,null,"ピーク時給湯量　",null,null,null,null,"日平均給湯量",null,null,null,null,"最大繁忙期日給湯量算定",null,null,null,null,"h","ピーク時の給湯量"]
["島根県","松江市",null,"病院(老健)",1,null,null,null,{"$f":"IF(L42=\"-\",L43,L42)","v":"-"},null,null,null,null,{"$f":"IF(Q42=\"-\",Q43,Q42)","v":"-"},null,null,null,null,{"$f":"'2-3 貯湯量確認シート'!H32","v":""},null,null,null,null,{"$f":"'2-3 貯湯量確認シート'!H28","v":"-"},null,"a",{"$f":"VLOOKUP('2-2 運転条件シート'!V28,データ集!D34:X38,16,FALSE)","v":{"$error":"#N/A"}}]
["岡山県","岡山市",null,"シティーホテル",2,null,null,null,{"$f":"L44","v":"-"},null,null,null,null,{"$f":"Q44","v":"-"},null,null,null,null,{"$f":"'2-3 貯湯量確認シート'!Q32","v":""},null,null,null,null,{"$f":"'2-3 貯湯量確認シート'!Q28","v":"-"},null,"h",{"$f":"VLOOKUP('2-2 運転条件シート'!V28,データ集!D34:X38,21,FALSE)","v":{"$error":"#N/A"}}]
["広島県","広島市",null,"温泉旅館",2,null,null,null,{"$f":"L45","v":"-"},null,null,null,null,{"$f":"Q45","v":"-"},null,null,null,null,{"$f":"'2-3 貯湯量確認シート'!H37","v":""},null,null,null,null,{"$f":"'2-3 貯湯量確認シート'!H35","v":"-"},null,"c",{"$f":"AA34/AA35*AA32","v":{"$error":"#N/A"}},null,"→","2-3 貯湯量確認シートにリンク"]
["山口県","山口市",null,"オフィスビル",2,null,null,null,{"$f":"L46","v":"-"},null,null,null,null,{"$f":"Q46","v":"-"},null,null,null,null,{"$f":"'2-3 貯湯量確認シート'!Q39","v":""},null,null,null,null,{"$f":"'2-3 貯湯量確認シート'!Q35","v":"-"}]
["徳島県","徳島市",null,"飲食・店舗",2,null,null,null,{"$f":"IF(L47=\"-\",L48,L47)","v":"-"},null,null,null,null,{"$f":"IF(Q47=\"-\",Q48,Q47)","v":"-"},null,null,null,null,{"$f":"'2-3 貯湯量確認シート'!H45","v":""},null,null,null,null,{"$f":"'2-3 貯湯量確認シート'!H42","v":"-"}]
["香川県","高松市",null,null,null,null,null,null,null,null,null,null,"↑",null,null,null,"↑"]
["愛媛県","松山市",null,"用途","基準値",null,null,null,"ピーク時給湯量",null,null,null,null,"日平均給湯量",null,null,null,null,null,null,null,null,null,14]
["高知県","高知市",null,null,null,null,null,null,"原単位","(L/h)",null,null,null,"原単位","(L/日)",null,null,null,null,null,null,null,null,24]
["福岡県","福岡市",null,"病院(老健)","入院患者数",null,{"$f":"'2-2 運転条件シート'!AF28","v":0},null,37.700000000000003,{"$f":"G42*I42","v":0},null,{"$f":"IF(J42=0,\"-\",J42)","v":"-"},null,160,{"$f":"N42*G42","v":0},null,{"$f":"IF(O42=0,\"-\",O42)","v":"-"},null,null,null,null,null,null,24,null,null,null,null," "]
["佐賀県","佐賀市",null,null,"延床面積",null,{"$f":"'2-2 運転条件シート'!AF29","v":0},null,0.9,0,null,"-",null,4,{"$f":"N43*G43","v":0},null,"-",null,null,null,null,null,null,10]
["長崎県","長崎市",null,"シティーホテル","宿泊者数",null,{"$f":"'2-2 運転条件シート'!AF28","v":0},null,26.2,0,null,"-",null,180,0,null,"-",null,null,null,null,null,null,12]
["熊本県","熊本市",null,"温泉旅館","宿泊者数",null,{"$f":"'2-2 運転条件シート'!AF28","v":0},null,39.200000000000003,0,null,"-",null,222,0,null,"-"]
["大分県","大分市",null,"オフィスビル","在室人数",null,{"$f":"'2-2 運転条件シート'!AF28","v":0},null,2.5,0,null,"-",null,10,0,null,"-"]
["宮崎県","宮崎市",null,"飲食・店舗","来客者数",null,{"$f":"'2-2 運転条件シート'!AF28","v":0},null,20,0,null,"-",null,80,0,null,"-"]
["鹿児島県","鹿児島市",null,null,"延床面積",null,{"$f":"'2-2 運転条件シート'!AF29","v":0},null,30,0,null,"-",null,120,0,null,"-"]
["沖縄県","那覇市"]
[null,null,null,"用途","※②運転日数・水温計算シートにリンク"]
[null,null,null,"病院(老健)","入院患者数(床)もしくは延床面積のどちらかを入力。(延床面積以外はピーク時の数字を入力)",null,null,null,null,null,null,null,null,null,null,null,null,null,null,null,"床","㎡","延床面積"]
[null,null,null,"シティーホテル","宿泊者数を入力(ピーク時)",null,null,null,null,null,null,null,null,null,null,null,null,null,null,null,"人",{"$f":"\"\"","v":""},{"$f":"\"\"","v":""}]
[null,null,null,"温泉旅館","宿泊者数を入力(ピーク時)",null,null,null,null,null,null,null,null,null,null,null,null,null,null,null,"人",{"$f":"\"\"","v":""},{"$f":"\"\"","v":""}]
[null,null,null,"オフィスビル","在室者数を入力(ピーク時)",null,null,null,null,null,null,null,null,null,null,null,null,null,null,null,"人",{"$f":"\"\"","v":""},{"$f":"\"\"","v":""}]
[null,null,null,"飲食・店舗","来客者数もしくは延床面積のどちらかを入力。(延床面積以外はピーク時の数字を入力)",null,null,null,null,null,null,null,null,null,null,null,null,null,null,null,"人","㎡","延床面積"]
[]
[null,null,"季節（JRAIA）","外気温度 [℃］",null,null,"入水温度 [℃］",null,"修正係数の選定"]
[null,null,null,"T1d",null,"T1w","T3",null,"（外気T1dによる）"]
[null,"RGB/250,120,20","夏期",25,null,21,24,null,"21℃＜T1d"]
[null,"左から6，上から2","中間期",16,null,12,17,null,"11℃＜T1d≦21℃"]
[null,"RGB/255,255,0","冬季標準",7,null,6,9,null,"6℃＜T1d≦11℃"]
[null,"RGB/0,177,240","着霜期",2,null,1,5,null,"0℃＜T1d≦6℃"]
[null,"右から2,下から2","厳冬期",-7,null,-8,5,null,"T1d≦0℃"]

{"sheet":"データ集②","index":14,"n_rows":22,"n_cols":17,"rows_kept":22,"cut":false,"hidden":true,"merged":[[15,1,15,2],[18,1,18,2],[19,1,19,2],[6,1,6,2],[3,1,3,2],[5,1,5,2],[7,1,7,2],[8,1,8,2],[14,1,14,2]]}
[]
[null,"外気条件と運転時間"]
[null,"算定条件設定",null,"気象庁気象データ等から、都道府県、県庁所在地の月平均気温（℃）および月平均水温を自動入力。施設の稼働対象時間を自動入力。"]
[null,{"$f":"IF('2-1 設備条件シート'!L8=0,\"\",'2-1 設備条件シート'!L8)","v":""},null,"4月","5月","6月","7月","8月","9月","10月","11月","12月","1月","2月","3月"]
[null,{"$f":"'2-1 設備条件シート'!L10","v":""},"（日数/月）",30,31,30,31,31,30,31,30,31,31,28,31,"PAC計算シート自動"]
[null,"日平均温度（℃）",null,{"$f":"IFERROR(VLOOKUP($B$5,入水温度回帰式データ!$F$5:$R$51,2,FALSE),\"\")","v":""},{"$f":"IFERROR(VLOOKUP($B$5,入水温度回帰式データ!$F$5:$R$51,3,FALSE),\"\")","v":""},{"$f":"IFERROR(VLOOKUP($B$5,入水温度回帰式データ!$F$5:$R$51,4,FALSE),\"\")","v":""},{"$f":"IFERROR(VLOOKUP($B$5,入水温度回帰式データ!$F$5:$R$51,5,FALSE),\"\")","v":""},{"$f":"IFERROR(VLOOKUP($B$5,入水温度回帰式データ!$F$5:$R$51,6,FALSE),\"\")","v":""},{"$f":"IFERROR(VLOOKUP($B$5,入水温度回帰式データ!$F$5:$R$51,7,FALSE),\"\")","v":""},{"$f":"IFERROR(VLOOKUP($B$5,入水温度回帰式データ!$F$5:$R$51,8,FALSE),\"\")","v":""},{"$f":"IFERROR(VLOOKUP($B$5,入水温度回帰式データ!$F$5:$R$51,9,FALSE),\"\")","v":""},{"$f":"IFERROR(VLOOKUP($B$5,入水温度回帰式データ!$F$5:$R$51,10,FALSE),\"\")","v":""},{"$f":"IFERROR(VLOOKUP($B$5,入水温度回帰式データ!$F$5:$R$51,11,FALSE),\"\")","v":""},{"$f":"IFERROR(VLOOKUP($B$5,入水温度回帰式データ!$F$5:$R$51,12,FALSE),\"\")","v":""},{"$f":"IFERROR(VLOOKUP($B$5,入水温度回帰式データ!$F$5:$R$51,13,FALSE),\"\")","v":""},"各月の選定された稼働時間の平均値を自動計算"]
[]
[null,"θ (入水温度回帰式参照）",null,{"$f":"IFERROR(VLOOKUP($B$5,入水温度回帰式データ!$T$5:$AF$51,2,FALSE),\"\")","v":""},{"$f":"IFERROR(VLOOKUP($B$5,入水温度回帰式データ!$T$5:$AF$51,3,FALSE),\"\")","v":""},{"$f":"IFERROR(VLOOKUP($B$5,入水温度回帰式データ!$T$5:$AF$51,4,FALSE),\"\")","v":""},{"$f":"IFERROR(VLOOKUP($B$5,入水温度回帰式データ!$T$5:$AF$51,5,FALSE),\"\")","v":""},{"$f":"IFERROR(VLOOKUP($B$5,入水温度回帰式データ!$T$5:$AF$51,6,FALSE),\"\")","v":""},{"$f":"IFERROR(VLOOKUP($B$5,入水温度回帰式データ!$T$5:$AF$51,7,FALSE),\"\")","v":""},{"$f":"IFERROR(VLOOKUP($B$5,入水温度回帰式データ!$T$5:$AF$51,8,FALSE),\"\")","v":""},{"$f":"IFERROR(VLOOKUP($B$5,入水温度回帰式データ!$T$5:$AF$51,9,FALSE),\"\")","v":""},{"$f":"IFERROR(VLOOKUP($B$5,入水温度回帰式データ!$T$5:$AF$51,10,FALSE),\"\")","v":""},{"$f":"IFERROR(VLOOKUP($B$5,入水温度回帰式データ!$T$5:$AF$51,11,FALSE),\"\")","v":""},{"$f":"IFERROR(VLOOKUP($B$5,入水温度回帰式データ!$T$5:$AF$51,12,FALSE),\"\")","v":""},{"$f":"IFERROR(VLOOKUP($B$5,入水温度回帰式データ!$T$5:$AF$51,13,FALSE),\"\")","v":""},"既定値自動計算"]
[null,"稼動対象時間（ｈ）",null,{"$f":"IF($B$4=\"\",\"\",D$5*24)","v":""},{"$f":"IF($B$4=\"\",\"\",E$5*24)","v":""},"","","","","","","","",{"$f":"IF($B$4=\"\",\"\",N$5*24)","v":""},"","×"]
[null,"宮城教育大学教育学部理科教育講座「広瀬川中流域における水温の日周・季節変動」（平成18年宮城教育大学紀要　第14巻2006）"]
[null,"仙台市の浄水場の水源は七北田川系、広瀬川系、名取川系に分かれるが広瀬川系の水温調査データ＋1℃とした。"]
[]
[]
[null,"月別給湯ヒートポンプ1台当たりの消費電力"]
[null,{"$f":"'2-1 設備条件シート'!L10","v":""},null,{"$f":"'2-1 設備条件シート'!L12","v":0},"4月","5月","6月","7月","8月","9月","10月","11月","12月","1月","2月","3月","合計"]
[null,"給湯ヒートポンプ\n月別消費電力(1台)",null,"［kWｈ］",{"$f":"計算シート!I60","v":0},{"$f":"計算シート!P60","v":0},{"$f":"計算シート!W60","v":0},{"$f":"計算シート!AD60","v":0},{"$f":"計算シート!AK60","v":0},{"$f":"計算シート!AR60","v":0},{"$f":"計算シート!AY60","v":0},{"$f":"計算シート!BF60","v":0},{"$f":"計算シート!BM60","v":0},{"$f":"計算シート!BT60","v":0},{"$f":"計算シート!CA60","v":0},{"$f":"計算シート!CH60","v":0},{"$f":"SUM(E16:P16)","v":0}]
[" ","給湯能力Q／効率COPe×表-4稼動対象時間×表-5給湯使用時間×表-6負荷率"]
[]
[null,{"$f":"'2-1 設備条件シート'!L10","v":""},null,{"$f":"'2-1 設備条件シート'!L12","v":0},"4月","5月","6月","7月","8月","9月","10月","11月","12月","1月","2月","3月","合計"]
[null,"給湯ヒートポンプ\n月別消費電力(合計)",null,"［kWｈ］",{"$f":"+E$16*$E$22","v":0},{"$f":"+F16*$E$22","v":0},0,0,0,0,0,0,0,0,0,0,{"$f":"SUM(E20:P20)","v":0}]
[]
[null,null,"ヒートポンプ台数",null,{"$f":"'2-2 運転条件シート'!AF27","v":0},"台"]

{"sheet":"入水温度回帰式データ","index":15,"n_rows":63,"n_cols":51,"rows_kept":63,"cut":false,"hidden":true,"merged":[[61,21,61,23],[62,21,62,23],[54,20,57,20],[56,21,56,23],[57,21,57,23],[58,21,58,23],[59,21,59,23],[60,21,60,23],[1,2,1,3],[1,1,2,1],[53,21,53,23],[54,21,54,23],[55,21,55,23]]}
[null,"回帰式の各地域の係数"]
[null,"都市","推定式係数",null,null,null,null,null,null,null,null,null,null,null,null,null,null,null,null,null,null,null,null,null,null,null,null,null,null,null,null,null,null,null,null,null,null,null,null,null,null,null,null,null,null,null,null,null,null,null,"紫は水道局HP以外"]
[null,null,"ａ","ｂ",null,"各都道府県別　月平均気温",null,null,null,null,null,null,null,null,null,null,null,null,null,"各都道府県別　月平均水温（θ）"]
[null,"青森",0.66100000000000003,3.2349999999999999,null,null,"4月","5月","6月","7月","8月","9月","10月","11月","12月","1月","2月","3月",null,null,"4月","5月","6月","7月","8月","9月","10月","11月","12月","1月","2月","3月"]
[null,"仙台",0.81599999999999995,2.016,null,"札幌",9.1999999999999993,13.8,19.3,23.8,26.7,21.5,13.3,6.7,-0.7,-4.4000000000000004,-2.7,4.9000000000000004,null,"札幌",6,8.1,11.9,15,18.8,17.8,11.7,7.5,4.4000000000000004,2.7,2,3]
[null,"秋田",0.82499999999999996,3.0550000000000002,null,"青森",10.7,14.8,19.899999999999999,24.7,28,23.1,14.5,8.5,1.9,-1.1000000000000001,0,5.9,null,"青森",10.307700000000001,13.017800000000001,16.3889,19.561699999999998,21.743000000000002,18.504100000000001,12.8195,8.8535000000000004,4.4908999999999999,2.5078999999999998,3.2349999999999999,7.1349]
[null,"山形",0.82599999999999996,2.9,null,"盛岡",10.9,15,20.5,25,27.9,22.8,13.4,8,1.9,-1.4,-0.6,6.9,null,"盛岡",13,15,19.100000000000001,22.5,26.5,26.2,18.5,12.8,9.1999999999999993,3.6,3,7]
[null,"福島",0.154,5.5629999999999997,null,"仙台",13.3,16.600000000000001,21.6,26.6,28.6,25.1,16.7,11.4,5.7,2.1,3,9.3000000000000007,null,"仙台",12.8688,15.5616,19.641599999999997,23.721600000000002,25.3536,22.497599999999998,15.643199999999998,11.3184,6.6672000000000002,3.7296,4.4640000000000004,9.6048000000000009]
[null,"水戸",0.747,7.4690000000000003,null,"秋田",11.2,15.4,21.2,24.9,30,24.2,15.2,10.1,3.3,0.7,0.9,7.5,null,"秋田",12.294999999999998,15.76,20.544999999999998,23.597499999999997,27.805,23.02,15.594999999999999,11.387499999999999,5.7774999999999999,3.6325000000000003,3.7975000000000003,9.2424999999999997]
[null,"宇都宮",0.505,6.0819999999999999,null,"山形",12.1,16.399999999999999,21.6,26,28.7,24.4,14.7,9.1999999999999993,3.7,0,0.7,7.4,null,"山形",13.0375,16.584999999999997,20.875,24.504999999999999,26.732499999999998,23.184999999999999,15.182499999999999,10.645,6.1074999999999999,3.0550000000000002,3.6325000000000003,9.16]
[null,"前橋",0.2,13.068,null,"福島",14,17.600000000000001,22.3,27.6,29,25.1,16,10.6,5.4,1.9,2.8,9.5,null,"福島",7.7189999999999994,8.2734000000000005,8.9971999999999994,9.8133999999999997,10.029,9.4283999999999999,8.0269999999999992,7.1953999999999994,6.3945999999999996,5.8555999999999999,5.9941999999999993,7.0259999999999998]
[null,"さいたま",0.81200000000000006,4.282,null,"水戸",14.5,17.8,22.2,27.3,28.5,25.9,17,12.3,7.1,3.8,5.4,11.2,null,"水戸",18.3005,20.765599999999999,24.052400000000002,27.862100000000002,28.758500000000002,26.816300000000002,20.167999999999999,16.6571,12.7727,10.307600000000001,11.502800000000001,15.8354]
[null,"千葉",0.79700000000000004,4.3659999999999997,null,"宇都宮",14.6,18.100000000000001,22.4,27.5,28.5,25.7,17,11.8,6.6,3.1,5,11.3,null,"宇都宮",13.455,15.2225,17.393999999999998,19.9695,20.474499999999999,19.060500000000001,14.667000000000002,12.041,9.4149999999999991,7.6475,8.6069999999999993,11.788499999999999]
[null,"横浜",0.71699999999999997,4.9109999999999996,null,"前橋",15.2,19.100000000000001,23.3,28.7,29.4,26.6,17.7,12.5,7.8,4.3,5.7,12.2,null,"前橋",16.108000000000001,16.887999999999998,17.728000000000002,18.808,18.948,18.387999999999998,16.608000000000001,15.568,14.628,13.927999999999999,14.208,15.507999999999999]
[null,"新潟",0.82199999999999995,3.3959999999999999,null,"さいたま",15.8,19,23.3,29,29.5,26.8,18,13,7.7,4.4000000000000004,6.2,12.3,null,"さいたま",17.111600000000003,19.71,23.201600000000003,27.830000000000002,28.236000000000001,26.043600000000001,18.898000000000003,14.838000000000001,10.534400000000002,7.8548000000000009,9.3164000000000016,14.269600000000001]
[null,"富山",0.57099999999999995,2.4809999999999999,null,"千葉",16.7,19.3,23.5,28.3,29.4,27.1,19.7,15.5,10.199999999999999,6.3,7.8,13.2,null,"千葉",17.675899999999999,19.748100000000001,23.095500000000001,26.921100000000003,27.797799999999999,25.964700000000001,20.0669,16.7195,12.4954,9.3871000000000002,10.582599999999999,14.8864]
[null,"金沢",0.78200000000000003,0.82099999999999995,null,"東京",16.3,19,23.2,28.7,29.2,26.7,18.899999999999999,14.4,9.4,5.7,7.3,12.9,null,"東京",16.600000000000001,19.09,22,27.593548387096778,29.28064516129032,27.720000000000006,21.429032258064517,16.743333333333336,11.664516129032259,8.1999999999999993,8.5,13]
[null,"福井",0.72499999999999998,5.5049999999999999,null,"横浜",16.600000000000001,19,23.2,28.2,29.1,26.9,19.5,15.2,10.199999999999999,6.4,7.9,13.2,null,"横浜",16.813200000000002,18.533999999999999,21.545400000000001,25.130400000000002,25.775700000000001,24.198299999999996,18.892499999999998,15.809399999999998,12.224399999999999,9.4998000000000005,10.575299999999999,14.375399999999999]
[null,"長野",0.45700000000000002,8.7629999999999999,null,"新潟",12.7,16.899999999999999,22.1,26.5,30.6,25.8,16.7,12.1,6,2.9,3.5,9.1999999999999993,null,"新潟",13.8354,17.287799999999997,21.562200000000001,25.178999999999998,28.549199999999999,24.6036,17.1234,13.342199999999998,8.3279999999999994,5.7797999999999998,6.2729999999999997,10.958399999999999]
[null,"岐阜",0.65700000000000003,5.4139999999999997,null,"富山",13.8,18,22.7,27.7,30.6,26,16.899999999999999,12.4,6.9,3.7,4.2,10.3,null,"富山",10.360799999999999,12.758999999999999,15.442699999999999,18.297699999999999,19.953600000000002,17.326999999999998,12.130899999999999,9.561399999999999,6.4208999999999996,4.5937000000000001,4.8792,8.3622999999999994]
[null,"静岡",0.218,11.856999999999999,null,"金沢",13.9,18.399999999999999,22.9,28,30.5,26.6,17.8,13.2,7.7,4.3,4.9000000000000004,10.5,null,"金沢",11.690800000000001,15.2098,18.7288,22.717000000000002,24.672000000000001,21.622200000000003,14.740600000000001,11.1434,6.8424000000000005,4.1836000000000002,4.6528,9.032]
[null,"名古屋",0.73099999999999998,1.7490000000000001,null,"福井",14.1,18.7,22.7,27.9,30.4,26.2,16.7,12.8,6.7,3.7,3.9,10.7,null,"福井",15.727499999999999,19.0625,21.962499999999999,25.732499999999998,27.544999999999998,24.499999999999996,17.612500000000001,14.785,10.362500000000001,8.1875,8.3324999999999996,13.262499999999999]
[null,"京都",0.82199999999999995,5.4180000000000001," ","甲府",15.6,18.899999999999999,22.8,27.8,28.2,26.7,17.2,12,6.3,3.3,5.7,11.9,null,"甲府",16,19,21,24,26,25,23,20,18,16,15,15]
[null,"大阪",0.84899999999999998,3.5190000000000001,null,"長野",12,16.3,21,25.9,28.2,24.5,14.1,8.8000000000000007,3.6,-0.1,1,8.3000000000000007,null,"長野",14.247,16.2121,18.36,20.599299999999999,21.650399999999998,19.959499999999998,15.2067,12.784600000000001,10.408200000000001,8.7172999999999998,9.2200000000000006,12.556100000000001]
[null,"神戸",0.91,0.95,null,"岐阜",15.7,20.100000000000001,23.8,28.8,29.6,27.3,18.2,13.4,8.1,5,6.4,12.5,null,"岐阜",15.728899999999999,18.619700000000002,21.050600000000003,24.335599999999999,24.861200000000004,23.350099999999998,17.371400000000001,14.2178,10.7357,8.6989999999999998,9.6188000000000002,13.6265]
[null,"和歌山",0.85199999999999998,3.0630000000000002,null,"静岡",16.600000000000001,19.5,23.3,28,28.8,27.2,19.5,15.5,10.3,7.2,9.1999999999999993,13.8,null,"静岡",15.4758,16.108000000000001,16.936399999999999,17.960999999999999,18.135400000000001,17.7866,16.108000000000001,15.235999999999999,14.102399999999999,13.426599999999999,13.862599999999999,14.865399999999999]
[null,"鳥取",0.59799999999999998,6.9340000000000002,null,"名古屋",15.9,20.2,23.8,28.9,29.4,27.3,18.3,13.6,8.4,5.2,6.5,12.7,null,"名古屋",13.3719,16.5152,19.146799999999999,22.874899999999997,23.240399999999998,21.705299999999998,15.126300000000001,11.6906,7.8894000000000002,5.5502000000000002,6.5005000000000006,11.0327]
[null,"松江",0.90900000000000003,1.4259999999999999,null,"津",15.3,19.7,23.4,28.7,29.1,27,18.5,13.9,9.1,6,6.7,11.9,null,"津",14.9,18.100000000000001,22.1,25.7,27.5,25.7,22.2,19.100000000000001,15.9,13.9,13.4,13.6]
[null,"岡山",0.79300000000000004,3.294,null,"大津",14.3,18.8,22.7,28.1,29,26.5,17.2,12.4,7.4,4.3,5,10.7,null,"大津",17,19,22,25,27,26,23,20,18,16,15,16]
[null,"広島",0.95,0.95,null,"京都",15.4,19.7,23.6,29.1,30.3,27.7,18.2,13.3,8.1999999999999993,5.0999999999999996,6,12.3,null,"京都",18.076799999999999,21.611399999999996,24.8172,29.338200000000001,30.324599999999997,28.187399999999997,20.378399999999999,16.3506,12.1584,9.610199999999999,10.35,15.528600000000001]
[null,"山口",0.78400000000000003,5.8550000000000004,null,"大阪",15.9,20,23.8,28.9,29.9,27.9,19.3,14.4,9.3000000000000007,5.9,6,13,null,"大阪",17.0181,20.499000000000002,23.725200000000001,28.055099999999996,28.9041,27.206099999999999,19.904699999999998,15.7446,11.4147,9.0374999999999996,9.4619999999999997,14.555999999999999]
[null,"高松",0.875,3.125,null,"神戸",15.9,19.8,23.4,28,29.7,27.9,19.600000000000001,14.7,9.6999999999999993,5.9,6,13,null,"神戸",15.26,18.77,22.009999999999998,26.15,27.68,26.06,18.59,14.18,9.68,6.89,7.4300000000000006,12.65]
[null,"松山",0.73599999999999999,2.5609999999999999,null,"奈良",14.9,19,22.9,28.2,28.9,26.4,17.3,12.6,7.7,4.7,5.4,11.6,null,"奈良",13,18.5,22.8,25.8,26.8,23.2,21.3,15.8,10.3,5.5,5.8,7]
[null,"佐賀",0.69299999999999995,5.1509999999999998,null,"和歌山",16.100000000000001,19.7,23.3,28.3,29.1,27.2,19.2,14.2,9.4,6.7,7.3,12.7,null,"和歌山",16.780200000000001,19.847399999999997,22.9146,27.174599999999998,27.856200000000001,26.237399999999997,19.421399999999998,15.1614,11.071800000000001,8.7713999999999999,9.2826000000000004,13.8834]
[null,"長崎",0.64,6.5039999999999996,null,"鳥取",14.3,18.600000000000001,22.9,28.1,30,25.6,17.399999999999999,13.2,8,4.7,5.7,11.1,null,"鳥取",15.485399999999998,18.056799999999999,20.6282,23.7378,24.873999999999999,22.242799999999999,17.339199999999998,14.8276,11.718,9.7446000000000002,10.342600000000001,13.5718]
[null,"熊本",0.193,16.352,null,"松江",14.3,18.399999999999999,22.7,27.5,29.4,25.2,17.8,13,7.7,5,5.7,10.9,null,"松江",14.424700000000001,18.151599999999998,22.060299999999998,26.423500000000001,28.150599999999997,24.332799999999999,17.606200000000001,13.243,8.4253,5.9710000000000001,6.6073000000000004,11.334100000000001]
[null,"大分",0.75900000000000001,3.2690000000000001,null,"岡山",14.8,19.2,23,27.9,29.5,26.9,18,12.9,7.3,4.8,5.7,11.8,null,"岡山",15.030400000000002,18.519600000000001,21.533000000000001,25.418700000000001,26.6875,24.625700000000002,17.568000000000001,13.523700000000002,9.0829000000000004,7.1004000000000005,7.8140999999999998,12.651400000000001]
[null,"宮崎",0.68459999999999999,5.4260000000000002,null,"広島",15.7,19.899999999999999,23.3,27.9,30,27.2,18.899999999999999,14,8.1999999999999993,5.7,6.9,12.6,null,"広島",15,18,21,24,26,25,23,20,17,15,14,14]
[null,"鹿児島",0.66800000000000004,6.8639999999999999,null,"山口",15.1,19.2,22.7,27.1,29,25.9,17.5,12.4,7.2,4.8,6.3,11.7,null,"山口",17.6934,20.907800000000002,23.651800000000001,27.101400000000002,28.591000000000001,26.160599999999999,19.575000000000003,15.576600000000001,11.4998,9.6181999999999999,10.7942,15.027800000000001]
[null,"那覇",0.69599999999999995,7.32,null,"徳島",16,19.600000000000001,22.9,27.9,28.6,27,19.3,14.1,9.1,6.8,7.1,12.7,null,"徳島",16.600000000000001,18.7,20.6,23.8,25.7,26.2,21.1,19.100000000000001,14.9,13.8,14.1,14.8]
[null,null,null,null,null,"高松",15.5,19.7,23.5,28.5,29.7,27.4,19.2,14,8.6999999999999993,6.2,6.5,12.2,null,"高松",16.6875,20.362500000000001,23.6875,28.0625,29.112500000000001,27.099999999999998,19.925000000000001,15.375,10.737499999999999,8.5500000000000007,8.8125,13.799999999999999]
[null,null,null,null,null,"松山",15.9,19.8,23.1,28,28.9,27.3,19.399999999999999,14.8,9.3000000000000007,6.5,7.6,12.7,null,"松山",14.263400000000001,17.133800000000001,19.5626,23.169,23.831399999999999,22.6538,16.839399999999998,13.453800000000001,9.4057999999999993,7.3449999999999998,8.1545999999999985,11.908199999999999]
[null,null,null,null,null,"高知",16.7,19.899999999999999,23,27.6,28.2,27,19.600000000000001,14.4,9.4,6.9,8.5,13.8,null,"高知",14.1,15.3,16.899999999999999,19.7,24.7,21.3,22.3,18.899999999999999,14.3,11.4,11.7,9.8000000000000007]
[null,null,null,null,null,"福岡",16.7,20.2,24.4,28.9,29.7,26.9,19.8,15.1,9.9,7.2,9,13.6,null,"福岡",15.979999999999999,19.13,22.91,26.959999999999997,27.68,25.16,18.77,14.54,9.86,7.4300000000000006,9.0499999999999989,13.19]
[null,null,null,null,null,"佐賀",16.600000000000001,20.5,24.3,28.4,29.8,26.8,19.100000000000001,14.1,9,6.2,8.5,13.3,null,"佐賀",16.654800000000002,19.357499999999998,21.9909,24.832199999999997,25.802399999999999,23.723399999999998,18.3873,14.922299999999998,11.387999999999998,9.4475999999999996,11.041499999999999,14.367899999999999]
[null,null,null,null,null,"長崎",16.899999999999999,19.7,23.7,28,29.2,26.7,19.8,15.1,10.199999999999999,7.4,9.1999999999999993,13.6,null,"長崎",17.32,19.112000000000002,21.671999999999997,24.423999999999999,25.192,23.591999999999999,19.176000000000002,16.167999999999999,13.032,11.24,12.391999999999999,15.208]
[null,null,null,null,null,"熊本",17,20.8,24.2,28.2,29.3,27.2,19.100000000000001,14.1,8.8000000000000007,6.2,8.5,13.6,null,"熊本",19.632999999999999,20.366399999999999,21.022600000000001,21.794599999999999,22.006900000000002,21.601600000000001,20.0383,19.0733,18.0504,17.5486,17.9925,18.976800000000001]
[null,null,null,null,null,"大分",16,19.600000000000001,23,27.3,28.5,26.7,19.2,14.5,9.1999999999999993,8.8000000000000007,8.1,12.4,null,"大分",15.413,18.145400000000002,20.725999999999999,23.989699999999999,24.900500000000001,23.534300000000002,17.841799999999999,14.2745,10.251799999999999,9.9481999999999999,9.4169,12.6806]
[null,null,null,null,null,"宮崎",17.2,20.3,23.5,28.2,27.8,26.7,19.3,15.3,10.3,8.1,10.1,14.1,null,"宮崎",17.20112,19.32338,21.514099999999999,24.731720000000003,24.457880000000003,23.704819999999998,18.638780000000001,15.90038,12.47738,10.971260000000001,12.34046,15.078860000000001]
[null,null,null,null,null,"鹿児島",18.2,21.6,24.3,28.9,29.3,28.3,20.7,16.2,11.4,9,11.5,15.1,null,"鹿児島",19.021599999999999,21.292800000000003,23.096400000000003,26.1692,26.436400000000003,25.768400000000003,20.691600000000001,17.685600000000001,14.479200000000001,12.876000000000001,14.545999999999999,16.950800000000001]
[null,null,null,null,null,"那覇",22.5,24.3,27.2,29.6,28.6,28.7,26,22.6,19.7,17.5,19,20,null,"那覇",22.979999999999997,24.232800000000001,26.251199999999997,27.921600000000002,27.2256,27.295199999999998,25.416,23.049599999999998,21.031199999999998,19.5,20.543999999999997,21.24]
[]
[null,null,null,null,null,null,null,null,null,null,null,null,null,null,null,"1月","２月"]
[null,null,null,null,null,null,null,null,null,null,null,null,null,null,"大阪",6.5,7,null,null,"方式","θ","冷媒種類"]
[null,null,null,null,null,null,null,null,null,null,null,null,null,null,"神戸",6.6,7.2,null,null,"一過式","各地の月別θ","R744",null,null,"α1"]
[null,null,null,null,null,null,null,null,null,null,null,null,null,null,null,null,null,null,null,"一過式",null,"2元(R410A/R134a)",null,null,"α2"]
[null,null,null,null,null,null,null,null,null,null,null,null,null,null,null,null,null,null,null,"一過式",null,"R744",null,null,"α1"]
[null,null,null,null,null,null,null,null,null,null,null,null,null,null,null,null,null,null,null,"一過式",null,"2元(R410A/R134a)",null,null,"α2"]
[null,null,null,null,null,null,null,null,null,null,null,null,null,null,null,null,null,null,null,"循環式",55,"R410A",null,null,"ζ2"]
[null,null,null,null,null,null,null,null,null,null,null,null,null,null,null,null,null,null,null,"循環式",55,"2元(R410A/R134a)",null,null,"ζ1"]
[null,null,null,null,null,null,null,null,null,null,null,null,null,null,null,null,null,null,null,"循環式",60,"2段(R454C)",null,null,"ε"]
[null,null,null,null,null,null,null,null,null,null,null,null,null,null,null,null,null,null,null,"循環式",55,"R407C",null,null,"γ2"]
[null,null,null,null,null,null,null,null,null,null,null,null,null,null,null,null,null,null,null,"保温加熱",60,"R744",null,null,"β"]

{"sheet":"係数表","index":16,"n_rows":477,"n_cols":39,"rows_kept":477,"cut":false,"hidden":true,"merged":[[467,1,467,4],[417,1,417,4],[427,1,427,4],[437,1,437,4],[447,1,447,4],[457,1,457,4],[367,1,367,4],[377,1,377,4],[387,1,387,4],[397,1,397,4],[407,1,407,4],[317,1,317,4],[327,1,327,4],[337,1,337,4],[347,1,347,4],[357,1,357,4],[267,1,267,4],[277,1,277,4],[287,1,287,4],[297,1,297,4],[307,1,307,4],[217,1,217,4],[227,1,227,4],[237,1,237,4],[247,1,247,4],[257,1,257,4],[167,1,167,4],[177,1,177,4],[187,1,187,4],[197,1,197,4],[207,1,207,4],[117,1,117,4],[127,1,127,4],[137,1,137,4],[147,1,147,4],[157,1,157,4],[67,1,67,4],[77,1,77,4],[87,1,87,4],[97,1,97,4],[107,1,107,4],[17,1,17,4],[27,1,27,4],[37,1,37,4],[47,1,47,4],[57,1,57,4],[6,19,6,20],[19,20,24,20],[7,25,12,25],[19,25,24,25],[7,20,12,20],[13,20,18,20],[13,25,18,25],[6,32,6,33],[7,33,12,33],[13,33,18,33],[19,33,24,33],[6,24,6,25]]}
[{"$f":"'2-1 設備条件シート'!L10","v":""}]
[{"$f":"'2-1 設備条件シート'!L14","v":0},"　"]
[{"$f":"'2-2 運転条件シート'!AH11","v":0}]
[{"$f":"'2-1 設備条件シート'!L16","v":0}]
[null,null,null,null,null,null,null,null,null,null,null,null,null,null,null,null,null,null,null,null,null,null,null,"2元（R410A、R134a）",null,null,null,null,"2段（R454C）"]
[null,"各都道府県別　係数表"]
[null,"地域","用途","焚上","冷媒","4月","5月","6月","7月","8月","9月","10月","11月","12月","1月","2月","3月",null,null,"一過式",null,"R744","2元",null,"循環式",null,"R410A","2元","2段","R744","R407C",null,"保温加熱",null,"R744"]
[null,null,null,null,"外気温",9.1999999999999993,13.8,19.3,23.8,26.7,21.5,13.3,6.7,-0.7,-4.4000000000000004,-2.7,4.9000000000000004,null,null,"焚上温度",60,"係数","係数",null,"焚上温度",60,"係数","係数","係数","係数","係数",null,"焚上温度",60,"係数"]
[null,"札幌","一過式",65,"R744",0.28000000000000003,0.27,0.27,0.22,0.22,0.22,0.27,0.28000000000000003,0.3,0.3,0.3,0.28000000000000003,null,null,"夏期標準",null,null,null,null,"夏期標準",null,0.36,0.28999999999999998,null,null,0.32,null,"夏期標準"]
[null,"札幌","一過式",65,"2元(R410A/R134a)",0.25,0.22,0.22,0.2,0.2,0.2,0.22,0.25,0.28999999999999998,0.28999999999999998,0.28999999999999998,0.22,null,null,"中間期標準",null,null,null,null,"中間期標準",null,0.34,0.34,null,null,0.38,null,"中間期標準"]
[null,"札幌","一過式",90,"R744",0.3,0.34,0.34,0.27,0.27,0.27,0.34,0.3,0.3,0.3,0.3,0.3,null,null,"冬季標準",null,null,null,null,"冬季標準",null,0.34,0.38,null,null,0.39,null,"冬季標準"]
[null,"札幌","一過式",90,"2元(R410A/R134a)",0.25,0.24,0.24,0.25,0.25,0.25,0.24,0.25,0.28000000000000003,0.28000000000000003,0.28000000000000003,0.26,null,null,"着霜期",null,null,null,null,"着霜期",null,0.28999999999999998,0.35,null,null,0.39,null,"着霜期"]
[null,"札幌","循環式",60,"R410A",0.34,0.34,0.34,0.36,0.36,0.36,0.34,0.34,0.3,0.3,0.3,0.28999999999999998,null,null,"厳冬期",null,null,null,null,"厳冬期",null,0.3,0.35,null,null,0.39,null,"厳冬期"]
[null,"札幌","循環式",60,"2元(R410A/R134a)",0.38,0.34,0.34,0.28999999999999998,0.28999999999999998,0.28999999999999998,0.34,0.38,0.35,0.35,0.35,0.35,null,null,"焚上温度",65,"係数","係数",null,"焚上温度",65,"係数","係数","係数","係数","係数",null,"焚上温度",65,"係数"]
[null,"札幌","循環式",65,"2段(R454C)",0.39,0.35,0.35,0.34,0.34,0.34,0.35,0.39,0.38,0.38,0.38,0.4,null,null,"夏期標準",null,0.22,0.2,null,"夏期標準",null,null,null,0.34,null,null,null,"夏期標準"]
[null,"札幌","循環式",60,"R407C",0.39,0.38,0.38,0.32,0.32,0.32,0.38,0.39,0.39,0.39,0.39,0.39,null,null,"中間期標準",null,0.27,0.22,null,"中間期標準",null,null,null,0.35,null,null,null,"中間期標準"]
[null,"札幌","保温加熱",90,"R744",0.26,0.25,0.25,0.21,0.21,0.21,0.25,0.26,0.23,0.23,0.23,0.26,null,null,"冬季標準",null,0.28000000000000003,0.25,null,"冬季標準",null,null,null,0.39,null,null,null,"冬季標準"]
[null,null,null,null,null,10.7,14.8,19.899999999999999,24.7,28,23.1,14.5,8.5,1.9,-1.1000000000000001,0,5.9,null,null,"着霜期",null,0.28000000000000003,0.22,null,"着霜期",null,null,null,0.4,null,null,null,"着霜期"]
[null,"青森","一過式",65,"R744",0.28000000000000003,0.27,0.27,0.22,0.22,0.22,0.27,0.28000000000000003,0.28000000000000003,0.3,0.3,0.28000000000000003,null,null,"厳冬期",null,0.3,0.28999999999999998,null,"厳冬期",null,null,null,0.38,null,null,null,"厳冬期"]
[null,"青森","一過式",65,"2元(R410A/R134a)",0.25,0.22,0.22,0.2,0.2,0.2,0.22,0.25,0.22,0.28999999999999998,0.28999999999999998,0.22,null,null,"焚上温度",90,"係数","係数",null,"焚上温度",90,"係数","係数","係数","係数","係数",null,"焚上温度",90,"係数"]
[null,"青森","一過式",90,"R744",0.3,0.34,0.34,0.27,0.27,0.27,0.34,0.3,0.3,0.3,0.3,0.3,null,null,"夏期標準",null,0.27,0.25,null,"夏期標準",null,null,null,null,null,null,null,"夏期標準",null,0.21]
[null,"青森","一過式",90,"2元(R410A/R134a)",0.25,0.24,0.24,0.25,0.25,0.25,0.24,0.25,0.26,0.28000000000000003,0.28000000000000003,0.26,null,null,"中間期標準",null,0.34,0.24,null,"中間期標準",null,null,null,null,null,null,null,"中間期標準",null,0.25,null,null,null," "]
[null,"青森","循環式",60,"R410A",0.34,0.34,0.34,0.36,0.36,0.36,0.34,0.34,0.28999999999999998,0.3,0.3,0.28999999999999998,null,null,"冬季標準",null,0.3,0.25,null,"冬季標準",null,null,null,null,null,null,null,"冬季標準",null,0.26]
[null,"青森","循環式",60,"2元(R410A/R134a)",0.38,0.34,0.34,0.28999999999999998,0.28999999999999998,0.28999999999999998,0.34,0.38,0.35,0.35,0.35,0.35,null,null,"着霜期",null,0.3,0.26,null,"着霜期",null,null,null,null,null,null,null,"着霜期",null,0.26]
[null,"青森","循環式",65,"2段(R454C)",0.39,0.35,0.35,0.34,0.34,0.34,0.35,0.39,0.4,0.38,0.38,0.4,null,null,"厳冬期",null,0.3,0.28000000000000003,null,"厳冬期",null,null,null,null,null,null,null,"厳冬期",null,0.23]
[null,"青森","循環式",60,"R407C",0.39,0.38,0.38,0.32,0.32,0.32,0.38,0.39,0.39,0.39,0.39,0.39]
[null,"青森","保温加熱",90,"R744",0.26,0.25,0.25,0.21,0.21,0.21,0.25,0.26,0.26,0.23,0.23,0.26]
[null,null,null,null,null,10.9,15,20.5,25,27.9,22.8,13.4,8,1.9,-1.4,-0.6,6.9]
[null,"盛岡","一過式",65,"R744",0.28000000000000003,0.27,0.27,0.22,0.22,0.22,0.27,0.28000000000000003,0.28000000000000003,0.3,0.3,0.28000000000000003]
[null,"盛岡","一過式",65,"2元(R410A/R134a)",0.25,0.22,0.22,0.2,0.2,0.2,0.27,0.25,0.22,0.28999999999999998,0.28999999999999998,0.25]
[null,"盛岡","一過式",90,"R744",0.3,0.34,0.34,0.27,0.27,0.27,0.34,0.3,0.3,0.3,0.3,0.3]
[null,"盛岡","一過式",90,"2元(R410A/R134a)",0.25,0.24,0.24,0.25,0.25,0.25,0.24,0.25,0.26,0.28000000000000003,0.28000000000000003,0.25]
[null,"盛岡","循環式",60,"R410A",0.34,0.34,0.34,0.36,0.36,0.36,0.36,0.34,0.28999999999999998,0.3,0.3,0.34]
[null,"盛岡","循環式",60,"2元(R410A/R134a)",0.38,0.34,0.34,0.28999999999999998,0.28999999999999998,0.28999999999999998,0.28999999999999998,0.38,0.35,0.35,0.35,0.38]
[null,"盛岡","循環式",65,"2段(R454C)",0.39,0.35,0.35,0.34,0.34,0.34,0.34,0.39,0.4,0.38,0.38,0.39]
[null,"盛岡","循環式",60,"R407C",0.39,0.38,0.38,0.32,0.32,0.32,0.37,0.39,0.39,0.39,0.39,0.39]
[null,"盛岡","保温加熱",90,"R744",0.26,0.25,0.25,0.21,0.21,0.21,0.35,0.26,0.26,0.23,0.23,0.26]
[null,null,null,null,null,13.3,16.600000000000001,21.6,26.6,28.6,25.1,16.7,11.4,5.7,2.1,3,9.3000000000000007]
[null,"仙台","一過式",65,"R744",0.27,0.27,0.22,0.22,0.22,0.22,0.27,0.27,0.28000000000000003,0.28000000000000003,0.28000000000000003,0.28000000000000003]
[null,"仙台","一過式",65,"2元(R410A/R134a)",0.22,0.22,0.2,0.2,0.2,0.2,0.22,0.22,0.22,0.22,0.22,0.25]
[null,"仙台","一過式",90,"R744",0.34,0.34,0.27,0.27,0.27,0.27,0.34,0.34,0.3,0.3,0.3,0.3]
[null,"仙台","一過式",90,"2元(R410A/R134a)",0.24,0.24,0.25,0.25,0.25,0.25,0.24,0.24,0.26,0.26,0.26,0.25]
[null,"仙台","循環式",60,"R410A",0.34,0.34,0.36,0.36,0.36,0.36,0.34,0.34,0.28999999999999998,0.28999999999999998,0.28999999999999998,0.34]
[null,"仙台","循環式",60,"2元(R410A/R134a)",0.34,0.34,0.28999999999999998,0.28999999999999998,0.28999999999999998,0.28999999999999998,0.34,0.34,0.35,0.35,0.35,0.38]
[null,"仙台","循環式",65,"2段(R454C)",0.35,0.35,0.34,0.34,0.34,0.34,0.35,0.35,0.4,0.4,0.4,0.39]
[null,"仙台","循環式",60,"R407C",0.38,0.38,0.32,0.32,0.32,0.32,0.38,0.38,0.39,0.39,0.39,0.39]
[null,"仙台","保温加熱",90,"R744",0.25,0.25,0.21,0.21,0.21,0.21,0.25,0.25,0.26,0.26,0.26,0.26]
[null,null,null,null,null,11.2,15.4,21.2,24.9,30,24.2,15.2,10.1,3.3,0.7,0.9,7.5]
[null,"秋田","一過式",65,"R744",0.27,0.27,0.22,0.22,0.22,0.22,0.27,0.28000000000000003,0.28000000000000003,0.28000000000000003,0.28000000000000003,0.28000000000000003]
[null,"秋田","一過式",65,"2元(R410A/R134a)",0.22,0.22,0.2,0.2,0.2,0.2,0.22,0.25,0.22,0.22,0.22,0.25]
[null,"秋田","一過式",90,"R744",0.34,0.34,0.27,0.27,0.27,0.27,0.34,0.3,0.3,0.3,0.3,0.3]
[null,"秋田","一過式",90,"2元(R410A/R134a)",0.24,0.24,0.25,0.25,0.25,0.25,0.24,0.25,0.26,0.26,0.26,0.25]
[null,"秋田","循環式",60,"R410A",0.34,0.34,0.36,0.36,0.36,0.36,0.34,0.34,0.28999999999999998,0.28999999999999998,0.28999999999999998,0.34]
[null,"秋田","循環式",60,"2元(R410A/R134a)",0.34,0.34,0.28999999999999998,0.28999999999999998,0.28999999999999998,0.28999999999999998,0.34,0.38,0.35,0.35,0.35,0.38]
[null,"秋田","循環式",65,"2段(R454C)",0.35,0.35,0.34,0.34,0.34,0.34,0.35,0.39,0.4,0.4,0.4,0.39]
[null,"秋田","循環式",60,"R407C",0.38,0.38,0.32,0.32,0.32,0.32,0.38,0.39,0.39,0.39,0.39,0.39]
[null,"秋田","保温加熱",90,"R744",0.25,0.25,0.21,0.21,0.21,0.21,0.25,0.26,0.26,0.26,0.26,0.26]
[null,null,null,null,null,12.1,16.399999999999999,21.6,26,28.7,24.4,14.7,9.1999999999999993,3.7,0,0.7,7.4]
[null,"山形","一過式",65,"R744",0.27,0.27,0.22,0.22,0.22,0.22,0.27,0.28000000000000003,0.28000000000000003,0.3,0.28000000000000003,0.28000000000000003]
[null,"山形","一過式",65,"2元(R410A/R134a)",0.22,0.22,0.2,0.2,0.2,0.2,0.22,0.25,0.22,0.28999999999999998,0.22,0.25]
[null,"山形","一過式",90,"R744",0.34,0.34,0.27,0.27,0.27,0.27,0.34,0.3,0.3,0.3,0.3,0.3]
[null,"山形","一過式",90,"2元(R410A/R134a)",0.24,0.24,0.25,0.25,0.25,0.25,0.24,0.25,0.26,0.28000000000000003,0.26,0.25]
[null,"山形","循環式",60,"R410A",0.34,0.34,0.36,0.36,0.36,0.36,0.34,0.34,0.28999999999999998,0.3,0.28999999999999998,0.34]
[null,"山形","循環式",60,"2元(R410A/R134a)",0.34,0.34,0.28999999999999998,0.28999999999999998,0.28999999999999998,0.28999999999999998,0.34,0.38,0.35,0.35,0.35,0.38]
[null,"山形","循環式",65,"2段(R454C)",0.35,0.35,0.34,0.34,0.34,0.34,0.35,0.39,0.4,0.38,0.4,0.39]
[null,"山形","循環式",60,"R407C",0.38,0.38,0.32,0.32,0.32,0.32,0.38,0.39,0.39,0.39,0.39,0.39]
[null,"山形","保温加熱",90,"R744",0.25,0.25,0.21,0.21,0.21,0.21,0.25,0.26,0.26,0.23,0.26,0.26]
[null,null,null,null,null,14,17.600000000000001,22.3,27.6,29,25.1,16,10.6,5.4,1.9,2.8,9.5]
[null,"福島","一過式",65,"R744",0.27,0.27,0.22,0.22,0.22,0.22,0.27,0.28000000000000003,0.28000000000000003,0.28000000000000003,0.28000000000000003,0.28000000000000003]
[null,"福島","一過式",65,"2元(R410A/R134a)",0.22,0.22,0.2,0.2,0.2,0.2,0.22,0.25,0.22,0.22,0.22,0.25]
[null,"福島","一過式",90,"R744",0.34,0.34,0.27,0.27,0.27,0.27,0.34,0.3,0.3,0.3,0.3,0.3]
[null,"福島","一過式",90,"2元(R410A/R134a)",0.24,0.24,0.25,0.25,0.25,0.25,0.24,0.25,0.26,0.26,0.26,0.25]
[null,"福島","循環式",60,"R410A",0.34,0.34,0.36,0.36,0.36,0.36,0.34,0.34,0.28999999999999998,0.28999999999999998,0.28999999999999998,0.34]
[null,"福島","循環式",60,"2元(R410A/R134a)",0.34,0.34,0.28999999999999998,0.28999999999999998,0.28999999999999998,0.28999999999999998,0.34,0.38,0.35,0.35,0.35,0.38]
[null,"福島","循環式",65,"2段(R454C)",0.35,0.35,0.34,0.34,0.34,0.34,0.35,0.39,0.4,0.4,0.4,0.39]
[null,"福島","循環式",60,"R407C",0.38,0.38,0.32,0.32,0.32,0.32,0.38,0.39,0.39,0.39,0.39,0.39]
[null,"福島","保温加熱",90,"R744",0.25,0.25,0.21,0.21,0.21,0.21,0.25,0.26,0.26,0.26,0.26,0.26]
[null,null,null,null,null,14.5,17.8,22.2,27.3,28.5,25.9,17,12.3,7.1,3.8,5.4,11.2]
[null,"水戸","一過式",65,"R744",0.27,0.27,0.22,0.22,0.22,0.22,0.27,0.27,0.28000000000000003,0.28000000000000003,0.28000000000000003,0.27]
[null,"水戸","一過式",65,"2元(R410A/R134a)",0.22,0.22,0.2,0.2,0.2,0.2,0.22,0.22,0.25,0.22,0.22,0.22]
[null,"水戸","一過式",90,"R744",0.34,0.34,0.27,0.27,0.27,0.27,0.34,0.34,0.3,0.3,0.3,0.34]
[null,"水戸","一過式",90,"2元(R410A/R134a)",0.24,0.24,0.25,0.25,0.25,0.25,0.24,0.24,0.25,0.26,0.26,0.24]
[null,"水戸","循環式",60,"R410A",0.34,0.34,0.36,0.36,0.36,0.36,0.34,0.34,0.34,0.28999999999999998,0.28999999999999998,0.34]
[null,"水戸","循環式",60,"2元(R410A/R134a)",0.34,0.34,0.28999999999999998,0.28999999999999998,0.28999999999999998,0.28999999999999998,0.34,0.34,0.38,0.35,0.35,0.34]
[null,"水戸","循環式",65,"2段(R454C)",0.35,0.35,0.34,0.34,0.34,0.34,0.35,0.35,0.39,0.4,0.4,0.35]
[null,"水戸","循環式",60,"R407C",0.38,0.38,0.32,0.32,0.32,0.32,0.38,0.38,0.39,0.39,0.39,0.38]
[null,"水戸","保温加熱",90,"R744",0.25,0.25,0.21,0.21,0.21,0.21,0.25,0.25,0.26,0.26,0.26,0.25]
[null,null,null,null,null,14.6,18.100000000000001,22.4,27.5,28.5,25.7,17,11.8,6.6,3.1,5,11.3]
[null,"宇都宮","一過式",65,"R744",0.27,0.27,0.22,0.22,0.22,0.22,0.27,0.27,0.28000000000000003,0.28000000000000003,0.28000000000000003,0.27]
[null,"宇都宮","一過式",65,"2元(R410A/R134a)",0.22,0.22,0.2,0.2,0.2,0.2,0.22,0.22,0.25,0.22,0.22,0.22]
[null,"宇都宮","一過式",90,"R744",0.34,0.34,0.27,0.27,0.27,0.27,0.34,0.34,0.3,0.3,0.3,0.34]
[null,"宇都宮","一過式",90,"2元(R410A/R134a)",0.24,0.24,0.25,0.25,0.25,0.25,0.24,0.24,0.25,0.26,0.26,0.24]
[null,"宇都宮","循環式",60,"R410A",0.34,0.34,0.36,0.36,0.36,0.36,0.34,0.34,0.34,0.28999999999999998,0.28999999999999998,0.34]
[null,"宇都宮","循環式",60,"2元(R410A/R134a)",0.34,0.34,0.28999999999999998,0.28999999999999998,0.28999999999999998,0.28999999999999998,0.34,0.34,0.38,0.35,0.35,0.34]
[null,"宇都宮","循環式",65,"2段(R454C)",0.35,0.35,0.34,0.34,0.34,0.34,0.35,0.35,0.39,0.4,0.4,0.35]
[null,"宇都宮","循環式",60,"R407C",0.38,0.38,0.32,0.32,0.32,0.32,0.38,0.38,0.39,0.39,0.39,0.38]
[null,"宇都宮","保温加熱",90,"R744",0.25,0.25,0.21,0.21,0.21,0.21,0.25,0.25,0.26,0.26,0.26,0.25]
[null,null,null,null,null,15.2,19.100000000000001,23.3,28.7,29.4,26.6,17.7,12.5,7.8,4.3,5.7,12.2]
[null,"前橋","一過式",65,"R744",0.27,0.27,0.22,0.22,0.22,0.22,0.27,0.27,0.28000000000000003,0.28000000000000003,0.28000000000000003,0.27]
[null,"前橋","一過式",65,"2元(R410A/R134a)",0.22,0.22,0.2,0.2,0.2,0.2,0.22,0.22,0.25,0.22,0.22,0.22]
[null,"前橋","一過式",90,"R744",0.34,0.34,0.27,0.27,0.27,0.27,0.34,0.34,0.3,0.3,0.3,0.34]
[null,"前橋","一過式",90,"2元(R410A/R134a)",0.24,0.24,0.25,0.25,0.25,0.25,0.24,0.24,0.25,0.26,0.26,0.24]
[null,"前橋","循環式",60,"R410A",0.34,0.34,0.36,0.36,0.36,0.36,0.34,0.34,0.34,0.28999999999999998,0.28999999999999998,0.34]
[null,"前橋","循環式",60,"2元(R410A/R134a)",0.34,0.34,0.28999999999999998,0.28999999999999998,0.28999999999999998,0.28999999999999998,0.34,0.34,0.38,0.35,0.35,0.34]
[null,"前橋","循環式",65,"2段(R454C)",0.35,0.35,0.34,0.34,0.34,0.34,0.35,0.35,0.39,0.4,0.4,0.35]
[null,"前橋","循環式",60,"R407C",0.38,0.38,0.32,0.32,0.32,0.32,0.38,0.38,0.39,0.39,0.39,0.38]
[null,"前橋","保温加熱",90,"R744",0.25,0.25,0.21,0.21,0.21,0.21,0.25,0.25,0.26,0.26,0.26,0.25]
[null,null,null,null,null,15.8,19,23.3,29,29.5,26.8,18,13,7.7,4.4000000000000004,6.2,12.3]
[null,"さいたま","一過式",65,"R744",0.27,0.27,0.22,0.22,0.22,0.22,0.27,0.27,0.28000000000000003,0.28000000000000003,0.28000000000000003,0.27]
[null,"さいたま","一過式",65,"2元(R410A/R134a)",0.22,0.22,0.2,0.2,0.2,0.2,0.22,0.22,0.25,0.22,0.25,0.22]
[null,"さいたま","一過式",90,"R744",0.34,0.34,0.27,0.27,0.27,0.27,0.34,0.34,0.3,0.3,0.3,0.34]
[null,"さいたま","一過式",90,"2元(R410A/R134a)",0.24,0.24,0.25,0.25,0.25,0.25,0.24,0.24,0.25,0.26,0.25,0.24]
[null,"さいたま","循環式",60,"R410A",0.34,0.34,0.36,0.36,0.36,0.36,0.34,0.34,0.34,0.28999999999999998,0.34,0.34]
[null,"さいたま","循環式",60,"2元(R410A/R134a)",0.34,0.34,0.28999999999999998,0.28999999999999998,0.28999999999999998,0.28999999999999998,0.34,0.34,0.38,0.35,0.38,0.34]
[null,"さいたま","循環式",65,"2段(R454C)",0.35,0.35,0.34,0.34,0.34,0.34,0.35,0.35,0.39,0.4,0.39,0.35]
[null,"さいたま","循環式",60,"R407C",0.38,0.38,0.32,0.32,0.32,0.32,0.38,0.38,0.39,0.39,0.39,0.38]
[null,"さいたま","保温加熱",90,"R744",0.25,0.25,0.21,0.21,0.21,0.21,0.25,0.25,0.26,0.26,0.26,0.25]
[null,null,null,null,null,16.7,19.3,23.5,28.3,29.4,27.1,19.7,15.5,10.199999999999999,6.3,7.8,13.2]
[null,"千葉","一過式",65,"R744",0.27,0.27,0.22,0.22,0.22,0.22,0.27,0.27,0.28000000000000003,0.28000000000000003,0.28000000000000003,0.27]
[null,"千葉","一過式",65,"2元(R410A/R134a)",0.22,0.22,0.2,0.2,0.2,0.2,0.22,0.22,0.25,0.25,0.25,0.22]
[null,"千葉","一過式",90,"R744",0.34,0.34,0.27,0.27,0.27,0.27,0.34,0.34,0.3,0.3,0.3,0.34]
[null,"千葉","一過式",90,"2元(R410A/R134a)",0.24,0.24,0.25,0.25,0.25,0.25,0.24,0.24,0.25,0.25,0.25,0.24]
[null,"千葉","循環式",60,"R410A",0.34,0.34,0.36,0.36,0.36,0.36,0.34,0.34,0.34,0.34,0.34,0.34]
[null,"千葉","循環式",60,"2元(R410A/R134a)",0.34,0.34,0.28999999999999998,0.28999999999999998,0.28999999999999998,0.28999999999999998,0.34,0.34,0.38,0.38,0.38,0.34]
[null,"千葉","循環式",65,"2段(R454C)",0.35,0.35,0.34,0.34,0.34,0.34,0.35,0.35,0.39,0.39,0.39,0.35]
[null,"千葉","循環式",60,"R407C",0.38,0.38,0.32,0.32,0.32,0.32,0.38,0.38,0.39,0.39,0.39,0.38]
[null,"千葉","保温加熱",90,"R744",0.25,0.25,0.21,0.21,0.21,0.21,0.25,0.25,0.26,0.26,0.26,0.25]
[null,null,null,null,null,16.3,19,23.2,28.7,29.2,26.7,18.899999999999999,14.4,9.4,5.7,7.3,12.9]
[null,"東京","一過式",65,"R744",0.27,0.27,0.22,0.22,0.22,0.22,0.27,0.27,0.28000000000000003,0.28000000000000003,0.28000000000000003,0.27]
[null,"東京","一過式",65,"2元(R410A/R134a)",0.22,0.22,0.2,0.2,0.2,0.2,0.22,0.22,0.25,0.22,0.25,0.22]
[null,"東京","一過式",90,"R744",0.34,0.34,0.27,0.27,0.27,0.27,0.34,0.34,0.3,0.3,0.3,0.34]
[null,"東京","一過式",90,"2元(R410A/R134a)",0.24,0.24,0.25,0.25,0.25,0.25,0.24,0.24,0.25,0.26,0.25,0.24]
[null,"東京","循環式",60,"R410A",0.34,0.34,0.36,0.36,0.36,0.36,0.34,0.34,0.34,0.28999999999999998,0.34,0.34]
[null,"東京","循環式",60,"2元(R410A/R134a)",0.34,0.34,0.28999999999999998,0.28999999999999998,0.28999999999999998,0.28999999999999998,0.34,0.34,0.38,0.35,0.38,0.34]
[null,"東京","循環式",65,"2段(R454C)",0.35,0.35,0.34,0.34,0.34,0.34,0.35,0.35,0.39,0.4,0.39,0.35]
[null,"東京","循環式",60,"R407C",0.38,0.38,0.32,0.32,0.32,0.32,0.38,0.38,0.39,0.39,0.39,0.38]
[null,"東京","保温加熱",90,"R744",0.25,0.25,0.21,0.21,0.21,0.21,0.25,0.25,0.26,0.26,0.26,0.25]
[null,null,null,null,null,16.600000000000001,19,23.2,28.2,29.1,26.9,19.5,15.2,10.199999999999999,6.4,7.9,13.2]
[null,"横浜","一過式",65,"R744",0.27,0.27,0.22,0.22,0.22,0.22,0.27,0.27,0.28000000000000003,0.28000000000000003,0.28000000000000003,0.27]
[null,"横浜","一過式",65,"2元(R410A/R134a)",0.22,0.22,0.2,0.2,0.2,0.2,0.22,0.22,0.25,0.25,0.25,0.22]
[null,"横浜","一過式",90,"R744",0.34,0.34,0.27,0.27,0.27,0.27,0.34,0.34,0.3,0.3,0.3,0.34]
[null,"横浜","一過式",90,"2元(R410A/R134a)",0.24,0.24,0.25,0.25,0.25,0.25,0.24,0.24,0.25,0.25,0.25,0.24]
[null,"横浜","循環式",60,"R410A",0.34,0.34,0.36,0.36,0.36,0.36,0.34,0.34,0.34,0.34,0.34,0.34]
[null,"横浜","循環式",60,"2元(R410A/R134a)",0.34,0.34,0.28999999999999998,0.28999999999999998,0.28999999999999998,0.28999999999999998,0.34,0.34,0.38,0.38,0.38,0.34]
[null,"横浜","循環式",65,"2段(R454C)",0.35,0.35,0.34,0.34,0.34,0.34,0.35,0.35,0.39,0.39,0.39,0.35]
[null,"横浜","循環式",60,"R407C",0.38,0.38,0.32,0.32,0.32,0.32,0.38,0.38,0.39,0.39,0.39,0.38]
[null,"横浜","保温加熱",90,"R744",0.25,0.25,0.21,0.21,0.21,0.21,0.25,0.25,0.26,0.26,0.26,0.25]
[null,null,null,null,null,12.7,16.899999999999999,22.1,26.5,30.6,25.8,16.7,12.1,6,2.9,3.5,9.1999999999999993]
[null,"新潟","一過式",65,"R744",0.27,0.27,0.22,0.22,0.22,0.22,0.27,0.27,0.28000000000000003,0.28000000000000003,0.28000000000000003,0.28000000000000003]
[null,"新潟","一過式",65,"2元(R410A/R134a)",0.22,0.22,0.2,0.2,0.2,0.2,0.22,0.22,0.22,0.22,0.22,0.25]
[null,"新潟","一過式",90,"R744",0.34,0.34,0.27,0.27,0.27,0.27,0.34,0.34,0.3,0.3,0.3,0.3]
[null,"新潟","一過式",90,"2元(R410A/R134a)",0.24,0.24,0.25,0.25,0.25,0.25,0.24,0.24,0.26,0.26,0.26,0.25]
[null,"新潟","循環式",60,"R410A",0.34,0.34,0.36,0.36,0.36,0.36,0.34,0.34,0.28999999999999998,0.28999999999999998,0.28999999999999998,0.34]
[null,"新潟","循環式",60,"2元(R410A/R134a)",0.34,0.34,0.28999999999999998,0.28999999999999998,0.28999999999999998,0.28999999999999998,0.34,0.34,0.35,0.35,0.35,0.38]
[null,"新潟","循環式",65,"2段(R454C)",0.35,0.35,0.34,0.34,0.34,0.34,0.35,0.35,0.4,0.4,0.4,0.39]
[null,"新潟","循環式",60,"R407C",0.38,0.38,0.32,0.32,0.32,0.32,0.38,0.38,0.39,0.39,0.39,0.39]
[null,"新潟","保温加熱",90,"R744",0.25,0.25,0.21,0.21,0.21,0.21,0.25,0.25,0.26,0.26,0.26,0.26]
[null,null,null,null,null,13.8,18,22.7,27.7,30.6,26,16.899999999999999,12.4,6.9,3.7,4.2,10.3]
[null,"富山","一過式",65,"R744",0.27,0.27,0.22,0.22,0.22,0.22,0.27,0.27,0.28000000000000003,0.28000000000000003,0.28000000000000003,0.28000000000000003]
[null,"富山","一過式",65,"2元(R410A/R134a)",0.22,0.22,0.2,0.2,0.2,0.2,0.22,0.22,0.25,0.22,0.22,0.25]
[null,"富山","一過式",90,"R744",0.34,0.34,0.27,0.27,0.27,0.27,0.34,0.34,0.3,0.3,0.3,0.3]
[null,"富山","一過式",90,"2元(R410A/R134a)",0.24,0.24,0.25,0.25,0.25,0.25,0.24,0.24,0.25,0.26,0.26,0.25]
[null,"富山","循環式",60,"R410A",0.34,0.34,0.36,0.36,0.36,0.36,0.34,0.34,0.34,0.28999999999999998,0.28999999999999998,0.34]
[null,"富山","循環式",60,"2元(R410A/R134a)",0.34,0.34,0.28999999999999998,0.28999999999999998,0.28999999999999998,0.28999999999999998,0.34,0.34,0.38,0.35,0.35,0.38]
[null,"富山","循環式",65,"2段(R454C)",0.35,0.35,0.34,0.34,0.34,0.34,0.35,0.35,0.39,0.4,0.4,0.39]
[null,"富山","循環式",60,"R407C",0.38,0.38,0.32,0.32,0.32,0.32,0.38,0.38,0.39,0.39,0.39,0.39]
[null,"富山","保温加熱",90,"R744",0.25,0.25,0.21,0.21,0.21,0.21,0.25,0.25,0.26,0.26,0.26,0.26]
[null,null,null,null,null,13.9,18.399999999999999,22.9,28,30.5,26.6,17.8,13.2,7.7,4.3,4.9000000000000004,10.5]
[null,"金沢","一過式",65,"R744",0.27,0.27,0.22,0.22,0.22,0.22,0.27,0.27,0.28000000000000003,0.28000000000000003,0.28000000000000003,0.28000000000000003]
[null,"金沢","一過式",65,"2元(R410A/R134a)",0.22,0.22,0.2,0.2,0.2,0.2,0.22,0.22,0.25,0.22,0.22,0.25]
[null,"金沢","一過式",90,"R744",0.34,0.34,0.27,0.27,0.27,0.27,0.34,0.34,0.3,0.3,0.3,0.3]
[null,"金沢","一過式",90,"2元(R410A/R134a)",0.24,0.24,0.25,0.25,0.25,0.25,0.24,0.24,0.25,0.26,0.26,0.25]
[null,"金沢","循環式",60,"R410A",0.34,0.34,0.36,0.36,0.36,0.36,0.34,0.34,0.34,0.28999999999999998,0.28999999999999998,0.34]
[null,"金沢","循環式",60,"2元(R410A/R134a)",0.34,0.34,0.28999999999999998,0.28999999999999998,0.28999999999999998,0.28999999999999998,0.34,0.34,0.38,0.35,0.35,0.38]
[null,"金沢","循環式",65,"2段(R454C)",0.35,0.35,0.34,0.34,0.34,0.34,0.35,0.35,0.39,0.4,0.4,0.39]
[null,"金沢","循環式",60,"R407C",0.38,0.38,0.32,0.32,0.32,0.32,0.38,0.38,0.39,0.39,0.39,0.39]
[null,"金沢","保温加熱",90,"R744",0.25,0.25,0.21,0.21,0.21,0.21,0.25,0.25,0.26,0.26,0.26,0.26]
[null,null,null,null,null,14.1,18.7,22.7,27.9,30.4,26.2,16.7,12.8,6.7,3.7,3.9,10.7]
[null,"福井","一過式",65,"R744",0.27,0.27,0.22,0.22,0.22,0.22,0.27,0.27,0.28000000000000003,0.28000000000000003,0.28000000000000003,0.28000000000000003]
[null,"福井","一過式",65,"2元(R410A/R134a)",0.22,0.22,0.2,0.2,0.2,0.2,0.22,0.22,0.25,0.22,0.22,0.25]
[null,"福井","一過式",90,"R744",0.34,0.34,0.27,0.27,0.27,0.27,0.34,0.34,0.3,0.3,0.3,0.3]
[null,"福井","一過式",90,"2元(R410A/R134a)",0.24,0.24,0.25,0.25,0.25,0.25,0.24,0.24,0.25,0.26,0.26,0.25]
[null,"福井","循環式",60,"R410A",0.34,0.34,0.36,0.36,0.36,0.36,0.34,0.34,0.34,0.28999999999999998,0.28999999999999998,0.34]
[null,"福井","循環式",60,"2元(R410A/R134a)",0.34,0.34,0.28999999999999998,0.28999999999999998,0.28999999999999998,0.28999999999999998,0.34,0.34,0.38,0.35,0.35,0.38]
[null,"福井","循環式",65,"2段(R454C)",0.35,0.35,0.34,0.34,0.34,0.34,0.35,0.35,0.39,0.4,0.4,0.39]
[null,"福井","循環式",60,"R407C",0.38,0.38,0.32,0.32,0.32,0.32,0.38,0.38,0.39,0.39,0.39,0.39]
[null,"福井","保温加熱",90,"R744",0.25,0.25,0.21,0.21,0.21,0.21,0.25,0.25,0.26,0.26,0.26,0.26]
[null,null,null,null,null,15.6,18.899999999999999,22.8,27.8,28.2,26.7,17.2,12,6.3,3.3,5.7,11.9]
[null,"甲府","一過式",65,"R744",0.27,0.27,0.22,0.22,0.22,0.22,0.27,0.27,0.28000000000000003,0.28000000000000003,0.28000000000000003,0.27]
[null,"甲府","一過式",65,"2元(R410A/R134a)",0.22,0.22,0.2,0.2,0.2,0.2,0.22,0.22,0.25,0.22,0.22,0.22]
[null,"甲府","一過式",90,"R744",0.34,0.34,0.27,0.27,0.27,0.27,0.34,0.34,0.3,0.3,0.3,0.34]
[null,"甲府","一過式",90,"2元(R410A/R134a)",0.24,0.24,0.25,0.25,0.25,0.25,0.24,0.24,0.25,0.26,0.26,0.24]
[null,"甲府","循環式",60,"R410A",0.34,0.34,0.36,0.36,0.36,0.36,0.34,0.34,0.34,0.28999999999999998,0.28999999999999998,0.34]
[null,"甲府","循環式",60,"2元(R410A/R134a)",0.34,0.34,0.28999999999999998,0.28999999999999998,0.28999999999999998,0.28999999999999998,0.34,0.34,0.38,0.35,0.35,0.34]
[null,"甲府","循環式",65,"2段(R454C)",0.35,0.35,0.34,0.34,0.34,0.34,0.35,0.35,0.39,0.4,0.4,0.35]
[null,"甲府","循環式",60,"R407C",0.38,0.38,0.32,0.32,0.32,0.32,0.38,0.38,0.39,0.39,0.39,0.38]
[null,"甲府","保温加熱",90,"R744",0.25,0.25,0.21,0.21,0.21,0.21,0.25,0.25,0.26,0.26,0.26,0.25]
[null,null,null,null,null,12,16.3,21,25.9,28.2,24.5,14.1,8.8000000000000007,3.6,-0.1,1,8.3000000000000007]
[null,"長野","一過式",65,"R744",0.27,0.27,0.27,0.22,0.22,0.22,0.27,0.28000000000000003,0.28000000000000003,0.3,0.28000000000000003,0.28000000000000003]
[null,"長野","一過式",65,"2元(R410A/R134a)",0.22,0.22,0.22,0.2,0.2,0.2,0.22,0.25,0.22,0.28999999999999998,0.22,0.25]
[null,"長野","一過式",90,"R744",0.34,0.34,0.34,0.27,0.27,0.27,0.34,0.3,0.3,0.3,0.3,0.3]
[null,"長野","一過式",90,"2元(R410A/R134a)",0.24,0.24,0.24,0.25,0.25,0.25,0.24,0.25,0.26,0.28000000000000003,0.26,0.25]
[null,"長野","循環式",60,"R410A",0.34,0.34,0.34,0.36,0.36,0.36,0.34,0.34,0.28999999999999998,0.3,0.28999999999999998,0.34]
[null,"長野","循環式",60,"2元(R410A/R134a)",0.34,0.34,0.34,0.28999999999999998,0.28999999999999998,0.28999999999999998,0.34,0.38,0.35,0.35,0.35,0.38]
[null,"長野","循環式",65,"2段(R454C)",0.35,0.35,0.35,0.34,0.34,0.34,0.35,0.39,0.4,0.38,0.4,0.39]
[null,"長野","循環式",60,"R407C",0.38,0.38,0.38,0.32,0.32,0.32,0.38,0.39,0.39,0.39,0.39,0.39]
[null,"長野","保温加熱",90,"R744",0.25,0.25,0.25,0.21,0.21,0.21,0.25,0.26,0.26,0.23,0.26,0.26]
[null,null,null,null,null,15.7,20.100000000000001,23.8,28.8,29.6,27.3,18.2,13.4,8.1,5,6.4,12.5]
[null,"岐阜","一過式",65,"R744",0.27,0.27,0.22,0.22,0.22,0.22,0.27,0.27,0.28000000000000003,0.28000000000000003,0.28000000000000003,0.27]
[null,"岐阜","一過式",65,"2元(R410A/R134a)",0.22,0.22,0.2,0.2,0.2,0.2,0.22,0.22,0.25,0.22,0.25,0.22]
[null,"岐阜","一過式",90,"R744",0.34,0.34,0.27,0.27,0.27,0.27,0.34,0.34,0.3,0.3,0.3,0.34]
[null,"岐阜","一過式",90,"2元(R410A/R134a)",0.24,0.24,0.25,0.25,0.25,0.25,0.24,0.24,0.25,0.26,0.25,0.24]
[null,"岐阜","循環式",60,"R410A",0.34,0.34,0.36,0.36,0.36,0.36,0.34,0.34,0.34,0.28999999999999998,0.34,0.34]
[null,"岐阜","循環式",60,"2元(R410A/R134a)",0.34,0.34,0.28999999999999998,0.28999999999999998,0.28999999999999998,0.28999999999999998,0.34,0.34,0.38,0.35,0.38,0.34]
[null,"岐阜","循環式",65,"2段(R454C)",0.35,0.35,0.34,0.34,0.34,0.34,0.35,0.35,0.39,0.4,0.39,0.35]
[null,"岐阜","循環式",60,"R407C",0.38,0.38,0.32,0.32,0.32,0.32,0.38,0.38,0.39,0.39,0.39,0.38]
[null,"岐阜","保温加熱",90,"R744",0.25,0.25,0.21,0.21,0.21,0.21,0.25,0.25,0.26,0.26,0.26,0.25]
[null,null,null,null,null,16.600000000000001,19.5,23.3,28,28.8,27.2,19.5,15.5,10.3,7.2,9.1999999999999993,13.8]
[null,"静岡","一過式",65,"R744",0.27,0.27,0.22,0.22,0.22,0.22,0.27,0.27,0.28000000000000003,0.28000000000000003,0.28000000000000003,0.27]
[null,"静岡","一過式",65,"2元(R410A/R134a)",0.22,0.22,0.2,0.2,0.2,0.2,0.22,0.22,0.25,0.25,0.25,0.22]
[null,"静岡","一過式",90,"R744",0.34,0.34,0.27,0.27,0.27,0.27,0.34,0.34,0.3,0.3,0.3,0.34]
[null,"静岡","一過式",90,"2元(R410A/R134a)",0.24,0.24,0.25,0.25,0.25,0.25,0.24,0.24,0.25,0.25,0.25,0.24]
[null,"静岡","循環式",60,"R410A",0.34,0.34,0.36,0.36,0.36,0.36,0.34,0.34,0.34,0.34,0.34,0.34]
[null,"静岡","循環式",60,"2元(R410A/R134a)",0.34,0.34,0.28999999999999998,0.28999999999999998,0.28999999999999998,0.28999999999999998,0.34,0.34,0.38,0.38,0.38,0.34]
[null,"静岡","循環式",65,"2段(R454C)",0.35,0.35,0.34,0.34,0.34,0.34,0.35,0.35,0.39,0.39,0.39,0.35]
[null,"静岡","循環式",60,"R407C",0.38,0.38,0.32,0.32,0.32,0.32,0.38,0.38,0.39,0.39,0.39,0.38]
[null,"静岡","保温加熱",90,"R744",0.25,0.25,0.21,0.21,0.21,0.21,0.25,0.25,0.26,0.26,0.26,0.25]
[null,null,null,null,null,15.9,20.2,23.8,28.9,29.4,27.3,18.3,13.6,8.4,5.2,6.5,12.7]
[null,"名古屋","一過式",65,"R744",0.27,0.27,0.22,0.22,0.22,0.22,0.27,0.27,0.28000000000000003,0.28000000000000003,0.28000000000000003,0.27]
[null,"名古屋","一過式",65,"2元(R410A/R134a)",0.22,0.22,0.2,0.2,0.2,0.2,0.22,0.22,0.25,0.22,0.25,0.22]
[null,"名古屋","一過式",90,"R744",0.34,0.34,0.27,0.27,0.27,0.27,0.34,0.34,0.3,0.3,0.3,0.34]
[null,"名古屋","一過式",90,"2元(R410A/R134a)",0.24,0.24,0.25,0.25,0.25,0.25,0.24,0.24,0.25,0.26,0.25,0.24]
[null,"名古屋","循環式",60,"R410A",0.34,0.34,0.36,0.36,0.36,0.36,0.34,0.34,0.34,0.28999999999999998,0.34,0.34]
[null,"名古屋","循環式",60,"2元(R410A/R134a)",0.34,0.34,0.28999999999999998,0.28999999999999998,0.28999999999999998,0.28999999999999998,0.34,0.34,0.38,0.35,0.38,0.34]
[null,"名古屋","循環式",65,"2段(R454C)",0.35,0.35,0.34,0.34,0.34,0.34,0.35,0.35,0.39,0.4,0.39,0.35]
[null,"名古屋","循環式",60,"R407C",0.38,0.38,0.32,0.32,0.32,0.32,0.38,0.38,0.39,0.39,0.39,0.38]
[null,"名古屋","保温加熱",90,"R744",0.25,0.25,0.21,0.21,0.21,0.21,0.25,0.25,0.26,0.26,0.26,0.25]
[null,null,null,null,null,15.3,19.7,23.4,28.7,29.1,27,18.5,13.9,9.1,6,6.7,11.9]
[null,"津","一過式",65,"R744",0.27,0.27,0.22,0.22,0.22,0.22,0.27,0.27,0.28000000000000003,0.28000000000000003,0.28000000000000003,0.27]
[null,"津","一過式",65,"2元(R410A/R134a)",0.22,0.22,0.2,0.2,0.2,0.2,0.22,0.22,0.25,0.22,0.25,0.22]
[null,"津","一過式",90,"R744",0.34,0.34,0.27,0.27,0.27,0.27,0.34,0.34,0.3,0.3,0.3,0.34]
[null,"津","一過式",90,"2元(R410A/R134a)",0.24,0.24,0.25,0.25,0.25,0.25,0.24,0.24,0.25,0.26,0.25,0.24]
[null,"津","循環式",60,"R410A",0.34,0.34,0.36,0.36,0.36,0.36,0.34,0.34,0.34,0.28999999999999998,0.34,0.34]
[null,"津","循環式",60,"2元(R410A/R134a)",0.34,0.34,0.28999999999999998,0.28999999999999998,0.28999999999999998,0.28999999999999998,0.34,0.34,0.38,0.35,0.38,0.34]
[null,"津","循環式",65,"2段(R454C)",0.35,0.35,0.34,0.34,0.34,0.34,0.35,0.35,0.39,0.4,0.39,0.35]
[null,"津","循環式",60,"R407C",0.38,0.38,0.32,0.32,0.32,0.32,0.38,0.38,0.39,0.39,0.39,0.38]
[null,"津","保温加熱",90,"R744",0.25,0.25,0.21,0.21,0.21,0.21,0.25,0.25,0.26,0.26,0.26,0.25]
[null,null,null,null,null,14.3,18.8,22.7,28.1,29,26.5,17.2,12.4,7.4,4.3,5,10.7]
[null,"大津","一過式",65,"R744",0.27,0.27,0.22,0.22,0.22,0.22,0.27,0.27,0.28000000000000003,0.28000000000000003,0.28000000000000003,0.28000000000000003]
[null,"大津","一過式",65,"2元(R410A/R134a)",0.22,0.22,0.2,0.2,0.2,0.2,0.22,0.22,0.25,0.22,0.22,0.25]
[null,"大津","一過式",90,"R744",0.34,0.34,0.27,0.27,0.27,0.27,0.34,0.34,0.3,0.3,0.3,0.3]
[null,"大津","一過式",90,"2元(R410A/R134a)",0.24,0.24,0.25,0.25,0.25,0.25,0.24,0.24,0.25,0.26,0.26,0.25]
[null,"大津","循環式",60,"R410A",0.34,0.34,0.36,0.36,0.36,0.36,0.34,0.34,0.34,0.28999999999999998,0.28999999999999998,0.34]
[null,"大津","循環式",60,"2元(R410A/R134a)",0.34,0.34,0.28999999999999998,0.28999999999999998,0.28999999999999998,0.28999999999999998,0.34,0.34,0.38,0.35,0.35,0.38]
[null,"大津","循環式",65,"2段(R454C)",0.35,0.35,0.34,0.34,0.34,0.34,0.35,0.35,0.39,0.4,0.4,0.39]
[null,"大津","循環式",60,"R407C",0.38,0.38,0.32,0.32,0.32,0.32,0.38,0.38,0.39,0.39,0.39,0.39]
[null,"大津","保温加熱",90,"R744",0.25,0.25,0.21,0.21,0.21,0.21,0.25,0.25,0.26,0.26,0.26,0.26]
[null,null,null,null,null,15.4,19.7,23.6,29.1,30.3,27.7,18.2,13.3,8.1999999999999993,5.0999999999999996,6,12.3]
[null,"京都","一過式",65,"R744",0.27,0.27,0.22,0.22,0.22,0.22,0.27,0.27,0.28000000000000003,0.28000000000000003,0.28000000000000003,0.27]
[null,"京都","一過式",65,"2元(R410A/R134a)",0.22,0.22,0.2,0.2,0.2,0.2,0.22,0.22,0.25,0.22,0.22,0.22]
[null,"京都","一過式",90,"R744",0.34,0.34,0.27,0.27,0.27,0.27,0.34,0.34,0.3,0.3,0.3,0.34]
[null,"京都","一過式",90,"2元(R410A/R134a)",0.24,0.24,0.25,0.25,0.25,0.25,0.24,0.24,0.25,0.26,0.26,0.24]
[null,"京都","循環式",60,"R410A",0.34,0.34,0.36,0.36,0.36,0.36,0.34,0.34,0.34,0.28999999999999998,0.28999999999999998,0.34]
[null,"京都","循環式",60,"2元(R410A/R134a)",0.34,0.34,0.28999999999999998,0.28999999999999998,0.28999999999999998,0.28999999999999998,0.34,0.34,0.38,0.35,0.35,0.34]
[null,"京都","循環式",65,"2段(R454C)",0.35,0.35,0.34,0.34,0.34,0.34,0.35,0.35,0.39,0.4,0.4,0.35]
[null,"京都","循環式",60,"R407C",0.38,0.38,0.32,0.32,0.32,0.32,0.38,0.38,0.39,0.39,0.39,0.38]
[null,"京都","保温加熱",90,"R744",0.25,0.25,0.21,0.21,0.21,0.21,0.25,0.25,0.26,0.26,0.26,0.25]
[null,null,null,null,null,15.9,20,23.8,28.9,29.9,27.9,19.3,14.4,9.3000000000000007,5.9,6,13]
[null,"大阪","一過式",65,"R744",0.27,0.27,0.22,0.22,0.22,0.22,0.27,0.27,0.28000000000000003,0.28000000000000003,0.28000000000000003,0.27]
[null,"大阪","一過式",65,"2元(R410A/R134a)",0.22,0.22,0.2,0.2,0.2,0.2,0.22,0.22,0.25,0.22,0.22,0.22]
[null,"大阪","一過式",90,"R744",0.34,0.34,0.27,0.27,0.27,0.27,0.34,0.34,0.3,0.3,0.3,0.34]
[null,"大阪","一過式",90,"2元(R410A/R134a)",0.24,0.24,0.25,0.25,0.25,0.25,0.24,0.24,0.25,0.26,0.26,0.24]
[null,"大阪","循環式",60,"R410A",0.34,0.34,0.36,0.36,0.36,0.36,0.34,0.34,0.34,0.28999999999999998,0.28999999999999998,0.34]
[null,"大阪","循環式",60,"2元(R410A/R134a)",0.34,0.34,0.28999999999999998,0.28999999999999998,0.28999999999999998,0.28999999999999998,0.34,0.34,0.38,0.35,0.35,0.34]
[null,"大阪","循環式",65,"2段(R454C)",0.35,0.35,0.34,0.34,0.34,0.34,0.35,0.35,0.39,0.4,0.4,0.35]
[null,"大阪","循環式",60,"R407C",0.38,0.38,0.32,0.32,0.32,0.32,0.38,0.38,0.39,0.39,0.39,0.38]
[null,"大阪","保温加熱",90,"R744",0.25,0.25,0.21,0.21,0.21,0.21,0.25,0.25,0.26,0.26,0.26,0.25]
[null,null,null,null,null,15.9,19.8,23.4,28,29.7,27.9,19.600000000000001,14.7,9.6999999999999993,5.9,6,13]
[null,"神戸","一過式",65,"R744",0.27,0.27,0.22,0.22,0.22,0.22,0.27,0.27,0.28000000000000003,0.28000000000000003,0.28000000000000003,0.27]
[null,"神戸","一過式",65,"2元(R410A/R134a)",0.22,0.22,0.2,0.2,0.2,0.2,0.22,0.22,0.25,0.22,0.22,0.22]
[null,"神戸","一過式",90,"R744",0.34,0.34,0.27,0.27,0.27,0.27,0.34,0.34,0.3,0.3,0.3,0.34]
[null,"神戸","一過式",90,"2元(R410A/R134a)",0.24,0.24,0.25,0.25,0.25,0.25,0.24,0.24,0.25,0.26,0.26,0.24]
[null,"神戸","循環式",60,"R410A",0.34,0.34,0.36,0.36,0.36,0.36,0.34,0.34,0.34,0.28999999999999998,0.28999999999999998,0.34]
[null,"神戸","循環式",60,"2元(R410A/R134a)",0.34,0.34,0.28999999999999998,0.28999999999999998,0.28999999999999998,0.28999999999999998,0.34,0.34,0.38,0.35,0.35,0.34]
[null,"神戸","循環式",65,"2段(R454C)",0.35,0.35,0.34,0.34,0.34,0.34,0.35,0.35,0.39,0.4,0.4,0.35]
[null,"神戸","循環式",60,"R407C",0.38,0.38,0.32,0.32,0.32,0.32,0.38,0.38,0.39,0.39,0.39,0.38]
[null,"神戸","保温加熱",90,"R744",0.25,0.25,0.21,0.21,0.21,0.21,0.25,0.25,0.26,0.26,0.26,0.25]
[null,null,null,null,null,14.9,19,22.9,28.2,28.9,26.4,17.3,12.6,7.7,4.7,5.4,11.6]
[null,"奈良","一過式",65,"R744",0.27,0.27,0.22,0.22,0.22,0.22,0.27,0.27,0.28000000000000003,0.28000000000000003,0.28000000000000003,0.27]
[null,"奈良","一過式",65,"2元(R410A/R134a)",0.22,0.22,0.2,0.2,0.2,0.2,0.22,0.22,0.25,0.22,0.22,0.22]
[null,"奈良","一過式",90,"R744",0.34,0.34,0.27,0.27,0.27,0.27,0.34,0.34,0.3,0.3,0.3,0.34]
[null,"奈良","一過式",90,"2元(R410A/R134a)",0.24,0.24,0.25,0.25,0.25,0.25,0.24,0.24,0.25,0.26,0.26,0.24]
[null,"奈良","循環式",60,"R410A",0.34,0.34,0.36,0.36,0.36,0.36,0.34,0.34,0.34,0.28999999999999998,0.28999999999999998,0.34]
[null,"奈良","循環式",60,"2元(R410A/R134a)",0.34,0.34,0.28999999999999998,0.28999999999999998,0.28999999999999998,0.28999999999999998,0.34,0.34,0.38,0.35,0.35,0.34]
[null,"奈良","循環式",65,"2段(R454C)",0.35,0.35,0.34,0.34,0.34,0.34,0.35,0.35,0.39,0.4,0.4,0.35]
[null,"奈良","循環式",60,"R407C",0.38,0.38,0.32,0.32,0.32,0.32,0.38,0.38,0.39,0.39,0.39,0.38]
[null,"奈良","保温加熱",90,"R744",0.25,0.25,0.21,0.21,0.21,0.21,0.25,0.25,0.26,0.26,0.26,0.25]
[null,null,null,null,null,16.100000000000001,19.7,23.3,28.3,29.1,27.2,19.2,14.2,9.4,6.7,7.3,12.7]
[null,"和歌山","一過式",65,"R744",0.27,0.27,0.22,0.22,0.22,0.22,0.27,0.27,0.28000000000000003,0.28000000000000003,0.28000000000000003,0.27]
[null,"和歌山","一過式",65,"2元(R410A/R134a)",0.22,0.22,0.2,0.2,0.2,0.2,0.22,0.22,0.25,0.25,0.25,0.22]
[null,"和歌山","一過式",90,"R744",0.34,0.34,0.27,0.27,0.27,0.27,0.34,0.34,0.3,0.3,0.3,0.34]
[null,"和歌山","一過式",90,"2元(R410A/R134a)",0.24,0.24,0.25,0.25,0.25,0.25,0.24,0.24,0.25,0.25,0.25,0.24]
[null,"和歌山","循環式",60,"R410A",0.34,0.34,0.36,0.36,0.36,0.36,0.34,0.34,0.34,0.34,0.34,0.34]
[null,"和歌山","循環式",60,"2元(R410A/R134a)",0.34,0.34,0.28999999999999998,0.28999999999999998,0.28999999999999998,0.28999999999999998,0.34,0.34,0.38,0.38,0.38,0.34]
[null,"和歌山","循環式",65,"2段(R454C)",0.35,0.35,0.34,0.34,0.34,0.34,0.35,0.35,0.39,0.39,0.39,0.35]
[null,"和歌山","循環式",60,"R407C",0.38,0.38,0.32,0.32,0.32,0.32,0.38,0.38,0.39,0.39,0.39,0.38]
[null,"和歌山","保温加熱",90,"R744",0.25,0.25,0.21,0.21,0.21,0.21,0.25,0.25,0.26,0.26,0.26,0.25]
[null,null,null,null,null,14.3,18.600000000000001,22.9,28.1,30,25.6,17.399999999999999,13.2,8,4.7,5.7,11.1]
[null,"鳥取","一過式",65,"R744",0.27,0.27,0.22,0.22,0.22,0.22,0.27,0.27,0.28000000000000003,0.28000000000000003,0.28000000000000003,0.27]
[null,"鳥取","一過式",65,"2元(R410A/R134a)",0.22,0.22,0.2,0.2,0.2,0.2,0.22,0.22,0.25,0.22,0.22,0.22]
[null,"鳥取","一過式",90,"R744",0.34,0.34,0.27,0.27,0.27,0.27,0.34,0.34,0.3,0.3,0.3,0.34]
[null,"鳥取","一過式",90,"2元(R410A/R134a)",0.24,0.24,0.25,0.25,0.25,0.25,0.24,0.24,0.25,0.26,0.26,0.24]
[null,"鳥取","循環式",60,"R410A",0.34,0.34,0.36,0.36,0.36,0.36,0.34,0.34,0.34,0.28999999999999998,0.28999999999999998,0.34]
[null,"鳥取","循環式",60,"2元(R410A/R134a)",0.34,0.34,0.28999999999999998,0.28999999999999998,0.28999999999999998,0.28999999999999998,0.34,0.34,0.38,0.35,0.35,0.34]
[null,"鳥取","循環式",65,"2段(R454C)",0.35,0.35,0.34,0.34,0.34,0.34,0.35,0.35,0.39,0.4,0.4,0.35]
[null,"鳥取","循環式",60,"R407C",0.38,0.38,0.32,0.32,0.32,0.32,0.38,0.38,0.39,0.39,0.39,0.38]
[null,"鳥取","保温加熱",90,"R744",0.25,0.25,0.21,0.21,0.21,0.21,0.25,0.25,0.26,0.26,0.26,0.25]
[null,null,null,null,null,14.3,18.399999999999999,22.7,27.5,29.4,25.2,17.8,13,7.7,5,5.7,10.9]
[null,"松江","一過式",65,"R744",0.27,0.27,0.22,0.22,0.22,0.22,0.27,0.27,0.28000000000000003,0.28000000000000003,0.28000000000000003,0.28000000000000003]
[null,"松江","一過式",65,"2元(R410A/R134a)",0.22,0.22,0.2,0.2,0.2,0.2,0.22,0.22,0.25,0.22,0.22,0.25]
[null,"松江","一過式",90,"R744",0.34,0.34,0.27,0.27,0.27,0.27,0.34,0.34,0.3,0.3,0.3,0.3]
[null,"松江","一過式",90,"2元(R410A/R134a)",0.24,0.24,0.25,0.25,0.25,0.25,0.24,0.24,0.25,0.26,0.26,0.25]
[null,"松江","循環式",60,"R410A",0.34,0.34,0.36,0.36,0.36,0.36,0.34,0.34,0.34,0.28999999999999998,0.28999999999999998,0.34]
[null,"松江","循環式",60,"2元(R410A/R134a)",0.34,0.34,0.28999999999999998,0.28999999999999998,0.28999999999999998,0.28999999999999998,0.34,0.34,0.38,0.35,0.35,0.38]
[null,"松江","循環式",65,"2段(R454C)",0.35,0.35,0.34,0.34,0.34,0.34,0.35,0.35,0.39,0.4,0.4,0.39]
[null,"松江","循環式",60,"R407C",0.38,0.38,0.32,0.32,0.32,0.32,0.38,0.38,0.39,0.39,0.39,0.39]
[null,"松江","保温加熱",90,"R744",0.25,0.25,0.21,0.21,0.21,0.21,0.25,0.25,0.26,0.26,0.26,0.26]
[null,null,null,null,null,14.8,19.2,23,27.9,29.5,26.9,18,12.9,7.3,4.8,5.7,11.8]
[null,"岡山","一過式",65,"R744",0.27,0.27,0.22,0.22,0.22,0.22,0.27,0.27,0.28000000000000003,0.28000000000000003,0.28000000000000003,0.27]
[null,"岡山","一過式",65,"2元(R410A/R134a)",0.22,0.22,0.2,0.2,0.2,0.2,0.22,0.22,0.25,0.22,0.22,0.22]
[null,"岡山","一過式",90,"R744",0.34,0.34,0.27,0.27,0.27,0.27,0.34,0.34,0.3,0.3,0.3,0.34]
[null,"岡山","一過式",90,"2元(R410A/R134a)",0.24,0.24,0.25,0.25,0.25,0.25,0.24,0.24,0.25,0.26,0.26,0.24]
[null,"岡山","循環式",60,"R410A",0.34,0.34,0.36,0.36,0.36,0.36,0.34,0.34,0.34,0.28999999999999998,0.28999999999999998,0.34]
[null,"岡山","循環式",60,"2元(R410A/R134a)",0.34,0.34,0.28999999999999998,0.28999999999999998,0.28999999999999998,0.28999999999999998,0.34,0.34,0.38,0.35,0.35,0.34]
[null,"岡山","循環式",65,"2段(R454C)",0.35,0.35,0.34,0.34,0.34,0.34,0.35,0.35,0.39,0.4,0.4,0.35]
[null,"岡山","循環式",60,"R407C",0.38,0.38,0.32,0.32,0.32,0.32,0.38,0.38,0.39,0.39,0.39,0.38]
[null,"岡山","保温加熱",90,"R744",0.25,0.25,0.21,0.21,0.21,0.21,0.25,0.25,0.26,0.26,0.26,0.25]
[null,null,null,null,null,15.7,19.899999999999999,23.3,27.9,30,27.2,18.899999999999999,14,8.1999999999999993,5.7,6.9,12.6]
[null,"広島","一過式",65,"R744",0.27,0.27,0.22,0.22,0.22,0.22,0.27,0.27,0.28000000000000003,0.28000000000000003,0.28000000000000003,0.27]
[null,"広島","一過式",65,"2元(R410A/R134a)",0.22,0.22,0.2,0.2,0.2,0.2,0.22,0.22,0.25,0.22,0.25,0.22]
[null,"広島","一過式",90,"R744",0.34,0.34,0.27,0.27,0.27,0.27,0.34,0.34,0.3,0.3,0.3,0.34]
[null,"広島","一過式",90,"2元(R410A/R134a)",0.24,0.24,0.25,0.25,0.25,0.25,0.24,0.24,0.25,0.26,0.25,0.24]
[null,"広島","循環式",60,"R410A",0.34,0.34,0.36,0.36,0.36,0.36,0.34,0.34,0.34,0.28999999999999998,0.34,0.34]
[null,"広島","循環式",60,"2元(R410A/R134a)",0.34,0.34,0.28999999999999998,0.28999999999999998,0.28999999999999998,0.28999999999999998,0.34,0.34,0.38,0.35,0.38,0.34]
[null,"広島","循環式",65,"2段(R454C)",0.35,0.35,0.34,0.34,0.34,0.34,0.35,0.35,0.39,0.4,0.39,0.35]
[null,"広島","循環式",60,"R407C",0.38,0.38,0.32,0.32,0.32,0.32,0.38,0.38,0.39,0.39,0.39,0.38]
[null,"広島","保温加熱",90,"R744",0.25,0.25,0.21,0.21,0.21,0.21,0.25,0.25,0.26,0.26,0.26,0.25]
[null,null,null,null,null,15.1,19.2,22.7,27.1,29,25.9,17.5,12.4,7.2,4.8,6.3,11.7]
[null,"山口","一過式",65,"R744",0.27,0.27,0.22,0.22,0.22,0.22,0.27,0.27,0.28000000000000003,0.28000000000000003,0.28000000000000003,0.27]
[null,"山口","一過式",65,"2元(R410A/R134a)",0.22,0.22,0.2,0.2,0.2,0.2,0.22,0.22,0.25,0.22,0.25,0.22]
[null,"山口","一過式",90,"R744",0.34,0.34,0.27,0.27,0.27,0.27,0.34,0.34,0.3,0.3,0.3,0.34]
[null,"山口","一過式",90,"2元(R410A/R134a)",0.24,0.24,0.25,0.25,0.25,0.25,0.24,0.24,0.25,0.26,0.25,0.24]
[null,"山口","循環式",60,"R410A",0.34,0.34,0.36,0.36,0.36,0.36,0.34,0.34,0.34,0.28999999999999998,0.34,0.34]
[null,"山口","循環式",60,"2元(R410A/R134a)",0.34,0.34,0.28999999999999998,0.28999999999999998,0.28999999999999998,0.28999999999999998,0.34,0.34,0.38,0.35,0.38,0.34]
[null,"山口","循環式",65,"2段(R454C)",0.35,0.35,0.34,0.34,0.34,0.34,0.35,0.35,0.39,0.4,0.39,0.35]
[null,"山口","循環式",60,"R407C",0.38,0.38,0.32,0.32,0.32,0.32,0.38,0.38,0.39,0.39,0.39,0.38]
[null,"山口","保温加熱",90,"R744",0.25,0.25,0.21,0.21,0.21,0.21,0.25,0.25,0.26,0.26,0.26,0.25]
[null,null,null,null,null,16,19.600000000000001,22.9,27.9,28.6,27,19.3,14.1,9.1,6.8,7.1,12.7]
[null,"徳島","一過式",65,"R744",0.27,0.27,0.22,0.22,0.22,0.22,0.27,0.27,0.28000000000000003,0.28000000000000003,0.28000000000000003,0.27]
[null,"徳島","一過式",65,"2元(R410A/R134a)",0.22,0.22,0.2,0.2,0.2,0.2,0.22,0.22,0.25,0.25,0.25,0.22]
[null,"徳島","一過式",90,"R744",0.34,0.34,0.27,0.27,0.27,0.27,0.34,0.34,0.3,0.3,0.3,0.34]
[null,"徳島","一過式",90,"2元(R410A/R134a)",0.24,0.24,0.25,0.25,0.25,0.25,0.24,0.24,0.25,0.25,0.25,0.24]
[null,"徳島","循環式",60,"R410A",0.34,0.34,0.36,0.36,0.36,0.36,0.34,0.34,0.34,0.34,0.34,0.34]
[null,"徳島","循環式",60,"2元(R410A/R134a)",0.34,0.34,0.28999999999999998,0.28999999999999998,0.28999999999999998,0.28999999999999998,0.34,0.34,0.38,0.38,0.38,0.34]
[null,"徳島","循環式",65,"2段(R454C)",0.35,0.35,0.34,0.34,0.34,0.34,0.35,0.35,0.39,0.39,0.39,0.35]
[null,"徳島","循環式",60,"R407C",0.38,0.38,0.32,0.32,0.32,0.32,0.38,0.38,0.39,0.39,0.39,0.38]
[null,"徳島","保温加熱",90,"R744",0.25,0.25,0.21,0.21,0.21,0.21,0.25,0.25,0.26,0.26,0.26,0.25]
[null,null,null,null,null,15.5,19.7,23.5,28.5,29.7,27.4,19.2,14,8.6999999999999993,6.2,6.5,12.2]
[null,"高松","一過式",65,"R744",0.27,0.27,0.22,0.22,0.22,0.22,0.27,0.27,0.28000000000000003,0.28000000000000003,0.28000000000000003,0.27]
[null,"高松","一過式",65,"2元(R410A/R134a)",0.22,0.22,0.2,0.2,0.2,0.2,0.22,0.22,0.25,0.25,0.25,0.22]
[null,"高松","一過式",90,"R744",0.34,0.34,0.27,0.27,0.27,0.27,0.34,0.34,0.3,0.3,0.3,0.34]
[null,"高松","一過式",90,"2元(R410A/R134a)",0.24,0.24,0.25,0.25,0.25,0.25,0.24,0.24,0.25,0.25,0.25,0.24]
[null,"高松","循環式",60,"R410A",0.34,0.34,0.36,0.36,0.36,0.36,0.34,0.34,0.34,0.34,0.34,0.34]
[null,"高松","循環式",60,"2元(R410A/R134a)",0.34,0.34,0.28999999999999998,0.28999999999999998,0.28999999999999998,0.28999999999999998,0.34,0.34,0.38,0.38,0.38,0.34]
[null,"高松","循環式",65,"2段(R454C)",0.35,0.35,0.34,0.34,0.34,0.34,0.35,0.35,0.39,0.39,0.39,0.35]
[null,"高松","循環式",60,"R407C",0.38,0.38,0.32,0.32,0.32,0.32,0.38,0.38,0.39,0.39,0.39,0.38]
[null,"高松","保温加熱",90,"R744",0.25,0.25,0.21,0.21,0.21,0.21,0.25,0.25,0.26,0.26,0.26,0.25]
[null,null,null,null,null,15.9,19.8,23.1,28,28.9,27.3,19.399999999999999,14.8,9.3000000000000007,6.5,7.6,12.7]
[null,"松山","一過式",65,"R744",0.27,0.27,0.22,0.22,0.22,0.22,0.27,0.27,0.28000000000000003,0.28000000000000003,0.28000000000000003,0.27]
[null,"松山","一過式",65,"2元(R410A/R134a)",0.22,0.22,0.2,0.2,0.2,0.2,0.22,0.22,0.25,0.25,0.25,0.22]
[null,"松山","一過式",90,"R744",0.34,0.34,0.27,0.27,0.27,0.27,0.34,0.34,0.3,0.3,0.3,0.34]
[null,"松山","一過式",90,"2元(R410A/R134a)",0.24,0.24,0.25,0.25,0.25,0.25,0.24,0.24,0.25,0.25,0.25,0.24]
[null,"松山","循環式",60,"R410A",0.34,0.34,0.36,0.36,0.36,0.36,0.34,0.34,0.34,0.34,0.34,0.34]
[null,"松山","循環式",60,"2元(R410A/R134a)",0.34,0.34,0.28999999999999998,0.28999999999999998,0.28999999999999998,0.28999999999999998,0.34,0.34,0.38,0.38,0.38,0.34]
[null,"松山","循環式",65,"2段(R454C)",0.35,0.35,0.34,0.34,0.34,0.34,0.35,0.35,0.39,0.39,0.39,0.35]
[null,"松山","循環式",60,"R407C",0.38,0.38,0.32,0.32,0.32,0.32,0.38,0.38,0.39,0.39,0.39,0.38]
[null,"松山","保温加熱",90,"R744",0.25,0.25,0.21,0.21,0.21,0.21,0.25,0.25,0.26,0.26,0.26,0.25]
[null,null,null,null,null,16.7,19.899999999999999,23,27.6,28.2,27,19.600000000000001,14.4,9.4,6.9,8.5,13.8]
[null,"高知","一過式",65,"R744",0.27,0.27,0.22,0.22,0.22,0.22,0.27,0.27,0.28000000000000003,0.28000000000000003,0.28000000000000003,0.27]
[null,"高知","一過式",65,"2元(R410A/R134a)",0.22,0.22,0.2,0.2,0.2,0.2,0.22,0.22,0.25,0.25,0.25,0.22]
[null,"高知","一過式",90,"R744",0.34,0.34,0.27,0.27,0.27,0.27,0.34,0.34,0.3,0.3,0.3,0.34]
[null,"高知","一過式",90,"2元(R410A/R134a)",0.24,0.24,0.25,0.25,0.25,0.25,0.24,0.24,0.25,0.25,0.25,0.24,null,null,"  "]
[null,"高知","循環式",60,"R410A",0.34,0.34,0.36,0.36,0.36,0.36,0.34,0.34,0.34,0.34,0.34,0.34]
[null,"高知","循環式",60,"2元(R410A/R134a)",0.34,0.34,0.28999999999999998,0.28999999999999998,0.28999999999999998,0.28999999999999998,0.34,0.34,0.38,0.38,0.38,0.34]
[null,"高知","循環式",65,"2段(R454C)",0.35,0.35,0.34,0.34,0.34,0.34,0.35,0.35,0.39,0.39,0.39,0.35]
[null,"高知","循環式",60,"R407C",0.38,0.38,0.32,0.32,0.32,0.32,0.38,0.38,0.39,0.39,0.39,0.38]
[null,"高知","保温加熱",90,"R744",0.25,0.25,0.21,0.21,0.21,0.21,0.25,0.25,0.26,0.26,0.26,0.25]
[null,null,null,null,null,16.7,20.2,24.4,28.9,29.7,26.9,19.8,15.1,9.9,7.2,9,13.6]
[null,"福岡","一過式",65,"R744",0.27,0.27,0.22,0.22,0.22,0.22,0.27,0.27,0.28000000000000003,0.28000000000000003,0.28000000000000003,0.27]
[null,"福岡","一過式",65,"2元(R410A/R134a)",0.22,0.22,0.2,0.2,0.2,0.2,0.22,0.22,0.25,0.25,0.25,0.22]
[null,"福岡","一過式",90,"R744",0.34,0.34,0.27,0.27,0.27,0.27,0.34,0.34,0.3,0.3,0.3,0.34]
[null,"福岡","一過式",90,"2元(R410A/R134a)",0.24,0.24,0.25,0.25,0.25,0.25,0.24,0.24,0.25,0.25,0.25,0.24]
[null,"福岡","循環式",60,"R410A",0.34,0.34,0.36,0.36,0.36,0.36,0.34,0.34,0.34,0.34,0.34,0.34]
[null,"福岡","循環式",60,"2元(R410A/R134a)",0.34,0.34,0.28999999999999998,0.28999999999999998,0.28999999999999998,0.28999999999999998,0.34,0.34,0.38,0.38,0.38,0.34]
[null,"福岡","循環式",65,"2段(R454C)",0.35,0.35,0.34,0.34,0.34,0.34,0.35,0.35,0.39,0.39,0.39,0.35]
[null,"福岡","循環式",60,"R407C",0.38,0.38,0.32,0.32,0.32,0.32,0.38,0.38,0.39,0.39,0.39,0.38]
[null,"福岡","保温加熱",90,"R744",0.25,0.25,0.21,0.21,0.21,0.21,0.25,0.25,0.26,0.26,0.26,0.25]
[null,null,null,null,null,16.600000000000001,20.5,24.3,28.4,29.8,26.8,19.100000000000001,14.1,9,6.2,8.5,13.3]
[null,"佐賀","一過式",65,"R744",0.27,0.27,0.22,0.22,0.22,0.22,0.27,0.27,0.28000000000000003,0.28000000000000003,0.28000000000000003,0.27]
[null,"佐賀","一過式",65,"2元(R410A/R134a)",0.22,0.22,0.2,0.2,0.2,0.2,0.22,0.22,0.25,0.25,0.25,0.22]
[null,"佐賀","一過式",90,"R744",0.34,0.34,0.27,0.27,0.27,0.27,0.34,0.34,0.3,0.3,0.3,0.34]
[null,"佐賀","一過式",90,"2元(R410A/R134a)",0.24,0.24,0.25,0.25,0.25,0.25,0.24,0.24,0.25,0.25,0.25,0.24]
[null,"佐賀","循環式",60,"R410A",0.34,0.34,0.36,0.36,0.36,0.36,0.34,0.34,0.34,0.34,0.34,0.34]
[null,"佐賀","循環式",60,"2元(R410A/R134a)",0.34,0.34,0.28999999999999998,0.28999999999999998,0.28999999999999998,0.28999999999999998,0.34,0.34,0.38,0.38,0.38,0.34]
[null,"佐賀","循環式",65,"2段(R454C)",0.35,0.35,0.34,0.34,0.34,0.34,0.35,0.35,0.39,0.39,0.39,0.35]
[null,"佐賀","循環式",60,"R407C",0.38,0.38,0.32,0.32,0.32,0.32,0.38,0.38,0.39,0.39,0.39,0.38]
[null,"佐賀","保温加熱",90,"R744",0.25,0.25,0.21,0.21,0.21,0.21,0.25,0.25,0.26,0.26,0.26,0.25]
[null,null,null,null,null,16.899999999999999,19.7,23.7,28,29.2,26.7,19.8,15.1,10.199999999999999,7.4,9.1999999999999993,13.6]
[null,"長崎","一過式",65,"R744",0.27,0.27,0.22,0.22,0.22,0.22,0.27,0.27,0.28000000000000003,0.28000000000000003,0.28000000000000003,0.27]
[null,"長崎","一過式",65,"2元(R410A/R134a)",0.22,0.22,0.2,0.2,0.2,0.2,0.22,0.22,0.25,0.25,0.25,0.22]
[null,"長崎","一過式",90,"R744",0.34,0.34,0.27,0.27,0.27,0.27,0.34,0.34,0.3,0.3,0.3,0.34]
[null,"長崎","一過式",90,"2元(R410A/R134a)",0.24,0.24,0.25,0.25,0.25,0.25,0.24,0.24,0.25,0.25,0.25,0.24]
[null,"長崎","循環式",60,"R410A",0.34,0.34,0.36,0.36,0.36,0.36,0.34,0.34,0.34,0.34,0.34,0.34]
[null,"長崎","循環式",60,"2元(R410A/R134a)",0.34,0.34,0.28999999999999998,0.28999999999999998,0.28999999999999998,0.28999999999999998,0.34,0.34,0.38,0.38,0.38,0.34]
[null,"長崎","循環式",65,"2段(R454C)",0.35,0.35,0.34,0.34,0.34,0.34,0.35,0.35,0.39,0.39,0.39,0.35]
[null,"長崎","循環式",60,"R407C",0.38,0.38,0.32,0.32,0.32,0.32,0.38,0.38,0.39,0.39,0.39,0.38]
[null,"長崎","保温加熱",90,"R744",0.25,0.25,0.21,0.21,0.21,0.21,0.25,0.25,0.26,0.26,0.26,0.25]
[null,null,null,null,null,17,20.8,24.2,28.2,29.3,27.2,19.100000000000001,14.1,8.8000000000000007,6.2,8.5,13.6]
[null,"熊本","一過式",65,"R744",0.27,0.27,0.22,0.22,0.22,0.22,0.27,0.27,0.28000000000000003,0.28000000000000003,0.28000000000000003,0.27]
[null,"熊本","一過式",65,"2元(R410A/R134a)",0.22,0.22,0.2,0.2,0.2,0.2,0.22,0.22,0.25,0.25,0.25,0.22]
[null,"熊本","一過式",90,"R744",0.34,0.34,0.27,0.27,0.27,0.27,0.34,0.34,0.3,0.3,0.3,0.34]
[null,"熊本","一過式",90,"2元(R410A/R134a)",0.24,0.24,0.25,0.25,0.25,0.25,0.24,0.24,0.25,0.25,0.25,0.24]
[null,"熊本","循環式",60,"R410A",0.34,0.34,0.36,0.36,0.36,0.36,0.34,0.34,0.34,0.34,0.34,0.34]
[null,"熊本","循環式",60,"2元(R410A/R134a)",0.34,0.34,0.28999999999999998,0.28999999999999998,0.28999999999999998,0.28999999999999998,0.34,0.34,0.38,0.38,0.38,0.34]
[null,"熊本","循環式",65,"2段(R454C)",0.35,0.35,0.34,0.34,0.34,0.34,0.35,0.35,0.39,0.39,0.39,0.35]
[null,"熊本","循環式",60,"R407C",0.38,0.38,0.32,0.32,0.32,0.32,0.38,0.38,0.39,0.39,0.39,0.38]
[null,"熊本","保温加熱",90,"R744",0.25,0.25,0.21,0.21,0.21,0.21,0.25,0.25,0.26,0.26,0.26,0.25]
[null,null,null,null,null,16,19.600000000000001,23,27.3,28.5,26.7,19.2,14.5,9.1999999999999993,8.8000000000000007,8.1,12.4]
[null,"大分","一過式",65,"R744",0.27,0.27,0.22,0.22,0.22,0.22,0.27,0.27,0.28000000000000003,0.28000000000000003,0.28000000000000003,0.27]
[null,"大分","一過式",65,"2元(R410A/R134a)",0.22,0.22,0.2,0.2,0.2,0.2,0.22,0.22,0.25,0.25,0.25,0.22]
[null,"大分","一過式",90,"R744",0.34,0.34,0.27,0.27,0.27,0.27,0.34,0.34,0.3,0.3,0.3,0.34]
[null,"大分","一過式",90,"2元(R410A/R134a)",0.24,0.24,0.25,0.25,0.25,0.25,0.24,0.24,0.25,0.25,0.25,0.24]
[null,"大分","循環式",60,"R410A",0.34,0.34,0.36,0.36,0.36,0.36,0.34,0.34,0.34,0.34,0.34,0.34]
[null,"大分","循環式",60,"2元(R410A/R134a)",0.34,0.34,0.28999999999999998,0.28999999999999998,0.28999999999999998,0.28999999999999998,0.34,0.34,0.38,0.38,0.38,0.34]
[null,"大分","循環式",65,"2段(R454C)",0.35,0.35,0.34,0.34,0.34,0.34,0.35,0.35,0.39,0.39,0.39,0.35]
[null,"大分","循環式",60,"R407C",0.38,0.38,0.32,0.32,0.32,0.32,0.38,0.38,0.39,0.39,0.39,0.38]
[null,"大分","保温加熱",90,"R744",0.25,0.25,0.21,0.21,0.21,0.21,0.25,0.25,0.26,0.26,0.26,0.25]
[null,null,null,null,null,17.2,20.3,23.5,28.2,27.8,26.7,19.3,15.3,10.3,8.1,10.1,14.1]
[null,"宮崎","一過式",65,"R744",0.27,0.27,0.22,0.22,0.22,0.22,0.27,0.27,0.28000000000000003,0.28000000000000003,0.28000000000000003,0.27]
[null,"宮崎","一過式",65,"2元(R410A/R134a)",0.22,0.22,0.2,0.2,0.2,0.2,0.22,0.22,0.25,0.25,0.25,0.22]
[null,"宮崎","一過式",90,"R744",0.34,0.34,0.27,0.27,0.27,0.27,0.34,0.34,0.3,0.3,0.3,0.34]
[null,"宮崎","一過式",90,"2元(R410A/R134a)",0.24,0.24,0.25,0.25,0.25,0.25,0.24,0.24,0.25,0.25,0.25,0.24]
[null,"宮崎","循環式",60,"R410A",0.34,0.34,0.36,0.36,0.36,0.36,0.34,0.34,0.34,0.34,0.34,0.34]
[null,"宮崎","循環式",60,"2元(R410A/R134a)",0.34,0.34,0.28999999999999998,0.28999999999999998,0.28999999999999998,0.28999999999999998,0.34,0.34,0.38,0.38,0.38,0.34]
[null,"宮崎","循環式",65,"2段(R454C)",0.35,0.35,0.34,0.34,0.34,0.34,0.35,0.35,0.39,0.39,0.39,0.35]
[null,"宮崎","循環式",60,"R407C",0.38,0.38,0.32,0.32,0.32,0.32,0.38,0.38,0.39,0.39,0.39,0.38]
[null,"宮崎","保温加熱",90,"R744",0.25,0.25,0.21,0.21,0.21,0.21,0.25,0.25,0.26,0.26,0.26,0.25]
[null,null,null,null,null,18.2,21.6,24.3,28.9,29.3,28.3,20.7,16.2,11.4,9,11.5,15.1]
[null,"鹿児島","一過式",65,"R744",0.27,0.22,0.22,0.22,0.22,0.22,0.27,0.27,0.27,0.28000000000000003,0.27,0.27]
[null,"鹿児島","一過式",65,"2元(R410A/R134a)",0.22,0.2,0.2,0.2,0.2,0.2,0.22,0.22,0.22,0.25,0.22,0.22]
[null,"鹿児島","一過式",90,"R744",0.34,0.27,0.27,0.27,0.27,0.27,0.34,0.34,0.34,0.3,0.34,0.34]
[null,"鹿児島","一過式",90,"2元(R410A/R134a)",0.24,0.25,0.25,0.25,0.25,0.25,0.24,0.24,0.24,0.25,0.24,0.24]
[null,"鹿児島","循環式",60,"R410A",0.34,0.36,0.36,0.36,0.36,0.36,0.34,0.34,0.34,0.34,0.34,0.34]
[null,"鹿児島","循環式",60,"2元(R410A/R134a)",0.34,0.28999999999999998,0.28999999999999998,0.28999999999999998,0.28999999999999998,0.28999999999999998,0.34,0.34,0.34,0.38,0.34,0.34]
[null,"鹿児島","循環式",65,"2段(R454C)",0.35,0.34,0.34,0.34,0.34,0.34,0.35,0.35,0.35,0.39,0.35,0.35]
[null,"鹿児島","循環式",60,"R407C",0.38,0.32,0.32,0.32,0.32,0.32,0.38,0.38,0.38,0.39,0.38,0.38]
[null,"鹿児島","保温加熱",90,"R744",0.25,0.21,0.21,0.21,0.21,0.21,0.25,0.25,0.25,0.26,0.25,0.25]
[null,null,null,null,null,22.5,24.3,27.2,29.6,28.6,28.7,26,22.6,19.7,17.5,19,20]
[null,"那覇","一過式",65,"R744",0.22,0.22,0.22,0.22,0.22,0.22,0.22,0.22,0.27,0.27,0.27,0.27]
[null,"那覇","一過式",65,"2元(R410A/R134a)",0.2,0.2,0.2,0.2,0.2,0.2,0.2,0.2,0.22,0.22,0.22,0.22]
[null,"那覇","一過式",90,"R744",0.27,0.27,0.27,0.27,0.27,0.27,0.27,0.27,0.34,0.34,0.34,0.34]
[null,"那覇","一過式",90,"2元(R410A/R134a)",0.25,0.25,0.25,0.25,0.25,0.25,0.25,0.25,0.24,0.24,0.24,0.24]
[null,"那覇","循環式",60,"R410A",0.36,0.36,0.36,0.36,0.36,0.36,0.36,0.36,0.34,0.34,0.34,0.34]
[null,"那覇","循環式",60,"2元(R410A/R134a)",0.28999999999999998,0.28999999999999998,0.28999999999999998,0.28999999999999998,0.28999999999999998,0.28999999999999998,0.28999999999999998,0.28999999999999998,0.34,0.34,0.34,0.34]
[null,"那覇","循環式",65,"2段(R454C)",0.34,0.34,0.34,0.34,0.34,0.34,0.34,0.34,0.35,0.35,0.35,0.35]
[null,"那覇","循環式",60,"R407C",0.32,0.32,0.32,0.32,0.32,0.32,0.32,0.32,0.38,0.38,0.38,0.38]
[null,"那覇","保温加熱",90,"R744",0.21,0.21,0.21,0.21,0.21,0.21,0.21,0.21,0.25,0.25,0.25,0.25]

{"sheet":"燃料データ_旧","index":17,"n_rows":101,"n_cols":14,"rows_kept":101,"cut":false,"hidden":true,"merged":[]}
["◆既存燃料一覧表","低"]
["A重油",36.729999999999997,"GJ/kL","kL/年","GJ/年"]
["C重油",39.67,"GJ/kL","kL/年","GJ/年"]
["灯油",34.270000000000003,"GJ/kL","kL/年","GJ/年"]
["LPG(液)",46.44,"GJ/t","t/年","GJ/年"]
["LPG(ガス)",46.44,"GJ/t","t/年","GJ/年"]
["LNG",49.84,"GJ/t","t/年","GJ/年"]
["都市ガス(Nm3)",40.630000000000003,"GJ/千Nm3","千Nm3/年","GJ/年"]
["都市ガス(m3)",40.630000000000003,"GJ/千m3","千m3/年","GJ/年"]
["電気",3.6,"GJ/千kWh","千kWh/年","GJ/年"]
["◆導入燃料一覧表","低"]
["A重油",36.729999999999997,"GJ/kL","kL/年","GJ/年"]
["C重油",39.67,"GJ/kL","kL/年","GJ/年",null,null,""]
["灯油",34.270000000000003,"GJ/kL","kL/年","GJ/年"]
["LPG",46.44,"GJ/t","t/年","GJ/年"]
["LNG",49.84,"GJ/t","t/年","GJ/年"]
["都市ガス",40.630000000000003,"GJ/千Nm3","千Nm3/年","GJ/年"]
["木質ペレット",16,"GJ/t","t/年","GJ/年"]
["電気",3.6,"GJ/千kWh","千kWh/年","GJ/年"]
["◆既存燃料使用量"]
["A重油",1,300,{"$f":"B21*C21","v":300},"kL/年"]
["C重油",1,300,300,"kL/年"]
["灯油",1,300,300,"kL/年"]
["LPG(液)",1,300,300,"t/年"]
["LPG(ガス)",2.0747,300,622.41,"t/年"]
["LNG",1,300,300,"t/年"]
["都市ガス(Nm3)",1,300,300,"千Nm3/年"]
["都市ガス(m3)",0.92910000000000004,300,278.73,"千m3/年"]
["電気",1,300,{"$f":"C29*B29","v":300},"千kWh/年"]
[null,null,null,{"$f":"IFERROR(VLOOKUP('3 効果算定シート'!L4,燃料データ_旧!A21:D28,4,FALSE),\"\")","v":""},"y"]
["既存CO2排出量","a（高）","b","c=a×ｂ","c×y",null,null,"C.給湯ボイラ"]
["A重油",38.9,7.0800000000000002E-2,{"$f":"B32*C32","v":2.7541199999999999},{"$f":"D32*D30","v":{"$error":"#VALUE!"}},"t-CO2/年",null,826.23599999999999]
["C重油",41.78,7.4099999999999999E-2,3.095898,{"$f":"D33*D30","v":{"$error":"#VALUE!"}},"t-CO2/年",null,928.76940000000002]
["灯油",36.49,6.8199999999999997E-2,2.4886180000000002,{"$f":"D34*D30","v":{"$error":"#VALUE!"}},"t-CO2/年",null,746.58540000000005]
["LPG(液)",50.08,6.0100000000000001E-2,{"$f":"B35*C35","v":3.009808},{"$f":"D35*D30","v":{"$error":"#VALUE!"}},"t-CO2/年",null,902.94240000000002]
["LPG(ガス)",50.08,6.0100000000000001E-2,{"$f":"B36*C36","v":3.009808},{"$f":"D36*D30","v":{"$error":"#VALUE!"}},"t-CO2/年",null,902.94240000000002]
["LNG",54.7,5.0999999999999997E-2,{"$f":"B37*C37","v":2.7896999999999998},{"$f":"D37*D30","v":{"$error":"#VALUE!"}},"t-CO2/年",null,836.91]
["都市ガス(Nm3)",45,5.1299999999999998E-2,{"$f":"B38*C38","v":2.3085},{"$f":"D38*D30","v":{"$error":"#VALUE!"}},"t-CO2/年",null,692.55]
["都市ガス(m3)",45,5.1299999999999998E-2,2.3085,{"$f":"D39*D30","v":{"$error":"#VALUE!"}},"t-CO2/年",null,692.55]
["電気",3.6,0.436,1.5696000000000001,{"$f":"D40*D30","v":{"$error":"#VALUE!"}},"t-CO2/年",null,470.88000000000005]
["導入CO2排出量","a（高）","b","c=a×ｂ","c×z"]
["A重油",38.9,7.0800000000000002E-2,{"$f":"B42*C42","v":2.7541199999999999},{"$f":"D42*E50","v":{"$error":"#VALUE!"}},"t-CO2/kL"]
["C重油",41.78,7.4099999999999999E-2,3.095898,{"$f":"D43*E50","v":{"$error":"#VALUE!"}},"t-CO2/kL"]
["灯油",36.49,6.8199999999999997E-2,2.4886180000000002,{"$f":"D44*E50","v":{"$error":"#VALUE!"}},"t-CO2/kL"]
["LPG",50.08,6.0100000000000001E-2,3.009808,{"$f":"D45*E50","v":{"$error":"#VALUE!"}},"t-CO2/t"]
["LNG",54.7,5.0999999999999997E-2,2.7896999999999998,{"$f":"D46*E50","v":{"$error":"#VALUE!"}},"t-CO2/t"]
["都市ガス",45,5.1299999999999998E-2,2.3085,{"$f":"D47*E50","v":{"$error":"#VALUE!"}},"t-CO2/4Nm3"]
["木質ペレット",17.5,9.9999999999999995E-8,1.75E-6,{"$f":"D48*E50","v":{"$error":"#VALUE!"}},"t-CO2/t"]
["電気",3.6,0.1211,0.43596000000000001,{"$f":"D49*E50","v":{"$error":"#VALUE!"}},"t-CO2/千kWh"]
[null,null,null,null,{"$f":"'3 効果算定シート'!G40","v":""},"z"]
["省エネ率(既存)","（高）",null,null,null,null,null,"C.給湯ボイラ"]
["A重油",38.9,{"$f":"B52*D30","v":{"$error":"#VALUE!"}},null,null,null,null,11670]
["C重油",41.78,{"$f":"B53*D30","v":{"$error":"#VALUE!"}},null,null,null,null,12534]
["灯油",36.49,{"$f":"B54*D30","v":{"$error":"#VALUE!"}},null,null,null,null,10947]
["LPG(液)",50.08,{"$f":"B55*D30","v":{"$error":"#VALUE!"}},null,null,null,null,15024]
["LPG(ガス)",50.08,{"$f":"B56*D30","v":{"$error":"#VALUE!"}},null,null,null,null,15024]
["LNG",54.7,{"$f":"B57*D30","v":{"$error":"#VALUE!"}},null,null,null,null,16410]
["都市ガス(Nm3)",45,{"$f":"B58*D30","v":{"$error":"#VALUE!"}},null,null,null,null,13500]
["都市ガス(m3)",45,{"$f":"B59*D30","v":{"$error":"#VALUE!"}},null,{"$f":"VLOOKUP('3 効果算定シート'!L4,燃料データ_旧!A52:C60,3,FALSE)","v":{"$error":"#N/A"}},"a",null,13500]
["電気",3.6,{"$f":"B60*D30","v":{"$error":"#VALUE!"}},null,null,null,null,1080]
["省エネ率(導入)","（高）","b"]
["A重油",38.9,22250.799999999999]
["C重油",41.78,23898.16]
["灯油",36.49,20872.280000000002]
["LPG",50.08,28645.759999999998]
["LNG",54.7,31288.400000000001]
["都市ガス",45,25740]
["木質ペレット",17.5,10010,null,{"$f":"IFERROR(VLOOKUP('3 効果算定シート'!L22,燃料データ_旧!A62:C69,3,FALSE),\"\")","v":""},"b"]
["電気",3.6,2059.2000000000003]
[]
[null,null,null,null,"◆既存","ｐ",null,null,"y×ｐ(既存)","◆導入","ｑ",null,"ｚ×ｑ(導入)"]
["燃料一覧表","低","高",null,"エネルギー種別","単価",null,"単位","エネルギーコスト","エネルギー種別","単価","単位","エネルギーコスト"]
["A重油",36.729999999999997,38.9,null,"A重油",85,1,"千円/kL",{"$f":"$D$30*F73","v":{"$error":"#VALUE!"}},"A重油",85,"千円/kL",{"$f":"$E$50*K73","v":{"$error":"#VALUE!"}},"千円/年"]
["C重油",39.67,41.78,null,"C重油",68,1,"千円/kL",{"$error":"#VALUE!"},"C重油",68,"千円/kL",{"$f":"$E$50*K74","v":{"$error":"#VALUE!"}},"千円/年"]
["灯油",34.270000000000003,36.49,null,"灯油",101,1,"千円/kL",{"$error":"#VALUE!"},"灯油",101,"千円/kL",{"$error":"#VALUE!"},"千円/年"]
["LPG(液)",46.44,50.08,null,"LPG(液)",140,1,"千円/t",{"$error":"#VALUE!"},"LPG",140,"千円/t",{"$error":"#VALUE!"},"千円/年"]
["LPG(ガス)",46.44,50.08,null,"LPG(ガス)",140,2.0747,"千円/t",{"$f":"$D$30/G77*F77","v":{"$error":"#VALUE!"}},"LNG",101,"千円/t",{"$error":"#VALUE!"},"千円/年"]
["LNG",49.84,54.7,null,"LNG",101,null,"千円/t",{"$error":"#VALUE!"},"都市ガス",94,"千円/千Nm3",{"$error":"#VALUE!"},"千円/年"]
["都市ガス(Nm3)",40.630000000000003,45,null,"都市ガス(Nm3)",94,null,"千円/千Nm3",{"$error":"#VALUE!"},"木質ペレット",25,"千円/t",{"$f":"$E$50*K79","v":{"$error":"#VALUE!"}},"千円/年"]
["都市ガス(m3)",40.630000000000003,45,null,"都市ガス(m3)",94,0.92910000000000004,"千円/千m3",{"$f":"$D$30*G80*F80","v":{"$error":"#VALUE!"}},"電気",24,"千円/千kWh",{"$error":"#VALUE!"},"千円/年"]
["木質ペレット",16,17.5,null,"木質ペレット",25,null,"千円/t",{"$error":"#VALUE!"},"★","★","★","★","千円/年"]
["電気",3.6,3.6,null,"電気",24,null,"千円/千kWh",{"$error":"#VALUE!"},"★","★","★","★","千円/年"]
["検算 既存","低a","高a'"]
["A重油",36.729999999999997,38.9,null,null,null,null,"手入力",{"$f":"'3 効果算定シート'!E40*'3 効果算定シート'!L28","v":{"$error":"#VALUE!"}},null,null,"手入力",{"$f":"'3 効果算定シート'!G40*'3 効果算定シート'!L29","v":{"$error":"#VALUE!"}}]
["C重油",39.67,41.78]
["灯油",34.270000000000003,36.49]
["LPG(液)",46.44,50.08]
["LPG(ガス)",46.44,50.08]
["LNG",49.84,54.7]
["都市ガス(Nm3)",40.630000000000003,45]
["都市ガス(m3)",40.630000000000003,45]
["電気",3.6,3.6]
["検算 導入","低b","高b'"]
["A重油",36.729999999999997,38.9]
["C重油",39.67,41.78]
["灯油",34.270000000000003,36.49]
["LPG",46.44,50.08]
["LNG",49.84,54.7]
["都市ガス",40.630000000000003,45]
["木質ペレット",16,17.5]
["電気",3.6,3.6]

{"sheet":"資料１.","index":18,"n_rows":238,"n_cols":25,"rows_kept":238,"cut":false,"hidden":true,"merged":[[83,19,83,22],[84,10,85,10],[84,14,85,14],[84,18,85,18],[84,22,85,22],[86,0,86,1],[83,0,85,1],[83,3,83,4],[83,6,85,6],[83,7,83,10],[83,11,83,14],[83,15,83,18],[101,2,101,5],[101,6,101,9],[102,5,103,5],[102,9,103,9],[87,0,87,1],[88,0,88,1],[89,0,89,1],[91,0,91,1],[92,0,92,1],[93,0,93,1],[104,0,104,1],[105,0,105,1],[106,0,106,1],[107,0,107,1],[109,0,109,1],[110,0,110,1],[94,0,94,1],[95,0,95,1],[97,0,97,1],[101,0,103,1],[118,6,120,6],[118,7,118,10],[118,11,118,14],[118,15,118,18],[119,10,120,10],[119,14,120,14],[119,18,120,18],[111,0,111,1],[112,0,112,1],[113,0,113,1],[115,0,115,1],[118,0,120,1],[118,3,118,4],[130,3,130,4],[130,6,132,6],[130,7,130,10],[130,11,130,14],[131,10,132,10],[131,14,132,14],[121,0,121,1],[122,0,122,1],[123,0,123,1],[124,0,124,1],[126,0,126,1],[130,0,132,1],[142,2,142,5],[142,6,142,9],[142,10,142,13],[143,5,144,5],[143,9,144,9],[143,13,144,13],[133,0,133,1],[134,0,134,1],[135,0,135,1],[136,0,136,1],[138,0,138,1],[142,0,144,1],[153,3,153,4],[153,6,155,6],[153,7,153,10],[153,14,153,17],[153,18,153,21],[154,10,155,10],[154,17,155,17],[154,21,155,21],[145,0,145,1],[146,0,146,1],[147,0,147,1],[148,0,148,1],[150,0,150,1],[153,0,155,1],[165,3,165,4],[165,6,167,6],[165,7,165,10],[166,10,167,10],[168,0,168,1],[169,0,169,1],[156,0,156,1],[157,0,157,1],[158,0,158,1],[159,0,159,1],[161,0,161,1],[165,0,167,1],[205,3,206,3],[205,4,206,4],[205,5,206,5],[205,6,206,6],[205,7,206,7],[205,8,206,8],[170,0,170,1],[171,0,171,1],[173,0,173,1],[204,0,204,1],[205,0,206,1],[205,2,206,2],[226,15,227,15],[226,16,227,16],[226,17,227,17],[226,18,227,18],[228,0,229,0],[228,5,229,5],[207,0,207,1],[214,1,214,2],[223,11,223,12],[224,11,224,12],[225,11,225,12],[226,0,227,0],[226,5,227,5],[235,1,235,2],[236,1,236,2],[230,11,230,12],[233,1,233,2],[233,3,233,4],[233,5,233,6],[233,7,233,8],[234,1,234,2],[226,14,227,14]]}
["１．給湯ヒートポンプのCOPh"]
["　　冷房や暖房では、熱源の一方が無限の熱容量を有するため一定とみなして理想COPを算出することができる。"]
[null,"COPH＝ TＨ／（TＨーTL）",null,null,null,null,null,null,"(1)"]
["　　給湯用理想サイクルの低温熱源は無限大の熱用容量とを持つ外気で一定であるが水の高温加熱部分を"]
["　加熱範囲内で比熱が一定で変化する水の高温度加熱とみなせば逆カルーノサイクルと同様に考えることが"]
["　できる。給湯ヒートポンプのCOPh（Li）を逆カルーノサイクル理想サイクル（冷媒理論：Li1）とすると"]
["　　"]
[null,"COPh(Li1)＝　QL ／  W  ＝ （T2-T3）／｛（T2-T3）ーT1 Ln（T2／T3）｝",null,null,null,null,null,null,"(2)"]
["　　図-1に給湯ヒートポンプサイクルのT-S線図を示す。"]
[]
[]
[null,null,null,null,null,"引用文献：　「「ヒートポンプ」の実用性能と可能性」"]
[null,null,null,null,null,"　　　　　　（社）日本冷凍空調工業会（日刊工業新聞社）"]
[null,null,null,null,null,"　　　　　5章「実用機器の効率限界と将来展望」"]
[null,null,null,null,null,null,"　　（対象：ヒートポンプ給湯器）"]
[]
[]
[]
[]
[]
[]
[null,null,"図-1　大温度差給湯用理想サイクル"]
["　　ここで","・機器理論COP(Li＆Tr）：冷媒理論COPh（Li)に熱移動と熱搬送を加味したCOPh"]
[null,"・機器理論COPh(Li＆Tr）に要素機器の効率を加味したCOPｈ"]
["　とすると表－1の給湯理想サイクルCOPh（Li１）ように計算できる。"]
["※１）","　表-1の給湯理想サイクル値COPh（Li１）は式(2)による。"]
["※２）","　表-1の熱搬送を加味した機器理論COPh(Li＆Tr）は"]
[null,"ヒートポンプの加熱能力Whとコンプレッサーの仕事Wcompおよび室外機の空気流動のエネルギーEoとすると"]
[null,"　　　COPh(Li＆Tr）＝Wh／（Wcomp＋Eo）　で表せる。"]
[null,"　要求される加熱能力Whが吸い込み空気温度と熱交換器内の冷媒温度差ΔTを０とせずに有限値に設定"]
[null,"することで、熱交換風量も有限値に定まる。必要なエネルギーは貯湯時のケースは暖房の室内機無しの"]
[null,"条件で計算でき、必要なエネルギーを考察すると"]
[null,"必要空気体積流量Qo（室外側）は"]
[null,"　　空気の定圧比熱Cp：1.005kJ/（kg・Ｋ）、密度γ：11.87N/㎥（16℃）とすると"]
[null,"　Qo＝（1／γ）×（Wh－Wcomp）／（ΔT（Eva）×Cp)",null,null,null,null,null,"［㎥/s]"]
[null,"　　室外で必要な風速Uoは室外機の風路面積をSoとすると"]
[null,"　Uo＝Qo／So",null,null,null,null,null,"［m/s]"]
[null,"　空気流動を生じる必要なエネルギーEoの運動量は"]
[null,"　Eo＝（１／２）×（γ／g）×QoUo^２",null,null,null,null,null,"［J/s]"]
[null,"したがって風路と熱搬送を考慮した機器理論COP（Li＆Tr）は"]
[null,"　　　COPh(Li＆Tr）＝Wh／（Wcomp＋Eo）　"]
[null,"　　　蒸発器における空気との温度差Ψ＝3.3℃のときにCOPが最大で中間期ではCOPh(Li＆Tr）＝7.7となる。"]
[null,"さらに、システムCOPｈ（Li＆Tr）は"]
[null,"　　ガスクーラー熱交換効率αと蒸発器熱交換効率αをともに0.95とすると"]
[null,null,"システムCOP(Li）＝7.7×0.95×0.95≒7.0"]
[null,"　　さらに圧縮機関連の要素機器の損失分の80%が冷媒加熱に寄与するとすると損失のうち次の量は加熱能力"]
[null,"　を上げる。家庭用給湯機4.5kW機種では"]
[null,null,"｛（4500／5.57）ー（4500／7.0)｝×0.8＝131.3　［ｗ］　となる。"]
[null,"また、表-1の構成機器として循環ポンプを20W程度の消費とすると最終的にシステム理論COP（Li＆Tr）を予想すると"]
[null,null,"(4500＋131.29）／（807.9＋20）＝5.6"]
[]
["２．各種冷媒における理論COPhと理想COPh"]
["　　ヒートポンプ給湯器は、年間を通して外気を低温熱源としているため冬季が中間季や夏季に比べてCOPhが低下することは"]
["　明らかである。また高温熱源側の温度を65℃、90℃と設定の変化もあり入水温度も1年を通して変化する。"]
["　図-2に中間季の加熱条件にて各種冷媒の理想サイクルCOPhを比較したものを示す。"]
[]
[null,null,null,null,null,null,null,null,null,null,null,null,null,"引用文献：　「「ヒートポンプ」の実用性能と可能性」"]
[null,null,null,null,null,null,null,null,null,null,null,null,null,"　　　　　　（社）日本冷凍空調工業会（日刊工業新聞社）"]
[null,null,null,null,null,null,null,null,null,null,null,null,null,"出典：「給湯用理想サイクル及びその成績係数(COP）"]
[null,null,null,null,null,null,null,null,null,null,null,null,null,"　　　の導出と各種冷媒の上限COPの評価]、斎川路之"]
[]
[]
[]
[]
[]
[]
[]
[]
[]
[]
[]
[]
[]
[]
[]
[]
[]
[]
[null,"図-2　給湯理想サイクルと各種冷媒の上限COPhの比較"]
[null,null,null,null,null,null,null,null,null," coph(Li1）の値チェック"]
[null,null,null,null,null,null,null,null,null,"T2［℃］","T1d［℃］","T1ｗ［℃]","T3［℃］","COPh(Li１）"]
["３，給湯ヒートポンプのJRA4060に準拠した性能調査",null,null,null,null,null,null,null,null,65,9.1999999999999993,12,6,{"$f":"ROUND(+(J82-M82)/((J82-M82)-(K82+273)*LN((J82+273)/(M82+273))),1)","v":12.1}]
["　　表ｰ１α1．一過式　給湯ヒートポンプの理想サイクルCOPh（Li1)と実機のCOPh"]
["加熱条件",null,"出湯温度","入口空気温度",null,"水温度","給湯理想\nサイクルCOPh(Li１）※１）","前川 R744 HE-WA-2HTCR",null,null,null,"三菱重工 R744 ESA301-5",null,null,null,"ダイキンR744 RQWG75NT",null,null,null,"三菱 R744 QAHV-560D",null,null,null,"R744","保守的算定"]
[null,null,"標準\n焚上温度","入口\n乾球温度","入口\n湿球温度","入口\n水温度",null,"加熱能力","消費電力","COPh","実機と理想サイクルとの比較α","加熱能力","消費電力","COPh","実機と理想サイクルとの比較α","加熱能力","消費電力","COPh","実機と理想サイクルとの比較α","加熱能力","消費電力","COPh","実機と理想サイクルとの比較α","\n修正係数","最小値を\n選定"]
[null,null,"T2［℃］","T1d［℃］","T1ｗ［℃]","T3［℃］",null,"kW","kW",null,null,"kW","kW",null,null,"kW","kW",null,null,"kW","kW",null,null,"α1aver.","α１min"]
["中間期標準",null,65,16,12,17,{"$f":"ROUND(+(C87-F87)/((C87-F87)-(D87+273)*LN((C87+273)/(F87+273))),1)","v":12.9},81.400000000000006,20,{"$f":"ROUND(+H87/I87,2)","v":4.07},{"$f":"ROUND(+J87/G87,2)","v":0.32},30,6.98,{"$f":"ROUND(+L87/M87,2)","v":4.3},{"$f":"ROUND(+N87/G87,2)","v":0.33},15,3.4,{"$f":"ROUND(+P87/Q87,2)","v":4.41},{"$f":"ROUND(+R87/G87,2)","v":0.34},56,16,{"$f":"ROUND(+T87/U87,2)","v":3.5},{"$f":"ROUND(+$V87/$G87,2)","v":0.27},{"$f":"ROUND((+K87+O87+S87+W87)/4,2)","v":0.32},{"$f":"+W87","v":0.27}]
["夏期標準",null,65,25,21,24,{"$f":"ROUND(+(C88-F88)/((C88-F88)-(D88+273)*LN((C88+273)/(F88+273))),1)","v":16.600000000000001},92.3,21.6,{"$f":"ROUND(+H88/I88,2)","v":4.2699999999999996},{"$f":"ROUND(+J88/G88,2)","v":0.26},30,6.48,{"$f":"ROUND(+L88/M88,2)","v":4.63},{"$f":"ROUND(+N88/G88,2)","v":0.28000000000000003},12,2.2999999999999998,{"$f":"ROUND(+P88/Q88,2)","v":5.22},{"$f":"ROUND(+R88/G88,2)","v":0.31},51.9,14,{"$f":"ROUND(+T88/U88,2)","v":3.71},{"$f":"ROUND(+$V88/$G88,2)","v":0.22},{"$f":"ROUND((+K88+O88+S88+W88)/4,2)","v":0.27},{"$f":"+W88","v":0.22}]
["冬季標準",null,65,7,6,9,{"$f":"ROUND(+(C89-F89)/((C89-F89)-(D89+273)*LN((C89+273)/(F89+273))),1)","v":10.6},77.400000000000006,25.1,3.08,0.28999999999999998,30,7.44,4.03,0.38,15,3.74,4.01,{"$f":"ROUND(+R89/G89,2)","v":0.38},46.8,16.2,2.89,{"$f":"ROUND(+$V89/$G89,2)","v":0.27},{"$f":"ROUND((+K89+O89+S89+W89)/4,2)","v":0.33},{"$f":"+K90","v":0.28000000000000003}]
["着霜期",null,65,2,1,5,{"$f":"ROUND(+(C90-F90)/((C90-F90)-(D90+273)*LN((C90+273)/(F90+273))),1)","v":9.6},63.1,23.3,2.71,0.28000000000000003,30,10.7,2.8,0.28999999999999998,10.199999999999999,3.7,2.76,{"$f":"ROUND(+R90/G90,2)","v":0.28999999999999998},"ー",null,null,null,{"$f":"ROUND((+K90+O90+S90+W90)/3,2)","v":0.28999999999999998},{"$f":"+K90","v":0.28000000000000003}]
[null,null,null,null,null,null,null,null,null,"Aver.",{"$f":"SUM(K87:K90)/4","v":0.28750000000000003},null,null,"Aver.",{"$f":"SUM(O87:O90)/4","v":0.32},null,null,"Aver.",{"$f":"SUM(S87:S90)/4","v":0.33},null,null,"Aver.",null,{"$f":"+(K91+O91+S91)/3","v":0.3125}]
["寒冷地冬季",null,65,-7,-8,5,{"$f":"ROUND(+(C92-F92)/((C92-F92)-(D92+273)*LN((C92+273)/(F92+273))),1)","v":7.5},53.6,21.1,2.54,0.34,30,10.7,{"$f":"ROUND(+L92/M92,2)","v":2.8},{"$f":"ROUND(+N92/G92,2)","v":0.37},null,null,null,null,"ー",null,null,null,{"$f":"+(K92+O92)/2","v":0.35499999999999998},{"$f":"+K92","v":0.34}]
["中間期標準",null,90,16,12,17,{"$f":"ROUND(+(C93-F93)/((C93-F93)-(D93+273)*LN((C93+273)/(F93+273))),1)","v":9},78.5,23.5,{"$f":"ROUND(+H93/I93,2)","v":3.34},{"$f":"ROUND(+J93/G93,2)","v":0.37},30,9.8000000000000007,{"$f":"ROUND(+L93/M93,2)","v":3.06},{"$f":"ROUND(+N93/G93,2)","v":0.34},15,2.69,{"$f":"ROUND(+P93/Q93,2)","v":5.58},{"$f":"ROUND(+R93/G93,2)","v":0.62},40,"ー",null,null,{"$f":"ROUND(+(K93+O93)/2,2)","v":0.36},{"$f":"+O93","v":0.34}]
["夏期標準",null,90,25,21,24,{"$f":"ROUND(+(C94-F94)/((C94-F94)-(D94+273)*LN((C94+273)/(F94+273))),1)","v":10.6},90.2,25.7,{"$f":"ROUND(+H94/I94,2)","v":3.51},{"$f":"ROUND(+J94/G94,2)","v":0.33},30,10.6,{"$f":"ROUND(+L94/M94,2)","v":2.83},0.27,12,2.92,{"$f":"ROUND(+P94/Q94,2)","v":4.1100000000000003},{"$f":"ROUND(+R94/G94,2)","v":0.39},40,"ー",null,null,{"$f":"ROUND(+(K94+O94+S94)/3,2)","v":0.33},{"$f":"+O94","v":0.27}]
["冬季標準",null,90,7,6,9,{"$f":"ROUND(+(C95-F95)/((C95-F95)-(D95+273)*LN((C95+273)/(F95+273))),1)","v":7.9},73.900000000000006,27.5,2.69,0.34,30,9.76,3.07,0.39,15,5.17,2.9,{"$f":"ROUND(+R95/G95,2)","v":0.37},40,17,{"$f":"ROUND(+T95/U95,2)","v":2.35},{"$f":"ROUND(+$V95/$G95,2)","v":0.3},{"$f":"ROUND(+(K95+O95+S95+W95)/4,2)","v":0.35},{"$f":"+W95","v":0.3}]
["着霜期",null,90,2,1,5,{"$f":"ROUND(+(C96-F96)/((C96-F96)-(D96+273)*LN((C96+273)/(F96+273))),1)","v":7.3},60.5,25,2.42,0.33,30,11.5,2.61,0.36,12.4,5.04,2.46,{"$f":"ROUND(+R96/G96,2)","v":0.34},"ー","ー",null,null,null,{"$f":"+K96","v":0.33}]
[null,null,null,null,null,null,null,null,null,"Aver.",{"$f":"SUM(K93:K96)/4","v":0.34250000000000003},null,null,"Aver.",{"$f":"SUM(O93:O96)/4","v":0.33999999999999997},null,null,"Aver.",{"$f":"SUM(S93:S96)/4","v":0.43},null,null,"Aver.",{"$f":"+W95","v":0.3},{"$f":"+ROUND((K97+O97+S97+W97)/4,2)","v":0.35}]
["寒冷地冬季",null,90,-7,-8,5,{"$f":"ROUND(+(C98-F98)/((C98-F98)-(D98+273)*LN((C98+273)/(F98+273))),1)","v":6.1},46.8,22.4,2.09,0.34,30,11,{"$f":"ROUND(+L98/M98,2)","v":2.73},{"$f":"ROUND(+N98/G98,2)","v":0.45},null,null,null,null,"ー","ー",null,null,{"$f":"+ROUND((K98+O98)/2,2)","v":0.4},{"$f":"+K98","v":0.34}]
[null,"※１）",null,"：「「ヒートポンプ」の実用可能性と可能性」での冷媒理論"]
[]
["　表―1 α2.　一過式つづき　"]
["加熱条件",null,"東芝 2元 CAONS700",null,null,null,"ダイキン 2元 FLYP350BA",null,null,null,"R410A\nR134a","保守的算定"]
[null,null,"加熱能力","消費電力","COPh","実機と理想サイクルとの比較","加熱能力","消費電力","COPh","実機と理想サイクルとの比較","2元\n修正係数","最小値を\n選定"]
[null,null,"kW","kW",null,null,"kW","kW",null,null,"α2aver.","α２min"]
["中間期標準",null,85,"ー",2.8,{"$f":"ROUND(+E105/G87,2)","v":0.22},35,9.3000000000000007,{"$f":"ROUND(+G105/H105,2)","v":3.76},{"$f":"ROUND(+I105/G87,2)","v":0.28999999999999998},{"$f":"+ROUND((F105+J105)/2,2)","v":0.26},{"$f":"+F105","v":0.22}]
["夏期標準",null,80,"ー",3.3,{"$f":"ROUND(+E106/G88,2)","v":0.2},35,8.1,{"$f":"ROUND(+G106/H106,2)","v":4.32},{"$f":"ROUND(+I106/G88,2)","v":0.26},{"$f":"+ROUND((F106+J106)/2,2)","v":0.23},{"$f":"+F106","v":0.2}]
["冬季標準",null,85,"ー",2.6,{"$f":"ROUND(+E107/G89,2)","v":0.25},35,10.7,{"$f":"ROUND(+G107/H107,2)","v":3.27},{"$f":"ROUND(+I107/G89,2)","v":0.31},0.28000000000000003,{"$f":"+F107","v":0.25}]
["着霜期",null,82,"ー",2.4,{"$f":"ROUND(+E108/G90,2)","v":0.25},35,15.2,{"$f":"ROUND(+G108/H108,2)","v":2.2999999999999998},{"$f":"ROUND(+I108/G90,2)","v":0.24},0.25,{"$f":"+F108","v":0.25}]
[null,null,null,null,"Aver.",{"$f":"SUM(F105:F108)/4","v":0.23},null,null,"Aver.",{"$f":"SUM(J105:J108)/4","v":0.27500000000000002},{"$f":"ROUND(+(F109+J109)/2,2)","v":0.25}]
["寒冷地冬季",null,68,"ー",2.2000000000000002,{"$f":"ROUND(+E110/G92,2)","v":0.28999999999999998},"ー","ー","ー",null,{"$f":"+F110","v":0.28999999999999998},{"$f":"+F110","v":0.28999999999999998}]
["中間期標準",null,85,"ー",2.2000000000000002,{"$f":"ROUND(+E111/G93,2)","v":0.24},null,null,null,null,null,{"$f":"+F111","v":0.24}]
["夏期標準",null,87,"ー",2.7,{"$f":"ROUND(+E112/G94,2)","v":0.25},null,null,null,null,null,{"$f":"+F112","v":0.25}]
["冬季標準",null,78,"ー",2,{"$f":"ROUND(+E113/G95,2)","v":0.25},null,null,null,null,null,{"$f":"+F113","v":0.25}]
["着霜期",null,70,"ー",1.9,{"$f":"ROUND(+E114/G96,2)","v":0.26},null,null,null,null,null,{"$f":"+F114","v":0.26}]
[null,null,null,null,null,{"$f":"SUM(F111:F114)/4","v":0.25}]
["寒冷地冬季",null,60,"ー",1.7,{"$f":"ROUND(+E116/G98,2)","v":0.28000000000000003},null,null,null,null,null,{"$f":"+F116","v":0.28000000000000003}]
[]
["　　表ｰ１β　保温加熱　給湯ヒートポンプCOPhと実機のCOPh"]
["加熱条件",null,"出湯温度","入口空気温度",null,"水温度","給湯理想\nサイクルCOPh(Li１）✳１）","前川 R744 保温加熱HE-WA-2HTCR",null,null,null,"三菱重工 R744 保温加熱 ESA301-25",null,null,null,"三菱 R744 保温加熱 QAHV-N560D",null,null,null,"R744","保守的算定"]
[null,null,"標準\n焚上温度","入口\n乾球温度","入口\n湿球温度","入口\n水温度",null,"加熱能力","消費電力","COPh","実機と理想サイクルとの比較","加熱能力","消費電力","COPh","実機と理想サイクルとの比較","加熱能力","消費電力","COPh","実機と理想サイクルとの比較","修正係数","最小値を\n選定"]
[null,null,"T2［℃］","T1d［℃］","T1ｗ［℃]","T3［℃］",null,"kW","kW",null,null,"kW","kW",null,null,"kW","kW",null,null,"β1aver.","β1min"]
["中間期標準",null,90,16,12,60,{"$f":"ROUND(+(C122-F122)/((C122-F122)-(D122+273)*LN((C122+273)/(F122+273))),1)","v":5.9},45.7,25.4,{"$f":"ROUND(+H122/I122,2)","v":1.8},{"$f":"ROUND(+J122/G122,2)","v":0.31},13.3,9,{"$f":"ROUND(+L122/M122,2)","v":1.48},{"$f":"ROUND(+N122/G122,2)","v":0.25},15.8,10.3,{"$f":"ROUND(+P122/Q122,2)","v":1.53},{"$f":"ROUND(+R122/G122,2)","v":0.26},{"$f":"+ROUND((K122+O122+S122)/3,2)","v":0.27},{"$f":"+O122","v":0.25}]
["夏期標準",null,90,25,21,60,{"$f":"ROUND(+(C123-F123)/((C123-F123)-(D123+273)*LN((C123+273)/(F123+273))),1)","v":7},52.2,26.3,{"$f":"ROUND(+H123/I123,2)","v":1.98},{"$f":"ROUND(+J123/G123,2)","v":0.28000000000000003},11.6,8,{"$f":"ROUND(+L123/M123,2)","v":1.45},{"$f":"ROUND(+N123/G123,2)","v":0.21},15.8,9.1300000000000008,{"$f":"ROUND(+P123/Q123,2)","v":1.73},{"$f":"ROUND(+R123/G123,2)","v":0.25},{"$f":"+ROUND((K123+O123+S123)/3,2)","v":0.25},{"$f":"+O123","v":0.21}]
["冬季標準",null,90,7,6,60,5.0999999999999996,46.1,31.7,1.45,0.28000000000000003,14.7,10.9,1.35,0.26,15.8,11.8,1.34,0.26,0.27,{"$f":"+O124","v":0.26}]
["着霜期",null,90,2,1,60,4.8,40,29.5,1.36,0.28000000000000003,14.6,11.6,1.26,0.26,"ー","ー","ー",null,null,{"$f":"+O125","v":0.26}]
[null,null,null,null,null,null,null,null,null,"Ave.",{"$f":"SUM(K122:K125)/4","v":0.28750000000000003},null,null,"Ave.",{"$f":"SUM(O122:O125)/4","v":0.245},null,null,"ー",null,{"$f":"+(K126+O126)/2","v":0.26624999999999999}]
["寒冷地冬季",null,90,-7,-8,60,4.3,25.1,24.9,1.01,0.23,12.3,11.4,1.08,0.25,"ー","ー","ー",null,{"$f":"+(K127+O127)/2","v":0.24},{"$f":"+K127","v":0.23}]
[null,"※１）",null,"：「「ヒートポンプ」の実用可能性と可能性」での冷媒理論"]
[]
["　　表ｰ１γ1.　循環加温式　給湯ヒートポンプの理想サイクルCOPh（Li1)と実機のCOPh"]
["加熱条件",null,"出湯温度","入口空気温度",null,"水温度","給湯理想\nサイクルCOPh(Li１）✳１）","三菱重工 R744 EQA401",null,null,null,"ダイキンR744 RLYP350BA",null,null,null,"R744","保守的算定"]
[null,null,"標準\n焚上温度","入口\n乾球温度","入口\n湿球温度","入口\n水温度",null,"加熱能力","消費電力","COPh","実機と理想サイクルとの比較","加熱能力","消費電力","COPh","実機と理想サイクルとの比較","修正係数","最小値を\n選定"]
[null,null,"T2［℃］","T1d［℃］","T1ｗ［℃]","T3［℃］",null,"kW","kW",null,null,"kW","kW",null,null,"γ１aver.","γ1min"]
["中間期標準",null,65,16,12,60,{"$f":"ROUND(+(C134-F134)/((C134-F134)-(D134+273)*LN((C134+273)/(F134+273))),1)","v":7.2},47.2,17.8,{"$f":"ROUND(+H134/I134,2)","v":2.65},{"$f":"ROUND(+J134/G134,2)","v":0.37},13,4.33,{"$f":"ROUND(+L134/M134,2)","v":3},{"$f":"ROUND(+N134/G134,2)","v":0.42},{"$f":"+ROUND((K134+O134)/2,2)","v":0.4},{"$f":"+K134","v":0.37}]
["夏期標準",null,65,25,21,60,{"$f":"ROUND(+(C135-F135)/((C135-F135)-(D135+273)*LN((C135+273)/(F135+273))),1)","v":8.9},50,15.3,{"$f":"ROUND(+H135/I135,2)","v":3.27},{"$f":"ROUND(+J135/G135,2)","v":0.37},13,3.94,{"$f":"ROUND(+L135/M135,2)","v":3.3},{"$f":"ROUND(+N135/G135,2)","v":0.37},{"$f":"+ROUND((K135+O135)/2,2)","v":0.37},{"$f":"+K135","v":0.37}]
["冬季標準",null,65,7,6,60,{"$f":"ROUND(+(C136-F136)/((C136-F136)-(D136+273)*LN((C136+273)/(F136+273))),1)","v":6},43.8,17.3,2.5299999999999998,0.42,13,5,2.6,0.43,0.43,{"$f":"+K136","v":0.42}]
["着霜期",null,65,2,1,60,5.5,40,18.399999999999999,2.17,0.39,13,6.25,2.08,0.38,0.39,{"$f":"+O137","v":0.38}]
[null,null,null,null,null,null,null,null,null,"Ave.",{"$f":"SUM(K134:K137)/4","v":0.38749999999999996},null,null,"Ave.",{"$f":"SUM(O134:O137)/4","v":0.4},{"$f":"+(K138+O137)/2","v":0.38374999999999998}]
["寒冷地冬季",null,65,-7,-8,60,4.8,34.5,17.899999999999999,1.93,0.4,null,null,null,null,{"$f":"+K139","v":0.4},{"$f":"+K139","v":0.4}]
[null,"※１）",null,"：「「ヒートポンプ」の実用可能性と可能性」での冷媒理論"]
[]
["　表ー1γ２．循環加温式つづき　"]
["加熱条件",null,"三菱 R407C CAHV-P160AK2-H",null,null,null,"三菱  R407C CAHV-P250AK2-H",null,null,null,"三菱 R407C CAHV-P500AK2-H",null,null,null,"R407C","保守的算定"]
[null,null,"加熱能力","消費電力","COPh","実機と理想サイクルとの比較","加熱能力","消費電力","COPh","実機と理想サイクルとの比較","加熱能力","消費電力","COPh","実機と理想サイクルとの比較","修正係数","最小値を\n選定"]
[null,null,"kW","kW",null,null,"kW","kW",null,null,"kW","kW",null,null,"γ２aver.","γ2min"]
["中間期標準",null,22.5,"ー",{"$f":"3.07*0.987","v":3.03009},{"$f":"ROUND(+$E146/$G134,2)","v":0.42},22.5,"ー",{"$f":"3.07*0.83","v":2.5480999999999998},{"$f":"ROUND(+$I146/$G134,2)","v":0.35},45,"ー",{"$f":"3.07*0.84","v":2.5787999999999998},{"$f":"ROUND(+$M146/$G134,2)","v":0.36},{"$f":"+ROUND((F146+J146+N146)/3,2)","v":0.38},{"$f":"+J146","v":0.35}]
["夏期標準",null,"ー","ー",null,null,"ー","ー",null,null,"ー","ー",null,null,null,0.35,"データなく暫定"]
["冬季標準",null,16,7.16,{"$f":"+C148/D148","v":2.2346368715083798},{"$f":"ROUND(+$E148/$G136,2)","v":0.37},22.5,10.7,{"$f":"+G148/H148","v":2.1028037383177574},{"$f":"ROUND(+$I148/$G136,2)","v":0.35},45,21.3,{"$f":"+K148/L148","v":2.112676056338028},{"$f":"ROUND(+$M148/$G136,2)","v":0.35},{"$f":"+ROUND((F148+J148+N148)/3,2)","v":0.36},{"$f":"+J148","v":0.35}]
["着霜期",null,"ー","ー",null,null,"ー","ー",null,null,"ー","ー",null,null,null,0.3,"データなく暫定"]
[null,null,null,null,null,{"$f":"(+F146+F148)/2","v":0.39500000000000002},null,null,null,{"$f":"(+J146+J148)/2","v":0.35},null,null,null,{"$f":"(+N146+N148)/2","v":0.35499999999999998},{"$f":"+(F150+J150+N150)/3","v":0.3666666666666667}]
["寒冷地冬季",null,null,null,null,null,null,null,null,null,null,null,null,null,null,0.4,"データなく暫定"]
[]
["　　表ｰ１ζ1.　循環加温式　給湯ヒートポンプの理想サイクルCOPh（Li1)と実機のCOPh",null,null,null,null,null,null,null,null,null,null,null,null,"　表ｰ１ζ２.　循環加温式つづき　"]
["加熱条件",null,"出湯温度","入口空気温度",null,"水温度","給湯理想\nサイクルCOPh(Li１）✳１）","東芝 CAONS140 2元 HWC-H1401S",null,null,null,"R410A\nR134a","保守的算定",null,"東芝CAONS140L R410A 1元HWC-H1401HL",null,null,null,"東芝CAONS45 R410A 1元HWC-H452H",null,null,null,"R410A","保守的算定"]
[null,null,"標準\n焚上温度","入口\n乾球温度","入口\n湿球温度","入口\n水温度",null,"加熱能力","消費電力","COPh","実機と理想サイクルとの比較","2元\n修正係数","最小値を\n選定",null,"加熱能力","消費電力","COPh","実機と理想サイクルとの比較","加熱能力","消費電力","COPh","実機と理想サイクルとの比較","1元\n修正係数","最小値を\n選定"]
[null,null,"T2［℃］","T1d［℃］","T1ｗ［℃]","T3［℃］",null,"kW","kW",null,null,"ζ１aver.","ζ１min",null,"kW","kW",null,null,"kW","kW",null,null,"ζ２aver.","ζ2min"]
["中間期標準",null,60,16,12,55,{"$f":"ROUND(+(C157-F157)/((C157-F157)-(D157+273)*LN((C157+273)/(F157+273))),1)","v":8},25,"ー",2.75,{"$f":"ROUND(+J157/G157,2)","v":0.34},{"$f":"+K157","v":0.34},{"$f":"+L157","v":0.34},null,18,"ー",3.1,{"$f":"ROUND(+Q157/G157,2)","v":0.39},5.8,null,2.2000000000000002,{"$f":"ROUND(+U157/G157,2)","v":0.28000000000000003},{"$f":"+ROUND((R157+V157)/2,2)","v":0.34},{"$f":"+W157","v":0.34}]
["夏期標準",null,60,25,21,55,{"$f":"ROUND(+(C158-F158)/((C158-F158)-(D158+273)*LN((C158+273)/(F158+273))),1)","v":10.199999999999999},27.5,"ー",3,{"$f":"ROUND(+J158/G158,2)","v":0.28999999999999998},0.28999999999999998,{"$f":"+L158","v":0.28999999999999998},null,17,"ー",4.5,{"$f":"ROUND(+Q158/G158,2)","v":0.44},6.1,null,2.8,{"$f":"ROUND(+U158/G158,2)","v":0.27},{"$f":"+ROUND((R158+V158)/2,2)","v":0.36},{"$f":"+W158","v":0.36}]
["冬季標準",null,60,7,6,55,{"$f":"ROUND(+(C159-F159)/((C159-F159)-(D159+273)*LN((C159+273)/(F159+273))),1)","v":6.5},24,"ー",2.5,0.38,0.38,{"$f":"+L159","v":0.38},null,17,"ー",2.5,{"$f":"ROUND(+Q159/G159,2)","v":0.38},5.2,null,1.9,{"$f":"ROUND(+U159/G159,2)","v":0.28999999999999998},0.34,{"$f":"+W159","v":0.34}]
["着霜期",null,60,2,1,55,6,19,"ー",2.1,0.35,0.35,{"$f":"+L160","v":0.35},null,14,"ー",2.1,{"$f":"ROUND(+Q160/G160,2)","v":0.35},3.8,null,1.4,{"$f":"ROUND(+U160/G160,2)","v":0.23},0.28999999999999998,{"$f":"+W160","v":0.28999999999999998}]
[null,null,null,null,null,null,null,null,null,"Ave.",{"$f":"SUM(K157:K160)/4","v":0.33999999999999997},0.33999999999999997,null,null,null,null,"Ave.",{"$f":"SUM(R157:R160)/4","v":0.39},null,null,"Ave.",{"$f":"SUM(V157:V160)/4","v":0.26750000000000002},{"$f":"+(R161+V161)/2","v":0.32874999999999999}]
["寒冷地冬季",null,60,-7,-8,55,5.0999999999999996,17,"ー",1.8,0.35,0.35,{"$f":"+K162","v":0.35},null,12,"ー",1.8,{"$f":"ROUND(+Q162/G162,2)","v":0.35},2.8,null,1.2,{"$f":"ROUND(+U162/G162,2)","v":0.24},{"$f":"+(R162+V162)/2","v":0.29499999999999998},{"$f":"+W162","v":0.29499999999999998}]
[null,"※１）",null,"：「「ヒートポンプ」の実用可能性と可能性」での冷媒理論"]
[]
["　　表ｰ１ Ɛ.　循環加温式　給湯ヒートポンプの理想サイクルCOPh（Li1)と実機のCOPh"]
["加熱条件",null,"出湯温度","入口空気温度",null,"水温度","給湯理想\nサイクルCOPh(Li１）✳１）","三菱重工　 2段　EQA401",null,null,null,"R454C","保守的算定"]
[null,null,"標準\n焚上温度","入口\n乾球温度","入口\n湿球温度","入口\n水温度",null,"加熱能力","消費電力","COPh","実機と理想サイクルとの比較","2段\n修正係数","最小値を\n選定"]
[null,null,"T2［℃］","T1d［℃］","T1ｗ［℃]","T3［℃］",null,"kW","kW",null,null," Ɛ aver.","Ɛ min"]
["中間期標準",null,65,16,12,60,{"$f":"ROUND(+(C169-F169)/((C169-F169)-(D169+273)*LN((C169+273)/(F169+273))),1)","v":7.2},47.2,18.8,{"$f":"ROUND(+H169/I169,2)","v":2.5099999999999998},{"$f":"ROUND(+J169/G169,2)","v":0.35},{"$f":"+K169","v":0.35},{"$f":"+L169","v":0.35}]
["夏期標準",null,65,25,21,60,{"$f":"ROUND(+(C170-F170)/((C170-F170)-(D170+273)*LN((C170+273)/(F170+273))),1)","v":8.9},50,16.399999999999999,{"$f":"ROUND(+H170/I170,2)","v":3.05},{"$f":"ROUND(+J170/G170,2)","v":0.34},{"$f":"+K170","v":0.34},{"$f":"+L170","v":0.34}]
["冬季標準",null,65,7,6,60,{"$f":"ROUND(+(C171-F171)/((C171-F171)-(D171+273)*LN((C171+273)/(F171+273))),1)","v":6},43.8,18.8,2.33,{"$f":"ROUND(+J171/G171,2)","v":0.39},0.39,{"$f":"+L171","v":0.39}]
["着霜期",null,65,2,1,60,5.5,40,20,2,{"$f":"ROUND(+J172/G172,2)","v":0.36},0.36,{"$f":"+L172","v":0.36}]
[null,null,null,null,null,null,null,null,null,"Ave.",{"$f":"SUM(K169:K172)/4","v":0.36},0.36]
["寒冷地冬季",null,65,-7,-8,60,{"$f":"ROUND(+(C174-F174)/((C174-F174)-(D174+273)*LN((C174+273)/(F174+273))),1)","v":4.8},34.5,19.399999999999999,{"$f":"ROUND(+H174/I174,2)","v":1.78},{"$f":"ROUND(+J174/G174,2)","v":0.37},0.37,{"$f":"+K174","v":0.37}]
[null,"※１）",null,"：「「ヒートポンプ」の実用可能性と可能性」での冷媒理論"]
[]
["４．日給湯量（L/日）とピーク給湯量（L/ｈ）、加熱装置および貯湯量について"]
["　　給湯用ヒートポンプを使用する場合には、時間当たりの加熱量が少なく、外気温度、入水温度にその能力が依存するので"]
["　貯湯量を大きくする必要がある。貯湯量を有する加熱装置、および貯湯量を有しない、あるい貯湯量が少ない加熱装置と"]
["　貯湯量との組み合わせの場合においては、使用時における給水による加熱装置内の温度降下を許容することになる。"]
["　　各種建物の給湯量（L/ｈ）は各器具の所要給湯量（L/個/h)の集積と建物用途別の同時使用率から推定されるが、その"]
["　加熱能力Ｈ［kW］と貯湯容量Ｖ［Ｌ]には関係があるため用途別に貯湯量を確認する必要がある。"]
[]
[null,"4.2 (th1－th2) V＋HT ≧ 4.2｛(th1+Th2)／2－tc｝qＴ",null,null,null,null,null,null,"(３)"]
[null,null,"（空気調和衛生工学  便覧 12版　第6編給排水衛生設備設計）"]
[]
["　病院の日給湯量Ｑ[Ｌ/h］とピーク給湯量ｑ[L/h］の事例から給湯ヒートポンプに必要な貯湯量Ｖ［L]を算定する。"]
["　※３）：日本冷凍工業会規格JRA4050:2007R"]
[null,"th1：ピーク開始時の貯湯温度　［℃］",null,null,null,null,65,"［℃］","（65℃または90℃、60℃を入力）",null,null,null,null,"入力"]
[null,"th2：ピーク終了後の貯湯温度　［℃］",null,null,null,null,55,"［℃］","（ピーク終了時も貯湯温度は55℃以上に保つものとする）",null,null,null,null,"自動"]
[null,"Ｈ：加熱能力※３）　［kW]",null,null,null,null,30,"［kW/台]　×",3,"[台]","（冬季加熱能力と台数）",null,null,"入力"]
[null,"Ｖ：必要有効貯湯容量　　　［Ｌ]"]
[null,"tc：入水温度※３）　［℃]",null,null,null,null,2,"［℃］","（冬季)",null,null,"延床面積を入力した場合"]
[null,"ｑ：ピーク時の給湯量　［Ｌ/ｈ]",null,null,null,null,{"$f":"+I227*T225","v":1885.0000000000002},"［L/ｈ]","（付表-2から自動）",null,null,{"$f":"+P231*U225","v":1800},"［L/ｈ]","自動"]
[null,"T：ピーク継続時間　　［h]",null,null,null,null,1,"［h]","（付表-2から自動）",null,null,null,null,"自動"]
[null,"Ｑ：日給湯量　　　　　［L/日］",null,null,null,null,{"$f":"+D227*T225","v":8000},"［L/日]","（冬季参考実測値）",null,null,{"$f":"+D228*U225","v":8000},"［L/日]","自動"]
["　　事例では式（２）から"]
[null,"4.2（th1-th2）V ≧ 4.2｛（th1+th2)/2－tc｝ｑT－HT"]
[null,"Ｖ ≧","〔4.2｛(65＋53)／2－15 ｝×qT－ＨT3600〕 ／  4.2 (th1－th2)"]
[null,"Ｖ ≧",{"$f":"ROUND(+(4.2*((($G$189+$G$190)/2-$G$193)*$G$194*$G$195)-($G$191*$I$191*3600*$G$195))/(4.2*($G$189-$G$190)),-3)","v":3000},"［Ｌ]","（実容量は×1.3程度）",null,null,null,null,null,null,null,null,"自動"]
[null,"日給湯量に対する割合：",null,null,{"$f":"ROUND(+C$200/$G$196,2)","v":0.38},null,null,null,null,null,null,null,null,"自動"]
[]
["　表-２に建物用途に推奨される貯湯量を示す。"]
["表-２　各種建物の給湯ヒートポンプに必要な貯湯量の割合（日給湯量に対して）"]
[null,null,"集合住宅","事務所","シティーホテル","温泉\nホテル","病院／老健","工場","学校"]
["貯湯容量係数✳４）",null,1.25,2,null,0.8,0.6,1,1]
[]
["貯湯割合※）",null,{"$f":"+G208*C206/G206","v":0.41666666666666669},{"$f":"+G208*D206/G206","v":0.66666666666666674},{"$f":"+F208","v":0.27},0.27,0.2,{"$f":"+G208*H206/G206","v":0.33333333333333337},{"$f":"+G208*I206/G206","v":0.33333333333333337},"（付表ｰ2　用途別年平均日給湯量と比較する）"]
["✳４）建物の各器具の所要給湯量の累計に同時使用率を乗じた値(平均時間給湯量Ｌ/ｈ）に貯湯容量係数を乗じて求めた。（ＡＳＨＡＲＥ､１９９１）"]
["※）シティーホテルの貯湯割合は（時間最大負荷／日給湯負荷＝15％、実測値）のため温泉ホテルと同値とした。（日本建築学会環境系論文集　第73巻　第623号、69-75、2008.1）"]
[]
["　温泉ホテル\"花の湯”　表－5「シャワー給湯」用途の月別時間別熱需要量（kW）では"]
[null,null,"冬季日給湯負荷（データ）：",1176,"［kWh/日］",null,null,"ピーク時間最大給湯負荷：",{"$f":"+D213*F214","v":176.4},"［kW］とすると",null,"別回答","採用"]
[null,"（時間最大給湯負荷／日給湯負荷＝",null,null,null,0.15,"(空気調和衛生工学会学術論文集2021.9福島）"]
[null,"　必要貯湯容量：",null,{"$f":"+I213*F231","v":352.8},"［kWh］","（ピーク時間最大給湯負荷×ピーク継続時間）",null,null,null,null,null,"表-2の貯湯割合を用いると必要貯湯量：",null,null,null,{"$f":"+D213*F208","v":317.52000000000004},"［kW］"]
["（判定）","貯湯容量:6㎥  炊上り温度65℃として有効貯湯能力を推定すると",null,null,null,null,null,null,null,null,null,"（判定）","貯湯容量:6㎥  炊上り温度65℃として貯湯容量を推定すると"]
[null,null,{"$f":"6*1000*(65-5)*4.2/3600/1.4","v":300},"　［kWh］","（有効貯湯割合1/1.4）",null,null,"現状熱源",879,"［kW］",null,null,{"$f":"6*1000*(65-5)*4.2/3600/1.4","v":300},"　［kWh］","（有効貯湯割合1/1.4）",null,"貯湯割合検算：",{"$f":"+M217/D213","v":0.25510204081632654}]
[null,null,"有効貯湯割合：",{"$f":"ROUND(+C217/D215,1)","v":0.9},"<",1.4,"よって熱源容量は差分を上乗せして",null,null,null,null,null,"有効貯湯割合：",{"$f":"+C217/P215","v":0.94482237339380182},"≲",1.4]
[null,null,"修正可能熱源容量：",{"$f":"ROUND(+C217*F218/D218,-1)","v":470},"　［kW］","6台（厨房系給湯負除く）",null,null,null,null,null,"  修正可能熱源容量：",null,{"$f":"ROUND(+M217*P218/N218,-1)","v":440},"　［kW］","　　 5台※"]
[null,null,null,null,null,null,null,null,null,null,null,null,"※　ピーク負荷と貯湯量から推定した必要熱源能力"]
[]
[]
["付表-2． 用途別年平均日給湯量とピーク時給湯量       ",null,null,null,null,null,": 選定"]
["用途",null,"年平均日給湯量",null,null,"ピーク\n継続時間",null,"ピーク時給湯量",null,null,"入力\n必要項目","備考",null,null,"病院※ａ）",null,"延床㎡","床数\n床",null,"入力１\n床","入力２\n㎡"]
["事務所",7,"～",10,"［L/(人日)]",2,1.5,"～",2.5,"［L/(人ｈ)]","在室人数","　空気調和衛生工学会",null,null,null,"冬季",20597,430,null,50,2000]
["シテー\nホテル※c)",100,"～",180,"［L/(人日)]",2,11.4,"～",{"$f":"+V237","v":26.2},"［L/(人ｈ)]","宿泊者数","　便覧給排水衛生設備",null,null,null,"平日","土日","休日"]
["病院※a)",100,"～",160,"［L/(床日)]",1,20,"～",{"$f":"+P230","v":37.700000000000003},"［L/(床ｈ)]","入院患者数",null,null,null,"平日土曜休日",4.5,4,2.5,"L/（㎡日）"]
[null,2,"～",4,"［L/(㎡日)］",null,0.4,"～",0.8,"［L/(㎡ｈ)］","延床面積"]
["飲食\n店舗",40,"～",80,"［L/(㎡日)］",2,10,"～",20,"［L/(席ｈ)]","来客数",null,null,null,"日給湯量",{"$f":"+P$227*$Q$225/$R$225","v":215.55},{"$f":"+Q$227*$Q$225/$R$225","v":191.6},{"$f":"+R$227*$Q$225/$R$225","v":119.75},"L/（床日）"]
[null,60,"～",120,"［L/(床日)]",null,15,"～",30,"［L/(㎡ｈ)］","延床面積",null,null,null,"ピーク\n給湯量",{"$f":"ROUND(+P$229/16*2.8,1)","v":37.700000000000003},{"$f":"ROUND(+Q$229/16*2.8,1)","v":33.5},{"$f":"ROUND(+R$229/16*2.8,1)","v":21},"L/（床ｈ）","※a）：空気調和衛生工学会便覧"]
["温泉\nホテル※b)",null,222,null,"［L/(人日)]",2,null,{"$f":"+Q237","v":39.199999999999996},null,"［L/(人ｈ)]","宿泊者数","空衛学会学術講演会論文",null,null,null,{"$f":"+P$227/14*2.8","v":0.9},{"$f":"+Q$227/14*2.8","v":0.79999999999999993},{"$f":"+R$227/14*2.8","v":0.5},"ｌ/（㎡h)"]
[null,null,null,null,null,null,null,null,null,null,null,null,null,null,"温泉ホテル※b)",null,null,"宿泊者数","入力\n人",null,"シティーホテル※ｃ）",null,"\n ピーク\n給湯量","宿泊者数","入力\n人"]
["付表-2．付録　温泉旅館の系統別負荷割合　（空衛学会学術講演会論文）",null,null,null,null,null,null,null,null,null,null,null,null,null,null,"17時","20時",300,null,null,"ツイン客室系",null,"２１時",450]
[null,"負荷割合",null,"大浴場\n利用\n1回/日",null,"大浴場\n利用\n2回/日",null,"大浴場\n利用平均\n1.5回/日",null,null,null,null,null,null,"冬季時間\n平均給湯量",3000,2800,"Ｌ/ｈ",null,null,"冬季時間\n平均給湯量",3317,11791,"L/ｈ"]
[null,"厨房系給湯",null,65,"％　～",48,"％",56.5,"％",null,null,null,null,null,null,{"$f":"+P234/+R233","v":10},{"$f":"+Q234/R233","v":9.3333333333333339},"Ｌ/(ｈ人)",null,null,null,{"$f":"+V234/X233","v":7.3711111111111114},{"$f":"+W234/X233","v":26.202222222222222},"Ｌ/(ｈ人)"]
[null,"浴場系給湯",null,17,"％　～",33,"％",25,"％",null,null,null,null,null,null,"平日","年末年始","土日祝日",null,null,null,"平日","年末年始","土日祝日"]
[null,"客室系給湯",null,18,"％　～",19,"％",18.5,"％",null,null,null,null,null,"ピーク\n給湯量",{"$f":"+P235*2.8*0.7","v":19.599999999999998},{"$f":"+P235*2.8*1.4","v":39.199999999999996},{"$f":"+P235*2.8*1.25","v":35},null,"Ｌ/(ｈ人)","ピーク\n給湯量",26.2,null,null,"Ｌ/(ｈ人)"]
[null,null,null,null,null,null,null,null,null,null,null,null,null,null,"※b）：空気調和衛生工学会学術講演論文集2021.9(福島)",null,null,null,null,"※c)：建築学会環境系論文集第73巻第623号2008.1"]

{"sheet":"寒冷地(γ既定値)","index":19,"n_rows":138,"n_cols":47,"rows_kept":138,"cut":false,"hidden":true,"merged":[[4,33,4,34],[9,30,9,32],[26,9,26,17],[27,9,27,17],[24,9,24,17],[25,9,25,17],[24,3,24,4],[26,7,26,8],[25,7,25,8],[9,3,9,26],[29,7,29,8],[24,7,24,8],[29,3,29,4],[28,3,28,4],[27,3,27,4],[26,3,26,4],[25,3,25,4],[28,7,28,8],[27,7,27,8],[29,9,29,17],[28,9,28,17],[31,9,31,17],[30,9,30,17],[31,3,31,4],[36,7,36,8],[35,7,35,8],[34,7,34,8],[33,7,33,8],[32,7,32,8],[30,3,30,4],[36,3,36,4],[35,3,35,4],[34,3,34,4],[33,3,33,4],[32,3,32,4],[31,7,31,8],[30,7,30,8],[1,2,1,3],[2,2,2,3],[3,2,3,3],[5,2,5,3],[6,2,6,3],[72,2,73,2],[34,12,34,17],[33,9,33,17],[40,27,41,27],[56,27,57,27],[72,27,73,27],[40,3,40,26],[56,3,56,26],[72,3,72,26],[32,9,32,17],[34,9,34,11],[35,9,35,11],[40,2,41,2],[56,2,57,2],[88,46,89,46],[112,46,113,46],[88,3,88,44],[112,3,112,44],[36,9,36,17]]}
[]
[null,null,"EHPの設置場所"]
[null,null,{"$f":"IF('2-1 設備条件シート'!$L$8=\"\",\"\",'2-1 設備条件シート'!$L$8)","v":""},null,null,"手順1：空調を行う月、時間を下記の指定の色で塗る(指定の色以外で塗ると計算できません。)"]
[null,null,{"$f":"VLOOKUP($C$3,γ一覧表!$C$3:$E$50,2,FALSE)","v":{"$error":"#N/A"}},null,null,null,"冷房","青","【左から5列目、一番薄い色(アクセント1,白＋基本色80％)】"]
[null,null,null,null,null,null,"暖房","オレンジ","【左から6番目、一番薄い色(アクセント2,白＋基本色80％)】"]
[null,null,"使用するγ値",null,null,"手順2：各月の運転日数を入力する"]
[null,null,{"$f":"IFERROR(IF(VLOOKUP($C$3,γ一覧表!$C$3:$E$50,3,FALSE)<=1,\"---\",IFERROR(VLOOKUP($C$3,γ一覧表!$C$3:$E$50,3,FALSE),\"---\")),\"---\")","v":"---"},null,null,"手順3：Ctrl + Alt + F9を同時に押す"]
[null,null,null,null,null,"手順4：黄色のセルに値を入力する(緑は自動計算)"]
[null,null,"時刻別平均気温[℃]",null,null,null,null,null,null,null,null,null,null,null,null,null,null,null,null,null,null,null,null,null,null,null,null,null,null,"電力使用量[kWh]"]
[null,null,null," 時刻",null,null,null,null,null,null,null,null,null,null,null,null,null,null,null,null,null,null,null,null,null,null,null,null,null,null,"期間"]
[null,null,"月",0,1,2,3,4,5,6,7,8,9,10,11,12,13,14,15,16,17,18,19,20,21,22,23,"運転日数",null,"月","冷房","暖房","月合計"]
[null,null,4,{"$f":"IFERROR(INDIRECT($C$4&\"!B5\"),\"\")","v":""},{"$f":"IFERROR(INDIRECT($C$4&\"!C5\"),\"\")","v":""},{"$f":"IFERROR(INDIRECT($C$4&\"!D5\"),\"\")","v":""},{"$f":"IFERROR(INDIRECT($C$4&\"!E5\"),\"\")","v":""},{"$f":"IFERROR(INDIRECT($C$4&\"!F5\"),\"\")","v":""},{"$f":"IFERROR(INDIRECT($C$4&\"!G5\"),\"\")","v":""},{"$f":"IFERROR(INDIRECT($C$4&\"!H5\"),\"\")","v":""},{"$f":"IFERROR(INDIRECT($C$4&\"!I5\"),\"\")","v":""},{"$f":"IFERROR(INDIRECT($C$4&\"!J5\"),\"\")","v":""},{"$f":"IFERROR(INDIRECT($C$4&\"!K5\"),\"\")","v":""},{"$f":"IFERROR(INDIRECT($C$4&\"!L5\"),\"\")","v":""},{"$f":"IFERROR(INDIRECT($C$4&\"!M5\"),\"\")","v":""},{"$f":"IFERROR(INDIRECT($C$4&\"!N5\"),\"\")","v":""},{"$f":"IFERROR(INDIRECT($C$4&\"!O5\"),\"\")","v":""},{"$f":"IFERROR(INDIRECT($C$4&\"!P5\"),\"\")","v":""},{"$f":"IFERROR(INDIRECT($C$4&\"!Q5\"),\"\")","v":""},{"$f":"IFERROR(INDIRECT($C$4&\"!R5\"),\"\")","v":""},{"$f":"IFERROR(INDIRECT($C$4&\"!S5\"),\"\")","v":""},{"$f":"IFERROR(INDIRECT($C$4&\"!T5\"),\"\")","v":""},{"$f":"IFERROR(INDIRECT($C$4&\"!U5\"),\"\")","v":""},{"$f":"IFERROR(INDIRECT($C$4&\"!V5\"),\"\")","v":""},{"$f":"IFERROR(INDIRECT($C$4&\"!W5\"),\"\")","v":""},{"$f":"IFERROR(INDIRECT($C$4&\"!X5\"),\"\")","v":""},{"$f":"IFERROR(INDIRECT($C$4&\"!Y5\"),\"\")","v":""},null,null,4,{"$f":"IFERROR($G$28/($C$7*$G$31)*AU91,\"\")","v":""},{"$f":"IF($C$7=\"---\",\"\",AU115)","v":""},{"$f":"IFERROR($AE$12+$AF$12,\"\")","v":""}]
[null,null,5,{"$f":"IFERROR(INDIRECT($C$4&\"!B6\"),\"\")","v":""},{"$f":"IFERROR(INDIRECT($C$4&\"!C6\"),\"\")","v":""},{"$f":"IFERROR(INDIRECT($C$4&\"!D6\"),\"\")","v":""},{"$f":"IFERROR(INDIRECT($C$4&\"!E6\"),\"\")","v":""},{"$f":"IFERROR(INDIRECT($C$4&\"!F6\"),\"\")","v":""},{"$f":"IFERROR(INDIRECT($C$4&\"!G6\"),\"\")","v":""},{"$f":"IFERROR(INDIRECT($C$4&\"!H6\"),\"\")","v":""},{"$f":"IFERROR(INDIRECT($C$4&\"!I6\"),\"\")","v":""},{"$f":"IFERROR(INDIRECT($C$4&\"!J6\"),\"\")","v":""},{"$f":"IFERROR(INDIRECT($C$4&\"!K6\"),\"\")","v":""},{"$f":"IFERROR(INDIRECT($C$4&\"!L6\"),\"\")","v":""},{"$f":"IFERROR(INDIRECT($C$4&\"!M6\"),\"\")","v":""},{"$f":"IFERROR(INDIRECT($C$4&\"!N6\"),\"\")","v":""},{"$f":"IFERROR(INDIRECT($C$4&\"!O6\"),\"\")","v":""},{"$f":"IFERROR(INDIRECT($C$4&\"!P6\"),\"\")","v":""},{"$f":"IFERROR(INDIRECT($C$4&\"!Q6\"),\"\")","v":""},{"$f":"IFERROR(INDIRECT($C$4&\"!R6\"),\"\")","v":""},{"$f":"IFERROR(INDIRECT($C$4&\"!S6\"),\"\")","v":""},{"$f":"IFERROR(INDIRECT($C$4&\"!T6\"),\"\")","v":""},{"$f":"IFERROR(INDIRECT($C$4&\"!U6\"),\"\")","v":""},{"$f":"IFERROR(INDIRECT($C$4&\"!V6\"),\"\")","v":""},{"$f":"IFERROR(INDIRECT($C$4&\"!W6\"),\"\")","v":""},{"$f":"IFERROR(INDIRECT($C$4&\"!X6\"),\"\")","v":""},{"$f":"IFERROR(INDIRECT($C$4&\"!Y6\"),\"\")","v":""},null,null,5,{"$f":"IFERROR($G$28/($C$7*$G$31)*AU92,\"\")","v":""},{"$f":"IF($C$7=\"---\",\"\",AU116)","v":""},{"$f":"IFERROR($AE$13+$AF$13,\"\")","v":""}]
[null,null,6,{"$f":"IFERROR(INDIRECT($C$4&\"!B7\"),\"\")","v":""},{"$f":"IFERROR(INDIRECT($C$4&\"!C7\"),\"\")","v":""},{"$f":"IFERROR(INDIRECT($C$4&\"!D7\"),\"\")","v":""},{"$f":"IFERROR(INDIRECT($C$4&\"!E7\"),\"\")","v":""},{"$f":"IFERROR(INDIRECT($C$4&\"!F7\"),\"\")","v":""},{"$f":"IFERROR(INDIRECT($C$4&\"!G7\"),\"\")","v":""},{"$f":"IFERROR(INDIRECT($C$4&\"!H7\"),\"\")","v":""},{"$f":"IFERROR(INDIRECT($C$4&\"!I7\"),\"\")","v":""},{"$f":"IFERROR(INDIRECT($C$4&\"!J7\"),\"\")","v":""},{"$f":"IFERROR(INDIRECT($C$4&\"!K7\"),\"\")","v":""},{"$f":"IFERROR(INDIRECT($C$4&\"!L7\"),\"\")","v":""},{"$f":"IFERROR(INDIRECT($C$4&\"!M7\"),\"\")","v":""},{"$f":"IFERROR(INDIRECT($C$4&\"!N7\"),\"\")","v":""},{"$f":"IFERROR(INDIRECT($C$4&\"!O7\"),\"\")","v":""},{"$f":"IFERROR(INDIRECT($C$4&\"!P7\"),\"\")","v":""},{"$f":"IFERROR(INDIRECT($C$4&\"!Q7\"),\"\")","v":""},{"$f":"IFERROR(INDIRECT($C$4&\"!R7\"),\"\")","v":""},{"$f":"IFERROR(INDIRECT($C$4&\"!S7\"),\"\")","v":""},{"$f":"IFERROR(INDIRECT($C$4&\"!T7\"),\"\")","v":""},{"$f":"IFERROR(INDIRECT($C$4&\"!U7\"),\"\")","v":""},{"$f":"IFERROR(INDIRECT($C$4&\"!V7\"),\"\")","v":""},{"$f":"IFERROR(INDIRECT($C$4&\"!W7\"),\"\")","v":""},{"$f":"IFERROR(INDIRECT($C$4&\"!X7\"),\"\")","v":""},{"$f":"IFERROR(INDIRECT($C$4&\"!Y7\"),\"\")","v":""},null,null,6,"","",{"$f":"IFERROR($AE$14+$AF$14,\"\")","v":""}]
[null,null,7,{"$f":"IFERROR(INDIRECT($C$4&\"!B8\"),\"\")","v":""},{"$f":"IFERROR(INDIRECT($C$4&\"!C8\"),\"\")","v":""},{"$f":"IFERROR(INDIRECT($C$4&\"!D8\"),\"\")","v":""},{"$f":"IFERROR(INDIRECT($C$4&\"!E8\"),\"\")","v":""},{"$f":"IFERROR(INDIRECT($C$4&\"!F8\"),\"\")","v":""},{"$f":"IFERROR(INDIRECT($C$4&\"!G8\"),\"\")","v":""},{"$f":"IFERROR(INDIRECT($C$4&\"!H8\"),\"\")","v":""},{"$f":"IFERROR(INDIRECT($C$4&\"!I8\"),\"\")","v":""},{"$f":"IFERROR(INDIRECT($C$4&\"!J8\"),\"\")","v":""},{"$f":"IFERROR(INDIRECT($C$4&\"!K8\"),\"\")","v":""},{"$f":"IFERROR(INDIRECT($C$4&\"!L8\"),\"\")","v":""},{"$f":"IFERROR(INDIRECT($C$4&\"!M8\"),\"\")","v":""},{"$f":"IFERROR(INDIRECT($C$4&\"!N8\"),\"\")","v":""},{"$f":"IFERROR(INDIRECT($C$4&\"!O8\"),\"\")","v":""},{"$f":"IFERROR(INDIRECT($C$4&\"!P8\"),\"\")","v":""},{"$f":"IFERROR(INDIRECT($C$4&\"!Q8\"),\"\")","v":""},{"$f":"IFERROR(INDIRECT($C$4&\"!R8\"),\"\")","v":""},{"$f":"IFERROR(INDIRECT($C$4&\"!S8\"),\"\")","v":""},{"$f":"IFERROR(INDIRECT($C$4&\"!T8\"),\"\")","v":""},{"$f":"IFERROR(INDIRECT($C$4&\"!U8\"),\"\")","v":""},{"$f":"IFERROR(INDIRECT($C$4&\"!V8\"),\"\")","v":""},{"$f":"IFERROR(INDIRECT($C$4&\"!W8\"),\"\")","v":""},{"$f":"IFERROR(INDIRECT($C$4&\"!X8\"),\"\")","v":""},{"$f":"IFERROR(INDIRECT($C$4&\"!Y8\"),\"\")","v":""},null,null,7,"","",{"$f":"IFERROR($AE$15+$AF$15,\"\")","v":""}]
[null,null,8,{"$f":"IFERROR(INDIRECT($C$4&\"!B9\"),\"\")","v":""},{"$f":"IFERROR(INDIRECT($C$4&\"!C9\"),\"\")","v":""},{"$f":"IFERROR(INDIRECT($C$4&\"!D9\"),\"\")","v":""},{"$f":"IFERROR(INDIRECT($C$4&\"!E9\"),\"\")","v":""},{"$f":"IFERROR(INDIRECT($C$4&\"!F9\"),\"\")","v":""},{"$f":"IFERROR(INDIRECT($C$4&\"!G9\"),\"\")","v":""},{"$f":"IFERROR(INDIRECT($C$4&\"!H9\"),\"\")","v":""},{"$f":"IFERROR(INDIRECT($C$4&\"!I9\"),\"\")","v":""},{"$f":"IFERROR(INDIRECT($C$4&\"!J9\"),\"\")","v":""},{"$f":"IFERROR(INDIRECT($C$4&\"!K9\"),\"\")","v":""},{"$f":"IFERROR(INDIRECT($C$4&\"!L9\"),\"\")","v":""},{"$f":"IFERROR(INDIRECT($C$4&\"!M9\"),\"\")","v":""},{"$f":"IFERROR(INDIRECT($C$4&\"!N9\"),\"\")","v":""},{"$f":"IFERROR(INDIRECT($C$4&\"!O9\"),\"\")","v":""},{"$f":"IFERROR(INDIRECT($C$4&\"!P9\"),\"\")","v":""},{"$f":"IFERROR(INDIRECT($C$4&\"!Q9\"),\"\")","v":""},{"$f":"IFERROR(INDIRECT($C$4&\"!R9\"),\"\")","v":""},{"$f":"IFERROR(INDIRECT($C$4&\"!S9\"),\"\")","v":""},{"$f":"IFERROR(INDIRECT($C$4&\"!T9\"),\"\")","v":""},{"$f":"IFERROR(INDIRECT($C$4&\"!U9\"),\"\")","v":""},{"$f":"IFERROR(INDIRECT($C$4&\"!V9\"),\"\")","v":""},{"$f":"IFERROR(INDIRECT($C$4&\"!W9\"),\"\")","v":""},{"$f":"IFERROR(INDIRECT($C$4&\"!X9\"),\"\")","v":""},{"$f":"IFERROR(INDIRECT($C$4&\"!Y9\"),\"\")","v":""},null,null,8,"","",{"$f":"IFERROR($AE$16+$AF$16,\"\")","v":""}]
[null,null,9,{"$f":"IFERROR(INDIRECT($C$4&\"!B10\"),\"\")","v":""},{"$f":"IFERROR(INDIRECT($C$4&\"!C10\"),\"\")","v":""},{"$f":"IFERROR(INDIRECT($C$4&\"!D10\"),\"\")","v":""},{"$f":"IFERROR(INDIRECT($C$4&\"!E10\"),\"\")","v":""},{"$f":"IFERROR(INDIRECT($C$4&\"!F10\"),\"\")","v":""},{"$f":"IFERROR(INDIRECT($C$4&\"!G10\"),\"\")","v":""},{"$f":"IFERROR(INDIRECT($C$4&\"!H10\"),\"\")","v":""},{"$f":"IFERROR(INDIRECT($C$4&\"!I10\"),\"\")","v":""},{"$f":"IFERROR(INDIRECT($C$4&\"!J10\"),\"\")","v":""},{"$f":"IFERROR(INDIRECT($C$4&\"!K10\"),\"\")","v":""},{"$f":"IFERROR(INDIRECT($C$4&\"!L10\"),\"\")","v":""},{"$f":"IFERROR(INDIRECT($C$4&\"!M10\"),\"\")","v":""},{"$f":"IFERROR(INDIRECT($C$4&\"!N10\"),\"\")","v":""},{"$f":"IFERROR(INDIRECT($C$4&\"!O10\"),\"\")","v":""},{"$f":"IFERROR(INDIRECT($C$4&\"!P10\"),\"\")","v":""},{"$f":"IFERROR(INDIRECT($C$4&\"!Q10\"),\"\")","v":""},{"$f":"IFERROR(INDIRECT($C$4&\"!R10\"),\"\")","v":""},{"$f":"IFERROR(INDIRECT($C$4&\"!S10\"),\"\")","v":""},{"$f":"IFERROR(INDIRECT($C$4&\"!T10\"),\"\")","v":""},{"$f":"IFERROR(INDIRECT($C$4&\"!U10\"),\"\")","v":""},{"$f":"IFERROR(INDIRECT($C$4&\"!V10\"),\"\")","v":""},{"$f":"IFERROR(INDIRECT($C$4&\"!W10\"),\"\")","v":""},{"$f":"IFERROR(INDIRECT($C$4&\"!X10\"),\"\")","v":""},{"$f":"IFERROR(INDIRECT($C$4&\"!Y10\"),\"\")","v":""},null,null,9,"","",{"$f":"IFERROR($AE$17+$AF$17,\"\")","v":""}]
[null,null,10,{"$f":"IFERROR(INDIRECT($C$4&\"!B11\"),\"\")","v":""},{"$f":"IFERROR(INDIRECT($C$4&\"!C11\"),\"\")","v":""},{"$f":"IFERROR(INDIRECT($C$4&\"!D11\"),\"\")","v":""},{"$f":"IFERROR(INDIRECT($C$4&\"!E11\"),\"\")","v":""},{"$f":"IFERROR(INDIRECT($C$4&\"!F11\"),\"\")","v":""},{"$f":"IFERROR(INDIRECT($C$4&\"!G11\"),\"\")","v":""},{"$f":"IFERROR(INDIRECT($C$4&\"!H11\"),\"\")","v":""},{"$f":"IFERROR(INDIRECT($C$4&\"!I11\"),\"\")","v":""},{"$f":"IFERROR(INDIRECT($C$4&\"!J11\"),\"\")","v":""},{"$f":"IFERROR(INDIRECT($C$4&\"!K11\"),\"\")","v":""},{"$f":"IFERROR(INDIRECT($C$4&\"!L11\"),\"\")","v":""},{"$f":"IFERROR(INDIRECT($C$4&\"!M11\"),\"\")","v":""},{"$f":"IFERROR(INDIRECT($C$4&\"!N11\"),\"\")","v":""},{"$f":"IFERROR(INDIRECT($C$4&\"!O11\"),\"\")","v":""},{"$f":"IFERROR(INDIRECT($C$4&\"!P11\"),\"\")","v":""},{"$f":"IFERROR(INDIRECT($C$4&\"!Q11\"),\"\")","v":""},{"$f":"IFERROR(INDIRECT($C$4&\"!R11\"),\"\")","v":""},{"$f":"IFERROR(INDIRECT($C$4&\"!S11\"),\"\")","v":""},{"$f":"IFERROR(INDIRECT($C$4&\"!T11\"),\"\")","v":""},{"$f":"IFERROR(INDIRECT($C$4&\"!U11\"),\"\")","v":""},{"$f":"IFERROR(INDIRECT($C$4&\"!V11\"),\"\")","v":""},{"$f":"IFERROR(INDIRECT($C$4&\"!W11\"),\"\")","v":""},{"$f":"IFERROR(INDIRECT($C$4&\"!X11\"),\"\")","v":""},{"$f":"IFERROR(INDIRECT($C$4&\"!Y11\"),\"\")","v":""},null,null,10,"","",{"$f":"IFERROR($AE$18+$AF$18,\"\")","v":""}]
[null,null,11,{"$f":"IFERROR(INDIRECT($C$4&\"!B12\"),\"\")","v":""},{"$f":"IFERROR(INDIRECT($C$4&\"!C12\"),\"\")","v":""},{"$f":"IFERROR(INDIRECT($C$4&\"!D12\"),\"\")","v":""},{"$f":"IFERROR(INDIRECT($C$4&\"!E12\"),\"\")","v":""},{"$f":"IFERROR(INDIRECT($C$4&\"!F12\"),\"\")","v":""},{"$f":"IFERROR(INDIRECT($C$4&\"!G12\"),\"\")","v":""},{"$f":"IFERROR(INDIRECT($C$4&\"!H12\"),\"\")","v":""},{"$f":"IFERROR(INDIRECT($C$4&\"!I12\"),\"\")","v":""},{"$f":"IFERROR(INDIRECT($C$4&\"!J12\"),\"\")","v":""},{"$f":"IFERROR(INDIRECT($C$4&\"!K12\"),\"\")","v":""},{"$f":"IFERROR(INDIRECT($C$4&\"!L12\"),\"\")","v":""},{"$f":"IFERROR(INDIRECT($C$4&\"!M12\"),\"\")","v":""},{"$f":"IFERROR(INDIRECT($C$4&\"!N12\"),\"\")","v":""},{"$f":"IFERROR(INDIRECT($C$4&\"!O12\"),\"\")","v":""},{"$f":"IFERROR(INDIRECT($C$4&\"!P12\"),\"\")","v":""},{"$f":"IFERROR(INDIRECT($C$4&\"!Q12\"),\"\")","v":""},{"$f":"IFERROR(INDIRECT($C$4&\"!R12\"),\"\")","v":""},{"$f":"IFERROR(INDIRECT($C$4&\"!S12\"),\"\")","v":""},{"$f":"IFERROR(INDIRECT($C$4&\"!T12\"),\"\")","v":""},{"$f":"IFERROR(INDIRECT($C$4&\"!U12\"),\"\")","v":""},{"$f":"IFERROR(INDIRECT($C$4&\"!V12\"),\"\")","v":""},{"$f":"IFERROR(INDIRECT($C$4&\"!W12\"),\"\")","v":""},{"$f":"IFERROR(INDIRECT($C$4&\"!X12\"),\"\")","v":""},{"$f":"IFERROR(INDIRECT($C$4&\"!Y12\"),\"\")","v":""},null,null,11,"","",{"$f":"IFERROR($AE$19+$AF$19,\"\")","v":""}]
[null,null,12,{"$f":"IFERROR(INDIRECT($C$4&\"!B13\"),\"\")","v":""},{"$f":"IFERROR(INDIRECT($C$4&\"!C13\"),\"\")","v":""},{"$f":"IFERROR(INDIRECT($C$4&\"!D13\"),\"\")","v":""},{"$f":"IFERROR(INDIRECT($C$4&\"!E13\"),\"\")","v":""},{"$f":"IFERROR(INDIRECT($C$4&\"!F13\"),\"\")","v":""},{"$f":"IFERROR(INDIRECT($C$4&\"!G13\"),\"\")","v":""},{"$f":"IFERROR(INDIRECT($C$4&\"!H13\"),\"\")","v":""},{"$f":"IFERROR(INDIRECT($C$4&\"!I13\"),\"\")","v":""},{"$f":"IFERROR(INDIRECT($C$4&\"!J13\"),\"\")","v":""},{"$f":"IFERROR(INDIRECT($C$4&\"!K13\"),\"\")","v":""},{"$f":"IFERROR(INDIRECT($C$4&\"!L13\"),\"\")","v":""},{"$f":"IFERROR(INDIRECT($C$4&\"!M13\"),\"\")","v":""},{"$f":"IFERROR(INDIRECT($C$4&\"!N13\"),\"\")","v":""},{"$f":"IFERROR(INDIRECT($C$4&\"!O13\"),\"\")","v":""},{"$f":"IFERROR(INDIRECT($C$4&\"!P13\"),\"\")","v":""},{"$f":"IFERROR(INDIRECT($C$4&\"!Q13\"),\"\")","v":""},{"$f":"IFERROR(INDIRECT($C$4&\"!R13\"),\"\")","v":""},{"$f":"IFERROR(INDIRECT($C$4&\"!S13\"),\"\")","v":""},{"$f":"IFERROR(INDIRECT($C$4&\"!T13\"),\"\")","v":""},{"$f":"IFERROR(INDIRECT($C$4&\"!U13\"),\"\")","v":""},{"$f":"IFERROR(INDIRECT($C$4&\"!V13\"),\"\")","v":""},{"$f":"IFERROR(INDIRECT($C$4&\"!W13\"),\"\")","v":""},{"$f":"IFERROR(INDIRECT($C$4&\"!X13\"),\"\")","v":""},{"$f":"IFERROR(INDIRECT($C$4&\"!Y13\"),\"\")","v":""},null,null,12,"","",{"$f":"IFERROR($AE$20+$AF$20,\"\")","v":""}]
[null,null,1,{"$f":"IFERROR(INDIRECT($C$4&\"!B14\"),\"\")","v":""},{"$f":"IFERROR(INDIRECT($C$4&\"!C14\"),\"\")","v":""},{"$f":"IFERROR(INDIRECT($C$4&\"!D14\"),\"\")","v":""},{"$f":"IFERROR(INDIRECT($C$4&\"!E14\"),\"\")","v":""},{"$f":"IFERROR(INDIRECT($C$4&\"!F14\"),\"\")","v":""},{"$f":"IFERROR(INDIRECT($C$4&\"!G14\"),\"\")","v":""},{"$f":"IFERROR(INDIRECT($C$4&\"!H14\"),\"\")","v":""},{"$f":"IFERROR(INDIRECT($C$4&\"!I14\"),\"\")","v":""},{"$f":"IFERROR(INDIRECT($C$4&\"!J14\"),\"\")","v":""},{"$f":"IFERROR(INDIRECT($C$4&\"!K14\"),\"\")","v":""},{"$f":"IFERROR(INDIRECT($C$4&\"!L14\"),\"\")","v":""},{"$f":"IFERROR(INDIRECT($C$4&\"!M14\"),\"\")","v":""},{"$f":"IFERROR(INDIRECT($C$4&\"!N14\"),\"\")","v":""},{"$f":"IFERROR(INDIRECT($C$4&\"!O14\"),\"\")","v":""},{"$f":"IFERROR(INDIRECT($C$4&\"!P14\"),\"\")","v":""},{"$f":"IFERROR(INDIRECT($C$4&\"!Q14\"),\"\")","v":""},{"$f":"IFERROR(INDIRECT($C$4&\"!R14\"),\"\")","v":""},{"$f":"IFERROR(INDIRECT($C$4&\"!S14\"),\"\")","v":""},{"$f":"IFERROR(INDIRECT($C$4&\"!T14\"),\"\")","v":""},{"$f":"IFERROR(INDIRECT($C$4&\"!U14\"),\"\")","v":""},{"$f":"IFERROR(INDIRECT($C$4&\"!V14\"),\"\")","v":""},{"$f":"IFERROR(INDIRECT($C$4&\"!W14\"),\"\")","v":""},{"$f":"IFERROR(INDIRECT($C$4&\"!X14\"),\"\")","v":""},{"$f":"IFERROR(INDIRECT($C$4&\"!Y14\"),\"\")","v":""},null,null,1,"","",{"$f":"IFERROR($AE$21+$AF$21,\"\")","v":""}]
[null,null,2,{"$f":"IFERROR(INDIRECT($C$4&\"!B15\"),\"\")","v":""},{"$f":"IFERROR(INDIRECT($C$4&\"!C15\"),\"\")","v":""},{"$f":"IFERROR(INDIRECT($C$4&\"!D15\"),\"\")","v":""},{"$f":"IFERROR(INDIRECT($C$4&\"!E15\"),\"\")","v":""},{"$f":"IFERROR(INDIRECT($C$4&\"!F15\"),\"\")","v":""},{"$f":"IFERROR(INDIRECT($C$4&\"!G15\"),\"\")","v":""},{"$f":"IFERROR(INDIRECT($C$4&\"!H15\"),\"\")","v":""},{"$f":"IFERROR(INDIRECT($C$4&\"!I15\"),\"\")","v":""},{"$f":"IFERROR(INDIRECT($C$4&\"!J15\"),\"\")","v":""},{"$f":"IFERROR(INDIRECT($C$4&\"!K15\"),\"\")","v":""},{"$f":"IFERROR(INDIRECT($C$4&\"!L15\"),\"\")","v":""},{"$f":"IFERROR(INDIRECT($C$4&\"!M15\"),\"\")","v":""},{"$f":"IFERROR(INDIRECT($C$4&\"!N15\"),\"\")","v":""},{"$f":"IFERROR(INDIRECT($C$4&\"!O15\"),\"\")","v":""},{"$f":"IFERROR(INDIRECT($C$4&\"!P15\"),\"\")","v":""},{"$f":"IFERROR(INDIRECT($C$4&\"!Q15\"),\"\")","v":""},{"$f":"IFERROR(INDIRECT($C$4&\"!R15\"),\"\")","v":""},{"$f":"IFERROR(INDIRECT($C$4&\"!S15\"),\"\")","v":""},{"$f":"IFERROR(INDIRECT($C$4&\"!T15\"),\"\")","v":""},{"$f":"IFERROR(INDIRECT($C$4&\"!U15\"),\"\")","v":""},{"$f":"IFERROR(INDIRECT($C$4&\"!V15\"),\"\")","v":""},{"$f":"IFERROR(INDIRECT($C$4&\"!W15\"),\"\")","v":""},{"$f":"IFERROR(INDIRECT($C$4&\"!X15\"),\"\")","v":""},{"$f":"IFERROR(INDIRECT($C$4&\"!Y15\"),\"\")","v":""},null,null,2,"","",{"$f":"IFERROR($AE$22+$AF$22,\"\")","v":""}]
[null,null,3,{"$f":"IFERROR(INDIRECT($C$4&\"!B16\"),\"\")","v":""},{"$f":"IFERROR(INDIRECT($C$4&\"!C16\"),\"\")","v":""},{"$f":"IFERROR(INDIRECT($C$4&\"!D16\"),\"\")","v":""},{"$f":"IFERROR(INDIRECT($C$4&\"!E16\"),\"\")","v":""},{"$f":"IFERROR(INDIRECT($C$4&\"!F16\"),\"\")","v":""},{"$f":"IFERROR(INDIRECT($C$4&\"!G16\"),\"\")","v":""},{"$f":"IFERROR(INDIRECT($C$4&\"!H16\"),\"\")","v":""},{"$f":"IFERROR(INDIRECT($C$4&\"!I16\"),\"\")","v":""},{"$f":"IFERROR(INDIRECT($C$4&\"!J16\"),\"\")","v":""},{"$f":"IFERROR(INDIRECT($C$4&\"!K16\"),\"\")","v":""},{"$f":"IFERROR(INDIRECT($C$4&\"!L16\"),\"\")","v":""},{"$f":"IFERROR(INDIRECT($C$4&\"!M16\"),\"\")","v":""},{"$f":"IFERROR(INDIRECT($C$4&\"!N16\"),\"\")","v":""},{"$f":"IFERROR(INDIRECT($C$4&\"!O16\"),\"\")","v":""},{"$f":"IFERROR(INDIRECT($C$4&\"!P16\"),\"\")","v":""},{"$f":"IFERROR(INDIRECT($C$4&\"!Q16\"),\"\")","v":""},{"$f":"IFERROR(INDIRECT($C$4&\"!R16\"),\"\")","v":""},{"$f":"IFERROR(INDIRECT($C$4&\"!S16\"),\"\")","v":""},{"$f":"IFERROR(INDIRECT($C$4&\"!T16\"),\"\")","v":""},{"$f":"IFERROR(INDIRECT($C$4&\"!U16\"),\"\")","v":""},{"$f":"IFERROR(INDIRECT($C$4&\"!V16\"),\"\")","v":""},{"$f":"IFERROR(INDIRECT($C$4&\"!W16\"),\"\")","v":""},{"$f":"IFERROR(INDIRECT($C$4&\"!X16\"),\"\")","v":""},{"$f":"IFERROR(INDIRECT($C$4&\"!Y16\"),\"\")","v":""},null,null,3,"","",{"$f":"IFERROR($AE$23+$AF$23,\"\")","v":""}]
[null,null,null,null,null,null,null,null,null,null,null,null,null,null,null,null,null,null,null,"●時刻別平均気温表記載の数値は、選択された都道府県の県庁所在地の月別、時刻別平均気温",null,null,null,null,null,null,null,null,null,"合計",{"$f":"IFERROR(SUM($AE$12:$AE$23),\"\")","v":0},{"$f":"IFERROR(SUM($AF$12:$AF$23),\"\")","v":0},{"$f":"IFERROR(SUM($AG$12:$AG$23),\"\")","v":0}]
[null,null,null,"冷房負荷ゼロ点",null,"Tco",18,"℃",null,"冷房が不要になると思われる外気温度を入力",null,null,null,null,null,null,null,null,null,"●本データは気象庁発表の1992年4月1日から2022年3月31日までの30年の1時間データを整理したもの"]
[null,null,null,"暖房負荷ゼロ点",null,"Two",12,"℃",null,"暖房が不要になると思われる外気温度を入力",null,null,null,null,null,null,null,null,null,"●2月はうるう日を含みます",null,null,null,null,null,null,null,{"$f":"'2-1 設備条件シート'!M3","v":"Ver. 1.1.2"}]
[null,null,null,"暖房設計外気温",null,"Td",-5,"℃",null,"設備設計時に最大暖房負荷計算を行った外気温度(JIS B8616のth100に相当)"]
[null,null,null,"設計暖房能力",null,"Φwd",16,"kW",null,"最大暖房負荷に対して選定した空調機の暖房能力(原則、最大空調負荷に等しい)"]
[null,null,null,"定格冷房能力",null,"Φco",22,"kW",null,"空調機の仕様を入力"]
[null,null,null,"定格冷房消費電力",null,"Pco",6.6,"kW",null,"空調機の仕様を入力"]
[null,null,null,"定格冷房COP",null,"σco",{"$f":"IFERROR($G$29/$G$30,\"\")","v":3.3333333333333335},"σco＝Φco／Pco",null,"自動計算"]
[null,null,null,"定格暖房能力",null,"Φwo",25,"kW",null,"空調機の仕様を入力"]
[null,null,null,"定格暖房消費電力",null,"Pwo",6.4,"kW",null,"空調機の仕様を入力"]
[null,null,null,"定格暖房COP",null,"σwo",{"$f":"IFERROR($G$32/$G$33,\"\")","v":3.90625},"σwo＝Φwo／Pwo",null,"自動計算"]
[null,null,null,"低温暖房能力",null,"Φw2",19.5,"kW",null,"空調機の仕様を入力",null,null,"着霜を考慮した外気温2℃時の空調機の性能"]
[null,null,null,"低温暖房消費電力",null,"Pw2",8.77,"kW",null,"空調機の仕様を入力",null,null,"寒冷地向け空調機では、カタログ等に記載"]
[null,null,null,"低温暖房COP",null,"σw2",{"$f":"IFERROR($G$35/$G$36,\"\")","v":2.2234891676168758},"σw2＝Φw2／Pw2",null,"自動計算"]
[]
[]
[null,null,"作業表1(青色のセルを「24」、オレンジ色のセルを「19」として抽出）"]
[null,null,"月"," 時刻",null,null,null,null,null,null,null,null,null,null,null,null,null,null,null,null,null,null,null,null,null,null,null,"月"]
[null,null,null,0,1,2,3,4,5,6,7,8,9,10,11,12,13,14,15,16,17,18,19,20,21,22,23]
[null,null,4,{"$f":"CELLCOLOR($D$12)","v":-4142},{"$f":"CELLCOLOR($E$12)","v":-4142},{"$f":"CELLCOLOR($F$12)","v":-4142},{"$f":"CELLCOLOR($G$12)","v":-4142},{"$f":"CELLCOLOR($H$12)","v":-4142},{"$f":"CELLCOLOR($I$12)","v":-4142},{"$f":"CELLCOLOR($J$12)","v":-4142},{"$f":"CELLCOLOR($K$12)","v":-4142},{"$f":"CELLCOLOR($L$12)","v":-4142},{"$f":"CELLCOLOR($M$12)","v":-4142},{"$f":"CELLCOLOR($N$12)","v":-4142},{"$f":"CELLCOLOR($O$12)","v":-4142},{"$f":"CELLCOLOR($P$12)","v":-4142},{"$f":"CELLCOLOR($Q$12)","v":-4142},{"$f":"CELLCOLOR($R$12)","v":-4142},{"$f":"CELLCOLOR($S$12)","v":-4142},{"$f":"CELLCOLOR($T$12)","v":-4142},{"$f":"CELLCOLOR($U$12)","v":-4142},{"$f":"CELLCOLOR($V$12)","v":-4142},{"$f":"CELLCOLOR($W$12)","v":-4142},{"$f":"CELLCOLOR($X$12)","v":-4142},{"$f":"CELLCOLOR($Y$12)","v":-4142},{"$f":"CELLCOLOR($Z$12)","v":-4142},{"$f":"CELLCOLOR($AA$12)","v":-4142},4]
[null,null,5,{"$f":"CELLCOLOR($D$13)","v":-4142},{"$f":"CELLCOLOR($E$13)","v":-4142},{"$f":"CELLCOLOR($F$13)","v":-4142},{"$f":"CELLCOLOR($G$13)","v":-4142},{"$f":"CELLCOLOR($H$13)","v":-4142},{"$f":"CELLCOLOR($I$13)","v":-4142},{"$f":"CELLCOLOR($J$13)","v":-4142},{"$f":"CELLCOLOR($K$13)","v":-4142},{"$f":"CELLCOLOR($L$13)","v":-4142},{"$f":"CELLCOLOR($M$13)","v":-4142},{"$f":"CELLCOLOR($N$13)","v":-4142},{"$f":"CELLCOLOR($O$13)","v":-4142},{"$f":"CELLCOLOR($P$13)","v":-4142},{"$f":"CELLCOLOR($Q$13)","v":-4142},{"$f":"CELLCOLOR($R$13)","v":-4142},{"$f":"CELLCOLOR($S$13)","v":-4142},{"$f":"CELLCOLOR($T$13)","v":-4142},{"$f":"CELLCOLOR($U$13)","v":-4142},{"$f":"CELLCOLOR($V$13)","v":-4142},{"$f":"CELLCOLOR($W$13)","v":-4142},{"$f":"CELLCOLOR($X$13)","v":-4142},{"$f":"CELLCOLOR($Y$13)","v":-4142},{"$f":"CELLCOLOR($Z$13)","v":-4142},{"$f":"CELLCOLOR($AA$13)","v":-4142},5]
[null,null,6,{"$f":"CELLCOLOR($D$14)","v":-4142},{"$f":"CELLCOLOR($E$14)","v":-4142},{"$f":"CELLCOLOR($F$14)","v":-4142},{"$f":"CELLCOLOR($G$14)","v":-4142},{"$f":"CELLCOLOR($H$14)","v":-4142},{"$f":"CELLCOLOR($I$14)","v":-4142},{"$f":"CELLCOLOR($J$14)","v":-4142},{"$f":"CELLCOLOR($K$14)","v":-4142},{"$f":"CELLCOLOR($L$14)","v":-4142},{"$f":"CELLCOLOR($M$14)","v":-4142},{"$f":"CELLCOLOR($N$14)","v":-4142},{"$f":"CELLCOLOR($O$14)","v":-4142},{"$f":"CELLCOLOR($P$14)","v":-4142},{"$f":"CELLCOLOR($Q$14)","v":-4142},{"$f":"CELLCOLOR($R$14)","v":-4142},{"$f":"CELLCOLOR($S$14)","v":-4142},{"$f":"CELLCOLOR($T$14)","v":-4142},{"$f":"CELLCOLOR($U$14)","v":-4142},{"$f":"CELLCOLOR($V$14)","v":-4142},{"$f":"CELLCOLOR($W$14)","v":-4142},{"$f":"CELLCOLOR($X$14)","v":-4142},{"$f":"CELLCOLOR($Y$14)","v":-4142},{"$f":"CELLCOLOR($Z$14)","v":-4142},{"$f":"CELLCOLOR($AA$14)","v":-4142},6]
[null,null,7,{"$f":"CELLCOLOR($D$15)","v":-4142},{"$f":"CELLCOLOR($E$15)","v":-4142},{"$f":"CELLCOLOR($F$15)","v":-4142},{"$f":"CELLCOLOR($G$15)","v":-4142},{"$f":"CELLCOLOR($H$15)","v":-4142},{"$f":"CELLCOLOR($I$15)","v":-4142},{"$f":"CELLCOLOR($J$15)","v":-4142},{"$f":"CELLCOLOR($K$15)","v":-4142},{"$f":"CELLCOLOR($L$15)","v":-4142},{"$f":"CELLCOLOR($M$15)","v":-4142},{"$f":"CELLCOLOR($N$15)","v":-4142},{"$f":"CELLCOLOR($O$15)","v":-4142},{"$f":"CELLCOLOR($P$15)","v":-4142},{"$f":"CELLCOLOR($Q$15)","v":-4142},{"$f":"CELLCOLOR($R$15)","v":-4142},{"$f":"CELLCOLOR($S$15)","v":-4142},{"$f":"CELLCOLOR($T$15)","v":-4142},{"$f":"CELLCOLOR($U$15)","v":-4142},{"$f":"CELLCOLOR($V$15)","v":-4142},{"$f":"CELLCOLOR($W$15)","v":-4142},{"$f":"CELLCOLOR($X$15)","v":-4142},{"$f":"CELLCOLOR($Y$15)","v":-4142},{"$f":"CELLCOLOR($Z$15)","v":-4142},{"$f":"CELLCOLOR($AA$15)","v":-4142},7]
[null,null,8,{"$f":"CELLCOLOR($D$16)","v":-4142},{"$f":"CELLCOLOR($E$16)","v":-4142},{"$f":"CELLCOLOR($F$16)","v":-4142},{"$f":"CELLCOLOR($G$16)","v":-4142},{"$f":"CELLCOLOR($H$16)","v":-4142},{"$f":"CELLCOLOR($I$16)","v":-4142},{"$f":"CELLCOLOR($J$16)","v":-4142},{"$f":"CELLCOLOR($K$16)","v":-4142},{"$f":"CELLCOLOR($L$16)","v":-4142},{"$f":"CELLCOLOR($M$16)","v":-4142},{"$f":"CELLCOLOR($N$16)","v":-4142},{"$f":"CELLCOLOR($O$16)","v":-4142},{"$f":"CELLCOLOR($P$16)","v":-4142},{"$f":"CELLCOLOR($Q$16)","v":-4142},{"$f":"CELLCOLOR($R$16)","v":-4142},{"$f":"CELLCOLOR($S$16)","v":-4142},{"$f":"CELLCOLOR($T$16)","v":-4142},{"$f":"CELLCOLOR($U$16)","v":-4142},{"$f":"CELLCOLOR($V$16)","v":-4142},{"$f":"CELLCOLOR($W$16)","v":-4142},{"$f":"CELLCOLOR($X$16)","v":-4142},{"$f":"CELLCOLOR($Y$16)","v":-4142},{"$f":"CELLCOLOR($Z$16)","v":-4142},{"$f":"CELLCOLOR($AA$16)","v":-4142},8]
[null,null,9,{"$f":"CELLCOLOR($D$17)","v":-4142},{"$f":"CELLCOLOR($E$17)","v":-4142},{"$f":"CELLCOLOR($F$17)","v":-4142},{"$f":"CELLCOLOR($G$17)","v":-4142},{"$f":"CELLCOLOR($H$17)","v":-4142},{"$f":"CELLCOLOR($I$17)","v":-4142},{"$f":"CELLCOLOR($J$17)","v":-4142},{"$f":"CELLCOLOR($K$17)","v":-4142},{"$f":"CELLCOLOR($L$17)","v":-4142},{"$f":"CELLCOLOR($M$17)","v":-4142},{"$f":"CELLCOLOR($N$17)","v":-4142},{"$f":"CELLCOLOR($O$17)","v":-4142},{"$f":"CELLCOLOR($P$17)","v":-4142},{"$f":"CELLCOLOR($Q$17)","v":-4142},{"$f":"CELLCOLOR($R$17)","v":-4142},{"$f":"CELLCOLOR($S$17)","v":-4142},{"$f":"CELLCOLOR($T$17)","v":-4142},{"$f":"CELLCOLOR($U$17)","v":-4142},{"$f":"CELLCOLOR($V$17)","v":-4142},{"$f":"CELLCOLOR($W$17)","v":-4142},{"$f":"CELLCOLOR($X$17)","v":-4142},{"$f":"CELLCOLOR($Y$17)","v":-4142},{"$f":"CELLCOLOR($Z$17)","v":-4142},{"$f":"CELLCOLOR($AA$17)","v":-4142},9]
[null,null,10,{"$f":"CELLCOLOR($D$18)","v":-4142},{"$f":"CELLCOLOR($E$18)","v":-4142},{"$f":"CELLCOLOR($F$18)","v":-4142},{"$f":"CELLCOLOR($G$18)","v":-4142},{"$f":"CELLCOLOR($H$18)","v":-4142},{"$f":"CELLCOLOR($I$18)","v":-4142},{"$f":"CELLCOLOR($J$18)","v":-4142},{"$f":"CELLCOLOR($K$18)","v":-4142},{"$f":"CELLCOLOR($L$18)","v":-4142},{"$f":"CELLCOLOR($M$18)","v":-4142},{"$f":"CELLCOLOR($N$18)","v":-4142},{"$f":"CELLCOLOR($O$18)","v":-4142},{"$f":"CELLCOLOR($P$18)","v":-4142},{"$f":"CELLCOLOR($Q$18)","v":-4142},{"$f":"CELLCOLOR($R$18)","v":-4142},{"$f":"CELLCOLOR($S$18)","v":-4142},{"$f":"CELLCOLOR($T$18)","v":-4142},{"$f":"CELLCOLOR($U$18)","v":-4142},{"$f":"CELLCOLOR($V$18)","v":-4142},{"$f":"CELLCOLOR($W$18)","v":-4142},{"$f":"CELLCOLOR($X$18)","v":-4142},{"$f":"CELLCOLOR($Y$18)","v":-4142},{"$f":"CELLCOLOR($Z$18)","v":-4142},{"$f":"CELLCOLOR($AA$18)","v":-4142},10]
[null,null,11,{"$f":"CELLCOLOR($D$19)","v":-4142},{"$f":"CELLCOLOR($E$19)","v":-4142},{"$f":"CELLCOLOR($F$19)","v":-4142},{"$f":"CELLCOLOR($G$19)","v":-4142},{"$f":"CELLCOLOR($H$19)","v":-4142},{"$f":"CELLCOLOR($I$19)","v":-4142},{"$f":"CELLCOLOR($J$19)","v":-4142},{"$f":"CELLCOLOR($K$19)","v":-4142},{"$f":"CELLCOLOR($L$19)","v":-4142},{"$f":"CELLCOLOR($M$19)","v":-4142},{"$f":"CELLCOLOR($N$19)","v":-4142},{"$f":"CELLCOLOR($O$19)","v":-4142},{"$f":"CELLCOLOR($P$19)","v":-4142},{"$f":"CELLCOLOR($Q$19)","v":-4142},{"$f":"CELLCOLOR($R$19)","v":-4142},{"$f":"CELLCOLOR($S$19)","v":-4142},{"$f":"CELLCOLOR($T$19)","v":-4142},{"$f":"CELLCOLOR($U$19)","v":-4142},{"$f":"CELLCOLOR($V$19)","v":-4142},{"$f":"CELLCOLOR($W$19)","v":-4142},{"$f":"CELLCOLOR($X$19)","v":-4142},{"$f":"CELLCOLOR($Y$19)","v":-4142},{"$f":"CELLCOLOR($Z$19)","v":-4142},{"$f":"CELLCOLOR($AA$19)","v":-4142},11]
[null,null,12,{"$f":"CELLCOLOR($D$20)","v":-4142},{"$f":"CELLCOLOR($E$20)","v":-4142},{"$f":"CELLCOLOR($F$20)","v":-4142},{"$f":"CELLCOLOR($G$20)","v":-4142},{"$f":"CELLCOLOR($H$20)","v":-4142},{"$f":"CELLCOLOR($I$20)","v":-4142},{"$f":"CELLCOLOR($J$20)","v":-4142},{"$f":"CELLCOLOR($K$20)","v":-4142},{"$f":"CELLCOLOR($L$20)","v":-4142},{"$f":"CELLCOLOR($M$20)","v":-4142},{"$f":"CELLCOLOR($N$20)","v":-4142},{"$f":"CELLCOLOR($O$20)","v":-4142},{"$f":"CELLCOLOR($P$20)","v":-4142},{"$f":"CELLCOLOR($Q$20)","v":-4142},{"$f":"CELLCOLOR($R$20)","v":-4142},{"$f":"CELLCOLOR($S$20)","v":-4142},{"$f":"CELLCOLOR($T$20)","v":-4142},{"$f":"CELLCOLOR($U$20)","v":-4142},{"$f":"CELLCOLOR($V$20)","v":-4142},{"$f":"CELLCOLOR($W$20)","v":-4142},{"$f":"CELLCOLOR($X$20)","v":-4142},{"$f":"CELLCOLOR($Y$20)","v":-4142},{"$f":"CELLCOLOR($Z$20)","v":-4142},{"$f":"CELLCOLOR($AA$20)","v":-4142},12]
[null,null,1,{"$f":"CELLCOLOR($D$21)","v":-4142},{"$f":"CELLCOLOR($E$21)","v":-4142},{"$f":"CELLCOLOR($F$21)","v":-4142},{"$f":"CELLCOLOR($G$21)","v":-4142},{"$f":"CELLCOLOR($H$21)","v":-4142},{"$f":"CELLCOLOR($I$21)","v":-4142},{"$f":"CELLCOLOR($J$21)","v":-4142},{"$f":"CELLCOLOR($K$21)","v":-4142},{"$f":"CELLCOLOR($L$21)","v":-4142},{"$f":"CELLCOLOR($M$21)","v":-4142},{"$f":"CELLCOLOR($N$21)","v":-4142},{"$f":"CELLCOLOR($O$21)","v":-4142},{"$f":"CELLCOLOR($P$21)","v":-4142},{"$f":"CELLCOLOR($Q$21)","v":-4142},{"$f":"CELLCOLOR($R$21)","v":-4142},{"$f":"CELLCOLOR($S$21)","v":-4142},{"$f":"CELLCOLOR($T$21)","v":-4142},{"$f":"CELLCOLOR($U$21)","v":-4142},{"$f":"CELLCOLOR($V$21)","v":-4142},{"$f":"CELLCOLOR($W$21)","v":-4142},{"$f":"CELLCOLOR($X$21)","v":-4142},{"$f":"CELLCOLOR($Y$21)","v":-4142},{"$f":"CELLCOLOR($Z$21)","v":-4142},{"$f":"CELLCOLOR($AA$21)","v":-4142},1]
[null,null,2,{"$f":"CELLCOLOR($D$22)","v":-4142},{"$f":"CELLCOLOR($E$22)","v":-4142},{"$f":"CELLCOLOR($F$22)","v":-4142},{"$f":"CELLCOLOR($G$22)","v":-4142},{"$f":"CELLCOLOR($H$22)","v":-4142},{"$f":"CELLCOLOR($I$22)","v":-4142},{"$f":"CELLCOLOR($J$22)","v":-4142},{"$f":"CELLCOLOR($K$22)","v":-4142},{"$f":"CELLCOLOR($L$22)","v":-4142},{"$f":"CELLCOLOR($M$22)","v":-4142},{"$f":"CELLCOLOR($N$22)","v":-4142},{"$f":"CELLCOLOR($O$22)","v":-4142},{"$f":"CELLCOLOR($P$22)","v":-4142},{"$f":"CELLCOLOR($Q$22)","v":-4142},{"$f":"CELLCOLOR($R$22)","v":-4142},{"$f":"CELLCOLOR($S$22)","v":-4142},{"$f":"CELLCOLOR($T$22)","v":-4142},{"$f":"CELLCOLOR($U$22)","v":-4142},{"$f":"CELLCOLOR($V$22)","v":-4142},{"$f":"CELLCOLOR($W$22)","v":-4142},{"$f":"CELLCOLOR($X$22)","v":-4142},{"$f":"CELLCOLOR($Y$22)","v":-4142},{"$f":"CELLCOLOR($Z$22)","v":-4142},{"$f":"CELLCOLOR($AA$22)","v":-4142},2]
[null,null,3,{"$f":"CELLCOLOR($D$23)","v":-4142},{"$f":"CELLCOLOR($E$23)","v":-4142},{"$f":"CELLCOLOR($F$23)","v":-4142},{"$f":"CELLCOLOR($G$23)","v":-4142},{"$f":"CELLCOLOR($H$23)","v":-4142},{"$f":"CELLCOLOR($I$23)","v":-4142},{"$f":"CELLCOLOR($J$23)","v":-4142},{"$f":"CELLCOLOR($K$23)","v":-4142},{"$f":"CELLCOLOR($L$23)","v":-4142},{"$f":"CELLCOLOR($M$23)","v":-4142},{"$f":"CELLCOLOR($N$23)","v":-4142},{"$f":"CELLCOLOR($O$23)","v":-4142},{"$f":"CELLCOLOR($P$23)","v":-4142},{"$f":"CELLCOLOR($Q$23)","v":-4142},{"$f":"CELLCOLOR($R$23)","v":-4142},{"$f":"CELLCOLOR($S$23)","v":-4142},{"$f":"CELLCOLOR($T$23)","v":-4142},{"$f":"CELLCOLOR($U$23)","v":-4142},{"$f":"CELLCOLOR($V$23)","v":-4142},{"$f":"CELLCOLOR($W$23)","v":-4142},{"$f":"CELLCOLOR($X$23)","v":-4142},{"$f":"CELLCOLOR($Y$23)","v":-4142},{"$f":"CELLCOLOR($Z$23)","v":-4142},{"$f":"CELLCOLOR($AA$23)","v":-4142},3]
[]
[null,null,"作業表2-1(冷房)",null,"●月▲時の平均気温(四捨五入で表示）"]
[null,null,"月"," 時刻",null,null,null,null,null,null,null,null,null,null,null,null,null,null,null,null,null,null,null,null,null,null,null,"月"]
[null,null,null,0,1,2,3,4,5,6,7,8,9,10,11,12,13,14,15,16,17,18,19,20,21,22,23]
[null,null,4,{"$f":"IF($D$43=24,ROUND($D$12,0),\"\")&\"\"","v":""},{"$f":"IF($E$43=24,ROUND($E$12,0),\"\")&\"\"","v":""},{"$f":"IF($F$43=24,ROUND($F$12,0),\"\")&\"\"","v":""},{"$f":"IF($G$43=24,ROUND($G$12,0),\"\")&\"\"","v":""},{"$f":"IF($H$43=24,ROUND($H$12,0),\"\")&\"\"","v":""},{"$f":"IF($I$43=24,ROUND($I$12,0),\"\")&\"\"","v":""},{"$f":"IF($J$43=24,ROUND($J$12,0),\"\")&\"\"","v":""},{"$f":"IF($K$43=24,ROUND($K$12,0),\"\")&\"\"","v":""},{"$f":"IF($L$43=24,ROUND($L$12,0),\"\")&\"\"","v":""},{"$f":"IF($M$43=24,ROUND($M$12,0),\"\")&\"\"","v":""},{"$f":"IF($N$43=24,ROUND($N$12,0),\"\")&\"\"","v":""},{"$f":"IF($O$43=24,ROUND($O$12,0),\"\")&\"\"","v":""},{"$f":"IF($P$43=24,ROUND($P$12,0),\"\")&\"\"","v":""},{"$f":"IF($Q$43=24,ROUND($Q$12,0),\"\")&\"\"","v":""},{"$f":"IF($R$43=24,ROUND($R$12,0),\"\")&\"\"","v":""},{"$f":"IF($S$43=24,ROUND($S$12,0),\"\")&\"\"","v":""},{"$f":"IF($T$43=24,ROUND($T$12,0),\"\")&\"\"","v":""},{"$f":"IF($U$43=24,ROUND($U$12,0),\"\")&\"\"","v":""},{"$f":"IF($V$43=24,ROUND($V$12,0),\"\")&\"\"","v":""},{"$f":"IF($W$43=24,ROUND($W$12,0),\"\")&\"\"","v":""},{"$f":"IF($X$43=24,ROUND($X$12,0),\"\")&\"\"","v":""},{"$f":"IF($Y$43=24,ROUND($Y$12,0),\"\")&\"\"","v":""},{"$f":"IF($Z$43=24,ROUND($Z$12,0),\"\")&\"\"","v":""},{"$f":"IF($AA$43=24,ROUND($AA$12,0),\"\")&\"\"","v":""},4]
[null,null,5,{"$f":"IF($D$44=24,ROUND($D$13,0),\"\")&\"\"","v":""},{"$f":"IF($E$44=24,ROUND($E$13,0),\"\")&\"\"","v":""},{"$f":"IF($F$44=24,ROUND($F$13,0),\"\")&\"\"","v":""},{"$f":"IF($G$44=24,ROUND($G$13,0),\"\")&\"\"","v":""},{"$f":"IF($H$44=24,ROUND($H$13,0),\"\")&\"\"","v":""},{"$f":"IF($I$44=24,ROUND($I$13,0),\"\")&\"\"","v":""},{"$f":"IF($J$44=24,ROUND($J$13,0),\"\")&\"\"","v":""},{"$f":"IF($K$44=24,ROUND($K$13,0),\"\")&\"\"","v":""},{"$f":"IF($L$44=24,ROUND($L$13,0),\"\")&\"\"","v":""},{"$f":"IF($M$44=24,ROUND($M$13,0),\"\")&\"\"","v":""},{"$f":"IF($N$44=24,ROUND($N$13,0),\"\")&\"\"","v":""},{"$f":"IF($O$44=24,ROUND($O$13,0),\"\")&\"\"","v":""},{"$f":"IF($P$44=24,ROUND($P$13,0),\"\")&\"\"","v":""},{"$f":"IF($Q$44=24,ROUND($Q$13,0),\"\")&\"\"","v":""},{"$f":"IF($R$44=24,ROUND($R$13,0),\"\")&\"\"","v":""},{"$f":"IF($S$44=24,ROUND($S$13,0),\"\")&\"\"","v":""},{"$f":"IF($T$44=24,ROUND($T$13,0),\"\")&\"\"","v":""},{"$f":"IF($U$44=24,ROUND($U$13,0),\"\")&\"\"","v":""},{"$f":"IF($V$44=24,ROUND($V$13,0),\"\")&\"\"","v":""},{"$f":"IF($W$44=24,ROUND($W$13,0),\"\")&\"\"","v":""},{"$f":"IF($X$44=24,ROUND($X$13,0),\"\")&\"\"","v":""},{"$f":"IF($Y$44=24,ROUND($Y$13,0),\"\")&\"\"","v":""},{"$f":"IF($Z$44=24,ROUND($Z$13,0),\"\")&\"\"","v":""},{"$f":"IF($AA$44=24,ROUND($AA$13,0),\"\")&\"\"","v":""},5]
[null,null,6,{"$f":"IF($D$45=24,ROUND($D$14,0),\"\")&\"\"","v":""},{"$f":"IF($E$45=24,ROUND($E$14,0),\"\")&\"\"","v":""},{"$f":"IF($F$45=24,ROUND($F$14,0),\"\")&\"\"","v":""},{"$f":"IF($G$45=24,ROUND($G$14,0),\"\")&\"\"","v":""},{"$f":"IF($H$45=24,ROUND($H$14,0),\"\")&\"\"","v":""},{"$f":"IF($I$45=24,ROUND($I$14,0),\"\")&\"\"","v":""},{"$f":"IF($J$45=24,ROUND($J$14,0),\"\")&\"\"","v":""},{"$f":"IF($K$45=24,ROUND($K$14,0),\"\")&\"\"","v":""},{"$f":"IF($L$45=24,ROUND($L$14,0),\"\")&\"\"","v":""},{"$f":"IF($M$45=24,ROUND($M$14,0),\"\")&\"\"","v":""},{"$f":"IF($N$45=24,ROUND($N$14,0),\"\")&\"\"","v":""},{"$f":"IF($O$45=24,ROUND($O$14,0),\"\")&\"\"","v":""},{"$f":"IF($P$45=24,ROUND($P$14,0),\"\")&\"\"","v":""},{"$f":"IF($Q$45=24,ROUND($Q$14,0),\"\")&\"\"","v":""},{"$f":"IF($R$45=24,ROUND($R$14,0),\"\")&\"\"","v":""},{"$f":"IF($S$45=24,ROUND($S$14,0),\"\")&\"\"","v":""},{"$f":"IF($T$45=24,ROUND($T$14,0),\"\")&\"\"","v":""},{"$f":"IF($U$45=24,ROUND($U$14,0),\"\")&\"\"","v":""},{"$f":"IF($V$45=24,ROUND($V$14,0),\"\")&\"\"","v":""},{"$f":"IF($W$45=24,ROUND($W$14,0),\"\")&\"\"","v":""},{"$f":"IF($X$45=24,ROUND($X$14,0),\"\")&\"\"","v":""},{"$f":"IF($Y$45=24,ROUND($Y$14,0),\"\")&\"\"","v":""},{"$f":"IF($Z$45=24,ROUND($Z$14,0),\"\")&\"\"","v":""},{"$f":"IF($AA$45=24,ROUND($AA$14,0),\"\")&\"\"","v":""},6]
[null,null,7,{"$f":"IF($D$46=24,ROUND($D$15,0),\"\")&\"\"","v":""},{"$f":"IF($E$46=24,ROUND($E$15,0),\"\")&\"\"","v":""},{"$f":"IF($F$46=24,ROUND($F$15,0),\"\")&\"\"","v":""},{"$f":"IF($G$46=24,ROUND($G$15,0),\"\")&\"\"","v":""},{"$f":"IF($H$46=24,ROUND($H$15,0),\"\")&\"\"","v":""},{"$f":"IF($I$46=24,ROUND($I$15,0),\"\")&\"\"","v":""},{"$f":"IF($J$46=24,ROUND($J$15,0),\"\")&\"\"","v":""},{"$f":"IF($K$46=24,ROUND($K$15,0),\"\")&\"\"","v":""},{"$f":"IF($L$46=24,ROUND($L$15,0),\"\")&\"\"","v":""},{"$f":"IF($M$46=24,ROUND($M$15,0),\"\")&\"\"","v":""},{"$f":"IF($N$46=24,ROUND($N$15,0),\"\")&\"\"","v":""},{"$f":"IF($O$46=24,ROUND($O$15,0),\"\")&\"\"","v":""},{"$f":"IF($P$46=24,ROUND($P$15,0),\"\")&\"\"","v":""},{"$f":"IF($Q$46=24,ROUND($Q$15,0),\"\")&\"\"","v":""},{"$f":"IF($R$46=24,ROUND($R$15,0),\"\")&\"\"","v":""},{"$f":"IF($S$46=24,ROUND($S$15,0),\"\")&\"\"","v":""},{"$f":"IF($T$46=24,ROUND($T$15,0),\"\")&\"\"","v":""},{"$f":"IF($U$46=24,ROUND($U$15,0),\"\")&\"\"","v":""},{"$f":"IF($V$46=24,ROUND($V$15,0),\"\")&\"\"","v":""},{"$f":"IF($W$46=24,ROUND($W$15,0),\"\")&\"\"","v":""},{"$f":"IF($X$46=24,ROUND($X$15,0),\"\")&\"\"","v":""},{"$f":"IF($Y$46=24,ROUND($Y$15,0),\"\")&\"\"","v":""},{"$f":"IF($Z$46=24,ROUND($Z$15,0),\"\")&\"\"","v":""},{"$f":"IF($AA$46=24,ROUND($AA$15,0),\"\")&\"\"","v":""},7]
[null,null,8,{"$f":"IF($D$47=24,ROUND($D$16,0),\"\")&\"\"","v":""},{"$f":"IF($E$47=24,ROUND($E$16,0),\"\")&\"\"","v":""},{"$f":"IF($F$47=24,ROUND($F$16,0),\"\")&\"\"","v":""},{"$f":"IF($G$47=24,ROUND($G$16,0),\"\")&\"\"","v":""},{"$f":"IF($H$47=24,ROUND($H$16,0),\"\")&\"\"","v":""},{"$f":"IF($I$47=24,ROUND($I$16,0),\"\")&\"\"","v":""},{"$f":"IF($J$47=24,ROUND($J$16,0),\"\")&\"\"","v":""},{"$f":"IF($K$47=24,ROUND($K$16,0),\"\")&\"\"","v":""},{"$f":"IF($L$47=24,ROUND($L$16,0),\"\")&\"\"","v":""},{"$f":"IF($M$47=24,ROUND($M$16,0),\"\")&\"\"","v":""},{"$f":"IF($N$47=24,ROUND($N$16,0),\"\")&\"\"","v":""},{"$f":"IF($O$47=24,ROUND($O$16,0),\"\")&\"\"","v":""},{"$f":"IF($P$47=24,ROUND($P$16,0),\"\")&\"\"","v":""},{"$f":"IF($Q$47=24,ROUND($Q$16,0),\"\")&\"\"","v":""},{"$f":"IF($R$47=24,ROUND($R$16,0),\"\")&\"\"","v":""},{"$f":"IF($S$47=24,ROUND($S$16,0),\"\")&\"\"","v":""},{"$f":"IF($T$47=24,ROUND($T$16,0),\"\")&\"\"","v":""},{"$f":"IF($U$47=24,ROUND($U$16,0),\"\")&\"\"","v":""},{"$f":"IF($V$47=24,ROUND($V$16,0),\"\")&\"\"","v":""},{"$f":"IF($W$47=24,ROUND($W$16,0),\"\")&\"\"","v":""},{"$f":"IF($X$47=24,ROUND($X$16,0),\"\")&\"\"","v":""},{"$f":"IF($Y$47=24,ROUND($Y$16,0),\"\")&\"\"","v":""},{"$f":"IF($Z$47=24,ROUND($Z$16,0),\"\")&\"\"","v":""},{"$f":"IF($AA$47=24,ROUND($AA$16,0),\"\")&\"\"","v":""},8]
[null,null,9,{"$f":"IF($D$48=24,ROUND($D$17,0),\"\")&\"\"","v":""},{"$f":"IF($E$48=24,ROUND($E$17,0),\"\")&\"\"","v":""},{"$f":"IF($F$48=24,ROUND($F$17,0),\"\")&\"\"","v":""},{"$f":"IF($G$48=24,ROUND($G$17,0),\"\")&\"\"","v":""},{"$f":"IF($H$48=24,ROUND($H$17,0),\"\")&\"\"","v":""},{"$f":"IF($I$48=24,ROUND($I$17,0),\"\")&\"\"","v":""},{"$f":"IF($J$48=24,ROUND($J$17,0),\"\")&\"\"","v":""},{"$f":"IF($K$48=24,ROUND($K$17,0),\"\")&\"\"","v":""},{"$f":"IF($L$48=24,ROUND($L$17,0),\"\")&\"\"","v":""},{"$f":"IF($M$48=24,ROUND($M$17,0),\"\")&\"\"","v":""},{"$f":"IF($N$48=24,ROUND($N$17,0),\"\")&\"\"","v":""},{"$f":"IF($O$48=24,ROUND($O$17,0),\"\")&\"\"","v":""},{"$f":"IF($P$48=24,ROUND($P$17,0),\"\")&\"\"","v":""},{"$f":"IF($Q$48=24,ROUND($Q$17,0),\"\")&\"\"","v":""},{"$f":"IF($R$48=24,ROUND($R$17,0),\"\")&\"\"","v":""},{"$f":"IF($S$48=24,ROUND($S$17,0),\"\")&\"\"","v":""},{"$f":"IF($T$48=24,ROUND($T$17,0),\"\")&\"\"","v":""},{"$f":"IF($U$48=24,ROUND($U$17,0),\"\")&\"\"","v":""},{"$f":"IF($V$48=24,ROUND($V$17,0),\"\")&\"\"","v":""},{"$f":"IF($W$48=24,ROUND($W$17,0),\"\")&\"\"","v":""},{"$f":"IF($X$48=24,ROUND($X$17,0),\"\")&\"\"","v":""},{"$f":"IF($Y$48=24,ROUND($Y$17,0),\"\")&\"\"","v":""},{"$f":"IF($Z$48=24,ROUND($Z$17,0),\"\")&\"\"","v":""},{"$f":"IF($AA$48=24,ROUND($AA$17,0),\"\")&\"\"","v":""},9]
[null,null,10,{"$f":"IF($D$49=24,ROUND($D$18,0),\"\")&\"\"","v":""},{"$f":"IF($E$49=24,ROUND($E$18,0),\"\")&\"\"","v":""},{"$f":"IF($F$49=24,ROUND($F$18,0),\"\")&\"\"","v":""},{"$f":"IF($G$49=24,ROUND($G$18,0),\"\")&\"\"","v":""},{"$f":"IF($H$49=24,ROUND($H$18,0),\"\")&\"\"","v":""},{"$f":"IF($I$49=24,ROUND($I$18,0),\"\")&\"\"","v":""},{"$f":"IF($J$49=24,ROUND($J$18,0),\"\")&\"\"","v":""},{"$f":"IF($K$49=24,ROUND($K$18,0),\"\")&\"\"","v":""},{"$f":"IF($L$49=24,ROUND($L$18,0),\"\")&\"\"","v":""},{"$f":"IF($M$49=24,ROUND($M$18,0),\"\")&\"\"","v":""},{"$f":"IF($N$49=24,ROUND($N$18,0),\"\")&\"\"","v":""},{"$f":"IF($O$49=24,ROUND($O$18,0),\"\")&\"\"","v":""},{"$f":"IF($P$49=24,ROUND($P$18,0),\"\")&\"\"","v":""},{"$f":"IF($Q$49=24,ROUND($Q$18,0),\"\")&\"\"","v":""},{"$f":"IF($R$49=24,ROUND($R$18,0),\"\")&\"\"","v":""},{"$f":"IF($S$49=24,ROUND($S$18,0),\"\")&\"\"","v":""},{"$f":"IF($T$49=24,ROUND($T$18,0),\"\")&\"\"","v":""},{"$f":"IF($U$49=24,ROUND($U$18,0),\"\")&\"\"","v":""},{"$f":"IF($V$49=24,ROUND($V$18,0),\"\")&\"\"","v":""},{"$f":"IF($W$49=24,ROUND($W$18,0),\"\")&\"\"","v":""},{"$f":"IF($X$49=24,ROUND($X$18,0),\"\")&\"\"","v":""},{"$f":"IF($Y$49=24,ROUND($Y$18,0),\"\")&\"\"","v":""},{"$f":"IF($Z$49=24,ROUND($Z$18,0),\"\")&\"\"","v":""},{"$f":"IF($AA$49=24,ROUND($AA$18,0),\"\")&\"\"","v":""},10]
[null,null,11,{"$f":"IF($D$50=24,ROUND($D$19,0),\"\")&\"\"","v":""},{"$f":"IF($E$50=24,ROUND($E$19,0),\"\")&\"\"","v":""},{"$f":"IF($F$50=24,ROUND($F$19,0),\"\")&\"\"","v":""},{"$f":"IF($G$50=24,ROUND($G$19,0),\"\")&\"\"","v":""},{"$f":"IF($H$50=24,ROUND($H$19,0),\"\")&\"\"","v":""},{"$f":"IF($I$50=24,ROUND($I$19,0),\"\")&\"\"","v":""},{"$f":"IF($J$50=24,ROUND($J$19,0),\"\")&\"\"","v":""},{"$f":"IF($K$50=24,ROUND($K$19,0),\"\")&\"\"","v":""},{"$f":"IF($L$50=24,ROUND($L$19,0),\"\")&\"\"","v":""},{"$f":"IF($M$50=24,ROUND($M$19,0),\"\")&\"\"","v":""},{"$f":"IF($N$50=24,ROUND($N$19,0),\"\")&\"\"","v":""},{"$f":"IF($O$50=24,ROUND($O$19,0),\"\")&\"\"","v":""},{"$f":"IF($P$50=24,ROUND($P$19,0),\"\")&\"\"","v":""},{"$f":"IF($Q$50=24,ROUND($Q$19,0),\"\")&\"\"","v":""},{"$f":"IF($R$50=24,ROUND($R$19,0),\"\")&\"\"","v":""},{"$f":"IF($S$50=24,ROUND($S$19,0),\"\")&\"\"","v":""},{"$f":"IF($T$50=24,ROUND($T$19,0),\"\")&\"\"","v":""},{"$f":"IF($U$50=24,ROUND($U$19,0),\"\")&\"\"","v":""},{"$f":"IF($V$50=24,ROUND($V$19,0),\"\")&\"\"","v":""},{"$f":"IF($W$50=24,ROUND($W$19,0),\"\")&\"\"","v":""},{"$f":"IF($X$50=24,ROUND($X$19,0),\"\")&\"\"","v":""},{"$f":"IF($Y$50=24,ROUND($Y$19,0),\"\")&\"\"","v":""},{"$f":"IF($Z$50=24,ROUND($Z$19,0),\"\")&\"\"","v":""},{"$f":"IF($AA$50=24,ROUND($AA$19,0),\"\")&\"\"","v":""},11]
[null,null,12,{"$f":"IF($D$51=24,ROUND($D$20,0),\"\")&\"\"","v":""},{"$f":"IF($E$51=24,ROUND($E$20,0),\"\")&\"\"","v":""},{"$f":"IF($F$51=24,ROUND($F$20,0),\"\")&\"\"","v":""},{"$f":"IF($G$51=24,ROUND($G$20,0),\"\")&\"\"","v":""},{"$f":"IF($H$51=24,ROUND($H$20,0),\"\")&\"\"","v":""},{"$f":"IF($I$51=24,ROUND($I$20,0),\"\")&\"\"","v":""},{"$f":"IF($J$51=24,ROUND($J$20,0),\"\")&\"\"","v":""},{"$f":"IF($K$51=24,ROUND($K$20,0),\"\")&\"\"","v":""},{"$f":"IF($L$51=24,ROUND($L$20,0),\"\")&\"\"","v":""},{"$f":"IF($M$51=24,ROUND($M$20,0),\"\")&\"\"","v":""},{"$f":"IF($N$51=24,ROUND($N$20,0),\"\")&\"\"","v":""},{"$f":"IF($O$51=24,ROUND($O$20,0),\"\")&\"\"","v":""},{"$f":"IF($P$51=24,ROUND($P$20,0),\"\")&\"\"","v":""},{"$f":"IF($Q$51=24,ROUND($Q$20,0),\"\")&\"\"","v":""},{"$f":"IF($R$51=24,ROUND($R$20,0),\"\")&\"\"","v":""},{"$f":"IF($S$51=24,ROUND($S$20,0),\"\")&\"\"","v":""},{"$f":"IF($T$51=24,ROUND($T$20,0),\"\")&\"\"","v":""},{"$f":"IF($U$51=24,ROUND($U$20,0),\"\")&\"\"","v":""},{"$f":"IF($V$51=24,ROUND($V$20,0),\"\")&\"\"","v":""},{"$f":"IF($W$51=24,ROUND($W$20,0),\"\")&\"\"","v":""},{"$f":"IF($X$51=24,ROUND($X$20,0),\"\")&\"\"","v":""},{"$f":"IF($Y$51=24,ROUND($Y$20,0),\"\")&\"\"","v":""},{"$f":"IF($Z$51=24,ROUND($Z$20,0),\"\")&\"\"","v":""},{"$f":"IF($AA$51=24,ROUND($AA$20,0),\"\")&\"\"","v":""},12]
[null,null,1,{"$f":"IF($D$52=24,ROUND($D$21,0),\"\")&\"\"","v":""},{"$f":"IF($E$52=24,ROUND($E$21,0),\"\")&\"\"","v":""},{"$f":"IF($F$52=24,ROUND($F$21,0),\"\")&\"\"","v":""},{"$f":"IF($G$52=24,ROUND($G$21,0),\"\")&\"\"","v":""},{"$f":"IF($H$52=24,ROUND($H$21,0),\"\")&\"\"","v":""},{"$f":"IF($I$52=24,ROUND($I$21,0),\"\")&\"\"","v":""},{"$f":"IF($J$52=24,ROUND($J$21,0),\"\")&\"\"","v":""},{"$f":"IF($K$52=24,ROUND($K$21,0),\"\")&\"\"","v":""},{"$f":"IF($L$52=24,ROUND($L$21,0),\"\")&\"\"","v":""},{"$f":"IF($M$52=24,ROUND($M$21,0),\"\")&\"\"","v":""},{"$f":"IF($N$52=24,ROUND($N$21,0),\"\")&\"\"","v":""},{"$f":"IF($O$52=24,ROUND($O$21,0),\"\")&\"\"","v":""},{"$f":"IF($P$52=24,ROUND($P$21,0),\"\")&\"\"","v":""},{"$f":"IF($Q$52=24,ROUND($Q$21,0),\"\")&\"\"","v":""},{"$f":"IF($R$52=24,ROUND($R$21,0),\"\")&\"\"","v":""},{"$f":"IF($S$52=24,ROUND($S$21,0),\"\")&\"\"","v":""},{"$f":"IF($T$52=24,ROUND($T$21,0),\"\")&\"\"","v":""},{"$f":"IF($U$52=24,ROUND($U$21,0),\"\")&\"\"","v":""},{"$f":"IF($V$52=24,ROUND($V$21,0),\"\")&\"\"","v":""},{"$f":"IF($W$52=24,ROUND($W$21,0),\"\")&\"\"","v":""},{"$f":"IF($X$52=24,ROUND($X$21,0),\"\")&\"\"","v":""},{"$f":"IF($Y$52=24,ROUND($Y$21,0),\"\")&\"\"","v":""},{"$f":"IF($Z$52=24,ROUND($Z$21,0),\"\")&\"\"","v":""},{"$f":"IF($AA$52=24,ROUND($AA$21,0),\"\")&\"\"","v":""},1]
[null,null,2,{"$f":"IF($D$53=24,ROUND($D$22,0),\"\")&\"\"","v":""},{"$f":"IF($E$53=24,ROUND($E$22,0),\"\")&\"\"","v":""},{"$f":"IF($F$53=24,ROUND($F$22,0),\"\")&\"\"","v":""},{"$f":"IF($G$53=24,ROUND($G$22,0),\"\")&\"\"","v":""},{"$f":"IF($H$53=24,ROUND($H$22,0),\"\")&\"\"","v":""},{"$f":"IF($I$53=24,ROUND($I$22,0),\"\")&\"\"","v":""},{"$f":"IF($J$53=24,ROUND($J$22,0),\"\")&\"\"","v":""},{"$f":"IF($K$53=24,ROUND($K$22,0),\"\")&\"\"","v":""},{"$f":"IF($L$53=24,ROUND($L$22,0),\"\")&\"\"","v":""},{"$f":"IF($M$53=24,ROUND($M$22,0),\"\")&\"\"","v":""},{"$f":"IF($N$53=24,ROUND($N$22,0),\"\")&\"\"","v":""},{"$f":"IF($O$53=24,ROUND($O$22,0),\"\")&\"\"","v":""},{"$f":"IF($P$53=24,ROUND($P$22,0),\"\")&\"\"","v":""},{"$f":"IF($Q$53=24,ROUND($Q$22,0),\"\")&\"\"","v":""},{"$f":"IF($R$53=24,ROUND($R$22,0),\"\")&\"\"","v":""},{"$f":"IF($S$53=24,ROUND($S$22,0),\"\")&\"\"","v":""},{"$f":"IF($T$53=24,ROUND($T$22,0),\"\")&\"\"","v":""},{"$f":"IF($U$53=24,ROUND($U$22,0),\"\")&\"\"","v":""},{"$f":"IF($V$53=24,ROUND($V$22,0),\"\")&\"\"","v":""},{"$f":"IF($W$53=24,ROUND($W$22,0),\"\")&\"\"","v":""},{"$f":"IF($X$53=24,ROUND($X$22,0),\"\")&\"\"","v":""},{"$f":"IF($Y$53=24,ROUND($Y$22,0),\"\")&\"\"","v":""},{"$f":"IF($Z$53=24,ROUND($Z$22,0),\"\")&\"\"","v":""},{"$f":"IF($AA$53=24,ROUND($AA$22,0),\"\")&\"\"","v":""},2]
[null,null,3,{"$f":"IF($D$54=24,ROUND($D$23,0),\"\")&\"\"","v":""},{"$f":"IF($E$54=24,ROUND($E$23,0),\"\")&\"\"","v":""},{"$f":"IF($F$54=24,ROUND($F$23,0),\"\")&\"\"","v":""},{"$f":"IF($G$54=24,ROUND($G$23,0),\"\")&\"\"","v":""},{"$f":"IF($H$54=24,ROUND($H$23,0),\"\")&\"\"","v":""},{"$f":"IF($I$54=24,ROUND($I$23,0),\"\")&\"\"","v":""},{"$f":"IF($J$54=24,ROUND($J$23,0),\"\")&\"\"","v":""},{"$f":"IF($K$54=24,ROUND($K$23,0),\"\")&\"\"","v":""},{"$f":"IF($L$54=24,ROUND($L$23,0),\"\")&\"\"","v":""},{"$f":"IF($M$54=24,ROUND($M$23,0),\"\")&\"\"","v":""},{"$f":"IF($N$54=24,ROUND($N$23,0),\"\")&\"\"","v":""},{"$f":"IF($O$54=24,ROUND($O$23,0),\"\")&\"\"","v":""},{"$f":"IF($P$54=24,ROUND($P$23,0),\"\")&\"\"","v":""},{"$f":"IF($Q$54=24,ROUND($Q$23,0),\"\")&\"\"","v":""},{"$f":"IF($R$54=24,ROUND($R$23,0),\"\")&\"\"","v":""},{"$f":"IF($S$54=24,ROUND($S$23,0),\"\")&\"\"","v":""},{"$f":"IF($T$54=24,ROUND($T$23,0),\"\")&\"\"","v":""},{"$f":"IF($U$54=24,ROUND($U$23,0),\"\")&\"\"","v":""},{"$f":"IF($V$54=24,ROUND($V$23,0),\"\")&\"\"","v":""},{"$f":"IF($W$54=24,ROUND($W$23,0),\"\")&\"\"","v":""},{"$f":"IF($X$54=24,ROUND($X$23,0),\"\")&\"\"","v":""},{"$f":"IF($Y$54=24,ROUND($Y$23,0),\"\")&\"\"","v":""},{"$f":"IF($Z$54=24,ROUND($Z$23,0),\"\")&\"\"","v":""},{"$f":"IF($AA$54=24,ROUND($AA$23,0),\"\")&\"\"","v":""},3]
[]
[null,null,"作業表2-2(暖房)",null,"●月▲時の平均気温"]
[null,null,"月"," 時刻",null,null,null,null,null,null,null,null,null,null,null,null,null,null,null,null,null,null,null,null,null,null,null,"月"]
[null,null,null,0,1,2,3,4,5,6,7,8,9,10,11,12,13,14,15,16,17,18,19,20,21,22,23]
[null,null,4,{"$f":"IF($D$43=19,ROUND($D$12,0),\"\")&\"\"","v":""},{"$f":"IF($E$43=19,ROUND($E$12,0),\"\")&\"\"","v":""},{"$f":"IF($F$43=19,ROUND($F$12,0),\"\")&\"\"","v":""},{"$f":"IF($G$43=19,ROUND($G$12,0),\"\")&\"\"","v":""},{"$f":"IF($H$43=19,ROUND($H$12,0),\"\")&\"\"","v":""},{"$f":"IF($I$43=19,ROUND($I$12,0),\"\")&\"\"","v":""},{"$f":"IF($J$43=19,ROUND($J$12,0),\"\")&\"\"","v":""},{"$f":"IF($K$43=19,ROUND($K$12,0),\"\")&\"\"","v":""},{"$f":"IF($L$43=19,ROUND($L$12,0),\"\")&\"\"","v":""},{"$f":"IF($M$43=19,ROUND($M$12,0),\"\")&\"\"","v":""},{"$f":"IF($N$43=19,ROUND($N$12,0),\"\")&\"\"","v":""},{"$f":"IF($O$43=19,ROUND($O$12,0),\"\")&\"\"","v":""},{"$f":"IF($P$43=19,ROUND($P$12,0),\"\")&\"\"","v":""},{"$f":"IF($Q$43=19,ROUND($Q$12,0),\"\")&\"\"","v":""},{"$f":"IF($R$43=19,ROUND($R$12,0),\"\")&\"\"","v":""},{"$f":"IF($S$43=19,ROUND($S$12,0),\"\")&\"\"","v":""},{"$f":"IF($T$43=19,ROUND($T$12,0),\"\")&\"\"","v":""},{"$f":"IF($U$43=19,ROUND($U$12,0),\"\")&\"\"","v":""},{"$f":"IF($V$43=19,ROUND($V$12,0),\"\")&\"\"","v":""},{"$f":"IF($W$43=19,ROUND($W$12,0),\"\")&\"\"","v":""},{"$f":"IF($X$43=19,ROUND($X$12,0),\"\")&\"\"","v":""},{"$f":"IF($Y$43=19,ROUND($Y$12,0),\"\")&\"\"","v":""},{"$f":"IF($Z$43=19,ROUND($Z$12,0),\"\")&\"\"","v":""},{"$f":"IF($AA$43=19,ROUND($AA$12,0),\"\")&\"\"","v":""},4]
[null,null,5,{"$f":"IF($D$44=19,ROUND($D$13,0),\"\")&\"\"","v":""},{"$f":"IF($E$44=19,ROUND($E$13,0),\"\")&\"\"","v":""},{"$f":"IF($F$44=19,ROUND($F$13,0),\"\")&\"\"","v":""},{"$f":"IF($G$44=19,ROUND($G$13,0),\"\")&\"\"","v":""},{"$f":"IF($H$44=19,ROUND($H$13,0),\"\")&\"\"","v":""},{"$f":"IF($I$44=19,ROUND($I$13,0),\"\")&\"\"","v":""},{"$f":"IF($J$44=19,ROUND($J$13,0),\"\")&\"\"","v":""},{"$f":"IF($K$44=19,ROUND($K$13,0),\"\")&\"\"","v":""},{"$f":"IF($L$44=19,ROUND($L$13,0),\"\")&\"\"","v":""},{"$f":"IF($M$44=19,ROUND($M$13,0),\"\")&\"\"","v":""},{"$f":"IF($N$44=19,ROUND($N$13,0),\"\")&\"\"","v":""},{"$f":"IF($O$44=19,ROUND($O$13,0),\"\")&\"\"","v":""},{"$f":"IF($P$44=19,ROUND($P$13,0),\"\")&\"\"","v":""},{"$f":"IF($Q$44=19,ROUND($Q$13,0),\"\")&\"\"","v":""},{"$f":"IF($R$44=19,ROUND($R$13,0),\"\")&\"\"","v":""},{"$f":"IF($S$44=19,ROUND($S$13,0),\"\")&\"\"","v":""},{"$f":"IF($T$44=19,ROUND($T$13,0),\"\")&\"\"","v":""},{"$f":"IF($U$44=19,ROUND($U$13,0),\"\")&\"\"","v":""},{"$f":"IF($V$44=19,ROUND($V$13,0),\"\")&\"\"","v":""},{"$f":"IF($W$44=19,ROUND($W$13,0),\"\")&\"\"","v":""},{"$f":"IF($X$44=19,ROUND($X$13,0),\"\")&\"\"","v":""},{"$f":"IF($Y$44=19,ROUND($Y$13,0),\"\")&\"\"","v":""},{"$f":"IF($Z$44=19,ROUND($Z$13,0),\"\")&\"\"","v":""},{"$f":"IF($AA$44=19,ROUND($AA$13,0),\"\")&\"\"","v":""},5]
[null,null,6,{"$f":"IF($D$45=19,ROUND($D$14,0),\"\")&\"\"","v":""},{"$f":"IF($E$45=19,ROUND($E$14,0),\"\")&\"\"","v":""},{"$f":"IF($F$45=19,ROUND($F$14,0),\"\")&\"\"","v":""},{"$f":"IF($G$45=19,ROUND($G$14,0),\"\")&\"\"","v":""},{"$f":"IF($H$45=19,ROUND($H$14,0),\"\")&\"\"","v":""},{"$f":"IF($I$45=19,ROUND($I$14,0),\"\")&\"\"","v":""},{"$f":"IF($J$45=19,ROUND($J$14,0),\"\")&\"\"","v":""},{"$f":"IF($K$45=19,ROUND($K$14,0),\"\")&\"\"","v":""},{"$f":"IF($L$45=19,ROUND($L$14,0),\"\")&\"\"","v":""},{"$f":"IF($M$45=19,ROUND($M$14,0),\"\")&\"\"","v":""},{"$f":"IF($N$45=19,ROUND($N$14,0),\"\")&\"\"","v":""},{"$f":"IF($O$45=19,ROUND($O$14,0),\"\")&\"\"","v":""},{"$f":"IF($P$45=19,ROUND($P$14,0),\"\")&\"\"","v":""},{"$f":"IF($Q$45=19,ROUND($Q$14,0),\"\")&\"\"","v":""},{"$f":"IF($R$45=19,ROUND($R$14,0),\"\")&\"\"","v":""},{"$f":"IF($S$45=19,ROUND($S$14,0),\"\")&\"\"","v":""},{"$f":"IF($T$45=19,ROUND($T$14,0),\"\")&\"\"","v":""},{"$f":"IF($U$45=19,ROUND($U$14,0),\"\")&\"\"","v":""},{"$f":"IF($V$45=19,ROUND($V$14,0),\"\")&\"\"","v":""},{"$f":"IF($W$45=19,ROUND($W$14,0),\"\")&\"\"","v":""},{"$f":"IF($X$45=19,ROUND($X$14,0),\"\")&\"\"","v":""},{"$f":"IF($Y$45=19,ROUND($Y$14,0),\"\")&\"\"","v":""},{"$f":"IF($Z$45=19,ROUND($Z$14,0),\"\")&\"\"","v":""},{"$f":"IF($AA$45=19,ROUND($AA$14,0),\"\")&\"\"","v":""},6]
[null,null,7,{"$f":"IF($D$46=19,ROUND($D$15,0),\"\")&\"\"","v":""},{"$f":"IF($E$46=19,ROUND($E$15,0),\"\")&\"\"","v":""},{"$f":"IF($F$46=19,ROUND($F$15,0),\"\")&\"\"","v":""},{"$f":"IF($G$46=19,ROUND($G$15,0),\"\")&\"\"","v":""},{"$f":"IF($H$46=19,ROUND($H$15,0),\"\")&\"\"","v":""},{"$f":"IF($I$46=19,ROUND($I$15,0),\"\")&\"\"","v":""},{"$f":"IF($J$46=19,ROUND($J$15,0),\"\")&\"\"","v":""},{"$f":"IF($K$46=19,ROUND($K$15,0),\"\")&\"\"","v":""},{"$f":"IF($L$46=19,ROUND($L$15,0),\"\")&\"\"","v":""},{"$f":"IF($M$46=19,ROUND($M$15,0),\"\")&\"\"","v":""},{"$f":"IF($N$46=19,ROUND($N$15,0),\"\")&\"\"","v":""},{"$f":"IF($O$46=19,ROUND($O$15,0),\"\")&\"\"","v":""},{"$f":"IF($P$46=19,ROUND($P$15,0),\"\")&\"\"","v":""},{"$f":"IF($Q$46=19,ROUND($Q$15,0),\"\")&\"\"","v":""},{"$f":"IF($R$46=19,ROUND($R$15,0),\"\")&\"\"","v":""},{"$f":"IF($S$46=19,ROUND($S$15,0),\"\")&\"\"","v":""},{"$f":"IF($T$46=19,ROUND($T$15,0),\"\")&\"\"","v":""},{"$f":"IF($U$46=19,ROUND($U$15,0),\"\")&\"\"","v":""},{"$f":"IF($V$46=19,ROUND($V$15,0),\"\")&\"\"","v":""},{"$f":"IF($W$46=19,ROUND($W$15,0),\"\")&\"\"","v":""},{"$f":"IF($X$46=19,ROUND($X$15,0),\"\")&\"\"","v":""},{"$f":"IF($Y$46=19,ROUND($Y$15,0),\"\")&\"\"","v":""},{"$f":"IF($Z$46=19,ROUND($Z$15,0),\"\")&\"\"","v":""},{"$f":"IF($AA$46=19,ROUND($AA$15,0),\"\")&\"\"","v":""},7]
[null,null,8,{"$f":"IF($D$47=19,ROUND($D$16,0),\"\")&\"\"","v":""},{"$f":"IF($E$47=19,ROUND($E$16,0),\"\")&\"\"","v":""},{"$f":"IF($F$47=19,ROUND($F$16,0),\"\")&\"\"","v":""},{"$f":"IF($G$47=19,ROUND($G$16,0),\"\")&\"\"","v":""},{"$f":"IF($H$47=19,ROUND($H$16,0),\"\")&\"\"","v":""},{"$f":"IF($I$47=19,ROUND($I$16,0),\"\")&\"\"","v":""},{"$f":"IF($J$47=19,ROUND($J$16,0),\"\")&\"\"","v":""},{"$f":"IF($K$47=19,ROUND($K$16,0),\"\")&\"\"","v":""},{"$f":"IF($L$47=19,ROUND($L$16,0),\"\")&\"\"","v":""},{"$f":"IF($M$47=19,ROUND($M$16,0),\"\")&\"\"","v":""},{"$f":"IF($N$47=19,ROUND($N$16,0),\"\")&\"\"","v":""},{"$f":"IF($O$47=19,ROUND($O$16,0),\"\")&\"\"","v":""},{"$f":"IF($P$47=19,ROUND($P$16,0),\"\")&\"\"","v":""},{"$f":"IF($Q$47=19,ROUND($Q$16,0),\"\")&\"\"","v":""},{"$f":"IF($R$47=19,ROUND($R$16,0),\"\")&\"\"","v":""},{"$f":"IF($S$47=19,ROUND($S$16,0),\"\")&\"\"","v":""},{"$f":"IF($T$47=19,ROUND($T$16,0),\"\")&\"\"","v":""},{"$f":"IF($U$47=19,ROUND($U$16,0),\"\")&\"\"","v":""},{"$f":"IF($V$47=19,ROUND($V$16,0),\"\")&\"\"","v":""},{"$f":"IF($W$47=19,ROUND($W$16,0),\"\")&\"\"","v":""},{"$f":"IF($X$47=19,ROUND($X$16,0),\"\")&\"\"","v":""},{"$f":"IF($Y$47=19,ROUND($Y$16,0),\"\")&\"\"","v":""},{"$f":"IF($Z$47=19,ROUND($Z$16,0),\"\")&\"\"","v":""},{"$f":"IF($AA$47=19,ROUND($AA$16,0),\"\")&\"\"","v":""},8]
[null,null,9,{"$f":"IF($D$48=19,ROUND($D$17,0),\"\")&\"\"","v":""},{"$f":"IF($E$48=19,ROUND($E$17,0),\"\")&\"\"","v":""},{"$f":"IF($F$48=19,ROUND($F$17,0),\"\")&\"\"","v":""},{"$f":"IF($G$48=19,ROUND($G$17,0),\"\")&\"\"","v":""},{"$f":"IF($H$48=19,ROUND($H$17,0),\"\")&\"\"","v":""},{"$f":"IF($I$48=19,ROUND($I$17,0),\"\")&\"\"","v":""},{"$f":"IF($J$48=19,ROUND($J$17,0),\"\")&\"\"","v":""},{"$f":"IF($K$48=19,ROUND($K$17,0),\"\")&\"\"","v":""},{"$f":"IF($L$48=19,ROUND($L$17,0),\"\")&\"\"","v":""},{"$f":"IF($M$48=19,ROUND($M$17,0),\"\")&\"\"","v":""},{"$f":"IF($N$48=19,ROUND($N$17,0),\"\")&\"\"","v":""},{"$f":"IF($O$48=19,ROUND($O$17,0),\"\")&\"\"","v":""},{"$f":"IF($P$48=19,ROUND($P$17,0),\"\")&\"\"","v":""},{"$f":"IF($Q$48=19,ROUND($Q$17,0),\"\")&\"\"","v":""},{"$f":"IF($R$48=19,ROUND($R$17,0),\"\")&\"\"","v":""},{"$f":"IF($S$48=19,ROUND($S$17,0),\"\")&\"\"","v":""},{"$f":"IF($T$48=19,ROUND($T$17,0),\"\")&\"\"","v":""},{"$f":"IF($U$48=19,ROUND($U$17,0),\"\")&\"\"","v":""},{"$f":"IF($V$48=19,ROUND($V$17,0),\"\")&\"\"","v":""},{"$f":"IF($W$48=19,ROUND($W$17,0),\"\")&\"\"","v":""},{"$f":"IF($X$48=19,ROUND($X$17,0),\"\")&\"\"","v":""},{"$f":"IF($Y$48=19,ROUND($Y$17,0),\"\")&\"\"","v":""},{"$f":"IF($Z$48=19,ROUND($Z$17,0),\"\")&\"\"","v":""},{"$f":"IF($AA$48=19,ROUND($AA$17,0),\"\")&\"\"","v":""},9]
[null,null,10,{"$f":"IF($D$49=19,ROUND($D$18,0),\"\")&\"\"","v":""},{"$f":"IF($E$49=19,ROUND($E$18,0),\"\")&\"\"","v":""},{"$f":"IF($F$49=19,ROUND($F$18,0),\"\")&\"\"","v":""},{"$f":"IF($G$49=19,ROUND($G$18,0),\"\")&\"\"","v":""},{"$f":"IF($H$49=19,ROUND($H$18,0),\"\")&\"\"","v":""},{"$f":"IF($I$49=19,ROUND($I$18,0),\"\")&\"\"","v":""},{"$f":"IF($J$49=19,ROUND($J$18,0),\"\")&\"\"","v":""},{"$f":"IF($K$49=19,ROUND($K$18,0),\"\")&\"\"","v":""},{"$f":"IF($L$49=19,ROUND($L$18,0),\"\")&\"\"","v":""},{"$f":"IF($M$49=19,ROUND($M$18,0),\"\")&\"\"","v":""},{"$f":"IF($N$49=19,ROUND($N$18,0),\"\")&\"\"","v":""},{"$f":"IF($O$49=19,ROUND($O$18,0),\"\")&\"\"","v":""},{"$f":"IF($P$49=19,ROUND($P$18,0),\"\")&\"\"","v":""},{"$f":"IF($Q$49=19,ROUND($Q$18,0),\"\")&\"\"","v":""},{"$f":"IF($R$49=19,ROUND($R$18,0),\"\")&\"\"","v":""},{"$f":"IF($S$49=19,ROUND($S$18,0),\"\")&\"\"","v":""},{"$f":"IF($T$49=19,ROUND($T$18,0),\"\")&\"\"","v":""},{"$f":"IF($U$49=19,ROUND($U$18,0),\"\")&\"\"","v":""},{"$f":"IF($V$49=19,ROUND($V$18,0),\"\")&\"\"","v":""},{"$f":"IF($W$49=19,ROUND($W$18,0),\"\")&\"\"","v":""},{"$f":"IF($X$49=19,ROUND($X$18,0),\"\")&\"\"","v":""},{"$f":"IF($Y$49=19,ROUND($Y$18,0),\"\")&\"\"","v":""},{"$f":"IF($Z$49=19,ROUND($Z$18,0),\"\")&\"\"","v":""},{"$f":"IF($AA$49=19,ROUND($AA$18,0),\"\")&\"\"","v":""},10]
[null,null,11,{"$f":"IF($D$50=19,ROUND($D$19,0),\"\")&\"\"","v":""},{"$f":"IF($E$50=19,ROUND($E$19,0),\"\")&\"\"","v":""},{"$f":"IF($F$50=19,ROUND($F$19,0),\"\")&\"\"","v":""},{"$f":"IF($G$50=19,ROUND($G$19,0),\"\")&\"\"","v":""},{"$f":"IF($H$50=19,ROUND($H$19,0),\"\")&\"\"","v":""},{"$f":"IF($I$50=19,ROUND($I$19,0),\"\")&\"\"","v":""},{"$f":"IF($J$50=19,ROUND($J$19,0),\"\")&\"\"","v":""},{"$f":"IF($K$50=19,ROUND($K$19,0),\"\")&\"\"","v":""},{"$f":"IF($L$50=19,ROUND($L$19,0),\"\")&\"\"","v":""},{"$f":"IF($M$50=19,ROUND($M$19,0),\"\")&\"\"","v":""},{"$f":"IF($N$50=19,ROUND($N$19,0),\"\")&\"\"","v":""},{"$f":"IF($O$50=19,ROUND($O$19,0),\"\")&\"\"","v":""},{"$f":"IF($P$50=19,ROUND($P$19,0),\"\")&\"\"","v":""},{"$f":"IF($Q$50=19,ROUND($Q$19,0),\"\")&\"\"","v":""},{"$f":"IF($R$50=19,ROUND($R$19,0),\"\")&\"\"","v":""},{"$f":"IF($S$50=19,ROUND($S$19,0),\"\")&\"\"","v":""},{"$f":"IF($T$50=19,ROUND($T$19,0),\"\")&\"\"","v":""},{"$f":"IF($U$50=19,ROUND($U$19,0),\"\")&\"\"","v":""},{"$f":"IF($V$50=19,ROUND($V$19,0),\"\")&\"\"","v":""},{"$f":"IF($W$50=19,ROUND($W$19,0),\"\")&\"\"","v":""},{"$f":"IF($X$50=19,ROUND($X$19,0),\"\")&\"\"","v":""},{"$f":"IF($Y$50=19,ROUND($Y$19,0),\"\")&\"\"","v":""},{"$f":"IF($Z$50=19,ROUND($Z$19,0),\"\")&\"\"","v":""},{"$f":"IF($AA$50=19,ROUND($AA$19,0),\"\")&\"\"","v":""},11]
[null,null,12,{"$f":"IF($D$51=19,ROUND($D$20,0),\"\")&\"\"","v":""},{"$f":"IF($E$51=19,ROUND($E$20,0),\"\")&\"\"","v":""},{"$f":"IF($F$51=19,ROUND($F$20,0),\"\")&\"\"","v":""},{"$f":"IF($G$51=19,ROUND($G$20,0),\"\")&\"\"","v":""},{"$f":"IF($H$51=19,ROUND($H$20,0),\"\")&\"\"","v":""},{"$f":"IF($I$51=19,ROUND($I$20,0),\"\")&\"\"","v":""},{"$f":"IF($J$51=19,ROUND($J$20,0),\"\")&\"\"","v":""},{"$f":"IF($K$51=19,ROUND($K$20,0),\"\")&\"\"","v":""},{"$f":"IF($L$51=19,ROUND($L$20,0),\"\")&\"\"","v":""},{"$f":"IF($M$51=19,ROUND($M$20,0),\"\")&\"\"","v":""},{"$f":"IF($N$51=19,ROUND($N$20,0),\"\")&\"\"","v":""},{"$f":"IF($O$51=19,ROUND($O$20,0),\"\")&\"\"","v":""},{"$f":"IF($P$51=19,ROUND($P$20,0),\"\")&\"\"","v":""},{"$f":"IF($Q$51=19,ROUND($Q$20,0),\"\")&\"\"","v":""},{"$f":"IF($R$51=19,ROUND($R$20,0),\"\")&\"\"","v":""},{"$f":"IF($S$51=19,ROUND($S$20,0),\"\")&\"\"","v":""},{"$f":"IF($T$51=19,ROUND($T$20,0),\"\")&\"\"","v":""},{"$f":"IF($U$51=19,ROUND($U$20,0),\"\")&\"\"","v":""},{"$f":"IF($V$51=19,ROUND($V$20,0),\"\")&\"\"","v":""},{"$f":"IF($W$51=19,ROUND($W$20,0),\"\")&\"\"","v":""},{"$f":"IF($X$51=19,ROUND($X$20,0),\"\")&\"\"","v":""},{"$f":"IF($Y$51=19,ROUND($Y$20,0),\"\")&\"\"","v":""},{"$f":"IF($Z$51=19,ROUND($Z$20,0),\"\")&\"\"","v":""},{"$f":"IF($AA$51=19,ROUND($AA$20,0),\"\")&\"\"","v":""},12]
[null,null,1,{"$f":"IF($D$52=19,ROUND($D$21,0),\"\")&\"\"","v":""},{"$f":"IF($E$52=19,ROUND($E$21,0),\"\")&\"\"","v":""},{"$f":"IF($F$52=19,ROUND($F$21,0),\"\")&\"\"","v":""},{"$f":"IF($G$52=19,ROUND($G$21,0),\"\")&\"\"","v":""},{"$f":"IF($H$52=19,ROUND($H$21,0),\"\")&\"\"","v":""},{"$f":"IF($I$52=19,ROUND($I$21,0),\"\")&\"\"","v":""},{"$f":"IF($J$52=19,ROUND($J$21,0),\"\")&\"\"","v":""},{"$f":"IF($K$52=19,ROUND($K$21,0),\"\")&\"\"","v":""},{"$f":"IF($L$52=19,ROUND($L$21,0),\"\")&\"\"","v":""},{"$f":"IF($M$52=19,ROUND($M$21,0),\"\")&\"\"","v":""},{"$f":"IF($N$52=19,ROUND($N$21,0),\"\")&\"\"","v":""},{"$f":"IF($O$52=19,ROUND($O$21,0),\"\")&\"\"","v":""},{"$f":"IF($P$52=19,ROUND($P$21,0),\"\")&\"\"","v":""},{"$f":"IF($Q$52=19,ROUND($Q$21,0),\"\")&\"\"","v":""},{"$f":"IF($R$52=19,ROUND($R$21,0),\"\")&\"\"","v":""},{"$f":"IF($S$52=19,ROUND($S$21,0),\"\")&\"\"","v":""},{"$f":"IF($T$52=19,ROUND($T$21,0),\"\")&\"\"","v":""},{"$f":"IF($U$52=19,ROUND($U$21,0),\"\")&\"\"","v":""},{"$f":"IF($V$52=19,ROUND($V$21,0),\"\")&\"\"","v":""},{"$f":"IF($W$52=19,ROUND($W$21,0),\"\")&\"\"","v":""},{"$f":"IF($X$52=19,ROUND($X$21,0),\"\")&\"\"","v":""},{"$f":"IF($Y$52=19,ROUND($Y$21,0),\"\")&\"\"","v":""},{"$f":"IF($Z$52=19,ROUND($Z$21,0),\"\")&\"\"","v":""},{"$f":"IF($AA$52=19,ROUND($AA$21,0),\"\")&\"\"","v":""},1]
[null,null,2,{"$f":"IF($D$53=19,ROUND($D$22,0),\"\")&\"\"","v":""},{"$f":"IF($E$53=19,ROUND($E$22,0),\"\")&\"\"","v":""},{"$f":"IF($F$53=19,ROUND($F$22,0),\"\")&\"\"","v":""},{"$f":"IF($G$53=19,ROUND($G$22,0),\"\")&\"\"","v":""},{"$f":"IF($H$53=19,ROUND($H$22,0),\"\")&\"\"","v":""},{"$f":"IF($I$53=19,ROUND($I$22,0),\"\")&\"\"","v":""},{"$f":"IF($J$53=19,ROUND($J$22,0),\"\")&\"\"","v":""},{"$f":"IF($K$53=19,ROUND($K$22,0),\"\")&\"\"","v":""},{"$f":"IF($L$53=19,ROUND($L$22,0),\"\")&\"\"","v":""},{"$f":"IF($M$53=19,ROUND($M$22,0),\"\")&\"\"","v":""},{"$f":"IF($N$53=19,ROUND($N$22,0),\"\")&\"\"","v":""},{"$f":"IF($O$53=19,ROUND($O$22,0),\"\")&\"\"","v":""},{"$f":"IF($P$53=19,ROUND($P$22,0),\"\")&\"\"","v":""},{"$f":"IF($Q$53=19,ROUND($Q$22,0),\"\")&\"\"","v":""},{"$f":"IF($R$53=19,ROUND($R$22,0),\"\")&\"\"","v":""},{"$f":"IF($S$53=19,ROUND($S$22,0),\"\")&\"\"","v":""},{"$f":"IF($T$53=19,ROUND($T$22,0),\"\")&\"\"","v":""},{"$f":"IF($U$53=19,ROUND($U$22,0),\"\")&\"\"","v":""},{"$f":"IF($V$53=19,ROUND($V$22,0),\"\")&\"\"","v":""},{"$f":"IF($W$53=19,ROUND($W$22,0),\"\")&\"\"","v":""},{"$f":"IF($X$53=19,ROUND($X$22,0),\"\")&\"\"","v":""},{"$f":"IF($Y$53=19,ROUND($Y$22,0),\"\")&\"\"","v":""},{"$f":"IF($Z$53=19,ROUND($Z$22,0),\"\")&\"\"","v":""},{"$f":"IF($AA$53=19,ROUND($AA$22,0),\"\")&\"\"","v":""},2]
[null,null,3,{"$f":"IF($D$54=19,ROUND($D$23,0),\"\")&\"\"","v":""},{"$f":"IF($E$54=19,ROUND($E$23,0),\"\")&\"\"","v":""},{"$f":"IF($F$54=19,ROUND($F$23,0),\"\")&\"\"","v":""},{"$f":"IF($G$54=19,ROUND($G$23,0),\"\")&\"\"","v":""},{"$f":"IF($H$54=19,ROUND($H$23,0),\"\")&\"\"","v":""},{"$f":"IF($I$54=19,ROUND($I$23,0),\"\")&\"\"","v":""},{"$f":"IF($J$54=19,ROUND($J$23,0),\"\")&\"\"","v":""},{"$f":"IF($K$54=19,ROUND($K$23,0),\"\")&\"\"","v":""},{"$f":"IF($L$54=19,ROUND($L$23,0),\"\")&\"\"","v":""},{"$f":"IF($M$54=19,ROUND($M$23,0),\"\")&\"\"","v":""},{"$f":"IF($N$54=19,ROUND($N$23,0),\"\")&\"\"","v":""},{"$f":"IF($O$54=19,ROUND($O$23,0),\"\")&\"\"","v":""},{"$f":"IF($P$54=19,ROUND($P$23,0),\"\")&\"\"","v":""},{"$f":"IF($Q$54=19,ROUND($Q$23,0),\"\")&\"\"","v":""},{"$f":"IF($R$54=19,ROUND($R$23,0),\"\")&\"\"","v":""},{"$f":"IF($S$54=19,ROUND($S$23,0),\"\")&\"\"","v":""},{"$f":"IF($T$54=19,ROUND($T$23,0),\"\")&\"\"","v":""},{"$f":"IF($U$54=19,ROUND($U$23,0),\"\")&\"\"","v":""},{"$f":"IF($V$54=19,ROUND($V$23,0),\"\")&\"\"","v":""},{"$f":"IF($W$54=19,ROUND($W$23,0),\"\")&\"\"","v":""},{"$f":"IF($X$54=19,ROUND($X$23,0),\"\")&\"\"","v":""},{"$f":"IF($Y$54=19,ROUND($Y$23,0),\"\")&\"\"","v":""},{"$f":"IF($Z$54=19,ROUND($Z$23,0),\"\")&\"\"","v":""},{"$f":"IF($AA$54=19,ROUND($AA$23,0),\"\")&\"\"","v":""},3]
[]
[null,null,"冷房期間中　温度(T)が発生する時間[hour]"]
[null,null,null," 温度(T)",null,null,null,null,null,null,null,null,null,null,null,null,null,null,null,null,null,null,null,null,null,null,null,null,null,null,null,null,null,null,null,null,null,null,null,null,null,null,null,null,null,null,"月単位"]
[null,null,"月",-6,-5,-4,-3,-2,-1,0,1,2,3,4,5,6,7,8,9,10,11,12,13,14,15,16,17,18,19,20,21,22,23,24,25,26,27,28,29,30,31,32,33,34,35,"月"]
[null,null,4,{"$f":"COUNTIF($D$59:$AA$59,$D$90)*$AB$12","v":0},{"$f":"COUNTIF($D$59:$AA$59,$E$90)*$AB$12","v":0},{"$f":"COUNTIF($D$59:$AA$59,$F$90)*$AB$12","v":0},{"$f":"COUNTIF($D$59:$AA$59,$G$90)*$AB$12","v":0},{"$f":"COUNTIF($D$59:$AA$59,$H$90)*$AB$12","v":0},{"$f":"COUNTIF($D$59:$AA$59,$I$90)*$AB$12","v":0},{"$f":"COUNTIF($D$59:$AA$59,$J$90)*$AB$12","v":0},{"$f":"COUNTIF($D$59:$AA$59,$K$90)*$AB$12","v":0},{"$f":"COUNTIF($D$59:$AA$59,$L$90)*$AB$12","v":0},{"$f":"COUNTIF($D$59:$AA$59,$M$90)*$AB$12","v":0},{"$f":"COUNTIF($D$59:$AA$59,$N$90)*$AB$12","v":0},{"$f":"COUNTIF($D$59:$AA$59,$O$90)*$AB$12","v":0},{"$f":"COUNTIF($D$59:$AA$59,$P$90)*$AB$12","v":0},{"$f":"COUNTIF($D$59:$AA$59,$Q$90)*$AB$12","v":0},{"$f":"COUNTIF($D$59:$AA$59,$R$90)*$AB$12","v":0},{"$f":"COUNTIF($D$59:$AA$59,$S$90)*$AB$12","v":0},{"$f":"COUNTIF($D$59:$AA$59,$T$90)*$AB$12","v":0},{"$f":"COUNTIF($D$59:$AA$59,$U$90)*$AB$12","v":0},{"$f":"COUNTIF($D$59:$AA$59,$V$90)*$AB$12","v":0},{"$f":"COUNTIF($D$59:$AA$59,$W$90)*$AB$12","v":0},{"$f":"COUNTIF($D$59:$AA$59,$X$90)*$AB$12","v":0},{"$f":"COUNTIF($D$59:$AA$59,$Y$90)*$AB$12","v":0},{"$f":"COUNTIF($D$59:$AA$59,$Z$90)*$AB$12","v":0},{"$f":"COUNTIF($D$59:$AA$59,$AA$90)*$AB$12","v":0},{"$f":"COUNTIF($D$59:$AA$59,$AB$90)*$AB$12","v":0},{"$f":"COUNTIF($D$59:$AA$59,$AC$90)*$AB$12","v":0},{"$f":"COUNTIF($D$59:$AA$59,$AD$90)*$AB$12","v":0},{"$f":"COUNTIF($D$59:$AA$59,$AE$90)*$AB$12","v":0},{"$f":"COUNTIF($D$59:$AA$59,$AF$90)*$AB$12","v":0},{"$f":"COUNTIF($D$59:$AA$59,$AG$90)*$AB$12","v":0},{"$f":"COUNTIF($D$59:$AA$59,$AH$90)*$AB$12","v":0},{"$f":"COUNTIF($D$59:$AA$59,$AI$90)*$AB$12","v":0},{"$f":"COUNTIF($D$59:$AA$59,$AJ$90)*$AB$12","v":0},{"$f":"COUNTIF($D$59:$AA$59,$AK$90)*$AB$12","v":0},{"$f":"COUNTIF($D$59:$AA$59,$AL$90)*$AB$12","v":0},{"$f":"COUNTIF($D$59:$AA$59,$AM$90)*$AB$12","v":0},{"$f":"COUNTIF($D$59:$AA$59,$AN$90)*$AB$12","v":0},{"$f":"COUNTIF($D$59:$AA$59,$AO$90)*$AB$12","v":0},{"$f":"COUNTIF($D$59:$AA$59,$AP$90)*$AB$12","v":0},{"$f":"COUNTIF($D$59:$AA$59,$AQ$90)*$AB$12","v":0},{"$f":"COUNTIF($D$59:$AA$59,$AR$90)*$AB$12","v":0},{"$f":"COUNTIF($D$59:$AA$59,$AS$90)*$AB$12","v":0},4,{"$f":"SUMPRODUCT(D91:AS91,$D$104:$AS$104)","v":0}]
[null,null,5,{"$f":"COUNTIF($D$60:$AA$60,$D$90)*$AB$13","v":0},{"$f":"COUNTIF($D$60:$AA$60,$E$90)*$AB$13","v":0},{"$f":"COUNTIF($D$60:$AA$60,$F$90)*$AB$13","v":0},{"$f":"COUNTIF($D$60:$AA$60,$G$90)*$AB$13","v":0},{"$f":"COUNTIF($D$60:$AA$60,$H$90)*$AB$13","v":0},{"$f":"COUNTIF($D$60:$AA$60,$I$90)*$AB$13","v":0},{"$f":"COUNTIF($D$60:$AA$60,$J$90)*$AB$13","v":0},{"$f":"COUNTIF($D$60:$AA$60,$K$90)*$AB$13","v":0},{"$f":"COUNTIF($D$60:$AA$60,$L$90)*$AB$13","v":0},{"$f":"COUNTIF($D$60:$AA$60,$M$90)*$AB$13","v":0},{"$f":"COUNTIF($D$60:$AA$60,$N$90)*$AB$13","v":0},{"$f":"COUNTIF($D$60:$AA$60,$O$90)*$AB$13","v":0},{"$f":"COUNTIF($D$60:$AA$60,$P$90)*$AB$13","v":0},{"$f":"COUNTIF($D$60:$AA$60,$Q$90)*$AB$13","v":0},{"$f":"COUNTIF($D$60:$AA$60,$R$90)*$AB$13","v":0},{"$f":"COUNTIF($D$60:$AA$60,$S$90)*$AB$13","v":0},{"$f":"COUNTIF($D$60:$AA$60,$T$90)*$AB$13","v":0},{"$f":"COUNTIF($D$60:$AA$60,$U$90)*$AB$13","v":0},{"$f":"COUNTIF($D$60:$AA$60,$V$90)*$AB$13","v":0},{"$f":"COUNTIF($D$60:$AA$60,$W$90)*$AB$13","v":0},{"$f":"COUNTIF($D$60:$AA$60,$X$90)*$AB$13","v":0},{"$f":"COUNTIF($D$60:$AA$60,$Y$90)*$AB$13","v":0},{"$f":"COUNTIF($D$60:$AA$60,$Z$90)*$AB$13","v":0},{"$f":"COUNTIF($D$60:$AA$60,$AA$90)*$AB$13","v":0},{"$f":"COUNTIF($D$60:$AA$60,$AB$90)*$AB$13","v":0},{"$f":"COUNTIF($D$60:$AA$60,$AC$90)*$AB$13","v":0},{"$f":"COUNTIF($D$60:$AA$60,$AD$90)*$AB$13","v":0},{"$f":"COUNTIF($D$60:$AA$60,$AE$90)*$AB$13","v":0},{"$f":"COUNTIF($D$60:$AA$60,$AF$90)*$AB$13","v":0},{"$f":"COUNTIF($D$60:$AA$60,$AG$90)*$AB$13","v":0},{"$f":"COUNTIF($D$60:$AA$60,$AH$90)*$AB$13","v":0},{"$f":"COUNTIF($D$60:$AA$60,$AI$90)*$AB$13","v":0},{"$f":"COUNTIF($D$60:$AA$60,$AJ$90)*$AB$13","v":0},{"$f":"COUNTIF($D$60:$AA$60,$AK$90)*$AB$13","v":0},{"$f":"COUNTIF($D$60:$AA$60,$AL$90)*$AB$13","v":0},{"$f":"COUNTIF($D$60:$AA$60,$AM$90)*$AB$13","v":0},{"$f":"COUNTIF($D$60:$AA$60,$AN$90)*$AB$13","v":0},{"$f":"COUNTIF($D$60:$AA$60,$AO$90)*$AB$13","v":0},{"$f":"COUNTIF($D$60:$AA$60,$AP$90)*$AB$13","v":0},{"$f":"COUNTIF($D$60:$AA$60,$AQ$90)*$AB$13","v":0},{"$f":"COUNTIF($D$60:$AA$60,$AR$90)*$AB$13","v":0},{"$f":"COUNTIF($D$60:$AA$60,$AS$90)*$AD$13","v":0},5,{"$f":"SUMPRODUCT(D92:AS92,$D$104:$AS$104)","v":0}]
[null,null,6,{"$f":"COUNTIF($D$61:$AA$61,$D$90)*$AB$14","v":0},{"$f":"COUNTIF($D$61:$AA$61,$E$90)*$AB$14","v":0},{"$f":"COUNTIF($D$61:$AA$61,$F$90)*$AB$14","v":0},{"$f":"COUNTIF($D$61:$AA$61,$G$90)*$AB$14","v":0},{"$f":"COUNTIF($D$61:$AA$61,$H$90)*$AB$14","v":0},{"$f":"COUNTIF($D$61:$AA$61,$I$90)*$AB$14","v":0},{"$f":"COUNTIF($D$61:$AA$61,$J$90)*$AB$14","v":0},{"$f":"COUNTIF($D$61:$AA$61,$K$90)*$AB$14","v":0},{"$f":"COUNTIF($D$61:$AA$61,$L$90)*$AB$14","v":0},{"$f":"COUNTIF($D$61:$AA$61,$M$90)*$AB$14","v":0},{"$f":"COUNTIF($D$61:$AA$61,$N$90)*$AB$14","v":0},{"$f":"COUNTIF($D$61:$AA$61,$O$90)*$AB$14","v":0},{"$f":"COUNTIF($D$61:$AA$61,$P$90)*$AB$14","v":0},{"$f":"COUNTIF($D$61:$AA$61,$Q$90)*$AB$14","v":0},{"$f":"COUNTIF($D$61:$AA$61,$R$90)*$AB$14","v":0},{"$f":"COUNTIF($D$61:$AA$61,$S$90)*$AB$14","v":0},{"$f":"COUNTIF($D$61:$AA$61,$T$90)*$AB$14","v":0},{"$f":"COUNTIF($D$61:$AA$61,$U$90)*$AB$14","v":0},{"$f":"COUNTIF($D$61:$AA$61,$V$90)*$AB$14","v":0},{"$f":"COUNTIF($D$61:$AA$61,$W$90)*$AB$14","v":0},{"$f":"COUNTIF($D$61:$AA$61,$X$90)*$AB$14","v":0},{"$f":"COUNTIF($D$61:$AA$61,$Y$90)*$AB$14","v":0},{"$f":"COUNTIF($D$61:$AA$61,$Z$90)*$AB$14","v":0},{"$f":"COUNTIF($D$61:$AA$61,$AA$90)*$AB$14","v":0},{"$f":"COUNTIF($D$61:$AA$61,$AB$90)*$AB$14","v":0},{"$f":"COUNTIF($D$61:$AA$61,$AC$90)*$AB$14","v":0},{"$f":"COUNTIF($D$61:$AA$61,$AD$90)*$AB$14","v":0},{"$f":"COUNTIF($D$61:$AA$61,$AE$90)*$AB$14","v":0},{"$f":"COUNTIF($D$61:$AA$61,$AF$90)*$AB$14","v":0},{"$f":"COUNTIF($D$61:$AA$61,$AG$90)*$AB$14","v":0},{"$f":"COUNTIF($D$61:$AA$61,$AH$90)*$AB$14","v":0},{"$f":"COUNTIF($D$61:$AA$61,$AI$90)*$AB$14","v":0},{"$f":"COUNTIF($D$61:$AA$61,$AJ$90)*$AB$14","v":0},{"$f":"COUNTIF($D$61:$AA$61,$AK$90)*$AB$14","v":0},{"$f":"COUNTIF($D$61:$AA$61,$AL$90)*$AB$14","v":0},{"$f":"COUNTIF($D$61:$AA$61,$AM$90)*$AB$14","v":0},{"$f":"COUNTIF($D$61:$AA$61,$AN$90)*$AB$14","v":0},{"$f":"COUNTIF($D$61:$AA$61,$AO$90)*$AB$14","v":0},{"$f":"COUNTIF($D$61:$AA$61,$AP$90)*$AB$14","v":0},{"$f":"COUNTIF($D$61:$AA$61,$AQ$90)*$AB$14","v":0},{"$f":"COUNTIF($D$61:$AA$61,$AR$90)*$AB$14","v":0},{"$f":"COUNTIF($D$61:$AA$61,$AS$90)*$AB$14","v":0},6,0]
[null,null,7,{"$f":"COUNTIF($D$62:$AA$62,$D$90)*$AB$15","v":0},{"$f":"COUNTIF($D$62:$AA$62,$E$90)*$AB$15","v":0},{"$f":"COUNTIF($D$62:$AA$62,$F$90)*$AB$15","v":0},{"$f":"COUNTIF($D$62:$AA$62,$G$90)*$AB$15","v":0},{"$f":"COUNTIF($D$62:$AA$62,$H$90)*$AB$15","v":0},{"$f":"COUNTIF($D$62:$AA$62,$I$90)*$AB$15","v":0},{"$f":"COUNTIF($D$62:$AA$62,$J$90)*$AB$15","v":0},{"$f":"COUNTIF($D$62:$AA$62,$K$90)*$AB$15","v":0},{"$f":"COUNTIF($D$62:$AA$62,$L$90)*$AB$15","v":0},{"$f":"COUNTIF($D$62:$AA$62,$M$90)*$AB$15","v":0},{"$f":"COUNTIF($D$62:$AA$62,$N$90)*$AB$15","v":0},{"$f":"COUNTIF($D$62:$AA$62,$O$90)*$AB$15","v":0},{"$f":"COUNTIF($D$62:$AA$62,$P$90)*$AB$15","v":0},{"$f":"COUNTIF($D$62:$AA$62,$Q$90)*$AB$15","v":0},{"$f":"COUNTIF($D$62:$AA$62,$R$90)*$AB$15","v":0},{"$f":"COUNTIF($D$62:$AA$62,$S$90)*$AB$15","v":0},{"$f":"COUNTIF($D$62:$AA$62,$T$90)*$AB$15","v":0},{"$f":"COUNTIF($D$62:$AA$62,$U$90)*$AB$15","v":0},{"$f":"COUNTIF($D$62:$AA$62,$V$90)*$AB$15","v":0},{"$f":"COUNTIF($D$62:$AA$62,$W$90)*$AB$15","v":0},{"$f":"COUNTIF($D$62:$AA$62,$X$90)*$AB$15","v":0},{"$f":"COUNTIF($D$62:$AA$62,$Y$90)*$AB$15","v":0},{"$f":"COUNTIF($D$62:$AA$62,$Z$90)*$AB$15","v":0},{"$f":"COUNTIF($D$62:$AA$62,$AA$90)*$AB$15","v":0},{"$f":"COUNTIF($D$62:$AA$62,$AB$90)*$AB$15","v":0},{"$f":"COUNTIF($D$62:$AA$62,$AC$90)*$AB$15","v":0},{"$f":"COUNTIF($D$62:$AA$62,$AD$90)*$AB$15","v":0},{"$f":"COUNTIF($D$62:$AA$62,$AE$90)*$AB$15","v":0},{"$f":"COUNTIF($D$62:$AA$62,$AF$90)*$AB$15","v":0},{"$f":"COUNTIF($D$62:$AA$62,$AG$90)*$AB$15","v":0},{"$f":"COUNTIF($D$62:$AA$62,$AH$90)*$AB$15","v":0},{"$f":"COUNTIF($D$62:$AA$62,$AI$90)*$AB$15","v":0},{"$f":"COUNTIF($D$62:$AA$62,$AJ$90)*$AB$15","v":0},{"$f":"COUNTIF($D$62:$AA$62,$AK$90)*$AB$15","v":0},{"$f":"COUNTIF($D$62:$AA$62,$AL$90)*$AB$15","v":0},{"$f":"COUNTIF($D$62:$AA$62,$AM$90)*$AB$15","v":0},{"$f":"COUNTIF($D$62:$AA$62,$AN$90)*$AB$15","v":0},{"$f":"COUNTIF($D$62:$AA$62,$AO$90)*$AB$15","v":0},{"$f":"COUNTIF($D$62:$AA$62,$AP$90)*$AB$15","v":0},{"$f":"COUNTIF($D$62:$AA$62,$AQ$90)*$AB$15","v":0},{"$f":"COUNTIF($D$62:$AA$62,$AR$90)*$AB$15","v":0},{"$f":"COUNTIF($D$62:$AA$62,$AS$90)*$AB$15","v":0},7,0]
[null,null,8,{"$f":"COUNTIF($D$63:$AA$63,$D$90)*$AB$16","v":0},{"$f":"COUNTIF($D$63:$AA$63,$E$90)*$AB$16","v":0},{"$f":"COUNTIF($D$63:$AA$63,$F$90)*$AB$16","v":0},{"$f":"COUNTIF($D$63:$AA$63,$G$90)*$AB$16","v":0},{"$f":"COUNTIF($D$63:$AA$63,$H$90)*$AB$16","v":0},{"$f":"COUNTIF($D$63:$AA$63,$I$90)*$AB$16","v":0},{"$f":"COUNTIF($D$63:$AA$63,$J$90)*$AB$16","v":0},{"$f":"COUNTIF($D$63:$AA$63,$K$90)*$AB$16","v":0},{"$f":"COUNTIF($D$63:$AA$63,$L$90)*$AB$16","v":0},{"$f":"COUNTIF($D$63:$AA$63,$M$90)*$AB$16","v":0},{"$f":"COUNTIF($D$63:$AA$63,$N$90)*$AB$16","v":0},{"$f":"COUNTIF($D$63:$AA$63,$O$90)*$AB$16","v":0},{"$f":"COUNTIF($D$63:$AA$63,$P$90)*$AB$16","v":0},{"$f":"COUNTIF($D$63:$AA$63,$Q$90)*$AB$16","v":0},{"$f":"COUNTIF($D$63:$AA$63,$R$90)*$AB$16","v":0},{"$f":"COUNTIF($D$63:$AA$63,$S$90)*$AB$16","v":0},{"$f":"COUNTIF($D$63:$AA$63,$T$90)*$AB$16","v":0},{"$f":"COUNTIF($D$63:$AA$63,$U$90)*$AB$16","v":0},{"$f":"COUNTIF($D$63:$AA$63,$V$90)*$AB$16","v":0},{"$f":"COUNTIF($D$63:$AA$63,$W$90)*$AB$16","v":0},{"$f":"COUNTIF($D$63:$AA$63,$X$90)*$AB$16","v":0},{"$f":"COUNTIF($D$63:$AA$63,$Y$90)*$AB$16","v":0},{"$f":"COUNTIF($D$63:$AA$63,$Z$90)*$AB$16","v":0},{"$f":"COUNTIF($D$63:$AA$63,$AA$90)*$AB$16","v":0},{"$f":"COUNTIF($D$63:$AA$63,$AB$90)*$AB$16","v":0},{"$f":"COUNTIF($D$63:$AA$63,$AC$90)*$AB$16","v":0},{"$f":"COUNTIF($D$63:$AA$63,$AD$90)*$AB$16","v":0},{"$f":"COUNTIF($D$63:$AA$63,$AE$90)*$AB$16","v":0},{"$f":"COUNTIF($D$63:$AA$63,$AF$90)*$AB$16","v":0},{"$f":"COUNTIF($D$63:$AA$63,$AG$90)*$AB$16","v":0},{"$f":"COUNTIF($D$63:$AA$63,$AH$90)*$AB$16","v":0},{"$f":"COUNTIF($D$63:$AA$63,$AI$90)*$AB$16","v":0},{"$f":"COUNTIF($D$63:$AA$63,$AJ$90)*$AB$16","v":0},{"$f":"COUNTIF($D$63:$AA$63,$AK$90)*$AB$16","v":0},{"$f":"COUNTIF($D$63:$AA$63,$AL$90)*$AB$16","v":0},{"$f":"COUNTIF($D$63:$AA$63,$AM$90)*$AB$16","v":0},{"$f":"COUNTIF($D$63:$AA$63,$AN$90)*$AB$16","v":0},{"$f":"COUNTIF($D$63:$AA$63,$AO$90)*$AB$16","v":0},{"$f":"COUNTIF($D$63:$AA$63,$AP$90)*$AB$16","v":0},{"$f":"COUNTIF($D$63:$AA$63,$AQ$90)*$AB$16","v":0},{"$f":"COUNTIF($D$63:$AA$63,$AR$90)*$AB$16","v":0},{"$f":"COUNTIF($D$63:$AA$63,$AS$90)*$AB$16","v":0},8,0]
[null,null,9,{"$f":"COUNTIF($D$64:$AA$64,$D$90)*$AB$17","v":0},{"$f":"COUNTIF($D$64:$AA$64,$E$90)*$AB$17","v":0},{"$f":"COUNTIF($D$64:$AA$64,$F$90)*$AB$17","v":0},{"$f":"COUNTIF($D$64:$AA$64,$G$90)*$AB$17","v":0},{"$f":"COUNTIF($D$64:$AA$64,$H$90)*$AB$17","v":0},{"$f":"COUNTIF($D$64:$AA$64,$I$90)*$AB$17","v":0},{"$f":"COUNTIF($D$64:$AA$64,$J$90)*$AB$17","v":0},{"$f":"COUNTIF($D$64:$AA$64,$K$90)*$AB$17","v":0},{"$f":"COUNTIF($D$64:$AA$64,$L$90)*$AB$17","v":0},{"$f":"COUNTIF($D$64:$AA$64,$M$90)*$AB$17","v":0},{"$f":"COUNTIF($D$64:$AA$64,$N$90)*$AB$17","v":0},{"$f":"COUNTIF($D$64:$AA$64,$O$90)*$AB$17","v":0},{"$f":"COUNTIF($D$64:$AA$64,$P$90)*$AB$17","v":0},{"$f":"COUNTIF($D$64:$AA$64,$Q$90)*$AB$17","v":0},{"$f":"COUNTIF($D$64:$AA$64,$R$90)*$AB$17","v":0},{"$f":"COUNTIF($D$64:$AA$64,$S$90)*$AB$17","v":0},{"$f":"COUNTIF($D$64:$AA$64,$T$90)*$AB$17","v":0},{"$f":"COUNTIF($D$64:$AA$64,$U$90)*$AB$17","v":0},{"$f":"COUNTIF($D$64:$AA$64,$V$90)*$AB$17","v":0},{"$f":"COUNTIF($D$64:$AA$64,$W$90)*$AB$17","v":0},{"$f":"COUNTIF($D$64:$AA$64,$X$90)*$AB$17","v":0},{"$f":"COUNTIF($D$64:$AA$64,$Y$90)*$AB$17","v":0},{"$f":"COUNTIF($D$64:$AA$64,$Z$90)*$AB$17","v":0},{"$f":"COUNTIF($D$64:$AA$64,$AA$90)*$AB$17","v":0},{"$f":"COUNTIF($D$64:$AA$64,$AB$90)*$AB$17","v":0},{"$f":"COUNTIF($D$64:$AA$64,$AC$90)*$AB$17","v":0},{"$f":"COUNTIF($D$64:$AA$64,$AD$90)*$AB$17","v":0},{"$f":"COUNTIF($D$64:$AA$64,$AE$90)*$AB$17","v":0},{"$f":"COUNTIF($D$64:$AA$64,$AF$90)*$AB$17","v":0},{"$f":"COUNTIF($D$64:$AA$64,$AG$90)*$AB$17","v":0},{"$f":"COUNTIF($D$64:$AA$64,$AH$90)*$AB$17","v":0},{"$f":"COUNTIF($D$64:$AA$64,$AI$90)*$AB$17","v":0},{"$f":"COUNTIF($D$64:$AA$64,$AJ$90)*$AB$17","v":0},{"$f":"COUNTIF($D$64:$AA$64,$AK$90)*$AB$17","v":0},{"$f":"COUNTIF($D$64:$AA$64,$AL$90)*$AB$17","v":0},{"$f":"COUNTIF($D$64:$AA$64,$AM$90)*$AB$17","v":0},{"$f":"COUNTIF($D$64:$AA$64,$AN$90)*$AB$17","v":0},{"$f":"COUNTIF($D$64:$AA$64,$AO$90)*$AB$17","v":0},{"$f":"COUNTIF($D$64:$AA$64,$AP$90)*$AB$17","v":0},{"$f":"COUNTIF($D$64:$AA$64,$AQ$90)*$AB$17","v":0},{"$f":"COUNTIF($D$64:$AA$64,$AR$90)*$AB$17","v":0},{"$f":"COUNTIF($D$64:$AA$64,$AS$90)*$AB$17","v":0},9,0]
[null,null,10,{"$f":"COUNTIF($D$65:$AA$65,$D$90)*$AB$18","v":0},{"$f":"COUNTIF($D$65:$AA$65,$E$90)*$AB$18","v":0},{"$f":"COUNTIF($D$65:$AA$65,$F$90)*$AB$18","v":0},{"$f":"COUNTIF($D$65:$AA$65,$G$90)*$AB$18","v":0},{"$f":"COUNTIF($D$65:$AA$65,$H$90)*$AB$18","v":0},{"$f":"COUNTIF($D$65:$AA$65,$I$90)*$AB$18","v":0},{"$f":"COUNTIF($D$65:$AA$65,$J$90)*$AB$18","v":0},{"$f":"COUNTIF($D$65:$AA$65,$K$90)*$AB$18","v":0},{"$f":"COUNTIF($D$65:$AA$65,$L$90)*$AB$18","v":0},{"$f":"COUNTIF($D$65:$AA$65,$M$90)*$AB$18","v":0},{"$f":"COUNTIF($D$65:$AA$65,$N$90)*$AB$18","v":0},{"$f":"COUNTIF($D$65:$AA$65,$O$90)*$AB$18","v":0},{"$f":"COUNTIF($D$65:$AA$65,$P$90)*$AB$18","v":0},{"$f":"COUNTIF($D$65:$AA$65,$Q$90)*$AB$18","v":0},{"$f":"COUNTIF($D$65:$AA$65,$R$90)*$AB$18","v":0},{"$f":"COUNTIF($D$65:$AA$65,$S$90)*$AB$18","v":0},{"$f":"COUNTIF($D$65:$AA$65,$T$90)*$AB$18","v":0},{"$f":"COUNTIF($D$65:$AA$65,$U$90)*$AB$18","v":0},{"$f":"COUNTIF($D$65:$AA$65,$V$90)*$AB$18","v":0},{"$f":"COUNTIF($D$65:$AA$65,$W$90)*$AB$18","v":0},{"$f":"COUNTIF($D$65:$AA$65,$X$90)*$AB$18","v":0},{"$f":"COUNTIF($D$65:$AA$65,$Y$90)*$AB$18","v":0},{"$f":"COUNTIF($D$65:$AA$65,$Z$90)*$AB$18","v":0},{"$f":"COUNTIF($D$65:$AA$65,$AA$90)*$AB$18","v":0},{"$f":"COUNTIF($D$65:$AA$65,$AB$90)*$AB$18","v":0},{"$f":"COUNTIF($D$65:$AA$65,$AC$90)*$AB$18","v":0},{"$f":"COUNTIF($D$65:$AA$65,$AD$90)*$AB$18","v":0},{"$f":"COUNTIF($D$65:$AA$65,$AE$90)*$AB$18","v":0},{"$f":"COUNTIF($D$65:$AA$65,$AF$90)*$AB$18","v":0},{"$f":"COUNTIF($D$65:$AA$65,$AG$90)*$AB$18","v":0},{"$f":"COUNTIF($D$65:$AA$65,$AH$90)*$AB$18","v":0},{"$f":"COUNTIF($D$65:$AA$65,$AI$90)*$AB$18","v":0},{"$f":"COUNTIF($D$65:$AA$65,$AJ$90)*$AB$18","v":0},{"$f":"COUNTIF($D$65:$AA$65,$AK$90)*$AB$18","v":0},{"$f":"COUNTIF($D$65:$AA$65,$AL$90)*$AB$18","v":0},{"$f":"COUNTIF($D$65:$AA$65,$AM$90)*$AB$18","v":0},{"$f":"COUNTIF($D$65:$AA$65,$AN$90)*$AB$18","v":0},{"$f":"COUNTIF($D$65:$AA$65,$AO$90)*$AB$18","v":0},{"$f":"COUNTIF($D$65:$AA$65,$AP$90)*$AB$18","v":0},{"$f":"COUNTIF($D$65:$AA$65,$AQ$90)*$AB$18","v":0},{"$f":"COUNTIF($D$65:$AA$65,$AR$90)*$AB$18","v":0},{"$f":"COUNTIF($D$65:$AA$65,$AS$90)*$AB$18","v":0},10,0]
[null,null,11,{"$f":"COUNTIF($D$66:$AA$66,$D$90)*$AB$19","v":0},{"$f":"COUNTIF($D$66:$AA$66,$E$90)*$AB$19","v":0},{"$f":"COUNTIF($D$66:$AA$66,$F$90)*$AB$19","v":0},{"$f":"COUNTIF($D$66:$AA$66,$G$90)*$AB$19","v":0},{"$f":"COUNTIF($D$66:$AA$66,$H$90)*$AB$19","v":0},{"$f":"COUNTIF($D$66:$AA$66,$I$90)*$AB$19","v":0},{"$f":"COUNTIF($D$66:$AA$66,$J$90)*$AB$19","v":0},{"$f":"COUNTIF($D$66:$AA$66,$K$90)*$AB$19","v":0},{"$f":"COUNTIF($D$66:$AA$66,$L$90)*$AB$19","v":0},{"$f":"COUNTIF($D$66:$AA$66,$M$90)*$AB$19","v":0},{"$f":"COUNTIF($D$66:$AA$66,$N$90)*$AB$19","v":0},{"$f":"COUNTIF($D$66:$AA$66,$O$90)*$AB$19","v":0},{"$f":"COUNTIF($D$66:$AA$66,$P$90)*$AB$19","v":0},{"$f":"COUNTIF($D$66:$AA$66,$Q$90)*$AB$19","v":0},{"$f":"COUNTIF($D$66:$AA$66,$R$90)*$AB$19","v":0},{"$f":"COUNTIF($D$66:$AA$66,$S$90)*$AB$19","v":0},{"$f":"COUNTIF($D$66:$AA$66,$T$90)*$AB$19","v":0},{"$f":"COUNTIF($D$66:$AA$66,$U$90)*$AB$19","v":0},{"$f":"COUNTIF($D$66:$AA$66,$V$90)*$AB$19","v":0},{"$f":"COUNTIF($D$66:$AA$66,$W$90)*$AB$19","v":0},{"$f":"COUNTIF($D$66:$AA$66,$X$90)*$AB$19","v":0},{"$f":"COUNTIF($D$66:$AA$66,$Y$90)*$AB$19","v":0},{"$f":"COUNTIF($D$66:$AA$66,$Z$90)*$AB$19","v":0},{"$f":"COUNTIF($D$66:$AA$66,$AA$90)*$AB$19","v":0},{"$f":"COUNTIF($D$66:$AA$66,$AB$90)*$AB$19","v":0},{"$f":"COUNTIF($D$66:$AA$66,$AC$90)*$AB$19","v":0},{"$f":"COUNTIF($D$66:$AA$66,$AD$90)*$AB$19","v":0},{"$f":"COUNTIF($D$66:$AA$66,$AE$90)*$AB$19","v":0},{"$f":"COUNTIF($D$66:$AA$66,$AF$90)*$AB$19","v":0},{"$f":"COUNTIF($D$66:$AA$66,$AG$90)*$AB$19","v":0},{"$f":"COUNTIF($D$66:$AA$66,$AH$90)*$AB$19","v":0},{"$f":"COUNTIF($D$66:$AA$66,$AI$90)*$AB$19","v":0},{"$f":"COUNTIF($D$66:$AA$66,$AJ$90)*$AB$19","v":0},{"$f":"COUNTIF($D$66:$AA$66,$AK$90)*$AB$19","v":0},{"$f":"COUNTIF($D$66:$AA$66,$AL$90)*$AB$19","v":0},{"$f":"COUNTIF($D$66:$AA$66,$AM$90)*$AB$19","v":0},{"$f":"COUNTIF($D$66:$AA$66,$AN$90)*$AB$19","v":0},{"$f":"COUNTIF($D$66:$AA$66,$AO$90)*$AB$19","v":0},{"$f":"COUNTIF($D$66:$AA$66,$AP$90)*$AB$19","v":0},{"$f":"COUNTIF($D$66:$AA$66,$AQ$90)*$AB$19","v":0},{"$f":"COUNTIF($D$66:$AA$66,$AR$90)*$AB$19","v":0},{"$f":"COUNTIF($D$66:$AA$66,$AS$90)*$AB$19","v":0},11,0]
[null,null,12,{"$f":"COUNTIF($D$67:$AA$67,$D$90)*$AB$20","v":0},{"$f":"COUNTIF($D$67:$AA$67,$E$90)*$AB$20","v":0},{"$f":"COUNTIF($D$67:$AA$67,$F$90)*$AB$20","v":0},{"$f":"COUNTIF($D$67:$AA$67,$G$90)*$AB$20","v":0},{"$f":"COUNTIF($D$67:$AA$67,$H$90)*$AB$20","v":0},{"$f":"COUNTIF($D$67:$AA$67,$I$90)*$AB$20","v":0},{"$f":"COUNTIF($D$67:$AA$67,$J$90)*$AB$20","v":0},{"$f":"COUNTIF($D$67:$AA$67,$K$90)*$AB$20","v":0},{"$f":"COUNTIF($D$67:$AA$67,$L$90)*$AB$20","v":0},{"$f":"COUNTIF($D$67:$AA$67,$M$90)*$AB$20","v":0},{"$f":"COUNTIF($D$67:$AA$67,$N$90)*$AB$20","v":0},{"$f":"COUNTIF($D$67:$AA$67,$O$90)*$AB$20","v":0},{"$f":"COUNTIF($D$67:$AA$67,$P$90)*$AB$20","v":0},{"$f":"COUNTIF($D$67:$AA$67,$Q$90)*$AB$20","v":0},{"$f":"COUNTIF($D$67:$AA$67,$R$90)*$AB$20","v":0},{"$f":"COUNTIF($D$67:$AA$67,$S$90)*$AB$20","v":0},{"$f":"COUNTIF($D$67:$AA$67,$T$90)*$AB$20","v":0},{"$f":"COUNTIF($D$67:$AA$67,$U$90)*$AB$20","v":0},{"$f":"COUNTIF($D$67:$AA$67,$V$90)*$AB$20","v":0},{"$f":"COUNTIF($D$67:$AA$67,$W$90)*$AB$20","v":0},{"$f":"COUNTIF($D$67:$AA$67,$X$90)*$AB$20","v":0},{"$f":"COUNTIF($D$67:$AA$67,$Y$90)*$AB$20","v":0},{"$f":"COUNTIF($D$67:$AA$67,$Z$90)*$AB$20","v":0},{"$f":"COUNTIF($D$67:$AA$67,$AA$90)*$AB$20","v":0},{"$f":"COUNTIF($D$67:$AA$67,$AB$90)*$AB$20","v":0},{"$f":"COUNTIF($D$67:$AA$67,$AC$90)*$AB$20","v":0},{"$f":"COUNTIF($D$67:$AA$67,$AD$90)*$AB$20","v":0},{"$f":"COUNTIF($D$67:$AA$67,$AE$90)*$AB$20","v":0},{"$f":"COUNTIF($D$67:$AA$67,$AF$90)*$AB$20","v":0},{"$f":"COUNTIF($D$67:$AA$67,$AG$90)*$AB$20","v":0},{"$f":"COUNTIF($D$67:$AA$67,$AH$90)*$AB$20","v":0},{"$f":"COUNTIF($D$67:$AA$67,$AI$90)*$AB$20","v":0},{"$f":"COUNTIF($D$67:$AA$67,$AJ$90)*$AB$20","v":0},{"$f":"COUNTIF($D$67:$AA$67,$AK$90)*$AB$20","v":0},{"$f":"COUNTIF($D$67:$AA$67,$AL$90)*$AB$20","v":0},{"$f":"COUNTIF($D$67:$AA$67,$AM$90)*$AB$20","v":0},{"$f":"COUNTIF($D$67:$AA$67,$AN$90)*$AB$20","v":0},{"$f":"COUNTIF($D$67:$AA$67,$AO$90)*$AB$20","v":0},{"$f":"COUNTIF($D$67:$AA$67,$AP$90)*$AB$20","v":0},{"$f":"COUNTIF($D$67:$AA$67,$AQ$90)*$AB$20","v":0},{"$f":"COUNTIF($D$67:$AA$67,$AR$90)*$AB$20","v":0},{"$f":"COUNTIF($D$67:$AA$67,$AS$90)*$AB$20","v":0},12,0]
[null,null,1,{"$f":"COUNTIF($D$68:$AA$68,$D$90)*$AB$21","v":0},{"$f":"COUNTIF($D$68:$AA$68,$E$90)*$AB$21","v":0},{"$f":"COUNTIF($D$68:$AA$68,$F$90)*$AB$21","v":0},{"$f":"COUNTIF($D$68:$AA$68,$G$90)*$AB$21","v":0},{"$f":"COUNTIF($D$68:$AA$68,$H$90)*$AB$21","v":0},{"$f":"COUNTIF($D$68:$AA$68,$I$90)*$AB$21","v":0},{"$f":"COUNTIF($D$68:$AA$68,$J$90)*$AB$21","v":0},{"$f":"COUNTIF($D$68:$AA$68,$K$90)*$AB$21","v":0},{"$f":"COUNTIF($D$68:$AA$68,$L$90)*$AB$21","v":0},{"$f":"COUNTIF($D$68:$AA$68,$M$90)*$AB$21","v":0},{"$f":"COUNTIF($D$68:$AA$68,$N$90)*$AB$21","v":0},{"$f":"COUNTIF($D$68:$AA$68,$O$90)*$AB$21","v":0},{"$f":"COUNTIF($D$68:$AA$68,$P$90)*$AB$21","v":0},{"$f":"COUNTIF($D$68:$AA$68,$Q$90)*$AB$21","v":0},{"$f":"COUNTIF($D$68:$AA$68,$R$90)*$AB$21","v":0},{"$f":"COUNTIF($D$68:$AA$68,$S$90)*$AB$21","v":0},{"$f":"COUNTIF($D$68:$AA$68,$T$90)*$AB$21","v":0},{"$f":"COUNTIF($D$68:$AA$68,$U$90)*$AB$21","v":0},{"$f":"COUNTIF($D$68:$AA$68,$V$90)*$AB$21","v":0},{"$f":"COUNTIF($D$68:$AA$68,$W$90)*$AB$21","v":0},{"$f":"COUNTIF($D$68:$AA$68,$X$90)*$AB$21","v":0},{"$f":"COUNTIF($D$68:$AA$68,$Y$90)*$AB$21","v":0},{"$f":"COUNTIF($D$68:$AA$68,$Z$90)*$AB$21","v":0},{"$f":"COUNTIF($D$68:$AA$68,$AA$90)*$AB$21","v":0},{"$f":"COUNTIF($D$68:$AA$68,$AB$90)*$AB$21","v":0},{"$f":"COUNTIF($D$68:$AA$68,$AC$90)*$AB$21","v":0},{"$f":"COUNTIF($D$68:$AA$68,$AD$90)*$AB$21","v":0},{"$f":"COUNTIF($D$68:$AA$68,$AE$90)*$AB$21","v":0},{"$f":"COUNTIF($D$68:$AA$68,$AF$90)*$AB$21","v":0},{"$f":"COUNTIF($D$68:$AA$68,$AG$90)*$AB$21","v":0},{"$f":"COUNTIF($D$68:$AA$68,$AH$90)*$AB$21","v":0},{"$f":"COUNTIF($D$68:$AA$68,$AI$90)*$AB$21","v":0},{"$f":"COUNTIF($D$68:$AA$68,$AJ$90)*$AB$21","v":0},{"$f":"COUNTIF($D$68:$AA$68,$AK$90)*$AB$21","v":0},{"$f":"COUNTIF($D$68:$AA$68,$AL$90)*$AB$21","v":0},{"$f":"COUNTIF($D$68:$AA$68,$AM$90)*$AB$21","v":0},{"$f":"COUNTIF($D$68:$AA$68,$AN$90)*$AB$21","v":0},{"$f":"COUNTIF($D$68:$AA$68,$AO$90)*$AB$21","v":0},{"$f":"COUNTIF($D$68:$AA$68,$AP$90)*$AB$21","v":0},{"$f":"COUNTIF($D$68:$AA$68,$AQ$90)*$AB$21","v":0},{"$f":"COUNTIF($D$68:$AA$68,$AR$90)*$AB$21","v":0},{"$f":"COUNTIF($D$68:$AA$68,$AS$90)*$AB$21","v":0},1,0]
[null,null,2,{"$f":"COUNTIF($D$69:$AA$69,$D$90)*$AB$22","v":0},{"$f":"COUNTIF($D$69:$AA$69,$E$90)*$AB$22","v":0},{"$f":"COUNTIF($D$69:$AA$69,$F$90)*$AB$22","v":0},{"$f":"COUNTIF($D$69:$AA$69,$G$90)*$AB$22","v":0},{"$f":"COUNTIF($D$69:$AA$69,$H$90)*$AB$22","v":0},{"$f":"COUNTIF($D$69:$AA$69,$I$90)*$AB$22","v":0},{"$f":"COUNTIF($D$69:$AA$69,$J$90)*$AB$22","v":0},{"$f":"COUNTIF($D$69:$AA$69,$K$90)*$AB$22","v":0},{"$f":"COUNTIF($D$69:$AA$69,$L$90)*$AB$22","v":0},{"$f":"COUNTIF($D$69:$AA$69,$M$90)*$AB$22","v":0},{"$f":"COUNTIF($D$69:$AA$69,$N$90)*$AB$22","v":0},{"$f":"COUNTIF($D$69:$AA$69,$O$90)*$AB$22","v":0},{"$f":"COUNTIF($D$69:$AA$69,$P$90)*$AB$22","v":0},{"$f":"COUNTIF($D$69:$AA$69,$Q$90)*$AB$22","v":0},{"$f":"COUNTIF($D$69:$AA$69,$R$90)*$AB$22","v":0},{"$f":"COUNTIF($D$69:$AA$69,$S$90)*$AB$22","v":0},{"$f":"COUNTIF($D$69:$AA$69,$T$90)*$AB$22","v":0},{"$f":"COUNTIF($D$69:$AA$69,$U$90)*$AB$22","v":0},{"$f":"COUNTIF($D$69:$AA$69,$V$90)*$AB$22","v":0},{"$f":"COUNTIF($D$69:$AA$69,$W$90)*$AB$22","v":0},{"$f":"COUNTIF($D$69:$AA$69,$X$90)*$AB$22","v":0},{"$f":"COUNTIF($D$69:$AA$69,$Y$90)*$AB$22","v":0},{"$f":"COUNTIF($D$69:$AA$69,$Z$90)*$AB$22","v":0},{"$f":"COUNTIF($D$69:$AA$69,$AA$90)*$AB$22","v":0},{"$f":"COUNTIF($D$69:$AA$69,$AB$90)*$AB$22","v":0},{"$f":"COUNTIF($D$69:$AA$69,$AC$90)*$AB$22","v":0},{"$f":"COUNTIF($D$69:$AA$69,$AD$90)*$AB$22","v":0},{"$f":"COUNTIF($D$69:$AA$69,$AE$90)*$AB$22","v":0},{"$f":"COUNTIF($D$69:$AA$69,$AF$90)*$AB$22","v":0},{"$f":"COUNTIF($D$69:$AA$69,$AG$90)*$AB$22","v":0},{"$f":"COUNTIF($D$69:$AA$69,$AH$90)*$AB$22","v":0},{"$f":"COUNTIF($D$69:$AA$69,$AI$90)*$AB$22","v":0},{"$f":"COUNTIF($D$69:$AA$69,$AJ$90)*$AB$22","v":0},{"$f":"COUNTIF($D$69:$AA$69,$AK$90)*$AB$22","v":0},{"$f":"COUNTIF($D$69:$AA$69,$AL$90)*$AB$22","v":0},{"$f":"COUNTIF($D$69:$AA$69,$AM$90)*$AB$22","v":0},{"$f":"COUNTIF($D$69:$AA$69,$AN$90)*$AB$22","v":0},{"$f":"COUNTIF($D$69:$AA$69,$AO$90)*$AB$22","v":0},{"$f":"COUNTIF($D$69:$AA$69,$AP$90)*$AB$22","v":0},{"$f":"COUNTIF($D$69:$AA$69,$AQ$90)*$AB$22","v":0},{"$f":"COUNTIF($D$69:$AA$69,$AR$90)*$AB$22","v":0},{"$f":"COUNTIF($D$69:$AA$69,$AS$90)*$AB$22","v":0},2,0]
[null,null,3,{"$f":"COUNTIF($D$70:$AA$70,$D$90)*$AB$23","v":0},{"$f":"COUNTIF($D$70:$AA$70,$E$90)*$AB$23","v":0},{"$f":"COUNTIF($D$70:$AA$70,$F$90)*$AB$23","v":0},{"$f":"COUNTIF($D$70:$AA$70,$G$90)*$AB$23","v":0},{"$f":"COUNTIF($D$70:$AA$70,$H$90)*$AB$23","v":0},{"$f":"COUNTIF($D$70:$AA$70,$I$90)*$AB$23","v":0},{"$f":"COUNTIF($D$70:$AA$70,$J$90)*$AB$23","v":0},{"$f":"COUNTIF($D$70:$AA$70,$K$90)*$AB$23","v":0},{"$f":"COUNTIF($D$70:$AA$70,$L$90)*$AB$23","v":0},{"$f":"COUNTIF($D$70:$AA$70,$M$90)*$AB$23","v":0},{"$f":"COUNTIF($D$70:$AA$70,$N$90)*$AB$23","v":0},{"$f":"COUNTIF($D$70:$AA$70,$O$90)*$AB$23","v":0},{"$f":"COUNTIF($D$70:$AA$70,$P$90)*$AB$23","v":0},{"$f":"COUNTIF($D$70:$AA$70,$Q$90)*$AB$23","v":0},{"$f":"COUNTIF($D$70:$AA$70,$R$90)*$AB$23","v":0},{"$f":"COUNTIF($D$70:$AA$70,$S$90)*$AB$23","v":0},{"$f":"COUNTIF($D$70:$AA$70,$T$90)*$AB$23","v":0},{"$f":"COUNTIF($D$70:$AA$70,$U$90)*$AB$23","v":0},{"$f":"COUNTIF($D$70:$AA$70,$V$90)*$AB$23","v":0},{"$f":"COUNTIF($D$70:$AA$70,$W$90)*$AB$23","v":0},{"$f":"COUNTIF($D$70:$AA$70,$X$90)*$AB$23","v":0},{"$f":"COUNTIF($D$70:$AA$70,$Y$90)*$AB$23","v":0},{"$f":"COUNTIF($D$70:$AA$70,$Z$90)*$AB$23","v":0},{"$f":"COUNTIF($D$70:$AA$70,$AA$90)*$AB$23","v":0},{"$f":"COUNTIF($D$70:$AA$70,$AB$90)*$AB$23","v":0},{"$f":"COUNTIF($D$70:$AA$70,$AC$90)*$AB$23","v":0},{"$f":"COUNTIF($D$70:$AA$70,$AD$90)*$AB$23","v":0},{"$f":"COUNTIF($D$70:$AA$70,$AE$90)*$AB$23","v":0},{"$f":"COUNTIF($D$70:$AA$70,$AF$90)*$AB$23","v":0},{"$f":"COUNTIF($D$70:$AA$70,$AG$90)*$AB$23","v":0},{"$f":"COUNTIF($D$70:$AA$70,$AH$90)*$AB$23","v":0},{"$f":"COUNTIF($D$70:$AA$70,$AI$90)*$AB$23","v":0},{"$f":"COUNTIF($D$70:$AA$70,$AJ$90)*$AB$23","v":0},{"$f":"COUNTIF($D$70:$AA$70,$AK$90)*$AB$23","v":0},{"$f":"COUNTIF($D$70:$AA$70,$AL$90)*$AB$23","v":0},{"$f":"COUNTIF($D$70:$AA$70,$AM$90)*$AB$23","v":0},{"$f":"COUNTIF($D$70:$AA$70,$AN$90)*$AB$23","v":0},{"$f":"COUNTIF($D$70:$AA$70,$AO$90)*$AB$23","v":0},{"$f":"COUNTIF($D$70:$AA$70,$AP$90)*$AB$23","v":0},{"$f":"COUNTIF($D$70:$AA$70,$AQ$90)*$AB$23","v":0},{"$f":"COUNTIF($D$70:$AA$70,$AR$90)*$AB$23","v":0},{"$f":"COUNTIF($D$70:$AA$70,$AS$90)*$AB$23","v":0},3,0]
[null,null,"発生時間",{"$f":"SUM($D$91:$D$102)","v":0},{"$f":"SUM($E$91:$E$102)","v":0},{"$f":"SUM($F$91:$F$102)","v":0},{"$f":"SUM($G$91:$G$102)","v":0},{"$f":"SUM($H$91:$H$102)","v":0},{"$f":"SUM($I$91:$I$102)","v":0},{"$f":"SUM($J$91:$J$102)","v":0},{"$f":"SUM($K$91:$K$102)","v":0},{"$f":"SUM($L$91:$L$102)","v":0},{"$f":"SUM($M$91:$M$102)","v":0},{"$f":"SUM($N$91:$N$102)","v":0},{"$f":"SUM($O$91:$O$102)","v":0},{"$f":"SUM($P$91:$P$102)","v":0},{"$f":"SUM($Q$91:$Q$102)","v":0},{"$f":"SUM($R$91:$R$102)","v":0},{"$f":"SUM($S$91:$S$102)","v":0},{"$f":"SUM($T$91:$T$102)","v":0},{"$f":"SUM($U$91:$U$102)","v":0},{"$f":"SUM($V$91:$V$102)","v":0},{"$f":"SUM($W$91:$W$102)","v":0},{"$f":"SUM($X$91:$X$102)","v":0},{"$f":"SUM($Y$91:$Y$102)","v":0},{"$f":"SUM($Z$91:$Z$102)","v":0},{"$f":"SUM($AA$91:$AA$102)","v":0},{"$f":"SUM($AB$91:$AB$102)","v":0},{"$f":"SUM($AC$91:$AC$102)","v":0},{"$f":"SUM($AD$91:$AD$102)","v":0},{"$f":"SUM($AE$91:$AE$102)","v":0},{"$f":"SUM($AF$91:$AF$102)","v":0},{"$f":"SUM($AG$91:$AG$102)","v":0},{"$f":"SUM($AH$91:$AH$102)","v":0},{"$f":"SUM($AI$91:$AI$102)","v":0},{"$f":"SUM($AJ$91:$AJ$102)","v":0},{"$f":"SUM($AK$91:$AK$102)","v":0},{"$f":"SUM($AL$91:$AL$102)","v":0},{"$f":"SUM($AM$91:$AM$102)","v":0},{"$f":"SUM($AN$91:$AN$102)","v":0},{"$f":"SUM($AO$91:$AO$102)","v":0},{"$f":"SUM($AP$91:$AP$102)","v":0},{"$f":"SUM($AQ$91:$AQ$102)","v":0},{"$f":"SUM($AR$91:$AR$102)","v":0},{"$f":"SUM($AS$91:$AS$102)","v":0},"発生時間"]
[null,"εc","冷房時消費電力比",{"$f":"$D$105/$D$109","v":0},{"$f":"$E$105/$E$109","v":0},{"$f":"$F$105/$F$109","v":0},{"$f":"$G$105/$G$109","v":0},{"$f":"$H$105/$H$109","v":0},{"$f":"$I$105/$I$109","v":0},{"$f":"$J$105/$J$109","v":0},{"$f":"$K$105/$K$109","v":0},{"$f":"$L$105/$L$109","v":0},{"$f":"$M$105/$M$109","v":0},{"$f":"$N$105/$N$109","v":0},{"$f":"$O$105/$O$109","v":0},{"$f":"$P$105/$P$109","v":0},{"$f":"$Q$105/$Q$109","v":0},{"$f":"$R$105/$R$109","v":0},{"$f":"$S$105/$S$109","v":0},{"$f":"$T$105/$T$109","v":0},{"$f":"$U$105/$U$109","v":0},{"$f":"$V$105/$V$109","v":0},{"$f":"$W$105/$W$109","v":0},{"$f":"$X$105/$X$109","v":0},{"$f":"$Y$105/$Y$109","v":0},{"$f":"$Z$105/$Z$109","v":0},{"$f":"$AA$105/$AA$109","v":0},{"$f":"$AB$105/$AB$109","v":0},{"$f":"$AC$105/$AC$109","v":3.7610619469026565E-2},{"$f":"$AD$105/$AD$109","v":7.7444814403748966E-2},{"$f":"$AE$105/$AE$109","v":0.11957515416451978},{"$f":"$AF$105/$AF$109","v":0.16407740070746205},{"$f":"$AG$105/$AG$109","v":0.21103068610459791},{"$f":"$AH$105/$AH$109","v":0.26051770204211372},{"$f":"$AI$105/$AI$109","v":0.31262490225041267},{"$f":"$AJ$105/$AJ$109","v":0.36744271890737462},{"$f":"$AK$105/$AK$109","v":0.42506579415321138},{"$f":"$AL$105/$AL$109","v":0.48559322796254145},{"$f":"$AM$105/$AM$109","v":0.54912884373805226},{"$f":"$AN$105/$AN$109","v":0.61578147312174669},{"$f":"$AO$105/$AO$109","v":0.68566526166585851},{"$f":"$AP$105/$AP$109","v":0.75889999716786083},{"$f":"$AQ$105/$AQ$109","v":0.83561146265461006},{"$f":"$AR$105/$AR$109","v":0.9159318162018798},{"$f":"$AS$105/$AS$109","v":0.99999999999999978},"冷房時消費電力比","εc"]
[null,"αc","冷房空調負荷率",{"$f":"IF((1/(35-$G$25))*$D$90-$G$25/(35-$G$25)<0,0,IF((1/(35-$G$25))*$D$90-$G$25/(35-$G$25)>1,1,(1/(35-$G$25))*$D$90-$G$25/(35-$G$25)))","v":0},{"$f":"IF((1/(35-$G$25))*$E$90-$G$25/(35-$G$25)<0,0,IF((1/(35-$G$25))*$E$90-$G$25/(35-$G$25)>1,1,(1/(35-$G$25))*$E$90-$G$25/(35-$G$25)))","v":0},{"$f":"IF((1/(35-$G$25))*$F$90-$G$25/(35-$G$25)<0,0,IF((1/(35-$G$25))*$F$90-$G$25/(35-$G$25)>1,1,(1/(35-$G$25))*$F$90-$G$25/(35-$G$25)))","v":0},{"$f":"IF((1/(35-$G$25))*$G$90-$G$25/(35-$G$25)<0,0,IF((1/(35-$G$25))*$G$90-$G$25/(35-$G$25)>1,1,(1/(35-$G$25))*$G$90-$G$25/(35-$G$25)))","v":0},{"$f":"IF((1/(35-$G$25))*$H$90-$G$25/(35-$G$25)<0,0,IF((1/(35-$G$25))*$H$90-$G$25/(35-$G$25)>1,1,(1/(35-$G$25))*$H$90-$G$25/(35-$G$25)))","v":0},{"$f":"IF((1/(35-$G$25))*$I$90-$G$25/(35-$G$25)<0,0,IF((1/(35-$G$25))*$I$90-$G$25/(35-$G$25)>1,1,(1/(35-$G$25))*$I$90-$G$25/(35-$G$25)))","v":0},{"$f":"IF((1/(35-$G$25))*$J$90-$G$25/(35-$G$25)<0,0,IF((1/(35-$G$25))*$J$90-$G$25/(35-$G$25)>1,1,(1/(35-$G$25))*$J$90-$G$25/(35-$G$25)))","v":0},{"$f":"IF((1/(35-$G$25))*$K$90-$G$25/(35-$G$25)<0,0,IF((1/(35-$G$25))*$K$90-$G$25/(35-$G$25)>1,1,(1/(35-$G$25))*$K$90-$G$25/(35-$G$25)))","v":0},{"$f":"IF((1/(35-$G$25))*$L$90-$G$25/(35-$G$25)<0,0,IF((1/(35-$G$25))*$L$90-$G$25/(35-$G$25)>1,1,(1/(35-$G$25))*$L$90-$G$25/(35-$G$25)))","v":0},{"$f":"IF((1/(35-$G$25))*$M$90-$G$25/(35-$G$25)<0,0,IF((1/(35-$G$25))*$M$90-$G$25/(35-$G$25)>1,1,(1/(35-$G$25))*$M$90-$G$25/(35-$G$25)))","v":0},{"$f":"IF((1/(35-$G$25))*$N$90-$G$25/(35-$G$25)<0,0,IF((1/(35-$G$25))*$N$90-$G$25/(35-$G$25)>1,1,(1/(35-$G$25))*$N$90-$G$25/(35-$G$25)))","v":0},{"$f":"IF((1/(35-$G$25))*$O$90-$G$25/(35-$G$25)<0,0,IF((1/(35-$G$25))*$O$90-$G$25/(35-$G$25)>1,1,(1/(35-$G$25))*$O$90-$G$25/(35-$G$25)))","v":0},{"$f":"IF((1/(35-$G$25))*$P$90-$G$25/(35-$G$25)<0,0,IF((1/(35-$G$25))*$P$90-$G$25/(35-$G$25)>1,1,(1/(35-$G$25))*$P$90-$G$25/(35-$G$25)))","v":0},{"$f":"IF((1/(35-$G$25))*$Q$90-$G$25/(35-$G$25)<0,0,IF((1/(35-$G$25))*$Q$90-$G$25/(35-$G$25)>1,1,(1/(35-$G$25))*$Q$90-$G$25/(35-$G$25)))","v":0},{"$f":"IF((1/(35-$G$25))*$R$90-$G$25/(35-$G$25)<0,0,IF((1/(35-$G$25))*$R$90-$G$25/(35-$G$25)>1,1,(1/(35-$G$25))*$R$90-$G$25/(35-$G$25)))","v":0},{"$f":"IF((1/(35-$G$25))*$S$90-$G$25/(35-$G$25)<0,0,IF((1/(35-$G$25))*$S$90-$G$25/(35-$G$25)>1,1,(1/(35-$G$25))*$S$90-$G$25/(35-$G$25)))","v":0},{"$f":"IF((1/(35-$G$25))*$T$90-$G$25/(35-$G$25)<0,0,IF((1/(35-$G$25))*$T$90-$G$25/(35-$G$25)>1,1,(1/(35-$G$25))*$T$90-$G$25/(35-$G$25)))","v":0},{"$f":"IF((1/(35-$G$25))*$U$90-$G$25/(35-$G$25)<0,0,IF((1/(35-$G$25))*$U$90-$G$25/(35-$G$25)>1,1,(1/(35-$G$25))*$U$90-$G$25/(35-$G$25)))","v":0},{"$f":"IF((1/(35-$G$25))*$V$90-$G$25/(35-$G$25)<0,0,IF((1/(35-$G$25))*$V$90-$G$25/(35-$G$25)>1,1,(1/(35-$G$25))*$V$90-$G$25/(35-$G$25)))","v":0},{"$f":"IF((1/(35-$G$25))*$W$90-$G$25/(35-$G$25)<0,0,IF((1/(35-$G$25))*$W$90-$G$25/(35-$G$25)>1,1,(1/(35-$G$25))*$W$90-$G$25/(35-$G$25)))","v":0},{"$f":"IF((1/(35-$G$25))*$X$90-$G$25/(35-$G$25)<0,0,IF((1/(35-$G$25))*$X$90-$G$25/(35-$G$25)>1,1,(1/(35-$G$25))*$X$90-$G$25/(35-$G$25)))","v":0},{"$f":"IF((1/(35-$G$25))*$Y$90-$G$25/(35-$G$25)<0,0,IF((1/(35-$G$25))*$Y$90-$G$25/(35-$G$25)>1,1,(1/(35-$G$25))*$Y$90-$G$25/(35-$G$25)))","v":0},{"$f":"IF((1/(35-$G$25))*$Z$90-$G$25/(35-$G$25)<0,0,IF((1/(35-$G$25))*$Z$90-$G$25/(35-$G$25)>1,1,(1/(35-$G$25))*$Z$90-$G$25/(35-$G$25)))","v":0},{"$f":"IF((1/(35-$G$25))*$AA$90-$G$25/(35-$G$25)<0,0,IF((1/(35-$G$25))*$AA$90-$G$25/(35-$G$25)>1,1,(1/(35-$G$25))*$AA$90-$G$25/(35-$G$25)))","v":0},{"$f":"IF((1/(35-$G$25))*$AB$90-$G$25/(35-$G$25)<0,0,IF((1/(35-$G$25))*$AB$90-$G$25/(35-$G$25)>1,1,(1/(35-$G$25))*$AB$90-$G$25/(35-$G$25)))","v":0},{"$f":"IF((1/(35-$G$25))*$AC$90-$G$25/(35-$G$25)<0,0,IF((1/(35-$G$25))*$AC$90-$G$25/(35-$G$25)>1,1,(1/(35-$G$25))*$AC$90-$G$25/(35-$G$25)))","v":5.8823529411764719E-2},{"$f":"IF((1/(35-$G$25))*$AD$90-$G$25/(35-$G$25)<0,0,IF((1/(35-$G$25))*$AD$90-$G$25/(35-$G$25)>1,1,(1/(35-$G$25))*$AD$90-$G$25/(35-$G$25)))","v":0.11764705882352944},{"$f":"IF((1/(35-$G$25))*$AE$90-$G$25/(35-$G$25)<0,0,IF((1/(35-$G$25))*$AE$90-$G$25/(35-$G$25)>1,1,(1/(35-$G$25))*$AE$90-$G$25/(35-$G$25)))","v":0.17647058823529416},{"$f":"IF((1/(35-$G$25))*$AF$90-$G$25/(35-$G$25)<0,0,IF((1/(35-$G$25))*$AF$90-$G$25/(35-$G$25)>1,1,(1/(35-$G$25))*$AF$90-$G$25/(35-$G$25)))","v":0.23529411764705888},{"$f":"IF((1/(35-$G$25))*$AG$90-$G$25/(35-$G$25)<0,0,IF((1/(35-$G$25))*$AG$90-$G$25/(35-$G$25)>1,1,(1/(35-$G$25))*$AG$90-$G$25/(35-$G$25)))","v":0.29411764705882359},{"$f":"IF((1/(35-$G$25))*$AH$90-$G$25/(35-$G$25)<0,0,IF((1/(35-$G$25))*$AH$90-$G$25/(35-$G$25)>1,1,(1/(35-$G$25))*$AH$90-$G$25/(35-$G$25)))","v":0.35294117647058809},{"$f":"IF((1/(35-$G$25))*$AI$90-$G$25/(35-$G$25)<0,0,IF((1/(35-$G$25))*$AI$90-$G$25/(35-$G$25)>1,1,(1/(35-$G$25))*$AI$90-$G$25/(35-$G$25)))","v":0.41176470588235281},{"$f":"IF((1/(35-$G$25))*$AJ$90-$G$25/(35-$G$25)<0,0,IF((1/(35-$G$25))*$AJ$90-$G$25/(35-$G$25)>1,1,(1/(35-$G$25))*$AJ$90-$G$25/(35-$G$25)))","v":0.47058823529411753},{"$f":"IF((1/(35-$G$25))*$AK$90-$G$25/(35-$G$25)<0,0,IF((1/(35-$G$25))*$AK$90-$G$25/(35-$G$25)>1,1,(1/(35-$G$25))*$AK$90-$G$25/(35-$G$25)))","v":0.52941176470588225},{"$f":"IF((1/(35-$G$25))*$AL$90-$G$25/(35-$G$25)<0,0,IF((1/(35-$G$25))*$AL$90-$G$25/(35-$G$25)>1,1,(1/(35-$G$25))*$AL$90-$G$25/(35-$G$25)))","v":0.58823529411764697},{"$f":"IF((1/(35-$G$25))*$AM$90-$G$25/(35-$G$25)<0,0,IF((1/(35-$G$25))*$AM$90-$G$25/(35-$G$25)>1,1,(1/(35-$G$25))*$AM$90-$G$25/(35-$G$25)))","v":0.64705882352941169},{"$f":"IF((1/(35-$G$25))*$AN$90-$G$25/(35-$G$25)<0,0,IF((1/(35-$G$25))*$AN$90-$G$25/(35-$G$25)>1,1,(1/(35-$G$25))*$AN$90-$G$25/(35-$G$25)))","v":0.70588235294117641},{"$f":"IF((1/(35-$G$25))*$AO$90-$G$25/(35-$G$25)<0,0,IF((1/(35-$G$25))*$AO$90-$G$25/(35-$G$25)>1,1,(1/(35-$G$25))*$AO$90-$G$25/(35-$G$25)))","v":0.76470588235294112},{"$f":"IF((1/(35-$G$25))*$AP$90-$G$25/(35-$G$25)<0,0,IF((1/(35-$G$25))*$AP$90-$G$25/(35-$G$25)>1,1,(1/(35-$G$25))*$AP$90-$G$25/(35-$G$25)))","v":0.82352941176470584},{"$f":"IF((1/(35-$G$25))*$AQ$90-$G$25/(35-$G$25)<0,0,IF((1/(35-$G$25))*$AQ$90-$G$25/(35-$G$25)>1,1,(1/(35-$G$25))*$AQ$90-$G$25/(35-$G$25)))","v":0.88235294117647056},{"$f":"IF((1/(35-$G$25))*$AR$90-$G$25/(35-$G$25)<0,0,IF((1/(35-$G$25))*$AR$90-$G$25/(35-$G$25)>1,1,(1/(35-$G$25))*$AR$90-$G$25/(35-$G$25)))","v":0.94117647058823528},{"$f":"IF((1/(35-$G$25))*$AS$90-$G$25/(35-$G$25)<0,0,IF((1/(35-$G$25))*$AS$90-$G$25/(35-$G$25)>1,1,(1/(35-$G$25))*$AS$90-$G$25/(35-$G$25)))","v":0.99999999999999978},"冷房空調負荷率","αc"]
[null,"Φc","冷房能力",{"$f":"($G$29-1.077*$G$29)/(35-29)*($D$90-35)+$G$29","v":33.575666666666663},{"$f":"($G$29-1.077*$G$29)/(35-29)*($E$90-35)+$G$29","v":33.293333333333322},{"$f":"($G$29-1.077*$G$29)/(35-29)*($F$90-35)+$G$29","v":33.010999999999996},{"$f":"($G$29-1.077*$G$29)/(35-29)*($G$90-35)+$G$29","v":32.728666666666662},{"$f":"($G$29-1.077*$G$29)/(35-29)*($H$90-35)+$G$29","v":32.446333333333328},{"$f":"($G$29-1.077*$G$29)/(35-29)*($I$90-35)+$G$29","v":32.163999999999994},{"$f":"($G$29-1.077*$G$29)/(35-29)*($J$90-35)+$G$29","v":31.881666666666661},{"$f":"($G$29-1.077*$G$29)/(35-29)*($K$90-35)+$G$29","v":31.599333333333327},{"$f":"($G$29-1.077*$G$29)/(35-29)*($L$90-35)+$G$29","v":31.316999999999993},{"$f":"($G$29-1.077*$G$29)/(35-29)*($M$90-35)+$G$29","v":31.034666666666659},{"$f":"($G$29-1.077*$G$29)/(35-29)*($N$90-35)+$G$29","v":30.752333333333326},{"$f":"($G$29-1.077*$G$29)/(35-29)*($O$90-35)+$G$29","v":30.469999999999995},{"$f":"($G$29-1.077*$G$29)/(35-29)*($P$90-35)+$G$29","v":30.187666666666662},{"$f":"($G$29-1.077*$G$29)/(35-29)*($Q$90-35)+$G$29","v":29.905333333333328},{"$f":"($G$29-1.077*$G$29)/(35-29)*($R$90-35)+$G$29","v":29.622999999999994},{"$f":"($G$29-1.077*$G$29)/(35-29)*($S$90-35)+$G$29","v":29.340666666666664},{"$f":"($G$29-1.077*$G$29)/(35-29)*($T$90-35)+$G$29","v":29.05833333333333},{"$f":"($G$29-1.077*$G$29)/(35-29)*($U$90-35)+$G$29","v":28.775999999999996},{"$f":"($G$29-1.077*$G$29)/(35-29)*($V$90-35)+$G$29","v":28.493666666666662},{"$f":"($G$29-1.077*$G$29)/(35-29)*($W$90-35)+$G$29","v":28.211333333333329},{"$f":"($G$29-1.077*$G$29)/(35-29)*($X$90-35)+$G$29","v":27.928999999999995},{"$f":"($G$29-1.077*$G$29)/(35-29)*($Y$90-35)+$G$29","v":27.646666666666661},{"$f":"($G$29-1.077*$G$29)/(35-29)*($Z$90-35)+$G$29","v":27.364333333333331},{"$f":"($G$29-1.077*$G$29)/(35-29)*($AA$90-35)+$G$29","v":27.081999999999997},{"$f":"($G$29-1.077*$G$29)/(35-29)*($AB$90-35)+$G$29","v":26.799666666666663},{"$f":"($G$29-1.077*$G$29)/(35-29)*($AC$90-35)+$G$29","v":26.51733333333333},{"$f":"($G$29-1.077*$G$29)/(35-29)*($AD$90-35)+$G$29","v":26.234999999999999},{"$f":"($G$29-1.077*$G$29)/(35-29)*($AE$90-35)+$G$29","v":25.952666666666666},{"$f":"($G$29-1.077*$G$29)/(35-29)*($AF$90-35)+$G$29","v":25.670333333333332},{"$f":"($G$29-1.077*$G$29)/(35-29)*($AG$90-35)+$G$29","v":25.387999999999998},{"$f":"($G$29-1.077*$G$29)/(35-29)*($AH$90-35)+$G$29","v":25.105666666666664},{"$f":"($G$29-1.077*$G$29)/(35-29)*($AI$90-35)+$G$29","v":24.823333333333331},{"$f":"($G$29-1.077*$G$29)/(35-29)*($AJ$90-35)+$G$29","v":24.540999999999997},{"$f":"($G$29-1.077*$G$29)/(35-29)*($AK$90-35)+$G$29","v":24.258666666666667},{"$f":"($G$29-1.077*$G$29)/(35-29)*($AL$90-35)+$G$29","v":23.976333333333333},{"$f":"($G$29-1.077*$G$29)/(35-29)*($AM$90-35)+$G$29","v":23.693999999999999},{"$f":"($G$29-1.077*$G$29)/(35-29)*($AN$90-35)+$G$29","v":23.411666666666665},{"$f":"($G$29-1.077*$G$29)/(35-29)*($AO$90-35)+$G$29","v":23.129333333333332},{"$f":"($G$29-1.077*$G$29)/(35-29)*($AP$90-35)+$G$29","v":22.847000000000001},{"$f":"($G$29-1.077*$G$29)/(35-29)*($AQ$90-35)+$G$29","v":22.564666666666668},{"$f":"($G$29-1.077*$G$29)/(35-29)*($AR$90-35)+$G$29","v":22.282333333333334},{"$f":"($G$29-1.077*$G$29)/(35-29)*($AS$90-35)+$G$29","v":22},"冷房能力","Φc"]
[null,"Pc","消費電力",{"$f":"($G$30-0.914*$G$30)/(35-29)*($D$90-35)+$G$30","v":2.7214000000000018},{"$f":"($G$30-0.914*$G$30)/(35-29)*($E$90-35)+$G$30","v":2.8160000000000016},{"$f":"($G$30-0.914*$G$30)/(35-29)*($F$90-35)+$G$30","v":2.9106000000000019},{"$f":"($G$30-0.914*$G$30)/(35-29)*($G$90-35)+$G$30","v":3.0052000000000016},{"$f":"($G$30-0.914*$G$30)/(35-29)*($H$90-35)+$G$30","v":3.0998000000000014},{"$f":"($G$30-0.914*$G$30)/(35-29)*($I$90-35)+$G$30","v":3.1944000000000017},{"$f":"($G$30-0.914*$G$30)/(35-29)*($J$90-35)+$G$30","v":3.2890000000000015},{"$f":"($G$30-0.914*$G$30)/(35-29)*($K$90-35)+$G$30","v":3.3836000000000013},{"$f":"($G$30-0.914*$G$30)/(35-29)*($L$90-35)+$G$30","v":3.4782000000000015},{"$f":"($G$30-0.914*$G$30)/(35-29)*($M$90-35)+$G$30","v":3.5728000000000013},{"$f":"($G$30-0.914*$G$30)/(35-29)*($N$90-35)+$G$30","v":3.6674000000000011},{"$f":"($G$30-0.914*$G$30)/(35-29)*($O$90-35)+$G$30","v":3.7620000000000013},{"$f":"($G$30-0.914*$G$30)/(35-29)*($P$90-35)+$G$30","v":3.8566000000000011},{"$f":"($G$30-0.914*$G$30)/(35-29)*($Q$90-35)+$G$30","v":3.9512000000000009},{"$f":"($G$30-0.914*$G$30)/(35-29)*($R$90-35)+$G$30","v":4.0458000000000016},{"$f":"($G$30-0.914*$G$30)/(35-29)*($S$90-35)+$G$30","v":4.1404000000000014},{"$f":"($G$30-0.914*$G$30)/(35-29)*($T$90-35)+$G$30","v":4.2350000000000012},{"$f":"($G$30-0.914*$G$30)/(35-29)*($U$90-35)+$G$30","v":4.329600000000001},{"$f":"($G$30-0.914*$G$30)/(35-29)*($V$90-35)+$G$30","v":4.4242000000000008},{"$f":"($G$30-0.914*$G$30)/(35-29)*($W$90-35)+$G$30","v":4.5188000000000006},{"$f":"($G$30-0.914*$G$30)/(35-29)*($X$90-35)+$G$30","v":4.6134000000000004},{"$f":"($G$30-0.914*$G$30)/(35-29)*($Y$90-35)+$G$30","v":4.7080000000000002},{"$f":"($G$30-0.914*$G$30)/(35-29)*($Z$90-35)+$G$30","v":4.8026000000000009},{"$f":"($G$30-0.914*$G$30)/(35-29)*($AA$90-35)+$G$30","v":4.8972000000000007},{"$f":"($G$30-0.914*$G$30)/(35-29)*($AB$90-35)+$G$30","v":4.9918000000000005},{"$f":"($G$30-0.914*$G$30)/(35-29)*($AC$90-35)+$G$30","v":5.0864000000000003},{"$f":"($G$30-0.914*$G$30)/(35-29)*($AD$90-35)+$G$30","v":5.1810000000000009},{"$f":"($G$30-0.914*$G$30)/(35-29)*($AE$90-35)+$G$30","v":5.2756000000000007},{"$f":"($G$30-0.914*$G$30)/(35-29)*($AF$90-35)+$G$30","v":5.3702000000000005},{"$f":"($G$30-0.914*$G$30)/(35-29)*($AG$90-35)+$G$30","v":5.4648000000000003},{"$f":"($G$30-0.914*$G$30)/(35-29)*($AH$90-35)+$G$30","v":5.5594000000000001},{"$f":"($G$30-0.914*$G$30)/(35-29)*($AI$90-35)+$G$30","v":5.6539999999999999},{"$f":"($G$30-0.914*$G$30)/(35-29)*($AJ$90-35)+$G$30","v":5.7485999999999997},{"$f":"($G$30-0.914*$G$30)/(35-29)*($AK$90-35)+$G$30","v":5.8432000000000004},{"$f":"($G$30-0.914*$G$30)/(35-29)*($AL$90-35)+$G$30","v":5.9378000000000002},{"$f":"($G$30-0.914*$G$30)/(35-29)*($AM$90-35)+$G$30","v":6.0324},{"$f":"($G$30-0.914*$G$30)/(35-29)*($AN$90-35)+$G$30","v":6.1269999999999998},{"$f":"($G$30-0.914*$G$30)/(35-29)*($AO$90-35)+$G$30","v":6.2215999999999996},{"$f":"($G$30-0.914*$G$30)/(35-29)*($AP$90-35)+$G$30","v":6.3162000000000003},{"$f":"($G$30-0.914*$G$30)/(35-29)*($AQ$90-35)+$G$30","v":6.4108000000000001},{"$f":"($G$30-0.914*$G$30)/(35-29)*($AR$90-35)+$G$30","v":6.5053999999999998},{"$f":"($G$30-0.914*$G$30)/(35-29)*($AS$90-35)+$G$30","v":6.6},"消費電力","Pc"]
[null,"σc","COP",{"$f":"$D$106/$D$107","v":12.337644839665849},{"$f":"$E$106/$E$107","v":11.822916666666655},{"$f":"$F$106/$F$107","v":11.34164777021919},{"$f":"$G$106/$G$107","v":10.890678379697405},{"$f":"$H$106/$H$107","v":10.46723444523302},{"$f":"$I$106/$I$107","v":10.068870523415971},{"$f":"$J$106/$J$107","v":9.6934225195094701},{"$f":"$K$106/$K$107","v":9.3389683571738136},{"$f":"$L$106/$L$107","v":9.003795066413657},{"$f":"$M$106/$M$107","v":8.6863711001641981},{"$f":"$N$106/$N$107","v":8.385322935412912},{"$f":"$O$106/$O$107","v":8.0994152046783583},{"$f":"$P$106/$P$107","v":7.827533751663811},{"$f":"$Q$106/$Q$107","v":7.5686711210096478},{"$f":"$R$106/$R$107","v":7.3219140837411594},{"$f":"$S$106/$S$107","v":7.0864328728303194},{"$f":"$T$106/$T$107","v":6.8614718614718591},{"$f":"$U$106/$U$107","v":6.6463414634146316},{"$f":"$V$106/$V$107","v":6.440411072434939},{"$f":"$W$106/$W$107","v":6.2431028886725075},{"$f":"$X$106/$X$107","v":6.0538865045302801},{"$f":"$Y$106/$Y$107","v":5.872274143302179},{"$f":"$Z$106/$Z$107","v":5.6978164605283235},{"$f":"$AA$106/$AA$107","v":5.5300988319856232},{"$f":"$AB$106/$AB$107","v":5.3687380637578954},{"$f":"$AC$106/$AC$107","v":5.2133794694348321},{"$f":"$AD$106/$AD$107","v":5.0636942675159222},{"$f":"$AE$106/$AE$107","v":4.919377258826799},{"$f":"$AF$106/$AF$107","v":4.7801447494196356},{"$f":"$AG$106/$AG$107","v":4.6457326892109494},{"$f":"$AH$106/$AH$107","v":4.5158950006595431},{"$f":"$AI$106/$AI$107","v":4.3904020752269775},{"$f":"$AJ$106/$AJ$107","v":4.2690394182931497},{"$f":"$AK$106/$AK$107","v":4.1516064257028109},{"$f":"$AL$106/$AL$107","v":4.0379152772631839},{"$f":"$AM$106/$AM$107","v":3.9277899343544855},{"$f":"$AN$106/$AN$107","v":3.8210652304009574},{"$f":"$AO$106/$AO$107","v":3.7175860443187174},{"$f":"$AP$106/$AP$107","v":3.6172065482410312},{"$f":"$AQ$106/$AQ$107","v":3.5197895218485473},{"$f":"$AR$106/$AR$107","v":3.4252057265246312},{"$f":"$AS$106/$AS$107","v":3.3333333333333335},"COP","σc"]
[null,"βc","冷房COP比",{"$f":"$D$108/$AS$108","v":3.7012934518997547},{"$f":"$E$108/$AS$108","v":3.5468749999999964},{"$f":"$F$108/$AS$108","v":3.4024943310657569},{"$f":"$G$108/$AS$108","v":3.2672035139092213},{"$f":"$H$108/$AS$108","v":3.1401703335699058},{"$f":"$I$108/$AS$108","v":3.020661157024791},{"$f":"$J$108/$AS$108","v":2.9080267558528408},{"$f":"$K$108/$AS$108","v":2.8016905071521441},{"$f":"$L$108/$AS$108","v":2.7011385199240969},{"$f":"$M$108/$AS$108","v":2.6059113300492593},{"$f":"$N$108/$AS$108","v":2.5155968806238733},{"$f":"$O$108/$AS$108","v":2.4298245614035072},{"$f":"$P$108/$AS$108","v":2.3482601254991433},{"$f":"$Q$108/$AS$108","v":2.2706013363028941},{"$f":"$R$108/$AS$108","v":2.1965742251223479},{"$f":"$S$108/$AS$108","v":2.1259298618490958},{"$f":"$T$108/$AS$108","v":2.0584415584415576},{"$f":"$U$108/$AS$108","v":1.9939024390243894},{"$f":"$V$108/$AS$108","v":1.9321233217304816},{"$f":"$W$108/$AS$108","v":1.8729308666017521},{"$f":"$X$108/$AS$108","v":1.816165951359084},{"$f":"$Y$108/$AS$108","v":1.7616822429906536},{"$f":"$Z$108/$AS$108","v":1.7093449381584969},{"$f":"$AA$108/$AS$108","v":1.6590296495956869},{"$f":"$AB$108/$AS$108","v":1.6106214191273684},{"$f":"$AC$108/$AS$108","v":1.5640138408304496},{"$f":"$AD$108/$AS$108","v":1.5191082802547766},{"$f":"$AE$108/$AS$108","v":1.4758131776480397},{"$f":"$AF$108/$AS$108","v":1.4340434248258906},{"$f":"$AG$108/$AS$108","v":1.3937198067632848},{"$f":"$AH$108/$AS$108","v":1.3547685001978629},{"$f":"$AI$108/$AS$108","v":1.3171206225680931},{"$f":"$AJ$108/$AS$108","v":1.2807118254879448},{"$f":"$AK$108/$AS$108","v":1.2454819277108433},{"$f":"$AL$108/$AS$108","v":1.2113745831789551},{"$f":"$AM$108/$AS$108","v":1.1783369803063457},{"$f":"$AN$108/$AS$108","v":1.1463195691202872},{"$f":"$AO$108/$AS$108","v":1.1152758132956151},{"$f":"$AP$108/$AS$108","v":1.0851619644723094},{"$f":"$AQ$108/$AS$108","v":1.0559368565545642},{"$f":"$AR$108/$AS$108","v":1.0275617179573893},{"$f":"$AS$108/$AS$108","v":1},"冷房COP比","βc"]
[null,"Σ合計",{"$f":"SUM($D$110:$AS$110)","v":0},{"$f":"$D$103*$D$104","v":0},{"$f":"$E$103*$E$104","v":0},{"$f":"$F$103*$F$104","v":0},{"$f":"$G$103*$G$104","v":0},{"$f":"$H$103*$H$104","v":0},{"$f":"$I$103*$I$104","v":0},{"$f":"$J$103*$J$104","v":0},{"$f":"$K$103*$K$104","v":0},{"$f":"$L$103*$L$104","v":0},{"$f":"$M$103*$M$104","v":0},{"$f":"$N$103*$N$104","v":0},{"$f":"$O$103*$O$104","v":0},{"$f":"$P$103*$P$104","v":0},{"$f":"$Q$103*$Q$104","v":0},{"$f":"$R$103*$R$104","v":0},{"$f":"$S$103*$S$104","v":0},{"$f":"$T$103*$T$104","v":0},{"$f":"$U$103*$U$104","v":0},{"$f":"$V$103*$V$104","v":0},{"$f":"$W$103*$W$104","v":0},{"$f":"$X$103*$X$104","v":0},{"$f":"$Y$103*$Y$104","v":0},{"$f":"$Z$103*$Z$104","v":0},{"$f":"$AA$103*$AA$104","v":0},{"$f":"$AB$103*$AB$104","v":0},{"$f":"$AC$103*$AC$104","v":0},{"$f":"$AD$103*$AD$104","v":0},{"$f":"$AE$103*$AE$104","v":0},{"$f":"$AF$103*$AF$104","v":0},{"$f":"$AG$103*$AG$104","v":0},{"$f":"$AH$103*$AH$104","v":0},{"$f":"$AI$103*$AI$104","v":0},{"$f":"$AJ$103*$AJ$104","v":0},{"$f":"$AK$103*$AK$104","v":0},{"$f":"$AL$103*$AL$104","v":0},{"$f":"$AM$103*$AM$104","v":0},{"$f":"$AN$103*$AN$104","v":0},{"$f":"$AO$103*$AO$104","v":0},{"$f":"$AP$103*$AP$104","v":0},{"$f":"$AQ$103*$AQ$104","v":0},{"$f":"$AR$103*$AR$104","v":0},{"$f":"$AS$103*$AS$104","v":0},{"$f":"SUM($D$110:$AS$110)","v":0},{"$f":"SUM($AU$91:$AU$102)","v":0}]
[]
[null,null,"暖房期間中　温度(T)が発生する時間[hour]"]
[null,null,null," 温度(T)",null,null,null,null,null,null,null,null,null,null,null,null,null,null,null,null,null,null,null,null,null,null,null,null,null,null,null,null,null,null,null,null,null,null,null,null,null,null,null,null,null,null,"月単位"]
[null,null,"月",-6,-5,-4,-3,-2,-1,0,1,2,3,4,5,6,7,8,9,10,11,12,13,14,15,16,17,18,19,20,21,22,23,24,25,26,27,28,29,30,31,32,33,34,35,"月"]
[null,null,4,{"$f":"COUNTIF($D$75:$AA$75,$D$114)*$AB$12","v":0},{"$f":"COUNTIF($D$75:$AA$75,$E$114)*$AB$12","v":0},{"$f":"COUNTIF($D$75:$AA$75,$F$114)*$AB$12","v":0},{"$f":"COUNTIF($D$75:$AA$75,$G$114)*$AB$12","v":0},{"$f":"COUNTIF($D$75:$AA$75,$H$114)*$AB$12","v":0},{"$f":"COUNTIF($D$75:$AA$75,$I$114)*$AB$12","v":0},{"$f":"COUNTIF($D$75:$AA$75,$J$114)*$AB$12","v":0},{"$f":"COUNTIF($D$75:$AA$75,$K$114)*$AB$12","v":0},{"$f":"COUNTIF($D$75:$AA$75,$L$114)*$AB$12","v":0},{"$f":"COUNTIF($D$75:$AA$75,$M$114)*$AB$12","v":0},{"$f":"COUNTIF($D$75:$AA$75,$N$114)*$AB$12","v":0},{"$f":"COUNTIF($D$75:$AA$75,$O$114)*$AB$12","v":0},{"$f":"COUNTIF($D$75:$AA$75,$P$114)*$AB$12","v":0},{"$f":"COUNTIF($D$75:$AA$75,$Q$114)*$AB$12","v":0},{"$f":"COUNTIF($D$75:$AA$75,$R$114)*$AB$12","v":0},{"$f":"COUNTIF($D$75:$AA$75,$S$114)*$AB$12","v":0},{"$f":"COUNTIF($D$75:$AA$75,$T$114)*$AB$12","v":0},{"$f":"COUNTIF($D$75:$AA$75,$U$114)*$AB$12","v":0},{"$f":"COUNTIF($D$75:$AA$75,$V$114)*$AB$12","v":0},{"$f":"COUNTIF($D$75:$AA$75,$W$114)*$AB$12","v":0},{"$f":"COUNTIF($D$75:$AA$75,$X$114)*$AB$12","v":0},{"$f":"COUNTIF($D$75:$AA$75,$Y$114)*$AB$12","v":0},{"$f":"COUNTIF($D$75:$AA$75,$Z$114)*$AB$12","v":0},{"$f":"COUNTIF($D$75:$AA$75,$AA$114)*$AB$12","v":0},{"$f":"COUNTIF($D$75:$AA$75,$AB$114)*$AB$12","v":0},{"$f":"COUNTIF($D$75:$AA$75,$AC$114)*$AB$12","v":0},{"$f":"COUNTIF($D$75:$AA$75,$AD$114)*$AB$12","v":0},{"$f":"COUNTIF($D$75:$AA$75,$AE$114)*$AB$12","v":0},{"$f":"COUNTIF($D$75:$AA$75,$AF$114)*$AB$12","v":0},{"$f":"COUNTIF($D$75:$AA$75,$AG$114)*$AB$12","v":0},{"$f":"COUNTIF($D$75:$AA$75,$AH$114)*$AB$12","v":0},{"$f":"COUNTIF($D$75:$AA$75,$AI$114)*$AB$12","v":0},{"$f":"COUNTIF($D$75:$AA$75,$AJ$114)*$AB$12","v":0},{"$f":"COUNTIF($D$75:$AA$75,$AK$114)*$AB$12","v":0},{"$f":"COUNTIF($D$75:$AA$75,$AL$114)*$AB$12","v":0},{"$f":"COUNTIF($D$75:$AA$75,$AM$114)*$AB$12","v":0},{"$f":"COUNTIF($D$75:$AA$75,$AN$114)*$AB$12","v":0},{"$f":"COUNTIF($D$75:$AA$75,$AO$114)*$AB$12","v":0},{"$f":"COUNTIF($D$75:$AA$75,$AP$114)*$AB$12","v":0},{"$f":"COUNTIF($D$75:$AA$75,$AQ$114)*$AB$12","v":0},{"$f":"COUNTIF($D$75:$AA$75,$AR$114)*$AB$12","v":0},{"$f":"COUNTIF($D$75:$AA$75,$AS$114)*$AB$12","v":0},4,{"$f":"SUMPRODUCT(D115:AS115,$D$128:$AS$128,$D$137:$AS$137,$D$135:$AS$135)","v":0}]
[null,null,5,{"$f":"COUNTIF($D$76:$AA$76,$D$114)*$AB$13","v":0},{"$f":"COUNTIF($D$76:$AA$76,$E$114)*$AB$13","v":0},{"$f":"COUNTIF($D$76:$AA$76,$F$114)*$AB$13","v":0},{"$f":"COUNTIF($D$76:$AA$76,$G$114)*$AB$13","v":0},{"$f":"COUNTIF($D$76:$AA$76,$H$114)*$AB$13","v":0},{"$f":"COUNTIF($D$76:$AA$76,$I$114)*$AB$13","v":0},{"$f":"COUNTIF($D$76:$AA$76,$J$114)*$AB$13","v":0},{"$f":"COUNTIF($D$76:$AA$76,$K$114)*$AB$13","v":0},{"$f":"COUNTIF($D$76:$AA$76,$L$114)*$AB$13","v":0},{"$f":"COUNTIF($D$76:$AA$76,$M$114)*$AB$13","v":0},{"$f":"COUNTIF($D$76:$AA$76,$N$114)*$AB$13","v":0},{"$f":"COUNTIF($D$76:$AA$76,$O$114)*$AB$13","v":0},{"$f":"COUNTIF($D$76:$AA$76,$P$114)*$AB$13","v":0},{"$f":"COUNTIF($D$76:$AA$76,$Q$114)*$AB$13","v":0},{"$f":"COUNTIF($D$76:$AA$76,$R$114)*$AB$13","v":0},{"$f":"COUNTIF($D$76:$AA$76,$S$114)*$AB$13","v":0},{"$f":"COUNTIF($D$76:$AA$76,$T$114)*$AB$13","v":0},{"$f":"COUNTIF($D$76:$AA$76,$U$114)*$AB$13","v":0},{"$f":"COUNTIF($D$76:$AA$76,$V$114)*$AB$13","v":0},{"$f":"COUNTIF($D$76:$AA$76,$W$114)*$AB$13","v":0},{"$f":"COUNTIF($D$76:$AA$76,$X$114)*$AB$13","v":0},{"$f":"COUNTIF($D$76:$AA$76,$Y$114)*$AB$13","v":0},{"$f":"COUNTIF($D$76:$AA$76,$Z$114)*$AB$13","v":0},{"$f":"COUNTIF($D$76:$AA$76,$AA$114)*$AB$13","v":0},{"$f":"COUNTIF($D$76:$AA$76,$AB$114)*$AB$13","v":0},{"$f":"COUNTIF($D$76:$AA$76,$AC$114)*$AB$13","v":0},{"$f":"COUNTIF($D$76:$AA$76,$AD$114)*$AB$13","v":0},{"$f":"COUNTIF($D$76:$AA$76,$AE$114)*$AB$13","v":0},{"$f":"COUNTIF($D$76:$AA$76,$AF$114)*$AB$13","v":0},{"$f":"COUNTIF($D$76:$AA$76,$AG$114)*$AB$13","v":0},{"$f":"COUNTIF($D$76:$AA$76,$AH$114)*$AB$13","v":0},{"$f":"COUNTIF($D$76:$AA$76,$AI$114)*$AB$13","v":0},{"$f":"COUNTIF($D$76:$AA$76,$AJ$114)*$AB$13","v":0},{"$f":"COUNTIF($D$76:$AA$76,$AK$114)*$AB$13","v":0},{"$f":"COUNTIF($D$76:$AA$76,$AL$114)*$AB$13","v":0},{"$f":"COUNTIF($D$76:$AA$76,$AM$114)*$AB$13","v":0},{"$f":"COUNTIF($D$76:$AA$76,$AN$114)*$AB$13","v":0},{"$f":"COUNTIF($D$76:$AA$76,$AO$114)*$AB$13","v":0},{"$f":"COUNTIF($D$76:$AA$76,$AP$114)*$AB$13","v":0},{"$f":"COUNTIF($D$76:$AA$76,$AQ$114)*$AB$13","v":0},{"$f":"COUNTIF($D$76:$AA$76,$AR$114)*$AB$13","v":0},{"$f":"COUNTIF($D$76:$AA$76,$AS$114)*$AB$13","v":0},5,{"$f":"SUMPRODUCT(D116:AS116,$D$128:$AS$128,$D$137:$AS$137,$D$135:$AS$135)","v":0}]
[null,null,6,{"$f":"COUNTIF($D$77:$AA$77,$D$114)*$AB$14","v":0},{"$f":"COUNTIF($D$77:$AA$77,$E$114)*$AB$14","v":0},{"$f":"COUNTIF($D$77:$AA$77,$F$114)*$AB$14","v":0},{"$f":"COUNTIF($D$77:$AA$77,$G$114)*$AB$14","v":0},{"$f":"COUNTIF($D$77:$AA$77,$H$114)*$AB$14","v":0},{"$f":"COUNTIF($D$77:$AA$77,$I$114)*$AB$14","v":0},{"$f":"COUNTIF($D$77:$AA$77,$J$114)*$AB$14","v":0},{"$f":"COUNTIF($D$77:$AA$77,$K$114)*$AB$14","v":0},{"$f":"COUNTIF($D$77:$AA$77,$L$114)*$AB$14","v":0},{"$f":"COUNTIF($D$77:$AA$77,$M$114)*$AB$14","v":0},{"$f":"COUNTIF($D$77:$AA$77,$N$114)*$AB$14","v":0},{"$f":"COUNTIF($D$77:$AA$77,$O$114)*$AB$14","v":0},{"$f":"COUNTIF($D$77:$AA$77,$P$114)*$AB$14","v":0},{"$f":"COUNTIF($D$77:$AA$77,$Q$114)*$AB$14","v":0},{"$f":"COUNTIF($D$77:$AA$77,$R$114)*$AB$14","v":0},{"$f":"COUNTIF($D$77:$AA$77,$S$114)*$AB$14","v":0},{"$f":"COUNTIF($D$77:$AA$77,$T$114)*$AB$14","v":0},{"$f":"COUNTIF($D$77:$AA$77,$U$114)*$AB$14","v":0},{"$f":"COUNTIF($D$77:$AA$77,$V$114)*$AB$14","v":0},{"$f":"COUNTIF($D$77:$AA$77,$W$114)*$AB$14","v":0},{"$f":"COUNTIF($D$77:$AA$77,$X$114)*$AB$14","v":0},{"$f":"COUNTIF($D$77:$AA$77,$Y$114)*$AB$14","v":0},{"$f":"COUNTIF($D$77:$AA$77,$Z$114)*$AB$14","v":0},{"$f":"COUNTIF($D$77:$AA$77,$AA$114)*$AB$14","v":0},{"$f":"COUNTIF($D$77:$AA$77,$AB$114)*$AB$14","v":0},{"$f":"COUNTIF($D$77:$AA$77,$AC$114)*$AB$14","v":0},{"$f":"COUNTIF($D$77:$AA$77,$AD$114)*$AB$14","v":0},{"$f":"COUNTIF($D$77:$AA$77,$AE$114)*$AB$14","v":0},{"$f":"COUNTIF($D$77:$AA$77,$AF$114)*$AB$14","v":0},{"$f":"COUNTIF($D$77:$AA$77,$AG$114)*$AB$14","v":0},{"$f":"COUNTIF($D$77:$AA$77,$AH$114)*$AB$14","v":0},{"$f":"COUNTIF($D$77:$AA$77,$AI$114)*$AB$14","v":0},{"$f":"COUNTIF($D$77:$AA$77,$AJ$114)*$AB$14","v":0},{"$f":"COUNTIF($D$77:$AA$77,$AK$114)*$AB$14","v":0},{"$f":"COUNTIF($D$77:$AA$77,$AL$114)*$AB$14","v":0},{"$f":"COUNTIF($D$77:$AA$77,$AM$114)*$AB$14","v":0},{"$f":"COUNTIF($D$77:$AA$77,$AN$114)*$AB$14","v":0},{"$f":"COUNTIF($D$77:$AA$77,$AO$114)*$AB$14","v":0},{"$f":"COUNTIF($D$77:$AA$77,$AP$114)*$AB$14","v":0},{"$f":"COUNTIF($D$77:$AA$77,$AQ$114)*$AB$14","v":0},{"$f":"COUNTIF($D$77:$AA$77,$AR$114)*$AB$14","v":0},{"$f":"COUNTIF($D$77:$AA$77,$AS$114)*$AB$14","v":0},6,0]
[null,null,7,{"$f":"COUNTIF($D$78:$AA$78,$D$114)*$AB$15","v":0},{"$f":"COUNTIF($D$78:$AA$78,$E$114)*$AB$15","v":0},{"$f":"COUNTIF($D$78:$AA$78,$F$114)*$AB$15","v":0},{"$f":"COUNTIF($D$78:$AA$78,$G$114)*$AB$15","v":0},{"$f":"COUNTIF($D$78:$AA$78,$H$114)*$AB$15","v":0},{"$f":"COUNTIF($D$78:$AA$78,$I$114)*$AB$15","v":0},{"$f":"COUNTIF($D$78:$AA$78,$J$114)*$AB$15","v":0},{"$f":"COUNTIF($D$78:$AA$78,$K$114)*$AB$15","v":0},{"$f":"COUNTIF($D$78:$AA$78,$L$114)*$AB$15","v":0},{"$f":"COUNTIF($D$78:$AA$78,$M$114)*$AB$15","v":0},{"$f":"COUNTIF($D$78:$AA$78,$N$114)*$AB$15","v":0},{"$f":"COUNTIF($D$78:$AA$78,$O$114)*$AB$15","v":0},{"$f":"COUNTIF($D$78:$AA$78,$P$114)*$AB$15","v":0},{"$f":"COUNTIF($D$78:$AA$78,$Q$114)*$AB$15","v":0},{"$f":"COUNTIF($D$78:$AA$78,$R$114)*$AB$15","v":0},{"$f":"COUNTIF($D$78:$AA$78,$S$114)*$AB$15","v":0},{"$f":"COUNTIF($D$78:$AA$78,$T$114)*$AB$15","v":0},{"$f":"COUNTIF($D$78:$AA$78,$U$114)*$AB$15","v":0},{"$f":"COUNTIF($D$78:$AA$78,$V$114)*$AB$15","v":0},{"$f":"COUNTIF($D$78:$AA$78,$W$114)*$AB$15","v":0},{"$f":"COUNTIF($D$78:$AA$78,$X$114)*$AB$15","v":0},{"$f":"COUNTIF($D$78:$AA$78,$Y$114)*$AB$15","v":0},{"$f":"COUNTIF($D$78:$AA$78,$Z$114)*$AB$15","v":0},{"$f":"COUNTIF($D$78:$AA$78,$AA$114)*$AB$15","v":0},{"$f":"COUNTIF($D$78:$AA$78,$AB$114)*$AB$15","v":0},{"$f":"COUNTIF($D$78:$AA$78,$AC$114)*$AB$15","v":0},{"$f":"COUNTIF($D$78:$AA$78,$AD$114)*$AB$15","v":0},{"$f":"COUNTIF($D$78:$AA$78,$AE$114)*$AB$15","v":0},{"$f":"COUNTIF($D$78:$AA$78,$AF$114)*$AB$15","v":0},{"$f":"COUNTIF($D$78:$AA$78,$AG$114)*$AB$15","v":0},{"$f":"COUNTIF($D$78:$AA$78,$AH$114)*$AB$15","v":0},{"$f":"COUNTIF($D$78:$AA$78,$AI$114)*$AB$15","v":0},{"$f":"COUNTIF($D$78:$AA$78,$AJ$114)*$AB$15","v":0},{"$f":"COUNTIF($D$78:$AA$78,$AK$114)*$AB$15","v":0},{"$f":"COUNTIF($D$78:$AA$78,$AL$114)*$AB$15","v":0},{"$f":"COUNTIF($D$78:$AA$78,$AM$114)*$AB$15","v":0},{"$f":"COUNTIF($D$78:$AA$78,$AN$114)*$AB$15","v":0},{"$f":"COUNTIF($D$78:$AA$78,$AO$114)*$AB$15","v":0},{"$f":"COUNTIF($D$78:$AA$78,$AP$114)*$AB$15","v":0},{"$f":"COUNTIF($D$78:$AA$78,$AQ$114)*$AB$15","v":0},{"$f":"COUNTIF($D$78:$AA$78,$AR$114)*$AB$15","v":0},{"$f":"COUNTIF($D$78:$AA$78,$AS$114)*$AB$15","v":0},7,0]
[null,null,8,{"$f":"COUNTIF($D$79:$AA$79,$D$114)*$AB$16","v":0},{"$f":"COUNTIF($D$79:$AA$79,$E$114)*$AB$16","v":0},{"$f":"COUNTIF($D$79:$AA$79,$F$114)*$AB$16","v":0},{"$f":"COUNTIF($D$79:$AA$79,$G$114)*$AB$16","v":0},{"$f":"COUNTIF($D$79:$AA$79,$H$114)*$AB$16","v":0},{"$f":"COUNTIF($D$79:$AA$79,$I$114)*$AB$16","v":0},{"$f":"COUNTIF($D$79:$AA$79,$J$114)*$AB$16","v":0},{"$f":"COUNTIF($D$79:$AA$79,$K$114)*$AB$16","v":0},{"$f":"COUNTIF($D$79:$AA$79,$L$114)*$AB$16","v":0},{"$f":"COUNTIF($D$79:$AA$79,$M$114)*$AB$16","v":0},{"$f":"COUNTIF($D$79:$AA$79,$N$114)*$AB$16","v":0},{"$f":"COUNTIF($D$79:$AA$79,$O$114)*$AB$16","v":0},{"$f":"COUNTIF($D$79:$AA$79,$P$114)*$AB$16","v":0},{"$f":"COUNTIF($D$79:$AA$79,$Q$114)*$AB$16","v":0},{"$f":"COUNTIF($D$79:$AA$79,$R$114)*$AB$16","v":0},{"$f":"COUNTIF($D$79:$AA$79,$S$114)*$AB$16","v":0},{"$f":"COUNTIF($D$79:$AA$79,$T$114)*$AB$16","v":0},{"$f":"COUNTIF($D$79:$AA$79,$U$114)*$AB$16","v":0},{"$f":"COUNTIF($D$79:$AA$79,$V$114)*$AB$16","v":0},{"$f":"COUNTIF($D$79:$AA$79,$W$114)*$AB$16","v":0},{"$f":"COUNTIF($D$79:$AA$79,$X$114)*$AB$16","v":0},{"$f":"COUNTIF($D$79:$AA$79,$Y$114)*$AB$16","v":0},{"$f":"COUNTIF($D$79:$AA$79,$Z$114)*$AB$16","v":0},{"$f":"COUNTIF($D$79:$AA$79,$AA$114)*$AB$16","v":0},{"$f":"COUNTIF($D$79:$AA$79,$AB$114)*$AB$16","v":0},{"$f":"COUNTIF($D$79:$AA$79,$AC$114)*$AB$16","v":0},{"$f":"COUNTIF($D$79:$AA$79,$AD$114)*$AB$16","v":0},{"$f":"COUNTIF($D$79:$AA$79,$AE$114)*$AB$16","v":0},{"$f":"COUNTIF($D$79:$AA$79,$AF$114)*$AB$16","v":0},{"$f":"COUNTIF($D$79:$AA$79,$AG$114)*$AB$16","v":0},{"$f":"COUNTIF($D$79:$AA$79,$AH$114)*$AB$16","v":0},{"$f":"COUNTIF($D$79:$AA$79,$AI$114)*$AB$16","v":0},{"$f":"COUNTIF($D$79:$AA$79,$AJ$114)*$AB$16","v":0},{"$f":"COUNTIF($D$79:$AA$79,$AK$114)*$AB$16","v":0},{"$f":"COUNTIF($D$79:$AA$79,$AL$114)*$AB$16","v":0},{"$f":"COUNTIF($D$79:$AA$79,$AM$114)*$AB$16","v":0},{"$f":"COUNTIF($D$79:$AA$79,$AN$114)*$AB$16","v":0},{"$f":"COUNTIF($D$79:$AA$79,$AO$114)*$AB$16","v":0},{"$f":"COUNTIF($D$79:$AA$79,$AP$114)*$AB$16","v":0},{"$f":"COUNTIF($D$79:$AA$79,$AQ$114)*$AB$16","v":0},{"$f":"COUNTIF($D$79:$AA$79,$AR$114)*$AB$16","v":0},{"$f":"COUNTIF($D$79:$AA$79,$AS$114)*$AB$16","v":0},8,0]
[null,null,9,{"$f":"COUNTIF($D$80:$AA$80,$D$114)*$AB$17","v":0},{"$f":"COUNTIF($D$80:$AA$80,$E$114)*$AB$17","v":0},{"$f":"COUNTIF($D$80:$AA$80,$F$114)*$AB$17","v":0},{"$f":"COUNTIF($D$80:$AA$80,$G$114)*$AB$17","v":0},{"$f":"COUNTIF($D$80:$AA$80,$H$114)*$AB$17","v":0},{"$f":"COUNTIF($D$80:$AA$80,$I$114)*$AB$17","v":0},{"$f":"COUNTIF($D$80:$AA$80,$J$114)*$AB$17","v":0},{"$f":"COUNTIF($D$80:$AA$80,$K$114)*$AB$17","v":0},{"$f":"COUNTIF($D$80:$AA$80,$L$114)*$AB$17","v":0},{"$f":"COUNTIF($D$80:$AA$80,$M$114)*$AB$17","v":0},{"$f":"COUNTIF($D$80:$AA$80,$N$114)*$AB$17","v":0},{"$f":"COUNTIF($D$80:$AA$80,$O$114)*$AB$17","v":0},{"$f":"COUNTIF($D$80:$AA$80,$P$114)*$AB$17","v":0},{"$f":"COUNTIF($D$80:$AA$80,$Q$114)*$AB$17","v":0},{"$f":"COUNTIF($D$80:$AA$80,$R$114)*$AB$17","v":0},{"$f":"COUNTIF($D$80:$AA$80,$S$114)*$AB$17","v":0},{"$f":"COUNTIF($D$80:$AA$80,$T$114)*$AB$17","v":0},{"$f":"COUNTIF($D$80:$AA$80,$U$114)*$AB$17","v":0},{"$f":"COUNTIF($D$80:$AA$80,$V$114)*$AB$17","v":0},{"$f":"COUNTIF($D$80:$AA$80,$W$114)*$AB$17","v":0},{"$f":"COUNTIF($D$80:$AA$80,$X$114)*$AB$17","v":0},{"$f":"COUNTIF($D$80:$AA$80,$Y$114)*$AB$17","v":0},{"$f":"COUNTIF($D$80:$AA$80,$Z$114)*$AB$17","v":0},{"$f":"COUNTIF($D$80:$AA$80,$AA$114)*$AB$17","v":0},{"$f":"COUNTIF($D$80:$AA$80,$AB$114)*$AB$17","v":0},{"$f":"COUNTIF($D$80:$AA$80,$AC$114)*$AB$17","v":0},{"$f":"COUNTIF($D$80:$AA$80,$AD$114)*$AB$17","v":0},{"$f":"COUNTIF($D$80:$AA$80,$AE$114)*$AB$17","v":0},{"$f":"COUNTIF($D$80:$AA$80,$AF$114)*$AB$17","v":0},{"$f":"COUNTIF($D$80:$AA$80,$AG$114)*$AB$17","v":0},{"$f":"COUNTIF($D$80:$AA$80,$AH$114)*$AB$17","v":0},{"$f":"COUNTIF($D$80:$AA$80,$AI$114)*$AB$17","v":0},{"$f":"COUNTIF($D$80:$AA$80,$AJ$114)*$AB$17","v":0},{"$f":"COUNTIF($D$80:$AA$80,$AK$114)*$AB$17","v":0},{"$f":"COUNTIF($D$80:$AA$80,$AL$114)*$AB$17","v":0},{"$f":"COUNTIF($D$80:$AA$80,$AM$114)*$AB$17","v":0},{"$f":"COUNTIF($D$80:$AA$80,$AN$114)*$AB$17","v":0},{"$f":"COUNTIF($D$80:$AA$80,$AO$114)*$AB$17","v":0},{"$f":"COUNTIF($D$80:$AA$80,$AP$114)*$AB$17","v":0},{"$f":"COUNTIF($D$80:$AA$80,$AQ$114)*$AB$17","v":0},{"$f":"COUNTIF($D$80:$AA$80,$AR$114)*$AB$17","v":0},{"$f":"COUNTIF($D$80:$AA$80,$AS$114)*$AB$17","v":0},9,0]
[null,null,10,{"$f":"COUNTIF($D$81:$AA$81,$D$114)*$AB$18","v":0},{"$f":"COUNTIF($D$81:$AA$81,$E$114)*$AB$18","v":0},{"$f":"COUNTIF($D$81:$AA$81,$F$114)*$AB$18","v":0},{"$f":"COUNTIF($D$81:$AA$81,$G$114)*$AB$18","v":0},{"$f":"COUNTIF($D$81:$AA$81,$H$114)*$AB$18","v":0},{"$f":"COUNTIF($D$81:$AA$81,$I$114)*$AB$18","v":0},{"$f":"COUNTIF($D$81:$AA$81,$J$114)*$AB$18","v":0},{"$f":"COUNTIF($D$81:$AA$81,$K$114)*$AB$18","v":0},{"$f":"COUNTIF($D$81:$AA$81,$L$114)*$AB$18","v":0},{"$f":"COUNTIF($D$81:$AA$81,$M$114)*$AB$18","v":0},{"$f":"COUNTIF($D$81:$AA$81,$N$114)*$AB$18","v":0},{"$f":"COUNTIF($D$81:$AA$81,$O$114)*$AB$18","v":0},{"$f":"COUNTIF($D$81:$AA$81,$P$114)*$AB$18","v":0},{"$f":"COUNTIF($D$81:$AA$81,$Q$114)*$AB$18","v":0},{"$f":"COUNTIF($D$81:$AA$81,$R$114)*$AB$18","v":0},{"$f":"COUNTIF($D$81:$AA$81,$S$114)*$AB$18","v":0},{"$f":"COUNTIF($D$81:$AA$81,$T$114)*$AB$18","v":0},{"$f":"COUNTIF($D$81:$AA$81,$U$114)*$AB$18","v":0},{"$f":"COUNTIF($D$81:$AA$81,$V$114)*$AB$18","v":0},{"$f":"COUNTIF($D$81:$AA$81,$W$114)*$AB$18","v":0},{"$f":"COUNTIF($D$81:$AA$81,$X$114)*$AB$18","v":0},{"$f":"COUNTIF($D$81:$AA$81,$Y$114)*$AB$18","v":0},{"$f":"COUNTIF($D$81:$AA$81,$Z$114)*$AB$18","v":0},{"$f":"COUNTIF($D$81:$AA$81,$AA$114)*$AB$18","v":0},{"$f":"COUNTIF($D$81:$AA$81,$AB$114)*$AB$18","v":0},{"$f":"COUNTIF($D$81:$AA$81,$AC$114)*$AB$18","v":0},{"$f":"COUNTIF($D$81:$AA$81,$AD$114)*$AB$18","v":0},{"$f":"COUNTIF($D$81:$AA$81,$AE$114)*$AB$18","v":0},{"$f":"COUNTIF($D$81:$AA$81,$AF$114)*$AB$18","v":0},{"$f":"COUNTIF($D$81:$AA$81,$AG$114)*$AB$18","v":0},{"$f":"COUNTIF($D$81:$AA$81,$AH$114)*$AB$18","v":0},{"$f":"COUNTIF($D$81:$AA$81,$AI$114)*$AB$18","v":0},{"$f":"COUNTIF($D$81:$AA$81,$AJ$114)*$AB$18","v":0},{"$f":"COUNTIF($D$81:$AA$81,$AK$114)*$AB$18","v":0},{"$f":"COUNTIF($D$81:$AA$81,$AL$114)*$AB$18","v":0},{"$f":"COUNTIF($D$81:$AA$81,$AM$114)*$AB$18","v":0},{"$f":"COUNTIF($D$81:$AA$81,$AN$114)*$AB$18","v":0},{"$f":"COUNTIF($D$81:$AA$81,$AO$114)*$AB$18","v":0},{"$f":"COUNTIF($D$81:$AA$81,$AP$114)*$AB$18","v":0},{"$f":"COUNTIF($D$81:$AA$81,$AQ$114)*$AB$18","v":0},{"$f":"COUNTIF($D$81:$AA$81,$AR$114)*$AB$18","v":0},{"$f":"COUNTIF($D$81:$AA$81,$AS$114)*$AB$18","v":0},10,0]
[null,null,11,{"$f":"COUNTIF($D$82:$AA$82,$D$114)*$AB$19","v":0},{"$f":"COUNTIF($D$82:$AA$82,$E$114)*$AB$19","v":0},{"$f":"COUNTIF($D$82:$AA$82,$F$114)*$AB$19","v":0},{"$f":"COUNTIF($D$82:$AA$82,$G$114)*$AB$19","v":0},{"$f":"COUNTIF($D$82:$AA$82,$H$114)*$AB$19","v":0},{"$f":"COUNTIF($D$82:$AA$82,$I$114)*$AB$19","v":0},{"$f":"COUNTIF($D$82:$AA$82,$J$114)*$AB$19","v":0},{"$f":"COUNTIF($D$82:$AA$82,$K$114)*$AB$19","v":0},{"$f":"COUNTIF($D$82:$AA$82,$L$114)*$AB$19","v":0},{"$f":"COUNTIF($D$82:$AA$82,$M$114)*$AB$19","v":0},{"$f":"COUNTIF($D$82:$AA$82,$N$114)*$AB$19","v":0},{"$f":"COUNTIF($D$82:$AA$82,$O$114)*$AB$19","v":0},{"$f":"COUNTIF($D$82:$AA$82,$P$114)*$AB$19","v":0},{"$f":"COUNTIF($D$82:$AA$82,$Q$114)*$AB$19","v":0},{"$f":"COUNTIF($D$82:$AA$82,$R$114)*$AB$19","v":0},{"$f":"COUNTIF($D$82:$AA$82,$S$114)*$AB$19","v":0},{"$f":"COUNTIF($D$82:$AA$82,$T$114)*$AB$19","v":0},{"$f":"COUNTIF($D$82:$AA$82,$U$114)*$AB$19","v":0},{"$f":"COUNTIF($D$82:$AA$82,$V$114)*$AB$19","v":0},{"$f":"COUNTIF($D$82:$AA$82,$W$114)*$AB$19","v":0},{"$f":"COUNTIF($D$82:$AA$82,$X$114)*$AB$19","v":0},{"$f":"COUNTIF($D$82:$AA$82,$Y$114)*$AB$19","v":0},{"$f":"COUNTIF($D$82:$AA$82,$Z$114)*$AB$19","v":0},{"$f":"COUNTIF($D$82:$AA$82,$AA$114)*$AB$19","v":0},{"$f":"COUNTIF($D$82:$AA$82,$AB$114)*$AB$19","v":0},{"$f":"COUNTIF($D$82:$AA$82,$AC$114)*$AB$19","v":0},{"$f":"COUNTIF($D$82:$AA$82,$AD$114)*$AB$19","v":0},{"$f":"COUNTIF($D$82:$AA$82,$AE$114)*$AB$19","v":0},{"$f":"COUNTIF($D$82:$AA$82,$AF$114)*$AB$19","v":0},{"$f":"COUNTIF($D$82:$AA$82,$AG$114)*$AB$19","v":0},{"$f":"COUNTIF($D$82:$AA$82,$AH$114)*$AB$19","v":0},{"$f":"COUNTIF($D$82:$AA$82,$AI$114)*$AB$19","v":0},{"$f":"COUNTIF($D$82:$AA$82,$AJ$114)*$AB$19","v":0},{"$f":"COUNTIF($D$82:$AA$82,$AK$114)*$AB$19","v":0},{"$f":"COUNTIF($D$82:$AA$82,$AL$114)*$AB$19","v":0},{"$f":"COUNTIF($D$82:$AA$82,$AM$114)*$AB$19","v":0},{"$f":"COUNTIF($D$82:$AA$82,$AN$114)*$AB$19","v":0},{"$f":"COUNTIF($D$82:$AA$82,$AO$114)*$AB$19","v":0},{"$f":"COUNTIF($D$82:$AA$82,$AP$114)*$AB$19","v":0},{"$f":"COUNTIF($D$82:$AA$82,$AQ$114)*$AB$19","v":0},{"$f":"COUNTIF($D$82:$AA$82,$AR$114)*$AB$19","v":0},{"$f":"COUNTIF($D$82:$AA$82,$AS$114)*$AB$19","v":0},11,0]
[null,null,12,{"$f":"COUNTIF($D$83:$AA$83,$D$114)*$AB$20","v":0},{"$f":"COUNTIF($D$83:$AA$83,$E$114)*$AB$20","v":0},{"$f":"COUNTIF($D$83:$AA$83,$F$114)*$AB$20","v":0},{"$f":"COUNTIF($D$83:$AA$83,$G$114)*$AB$20","v":0},{"$f":"COUNTIF($D$83:$AA$83,$H$114)*$AB$20","v":0},{"$f":"COUNTIF($D$83:$AA$83,$I$114)*$AB$20","v":0},{"$f":"COUNTIF($D$83:$AA$83,$J$114)*$AB$20","v":0},{"$f":"COUNTIF($D$83:$AA$83,$K$114)*$AB$20","v":0},{"$f":"COUNTIF($D$83:$AA$83,$L$114)*$AB$20","v":0},{"$f":"COUNTIF($D$83:$AA$83,$M$114)*$AB$20","v":0},{"$f":"COUNTIF($D$83:$AA$83,$N$114)*$AB$20","v":0},{"$f":"COUNTIF($D$83:$AA$83,$O$114)*$AB$20","v":0},{"$f":"COUNTIF($D$83:$AA$83,$P$114)*$AB$20","v":0},{"$f":"COUNTIF($D$83:$AA$83,$Q$114)*$AB$20","v":0},{"$f":"COUNTIF($D$83:$AA$83,$R$114)*$AB$20","v":0},{"$f":"COUNTIF($D$83:$AA$83,$S$114)*$AB$20","v":0},{"$f":"COUNTIF($D$83:$AA$83,$T$114)*$AB$20","v":0},{"$f":"COUNTIF($D$83:$AA$83,$U$114)*$AB$20","v":0},{"$f":"COUNTIF($D$83:$AA$83,$V$114)*$AB$20","v":0},{"$f":"COUNTIF($D$83:$AA$83,$W$114)*$AB$20","v":0},{"$f":"COUNTIF($D$83:$AA$83,$X$114)*$AB$20","v":0},{"$f":"COUNTIF($D$83:$AA$83,$Y$114)*$AB$20","v":0},{"$f":"COUNTIF($D$83:$AA$83,$Z$114)*$AB$20","v":0},{"$f":"COUNTIF($D$83:$AA$83,$AA$114)*$AB$20","v":0},{"$f":"COUNTIF($D$83:$AA$83,$AB$114)*$AB$20","v":0},{"$f":"COUNTIF($D$83:$AA$83,$AC$114)*$AB$20","v":0},{"$f":"COUNTIF($D$83:$AA$83,$AD$114)*$AB$20","v":0},{"$f":"COUNTIF($D$83:$AA$83,$AE$114)*$AB$20","v":0},{"$f":"COUNTIF($D$83:$AA$83,$AF$114)*$AB$20","v":0},{"$f":"COUNTIF($D$83:$AA$83,$AG$114)*$AB$20","v":0},{"$f":"COUNTIF($D$83:$AA$83,$AH$114)*$AB$20","v":0},{"$f":"COUNTIF($D$83:$AA$83,$AI$114)*$AB$20","v":0},{"$f":"COUNTIF($D$83:$AA$83,$AJ$114)*$AB$20","v":0},{"$f":"COUNTIF($D$83:$AA$83,$AK$114)*$AB$20","v":0},{"$f":"COUNTIF($D$83:$AA$83,$AL$114)*$AB$20","v":0},{"$f":"COUNTIF($D$83:$AA$83,$AM$114)*$AB$20","v":0},{"$f":"COUNTIF($D$83:$AA$83,$AN$114)*$AB$20","v":0},{"$f":"COUNTIF($D$83:$AA$83,$AO$114)*$AB$20","v":0},{"$f":"COUNTIF($D$83:$AA$83,$AP$114)*$AB$20","v":0},{"$f":"COUNTIF($D$83:$AA$83,$AQ$114)*$AB$20","v":0},{"$f":"COUNTIF($D$83:$AA$83,$AR$114)*$AB$20","v":0},{"$f":"COUNTIF($D$83:$AA$83,$AS$114)*$AB$20","v":0},12,0]
[null,null,1,{"$f":"COUNTIF($D$84:$AA$84,$D$114)*$AB$21","v":0},{"$f":"COUNTIF($D$84:$AA$84,$E$114)*$AB$21","v":0},{"$f":"COUNTIF($D$84:$AA$84,$F$114)*$AB$21","v":0},{"$f":"COUNTIF($D$84:$AA$84,$G$114)*$AB$21","v":0},{"$f":"COUNTIF($D$84:$AA$84,$H$114)*$AB$21","v":0},{"$f":"COUNTIF($D$84:$AA$84,$I$114)*$AB$21","v":0},{"$f":"COUNTIF($D$84:$AA$84,$J$114)*$AB$21","v":0},{"$f":"COUNTIF($D$84:$AA$84,$K$114)*$AB$21","v":0},{"$f":"COUNTIF($D$84:$AA$84,$L$114)*$AB$21","v":0},{"$f":"COUNTIF($D$84:$AA$84,$M$114)*$AB$21","v":0},{"$f":"COUNTIF($D$84:$AA$84,$N$114)*$AB$21","v":0},{"$f":"COUNTIF($D$84:$AA$84,$O$114)*$AB$21","v":0},{"$f":"COUNTIF($D$84:$AA$84,$P$114)*$AB$21","v":0},{"$f":"COUNTIF($D$84:$AA$84,$Q$114)*$AB$21","v":0},{"$f":"COUNTIF($D$84:$AA$84,$R$114)*$AB$21","v":0},{"$f":"COUNTIF($D$84:$AA$84,$S$114)*$AB$21","v":0},{"$f":"COUNTIF($D$84:$AA$84,$T$114)*$AB$21","v":0},{"$f":"COUNTIF($D$84:$AA$84,$U$114)*$AB$21","v":0},{"$f":"COUNTIF($D$84:$AA$84,$V$114)*$AB$21","v":0},{"$f":"COUNTIF($D$84:$AA$84,$W$114)*$AB$21","v":0},{"$f":"COUNTIF($D$84:$AA$84,$X$114)*$AB$21","v":0},{"$f":"COUNTIF($D$84:$AA$84,$Y$114)*$AB$21","v":0},{"$f":"COUNTIF($D$84:$AA$84,$Z$114)*$AB$21","v":0},{"$f":"COUNTIF($D$84:$AA$84,$AA$114)*$AB$21","v":0},{"$f":"COUNTIF($D$84:$AA$84,$AB$114)*$AB$21","v":0},{"$f":"COUNTIF($D$84:$AA$84,$AC$114)*$AB$21","v":0},{"$f":"COUNTIF($D$84:$AA$84,$AD$114)*$AB$21","v":0},{"$f":"COUNTIF($D$84:$AA$84,$AE$114)*$AB$21","v":0},{"$f":"COUNTIF($D$84:$AA$84,$AF$114)*$AB$21","v":0},{"$f":"COUNTIF($D$84:$AA$84,$AG$114)*$AB$21","v":0},{"$f":"COUNTIF($D$84:$AA$84,$AH$114)*$AB$21","v":0},{"$f":"COUNTIF($D$84:$AA$84,$AI$114)*$AB$21","v":0},{"$f":"COUNTIF($D$84:$AA$84,$AJ$114)*$AB$21","v":0},{"$f":"COUNTIF($D$84:$AA$84,$AK$114)*$AB$21","v":0},{"$f":"COUNTIF($D$84:$AA$84,$AL$114)*$AB$21","v":0},{"$f":"COUNTIF($D$84:$AA$84,$AM$114)*$AB$21","v":0},{"$f":"COUNTIF($D$84:$AA$84,$AN$114)*$AB$21","v":0},{"$f":"COUNTIF($D$84:$AA$84,$AO$114)*$AB$21","v":0},{"$f":"COUNTIF($D$84:$AA$84,$AP$114)*$AB$21","v":0},{"$f":"COUNTIF($D$84:$AA$84,$AQ$114)*$AB$21","v":0},{"$f":"COUNTIF($D$84:$AA$84,$AR$114)*$AB$21","v":0},{"$f":"COUNTIF($D$84:$AA$84,$AS$114)*$AB$21","v":0},1,0]
[null,null,2,{"$f":"COUNTIF($D$85:$AA$85,$D$114)*$AB$22","v":0},{"$f":"COUNTIF($D$85:$AA$85,$E$114)*$AB$22","v":0},{"$f":"COUNTIF($D$85:$AA$85,$F$114)*$AB$22","v":0},{"$f":"COUNTIF($D$85:$AA$85,$G$114)*$AB$22","v":0},{"$f":"COUNTIF($D$85:$AA$85,$H$114)*$AB$22","v":0},{"$f":"COUNTIF($D$85:$AA$85,$I$114)*$AB$22","v":0},{"$f":"COUNTIF($D$85:$AA$85,$J$114)*$AB$22","v":0},{"$f":"COUNTIF($D$85:$AA$85,$K$114)*$AB$22","v":0},{"$f":"COUNTIF($D$85:$AA$85,$L$114)*$AB$22","v":0},{"$f":"COUNTIF($D$85:$AA$85,$M$114)*$AB$22","v":0},{"$f":"COUNTIF($D$85:$AA$85,$N$114)*$AB$22","v":0},{"$f":"COUNTIF($D$85:$AA$85,$O$114)*$AB$22","v":0},{"$f":"COUNTIF($D$85:$AA$85,$P$114)*$AB$22","v":0},{"$f":"COUNTIF($D$85:$AA$85,$Q$114)*$AB$22","v":0},{"$f":"COUNTIF($D$85:$AA$85,$R$114)*$AB$22","v":0},{"$f":"COUNTIF($D$85:$AA$85,$S$114)*$AB$22","v":0},{"$f":"COUNTIF($D$85:$AA$85,$T$114)*$AB$22","v":0},{"$f":"COUNTIF($D$85:$AA$85,$U$114)*$AB$22","v":0},{"$f":"COUNTIF($D$85:$AA$85,$V$114)*$AB$22","v":0},{"$f":"COUNTIF($D$85:$AA$85,$W$114)*$AB$22","v":0},{"$f":"COUNTIF($D$85:$AA$85,$X$114)*$AB$22","v":0},{"$f":"COUNTIF($D$85:$AA$85,$Y$114)*$AB$22","v":0},{"$f":"COUNTIF($D$85:$AA$85,$Z$114)*$AB$22","v":0},{"$f":"COUNTIF($D$85:$AA$85,$AA$114)*$AB$22","v":0},{"$f":"COUNTIF($D$85:$AA$85,$AB$114)*$AB$22","v":0},{"$f":"COUNTIF($D$85:$AA$85,$AC$114)*$AB$22","v":0},{"$f":"COUNTIF($D$85:$AA$85,$AD$114)*$AB$22","v":0},{"$f":"COUNTIF($D$85:$AA$85,$AE$114)*$AB$22","v":0},{"$f":"COUNTIF($D$85:$AA$85,$AF$114)*$AB$22","v":0},{"$f":"COUNTIF($D$85:$AA$85,$AG$114)*$AB$22","v":0},{"$f":"COUNTIF($D$85:$AA$85,$AH$114)*$AB$22","v":0},{"$f":"COUNTIF($D$85:$AA$85,$AI$114)*$AB$22","v":0},{"$f":"COUNTIF($D$85:$AA$85,$AJ$114)*$AB$22","v":0},{"$f":"COUNTIF($D$85:$AA$85,$AK$114)*$AB$22","v":0},{"$f":"COUNTIF($D$85:$AA$85,$AL$114)*$AB$22","v":0},{"$f":"COUNTIF($D$85:$AA$85,$AM$114)*$AB$22","v":0},{"$f":"COUNTIF($D$85:$AA$85,$AN$114)*$AB$22","v":0},{"$f":"COUNTIF($D$85:$AA$85,$AO$114)*$AB$22","v":0},{"$f":"COUNTIF($D$85:$AA$85,$AP$114)*$AB$22","v":0},{"$f":"COUNTIF($D$85:$AA$85,$AQ$114)*$AB$22","v":0},{"$f":"COUNTIF($D$85:$AA$85,$AR$114)*$AB$22","v":0},{"$f":"COUNTIF($D$85:$AA$85,$AS$114)*$AB$22","v":0},2,0]
[null,null,3,{"$f":"COUNTIF($D$86:$AA$86,$D$114)*$AB$23","v":0},{"$f":"COUNTIF($D$86:$AA$86,$E$114)*$AB$23","v":0},{"$f":"COUNTIF($D$86:$AA$86,$F$114)*$AB$23","v":0},{"$f":"COUNTIF($D$86:$AA$86,$G$114)*$AB$23","v":0},{"$f":"COUNTIF($D$86:$AA$86,$H$114)*$AB$23","v":0},{"$f":"COUNTIF($D$86:$AA$86,$I$114)*$AB$23","v":0},{"$f":"COUNTIF($D$86:$AA$86,$J$114)*$AB$23","v":0},{"$f":"COUNTIF($D$86:$AA$86,$K$114)*$AB$23","v":0},{"$f":"COUNTIF($D$86:$AA$86,$L$114)*$AB$23","v":0},{"$f":"COUNTIF($D$86:$AA$86,$M$114)*$AB$23","v":0},{"$f":"COUNTIF($D$86:$AA$86,$N$114)*$AB$23","v":0},{"$f":"COUNTIF($D$86:$AA$86,$O$114)*$AB$23","v":0},{"$f":"COUNTIF($D$86:$AA$86,$P$114)*$AB$23","v":0},{"$f":"COUNTIF($D$86:$AA$86,$Q$114)*$AB$23","v":0},{"$f":"COUNTIF($D$86:$AA$86,$R$114)*$AB$23","v":0},{"$f":"COUNTIF($D$86:$AA$86,$S$114)*$AB$23","v":0},{"$f":"COUNTIF($D$86:$AA$86,$T$114)*$AB$23","v":0},{"$f":"COUNTIF($D$86:$AA$86,$U$114)*$AB$23","v":0},{"$f":"COUNTIF($D$86:$AA$86,$V$114)*$AB$23","v":0},{"$f":"COUNTIF($D$86:$AA$86,$W$114)*$AB$23","v":0},{"$f":"COUNTIF($D$86:$AA$86,$X$114)*$AB$23","v":0},{"$f":"COUNTIF($D$86:$AA$86,$Y$114)*$AB$23","v":0},{"$f":"COUNTIF($D$86:$AA$86,$Z$114)*$AB$23","v":0},{"$f":"COUNTIF($D$86:$AA$86,$AA$114)*$AB$23","v":0},{"$f":"COUNTIF($D$86:$AA$86,$AB$114)*$AB$23","v":0},{"$f":"COUNTIF($D$86:$AA$86,$AC$114)*$AB$23","v":0},{"$f":"COUNTIF($D$86:$AA$86,$AD$114)*$AB$23","v":0},{"$f":"COUNTIF($D$86:$AA$86,$AE$114)*$AB$23","v":0},{"$f":"COUNTIF($D$86:$AA$86,$AF$114)*$AB$23","v":0},{"$f":"COUNTIF($D$86:$AA$86,$AG$114)*$AB$23","v":0},{"$f":"COUNTIF($D$86:$AA$86,$AH$114)*$AB$23","v":0},{"$f":"COUNTIF($D$86:$AA$86,$AI$114)*$AB$23","v":0},{"$f":"COUNTIF($D$86:$AA$86,$AJ$114)*$AB$23","v":0},{"$f":"COUNTIF($D$86:$AA$86,$AK$114)*$AB$23","v":0},{"$f":"COUNTIF($D$86:$AA$86,$AL$114)*$AB$23","v":0},{"$f":"COUNTIF($D$86:$AA$86,$AM$114)*$AB$23","v":0},{"$f":"COUNTIF($D$86:$AA$86,$AN$114)*$AB$23","v":0},{"$f":"COUNTIF($D$86:$AA$86,$AO$114)*$AB$23","v":0},{"$f":"COUNTIF($D$86:$AA$86,$AP$114)*$AB$23","v":0},{"$f":"COUNTIF($D$86:$AA$86,$AQ$114)*$AB$23","v":0},{"$f":"COUNTIF($D$86:$AA$86,$AR$114)*$AB$23","v":0},{"$f":"COUNTIF($D$86:$AA$86,$AS$114)*$AB$23","v":0},3,0]
[null,null,"発生時間",{"$f":"SUM($D$115:$D$126)","v":0},{"$f":"SUM($E$115:$E$126)","v":0},{"$f":"SUM($F$115:$F$126)","v":0},{"$f":"SUM($G$115:$G$126)","v":0},{"$f":"SUM($H$115:$H$126)","v":0},{"$f":"SUM($I$115:$I$126)","v":0},{"$f":"SUM($J$115:$J$126)","v":0},{"$f":"SUM($K$115:$K$126)","v":0},{"$f":"SUM($L$115:$L$126)","v":0},{"$f":"SUM($M$115:$M$126)","v":0},{"$f":"SUM($N$115:$N$126)","v":0},{"$f":"SUM($O$115:$O$126)","v":0},{"$f":"SUM($P$115:$P$126)","v":0},{"$f":"SUM($Q$115:$Q$126)","v":0},{"$f":"SUM($R$115:$R$126)","v":0},{"$f":"SUM($S$115:$S$126)","v":0},{"$f":"SUM($T$115:$T$126)","v":0},{"$f":"SUM($U$115:$U$126)","v":0},{"$f":"SUM($V$115:$V$126)","v":0},{"$f":"SUM($W$115:$W$126)","v":0},{"$f":"SUM($X$115:$X$126)","v":0},{"$f":"SUM($Y$115:$Y$126)","v":0},{"$f":"SUM($Z$115:$Z$126)","v":0},{"$f":"SUM($AA$115:$AA$126)","v":0},{"$f":"SUM($AB$115:$AB$126)","v":0},{"$f":"SUM($AC$115:$AC$126)","v":0},{"$f":"SUM($AD$115:$AD$126)","v":0},{"$f":"SUM($AE$115:$AE$126)","v":0},{"$f":"SUM($AF$115:$AF$126)","v":0},{"$f":"SUM($AG$115:$AG$126)","v":0},{"$f":"SUM($AH$115:$AH$126)","v":0},{"$f":"SUM($AI$115:$AI$126)","v":0},{"$f":"SUM($AJ$115:$AJ$126)","v":0},{"$f":"SUM($AK$115:$AK$126)","v":0},{"$f":"SUM($AL$115:$AL$126)","v":0},{"$f":"SUM($AM$115:$AM$126)","v":0},{"$f":"SUM($AN$115:$AN$126)","v":0},{"$f":"SUM($AO$115:$AO$126)","v":0},{"$f":"SUM($AP$115:$AP$126)","v":0},{"$f":"SUM($AQ$115:$AQ$126)","v":0},{"$f":"SUM($AR$115:$AR$126)","v":0},{"$f":"SUM($AS$115:$AS$126)","v":0},"発生時間"]
[null,"εw","暖房時消費電力比",{"$f":"$D$129/$D$133","v":0.76509131669984332},{"$f":"$E$129/$E$133","v":0.7992191924607519},{"$f":"$F$129/$F$133","v":0.78287136133970037},{"$f":"$G$129/$G$133","v":0.76141672984884667},{"$f":"$H$129/$H$133","v":0.73518731906486556},{"$f":"$I$129/$I$133","v":0.70448697857913767},{"$f":"$J$129/$J$133","v":0.66959431231966504},{"$f":"$K$129/$K$133","v":0.63076524715054272},{"$f":"$L$129/$L$133","v":0.58823529411764708},{"$f":"$M$129/$M$133","v":0.54222154440851789},{"$f":"$N$129/$N$133","v":0.49292443564014371},{"$f":"$O$129/$O$133","v":0.44052931872715972},{"$f":"$P$129/$P$133","v":0.35759875797826463},{"$f":"$Q$129/$Q$133","v":0.29411764705882348},{"$f":"$R$129/$R$133","v":0.23234474848435202},{"$f":"$S$129/$S$133","v":0.17215473145780058},{"$f":"$T$129/$T$133","v":0.11343423310968954},{"$f":"$U$129/$U$133","v":5.6080463273392278E-2},{"$f":"$V$129/$V$133","v":0},{"$f":"$W$129/$W$133","v":0},{"$f":"$X$129/$X$133","v":0},{"$f":"$Y$129/$Y$133","v":0},{"$f":"$Z$129/$Z$133","v":0},{"$f":"$AA$129/$AA$133","v":0},{"$f":"$AB$129/$AB$133","v":0},{"$f":"$AC$129/$AC$133","v":0},{"$f":"$AD$129/$AD$133","v":0},{"$f":"$AE$129/$AE$133","v":0},{"$f":"$AF$129/$AF$133","v":0},{"$f":"$AG$129/$AG$133","v":0},{"$f":"$AH$129/$AH$133","v":0},{"$f":"$AI$129/$AI$133","v":0},{"$f":"$AJ$129/$AJ$133","v":0},{"$f":"$AK$129/$AK$133","v":0},{"$f":"$AL$129/$AL$133","v":0},{"$f":"$AM$129/$AM$133","v":0},{"$f":"$AN$129/$AN$133","v":0},{"$f":"$AO$129/$AO$133","v":0},{"$f":"$AP$129/$AP$133","v":0},{"$f":"$AQ$129/$AQ$133","v":0},{"$f":"$AR$129/$AR$133","v":0},{"$f":"$AS$129/$AS$133","v":0},"暖房時消費電力比"]
[null,"αw","暖房空調負荷率",{"$f":"IF((($G$27-$D$114)/($G$26-$G$27))+1<0,0,IF((($G$27-$D$114)/($G$26-$G$27))+1>1,1,(($G$27-$D$114)/($G$26-$G$27))+1))","v":1},{"$f":"IF((($G$27-$E$114)/($G$26-$G$27))+1<0,0,IF((($G$27-$E$114)/($G$26-$G$27))+1>1,1,(($G$27-$E$114)/($G$26-$G$27))+1))","v":1},{"$f":"IF((($G$27-$F$114)/($G$26-$G$27))+1<0,0,IF((($G$27-$F$114)/($G$26-$G$27))+1>1,1,(($G$27-$F$114)/($G$26-$G$27))+1))","v":0.94117647058823528},{"$f":"IF((($G$27-$G$114)/($G$26-$G$27))+1<0,0,IF((($G$27-$G$114)/($G$26-$G$27))+1>1,1,(($G$27-$G$114)/($G$26-$G$27))+1))","v":0.88235294117647056},{"$f":"IF((($G$27-$H$114)/($G$26-$G$27))+1<0,0,IF((($G$27-$H$114)/($G$26-$G$27))+1>1,1,(($G$27-$H$114)/($G$26-$G$27))+1))","v":0.82352941176470584},{"$f":"IF((($G$27-$I$114)/($G$26-$G$27))+1<0,0,IF((($G$27-$I$114)/($G$26-$G$27))+1>1,1,(($G$27-$I$114)/($G$26-$G$27))+1))","v":0.76470588235294112},{"$f":"IF((($G$27-$J$114)/($G$26-$G$27))+1<0,0,IF((($G$27-$J$114)/($G$26-$G$27))+1>1,1,(($G$27-$J$114)/($G$26-$G$27))+1))","v":0.70588235294117641},{"$f":"IF((($G$27-$K$114)/($G$26-$G$27))+1<0,0,IF((($G$27-$K$114)/($G$26-$G$27))+1>1,1,(($G$27-$K$114)/($G$26-$G$27))+1))","v":0.64705882352941169},{"$f":"IF((($G$27-$L$114)/($G$26-$G$27))+1<0,0,IF((($G$27-$L$114)/($G$26-$G$27))+1>1,1,(($G$27-$L$114)/($G$26-$G$27))+1))","v":0.58823529411764708},{"$f":"IF((($G$27-$M$114)/($G$26-$G$27))+1<0,0,IF((($G$27-$M$114)/($G$26-$G$27))+1>1,1,(($G$27-$M$114)/($G$26-$G$27))+1))","v":0.52941176470588236},{"$f":"IF((($G$27-$N$114)/($G$26-$G$27))+1<0,0,IF((($G$27-$N$114)/($G$26-$G$27))+1>1,1,(($G$27-$N$114)/($G$26-$G$27))+1))","v":0.47058823529411764},{"$f":"IF((($G$27-$O$114)/($G$26-$G$27))+1<0,0,IF((($G$27-$O$114)/($G$26-$G$27))+1>1,1,(($G$27-$O$114)/($G$26-$G$27))+1))","v":0.41176470588235292},{"$f":"IF((($G$27-$P$114)/($G$26-$G$27))+1<0,0,IF((($G$27-$P$114)/($G$26-$G$27))+1>1,1,(($G$27-$P$114)/($G$26-$G$27))+1))","v":0.3529411764705882},{"$f":"IF((($G$27-$Q$114)/($G$26-$G$27))+1<0,0,IF((($G$27-$Q$114)/($G$26-$G$27))+1>1,1,(($G$27-$Q$114)/($G$26-$G$27))+1))","v":0.29411764705882348},{"$f":"IF((($G$27-$R$114)/($G$26-$G$27))+1<0,0,IF((($G$27-$R$114)/($G$26-$G$27))+1>1,1,(($G$27-$R$114)/($G$26-$G$27))+1))","v":0.23529411764705888},{"$f":"IF((($G$27-$S$114)/($G$26-$G$27))+1<0,0,IF((($G$27-$S$114)/($G$26-$G$27))+1>1,1,(($G$27-$S$114)/($G$26-$G$27))+1))","v":0.17647058823529416},{"$f":"IF((($G$27-$T$114)/($G$26-$G$27))+1<0,0,IF((($G$27-$T$114)/($G$26-$G$27))+1>1,1,(($G$27-$T$114)/($G$26-$G$27))+1))","v":0.11764705882352944},{"$f":"IF((($G$27-$U$114)/($G$26-$G$27))+1<0,0,IF((($G$27-$U$114)/($G$26-$G$27))+1>1,1,(($G$27-$U$114)/($G$26-$G$27))+1))","v":5.8823529411764719E-2},{"$f":"IF((($G$27-$V$114)/($G$26-$G$27))+1<0,0,IF((($G$27-$V$114)/($G$26-$G$27))+1>1,1,(($G$27-$V$114)/($G$26-$G$27))+1))","v":0},{"$f":"IF((($G$27-$W$114)/($G$26-$G$27))+1<0,0,IF((($G$27-$W$114)/($G$26-$G$27))+1>1,1,(($G$27-$W$114)/($G$26-$G$27))+1))","v":0},{"$f":"IF((($G$27-$X$114)/($G$26-$G$27))+1<0,0,IF((($G$27-$X$114)/($G$26-$G$27))+1>1,1,(($G$27-$X$114)/($G$26-$G$27))+1))","v":0},{"$f":"IF((($G$27-$Y$114)/($G$26-$G$27))+1<0,0,IF((($G$27-$Y$114)/($G$26-$G$27))+1>1,1,(($G$27-$Y$114)/($G$26-$G$27))+1))","v":0},{"$f":"IF((($G$27-$Z$114)/($G$26-$G$27))+1<0,0,IF((($G$27-$Z$114)/($G$26-$G$27))+1>1,1,(($G$27-$Z$114)/($G$26-$G$27))+1))","v":0},{"$f":"IF((($G$27-$AA$114)/($G$26-$G$27))+1<0,0,IF((($G$27-$AA$114)/($G$26-$G$27))+1>1,1,(($G$27-$AA$114)/($G$26-$G$27))+1))","v":0},{"$f":"IF((($G$27-$AB$114)/($G$26-$G$27))+1<0,0,IF((($G$27-$AB$114)/($G$26-$G$27))+1>1,1,(($G$27-$AB$114)/($G$26-$G$27))+1))","v":0},{"$f":"IF((($G$27-$AC$114)/($G$26-$G$27))+1<0,0,IF((($G$27-$AC$114)/($G$26-$G$27))+1>1,1,(($G$27-$AC$114)/($G$26-$G$27))+1))","v":0},{"$f":"IF((($G$27-$AD$114)/($G$26-$G$27))+1<0,0,IF((($G$27-$AD$114)/($G$26-$G$27))+1>1,1,(($G$27-$AD$114)/($G$26-$G$27))+1))","v":0},{"$f":"IF((($G$27-$AE$114)/($G$26-$G$27))+1<0,0,IF((($G$27-$AE$114)/($G$26-$G$27))+1>1,1,(($G$27-$AE$114)/($G$26-$G$27))+1))","v":0},{"$f":"IF((($G$27-$AF$114)/($G$26-$G$27))+1<0,0,IF((($G$27-$AF$114)/($G$26-$G$27))+1>1,1,(($G$27-$AF$114)/($G$26-$G$27))+1))","v":0},{"$f":"IF((($G$27-$AG$114)/($G$26-$G$27))+1<0,0,IF((($G$27-$AG$114)/($G$26-$G$27))+1>1,1,(($G$27-$AG$114)/($G$26-$G$27))+1))","v":0},{"$f":"IF((($G$27-$AH$114)/($G$26-$G$27))+1<0,0,IF((($G$27-$AH$114)/($G$26-$G$27))+1>1,1,(($G$27-$AH$114)/($G$26-$G$27))+1))","v":0},{"$f":"IF((($G$27-$AI$114)/($G$26-$G$27))+1<0,0,IF((($G$27-$AI$114)/($G$26-$G$27))+1>1,1,(($G$27-$AI$114)/($G$26-$G$27))+1))","v":0},{"$f":"IF((($G$27-$AJ$114)/($G$26-$G$27))+1<0,0,IF((($G$27-$AJ$114)/($G$26-$G$27))+1>1,1,(($G$27-$AJ$114)/($G$26-$G$27))+1))","v":0},{"$f":"IF((($G$27-$AK$114)/($G$26-$G$27))+1<0,0,IF((($G$27-$AK$114)/($G$26-$G$27))+1>1,1,(($G$27-$AK$114)/($G$26-$G$27))+1))","v":0},{"$f":"IF((($G$27-$AL$114)/($G$26-$G$27))+1<0,0,IF((($G$27-$AL$114)/($G$26-$G$27))+1>1,1,(($G$27-$AL$114)/($G$26-$G$27))+1))","v":0},{"$f":"IF((($G$27-$AM$114)/($G$26-$G$27))+1<0,0,IF((($G$27-$AM$114)/($G$26-$G$27))+1>1,1,(($G$27-$AM$114)/($G$26-$G$27))+1))","v":0},{"$f":"IF((($G$27-$AN$114)/($G$26-$G$27))+1<0,0,IF((($G$27-$AN$114)/($G$26-$G$27))+1>1,1,(($G$27-$AN$114)/($G$26-$G$27))+1))","v":0},{"$f":"IF((($G$27-$AO$114)/($G$26-$G$27))+1<0,0,IF((($G$27-$AO$114)/($G$26-$G$27))+1>1,1,(($G$27-$AO$114)/($G$26-$G$27))+1))","v":0},{"$f":"IF((($G$27-$AP$114)/($G$26-$G$27))+1<0,0,IF((($G$27-$AP$114)/($G$26-$G$27))+1>1,1,(($G$27-$AP$114)/($G$26-$G$27))+1))","v":0},{"$f":"IF((($G$27-$AQ$114)/($G$26-$G$27))+1<0,0,IF((($G$27-$AQ$114)/($G$26-$G$27))+1>1,1,(($G$27-$AQ$114)/($G$26-$G$27))+1))","v":0},{"$f":"IF((($G$27-$AR$114)/($G$26-$G$27))+1<0,0,IF((($G$27-$AR$114)/($G$26-$G$27))+1>1,1,(($G$27-$AR$114)/($G$26-$G$27))+1))","v":0},{"$f":"IF((($G$27-$AS$114)/($G$26-$G$27))+1<0,0,IF((($G$27-$AS$114)/($G$26-$G$27))+1>1,1,(($G$27-$AS$114)/($G$26-$G$27))+1))","v":0},"暖房空調負荷率"]
[null,"Φw","暖房能力",{"$f":"($G$35-0.64*$G$32)/9*($D$114-2)+$G$35","v":16.388888888888889},{"$f":"($G$35-0.64*$G$32)/9*($E$114-2)+$G$35","v":16.777777777777779},{"$f":"($G$35-0.64*$G$32)/9*($F$114-2)+$G$35","v":17.166666666666668},{"$f":"($G$35-0.64*$G$32)/9*($G$114-2)+$G$35","v":17.555555555555557},{"$f":"($G$35-0.64*$G$32)/9*($H$114-2)+$G$35","v":17.944444444444443},{"$f":"($G$35-0.64*$G$32)/9*($I$114-2)+$G$35","v":18.333333333333332},{"$f":"($G$35-0.64*$G$32)/9*($J$114-2)+$G$35","v":18.722222222222221},{"$f":"($G$35-0.64*$G$32)/9*($K$114-2)+$G$35","v":19.111111111111111},{"$f":"($G$35-0.64*$G$32)/9*($L$114-2)+$G$35","v":19.5},{"$f":"($G$35-0.64*$G$32)/9*($M$114-2)+$G$35","v":19.888888888888889},{"$f":"($G$35-0.64*$G$32)/9*($N$114-2)+$G$35","v":20.277777777777779},{"$f":"($G$35-0.64*$G$32)/9*($O$114-2)+$G$35","v":20.666666666666668},{"$f":"($G$32-0.64*$G$32)/14*($P$114-7)+$G$32","v":24.357142857142858},{"$f":"($G$32-0.64*$G$32)/14*($Q$114-7)+$G$32","v":25},{"$f":"($G$32-0.64*$G$32)/14*($R$114-7)+$G$32","v":25.642857142857142},{"$f":"($G$32-0.64*$G$32)/14*($S$114-7)+$G$32","v":26.285714285714285},{"$f":"($G$32-0.64*$G$32)/14*($T$114-7)+$G$32","v":26.928571428571431},{"$f":"($G$32-0.64*$G$32)/14*($U$114-7)+$G$32","v":27.571428571428573},{"$f":"($G$32-0.64*$G$32)/14*($V$114-7)+$G$32","v":28.214285714285715},{"$f":"($G$32-0.64*$G$32)/14*($W$114-7)+$G$32","v":28.857142857142858},{"$f":"($G$32-0.64*$G$32)/14*($X$114-7)+$G$32","v":29.5},{"$f":"($G$32-0.64*$G$32)/14*($Y$114-7)+$G$32","v":30.142857142857142},{"$f":"($G$32-0.64*$G$32)/14*($Z$114-7)+$G$32","v":30.785714285714285},{"$f":"($G$32-0.64*$G$32)/14*($AA$114-7)+$G$32","v":31.428571428571431},{"$f":"($G$32-0.64*$G$32)/14*($AB$114-7)+$G$32","v":32.071428571428569},{"$f":"($G$32-0.64*$G$32)/14*($AC$114-7)+$G$32","v":32.714285714285715},{"$f":"($G$32-0.64*$G$32)/14*($AD$114-7)+$G$32","v":33.357142857142861},{"$f":"($G$32-0.64*$G$32)/14*($AE$114-7)+$G$32","v":34},{"$f":"($G$32-0.64*$G$32)/14*($AF$114-7)+$G$32","v":34.642857142857146},{"$f":"($G$32-0.64*$G$32)/14*($AG$114-7)+$G$32","v":35.285714285714285},{"$f":"($G$32-0.64*$G$32)/14*($AH$114-7)+$G$32","v":35.928571428571431},{"$f":"($G$32-0.64*$G$32)/14*($AI$114-7)+$G$32","v":36.571428571428569},{"$f":"($G$32-0.64*$G$32)/14*($AJ$114-7)+$G$32","v":37.214285714285715},{"$f":"($G$32-0.64*$G$32)/14*($AK$114-7)+$G$32","v":37.857142857142861},{"$f":"($G$32-0.64*$G$32)/14*($AL$114-7)+$G$32","v":38.5},{"$f":"($G$32-0.64*$G$32)/14*($AM$114-7)+$G$32","v":39.142857142857146},{"$f":"($G$32-0.64*$G$32)/14*($AN$114-7)+$G$32","v":39.785714285714285},{"$f":"($G$32-0.64*$G$32)/14*($AO$114-7)+$G$32","v":40.428571428571431},{"$f":"($G$32-0.64*$G$32)/14*($AP$114-7)+$G$32","v":41.071428571428569},{"$f":"($G$32-0.64*$G$32)/14*($AQ$114-7)+$G$32","v":41.714285714285715},{"$f":"($G$32-0.64*$G$32)/14*($AR$114-7)+$G$32","v":42.357142857142861},{"$f":"($G$32-0.64*$G$32)/14*($AS$114-7)+$G$32","v":43},"暖房能力"]
[null,"Pw","消費電力",{"$f":"($G$36-0.82*$G$33)/9*($D$114-2)+$G$36","v":5.6393333333333331},{"$f":"($G$36-0.82*$G$33)/9*($E$114-2)+$G$36","v":6.0306666666666668},{"$f":"($G$36-0.82*$G$33)/9*($F$114-2)+$G$36","v":6.4220000000000006},{"$f":"($G$36-0.82*$G$33)/9*($G$114-2)+$G$36","v":6.8133333333333335},{"$f":"($G$36-0.82*$G$33)/9*($H$114-2)+$G$36","v":7.2046666666666663},{"$f":"($G$36-0.82*$G$33)/9*($I$114-2)+$G$36","v":7.5960000000000001},{"$f":"($G$36-0.82*$G$33)/9*($J$114-2)+$G$36","v":7.987333333333333},{"$f":"($G$36-0.82*$G$33)/9*($K$114-2)+$G$36","v":8.3786666666666658},{"$f":"($G$36-0.82*$G$33)/9*($L$114-2)+$G$36","v":8.77},{"$f":"($G$36-0.82*$G$33)/9*($M$114-2)+$G$36","v":9.1613333333333333},{"$f":"($G$36-0.82*$G$33)/9*($N$114-2)+$G$36","v":9.5526666666666653},{"$f":"($G$36-0.82*$G$33)/9*($O$114-2)+$G$36","v":9.9439999999999991},{"$f":"($G$33-0.82*$G$33)/14*($P$114-7)+$G$33","v":6.3177142857142865},{"$f":"($G$33-0.82*$G$33)/14*($Q$114-7)+$G$33","v":6.4},{"$f":"($G$33-0.82*$G$33)/14*($R$114-7)+$G$33","v":6.4822857142857142},{"$f":"($G$33-0.82*$G$33)/14*($S$114-7)+$G$33","v":6.5645714285714289},{"$f":"($G$33-0.82*$G$33)/14*($T$114-7)+$G$33","v":6.6468571428571437},{"$f":"($G$33-0.82*$G$33)/14*($U$114-7)+$G$33","v":6.7291428571428575},{"$f":"($G$33-0.82*$G$33)/14*($V$114-7)+$G$33","v":6.8114285714285714},{"$f":"($G$33-0.82*$G$33)/14*($W$114-7)+$G$33","v":6.8937142857142861},{"$f":"($G$33-0.82*$G$33)/14*($X$114-7)+$G$33","v":6.9760000000000009},{"$f":"($G$33-0.82*$G$33)/14*($Y$114-7)+$G$33","v":7.0582857142857147},{"$f":"($G$33-0.82*$G$33)/14*($Z$114-7)+$G$33","v":7.1405714285714286},{"$f":"($G$33-0.82*$G$33)/14*($AA$114-7)+$G$33","v":7.2228571428571433},{"$f":"($G$33-0.82*$G$33)/14*($AB$114-7)+$G$33","v":7.305142857142858},{"$f":"($G$33-0.82*$G$33)/14*($AC$114-7)+$G$33","v":7.3874285714285719},{"$f":"($G$33-0.82*$G$33)/14*($AD$114-7)+$G$33","v":7.4697142857142858},{"$f":"($G$33-0.82*$G$33)/14*($AE$114-7)+$G$33","v":7.5520000000000005},{"$f":"($G$33-0.82*$G$33)/14*($AF$114-7)+$G$33","v":7.6342857142857152},{"$f":"($G$33-0.82*$G$33)/14*($AG$114-7)+$G$33","v":7.7165714285714291},{"$f":"($G$33-0.82*$G$33)/14*($AH$114-7)+$G$33","v":7.7988571428571429},{"$f":"($G$33-0.82*$G$33)/14*($AI$114-7)+$G$33","v":7.8811428571428577},{"$f":"($G$33-0.82*$G$33)/14*($AJ$114-7)+$G$33","v":7.9634285714285724},{"$f":"($G$33-0.82*$G$33)/14*($AK$114-7)+$G$33","v":8.0457142857142863},{"$f":"($G$33-0.82*$G$33)/14*($AL$114-7)+$G$33","v":8.1280000000000001},{"$f":"($G$33-0.82*$G$33)/14*($AM$114-7)+$G$33","v":8.210285714285714},{"$f":"($G$33-0.82*$G$33)/14*($AN$114-7)+$G$33","v":8.2925714285714296},{"$f":"($G$33-0.82*$G$33)/14*($AO$114-7)+$G$33","v":8.3748571428571434},{"$f":"($G$33-0.82*$G$33)/14*($AP$114-7)+$G$33","v":8.4571428571428573},{"$f":"($G$33-0.82*$G$33)/14*($AQ$114-7)+$G$33","v":8.5394285714285729},{"$f":"($G$33-0.82*$G$33)/14*($AR$114-7)+$G$33","v":8.6217142857142868},{"$f":"($G$33-0.82*$G$33)/14*($AS$114-7)+$G$33","v":8.7040000000000006},"消費電力"]
[null,"σw","COP",{"$f":"$D$130/$D$131","v":2.9061748827678611},{"$f":"$E$130/$E$131","v":2.7820767926892183},{"$f":"$F$130/$F$131","v":2.6731028755320252},{"$f":"$G$130/$G$131","v":2.5766470971950426},{"$f":"$H$130/$H$131","v":2.4906696277104343},{"$f":"$I$130/$I$131","v":2.4135509917500437},{"$f":"$J$130/$J$131","v":2.3439890938430294},{"$f":"$K$130/$K$131","v":2.2809251007850628},{"$f":"$L$130/$L$131","v":2.2234891676168758},{"$f":"$M$130/$M$131","v":2.1709600737398729},{"$f":"$N$130/$N$131","v":2.1227347802824115},{"$f":"$O$130/$O$131","v":2.0783051756503088},{"$f":"$P$130/$P$131","v":3.8553726483357451},{"$f":"$Q$130/$Q$131","v":3.90625},{"$f":"$R$130/$R$131","v":3.955835684062059},{"$f":"$S$130/$S$131","v":4.0041782729805009},{"$f":"$T$130/$T$131","v":4.0513239339752403},{"$f":"$U$130/$U$131","v":4.0973165760869561},{"$f":"$V$130/$V$131","v":4.1421979865771812},{"$f":"$W$130/$W$131","v":4.1860079575596814},{"$f":"$X$130/$X$131","v":4.2287844036697244},{"$f":"$Y$130/$Y$131","v":4.27056347150259},{"$f":"$Z$130/$Z$131","v":4.3113796414852752},{"$f":"$AA$130/$AA$131","v":4.3512658227848098},{"$f":"$AB$130/$AB$131","v":4.3902534418022521},{"$f":"$AC$130/$AC$131","v":4.4283725247524748},{"$f":"$AD$130/$AD$131","v":4.465651774785802},{"$f":"$AE$130/$AE$131","v":4.5021186440677967},{"$f":"$AF$130/$AF$131","v":4.5377994011976046},{"$f":"$AG$130/$AG$131","v":4.5727191943127954},{"$f":"$AH$130/$AH$131","v":4.6069021101992966},{"$f":"$AI$130/$AI$131","v":4.640371229698375},{"$f":"$AJ$130/$AJ$131","v":4.6731486796785298},{"$f":"$AK$130/$AK$131","v":4.7052556818181817},{"$f":"$AL$130/$AL$131","v":4.7367125984251972},{"$f":"$AM$130/$AM$131","v":4.7675389755011137},{"$f":"$AN$130/$AN$131","v":4.7977535832414544},{"$f":"$AO$130/$AO$131","v":4.8273744541484715},{"$f":"$AP$130/$AP$131","v":4.8564189189189184},{"$f":"$AQ$130/$AQ$131","v":4.884903640256959},{"$f":"$AR$130/$AR$131","v":4.9128446447507956},{"$f":"$AS$130/$AS$131","v":4.9402573529411757},"COP"]
[null,"βw","暖房COP比",{"$f":"$D$132/$L$132","v":1.3070335241986739},{"$f":"$E$132/$L$132","v":1.2512212036863817},{"$f":"$F$132/$L$132","v":1.2022108829956852},{"$f":"$G$132/$L$132","v":1.1588305149948985},{"$f":"$H$132/$L$132","v":1.120162699231821},{"$f":"$I$132/$L$132","v":1.0854790870588658},{"$f":"$J$132/$L$132","v":1.054194069384788},{"$f":"$K$132/$L$132","v":1.0258314427633333},{"$f":"$L$132/$L$132","v":1},{"$f":"$M$132/$L$132","v":0.97637537675377872},{"$f":"$N$132/$L$132","v":0.95468636015778197},{"$f":"$O$132/$L$132","v":0.93470443027965167},{"$f":"$P$132/$Q$132","v":0.98697539797395073},{"$f":"$Q$132/$Q$132","v":1},{"$f":"$R$132/$Q$132","v":1.0126939351198871},{"$f":"$S$132/$Q$132","v":1.0250696378830082},{"$f":"$T$132/$Q$132","v":1.0371389270976614},{"$f":"$U$132/$Q$132","v":1.0489130434782608},{"$f":"$V$132/$Q$132","v":1.0604026845637584},{"$f":"$W$132/$Q$132","v":1.0716180371352784},{"$f":"$X$132/$Q$132","v":1.0825688073394495},{"$f":"$Y$132/$Q$132","v":1.0932642487046631},{"$f":"$Z$132/$Q$132","v":1.1037131882202305},{"$f":"$AA$132/$Q$132","v":1.1139240506329113},{"$f":"$AB$132/$Q$132","v":1.1239048811013765},{"$f":"$AC$132/$Q$132","v":1.1336633663366336},{"$f":"$AD$132/$Q$132","v":1.1432068543451652},{"$f":"$AE$132/$Q$132","v":1.152542372881356},{"$f":"$AF$132/$Q$132","v":1.1616766467065869},{"$f":"$AG$132/$Q$132","v":1.1706161137440756},{"$f":"$AH$132/$Q$132","v":1.1793669402110198},{"$f":"$AI$132/$Q$132","v":1.187935034802784},{"$f":"$AJ$132/$Q$132","v":1.1963260619977036},{"$f":"$AK$132/$Q$132","v":1.2045454545454546},{"$f":"$AL$132/$Q$132","v":1.2125984251968505},{"$f":"$AM$132/$Q$132","v":1.2204899777282852},{"$f":"$AN$132/$Q$132","v":1.2282249173098123},{"$f":"$AO$132/$Q$132","v":1.2358078602620086},{"$f":"$AP$132/$Q$132","v":1.2432432432432432},{"$f":"$AQ$132/$Q$132","v":1.2505353319057815},{"$f":"$AR$132/$Q$132","v":1.2576882290562037},{"$f":"$AS$132/$Q$132","v":1.2647058823529409},"暖房COP比"]
[null,"δ","集積加熱補正係数",{"$f":"(0.15/7)*$D$114+0.15","v":2.1428571428571436E-2},{"$f":"(0.15/7)*$E$114+0.15","v":4.2857142857142844E-2},{"$f":"(0.15/7)*$F$114+0.15","v":6.4285714285714279E-2},{"$f":"(0.15/7)*$G$114+0.15","v":8.5714285714285715E-2},{"$f":"(0.15/7)*$H$114+0.15","v":0.10714285714285714},{"$f":"(0.15/7)*$I$114+0.15","v":0.12857142857142856},{"$f":"(-0.15/5.5)*$J$114+0.15","v":0.15},{"$f":"(-0.15/5.5)*$K$114+0.15","v":0.12272727272727273},{"$f":"(-0.15/5.5)*$L$114+0.15","v":9.5454545454545459E-2},{"$f":"(-0.15/5.5)*$M$114+0.15","v":6.8181818181818177E-2},{"$f":"(-0.15/5.5)*$N$114+0.15","v":4.0909090909090909E-2},{"$f":"(-0.15/5.5)*$O$114+0.15","v":1.3636363636363641E-2},0,0,0,0,0,0,0,0,0,0,0,0,0,0,0,0,0,0,0,0,0,0,0,0,0,0,0,0,0,0,"集積加熱補正係数"]
[null,null,null,{"$f":"1+D$134","v":1.0214285714285714},{"$f":"1+E$134","v":1.0428571428571429},1.0642857142857143,1.0857142857142856,1.1071428571428572,1.1285714285714286,1.1499999999999999,1.1227272727272728,1.0954545454545455,1.0681818181818181,1.040909090909091,1.0136363636363637,1,1,1,1,1,1,1,1,1,1,1,1,1,1,1,1,1,1,1,1,1,1,1,1,1,1,1,1,1,1]
[null,null,"∑",{"$f":"$D$127*$D$128*(1+$D$134)","v":0},{"$f":"$E$127*$E$128*(1+$E$134)","v":0},{"$f":"$F$127*$F$128*(1+$F$134)","v":0},{"$f":"$G$127*$G$128*(1+$G$134)","v":0},{"$f":"$H$127*$H$128*(1+$H$134)","v":0},{"$f":"$I$127*$I$128*(1+$I$134)","v":0},{"$f":"$J$127*$J$128*(1+$J$134)","v":0},{"$f":"$K$127*$K$128*(1+$K$134)","v":0},{"$f":"$L$127*$L$128*(1+$L$134)","v":0},{"$f":"$M$127*$M$128*(1+$M$134)","v":0},{"$f":"$N$127*$N$128*(1+$N$134)","v":0},{"$f":"$O$127*$O$128*(1+$O$134)","v":0},{"$f":"$P$127*$P$128*(1+$P$134)","v":0},{"$f":"$Q$127*$Q$128*(1+$Q$134)","v":0},{"$f":"$R$127*$R$128*(1+$R$134)","v":0},{"$f":"$S$127*$S$128*(1+$S$134)","v":0},{"$f":"$T$127*$T$128*(1+$T$134)","v":0},{"$f":"$U$127*$U$128*(1+$U$134)","v":0},{"$f":"$V$127*$V$128*(1+$V$134)","v":0},{"$f":"$W$127*$W$128*(1+$W$134)","v":0},{"$f":"$X$127*$X$128*(1+$X$134)","v":0},{"$f":"$Y$127*$Y$128*(1+$Y$134)","v":0},{"$f":"$Z$127*$Z$128*(1+$Z$134)","v":0},{"$f":"$AA$127*$AA$128*(1+$AA$134)","v":0},{"$f":"$AB$127*$AB$128*(1+$AB$134)","v":0},{"$f":"$AC$127*$AC$128*(1+$AC$134)","v":0},{"$f":"$AD$127*$AD$128*(1+$AD$134)","v":0},{"$f":"$AE$127*$AE$128*(1+$AE$134)","v":0},{"$f":"$AF$127*$AF$128*(1+$AF$134)","v":0},{"$f":"$AG$127*$AG$128*(1+$AG$134)","v":0},{"$f":"$AH$127*$AH$128*(1+$AH$134)","v":0},{"$f":"$AI$127*$AI$128*(1+$AI$134)","v":0},{"$f":"$AJ$127*$AJ$128*(1+$AJ$134)","v":0},{"$f":"$AK$127*$AK$128*(1+$AK$134)","v":0},{"$f":"$AL$127*$AL$128*(1+$AL$134)","v":0},{"$f":"$AM$127*$AM$128*(1+$AM$134)","v":0},{"$f":"$AN$127*$AN$128*(1+$AN$134)","v":0},{"$f":"$AO$127*$AO$128*(1+$AO$134)","v":0},{"$f":"$AP$127*$AP$128*(1+$AP$134)","v":0},{"$f":"$AQ$127*$AQ$128*(1+$AQ$134)","v":0},{"$f":"$AR$127*$AR$128*(1+$AR$134)","v":0},{"$f":"$AS$127*$AS$128*(1+$AS$134)","v":0},"∑"]
[null,null,null,{"$f":"$G$28/$G$37","v":7.1958974358974359},{"$f":"$G$28/$G$37","v":7.1958974358974359},7.1958974358974359,7.1958974358974359,7.1958974358974359,7.1958974358974359,7.1958974358974359,7.1958974358974359,7.1958974358974359,7.1958974358974359,7.1958974358974359,7.1958974358974359,{"$f":"$G$28/$G$34","v":4.0960000000000001},{"$f":"$G$28/$G$34","v":4.0960000000000001},4.0960000000000001,4.0960000000000001,4.0960000000000001,4.0960000000000001,4.0960000000000001,4.0960000000000001,4.0960000000000001,4.0960000000000001,4.0960000000000001,4.0960000000000001,4.0960000000000001,4.0960000000000001,4.0960000000000001,4.0960000000000001,4.0960000000000001,4.0960000000000001,4.0960000000000001,4.0960000000000001,4.0960000000000001,4.0960000000000001,4.0960000000000001,4.0960000000000001,4.0960000000000001,4.0960000000000001,4.0960000000000001,4.0960000000000001,4.0960000000000001,4.0960000000000001]
[null,null,{"$f":"SUM(D138:AS138)","v":0},{"$f":"D$137*D$136","v":0},{"$f":"E$137*E$136","v":0},0,0,0,0,0,0,0,0,0,0,{"$f":"P$137*P$136","v":0},{"$f":"Q$137*Q$136","v":0},{"$f":"R$137*R$136","v":0},{"$f":"S$137*S$136","v":0},{"$f":"T$137*T$136","v":0},0,0,0,0,0,0,0,0,0,0,0,0,0,0,0,0,0,0,0,0,0,0,0,0,0,{"$f":"SUM($D$138:$AS$138)","v":0},{"$f":"SUM(AU115:AU137)","v":0}]

{"sheet":"温暖地(γ個別入力)","index":20,"n_rows":135,"n_cols":47,"rows_kept":135,"cut":false,"hidden":true,"merged":[[9,30,9,32],[1,2,1,3],[2,2,2,3],[3,2,3,3],[5,2,5,3],[6,2,6,3],[24,3,24,4],[25,3,25,4],[24,7,24,9],[25,7,25,9],[9,3,9,26],[28,3,28,4],[29,3,29,4],[28,7,28,9],[29,7,29,9],[26,3,26,4],[27,3,27,4],[26,7,26,9],[27,7,27,9],[89,46,90,46],[30,3,30,4],[31,3,31,4],[30,7,30,9],[31,7,31,9],[32,3,32,4],[113,3,113,44],[41,2,42,2],[41,3,41,26],[41,27,42,27],[57,2,58,2],[57,3,57,26],[57,27,58,27],[73,2,74,2],[73,3,73,26],[73,27,74,27],[89,3,89,44]]}
[]
[null,null,"EHPの設置場所"]
[null,null,{"$f":"IF('2-1 設備条件シート'!$L$8=\"\",\"\",'2-1 設備条件シート'!$L$8)","v":""},null,null,"手順1：空調を行う月、時間を下記の指定の色で塗る(指定の色以外で塗ると計算できません。)"]
[null,null,{"$f":"VLOOKUP($C$3,γ一覧表!$C$3:$E$50,2,FALSE)","v":{"$error":"#N/A"}},null,null,null,"冷房","青","【左から5列目、一番薄い色(アクセント1,白＋基本色80％)】"]
[null,null,null,null,null,null,"暖房","オレンジ","【左から6番目、一番薄い色(アクセント2,白＋基本色80％)】"]
[null,null,"使用するγ値",null,null,"手順2：各月の運転日数を入力する"]
[null,null,{"$f":"IF('2-1 設備条件シート'!$L$16=\"\",\"---\",IF('2-1 設備条件シート'!$L$16>1,\"---\",'2-1 設備条件シート'!$L$16))","v":"---"},null,null,"手順3：Ctrl + Alt + F9を同時に押す"]
[null,null,null,null,null,"手順4：黄色のセルに値を入力する(緑は自動計算)"]
[null,null,"時刻別平均気温[℃]",null,null,null,null,null,null,null,null,null,null,null,null,null,null,null,null,null,null,null,null,null,null,null,null,null,null,"電力使用量[kWh]"]
[null,null,null," 時刻",null,null,null,null,null,null,null,null,null,null,null,null,null,null,null,null,null,null,null,null,null,null,null,null,null,null,"期間"]
[null,null,"月",0,1,2,3,4,5,6,7,8,9,10,11,12,13,14,15,16,17,18,19,20,21,22,23,"運転日数",null,"月","冷房","暖房","月合計"]
[null,null,4,{"$f":"IFERROR(INDIRECT($C$4&\"!B5\"),\"\")","v":""},{"$f":"IFERROR(INDIRECT($C$4&\"!C5\"),\"\")","v":""},{"$f":"IFERROR(INDIRECT($C$4&\"!D5\"),\"\")","v":""},{"$f":"IFERROR(INDIRECT($C$4&\"!E5\"),\"\")","v":""},{"$f":"IFERROR(INDIRECT($C$4&\"!F5\"),\"\")","v":""},{"$f":"IFERROR(INDIRECT($C$4&\"!G5\"),\"\")","v":""},{"$f":"IFERROR(INDIRECT($C$4&\"!H5\"),\"\")","v":""},{"$f":"IFERROR(INDIRECT($C$4&\"!I5\"),\"\")","v":""},{"$f":"IFERROR(INDIRECT($C$4&\"!J5\"),\"\")","v":""},{"$f":"IFERROR(INDIRECT($C$4&\"!K5\"),\"\")","v":""},{"$f":"IFERROR(INDIRECT($C$4&\"!L5\"),\"\")","v":""},{"$f":"IFERROR(INDIRECT($C$4&\"!M5\"),\"\")","v":""},{"$f":"IFERROR(INDIRECT($C$4&\"!N5\"),\"\")","v":""},{"$f":"IFERROR(INDIRECT($C$4&\"!O5\"),\"\")","v":""},{"$f":"IFERROR(INDIRECT($C$4&\"!P5\"),\"\")","v":""},{"$f":"IFERROR(INDIRECT($C$4&\"!Q5\"),\"\")","v":""},{"$f":"IFERROR(INDIRECT($C$4&\"!R5\"),\"\")","v":""},{"$f":"IFERROR(INDIRECT($C$4&\"!S5\"),\"\")","v":""},{"$f":"IFERROR(INDIRECT($C$4&\"!T5\"),\"\")","v":""},{"$f":"IFERROR(INDIRECT($C$4&\"!U5\"),\"\")","v":""},{"$f":"IFERROR(INDIRECT($C$4&\"!V5\"),\"\")","v":""},{"$f":"IFERROR(INDIRECT($C$4&\"!W5\"),\"\")","v":""},{"$f":"IFERROR(INDIRECT($C$4&\"!X5\"),\"\")","v":""},{"$f":"IFERROR(INDIRECT($C$4&\"!Y5\"),\"\")","v":""},null,null,4,{"$f":"IF($C$7=\"---\",\"\",IFERROR($G$28*AU92*$Q$33,\"\"))","v":""},{"$f":"IFERROR(($G$27*$C$7)/($G$32)*AU116*$Q$33,\"\")","v":""},{"$f":"IFERROR($AE$12+$AF$12,\"\")","v":""}]
[null,null,5,{"$f":"IFERROR(INDIRECT($C$4&\"!B6\"),\"\")","v":""},{"$f":"IFERROR(INDIRECT($C$4&\"!C6\"),\"\")","v":""},{"$f":"IFERROR(INDIRECT($C$4&\"!D6\"),\"\")","v":""},{"$f":"IFERROR(INDIRECT($C$4&\"!E6\"),\"\")","v":""},{"$f":"IFERROR(INDIRECT($C$4&\"!F6\"),\"\")","v":""},{"$f":"IFERROR(INDIRECT($C$4&\"!G6\"),\"\")","v":""},{"$f":"IFERROR(INDIRECT($C$4&\"!H6\"),\"\")","v":""},{"$f":"IFERROR(INDIRECT($C$4&\"!I6\"),\"\")","v":""},{"$f":"IFERROR(INDIRECT($C$4&\"!J6\"),\"\")","v":""},{"$f":"IFERROR(INDIRECT($C$4&\"!K6\"),\"\")","v":""},{"$f":"IFERROR(INDIRECT($C$4&\"!L6\"),\"\")","v":""},{"$f":"IFERROR(INDIRECT($C$4&\"!M6\"),\"\")","v":""},{"$f":"IFERROR(INDIRECT($C$4&\"!N6\"),\"\")","v":""},{"$f":"IFERROR(INDIRECT($C$4&\"!O6\"),\"\")","v":""},{"$f":"IFERROR(INDIRECT($C$4&\"!P6\"),\"\")","v":""},{"$f":"IFERROR(INDIRECT($C$4&\"!Q6\"),\"\")","v":""},{"$f":"IFERROR(INDIRECT($C$4&\"!R6\"),\"\")","v":""},{"$f":"IFERROR(INDIRECT($C$4&\"!S6\"),\"\")","v":""},{"$f":"IFERROR(INDIRECT($C$4&\"!T6\"),\"\")","v":""},{"$f":"IFERROR(INDIRECT($C$4&\"!U6\"),\"\")","v":""},{"$f":"IFERROR(INDIRECT($C$4&\"!V6\"),\"\")","v":""},{"$f":"IFERROR(INDIRECT($C$4&\"!W6\"),\"\")","v":""},{"$f":"IFERROR(INDIRECT($C$4&\"!X6\"),\"\")","v":""},{"$f":"IFERROR(INDIRECT($C$4&\"!Y6\"),\"\")","v":""},null,null,5,"","",{"$f":"IFERROR($AE$13+$AF$13,\"\")","v":""}]
[null,null,6,{"$f":"IFERROR(INDIRECT($C$4&\"!B7\"),\"\")","v":""},{"$f":"IFERROR(INDIRECT($C$4&\"!C7\"),\"\")","v":""},{"$f":"IFERROR(INDIRECT($C$4&\"!D7\"),\"\")","v":""},{"$f":"IFERROR(INDIRECT($C$4&\"!E7\"),\"\")","v":""},{"$f":"IFERROR(INDIRECT($C$4&\"!F7\"),\"\")","v":""},{"$f":"IFERROR(INDIRECT($C$4&\"!G7\"),\"\")","v":""},{"$f":"IFERROR(INDIRECT($C$4&\"!H7\"),\"\")","v":""},{"$f":"IFERROR(INDIRECT($C$4&\"!I7\"),\"\")","v":""},{"$f":"IFERROR(INDIRECT($C$4&\"!J7\"),\"\")","v":""},{"$f":"IFERROR(INDIRECT($C$4&\"!K7\"),\"\")","v":""},{"$f":"IFERROR(INDIRECT($C$4&\"!L7\"),\"\")","v":""},{"$f":"IFERROR(INDIRECT($C$4&\"!M7\"),\"\")","v":""},{"$f":"IFERROR(INDIRECT($C$4&\"!N7\"),\"\")","v":""},{"$f":"IFERROR(INDIRECT($C$4&\"!O7\"),\"\")","v":""},{"$f":"IFERROR(INDIRECT($C$4&\"!P7\"),\"\")","v":""},{"$f":"IFERROR(INDIRECT($C$4&\"!Q7\"),\"\")","v":""},{"$f":"IFERROR(INDIRECT($C$4&\"!R7\"),\"\")","v":""},{"$f":"IFERROR(INDIRECT($C$4&\"!S7\"),\"\")","v":""},{"$f":"IFERROR(INDIRECT($C$4&\"!T7\"),\"\")","v":""},{"$f":"IFERROR(INDIRECT($C$4&\"!U7\"),\"\")","v":""},{"$f":"IFERROR(INDIRECT($C$4&\"!V7\"),\"\")","v":""},{"$f":"IFERROR(INDIRECT($C$4&\"!W7\"),\"\")","v":""},{"$f":"IFERROR(INDIRECT($C$4&\"!X7\"),\"\")","v":""},{"$f":"IFERROR(INDIRECT($C$4&\"!Y7\"),\"\")","v":""},null,null,6,"","",{"$f":"IFERROR($AE$14+$AF$14,\"\")","v":""}]
[null,null,7,{"$f":"IFERROR(INDIRECT($C$4&\"!B8\"),\"\")","v":""},{"$f":"IFERROR(INDIRECT($C$4&\"!C8\"),\"\")","v":""},{"$f":"IFERROR(INDIRECT($C$4&\"!D8\"),\"\")","v":""},{"$f":"IFERROR(INDIRECT($C$4&\"!E8\"),\"\")","v":""},{"$f":"IFERROR(INDIRECT($C$4&\"!F8\"),\"\")","v":""},{"$f":"IFERROR(INDIRECT($C$4&\"!G8\"),\"\")","v":""},{"$f":"IFERROR(INDIRECT($C$4&\"!H8\"),\"\")","v":""},{"$f":"IFERROR(INDIRECT($C$4&\"!I8\"),\"\")","v":""},{"$f":"IFERROR(INDIRECT($C$4&\"!J8\"),\"\")","v":""},{"$f":"IFERROR(INDIRECT($C$4&\"!K8\"),\"\")","v":""},{"$f":"IFERROR(INDIRECT($C$4&\"!L8\"),\"\")","v":""},{"$f":"IFERROR(INDIRECT($C$4&\"!M8\"),\"\")","v":""},{"$f":"IFERROR(INDIRECT($C$4&\"!N8\"),\"\")","v":""},{"$f":"IFERROR(INDIRECT($C$4&\"!O8\"),\"\")","v":""},{"$f":"IFERROR(INDIRECT($C$4&\"!P8\"),\"\")","v":""},{"$f":"IFERROR(INDIRECT($C$4&\"!Q8\"),\"\")","v":""},{"$f":"IFERROR(INDIRECT($C$4&\"!R8\"),\"\")","v":""},{"$f":"IFERROR(INDIRECT($C$4&\"!S8\"),\"\")","v":""},{"$f":"IFERROR(INDIRECT($C$4&\"!T8\"),\"\")","v":""},{"$f":"IFERROR(INDIRECT($C$4&\"!U8\"),\"\")","v":""},{"$f":"IFERROR(INDIRECT($C$4&\"!V8\"),\"\")","v":""},{"$f":"IFERROR(INDIRECT($C$4&\"!W8\"),\"\")","v":""},{"$f":"IFERROR(INDIRECT($C$4&\"!X8\"),\"\")","v":""},{"$f":"IFERROR(INDIRECT($C$4&\"!Y8\"),\"\")","v":""},null,null,7,"","",{"$f":"IFERROR($AE$15+$AF$15,\"\")","v":""}]
[null,null,8,{"$f":"IFERROR(INDIRECT($C$4&\"!B9\"),\"\")","v":""},{"$f":"IFERROR(INDIRECT($C$4&\"!C9\"),\"\")","v":""},{"$f":"IFERROR(INDIRECT($C$4&\"!D9\"),\"\")","v":""},{"$f":"IFERROR(INDIRECT($C$4&\"!E9\"),\"\")","v":""},{"$f":"IFERROR(INDIRECT($C$4&\"!F9\"),\"\")","v":""},{"$f":"IFERROR(INDIRECT($C$4&\"!G9\"),\"\")","v":""},{"$f":"IFERROR(INDIRECT($C$4&\"!H9\"),\"\")","v":""},{"$f":"IFERROR(INDIRECT($C$4&\"!I9\"),\"\")","v":""},{"$f":"IFERROR(INDIRECT($C$4&\"!J9\"),\"\")","v":""},{"$f":"IFERROR(INDIRECT($C$4&\"!K9\"),\"\")","v":""},{"$f":"IFERROR(INDIRECT($C$4&\"!L9\"),\"\")","v":""},{"$f":"IFERROR(INDIRECT($C$4&\"!M9\"),\"\")","v":""},{"$f":"IFERROR(INDIRECT($C$4&\"!N9\"),\"\")","v":""},{"$f":"IFERROR(INDIRECT($C$4&\"!O9\"),\"\")","v":""},{"$f":"IFERROR(INDIRECT($C$4&\"!P9\"),\"\")","v":""},{"$f":"IFERROR(INDIRECT($C$4&\"!Q9\"),\"\")","v":""},{"$f":"IFERROR(INDIRECT($C$4&\"!R9\"),\"\")","v":""},{"$f":"IFERROR(INDIRECT($C$4&\"!S9\"),\"\")","v":""},{"$f":"IFERROR(INDIRECT($C$4&\"!T9\"),\"\")","v":""},{"$f":"IFERROR(INDIRECT($C$4&\"!U9\"),\"\")","v":""},{"$f":"IFERROR(INDIRECT($C$4&\"!V9\"),\"\")","v":""},{"$f":"IFERROR(INDIRECT($C$4&\"!W9\"),\"\")","v":""},{"$f":"IFERROR(INDIRECT($C$4&\"!X9\"),\"\")","v":""},{"$f":"IFERROR(INDIRECT($C$4&\"!Y9\"),\"\")","v":""},null,null,8,"","",{"$f":"IFERROR($AE$16+$AF$16,\"\")","v":""}]
[null,null,9,{"$f":"IFERROR(INDIRECT($C$4&\"!B10\"),\"\")","v":""},{"$f":"IFERROR(INDIRECT($C$4&\"!C10\"),\"\")","v":""},{"$f":"IFERROR(INDIRECT($C$4&\"!D10\"),\"\")","v":""},{"$f":"IFERROR(INDIRECT($C$4&\"!E10\"),\"\")","v":""},{"$f":"IFERROR(INDIRECT($C$4&\"!F10\"),\"\")","v":""},{"$f":"IFERROR(INDIRECT($C$4&\"!G10\"),\"\")","v":""},{"$f":"IFERROR(INDIRECT($C$4&\"!H10\"),\"\")","v":""},{"$f":"IFERROR(INDIRECT($C$4&\"!I10\"),\"\")","v":""},{"$f":"IFERROR(INDIRECT($C$4&\"!J10\"),\"\")","v":""},{"$f":"IFERROR(INDIRECT($C$4&\"!K10\"),\"\")","v":""},{"$f":"IFERROR(INDIRECT($C$4&\"!L10\"),\"\")","v":""},{"$f":"IFERROR(INDIRECT($C$4&\"!M10\"),\"\")","v":""},{"$f":"IFERROR(INDIRECT($C$4&\"!N10\"),\"\")","v":""},{"$f":"IFERROR(INDIRECT($C$4&\"!O10\"),\"\")","v":""},{"$f":"IFERROR(INDIRECT($C$4&\"!P10\"),\"\")","v":""},{"$f":"IFERROR(INDIRECT($C$4&\"!Q10\"),\"\")","v":""},{"$f":"IFERROR(INDIRECT($C$4&\"!R10\"),\"\")","v":""},{"$f":"IFERROR(INDIRECT($C$4&\"!S10\"),\"\")","v":""},{"$f":"IFERROR(INDIRECT($C$4&\"!T10\"),\"\")","v":""},{"$f":"IFERROR(INDIRECT($C$4&\"!U10\"),\"\")","v":""},{"$f":"IFERROR(INDIRECT($C$4&\"!V10\"),\"\")","v":""},{"$f":"IFERROR(INDIRECT($C$4&\"!W10\"),\"\")","v":""},{"$f":"IFERROR(INDIRECT($C$4&\"!X10\"),\"\")","v":""},{"$f":"IFERROR(INDIRECT($C$4&\"!Y10\"),\"\")","v":""},null,null,9,"","",{"$f":"IFERROR($AE$17+$AF$17,\"\")","v":""}]
[null,null,10,{"$f":"IFERROR(INDIRECT($C$4&\"!B11\"),\"\")","v":""},{"$f":"IFERROR(INDIRECT($C$4&\"!C11\"),\"\")","v":""},{"$f":"IFERROR(INDIRECT($C$4&\"!D11\"),\"\")","v":""},{"$f":"IFERROR(INDIRECT($C$4&\"!E11\"),\"\")","v":""},{"$f":"IFERROR(INDIRECT($C$4&\"!F11\"),\"\")","v":""},{"$f":"IFERROR(INDIRECT($C$4&\"!G11\"),\"\")","v":""},{"$f":"IFERROR(INDIRECT($C$4&\"!H11\"),\"\")","v":""},{"$f":"IFERROR(INDIRECT($C$4&\"!I11\"),\"\")","v":""},{"$f":"IFERROR(INDIRECT($C$4&\"!J11\"),\"\")","v":""},{"$f":"IFERROR(INDIRECT($C$4&\"!K11\"),\"\")","v":""},{"$f":"IFERROR(INDIRECT($C$4&\"!L11\"),\"\")","v":""},{"$f":"IFERROR(INDIRECT($C$4&\"!M11\"),\"\")","v":""},{"$f":"IFERROR(INDIRECT($C$4&\"!N11\"),\"\")","v":""},{"$f":"IFERROR(INDIRECT($C$4&\"!O11\"),\"\")","v":""},{"$f":"IFERROR(INDIRECT($C$4&\"!P11\"),\"\")","v":""},{"$f":"IFERROR(INDIRECT($C$4&\"!Q11\"),\"\")","v":""},{"$f":"IFERROR(INDIRECT($C$4&\"!R11\"),\"\")","v":""},{"$f":"IFERROR(INDIRECT($C$4&\"!S11\"),\"\")","v":""},{"$f":"IFERROR(INDIRECT($C$4&\"!T11\"),\"\")","v":""},{"$f":"IFERROR(INDIRECT($C$4&\"!U11\"),\"\")","v":""},{"$f":"IFERROR(INDIRECT($C$4&\"!V11\"),\"\")","v":""},{"$f":"IFERROR(INDIRECT($C$4&\"!W11\"),\"\")","v":""},{"$f":"IFERROR(INDIRECT($C$4&\"!X11\"),\"\")","v":""},{"$f":"IFERROR(INDIRECT($C$4&\"!Y11\"),\"\")","v":""},null,null,10,"","",{"$f":"IFERROR($AE$18+$AF$18,\"\")","v":""}]
[null,null,11,{"$f":"IFERROR(INDIRECT($C$4&\"!B12\"),\"\")","v":""},{"$f":"IFERROR(INDIRECT($C$4&\"!C12\"),\"\")","v":""},{"$f":"IFERROR(INDIRECT($C$4&\"!D12\"),\"\")","v":""},{"$f":"IFERROR(INDIRECT($C$4&\"!E12\"),\"\")","v":""},{"$f":"IFERROR(INDIRECT($C$4&\"!F12\"),\"\")","v":""},{"$f":"IFERROR(INDIRECT($C$4&\"!G12\"),\"\")","v":""},{"$f":"IFERROR(INDIRECT($C$4&\"!H12\"),\"\")","v":""},{"$f":"IFERROR(INDIRECT($C$4&\"!I12\"),\"\")","v":""},{"$f":"IFERROR(INDIRECT($C$4&\"!J12\"),\"\")","v":""},{"$f":"IFERROR(INDIRECT($C$4&\"!K12\"),\"\")","v":""},{"$f":"IFERROR(INDIRECT($C$4&\"!L12\"),\"\")","v":""},{"$f":"IFERROR(INDIRECT($C$4&\"!M12\"),\"\")","v":""},{"$f":"IFERROR(INDIRECT($C$4&\"!N12\"),\"\")","v":""},{"$f":"IFERROR(INDIRECT($C$4&\"!O12\"),\"\")","v":""},{"$f":"IFERROR(INDIRECT($C$4&\"!P12\"),\"\")","v":""},{"$f":"IFERROR(INDIRECT($C$4&\"!Q12\"),\"\")","v":""},{"$f":"IFERROR(INDIRECT($C$4&\"!R12\"),\"\")","v":""},{"$f":"IFERROR(INDIRECT($C$4&\"!S12\"),\"\")","v":""},{"$f":"IFERROR(INDIRECT($C$4&\"!T12\"),\"\")","v":""},{"$f":"IFERROR(INDIRECT($C$4&\"!U12\"),\"\")","v":""},{"$f":"IFERROR(INDIRECT($C$4&\"!V12\"),\"\")","v":""},{"$f":"IFERROR(INDIRECT($C$4&\"!W12\"),\"\")","v":""},{"$f":"IFERROR(INDIRECT($C$4&\"!X12\"),\"\")","v":""},{"$f":"IFERROR(INDIRECT($C$4&\"!Y12\"),\"\")","v":""},null,null,11,"","",{"$f":"IFERROR($AE$19+$AF$19,\"\")","v":""}]
[null,null,12,{"$f":"IFERROR(INDIRECT($C$4&\"!B13\"),\"\")","v":""},{"$f":"IFERROR(INDIRECT($C$4&\"!C13\"),\"\")","v":""},{"$f":"IFERROR(INDIRECT($C$4&\"!D13\"),\"\")","v":""},{"$f":"IFERROR(INDIRECT($C$4&\"!E13\"),\"\")","v":""},{"$f":"IFERROR(INDIRECT($C$4&\"!F13\"),\"\")","v":""},{"$f":"IFERROR(INDIRECT($C$4&\"!G13\"),\"\")","v":""},{"$f":"IFERROR(INDIRECT($C$4&\"!H13\"),\"\")","v":""},{"$f":"IFERROR(INDIRECT($C$4&\"!I13\"),\"\")","v":""},{"$f":"IFERROR(INDIRECT($C$4&\"!J13\"),\"\")","v":""},{"$f":"IFERROR(INDIRECT($C$4&\"!K13\"),\"\")","v":""},{"$f":"IFERROR(INDIRECT($C$4&\"!L13\"),\"\")","v":""},{"$f":"IFERROR(INDIRECT($C$4&\"!M13\"),\"\")","v":""},{"$f":"IFERROR(INDIRECT($C$4&\"!N13\"),\"\")","v":""},{"$f":"IFERROR(INDIRECT($C$4&\"!O13\"),\"\")","v":""},{"$f":"IFERROR(INDIRECT($C$4&\"!P13\"),\"\")","v":""},{"$f":"IFERROR(INDIRECT($C$4&\"!Q13\"),\"\")","v":""},{"$f":"IFERROR(INDIRECT($C$4&\"!R13\"),\"\")","v":""},{"$f":"IFERROR(INDIRECT($C$4&\"!S13\"),\"\")","v":""},{"$f":"IFERROR(INDIRECT($C$4&\"!T13\"),\"\")","v":""},{"$f":"IFERROR(INDIRECT($C$4&\"!U13\"),\"\")","v":""},{"$f":"IFERROR(INDIRECT($C$4&\"!V13\"),\"\")","v":""},{"$f":"IFERROR(INDIRECT($C$4&\"!W13\"),\"\")","v":""},{"$f":"IFERROR(INDIRECT($C$4&\"!X13\"),\"\")","v":""},{"$f":"IFERROR(INDIRECT($C$4&\"!Y13\"),\"\")","v":""},null,null,12,"","",{"$f":"IFERROR($AE$20+$AF$20,\"\")","v":""}]
[null,null,1,{"$f":"IFERROR(INDIRECT($C$4&\"!B14\"),\"\")","v":""},{"$f":"IFERROR(INDIRECT($C$4&\"!C14\"),\"\")","v":""},{"$f":"IFERROR(INDIRECT($C$4&\"!D14\"),\"\")","v":""},{"$f":"IFERROR(INDIRECT($C$4&\"!E14\"),\"\")","v":""},{"$f":"IFERROR(INDIRECT($C$4&\"!F14\"),\"\")","v":""},{"$f":"IFERROR(INDIRECT($C$4&\"!G14\"),\"\")","v":""},{"$f":"IFERROR(INDIRECT($C$4&\"!H14\"),\"\")","v":""},{"$f":"IFERROR(INDIRECT($C$4&\"!I14\"),\"\")","v":""},{"$f":"IFERROR(INDIRECT($C$4&\"!J14\"),\"\")","v":""},{"$f":"IFERROR(INDIRECT($C$4&\"!K14\"),\"\")","v":""},{"$f":"IFERROR(INDIRECT($C$4&\"!L14\"),\"\")","v":""},{"$f":"IFERROR(INDIRECT($C$4&\"!M14\"),\"\")","v":""},{"$f":"IFERROR(INDIRECT($C$4&\"!N14\"),\"\")","v":""},{"$f":"IFERROR(INDIRECT($C$4&\"!O14\"),\"\")","v":""},{"$f":"IFERROR(INDIRECT($C$4&\"!P14\"),\"\")","v":""},{"$f":"IFERROR(INDIRECT($C$4&\"!Q14\"),\"\")","v":""},{"$f":"IFERROR(INDIRECT($C$4&\"!R14\"),\"\")","v":""},{"$f":"IFERROR(INDIRECT($C$4&\"!S14\"),\"\")","v":""},{"$f":"IFERROR(INDIRECT($C$4&\"!T14\"),\"\")","v":""},{"$f":"IFERROR(INDIRECT($C$4&\"!U14\"),\"\")","v":""},{"$f":"IFERROR(INDIRECT($C$4&\"!V14\"),\"\")","v":""},{"$f":"IFERROR(INDIRECT($C$4&\"!W14\"),\"\")","v":""},{"$f":"IFERROR(INDIRECT($C$4&\"!X14\"),\"\")","v":""},{"$f":"IFERROR(INDIRECT($C$4&\"!Y14\"),\"\")","v":""},null,null,1,"","",{"$f":"IFERROR($AE$21+$AF$21,\"\")","v":""}]
[null,null,2,{"$f":"IFERROR(INDIRECT($C$4&\"!B15\"),\"\")","v":""},{"$f":"IFERROR(INDIRECT($C$4&\"!C15\"),\"\")","v":""},{"$f":"IFERROR(INDIRECT($C$4&\"!D15\"),\"\")","v":""},{"$f":"IFERROR(INDIRECT($C$4&\"!E15\"),\"\")","v":""},{"$f":"IFERROR(INDIRECT($C$4&\"!F15\"),\"\")","v":""},{"$f":"IFERROR(INDIRECT($C$4&\"!G15\"),\"\")","v":""},{"$f":"IFERROR(INDIRECT($C$4&\"!H15\"),\"\")","v":""},{"$f":"IFERROR(INDIRECT($C$4&\"!I15\"),\"\")","v":""},{"$f":"IFERROR(INDIRECT($C$4&\"!J15\"),\"\")","v":""},{"$f":"IFERROR(INDIRECT($C$4&\"!K15\"),\"\")","v":""},{"$f":"IFERROR(INDIRECT($C$4&\"!L15\"),\"\")","v":""},{"$f":"IFERROR(INDIRECT($C$4&\"!M15\"),\"\")","v":""},{"$f":"IFERROR(INDIRECT($C$4&\"!N15\"),\"\")","v":""},{"$f":"IFERROR(INDIRECT($C$4&\"!O15\"),\"\")","v":""},{"$f":"IFERROR(INDIRECT($C$4&\"!P15\"),\"\")","v":""},{"$f":"IFERROR(INDIRECT($C$4&\"!Q15\"),\"\")","v":""},{"$f":"IFERROR(INDIRECT($C$4&\"!R15\"),\"\")","v":""},{"$f":"IFERROR(INDIRECT($C$4&\"!S15\"),\"\")","v":""},{"$f":"IFERROR(INDIRECT($C$4&\"!T15\"),\"\")","v":""},{"$f":"IFERROR(INDIRECT($C$4&\"!U15\"),\"\")","v":""},{"$f":"IFERROR(INDIRECT($C$4&\"!V15\"),\"\")","v":""},{"$f":"IFERROR(INDIRECT($C$4&\"!W15\"),\"\")","v":""},{"$f":"IFERROR(INDIRECT($C$4&\"!X15\"),\"\")","v":""},{"$f":"IFERROR(INDIRECT($C$4&\"!Y15\"),\"\")","v":""},null,null,2,"","",{"$f":"IFERROR($AE$22+$AF$22,\"\")","v":""}]
[null,null,3,{"$f":"IFERROR(INDIRECT($C$4&\"!B16\"),\"\")","v":""},{"$f":"IFERROR(INDIRECT($C$4&\"!C16\"),\"\")","v":""},{"$f":"IFERROR(INDIRECT($C$4&\"!D16\"),\"\")","v":""},{"$f":"IFERROR(INDIRECT($C$4&\"!E16\"),\"\")","v":""},{"$f":"IFERROR(INDIRECT($C$4&\"!F16\"),\"\")","v":""},{"$f":"IFERROR(INDIRECT($C$4&\"!G16\"),\"\")","v":""},{"$f":"IFERROR(INDIRECT($C$4&\"!H16\"),\"\")","v":""},{"$f":"IFERROR(INDIRECT($C$4&\"!I16\"),\"\")","v":""},{"$f":"IFERROR(INDIRECT($C$4&\"!J16\"),\"\")","v":""},{"$f":"IFERROR(INDIRECT($C$4&\"!K16\"),\"\")","v":""},{"$f":"IFERROR(INDIRECT($C$4&\"!L16\"),\"\")","v":""},{"$f":"IFERROR(INDIRECT($C$4&\"!M16\"),\"\")","v":""},{"$f":"IFERROR(INDIRECT($C$4&\"!N16\"),\"\")","v":""},{"$f":"IFERROR(INDIRECT($C$4&\"!O16\"),\"\")","v":""},{"$f":"IFERROR(INDIRECT($C$4&\"!P16\"),\"\")","v":""},{"$f":"IFERROR(INDIRECT($C$4&\"!Q16\"),\"\")","v":""},{"$f":"IFERROR(INDIRECT($C$4&\"!R16\"),\"\")","v":""},{"$f":"IFERROR(INDIRECT($C$4&\"!S16\"),\"\")","v":""},{"$f":"IFERROR(INDIRECT($C$4&\"!T16\"),\"\")","v":""},{"$f":"IFERROR(INDIRECT($C$4&\"!U16\"),\"\")","v":""},{"$f":"IFERROR(INDIRECT($C$4&\"!V16\"),\"\")","v":""},{"$f":"IFERROR(INDIRECT($C$4&\"!W16\"),\"\")","v":""},{"$f":"IFERROR(INDIRECT($C$4&\"!X16\"),\"\")","v":""},{"$f":"IFERROR(INDIRECT($C$4&\"!Y16\"),\"\")","v":""},null,null,3,"","",{"$f":"IFERROR($AE$23+$AF$23,\"\")","v":""}]
[null,null,null,null,null,null,null,null,null,null,null,null,null,null,null,null,null,null,null,"●時刻別平均気温表記載の数値は、選択された都道府県の県庁所在地の月別、時刻別平均気温",null,null,null,null,null,null,null,null,null,"合計",{"$f":"IFERROR(SUM($AE$12:$AE$23),\"\")","v":0},{"$f":"IFERROR(SUM($AF$12:$AF$23),\"\")","v":0},{"$f":"IFERROR(SUM($AG$12:$AG$23),\"\")","v":0}]
[null,null,null,"冷房負荷ゼロ点",null,"Tco",18,"℃",null,null,"冷房が不要になると思われる外気温度を入力",null,null,null,null,null,null,null,null,"●本データは気象庁発表の1992年4月1日から2022年3月31日までの30年の1時間データを整理したもの"]
[null,null,null,"暖房負荷ゼロ点",null,"Two",12,"℃",null,null,"暖房が不要になると思われる外気温度を入力",null,null,null,null,null,null,null,null,"●2月はうるう日を含みます",null,null,null,null,null,null,null,{"$f":"'2-1 設備条件シート'!M3","v":"Ver. 1.1.2"}]
[null,null,null,"定格冷房能力",null,"Φco",22,"kW",null,null,"空調機の仕様を入力"]
[null,null,null,"定格冷房消費電力",null,"Pco",6.6,"kW",null,null,"空調機の仕様を入力"]
[null,null,null,"定格冷房COP",null,"σco",{"$f":"IFERROR($G$27/$G$28,\"\")","v":3.3333333333333335},"σco＝Φco／Pco",null,null,"自動計算"]
[null,null,null,"定格暖房能力",null,"Φwo",25,"kW",null,null,"空調機の仕様を入力"]
[null,null,null,"定格暖房消費電力",null,"Pwo",6.4,"kW",null,null,"空調機の仕様を入力"]
[null,null,null,"定格暖房COP",null,"σwo",{"$f":"IFERROR($G$30/$G$31,\"\")","v":3.90625},"σwo＝Φwo／Pwo",null,null,"自動計算"]
[null,null,null,"最大冷房負荷",null,"Qc",null,"kW",{"$f":"IF($G$33=\"\",\"\",\"fs=\")","v":""},{"$f":"IF($G$33=\"\",0.8,IF($G$33=0,0.8,IF($G$27<$G$33,1,$G$33/$G$27)))","v":0.8},"設計時の値を入力（不明の際は空白のまま）",null,null,null,null,null,{"$f":"IF($G$33=\"\",0.8,IF($G$33=0,0.8,IF($G$27<$G$33,1,$G$33/$G$27)))","v":0.8}]
[]
[]
[]
[]
[]
[]
[]
[null,null,"作業表1(青色のセルを「24」、オレンジ色のセルを「19」として抽出）"]
[null,null,"月"," 時刻",null,null,null,null,null,null,null,null,null,null,null,null,null,null,null,null,null,null,null,null,null,null,null,"月"]
[null,null,null,0,1,2,3,4,5,6,7,8,9,10,11,12,13,14,15,16,17,18,19,20,21,22,23]
[null,null,4,{"$f":"CELLCOLOR($D$12)","v":-4142},{"$f":"CELLCOLOR($E$12)","v":-4142},{"$f":"CELLCOLOR($F$12)","v":-4142},{"$f":"CELLCOLOR($G$12)","v":-4142},{"$f":"CELLCOLOR($H$12)","v":-4142},{"$f":"CELLCOLOR($I$12)","v":-4142},{"$f":"CELLCOLOR($J$12)","v":-4142},{"$f":"CELLCOLOR($K$12)","v":-4142},{"$f":"CELLCOLOR($L$12)","v":-4142},{"$f":"CELLCOLOR($M$12)","v":-4142},{"$f":"CELLCOLOR($N$12)","v":-4142},{"$f":"CELLCOLOR($O$12)","v":-4142},{"$f":"CELLCOLOR($P$12)","v":-4142},{"$f":"CELLCOLOR($Q$12)","v":-4142},{"$f":"CELLCOLOR($R$12)","v":-4142},{"$f":"CELLCOLOR($S$12)","v":-4142},{"$f":"CELLCOLOR($T$12)","v":-4142},{"$f":"CELLCOLOR($U$12)","v":-4142},{"$f":"CELLCOLOR($V$12)","v":-4142},{"$f":"CELLCOLOR($W$12)","v":-4142},{"$f":"CELLCOLOR($X$12)","v":-4142},{"$f":"CELLCOLOR($Y$12)","v":-4142},{"$f":"CELLCOLOR($Z$12)","v":-4142},{"$f":"CELLCOLOR($AA$12)","v":-4142},4]
[null,null,5,{"$f":"CELLCOLOR($D$13)","v":-4142},{"$f":"CELLCOLOR($E$13)","v":-4142},{"$f":"CELLCOLOR($F$13)","v":-4142},{"$f":"CELLCOLOR($G$13)","v":-4142},{"$f":"CELLCOLOR($H$13)","v":-4142},{"$f":"CELLCOLOR($I$13)","v":-4142},{"$f":"CELLCOLOR($J$13)","v":-4142},{"$f":"CELLCOLOR($K$13)","v":-4142},{"$f":"CELLCOLOR($L$13)","v":-4142},{"$f":"CELLCOLOR($M$13)","v":-4142},{"$f":"CELLCOLOR($N$13)","v":-4142},{"$f":"CELLCOLOR($O$13)","v":-4142},{"$f":"CELLCOLOR($P$13)","v":-4142},{"$f":"CELLCOLOR($Q$13)","v":-4142},{"$f":"CELLCOLOR($R$13)","v":-4142},{"$f":"CELLCOLOR($S$13)","v":-4142},{"$f":"CELLCOLOR($T$13)","v":-4142},{"$f":"CELLCOLOR($U$13)","v":-4142},{"$f":"CELLCOLOR($V$13)","v":-4142},{"$f":"CELLCOLOR($W$13)","v":-4142},{"$f":"CELLCOLOR($X$13)","v":-4142},{"$f":"CELLCOLOR($Y$13)","v":-4142},{"$f":"CELLCOLOR($Z$13)","v":-4142},{"$f":"CELLCOLOR($AA$13)","v":-4142},5]
[null,null,6,{"$f":"CELLCOLOR($D$14)","v":-4142},{"$f":"CELLCOLOR($E$14)","v":-4142},{"$f":"CELLCOLOR($F$14)","v":-4142},{"$f":"CELLCOLOR($G$14)","v":-4142},{"$f":"CELLCOLOR($H$14)","v":-4142},{"$f":"CELLCOLOR($I$14)","v":-4142},{"$f":"CELLCOLOR($J$14)","v":-4142},{"$f":"CELLCOLOR($K$14)","v":-4142},{"$f":"CELLCOLOR($L$14)","v":-4142},{"$f":"CELLCOLOR($M$14)","v":-4142},{"$f":"CELLCOLOR($N$14)","v":-4142},{"$f":"CELLCOLOR($O$14)","v":-4142},{"$f":"CELLCOLOR($P$14)","v":-4142},{"$f":"CELLCOLOR($Q$14)","v":-4142},{"$f":"CELLCOLOR($R$14)","v":-4142},{"$f":"CELLCOLOR($S$14)","v":-4142},{"$f":"CELLCOLOR($T$14)","v":-4142},{"$f":"CELLCOLOR($U$14)","v":-4142},{"$f":"CELLCOLOR($V$14)","v":-4142},{"$f":"CELLCOLOR($W$14)","v":-4142},{"$f":"CELLCOLOR($X$14)","v":-4142},{"$f":"CELLCOLOR($Y$14)","v":-4142},{"$f":"CELLCOLOR($Z$14)","v":-4142},{"$f":"CELLCOLOR($AA$14)","v":-4142},6]
[null,null,7,{"$f":"CELLCOLOR($D$15)","v":-4142},{"$f":"CELLCOLOR($E$15)","v":-4142},{"$f":"CELLCOLOR($F$15)","v":-4142},{"$f":"CELLCOLOR($G$15)","v":-4142},{"$f":"CELLCOLOR($H$15)","v":-4142},{"$f":"CELLCOLOR($I$15)","v":-4142},{"$f":"CELLCOLOR($J$15)","v":-4142},{"$f":"CELLCOLOR($K$15)","v":-4142},{"$f":"CELLCOLOR($L$15)","v":-4142},{"$f":"CELLCOLOR($M$15)","v":-4142},{"$f":"CELLCOLOR($N$15)","v":-4142},{"$f":"CELLCOLOR($O$15)","v":-4142},{"$f":"CELLCOLOR($P$15)","v":-4142},{"$f":"CELLCOLOR($Q$15)","v":-4142},{"$f":"CELLCOLOR($R$15)","v":-4142},{"$f":"CELLCOLOR($S$15)","v":-4142},{"$f":"CELLCOLOR($T$15)","v":-4142},{"$f":"CELLCOLOR($U$15)","v":-4142},{"$f":"CELLCOLOR($V$15)","v":-4142},{"$f":"CELLCOLOR($W$15)","v":-4142},{"$f":"CELLCOLOR($X$15)","v":-4142},{"$f":"CELLCOLOR($Y$15)","v":-4142},{"$f":"CELLCOLOR($Z$15)","v":-4142},{"$f":"CELLCOLOR($AA$15)","v":-4142},7]
[null,null,8,{"$f":"CELLCOLOR($D$16)","v":-4142},{"$f":"CELLCOLOR($E$16)","v":-4142},{"$f":"CELLCOLOR($F$16)","v":-4142},{"$f":"CELLCOLOR($G$16)","v":-4142},{"$f":"CELLCOLOR($H$16)","v":-4142},{"$f":"CELLCOLOR($I$16)","v":-4142},{"$f":"CELLCOLOR($J$16)","v":-4142},{"$f":"CELLCOLOR($K$16)","v":-4142},{"$f":"CELLCOLOR($L$16)","v":-4142},{"$f":"CELLCOLOR($M$16)","v":-4142},{"$f":"CELLCOLOR($N$16)","v":-4142},{"$f":"CELLCOLOR($O$16)","v":-4142},{"$f":"CELLCOLOR($P$16)","v":-4142},{"$f":"CELLCOLOR($Q$16)","v":-4142},{"$f":"CELLCOLOR($R$16)","v":-4142},{"$f":"CELLCOLOR($S$16)","v":-4142},{"$f":"CELLCOLOR($T$16)","v":-4142},{"$f":"CELLCOLOR($U$16)","v":-4142},{"$f":"CELLCOLOR($V$16)","v":-4142},{"$f":"CELLCOLOR($W$16)","v":-4142},{"$f":"CELLCOLOR($X$16)","v":-4142},{"$f":"CELLCOLOR($Y$16)","v":-4142},{"$f":"CELLCOLOR($Z$16)","v":-4142},{"$f":"CELLCOLOR($AA$16)","v":-4142},8]
[null,null,9,{"$f":"CELLCOLOR($D$17)","v":-4142},{"$f":"CELLCOLOR($E$17)","v":-4142},{"$f":"CELLCOLOR($F$17)","v":-4142},{"$f":"CELLCOLOR($G$17)","v":-4142},{"$f":"CELLCOLOR($H$17)","v":-4142},{"$f":"CELLCOLOR($I$17)","v":-4142},{"$f":"CELLCOLOR($J$17)","v":-4142},{"$f":"CELLCOLOR($K$17)","v":-4142},{"$f":"CELLCOLOR($L$17)","v":-4142},{"$f":"CELLCOLOR($M$17)","v":-4142},{"$f":"CELLCOLOR($N$17)","v":-4142},{"$f":"CELLCOLOR($O$17)","v":-4142},{"$f":"CELLCOLOR($P$17)","v":-4142},{"$f":"CELLCOLOR($Q$17)","v":-4142},{"$f":"CELLCOLOR($R$17)","v":-4142},{"$f":"CELLCOLOR($S$17)","v":-4142},{"$f":"CELLCOLOR($T$17)","v":-4142},{"$f":"CELLCOLOR($U$17)","v":-4142},{"$f":"CELLCOLOR($V$17)","v":-4142},{"$f":"CELLCOLOR($W$17)","v":-4142},{"$f":"CELLCOLOR($X$17)","v":-4142},{"$f":"CELLCOLOR($Y$17)","v":-4142},{"$f":"CELLCOLOR($Z$17)","v":-4142},{"$f":"CELLCOLOR($AA$17)","v":-4142},9]
[null,null,10,{"$f":"CELLCOLOR($D$18)","v":-4142},{"$f":"CELLCOLOR($E$18)","v":-4142},{"$f":"CELLCOLOR($F$18)","v":-4142},{"$f":"CELLCOLOR($G$18)","v":-4142},{"$f":"CELLCOLOR($H$18)","v":-4142},{"$f":"CELLCOLOR($I$18)","v":-4142},{"$f":"CELLCOLOR($J$18)","v":-4142},{"$f":"CELLCOLOR($K$18)","v":-4142},{"$f":"CELLCOLOR($L$18)","v":-4142},{"$f":"CELLCOLOR($M$18)","v":-4142},{"$f":"CELLCOLOR($N$18)","v":-4142},{"$f":"CELLCOLOR($O$18)","v":-4142},{"$f":"CELLCOLOR($P$18)","v":-4142},{"$f":"CELLCOLOR($Q$18)","v":-4142},{"$f":"CELLCOLOR($R$18)","v":-4142},{"$f":"CELLCOLOR($S$18)","v":-4142},{"$f":"CELLCOLOR($T$18)","v":-4142},{"$f":"CELLCOLOR($U$18)","v":-4142},{"$f":"CELLCOLOR($V$18)","v":-4142},{"$f":"CELLCOLOR($W$18)","v":-4142},{"$f":"CELLCOLOR($X$18)","v":-4142},{"$f":"CELLCOLOR($Y$18)","v":-4142},{"$f":"CELLCOLOR($Z$18)","v":-4142},{"$f":"CELLCOLOR($AA$18)","v":-4142},10]
[null,null,11,{"$f":"CELLCOLOR($D$19)","v":-4142},{"$f":"CELLCOLOR($E$19)","v":-4142},{"$f":"CELLCOLOR($F$19)","v":-4142},{"$f":"CELLCOLOR($G$19)","v":-4142},{"$f":"CELLCOLOR($H$19)","v":-4142},{"$f":"CELLCOLOR($I$19)","v":-4142},{"$f":"CELLCOLOR($J$19)","v":-4142},{"$f":"CELLCOLOR($K$19)","v":-4142},{"$f":"CELLCOLOR($L$19)","v":-4142},{"$f":"CELLCOLOR($M$19)","v":-4142},{"$f":"CELLCOLOR($N$19)","v":-4142},{"$f":"CELLCOLOR($O$19)","v":-4142},{"$f":"CELLCOLOR($P$19)","v":-4142},{"$f":"CELLCOLOR($Q$19)","v":-4142},{"$f":"CELLCOLOR($R$19)","v":-4142},{"$f":"CELLCOLOR($S$19)","v":-4142},{"$f":"CELLCOLOR($T$19)","v":-4142},{"$f":"CELLCOLOR($U$19)","v":-4142},{"$f":"CELLCOLOR($V$19)","v":-4142},{"$f":"CELLCOLOR($W$19)","v":-4142},{"$f":"CELLCOLOR($X$19)","v":-4142},{"$f":"CELLCOLOR($Y$19)","v":-4142},{"$f":"CELLCOLOR($Z$19)","v":-4142},{"$f":"CELLCOLOR($AA$19)","v":-4142},11]
[null,null,12,{"$f":"CELLCOLOR($D$20)","v":-4142},{"$f":"CELLCOLOR($E$20)","v":-4142},{"$f":"CELLCOLOR($F$20)","v":-4142},{"$f":"CELLCOLOR($G$20)","v":-4142},{"$f":"CELLCOLOR($H$20)","v":-4142},{"$f":"CELLCOLOR($I$20)","v":-4142},{"$f":"CELLCOLOR($J$20)","v":-4142},{"$f":"CELLCOLOR($K$20)","v":-4142},{"$f":"CELLCOLOR($L$20)","v":-4142},{"$f":"CELLCOLOR($M$20)","v":-4142},{"$f":"CELLCOLOR($N$20)","v":-4142},{"$f":"CELLCOLOR($O$20)","v":-4142},{"$f":"CELLCOLOR($P$20)","v":-4142},{"$f":"CELLCOLOR($Q$20)","v":-4142},{"$f":"CELLCOLOR($R$20)","v":-4142},{"$f":"CELLCOLOR($S$20)","v":-4142},{"$f":"CELLCOLOR($T$20)","v":-4142},{"$f":"CELLCOLOR($U$20)","v":-4142},{"$f":"CELLCOLOR($V$20)","v":-4142},{"$f":"CELLCOLOR($W$20)","v":-4142},{"$f":"CELLCOLOR($X$20)","v":-4142},{"$f":"CELLCOLOR($Y$20)","v":-4142},{"$f":"CELLCOLOR($Z$20)","v":-4142},{"$f":"CELLCOLOR($AA$20)","v":-4142},12]
[null,null,1,{"$f":"CELLCOLOR($D$21)","v":-4142},{"$f":"CELLCOLOR($E$21)","v":-4142},{"$f":"CELLCOLOR($F$21)","v":-4142},{"$f":"CELLCOLOR($G$21)","v":-4142},{"$f":"CELLCOLOR($H$21)","v":-4142},{"$f":"CELLCOLOR($I$21)","v":-4142},{"$f":"CELLCOLOR($J$21)","v":-4142},{"$f":"CELLCOLOR($K$21)","v":-4142},{"$f":"CELLCOLOR($L$21)","v":-4142},{"$f":"CELLCOLOR($M$21)","v":-4142},{"$f":"CELLCOLOR($N$21)","v":-4142},{"$f":"CELLCOLOR($O$21)","v":-4142},{"$f":"CELLCOLOR($P$21)","v":-4142},{"$f":"CELLCOLOR($Q$21)","v":-4142},{"$f":"CELLCOLOR($R$21)","v":-4142},{"$f":"CELLCOLOR($S$21)","v":-4142},{"$f":"CELLCOLOR($T$21)","v":-4142},{"$f":"CELLCOLOR($U$21)","v":-4142},{"$f":"CELLCOLOR($V$21)","v":-4142},{"$f":"CELLCOLOR($W$21)","v":-4142},{"$f":"CELLCOLOR($X$21)","v":-4142},{"$f":"CELLCOLOR($Y$21)","v":-4142},{"$f":"CELLCOLOR($Z$21)","v":-4142},{"$f":"CELLCOLOR($AA$21)","v":-4142},1]
[null,null,2,{"$f":"CELLCOLOR($D$22)","v":-4142},{"$f":"CELLCOLOR($E$22)","v":-4142},{"$f":"CELLCOLOR($F$22)","v":-4142},{"$f":"CELLCOLOR($G$22)","v":-4142},{"$f":"CELLCOLOR($H$22)","v":-4142},{"$f":"CELLCOLOR($I$22)","v":-4142},{"$f":"CELLCOLOR($J$22)","v":-4142},{"$f":"CELLCOLOR($K$22)","v":-4142},{"$f":"CELLCOLOR($L$22)","v":-4142},{"$f":"CELLCOLOR($M$22)","v":-4142},{"$f":"CELLCOLOR($N$22)","v":-4142},{"$f":"CELLCOLOR($O$22)","v":-4142},{"$f":"CELLCOLOR($P$22)","v":-4142},{"$f":"CELLCOLOR($Q$22)","v":-4142},{"$f":"CELLCOLOR($R$22)","v":-4142},{"$f":"CELLCOLOR($S$22)","v":-4142},{"$f":"CELLCOLOR($T$22)","v":-4142},{"$f":"CELLCOLOR($U$22)","v":-4142},{"$f":"CELLCOLOR($V$22)","v":-4142},{"$f":"CELLCOLOR($W$22)","v":-4142},{"$f":"CELLCOLOR($X$22)","v":-4142},{"$f":"CELLCOLOR($Y$22)","v":-4142},{"$f":"CELLCOLOR($Z$22)","v":-4142},{"$f":"CELLCOLOR($AA$22)","v":-4142},2]
[null,null,3,{"$f":"CELLCOLOR($D$23)","v":-4142},{"$f":"CELLCOLOR($E$23)","v":-4142},{"$f":"CELLCOLOR($F$23)","v":-4142},{"$f":"CELLCOLOR($G$23)","v":-4142},{"$f":"CELLCOLOR($H$23)","v":-4142},{"$f":"CELLCOLOR($I$23)","v":-4142},{"$f":"CELLCOLOR($J$23)","v":-4142},{"$f":"CELLCOLOR($K$23)","v":-4142},{"$f":"CELLCOLOR($L$23)","v":-4142},{"$f":"CELLCOLOR($M$23)","v":-4142},{"$f":"CELLCOLOR($N$23)","v":-4142},{"$f":"CELLCOLOR($O$23)","v":-4142},{"$f":"CELLCOLOR($P$23)","v":-4142},{"$f":"CELLCOLOR($Q$23)","v":-4142},{"$f":"CELLCOLOR($R$23)","v":-4142},{"$f":"CELLCOLOR($S$23)","v":-4142},{"$f":"CELLCOLOR($T$23)","v":-4142},{"$f":"CELLCOLOR($U$23)","v":-4142},{"$f":"CELLCOLOR($V$23)","v":-4142},{"$f":"CELLCOLOR($W$23)","v":-4142},{"$f":"CELLCOLOR($X$23)","v":-4142},{"$f":"CELLCOLOR($Y$23)","v":-4142},{"$f":"CELLCOLOR($Z$23)","v":-4142},{"$f":"CELLCOLOR($AA$23)","v":-4142},3]
[]
[null,null,"作業表2-1(冷房)",null,"●月▲時の平均気温(四捨五入で表示）"]
[null,null,"月"," 時刻",null,null,null,null,null,null,null,null,null,null,null,null,null,null,null,null,null,null,null,null,null,null,null,"月"]
[null,null,null,0,1,2,3,4,5,6,7,8,9,10,11,12,13,14,15,16,17,18,19,20,21,22,23]
[null,null,4,{"$f":"IF($D$44=24,ROUND($D$12,0),\"\")&\"\"","v":""},{"$f":"IF($E$44=24,ROUND($E$12,0),\"\")&\"\"","v":""},{"$f":"IF($F$44=24,ROUND($F$12,0),\"\")&\"\"","v":""},{"$f":"IF($G$44=24,ROUND($G$12,0),\"\")&\"\"","v":""},{"$f":"IF($H$44=24,ROUND($H$12,0),\"\")&\"\"","v":""},{"$f":"IF($I$44=24,ROUND($I$12,0),\"\")&\"\"","v":""},{"$f":"IF($J$44=24,ROUND($J$12,0),\"\")&\"\"","v":""},{"$f":"IF($K$44=24,ROUND($K$12,0),\"\")&\"\"","v":""},{"$f":"IF($L$44=24,ROUND($L$12,0),\"\")&\"\"","v":""},{"$f":"IF($M$44=24,ROUND($M$12,0),\"\")&\"\"","v":""},{"$f":"IF($N$44=24,ROUND($N$12,0),\"\")&\"\"","v":""},{"$f":"IF($O$44=24,ROUND($O$12,0),\"\")&\"\"","v":""},{"$f":"IF($P$44=24,ROUND($P$12,0),\"\")&\"\"","v":""},{"$f":"IF($Q$44=24,ROUND($Q$12,0),\"\")&\"\"","v":""},{"$f":"IF($R$44=24,ROUND($R$12,0),\"\")&\"\"","v":""},{"$f":"IF($S$44=24,ROUND($S$12,0),\"\")&\"\"","v":""},{"$f":"IF($T$44=24,ROUND($T$12,0),\"\")&\"\"","v":""},{"$f":"IF($U$44=24,ROUND($U$12,0),\"\")&\"\"","v":""},{"$f":"IF($V$44=24,ROUND($V$12,0),\"\")&\"\"","v":""},{"$f":"IF($W$44=24,ROUND($W$12,0),\"\")&\"\"","v":""},{"$f":"IF($X$44=24,ROUND($X$12,0),\"\")&\"\"","v":""},{"$f":"IF($Y$44=24,ROUND($Y$12,0),\"\")&\"\"","v":""},{"$f":"IF($Z$44=24,ROUND($Z$12,0),\"\")&\"\"","v":""},{"$f":"IF($AA$44=24,ROUND($AA$12,0),\"\")&\"\"","v":""},4]
[null,null,5,{"$f":"IF($D$45=24,ROUND($D$13,0),\"\")&\"\"","v":""},{"$f":"IF($E$45=24,ROUND($E$13,0),\"\")&\"\"","v":""},{"$f":"IF($F$45=24,ROUND($F$13,0),\"\")&\"\"","v":""},{"$f":"IF($G$45=24,ROUND($G$13,0),\"\")&\"\"","v":""},{"$f":"IF($H$45=24,ROUND($H$13,0),\"\")&\"\"","v":""},{"$f":"IF($I$45=24,ROUND($I$13,0),\"\")&\"\"","v":""},{"$f":"IF($J$45=24,ROUND($J$13,0),\"\")&\"\"","v":""},{"$f":"IF($K$45=24,ROUND($K$13,0),\"\")&\"\"","v":""},{"$f":"IF($L$45=24,ROUND($L$13,0),\"\")&\"\"","v":""},{"$f":"IF($M$45=24,ROUND($M$13,0),\"\")&\"\"","v":""},{"$f":"IF($N$45=24,ROUND($N$13,0),\"\")&\"\"","v":""},{"$f":"IF($O$45=24,ROUND($O$13,0),\"\")&\"\"","v":""},{"$f":"IF($P$45=24,ROUND($P$13,0),\"\")&\"\"","v":""},{"$f":"IF($Q$45=24,ROUND($Q$13,0),\"\")&\"\"","v":""},{"$f":"IF($R$45=24,ROUND($R$13,0),\"\")&\"\"","v":""},{"$f":"IF($S$45=24,ROUND($S$13,0),\"\")&\"\"","v":""},{"$f":"IF($T$45=24,ROUND($T$13,0),\"\")&\"\"","v":""},{"$f":"IF($U$45=24,ROUND($U$13,0),\"\")&\"\"","v":""},{"$f":"IF($V$45=24,ROUND($V$13,0),\"\")&\"\"","v":""},{"$f":"IF($W$45=24,ROUND($W$13,0),\"\")&\"\"","v":""},{"$f":"IF($X$45=24,ROUND($X$13,0),\"\")&\"\"","v":""},{"$f":"IF($Y$45=24,ROUND($Y$13,0),\"\")&\"\"","v":""},{"$f":"IF($Z$45=24,ROUND($Z$13,0),\"\")&\"\"","v":""},{"$f":"IF($AA$45=24,ROUND($AA$13,0),\"\")&\"\"","v":""},5]
[null,null,6,{"$f":"IF($D$46=24,ROUND($D$14,0),\"\")&\"\"","v":""},{"$f":"IF($E$46=24,ROUND($E$14,0),\"\")&\"\"","v":""},{"$f":"IF($F$46=24,ROUND($F$14,0),\"\")&\"\"","v":""},{"$f":"IF($G$46=24,ROUND($G$14,0),\"\")&\"\"","v":""},{"$f":"IF($H$46=24,ROUND($H$14,0),\"\")&\"\"","v":""},{"$f":"IF($I$46=24,ROUND($I$14,0),\"\")&\"\"","v":""},{"$f":"IF($J$46=24,ROUND($J$14,0),\"\")&\"\"","v":""},{"$f":"IF($K$46=24,ROUND($K$14,0),\"\")&\"\"","v":""},{"$f":"IF($L$46=24,ROUND($L$14,0),\"\")&\"\"","v":""},{"$f":"IF($M$46=24,ROUND($M$14,0),\"\")&\"\"","v":""},{"$f":"IF($N$46=24,ROUND($N$14,0),\"\")&\"\"","v":""},{"$f":"IF($O$46=24,ROUND($O$14,0),\"\")&\"\"","v":""},{"$f":"IF($P$46=24,ROUND($P$14,0),\"\")&\"\"","v":""},{"$f":"IF($Q$46=24,ROUND($Q$14,0),\"\")&\"\"","v":""},{"$f":"IF($R$46=24,ROUND($R$14,0),\"\")&\"\"","v":""},{"$f":"IF($S$46=24,ROUND($S$14,0),\"\")&\"\"","v":""},{"$f":"IF($T$46=24,ROUND($T$14,0),\"\")&\"\"","v":""},{"$f":"IF($U$46=24,ROUND($U$14,0),\"\")&\"\"","v":""},{"$f":"IF($V$46=24,ROUND($V$14,0),\"\")&\"\"","v":""},{"$f":"IF($W$46=24,ROUND($W$14,0),\"\")&\"\"","v":""},{"$f":"IF($X$46=24,ROUND($X$14,0),\"\")&\"\"","v":""},{"$f":"IF($Y$46=24,ROUND($Y$14,0),\"\")&\"\"","v":""},{"$f":"IF($Z$46=24,ROUND($Z$14,0),\"\")&\"\"","v":""},{"$f":"IF($AA$46=24,ROUND($AA$14,0),\"\")&\"\"","v":""},6]
[null,null,7,{"$f":"IF($D$47=24,ROUND($D$15,0),\"\")&\"\"","v":""},{"$f":"IF($E$47=24,ROUND($E$15,0),\"\")&\"\"","v":""},{"$f":"IF($F$47=24,ROUND($F$15,0),\"\")&\"\"","v":""},{"$f":"IF($G$47=24,ROUND($G$15,0),\"\")&\"\"","v":""},{"$f":"IF($H$47=24,ROUND($H$15,0),\"\")&\"\"","v":""},{"$f":"IF($I$47=24,ROUND($I$15,0),\"\")&\"\"","v":""},{"$f":"IF($J$47=24,ROUND($J$15,0),\"\")&\"\"","v":""},{"$f":"IF($K$47=24,ROUND($K$15,0),\"\")&\"\"","v":""},{"$f":"IF($L$47=24,ROUND($L$15,0),\"\")&\"\"","v":""},{"$f":"IF($M$47=24,ROUND($M$15,0),\"\")&\"\"","v":""},{"$f":"IF($N$47=24,ROUND($N$15,0),\"\")&\"\"","v":""},{"$f":"IF($O$47=24,ROUND($O$15,0),\"\")&\"\"","v":""},{"$f":"IF($P$47=24,ROUND($P$15,0),\"\")&\"\"","v":""},{"$f":"IF($Q$47=24,ROUND($Q$15,0),\"\")&\"\"","v":""},{"$f":"IF($R$47=24,ROUND($R$15,0),\"\")&\"\"","v":""},{"$f":"IF($S$47=24,ROUND($S$15,0),\"\")&\"\"","v":""},{"$f":"IF($T$47=24,ROUND($T$15,0),\"\")&\"\"","v":""},{"$f":"IF($U$47=24,ROUND($U$15,0),\"\")&\"\"","v":""},{"$f":"IF($V$47=24,ROUND($V$15,0),\"\")&\"\"","v":""},{"$f":"IF($W$47=24,ROUND($W$15,0),\"\")&\"\"","v":""},{"$f":"IF($X$47=24,ROUND($X$15,0),\"\")&\"\"","v":""},{"$f":"IF($Y$47=24,ROUND($Y$15,0),\"\")&\"\"","v":""},{"$f":"IF($Z$47=24,ROUND($Z$15,0),\"\")&\"\"","v":""},{"$f":"IF($AA$47=24,ROUND($AA$15,0),\"\")&\"\"","v":""},7]
[null,null,8,{"$f":"IF($D$48=24,ROUND($D$16,0),\"\")&\"\"","v":""},{"$f":"IF($E$48=24,ROUND($E$16,0),\"\")&\"\"","v":""},{"$f":"IF($F$48=24,ROUND($F$16,0),\"\")&\"\"","v":""},{"$f":"IF($G$48=24,ROUND($G$16,0),\"\")&\"\"","v":""},{"$f":"IF($H$48=24,ROUND($H$16,0),\"\")&\"\"","v":""},{"$f":"IF($I$48=24,ROUND($I$16,0),\"\")&\"\"","v":""},{"$f":"IF($J$48=24,ROUND($J$16,0),\"\")&\"\"","v":""},{"$f":"IF($K$48=24,ROUND($K$16,0),\"\")&\"\"","v":""},{"$f":"IF($L$48=24,ROUND($L$16,0),\"\")&\"\"","v":""},{"$f":"IF($M$48=24,ROUND($M$16,0),\"\")&\"\"","v":""},{"$f":"IF($N$48=24,ROUND($N$16,0),\"\")&\"\"","v":""},{"$f":"IF($O$48=24,ROUND($O$16,0),\"\")&\"\"","v":""},{"$f":"IF($P$48=24,ROUND($P$16,0),\"\")&\"\"","v":""},{"$f":"IF($Q$48=24,ROUND($Q$16,0),\"\")&\"\"","v":""},{"$f":"IF($R$48=24,ROUND($R$16,0),\"\")&\"\"","v":""},{"$f":"IF($S$48=24,ROUND($S$16,0),\"\")&\"\"","v":""},{"$f":"IF($T$48=24,ROUND($T$16,0),\"\")&\"\"","v":""},{"$f":"IF($U$48=24,ROUND($U$16,0),\"\")&\"\"","v":""},{"$f":"IF($V$48=24,ROUND($V$16,0),\"\")&\"\"","v":""},{"$f":"IF($W$48=24,ROUND($W$16,0),\"\")&\"\"","v":""},{"$f":"IF($X$48=24,ROUND($X$16,0),\"\")&\"\"","v":""},{"$f":"IF($Y$48=24,ROUND($Y$16,0),\"\")&\"\"","v":""},{"$f":"IF($Z$48=24,ROUND($Z$16,0),\"\")&\"\"","v":""},{"$f":"IF($AA$48=24,ROUND($AA$16,0),\"\")&\"\"","v":""},8]
[null,null,9,{"$f":"IF($D$49=24,ROUND($D$17,0),\"\")&\"\"","v":""},{"$f":"IF($E$49=24,ROUND($E$17,0),\"\")&\"\"","v":""},{"$f":"IF($F$49=24,ROUND($F$17,0),\"\")&\"\"","v":""},{"$f":"IF($G$49=24,ROUND($G$17,0),\"\")&\"\"","v":""},{"$f":"IF($H$49=24,ROUND($H$17,0),\"\")&\"\"","v":""},{"$f":"IF($I$49=24,ROUND($I$17,0),\"\")&\"\"","v":""},{"$f":"IF($J$49=24,ROUND($J$17,0),\"\")&\"\"","v":""},{"$f":"IF($K$49=24,ROUND($K$17,0),\"\")&\"\"","v":""},{"$f":"IF($L$49=24,ROUND($L$17,0),\"\")&\"\"","v":""},{"$f":"IF($M$49=24,ROUND($M$17,0),\"\")&\"\"","v":""},{"$f":"IF($N$49=24,ROUND($N$17,0),\"\")&\"\"","v":""},{"$f":"IF($O$49=24,ROUND($O$17,0),\"\")&\"\"","v":""},{"$f":"IF($P$49=24,ROUND($P$17,0),\"\")&\"\"","v":""},{"$f":"IF($Q$49=24,ROUND($Q$17,0),\"\")&\"\"","v":""},{"$f":"IF($R$49=24,ROUND($R$17,0),\"\")&\"\"","v":""},{"$f":"IF($S$49=24,ROUND($S$17,0),\"\")&\"\"","v":""},{"$f":"IF($T$49=24,ROUND($T$17,0),\"\")&\"\"","v":""},{"$f":"IF($U$49=24,ROUND($U$17,0),\"\")&\"\"","v":""},{"$f":"IF($V$49=24,ROUND($V$17,0),\"\")&\"\"","v":""},{"$f":"IF($W$49=24,ROUND($W$17,0),\"\")&\"\"","v":""},{"$f":"IF($X$49=24,ROUND($X$17,0),\"\")&\"\"","v":""},{"$f":"IF($Y$49=24,ROUND($Y$17,0),\"\")&\"\"","v":""},{"$f":"IF($Z$49=24,ROUND($Z$17,0),\"\")&\"\"","v":""},{"$f":"IF($AA$49=24,ROUND($AA$17,0),\"\")&\"\"","v":""},9]
[null,null,10,{"$f":"IF($D$50=24,ROUND($D$18,0),\"\")&\"\"","v":""},{"$f":"IF($E$50=24,ROUND($E$18,0),\"\")&\"\"","v":""},{"$f":"IF($F$50=24,ROUND($F$18,0),\"\")&\"\"","v":""},{"$f":"IF($G$50=24,ROUND($G$18,0),\"\")&\"\"","v":""},{"$f":"IF($H$50=24,ROUND($H$18,0),\"\")&\"\"","v":""},{"$f":"IF($I$50=24,ROUND($I$18,0),\"\")&\"\"","v":""},{"$f":"IF($J$50=24,ROUND($J$18,0),\"\")&\"\"","v":""},{"$f":"IF($K$50=24,ROUND($K$18,0),\"\")&\"\"","v":""},{"$f":"IF($L$50=24,ROUND($L$18,0),\"\")&\"\"","v":""},{"$f":"IF($M$50=24,ROUND($M$18,0),\"\")&\"\"","v":""},{"$f":"IF($N$50=24,ROUND($N$18,0),\"\")&\"\"","v":""},{"$f":"IF($O$50=24,ROUND($O$18,0),\"\")&\"\"","v":""},{"$f":"IF($P$50=24,ROUND($P$18,0),\"\")&\"\"","v":""},{"$f":"IF($Q$50=24,ROUND($Q$18,0),\"\")&\"\"","v":""},{"$f":"IF($R$50=24,ROUND($R$18,0),\"\")&\"\"","v":""},{"$f":"IF($S$50=24,ROUND($S$18,0),\"\")&\"\"","v":""},{"$f":"IF($T$50=24,ROUND($T$18,0),\"\")&\"\"","v":""},{"$f":"IF($U$50=24,ROUND($U$18,0),\"\")&\"\"","v":""},{"$f":"IF($V$50=24,ROUND($V$18,0),\"\")&\"\"","v":""},{"$f":"IF($W$50=24,ROUND($W$18,0),\"\")&\"\"","v":""},{"$f":"IF($X$50=24,ROUND($X$18,0),\"\")&\"\"","v":""},{"$f":"IF($Y$50=24,ROUND($Y$18,0),\"\")&\"\"","v":""},{"$f":"IF($Z$50=24,ROUND($Z$18,0),\"\")&\"\"","v":""},{"$f":"IF($AA$50=24,ROUND($AA$18,0),\"\")&\"\"","v":""},10]
[null,null,11,{"$f":"IF($D$51=24,ROUND($D$19,0),\"\")&\"\"","v":""},{"$f":"IF($E$51=24,ROUND($E$19,0),\"\")&\"\"","v":""},{"$f":"IF($F$51=24,ROUND($F$19,0),\"\")&\"\"","v":""},{"$f":"IF($G$51=24,ROUND($G$19,0),\"\")&\"\"","v":""},{"$f":"IF($H$51=24,ROUND($H$19,0),\"\")&\"\"","v":""},{"$f":"IF($I$51=24,ROUND($I$19,0),\"\")&\"\"","v":""},{"$f":"IF($J$51=24,ROUND($J$19,0),\"\")&\"\"","v":""},{"$f":"IF($K$51=24,ROUND($K$19,0),\"\")&\"\"","v":""},{"$f":"IF($L$51=24,ROUND($L$19,0),\"\")&\"\"","v":""},{"$f":"IF($M$51=24,ROUND($M$19,0),\"\")&\"\"","v":""},{"$f":"IF($N$51=24,ROUND($N$19,0),\"\")&\"\"","v":""},{"$f":"IF($O$51=24,ROUND($O$19,0),\"\")&\"\"","v":""},{"$f":"IF($P$51=24,ROUND($P$19,0),\"\")&\"\"","v":""},{"$f":"IF($Q$51=24,ROUND($Q$19,0),\"\")&\"\"","v":""},{"$f":"IF($R$51=24,ROUND($R$19,0),\"\")&\"\"","v":""},{"$f":"IF($S$51=24,ROUND($S$19,0),\"\")&\"\"","v":""},{"$f":"IF($T$51=24,ROUND($T$19,0),\"\")&\"\"","v":""},{"$f":"IF($U$51=24,ROUND($U$19,0),\"\")&\"\"","v":""},{"$f":"IF($V$51=24,ROUND($V$19,0),\"\")&\"\"","v":""},{"$f":"IF($W$51=24,ROUND($W$19,0),\"\")&\"\"","v":""},{"$f":"IF($X$51=24,ROUND($X$19,0),\"\")&\"\"","v":""},{"$f":"IF($Y$51=24,ROUND($Y$19,0),\"\")&\"\"","v":""},{"$f":"IF($Z$51=24,ROUND($Z$19,0),\"\")&\"\"","v":""},{"$f":"IF($AA$51=24,ROUND($AA$19,0),\"\")&\"\"","v":""},11]
[null,null,12,{"$f":"IF($D$52=24,ROUND($D$20,0),\"\")&\"\"","v":""},{"$f":"IF($E$52=24,ROUND($E$20,0),\"\")&\"\"","v":""},{"$f":"IF($F$52=24,ROUND($F$20,0),\"\")&\"\"","v":""},{"$f":"IF($G$52=24,ROUND($G$20,0),\"\")&\"\"","v":""},{"$f":"IF($H$52=24,ROUND($H$20,0),\"\")&\"\"","v":""},{"$f":"IF($I$52=24,ROUND($I$20,0),\"\")&\"\"","v":""},{"$f":"IF($J$52=24,ROUND($J$20,0),\"\")&\"\"","v":""},{"$f":"IF($K$52=24,ROUND($K$20,0),\"\")&\"\"","v":""},{"$f":"IF($L$52=24,ROUND($L$20,0),\"\")&\"\"","v":""},{"$f":"IF($M$52=24,ROUND($M$20,0),\"\")&\"\"","v":""},{"$f":"IF($N$52=24,ROUND($N$20,0),\"\")&\"\"","v":""},{"$f":"IF($O$52=24,ROUND($O$20,0),\"\")&\"\"","v":""},{"$f":"IF($P$52=24,ROUND($P$20,0),\"\")&\"\"","v":""},{"$f":"IF($Q$52=24,ROUND($Q$20,0),\"\")&\"\"","v":""},{"$f":"IF($R$52=24,ROUND($R$20,0),\"\")&\"\"","v":""},{"$f":"IF($S$52=24,ROUND($S$20,0),\"\")&\"\"","v":""},{"$f":"IF($T$52=24,ROUND($T$20,0),\"\")&\"\"","v":""},{"$f":"IF($U$52=24,ROUND($U$20,0),\"\")&\"\"","v":""},{"$f":"IF($V$52=24,ROUND($V$20,0),\"\")&\"\"","v":""},{"$f":"IF($W$52=24,ROUND($W$20,0),\"\")&\"\"","v":""},{"$f":"IF($X$52=24,ROUND($X$20,0),\"\")&\"\"","v":""},{"$f":"IF($Y$52=24,ROUND($Y$20,0),\"\")&\"\"","v":""},{"$f":"IF($Z$52=24,ROUND($Z$20,0),\"\")&\"\"","v":""},{"$f":"IF($AA$52=24,ROUND($AA$20,0),\"\")&\"\"","v":""},12]
[null,null,1,{"$f":"IF($D$53=24,ROUND($D$21,0),\"\")&\"\"","v":""},{"$f":"IF($E$53=24,ROUND($E$21,0),\"\")&\"\"","v":""},{"$f":"IF($F$53=24,ROUND($F$21,0),\"\")&\"\"","v":""},{"$f":"IF($G$53=24,ROUND($G$21,0),\"\")&\"\"","v":""},{"$f":"IF($H$53=24,ROUND($H$21,0),\"\")&\"\"","v":""},{"$f":"IF($I$53=24,ROUND($I$21,0),\"\")&\"\"","v":""},{"$f":"IF($J$53=24,ROUND($J$21,0),\"\")&\"\"","v":""},{"$f":"IF($K$53=24,ROUND($K$21,0),\"\")&\"\"","v":""},{"$f":"IF($L$53=24,ROUND($L$21,0),\"\")&\"\"","v":""},{"$f":"IF($M$53=24,ROUND($M$21,0),\"\")&\"\"","v":""},{"$f":"IF($N$53=24,ROUND($N$21,0),\"\")&\"\"","v":""},{"$f":"IF($O$53=24,ROUND($O$21,0),\"\")&\"\"","v":""},{"$f":"IF($P$53=24,ROUND($P$21,0),\"\")&\"\"","v":""},{"$f":"IF($Q$53=24,ROUND($Q$21,0),\"\")&\"\"","v":""},{"$f":"IF($R$53=24,ROUND($R$21,0),\"\")&\"\"","v":""},{"$f":"IF($S$53=24,ROUND($S$21,0),\"\")&\"\"","v":""},{"$f":"IF($T$53=24,ROUND($T$21,0),\"\")&\"\"","v":""},{"$f":"IF($U$53=24,ROUND($U$21,0),\"\")&\"\"","v":""},{"$f":"IF($V$53=24,ROUND($V$21,0),\"\")&\"\"","v":""},{"$f":"IF($W$53=24,ROUND($W$21,0),\"\")&\"\"","v":""},{"$f":"IF($X$53=24,ROUND($X$21,0),\"\")&\"\"","v":""},{"$f":"IF($Y$53=24,ROUND($Y$21,0),\"\")&\"\"","v":""},{"$f":"IF($Z$53=24,ROUND($Z$21,0),\"\")&\"\"","v":""},{"$f":"IF($AA$53=24,ROUND($AA$21,0),\"\")&\"\"","v":""},1]
[null,null,2,{"$f":"IF($D$54=24,ROUND($D$22,0),\"\")&\"\"","v":""},{"$f":"IF($E$54=24,ROUND($E$22,0),\"\")&\"\"","v":""},{"$f":"IF($F$54=24,ROUND($F$22,0),\"\")&\"\"","v":""},{"$f":"IF($G$54=24,ROUND($G$22,0),\"\")&\"\"","v":""},{"$f":"IF($H$54=24,ROUND($H$22,0),\"\")&\"\"","v":""},{"$f":"IF($I$54=24,ROUND($I$22,0),\"\")&\"\"","v":""},{"$f":"IF($J$54=24,ROUND($J$22,0),\"\")&\"\"","v":""},{"$f":"IF($K$54=24,ROUND($K$22,0),\"\")&\"\"","v":""},{"$f":"IF($L$54=24,ROUND($L$22,0),\"\")&\"\"","v":""},{"$f":"IF($M$54=24,ROUND($M$22,0),\"\")&\"\"","v":""},{"$f":"IF($N$54=24,ROUND($N$22,0),\"\")&\"\"","v":""},{"$f":"IF($O$54=24,ROUND($O$22,0),\"\")&\"\"","v":""},{"$f":"IF($P$54=24,ROUND($P$22,0),\"\")&\"\"","v":""},{"$f":"IF($Q$54=24,ROUND($Q$22,0),\"\")&\"\"","v":""},{"$f":"IF($R$54=24,ROUND($R$22,0),\"\")&\"\"","v":""},{"$f":"IF($S$54=24,ROUND($S$22,0),\"\")&\"\"","v":""},{"$f":"IF($T$54=24,ROUND($T$22,0),\"\")&\"\"","v":""},{"$f":"IF($U$54=24,ROUND($U$22,0),\"\")&\"\"","v":""},{"$f":"IF($V$54=24,ROUND($V$22,0),\"\")&\"\"","v":""},{"$f":"IF($W$54=24,ROUND($W$22,0),\"\")&\"\"","v":""},{"$f":"IF($X$54=24,ROUND($X$22,0),\"\")&\"\"","v":""},{"$f":"IF($Y$54=24,ROUND($Y$22,0),\"\")&\"\"","v":""},{"$f":"IF($Z$54=24,ROUND($Z$22,0),\"\")&\"\"","v":""},{"$f":"IF($AA$54=24,ROUND($AA$22,0),\"\")&\"\"","v":""},2]
[null,null,3,{"$f":"IF($D$55=24,ROUND($D$23,0),\"\")&\"\"","v":""},{"$f":"IF($E$55=24,ROUND($E$23,0),\"\")&\"\"","v":""},{"$f":"IF($F$55=24,ROUND($F$23,0),\"\")&\"\"","v":""},{"$f":"IF($G$55=24,ROUND($G$23,0),\"\")&\"\"","v":""},{"$f":"IF($H$55=24,ROUND($H$23,0),\"\")&\"\"","v":""},{"$f":"IF($I$55=24,ROUND($I$23,0),\"\")&\"\"","v":""},{"$f":"IF($J$55=24,ROUND($J$23,0),\"\")&\"\"","v":""},{"$f":"IF($K$55=24,ROUND($K$23,0),\"\")&\"\"","v":""},{"$f":"IF($L$55=24,ROUND($L$23,0),\"\")&\"\"","v":""},{"$f":"IF($M$55=24,ROUND($M$23,0),\"\")&\"\"","v":""},{"$f":"IF($N$55=24,ROUND($N$23,0),\"\")&\"\"","v":""},{"$f":"IF($O$55=24,ROUND($O$23,0),\"\")&\"\"","v":""},{"$f":"IF($P$55=24,ROUND($P$23,0),\"\")&\"\"","v":""},{"$f":"IF($Q$55=24,ROUND($Q$23,0),\"\")&\"\"","v":""},{"$f":"IF($R$55=24,ROUND($R$23,0),\"\")&\"\"","v":""},{"$f":"IF($S$55=24,ROUND($S$23,0),\"\")&\"\"","v":""},{"$f":"IF($T$55=24,ROUND($T$23,0),\"\")&\"\"","v":""},{"$f":"IF($U$55=24,ROUND($U$23,0),\"\")&\"\"","v":""},{"$f":"IF($V$55=24,ROUND($V$23,0),\"\")&\"\"","v":""},{"$f":"IF($W$55=24,ROUND($W$23,0),\"\")&\"\"","v":""},{"$f":"IF($X$55=24,ROUND($X$23,0),\"\")&\"\"","v":""},{"$f":"IF($Y$55=24,ROUND($Y$23,0),\"\")&\"\"","v":""},{"$f":"IF($Z$55=24,ROUND($Z$23,0),\"\")&\"\"","v":""},{"$f":"IF($AA$55=24,ROUND($AA$23,0),\"\")&\"\"","v":""},3]
[]
[null,null,"作業表2-2(暖房)",null,"●月▲時の平均気温(四捨五入で表示）"]
[null,null,"月"," 時刻",null,null,null,null,null,null,null,null,null,null,null,null,null,null,null,null,null,null,null,null,null,null,null,"月"]
[null,null,null,0,1,2,3,4,5,6,7,8,9,10,11,12,13,14,15,16,17,18,19,20,21,22,23]
[null,null,4,{"$f":"IF($D$44=19,ROUND($D$12,0),\"\")&\"\"","v":""},{"$f":"IF($E$44=19,ROUND($E$12,0),\"\")&\"\"","v":""},{"$f":"IF($F$44=19,ROUND($F$12,0),\"\")&\"\"","v":""},{"$f":"IF($G$44=19,ROUND($G$12,0),\"\")&\"\"","v":""},{"$f":"IF($H$44=19,ROUND($H$12,0),\"\")&\"\"","v":""},{"$f":"IF($I$44=19,ROUND($I$12,0),\"\")&\"\"","v":""},{"$f":"IF($J$44=19,ROUND($J$12,0),\"\")&\"\"","v":""},{"$f":"IF($K$44=19,ROUND($K$12,0),\"\")&\"\"","v":""},{"$f":"IF($L$44=19,ROUND($L$12,0),\"\")&\"\"","v":""},{"$f":"IF($M$44=19,ROUND($M$12,0),\"\")&\"\"","v":""},{"$f":"IF($N$44=19,ROUND($N$12,0),\"\")&\"\"","v":""},{"$f":"IF($O$44=19,ROUND($O$12,0),\"\")&\"\"","v":""},{"$f":"IF($P$44=19,ROUND($P$12,0),\"\")&\"\"","v":""},{"$f":"IF($Q$44=19,ROUND($Q$12,0),\"\")&\"\"","v":""},{"$f":"IF($R$44=19,ROUND($R$12,0),\"\")&\"\"","v":""},{"$f":"IF($S$44=19,ROUND($S$12,0),\"\")&\"\"","v":""},{"$f":"IF($T$44=19,ROUND($T$12,0),\"\")&\"\"","v":""},{"$f":"IF($U$44=19,ROUND($U$12,0),\"\")&\"\"","v":""},{"$f":"IF($V$44=19,ROUND($V$12,0),\"\")&\"\"","v":""},{"$f":"IF($W$44=19,ROUND($W$12,0),\"\")&\"\"","v":""},{"$f":"IF($X$44=19,ROUND($X$12,0),\"\")&\"\"","v":""},{"$f":"IF($Y$44=19,ROUND($Y$12,0),\"\")&\"\"","v":""},{"$f":"IF($Z$44=19,ROUND($Z$12,0),\"\")&\"\"","v":""},{"$f":"IF($AA$44=19,ROUND($AA$12,0),\"\")&\"\"","v":""},4]
[null,null,5,{"$f":"IF($D$45=19,ROUND($D$13,0),\"\")&\"\"","v":""},{"$f":"IF($E$45=19,ROUND($E$13,0),\"\")&\"\"","v":""},{"$f":"IF($F$45=19,ROUND($F$13,0),\"\")&\"\"","v":""},{"$f":"IF($G$45=19,ROUND($G$13,0),\"\")&\"\"","v":""},{"$f":"IF($H$45=19,ROUND($H$13,0),\"\")&\"\"","v":""},{"$f":"IF($I$45=19,ROUND($I$13,0),\"\")&\"\"","v":""},{"$f":"IF($J$45=19,ROUND($J$13,0),\"\")&\"\"","v":""},{"$f":"IF($K$45=19,ROUND($K$13,0),\"\")&\"\"","v":""},{"$f":"IF($L$45=19,ROUND($L$13,0),\"\")&\"\"","v":""},{"$f":"IF($M$45=19,ROUND($M$13,0),\"\")&\"\"","v":""},{"$f":"IF($N$45=19,ROUND($N$13,0),\"\")&\"\"","v":""},{"$f":"IF($O$45=19,ROUND($O$13,0),\"\")&\"\"","v":""},{"$f":"IF($P$45=19,ROUND($P$13,0),\"\")&\"\"","v":""},{"$f":"IF($Q$45=19,ROUND($Q$13,0),\"\")&\"\"","v":""},{"$f":"IF($R$45=19,ROUND($R$13,0),\"\")&\"\"","v":""},{"$f":"IF($S$45=19,ROUND($S$13,0),\"\")&\"\"","v":""},{"$f":"IF($T$45=19,ROUND($T$13,0),\"\")&\"\"","v":""},{"$f":"IF($U$45=19,ROUND($U$13,0),\"\")&\"\"","v":""},{"$f":"IF($V$45=19,ROUND($V$13,0),\"\")&\"\"","v":""},{"$f":"IF($W$45=19,ROUND($W$13,0),\"\")&\"\"","v":""},{"$f":"IF($X$45=19,ROUND($X$13,0),\"\")&\"\"","v":""},{"$f":"IF($Y$45=19,ROUND($Y$13,0),\"\")&\"\"","v":""},{"$f":"IF($Z$45=19,ROUND($Z$13,0),\"\")&\"\"","v":""},{"$f":"IF($AA$45=19,ROUND($AA$13,0),\"\")&\"\"","v":""},5]
[null,null,6,{"$f":"IF($D$46=19,ROUND($D$14,0),\"\")&\"\"","v":""},{"$f":"IF($E$46=19,ROUND($E$14,0),\"\")&\"\"","v":""},{"$f":"IF($F$46=19,ROUND($F$14,0),\"\")&\"\"","v":""},{"$f":"IF($G$46=19,ROUND($G$14,0),\"\")&\"\"","v":""},{"$f":"IF($H$46=19,ROUND($H$14,0),\"\")&\"\"","v":""},{"$f":"IF($I$46=19,ROUND($I$14,0),\"\")&\"\"","v":""},{"$f":"IF($J$46=19,ROUND($J$14,0),\"\")&\"\"","v":""},{"$f":"IF($K$46=19,ROUND($K$14,0),\"\")&\"\"","v":""},{"$f":"IF($L$46=19,ROUND($L$14,0),\"\")&\"\"","v":""},{"$f":"IF($M$46=19,ROUND($M$14,0),\"\")&\"\"","v":""},{"$f":"IF($N$46=19,ROUND($N$14,0),\"\")&\"\"","v":""},{"$f":"IF($O$46=19,ROUND($O$14,0),\"\")&\"\"","v":""},{"$f":"IF($P$46=19,ROUND($P$14,0),\"\")&\"\"","v":""},{"$f":"IF($Q$46=19,ROUND($Q$14,0),\"\")&\"\"","v":""},{"$f":"IF($R$46=19,ROUND($R$14,0),\"\")&\"\"","v":""},{"$f":"IF($S$46=19,ROUND($S$14,0),\"\")&\"\"","v":""},{"$f":"IF($T$46=19,ROUND($T$14,0),\"\")&\"\"","v":""},{"$f":"IF($U$46=19,ROUND($U$14,0),\"\")&\"\"","v":""},{"$f":"IF($V$46=19,ROUND($V$14,0),\"\")&\"\"","v":""},{"$f":"IF($W$46=19,ROUND($W$14,0),\"\")&\"\"","v":""},{"$f":"IF($X$46=19,ROUND($X$14,0),\"\")&\"\"","v":""},{"$f":"IF($Y$46=19,ROUND($Y$14,0),\"\")&\"\"","v":""},{"$f":"IF($Z$46=19,ROUND($Z$14,0),\"\")&\"\"","v":""},{"$f":"IF($AA$46=19,ROUND($AA$14,0),\"\")&\"\"","v":""},6]
[null,null,7,{"$f":"IF($D$47=19,ROUND($D$15,0),\"\")&\"\"","v":""},{"$f":"IF($E$47=19,ROUND($E$15,0),\"\")&\"\"","v":""},{"$f":"IF($F$47=19,ROUND($F$15,0),\"\")&\"\"","v":""},{"$f":"IF($G$47=19,ROUND($G$15,0),\"\")&\"\"","v":""},{"$f":"IF($H$47=19,ROUND($H$15,0),\"\")&\"\"","v":""},{"$f":"IF($I$47=19,ROUND($I$15,0),\"\")&\"\"","v":""},{"$f":"IF($J$47=19,ROUND($J$15,0),\"\")&\"\"","v":""},{"$f":"IF($K$47=19,ROUND($K$15,0),\"\")&\"\"","v":""},{"$f":"IF($L$47=19,ROUND($L$15,0),\"\")&\"\"","v":""},{"$f":"IF($M$47=19,ROUND($M$15,0),\"\")&\"\"","v":""},{"$f":"IF($N$47=19,ROUND($N$15,0),\"\")&\"\"","v":""},{"$f":"IF($O$47=19,ROUND($O$15,0),\"\")&\"\"","v":""},{"$f":"IF($P$47=19,ROUND($P$15,0),\"\")&\"\"","v":""},{"$f":"IF($Q$47=19,ROUND($Q$15,0),\"\")&\"\"","v":""},{"$f":"IF($R$47=19,ROUND($R$15,0),\"\")&\"\"","v":""},{"$f":"IF($S$47=19,ROUND($S$15,0),\"\")&\"\"","v":""},{"$f":"IF($T$47=19,ROUND($T$15,0),\"\")&\"\"","v":""},{"$f":"IF($U$47=19,ROUND($U$15,0),\"\")&\"\"","v":""},{"$f":"IF($V$47=19,ROUND($V$15,0),\"\")&\"\"","v":""},{"$f":"IF($W$47=19,ROUND($W$15,0),\"\")&\"\"","v":""},{"$f":"IF($X$47=19,ROUND($X$15,0),\"\")&\"\"","v":""},{"$f":"IF($Y$47=19,ROUND($Y$15,0),\"\")&\"\"","v":""},{"$f":"IF($Z$47=19,ROUND($Z$15,0),\"\")&\"\"","v":""},{"$f":"IF($AA$47=19,ROUND($AA$15,0),\"\")&\"\"","v":""},7]
[null,null,8,{"$f":"IF($D$48=19,ROUND($D$16,0),\"\")&\"\"","v":""},{"$f":"IF($E$48=19,ROUND($E$16,0),\"\")&\"\"","v":""},{"$f":"IF($F$48=19,ROUND($F$16,0),\"\")&\"\"","v":""},{"$f":"IF($G$48=19,ROUND($G$16,0),\"\")&\"\"","v":""},{"$f":"IF($H$48=19,ROUND($H$16,0),\"\")&\"\"","v":""},{"$f":"IF($I$48=19,ROUND($I$16,0),\"\")&\"\"","v":""},{"$f":"IF($J$48=19,ROUND($J$16,0),\"\")&\"\"","v":""},{"$f":"IF($K$48=19,ROUND($K$16,0),\"\")&\"\"","v":""},{"$f":"IF($L$48=19,ROUND($L$16,0),\"\")&\"\"","v":""},{"$f":"IF($M$48=19,ROUND($M$16,0),\"\")&\"\"","v":""},{"$f":"IF($N$48=19,ROUND($N$16,0),\"\")&\"\"","v":""},{"$f":"IF($O$48=19,ROUND($O$16,0),\"\")&\"\"","v":""},{"$f":"IF($P$48=19,ROUND($P$16,0),\"\")&\"\"","v":""},{"$f":"IF($Q$48=19,ROUND($Q$16,0),\"\")&\"\"","v":""},{"$f":"IF($R$48=19,ROUND($R$16,0),\"\")&\"\"","v":""},{"$f":"IF($S$48=19,ROUND($S$16,0),\"\")&\"\"","v":""},{"$f":"IF($T$48=19,ROUND($T$16,0),\"\")&\"\"","v":""},{"$f":"IF($U$48=19,ROUND($U$16,0),\"\")&\"\"","v":""},{"$f":"IF($V$48=19,ROUND($V$16,0),\"\")&\"\"","v":""},{"$f":"IF($W$48=19,ROUND($W$16,0),\"\")&\"\"","v":""},{"$f":"IF($X$48=19,ROUND($X$16,0),\"\")&\"\"","v":""},{"$f":"IF($Y$48=19,ROUND($Y$16,0),\"\")&\"\"","v":""},{"$f":"IF($Z$48=19,ROUND($Z$16,0),\"\")&\"\"","v":""},{"$f":"IF($AA$48=19,ROUND($AA$16,0),\"\")&\"\"","v":""},8]
[null,null,9,{"$f":"IF($D$49=19,ROUND($D$17,0),\"\")&\"\"","v":""},{"$f":"IF($E$49=19,ROUND($E$17,0),\"\")&\"\"","v":""},{"$f":"IF($F$49=19,ROUND($F$17,0),\"\")&\"\"","v":""},{"$f":"IF($G$49=19,ROUND($G$17,0),\"\")&\"\"","v":""},{"$f":"IF($H$49=19,ROUND($H$17,0),\"\")&\"\"","v":""},{"$f":"IF($I$49=19,ROUND($I$17,0),\"\")&\"\"","v":""},{"$f":"IF($J$49=19,ROUND($J$17,0),\"\")&\"\"","v":""},{"$f":"IF($K$49=19,ROUND($K$17,0),\"\")&\"\"","v":""},{"$f":"IF($L$49=19,ROUND($L$17,0),\"\")&\"\"","v":""},{"$f":"IF($M$49=19,ROUND($M$17,0),\"\")&\"\"","v":""},{"$f":"IF($N$49=19,ROUND($N$17,0),\"\")&\"\"","v":""},{"$f":"IF($O$49=19,ROUND($O$17,0),\"\")&\"\"","v":""},{"$f":"IF($P$49=19,ROUND($P$17,0),\"\")&\"\"","v":""},{"$f":"IF($Q$49=19,ROUND($Q$17,0),\"\")&\"\"","v":""},{"$f":"IF($R$49=19,ROUND($R$17,0),\"\")&\"\"","v":""},{"$f":"IF($S$49=19,ROUND($S$17,0),\"\")&\"\"","v":""},{"$f":"IF($T$49=19,ROUND($T$17,0),\"\")&\"\"","v":""},{"$f":"IF($U$49=19,ROUND($U$17,0),\"\")&\"\"","v":""},{"$f":"IF($V$49=19,ROUND($V$17,0),\"\")&\"\"","v":""},{"$f":"IF($W$49=19,ROUND($W$17,0),\"\")&\"\"","v":""},{"$f":"IF($X$49=19,ROUND($X$17,0),\"\")&\"\"","v":""},{"$f":"IF($Y$49=19,ROUND($Y$17,0),\"\")&\"\"","v":""},{"$f":"IF($Z$49=19,ROUND($Z$17,0),\"\")&\"\"","v":""},{"$f":"IF($AA$49=19,ROUND($AA$17,0),\"\")&\"\"","v":""},9]
[null,null,10,{"$f":"IF($D$50=19,ROUND($D$18,0),\"\")&\"\"","v":""},{"$f":"IF($E$50=19,ROUND($E$18,0),\"\")&\"\"","v":""},{"$f":"IF($F$50=19,ROUND($F$18,0),\"\")&\"\"","v":""},{"$f":"IF($G$50=19,ROUND($G$18,0),\"\")&\"\"","v":""},{"$f":"IF($H$50=19,ROUND($H$18,0),\"\")&\"\"","v":""},{"$f":"IF($I$50=19,ROUND($I$18,0),\"\")&\"\"","v":""},{"$f":"IF($J$50=19,ROUND($J$18,0),\"\")&\"\"","v":""},{"$f":"IF($K$50=19,ROUND($K$18,0),\"\")&\"\"","v":""},{"$f":"IF($L$50=19,ROUND($L$18,0),\"\")&\"\"","v":""},{"$f":"IF($M$50=19,ROUND($M$18,0),\"\")&\"\"","v":""},{"$f":"IF($N$50=19,ROUND($N$18,0),\"\")&\"\"","v":""},{"$f":"IF($O$50=19,ROUND($O$18,0),\"\")&\"\"","v":""},{"$f":"IF($P$50=19,ROUND($P$18,0),\"\")&\"\"","v":""},{"$f":"IF($Q$50=19,ROUND($Q$18,0),\"\")&\"\"","v":""},{"$f":"IF($R$50=19,ROUND($R$18,0),\"\")&\"\"","v":""},{"$f":"IF($S$50=19,ROUND($S$18,0),\"\")&\"\"","v":""},{"$f":"IF($T$50=19,ROUND($T$18,0),\"\")&\"\"","v":""},{"$f":"IF($U$50=19,ROUND($U$18,0),\"\")&\"\"","v":""},{"$f":"IF($V$50=19,ROUND($V$18,0),\"\")&\"\"","v":""},{"$f":"IF($W$50=19,ROUND($W$18,0),\"\")&\"\"","v":""},{"$f":"IF($X$50=19,ROUND($X$18,0),\"\")&\"\"","v":""},{"$f":"IF($Y$50=19,ROUND($Y$18,0),\"\")&\"\"","v":""},{"$f":"IF($Z$50=19,ROUND($Z$18,0),\"\")&\"\"","v":""},{"$f":"IF($AA$50=19,ROUND($AA$18,0),\"\")&\"\"","v":""},10]
[null,null,11,{"$f":"IF($D$51=19,ROUND($D$19,0),\"\")&\"\"","v":""},{"$f":"IF($E$51=19,ROUND($E$19,0),\"\")&\"\"","v":""},{"$f":"IF($F$51=19,ROUND($F$19,0),\"\")&\"\"","v":""},{"$f":"IF($G$51=19,ROUND($G$19,0),\"\")&\"\"","v":""},{"$f":"IF($H$51=19,ROUND($H$19,0),\"\")&\"\"","v":""},{"$f":"IF($I$51=19,ROUND($I$19,0),\"\")&\"\"","v":""},{"$f":"IF($J$51=19,ROUND($J$19,0),\"\")&\"\"","v":""},{"$f":"IF($K$51=19,ROUND($K$19,0),\"\")&\"\"","v":""},{"$f":"IF($L$51=19,ROUND($L$19,0),\"\")&\"\"","v":""},{"$f":"IF($M$51=19,ROUND($M$19,0),\"\")&\"\"","v":""},{"$f":"IF($N$51=19,ROUND($N$19,0),\"\")&\"\"","v":""},{"$f":"IF($O$51=19,ROUND($O$19,0),\"\")&\"\"","v":""},{"$f":"IF($P$51=19,ROUND($P$19,0),\"\")&\"\"","v":""},{"$f":"IF($Q$51=19,ROUND($Q$19,0),\"\")&\"\"","v":""},{"$f":"IF($R$51=19,ROUND($R$19,0),\"\")&\"\"","v":""},{"$f":"IF($S$51=19,ROUND($S$19,0),\"\")&\"\"","v":""},{"$f":"IF($T$51=19,ROUND($T$19,0),\"\")&\"\"","v":""},{"$f":"IF($U$51=19,ROUND($U$19,0),\"\")&\"\"","v":""},{"$f":"IF($V$51=19,ROUND($V$19,0),\"\")&\"\"","v":""},{"$f":"IF($W$51=19,ROUND($W$19,0),\"\")&\"\"","v":""},{"$f":"IF($X$51=19,ROUND($X$19,0),\"\")&\"\"","v":""},{"$f":"IF($Y$51=19,ROUND($Y$19,0),\"\")&\"\"","v":""},{"$f":"IF($Z$51=19,ROUND($Z$19,0),\"\")&\"\"","v":""},{"$f":"IF($AA$51=19,ROUND($AA$19,0),\"\")&\"\"","v":""},11]
[null,null,12,{"$f":"IF($D$52=19,ROUND($D$20,0),\"\")&\"\"","v":""},{"$f":"IF($E$52=19,ROUND($E$20,0),\"\")&\"\"","v":""},{"$f":"IF($F$52=19,ROUND($F$20,0),\"\")&\"\"","v":""},{"$f":"IF($G$52=19,ROUND($G$20,0),\"\")&\"\"","v":""},{"$f":"IF($H$52=19,ROUND($H$20,0),\"\")&\"\"","v":""},{"$f":"IF($I$52=19,ROUND($I$20,0),\"\")&\"\"","v":""},{"$f":"IF($J$52=19,ROUND($J$20,0),\"\")&\"\"","v":""},{"$f":"IF($K$52=19,ROUND($K$20,0),\"\")&\"\"","v":""},{"$f":"IF($L$52=19,ROUND($L$20,0),\"\")&\"\"","v":""},{"$f":"IF($M$52=19,ROUND($M$20,0),\"\")&\"\"","v":""},{"$f":"IF($N$52=19,ROUND($N$20,0),\"\")&\"\"","v":""},{"$f":"IF($O$52=19,ROUND($O$20,0),\"\")&\"\"","v":""},{"$f":"IF($P$52=19,ROUND($P$20,0),\"\")&\"\"","v":""},{"$f":"IF($Q$52=19,ROUND($Q$20,0),\"\")&\"\"","v":""},{"$f":"IF($R$52=19,ROUND($R$20,0),\"\")&\"\"","v":""},{"$f":"IF($S$52=19,ROUND($S$20,0),\"\")&\"\"","v":""},{"$f":"IF($T$52=19,ROUND($T$20,0),\"\")&\"\"","v":""},{"$f":"IF($U$52=19,ROUND($U$20,0),\"\")&\"\"","v":""},{"$f":"IF($V$52=19,ROUND($V$20,0),\"\")&\"\"","v":""},{"$f":"IF($W$52=19,ROUND($W$20,0),\"\")&\"\"","v":""},{"$f":"IF($X$52=19,ROUND($X$20,0),\"\")&\"\"","v":""},{"$f":"IF($Y$52=19,ROUND($Y$20,0),\"\")&\"\"","v":""},{"$f":"IF($Z$52=19,ROUND($Z$20,0),\"\")&\"\"","v":""},{"$f":"IF($AA$52=19,ROUND($AA$20,0),\"\")&\"\"","v":""},12]
[null,null,1,{"$f":"IF($D$53=19,ROUND($D$21,0),\"\")&\"\"","v":""},{"$f":"IF($E$53=19,ROUND($E$21,0),\"\")&\"\"","v":""},{"$f":"IF($F$53=19,ROUND($F$21,0),\"\")&\"\"","v":""},{"$f":"IF($G$53=19,ROUND($G$21,0),\"\")&\"\"","v":""},{"$f":"IF($H$53=19,ROUND($H$21,0),\"\")&\"\"","v":""},{"$f":"IF($I$53=19,ROUND($I$21,0),\"\")&\"\"","v":""},{"$f":"IF($J$53=19,ROUND($J$21,0),\"\")&\"\"","v":""},{"$f":"IF($K$53=19,ROUND($K$21,0),\"\")&\"\"","v":""},{"$f":"IF($L$53=19,ROUND($L$21,0),\"\")&\"\"","v":""},{"$f":"IF($M$53=19,ROUND($M$21,0),\"\")&\"\"","v":""},{"$f":"IF($N$53=19,ROUND($N$21,0),\"\")&\"\"","v":""},{"$f":"IF($O$53=19,ROUND($O$21,0),\"\")&\"\"","v":""},{"$f":"IF($P$53=19,ROUND($P$21,0),\"\")&\"\"","v":""},{"$f":"IF($Q$53=19,ROUND($Q$21,0),\"\")&\"\"","v":""},{"$f":"IF($R$53=19,ROUND($R$21,0),\"\")&\"\"","v":""},{"$f":"IF($S$53=19,ROUND($S$21,0),\"\")&\"\"","v":""},{"$f":"IF($T$53=19,ROUND($T$21,0),\"\")&\"\"","v":""},{"$f":"IF($U$53=19,ROUND($U$21,0),\"\")&\"\"","v":""},{"$f":"IF($V$53=19,ROUND($V$21,0),\"\")&\"\"","v":""},{"$f":"IF($W$53=19,ROUND($W$21,0),\"\")&\"\"","v":""},{"$f":"IF($X$53=19,ROUND($X$21,0),\"\")&\"\"","v":""},{"$f":"IF($Y$53=19,ROUND($Y$21,0),\"\")&\"\"","v":""},{"$f":"IF($Z$53=19,ROUND($Z$21,0),\"\")&\"\"","v":""},{"$f":"IF($AA$53=19,ROUND($AA$21,0),\"\")&\"\"","v":""},1]
[null,null,2,{"$f":"IF($D$54=19,ROUND($D$22,0),\"\")&\"\"","v":""},{"$f":"IF($E$54=19,ROUND($E$22,0),\"\")&\"\"","v":""},{"$f":"IF($F$54=19,ROUND($F$22,0),\"\")&\"\"","v":""},{"$f":"IF($G$54=19,ROUND($G$22,0),\"\")&\"\"","v":""},{"$f":"IF($H$54=19,ROUND($H$22,0),\"\")&\"\"","v":""},{"$f":"IF($I$54=19,ROUND($I$22,0),\"\")&\"\"","v":""},{"$f":"IF($J$54=19,ROUND($J$22,0),\"\")&\"\"","v":""},{"$f":"IF($K$54=19,ROUND($K$22,0),\"\")&\"\"","v":""},{"$f":"IF($L$54=19,ROUND($L$22,0),\"\")&\"\"","v":""},{"$f":"IF($M$54=19,ROUND($M$22,0),\"\")&\"\"","v":""},{"$f":"IF($N$54=19,ROUND($N$22,0),\"\")&\"\"","v":""},{"$f":"IF($O$54=19,ROUND($O$22,0),\"\")&\"\"","v":""},{"$f":"IF($P$54=19,ROUND($P$22,0),\"\")&\"\"","v":""},{"$f":"IF($Q$54=19,ROUND($Q$22,0),\"\")&\"\"","v":""},{"$f":"IF($R$54=19,ROUND($R$22,0),\"\")&\"\"","v":""},{"$f":"IF($S$54=19,ROUND($S$22,0),\"\")&\"\"","v":""},{"$f":"IF($T$54=19,ROUND($T$22,0),\"\")&\"\"","v":""},{"$f":"IF($U$54=19,ROUND($U$22,0),\"\")&\"\"","v":""},{"$f":"IF($V$54=19,ROUND($V$22,0),\"\")&\"\"","v":""},{"$f":"IF($W$54=19,ROUND($W$22,0),\"\")&\"\"","v":""},{"$f":"IF($X$54=19,ROUND($X$22,0),\"\")&\"\"","v":""},{"$f":"IF($Y$54=19,ROUND($Y$22,0),\"\")&\"\"","v":""},{"$f":"IF($Z$54=19,ROUND($Z$22,0),\"\")&\"\"","v":""},{"$f":"IF($AA$54=19,ROUND($AA$22,0),\"\")&\"\"","v":""},2]
[null,null,3,{"$f":"IF($D$55=19,ROUND($D$23,0),\"\")&\"\"","v":""},{"$f":"IF($E$55=19,ROUND($E$23,0),\"\")&\"\"","v":""},{"$f":"IF($F$55=19,ROUND($F$23,0),\"\")&\"\"","v":""},{"$f":"IF($G$55=19,ROUND($G$23,0),\"\")&\"\"","v":""},{"$f":"IF($H$55=19,ROUND($H$23,0),\"\")&\"\"","v":""},{"$f":"IF($I$55=19,ROUND($I$23,0),\"\")&\"\"","v":""},{"$f":"IF($J$55=19,ROUND($J$23,0),\"\")&\"\"","v":""},{"$f":"IF($K$55=19,ROUND($K$23,0),\"\")&\"\"","v":""},{"$f":"IF($L$55=19,ROUND($L$23,0),\"\")&\"\"","v":""},{"$f":"IF($M$55=19,ROUND($M$23,0),\"\")&\"\"","v":""},{"$f":"IF($N$55=19,ROUND($N$23,0),\"\")&\"\"","v":""},{"$f":"IF($O$55=19,ROUND($O$23,0),\"\")&\"\"","v":""},{"$f":"IF($P$55=19,ROUND($P$23,0),\"\")&\"\"","v":""},{"$f":"IF($Q$55=19,ROUND($Q$23,0),\"\")&\"\"","v":""},{"$f":"IF($R$55=19,ROUND($R$23,0),\"\")&\"\"","v":""},{"$f":"IF($S$55=19,ROUND($S$23,0),\"\")&\"\"","v":""},{"$f":"IF($T$55=19,ROUND($T$23,0),\"\")&\"\"","v":""},{"$f":"IF($U$55=19,ROUND($U$23,0),\"\")&\"\"","v":""},{"$f":"IF($V$55=19,ROUND($V$23,0),\"\")&\"\"","v":""},{"$f":"IF($W$55=19,ROUND($W$23,0),\"\")&\"\"","v":""},{"$f":"IF($X$55=19,ROUND($X$23,0),\"\")&\"\"","v":""},{"$f":"IF($Y$55=19,ROUND($Y$23,0),\"\")&\"\"","v":""},{"$f":"IF($Z$55=19,ROUND($Z$23,0),\"\")&\"\"","v":""},{"$f":"IF($AA$55=19,ROUND($AA$23,0),\"\")&\"\"","v":""},3]
[]
[null,null,"冷房期間中　温度(T)が発生する時間[hour]"]
[null,null,null," 温度(T)",null,null,null,null,null,null,null,null,null,null,null,null,null,null,null,null,null,null,null,null,null,null,null,null,null,null,null,null,null,null,null,null,null,null,null,null,null,null,null,null,null,null,"月単位"]
[null,null,"月",-6,-5,-4,-3,-2,-1,0,1,2,3,4,5,6,7,8,9,10,11,12,13,14,15,16,17,18,19,20,21,22,23,24,25,26,27,28,29,30,31,32,33,34,35,"月"]
[null,null,4,{"$f":"COUNTIF($D$60:$AA$60,$D$91)*$AB$12","v":0},{"$f":"COUNTIF($D$60:$AA$60,$E$91)*$AB$12","v":0},{"$f":"COUNTIF($D$60:$AA$60,$F$91)*$AB$12","v":0},{"$f":"COUNTIF($D$60:$AA$60,$G$91)*$AB$12","v":0},{"$f":"COUNTIF($D$60:$AA$60,$H$91)*$AB$12","v":0},{"$f":"COUNTIF($D$60:$AA$60,$I$91)*$AB$12","v":0},{"$f":"COUNTIF($D$60:$AA$60,$J$91)*$AB$12","v":0},{"$f":"COUNTIF($D$60:$AA$60,$K$91)*$AB$12","v":0},{"$f":"COUNTIF($D$60:$AA$60,$L$91)*$AB$12","v":0},{"$f":"COUNTIF($D$60:$AA$60,$M$91)*$AB$12","v":0},{"$f":"COUNTIF($D$60:$AA$60,$N$91)*$AB$12","v":0},{"$f":"COUNTIF($D$60:$AA$60,$O$91)*$AB$12","v":0},{"$f":"COUNTIF($D$60:$AA$60,$P$91)*$AB$12","v":0},{"$f":"COUNTIF($D$60:$AA$60,$Q$91)*$AB$12","v":0},{"$f":"COUNTIF($D$60:$AA$60,$R$91)*$AB$12","v":0},{"$f":"COUNTIF($D$60:$AA$60,$S$91)*$AB$12","v":0},{"$f":"COUNTIF($D$60:$AA$60,$T$91)*$AB$12","v":0},{"$f":"COUNTIF($D$60:$AA$60,$U$91)*$AB$12","v":0},{"$f":"COUNTIF($D$60:$AA$60,$V$91)*$AB$12","v":0},{"$f":"COUNTIF($D$60:$AA$60,$W$91)*$AB$12","v":0},{"$f":"COUNTIF($D$60:$AA$60,$X$91)*$AB$12","v":0},{"$f":"COUNTIF($D$60:$AA$60,$Y$91)*$AB$12","v":0},{"$f":"COUNTIF($D$60:$AA$60,$Z$91)*$AB$12","v":0},{"$f":"COUNTIF($D$60:$AA$60,$AA$91)*$AB$12","v":0},{"$f":"COUNTIF($D$60:$AA$60,$AB$91)*$AB$12","v":0},{"$f":"COUNTIF($D$60:$AA$60,$AC$91)*$AB$12","v":0},{"$f":"COUNTIF($D$60:$AA$60,$AD$91)*$AB$12","v":0},{"$f":"COUNTIF($D$60:$AA$60,$AE$91)*$AB$12","v":0},{"$f":"COUNTIF($D$60:$AA$60,$AF$91)*$AB$12","v":0},{"$f":"COUNTIF($D$60:$AA$60,$AG$91)*$AB$12","v":0},{"$f":"COUNTIF($D$60:$AA$60,$AH$91)*$AB$12","v":0},{"$f":"COUNTIF($D$60:$AA$60,$AI$91)*$AB$12","v":0},{"$f":"COUNTIF($D$60:$AA$60,$AJ$91)*$AB$12","v":0},{"$f":"COUNTIF($D$60:$AA$60,$AK$91)*$AB$12","v":0},{"$f":"COUNTIF($D$60:$AA$60,$AL$91)*$AB$12","v":0},{"$f":"COUNTIF($D$60:$AA$60,$AM$91)*$AB$12","v":0},{"$f":"COUNTIF($D$60:$AA$60,$AN$91)*$AB$12","v":0},{"$f":"COUNTIF($D$60:$AA$60,$AO$91)*$AB$12","v":0},{"$f":"COUNTIF($D$60:$AA$60,$AP$91)*$AB$12","v":0},{"$f":"COUNTIF($D$60:$AA$60,$AQ$91)*$AB$12","v":0},{"$f":"COUNTIF($D$60:$AA$60,$AR$91)*$AB$12","v":0},{"$f":"COUNTIF($D$60:$AA$60,$AS$91)*$AB$12","v":0},4,{"$f":"SUMPRODUCT(D92:AS92,$D$105:$AS$105)","v":0}]
[null,null,5,{"$f":"COUNTIF($D$61:$AA$61,$D$91)*$AB$13","v":0},{"$f":"COUNTIF($D$61:$AA$61,$E$91)*$AB$13","v":0},{"$f":"COUNTIF($D$61:$AA$61,$F$91)*$AB$13","v":0},{"$f":"COUNTIF($D$61:$AA$61,$G$91)*$AB$13","v":0},{"$f":"COUNTIF($D$61:$AA$61,$H$91)*$AB$13","v":0},{"$f":"COUNTIF($D$61:$AA$61,$I$91)*$AB$13","v":0},{"$f":"COUNTIF($D$61:$AA$61,$J$91)*$AB$13","v":0},{"$f":"COUNTIF($D$61:$AA$61,$K$91)*$AB$13","v":0},{"$f":"COUNTIF($D$61:$AA$61,$L$91)*$AB$13","v":0},{"$f":"COUNTIF($D$61:$AA$61,$M$91)*$AB$13","v":0},{"$f":"COUNTIF($D$61:$AA$61,$N$91)*$AB$13","v":0},{"$f":"COUNTIF($D$61:$AA$61,$O$91)*$AB$13","v":0},{"$f":"COUNTIF($D$61:$AA$61,$P$91)*$AB$13","v":0},{"$f":"COUNTIF($D$61:$AA$61,$Q$91)*$AB$13","v":0},{"$f":"COUNTIF($D$61:$AA$61,$R$91)*$AB$13","v":0},{"$f":"COUNTIF($D$61:$AA$61,$S$91)*$AB$13","v":0},{"$f":"COUNTIF($D$61:$AA$61,$T$91)*$AB$13","v":0},{"$f":"COUNTIF($D$61:$AA$61,$U$91)*$AB$13","v":0},{"$f":"COUNTIF($D$61:$AA$61,$V$91)*$AB$13","v":0},{"$f":"COUNTIF($D$61:$AA$61,$W$91)*$AB$13","v":0},{"$f":"COUNTIF($D$61:$AA$61,$X$91)*$AB$13","v":0},{"$f":"COUNTIF($D$61:$AA$61,$Y$91)*$AB$13","v":0},{"$f":"COUNTIF($D$61:$AA$61,$Z$91)*$AB$13","v":0},{"$f":"COUNTIF($D$61:$AA$61,$AA$91)*$AB$13","v":0},{"$f":"COUNTIF($D$61:$AA$61,$AB$91)*$AB$13","v":0},{"$f":"COUNTIF($D$61:$AA$61,$AC$91)*$AB$13","v":0},{"$f":"COUNTIF($D$61:$AA$61,$AD$91)*$AB$13","v":0},{"$f":"COUNTIF($D$61:$AA$61,$AE$91)*$AB$13","v":0},{"$f":"COUNTIF($D$61:$AA$61,$AF$91)*$AB$13","v":0},{"$f":"COUNTIF($D$61:$AA$61,$AG$91)*$AB$13","v":0},{"$f":"COUNTIF($D$61:$AA$61,$AH$91)*$AB$13","v":0},{"$f":"COUNTIF($D$61:$AA$61,$AI$91)*$AB$13","v":0},{"$f":"COUNTIF($D$61:$AA$61,$AJ$91)*$AB$13","v":0},{"$f":"COUNTIF($D$61:$AA$61,$AK$91)*$AB$13","v":0},{"$f":"COUNTIF($D$61:$AA$61,$AL$91)*$AB$13","v":0},{"$f":"COUNTIF($D$61:$AA$61,$AM$91)*$AB$13","v":0},{"$f":"COUNTIF($D$61:$AA$61,$AN$91)*$AB$13","v":0},{"$f":"COUNTIF($D$61:$AA$61,$AO$91)*$AB$13","v":0},{"$f":"COUNTIF($D$61:$AA$61,$AP$91)*$AB$13","v":0},{"$f":"COUNTIF($D$61:$AA$61,$AQ$91)*$AB$13","v":0},{"$f":"COUNTIF($D$61:$AA$61,$AR$91)*$AB$13","v":0},{"$f":"COUNTIF($D$61:$AA$61,$AS$91)*$AD$13","v":0},5,{"$f":"SUMPRODUCT(D93:AS93,$D$105:$AS$105)","v":0}]
[null,null,6,{"$f":"COUNTIF($D$62:$AA$62,$D$91)*$AB$14","v":0},{"$f":"COUNTIF($D$62:$AA$62,$E$91)*$AB$14","v":0},{"$f":"COUNTIF($D$62:$AA$62,$F$91)*$AB$14","v":0},{"$f":"COUNTIF($D$62:$AA$62,$G$91)*$AB$14","v":0},{"$f":"COUNTIF($D$62:$AA$62,$H$91)*$AB$14","v":0},{"$f":"COUNTIF($D$62:$AA$62,$I$91)*$AB$14","v":0},{"$f":"COUNTIF($D$62:$AA$62,$J$91)*$AB$14","v":0},{"$f":"COUNTIF($D$62:$AA$62,$K$91)*$AB$14","v":0},{"$f":"COUNTIF($D$62:$AA$62,$L$91)*$AB$14","v":0},{"$f":"COUNTIF($D$62:$AA$62,$M$91)*$AB$14","v":0},{"$f":"COUNTIF($D$62:$AA$62,$N$91)*$AB$14","v":0},{"$f":"COUNTIF($D$62:$AA$62,$O$91)*$AB$14","v":0},{"$f":"COUNTIF($D$62:$AA$62,$P$91)*$AB$14","v":0},{"$f":"COUNTIF($D$62:$AA$62,$Q$91)*$AB$14","v":0},{"$f":"COUNTIF($D$62:$AA$62,$R$91)*$AB$14","v":0},{"$f":"COUNTIF($D$62:$AA$62,$S$91)*$AB$14","v":0},{"$f":"COUNTIF($D$62:$AA$62,$T$91)*$AB$14","v":0},{"$f":"COUNTIF($D$62:$AA$62,$U$91)*$AB$14","v":0},{"$f":"COUNTIF($D$62:$AA$62,$V$91)*$AB$14","v":0},{"$f":"COUNTIF($D$62:$AA$62,$W$91)*$AB$14","v":0},{"$f":"COUNTIF($D$62:$AA$62,$X$91)*$AB$14","v":0},{"$f":"COUNTIF($D$62:$AA$62,$Y$91)*$AB$14","v":0},{"$f":"COUNTIF($D$62:$AA$62,$Z$91)*$AB$14","v":0},{"$f":"COUNTIF($D$62:$AA$62,$AA$91)*$AB$14","v":0},{"$f":"COUNTIF($D$62:$AA$62,$AB$91)*$AB$14","v":0},{"$f":"COUNTIF($D$62:$AA$62,$AC$91)*$AB$14","v":0},{"$f":"COUNTIF($D$62:$AA$62,$AD$91)*$AB$14","v":0},{"$f":"COUNTIF($D$62:$AA$62,$AE$91)*$AB$14","v":0},{"$f":"COUNTIF($D$62:$AA$62,$AF$91)*$AB$14","v":0},{"$f":"COUNTIF($D$62:$AA$62,$AG$91)*$AB$14","v":0},{"$f":"COUNTIF($D$62:$AA$62,$AH$91)*$AB$14","v":0},{"$f":"COUNTIF($D$62:$AA$62,$AI$91)*$AB$14","v":0},{"$f":"COUNTIF($D$62:$AA$62,$AJ$91)*$AB$14","v":0},{"$f":"COUNTIF($D$62:$AA$62,$AK$91)*$AB$14","v":0},{"$f":"COUNTIF($D$62:$AA$62,$AL$91)*$AB$14","v":0},{"$f":"COUNTIF($D$62:$AA$62,$AM$91)*$AB$14","v":0},{"$f":"COUNTIF($D$62:$AA$62,$AN$91)*$AB$14","v":0},{"$f":"COUNTIF($D$62:$AA$62,$AO$91)*$AB$14","v":0},{"$f":"COUNTIF($D$62:$AA$62,$AP$91)*$AB$14","v":0},{"$f":"COUNTIF($D$62:$AA$62,$AQ$91)*$AB$14","v":0},{"$f":"COUNTIF($D$62:$AA$62,$AR$91)*$AB$14","v":0},{"$f":"COUNTIF($D$62:$AA$62,$AS$91)*$AB$14","v":0},6,0]
[null,null,7,{"$f":"COUNTIF($D$63:$AA$63,$D$91)*$AB$15","v":0},{"$f":"COUNTIF($D$63:$AA$63,$E$91)*$AB$15","v":0},{"$f":"COUNTIF($D$63:$AA$63,$F$91)*$AB$15","v":0},{"$f":"COUNTIF($D$63:$AA$63,$G$91)*$AB$15","v":0},{"$f":"COUNTIF($D$63:$AA$63,$H$91)*$AB$15","v":0},{"$f":"COUNTIF($D$63:$AA$63,$I$91)*$AB$15","v":0},{"$f":"COUNTIF($D$63:$AA$63,$J$91)*$AB$15","v":0},{"$f":"COUNTIF($D$63:$AA$63,$K$91)*$AB$15","v":0},{"$f":"COUNTIF($D$63:$AA$63,$L$91)*$AB$15","v":0},{"$f":"COUNTIF($D$63:$AA$63,$M$91)*$AB$15","v":0},{"$f":"COUNTIF($D$63:$AA$63,$N$91)*$AB$15","v":0},{"$f":"COUNTIF($D$63:$AA$63,$O$91)*$AB$15","v":0},{"$f":"COUNTIF($D$63:$AA$63,$P$91)*$AB$15","v":0},{"$f":"COUNTIF($D$63:$AA$63,$Q$91)*$AB$15","v":0},{"$f":"COUNTIF($D$63:$AA$63,$R$91)*$AB$15","v":0},{"$f":"COUNTIF($D$63:$AA$63,$S$91)*$AB$15","v":0},{"$f":"COUNTIF($D$63:$AA$63,$T$91)*$AB$15","v":0},{"$f":"COUNTIF($D$63:$AA$63,$U$91)*$AB$15","v":0},{"$f":"COUNTIF($D$63:$AA$63,$V$91)*$AB$15","v":0},{"$f":"COUNTIF($D$63:$AA$63,$W$91)*$AB$15","v":0},{"$f":"COUNTIF($D$63:$AA$63,$X$91)*$AB$15","v":0},{"$f":"COUNTIF($D$63:$AA$63,$Y$91)*$AB$15","v":0},{"$f":"COUNTIF($D$63:$AA$63,$Z$91)*$AB$15","v":0},{"$f":"COUNTIF($D$63:$AA$63,$AA$91)*$AB$15","v":0},{"$f":"COUNTIF($D$63:$AA$63,$AB$91)*$AB$15","v":0},{"$f":"COUNTIF($D$63:$AA$63,$AC$91)*$AB$15","v":0},{"$f":"COUNTIF($D$63:$AA$63,$AD$91)*$AB$15","v":0},{"$f":"COUNTIF($D$63:$AA$63,$AE$91)*$AB$15","v":0},{"$f":"COUNTIF($D$63:$AA$63,$AF$91)*$AB$15","v":0},{"$f":"COUNTIF($D$63:$AA$63,$AG$91)*$AB$15","v":0},{"$f":"COUNTIF($D$63:$AA$63,$AH$91)*$AB$15","v":0},{"$f":"COUNTIF($D$63:$AA$63,$AI$91)*$AB$15","v":0},{"$f":"COUNTIF($D$63:$AA$63,$AJ$91)*$AB$15","v":0},{"$f":"COUNTIF($D$63:$AA$63,$AK$91)*$AB$15","v":0},{"$f":"COUNTIF($D$63:$AA$63,$AL$91)*$AB$15","v":0},{"$f":"COUNTIF($D$63:$AA$63,$AM$91)*$AB$15","v":0},{"$f":"COUNTIF($D$63:$AA$63,$AN$91)*$AB$15","v":0},{"$f":"COUNTIF($D$63:$AA$63,$AO$91)*$AB$15","v":0},{"$f":"COUNTIF($D$63:$AA$63,$AP$91)*$AB$15","v":0},{"$f":"COUNTIF($D$63:$AA$63,$AQ$91)*$AB$15","v":0},{"$f":"COUNTIF($D$63:$AA$63,$AR$91)*$AB$15","v":0},{"$f":"COUNTIF($D$63:$AA$63,$AS$91)*$AB$15","v":0},7,0]
[null,null,8,{"$f":"COUNTIF($D$64:$AA$64,$D$91)*$AB$16","v":0},{"$f":"COUNTIF($D$64:$AA$64,$E$91)*$AB$16","v":0},{"$f":"COUNTIF($D$64:$AA$64,$F$91)*$AB$16","v":0},{"$f":"COUNTIF($D$64:$AA$64,$G$91)*$AB$16","v":0},{"$f":"COUNTIF($D$64:$AA$64,$H$91)*$AB$16","v":0},{"$f":"COUNTIF($D$64:$AA$64,$I$91)*$AB$16","v":0},{"$f":"COUNTIF($D$64:$AA$64,$J$91)*$AB$16","v":0},{"$f":"COUNTIF($D$64:$AA$64,$K$91)*$AB$16","v":0},{"$f":"COUNTIF($D$64:$AA$64,$L$91)*$AB$16","v":0},{"$f":"COUNTIF($D$64:$AA$64,$M$91)*$AB$16","v":0},{"$f":"COUNTIF($D$64:$AA$64,$N$91)*$AB$16","v":0},{"$f":"COUNTIF($D$64:$AA$64,$O$91)*$AB$16","v":0},{"$f":"COUNTIF($D$64:$AA$64,$P$91)*$AB$16","v":0},{"$f":"COUNTIF($D$64:$AA$64,$Q$91)*$AB$16","v":0},{"$f":"COUNTIF($D$64:$AA$64,$R$91)*$AB$16","v":0},{"$f":"COUNTIF($D$64:$AA$64,$S$91)*$AB$16","v":0},{"$f":"COUNTIF($D$64:$AA$64,$T$91)*$AB$16","v":0},{"$f":"COUNTIF($D$64:$AA$64,$U$91)*$AB$16","v":0},{"$f":"COUNTIF($D$64:$AA$64,$V$91)*$AB$16","v":0},{"$f":"COUNTIF($D$64:$AA$64,$W$91)*$AB$16","v":0},{"$f":"COUNTIF($D$64:$AA$64,$X$91)*$AB$16","v":0},{"$f":"COUNTIF($D$64:$AA$64,$Y$91)*$AB$16","v":0},{"$f":"COUNTIF($D$64:$AA$64,$Z$91)*$AB$16","v":0},{"$f":"COUNTIF($D$64:$AA$64,$AA$91)*$AB$16","v":0},{"$f":"COUNTIF($D$64:$AA$64,$AB$91)*$AB$16","v":0},{"$f":"COUNTIF($D$64:$AA$64,$AC$91)*$AB$16","v":0},{"$f":"COUNTIF($D$64:$AA$64,$AD$91)*$AB$16","v":0},{"$f":"COUNTIF($D$64:$AA$64,$AE$91)*$AB$16","v":0},{"$f":"COUNTIF($D$64:$AA$64,$AF$91)*$AB$16","v":0},{"$f":"COUNTIF($D$64:$AA$64,$AG$91)*$AB$16","v":0},{"$f":"COUNTIF($D$64:$AA$64,$AH$91)*$AB$16","v":0},{"$f":"COUNTIF($D$64:$AA$64,$AI$91)*$AB$16","v":0},{"$f":"COUNTIF($D$64:$AA$64,$AJ$91)*$AB$16","v":0},{"$f":"COUNTIF($D$64:$AA$64,$AK$91)*$AB$16","v":0},{"$f":"COUNTIF($D$64:$AA$64,$AL$91)*$AB$16","v":0},{"$f":"COUNTIF($D$64:$AA$64,$AM$91)*$AB$16","v":0},{"$f":"COUNTIF($D$64:$AA$64,$AN$91)*$AB$16","v":0},{"$f":"COUNTIF($D$64:$AA$64,$AO$91)*$AB$16","v":0},{"$f":"COUNTIF($D$64:$AA$64,$AP$91)*$AB$16","v":0},{"$f":"COUNTIF($D$64:$AA$64,$AQ$91)*$AB$16","v":0},{"$f":"COUNTIF($D$64:$AA$64,$AR$91)*$AB$16","v":0},{"$f":"COUNTIF($D$64:$AA$64,$AS$91)*$AB$16","v":0},8,0]
[null,null,9,{"$f":"COUNTIF($D$65:$AA$65,$D$91)*$AB$17","v":0},{"$f":"COUNTIF($D$65:$AA$65,$E$91)*$AB$17","v":0},{"$f":"COUNTIF($D$65:$AA$65,$F$91)*$AB$17","v":0},{"$f":"COUNTIF($D$65:$AA$65,$G$91)*$AB$17","v":0},{"$f":"COUNTIF($D$65:$AA$65,$H$91)*$AB$17","v":0},{"$f":"COUNTIF($D$65:$AA$65,$I$91)*$AB$17","v":0},{"$f":"COUNTIF($D$65:$AA$65,$J$91)*$AB$17","v":0},{"$f":"COUNTIF($D$65:$AA$65,$K$91)*$AB$17","v":0},{"$f":"COUNTIF($D$65:$AA$65,$L$91)*$AB$17","v":0},{"$f":"COUNTIF($D$65:$AA$65,$M$91)*$AB$17","v":0},{"$f":"COUNTIF($D$65:$AA$65,$N$91)*$AB$17","v":0},{"$f":"COUNTIF($D$65:$AA$65,$O$91)*$AB$17","v":0},{"$f":"COUNTIF($D$65:$AA$65,$P$91)*$AB$17","v":0},{"$f":"COUNTIF($D$65:$AA$65,$Q$91)*$AB$17","v":0},{"$f":"COUNTIF($D$65:$AA$65,$R$91)*$AB$17","v":0},{"$f":"COUNTIF($D$65:$AA$65,$S$91)*$AB$17","v":0},{"$f":"COUNTIF($D$65:$AA$65,$T$91)*$AB$17","v":0},{"$f":"COUNTIF($D$65:$AA$65,$U$91)*$AB$17","v":0},{"$f":"COUNTIF($D$65:$AA$65,$V$91)*$AB$17","v":0},{"$f":"COUNTIF($D$65:$AA$65,$W$91)*$AB$17","v":0},{"$f":"COUNTIF($D$65:$AA$65,$X$91)*$AB$17","v":0},{"$f":"COUNTIF($D$65:$AA$65,$Y$91)*$AB$17","v":0},{"$f":"COUNTIF($D$65:$AA$65,$Z$91)*$AB$17","v":0},{"$f":"COUNTIF($D$65:$AA$65,$AA$91)*$AB$17","v":0},{"$f":"COUNTIF($D$65:$AA$65,$AB$91)*$AB$17","v":0},{"$f":"COUNTIF($D$65:$AA$65,$AC$91)*$AB$17","v":0},{"$f":"COUNTIF($D$65:$AA$65,$AD$91)*$AB$17","v":0},{"$f":"COUNTIF($D$65:$AA$65,$AE$91)*$AB$17","v":0},{"$f":"COUNTIF($D$65:$AA$65,$AF$91)*$AB$17","v":0},{"$f":"COUNTIF($D$65:$AA$65,$AG$91)*$AB$17","v":0},{"$f":"COUNTIF($D$65:$AA$65,$AH$91)*$AB$17","v":0},{"$f":"COUNTIF($D$65:$AA$65,$AI$91)*$AB$17","v":0},{"$f":"COUNTIF($D$65:$AA$65,$AJ$91)*$AB$17","v":0},{"$f":"COUNTIF($D$65:$AA$65,$AK$91)*$AB$17","v":0},{"$f":"COUNTIF($D$65:$AA$65,$AL$91)*$AB$17","v":0},{"$f":"COUNTIF($D$65:$AA$65,$AM$91)*$AB$17","v":0},{"$f":"COUNTIF($D$65:$AA$65,$AN$91)*$AB$17","v":0},{"$f":"COUNTIF($D$65:$AA$65,$AO$91)*$AB$17","v":0},{"$f":"COUNTIF($D$65:$AA$65,$AP$91)*$AB$17","v":0},{"$f":"COUNTIF($D$65:$AA$65,$AQ$91)*$AB$17","v":0},{"$f":"COUNTIF($D$65:$AA$65,$AR$91)*$AB$17","v":0},{"$f":"COUNTIF($D$65:$AA$65,$AS$91)*$AB$17","v":0},9,0]
[null,null,10,{"$f":"COUNTIF($D$66:$AA$66,$D$91)*$AB$18","v":0},{"$f":"COUNTIF($D$66:$AA$66,$E$91)*$AB$18","v":0},{"$f":"COUNTIF($D$66:$AA$66,$F$91)*$AB$18","v":0},{"$f":"COUNTIF($D$66:$AA$66,$G$91)*$AB$18","v":0},{"$f":"COUNTIF($D$66:$AA$66,$H$91)*$AB$18","v":0},{"$f":"COUNTIF($D$66:$AA$66,$I$91)*$AB$18","v":0},{"$f":"COUNTIF($D$66:$AA$66,$J$91)*$AB$18","v":0},{"$f":"COUNTIF($D$66:$AA$66,$K$91)*$AB$18","v":0},{"$f":"COUNTIF($D$66:$AA$66,$L$91)*$AB$18","v":0},{"$f":"COUNTIF($D$66:$AA$66,$M$91)*$AB$18","v":0},{"$f":"COUNTIF($D$66:$AA$66,$N$91)*$AB$18","v":0},{"$f":"COUNTIF($D$66:$AA$66,$O$91)*$AB$18","v":0},{"$f":"COUNTIF($D$66:$AA$66,$P$91)*$AB$18","v":0},{"$f":"COUNTIF($D$66:$AA$66,$Q$91)*$AB$18","v":0},{"$f":"COUNTIF($D$66:$AA$66,$R$91)*$AB$18","v":0},{"$f":"COUNTIF($D$66:$AA$66,$S$91)*$AB$18","v":0},{"$f":"COUNTIF($D$66:$AA$66,$T$91)*$AB$18","v":0},{"$f":"COUNTIF($D$66:$AA$66,$U$91)*$AB$18","v":0},{"$f":"COUNTIF($D$66:$AA$66,$V$91)*$AB$18","v":0},{"$f":"COUNTIF($D$66:$AA$66,$W$91)*$AB$18","v":0},{"$f":"COUNTIF($D$66:$AA$66,$X$91)*$AB$18","v":0},{"$f":"COUNTIF($D$66:$AA$66,$Y$91)*$AB$18","v":0},{"$f":"COUNTIF($D$66:$AA$66,$Z$91)*$AB$18","v":0},{"$f":"COUNTIF($D$66:$AA$66,$AA$91)*$AB$18","v":0},{"$f":"COUNTIF($D$66:$AA$66,$AB$91)*$AB$18","v":0},{"$f":"COUNTIF($D$66:$AA$66,$AC$91)*$AB$18","v":0},{"$f":"COUNTIF($D$66:$AA$66,$AD$91)*$AB$18","v":0},{"$f":"COUNTIF($D$66:$AA$66,$AE$91)*$AB$18","v":0},{"$f":"COUNTIF($D$66:$AA$66,$AF$91)*$AB$18","v":0},{"$f":"COUNTIF($D$66:$AA$66,$AG$91)*$AB$18","v":0},{"$f":"COUNTIF($D$66:$AA$66,$AH$91)*$AB$18","v":0},{"$f":"COUNTIF($D$66:$AA$66,$AI$91)*$AB$18","v":0},{"$f":"COUNTIF($D$66:$AA$66,$AJ$91)*$AB$18","v":0},{"$f":"COUNTIF($D$66:$AA$66,$AK$91)*$AB$18","v":0},{"$f":"COUNTIF($D$66:$AA$66,$AL$91)*$AB$18","v":0},{"$f":"COUNTIF($D$66:$AA$66,$AM$91)*$AB$18","v":0},{"$f":"COUNTIF($D$66:$AA$66,$AN$91)*$AB$18","v":0},{"$f":"COUNTIF($D$66:$AA$66,$AO$91)*$AB$18","v":0},{"$f":"COUNTIF($D$66:$AA$66,$AP$91)*$AB$18","v":0},{"$f":"COUNTIF($D$66:$AA$66,$AQ$91)*$AB$18","v":0},{"$f":"COUNTIF($D$66:$AA$66,$AR$91)*$AB$18","v":0},{"$f":"COUNTIF($D$66:$AA$66,$AS$91)*$AB$18","v":0},10,0]
[null,null,11,{"$f":"COUNTIF($D$67:$AA$67,$D$91)*$AB$19","v":0},{"$f":"COUNTIF($D$67:$AA$67,$E$91)*$AB$19","v":0},{"$f":"COUNTIF($D$67:$AA$67,$F$91)*$AB$19","v":0},{"$f":"COUNTIF($D$67:$AA$67,$G$91)*$AB$19","v":0},{"$f":"COUNTIF($D$67:$AA$67,$H$91)*$AB$19","v":0},{"$f":"COUNTIF($D$67:$AA$67,$I$91)*$AB$19","v":0},{"$f":"COUNTIF($D$67:$AA$67,$J$91)*$AB$19","v":0},{"$f":"COUNTIF($D$67:$AA$67,$K$91)*$AB$19","v":0},{"$f":"COUNTIF($D$67:$AA$67,$L$91)*$AB$19","v":0},{"$f":"COUNTIF($D$67:$AA$67,$M$91)*$AB$19","v":0},{"$f":"COUNTIF($D$67:$AA$67,$N$91)*$AB$19","v":0},{"$f":"COUNTIF($D$67:$AA$67,$O$91)*$AB$19","v":0},{"$f":"COUNTIF($D$67:$AA$67,$P$91)*$AB$19","v":0},{"$f":"COUNTIF($D$67:$AA$67,$Q$91)*$AB$19","v":0},{"$f":"COUNTIF($D$67:$AA$67,$R$91)*$AB$19","v":0},{"$f":"COUNTIF($D$67:$AA$67,$S$91)*$AB$19","v":0},{"$f":"COUNTIF($D$67:$AA$67,$T$91)*$AB$19","v":0},{"$f":"COUNTIF($D$67:$AA$67,$U$91)*$AB$19","v":0},{"$f":"COUNTIF($D$67:$AA$67,$V$91)*$AB$19","v":0},{"$f":"COUNTIF($D$67:$AA$67,$W$91)*$AB$19","v":0},{"$f":"COUNTIF($D$67:$AA$67,$X$91)*$AB$19","v":0},{"$f":"COUNTIF($D$67:$AA$67,$Y$91)*$AB$19","v":0},{"$f":"COUNTIF($D$67:$AA$67,$Z$91)*$AB$19","v":0},{"$f":"COUNTIF($D$67:$AA$67,$AA$91)*$AB$19","v":0},{"$f":"COUNTIF($D$67:$AA$67,$AB$91)*$AB$19","v":0},{"$f":"COUNTIF($D$67:$AA$67,$AC$91)*$AB$19","v":0},{"$f":"COUNTIF($D$67:$AA$67,$AD$91)*$AB$19","v":0},{"$f":"COUNTIF($D$67:$AA$67,$AE$91)*$AB$19","v":0},{"$f":"COUNTIF($D$67:$AA$67,$AF$91)*$AB$19","v":0},{"$f":"COUNTIF($D$67:$AA$67,$AG$91)*$AB$19","v":0},{"$f":"COUNTIF($D$67:$AA$67,$AH$91)*$AB$19","v":0},{"$f":"COUNTIF($D$67:$AA$67,$AI$91)*$AB$19","v":0},{"$f":"COUNTIF($D$67:$AA$67,$AJ$91)*$AB$19","v":0},{"$f":"COUNTIF($D$67:$AA$67,$AK$91)*$AB$19","v":0},{"$f":"COUNTIF($D$67:$AA$67,$AL$91)*$AB$19","v":0},{"$f":"COUNTIF($D$67:$AA$67,$AM$91)*$AB$19","v":0},{"$f":"COUNTIF($D$67:$AA$67,$AN$91)*$AB$19","v":0},{"$f":"COUNTIF($D$67:$AA$67,$AO$91)*$AB$19","v":0},{"$f":"COUNTIF($D$67:$AA$67,$AP$91)*$AB$19","v":0},{"$f":"COUNTIF($D$67:$AA$67,$AQ$91)*$AB$19","v":0},{"$f":"COUNTIF($D$67:$AA$67,$AR$91)*$AB$19","v":0},{"$f":"COUNTIF($D$67:$AA$67,$AS$91)*$AB$19","v":0},11,0]
[null,null,12,{"$f":"COUNTIF($D$68:$AA$68,$D$91)*$AB$20","v":0},{"$f":"COUNTIF($D$68:$AA$68,$E$91)*$AB$20","v":0},{"$f":"COUNTIF($D$68:$AA$68,$F$91)*$AB$20","v":0},{"$f":"COUNTIF($D$68:$AA$68,$G$91)*$AB$20","v":0},{"$f":"COUNTIF($D$68:$AA$68,$H$91)*$AB$20","v":0},{"$f":"COUNTIF($D$68:$AA$68,$I$91)*$AB$20","v":0},{"$f":"COUNTIF($D$68:$AA$68,$J$91)*$AB$20","v":0},{"$f":"COUNTIF($D$68:$AA$68,$K$91)*$AB$20","v":0},{"$f":"COUNTIF($D$68:$AA$68,$L$91)*$AB$20","v":0},{"$f":"COUNTIF($D$68:$AA$68,$M$91)*$AB$20","v":0},{"$f":"COUNTIF($D$68:$AA$68,$N$91)*$AB$20","v":0},{"$f":"COUNTIF($D$68:$AA$68,$O$91)*$AB$20","v":0},{"$f":"COUNTIF($D$68:$AA$68,$P$91)*$AB$20","v":0},{"$f":"COUNTIF($D$68:$AA$68,$Q$91)*$AB$20","v":0},{"$f":"COUNTIF($D$68:$AA$68,$R$91)*$AB$20","v":0},{"$f":"COUNTIF($D$68:$AA$68,$S$91)*$AB$20","v":0},{"$f":"COUNTIF($D$68:$AA$68,$T$91)*$AB$20","v":0},{"$f":"COUNTIF($D$68:$AA$68,$U$91)*$AB$20","v":0},{"$f":"COUNTIF($D$68:$AA$68,$V$91)*$AB$20","v":0},{"$f":"COUNTIF($D$68:$AA$68,$W$91)*$AB$20","v":0},{"$f":"COUNTIF($D$68:$AA$68,$X$91)*$AB$20","v":0},{"$f":"COUNTIF($D$68:$AA$68,$Y$91)*$AB$20","v":0},{"$f":"COUNTIF($D$68:$AA$68,$Z$91)*$AB$20","v":0},{"$f":"COUNTIF($D$68:$AA$68,$AA$91)*$AB$20","v":0},{"$f":"COUNTIF($D$68:$AA$68,$AB$91)*$AB$20","v":0},{"$f":"COUNTIF($D$68:$AA$68,$AC$91)*$AB$20","v":0},{"$f":"COUNTIF($D$68:$AA$68,$AD$91)*$AB$20","v":0},{"$f":"COUNTIF($D$68:$AA$68,$AE$91)*$AB$20","v":0},{"$f":"COUNTIF($D$68:$AA$68,$AF$91)*$AB$20","v":0},{"$f":"COUNTIF($D$68:$AA$68,$AG$91)*$AB$20","v":0},{"$f":"COUNTIF($D$68:$AA$68,$AH$91)*$AB$20","v":0},{"$f":"COUNTIF($D$68:$AA$68,$AI$91)*$AB$20","v":0},{"$f":"COUNTIF($D$68:$AA$68,$AJ$91)*$AB$20","v":0},{"$f":"COUNTIF($D$68:$AA$68,$AK$91)*$AB$20","v":0},{"$f":"COUNTIF($D$68:$AA$68,$AL$91)*$AB$20","v":0},{"$f":"COUNTIF($D$68:$AA$68,$AM$91)*$AB$20","v":0},{"$f":"COUNTIF($D$68:$AA$68,$AN$91)*$AB$20","v":0},{"$f":"COUNTIF($D$68:$AA$68,$AO$91)*$AB$20","v":0},{"$f":"COUNTIF($D$68:$AA$68,$AP$91)*$AB$20","v":0},{"$f":"COUNTIF($D$68:$AA$68,$AQ$91)*$AB$20","v":0},{"$f":"COUNTIF($D$68:$AA$68,$AR$91)*$AB$20","v":0},{"$f":"COUNTIF($D$68:$AA$68,$AS$91)*$AB$20","v":0},12,0]
[null,null,1,{"$f":"COUNTIF($D$69:$AA$69,$D$91)*$AB$21","v":0},{"$f":"COUNTIF($D$69:$AA$69,$E$91)*$AB$21","v":0},{"$f":"COUNTIF($D$69:$AA$69,$F$91)*$AB$21","v":0},{"$f":"COUNTIF($D$69:$AA$69,$G$91)*$AB$21","v":0},{"$f":"COUNTIF($D$69:$AA$69,$H$91)*$AB$21","v":0},{"$f":"COUNTIF($D$69:$AA$69,$I$91)*$AB$21","v":0},{"$f":"COUNTIF($D$69:$AA$69,$J$91)*$AB$21","v":0},{"$f":"COUNTIF($D$69:$AA$69,$K$91)*$AB$21","v":0},{"$f":"COUNTIF($D$69:$AA$69,$L$91)*$AB$21","v":0},{"$f":"COUNTIF($D$69:$AA$69,$M$91)*$AB$21","v":0},{"$f":"COUNTIF($D$69:$AA$69,$N$91)*$AB$21","v":0},{"$f":"COUNTIF($D$69:$AA$69,$O$91)*$AB$21","v":0},{"$f":"COUNTIF($D$69:$AA$69,$P$91)*$AB$21","v":0},{"$f":"COUNTIF($D$69:$AA$69,$Q$91)*$AB$21","v":0},{"$f":"COUNTIF($D$69:$AA$69,$R$91)*$AB$21","v":0},{"$f":"COUNTIF($D$69:$AA$69,$S$91)*$AB$21","v":0},{"$f":"COUNTIF($D$69:$AA$69,$T$91)*$AB$21","v":0},{"$f":"COUNTIF($D$69:$AA$69,$U$91)*$AB$21","v":0},{"$f":"COUNTIF($D$69:$AA$69,$V$91)*$AB$21","v":0},{"$f":"COUNTIF($D$69:$AA$69,$W$91)*$AB$21","v":0},{"$f":"COUNTIF($D$69:$AA$69,$X$91)*$AB$21","v":0},{"$f":"COUNTIF($D$69:$AA$69,$Y$91)*$AB$21","v":0},{"$f":"COUNTIF($D$69:$AA$69,$Z$91)*$AB$21","v":0},{"$f":"COUNTIF($D$69:$AA$69,$AA$91)*$AB$21","v":0},{"$f":"COUNTIF($D$69:$AA$69,$AB$91)*$AB$21","v":0},{"$f":"COUNTIF($D$69:$AA$69,$AC$91)*$AB$21","v":0},{"$f":"COUNTIF($D$69:$AA$69,$AD$91)*$AB$21","v":0},{"$f":"COUNTIF($D$69:$AA$69,$AE$91)*$AB$21","v":0},{"$f":"COUNTIF($D$69:$AA$69,$AF$91)*$AB$21","v":0},{"$f":"COUNTIF($D$69:$AA$69,$AG$91)*$AB$21","v":0},{"$f":"COUNTIF($D$69:$AA$69,$AH$91)*$AB$21","v":0},{"$f":"COUNTIF($D$69:$AA$69,$AI$91)*$AB$21","v":0},{"$f":"COUNTIF($D$69:$AA$69,$AJ$91)*$AB$21","v":0},{"$f":"COUNTIF($D$69:$AA$69,$AK$91)*$AB$21","v":0},{"$f":"COUNTIF($D$69:$AA$69,$AL$91)*$AB$21","v":0},{"$f":"COUNTIF($D$69:$AA$69,$AM$91)*$AB$21","v":0},{"$f":"COUNTIF($D$69:$AA$69,$AN$91)*$AB$21","v":0},{"$f":"COUNTIF($D$69:$AA$69,$AO$91)*$AB$21","v":0},{"$f":"COUNTIF($D$69:$AA$69,$AP$91)*$AB$21","v":0},{"$f":"COUNTIF($D$69:$AA$69,$AQ$91)*$AB$21","v":0},{"$f":"COUNTIF($D$69:$AA$69,$AR$91)*$AB$21","v":0},{"$f":"COUNTIF($D$69:$AA$69,$AS$91)*$AB$21","v":0},1,0]
[null,null,2,{"$f":"COUNTIF($D$70:$AA$70,$D$91)*$AB$22","v":0},{"$f":"COUNTIF($D$70:$AA$70,$E$91)*$AB$22","v":0},{"$f":"COUNTIF($D$70:$AA$70,$F$91)*$AB$22","v":0},{"$f":"COUNTIF($D$70:$AA$70,$G$91)*$AB$22","v":0},{"$f":"COUNTIF($D$70:$AA$70,$H$91)*$AB$22","v":0},{"$f":"COUNTIF($D$70:$AA$70,$I$91)*$AB$22","v":0},{"$f":"COUNTIF($D$70:$AA$70,$J$91)*$AB$22","v":0},{"$f":"COUNTIF($D$70:$AA$70,$K$91)*$AB$22","v":0},{"$f":"COUNTIF($D$70:$AA$70,$L$91)*$AB$22","v":0},{"$f":"COUNTIF($D$70:$AA$70,$M$91)*$AB$22","v":0},{"$f":"COUNTIF($D$70:$AA$70,$N$91)*$AB$22","v":0},{"$f":"COUNTIF($D$70:$AA$70,$O$91)*$AB$22","v":0},{"$f":"COUNTIF($D$70:$AA$70,$P$91)*$AB$22","v":0},{"$f":"COUNTIF($D$70:$AA$70,$Q$91)*$AB$22","v":0},{"$f":"COUNTIF($D$70:$AA$70,$R$91)*$AB$22","v":0},{"$f":"COUNTIF($D$70:$AA$70,$S$91)*$AB$22","v":0},{"$f":"COUNTIF($D$70:$AA$70,$T$91)*$AB$22","v":0},{"$f":"COUNTIF($D$70:$AA$70,$U$91)*$AB$22","v":0},{"$f":"COUNTIF($D$70:$AA$70,$V$91)*$AB$22","v":0},{"$f":"COUNTIF($D$70:$AA$70,$W$91)*$AB$22","v":0},{"$f":"COUNTIF($D$70:$AA$70,$X$91)*$AB$22","v":0},{"$f":"COUNTIF($D$70:$AA$70,$Y$91)*$AB$22","v":0},{"$f":"COUNTIF($D$70:$AA$70,$Z$91)*$AB$22","v":0},{"$f":"COUNTIF($D$70:$AA$70,$AA$91)*$AB$22","v":0},{"$f":"COUNTIF($D$70:$AA$70,$AB$91)*$AB$22","v":0},{"$f":"COUNTIF($D$70:$AA$70,$AC$91)*$AB$22","v":0},{"$f":"COUNTIF($D$70:$AA$70,$AD$91)*$AB$22","v":0},{"$f":"COUNTIF($D$70:$AA$70,$AE$91)*$AB$22","v":0},{"$f":"COUNTIF($D$70:$AA$70,$AF$91)*$AB$22","v":0},{"$f":"COUNTIF($D$70:$AA$70,$AG$91)*$AB$22","v":0},{"$f":"COUNTIF($D$70:$AA$70,$AH$91)*$AB$22","v":0},{"$f":"COUNTIF($D$70:$AA$70,$AI$91)*$AB$22","v":0},{"$f":"COUNTIF($D$70:$AA$70,$AJ$91)*$AB$22","v":0},{"$f":"COUNTIF($D$70:$AA$70,$AK$91)*$AB$22","v":0},{"$f":"COUNTIF($D$70:$AA$70,$AL$91)*$AB$22","v":0},{"$f":"COUNTIF($D$70:$AA$70,$AM$91)*$AB$22","v":0},{"$f":"COUNTIF($D$70:$AA$70,$AN$91)*$AB$22","v":0},{"$f":"COUNTIF($D$70:$AA$70,$AO$91)*$AB$22","v":0},{"$f":"COUNTIF($D$70:$AA$70,$AP$91)*$AB$22","v":0},{"$f":"COUNTIF($D$70:$AA$70,$AQ$91)*$AB$22","v":0},{"$f":"COUNTIF($D$70:$AA$70,$AR$91)*$AB$22","v":0},{"$f":"COUNTIF($D$70:$AA$70,$AS$91)*$AB$22","v":0},2,0]
[null,null,3,{"$f":"COUNTIF($D$71:$AA$71,$D$91)*$AB$23","v":0},{"$f":"COUNTIF($D$71:$AA$71,$E$91)*$AB$23","v":0},{"$f":"COUNTIF($D$71:$AA$71,$F$91)*$AB$23","v":0},{"$f":"COUNTIF($D$71:$AA$71,$G$91)*$AB$23","v":0},{"$f":"COUNTIF($D$71:$AA$71,$H$91)*$AB$23","v":0},{"$f":"COUNTIF($D$71:$AA$71,$I$91)*$AB$23","v":0},{"$f":"COUNTIF($D$71:$AA$71,$J$91)*$AB$23","v":0},{"$f":"COUNTIF($D$71:$AA$71,$K$91)*$AB$23","v":0},{"$f":"COUNTIF($D$71:$AA$71,$L$91)*$AB$23","v":0},{"$f":"COUNTIF($D$71:$AA$71,$M$91)*$AB$23","v":0},{"$f":"COUNTIF($D$71:$AA$71,$N$91)*$AB$23","v":0},{"$f":"COUNTIF($D$71:$AA$71,$O$91)*$AB$23","v":0},{"$f":"COUNTIF($D$71:$AA$71,$P$91)*$AB$23","v":0},{"$f":"COUNTIF($D$71:$AA$71,$Q$91)*$AB$23","v":0},{"$f":"COUNTIF($D$71:$AA$71,$R$91)*$AB$23","v":0},{"$f":"COUNTIF($D$71:$AA$71,$S$91)*$AB$23","v":0},{"$f":"COUNTIF($D$71:$AA$71,$T$91)*$AB$23","v":0},{"$f":"COUNTIF($D$71:$AA$71,$U$91)*$AB$23","v":0},{"$f":"COUNTIF($D$71:$AA$71,$V$91)*$AB$23","v":0},{"$f":"COUNTIF($D$71:$AA$71,$W$91)*$AB$23","v":0},{"$f":"COUNTIF($D$71:$AA$71,$X$91)*$AB$23","v":0},{"$f":"COUNTIF($D$71:$AA$71,$Y$91)*$AB$23","v":0},{"$f":"COUNTIF($D$71:$AA$71,$Z$91)*$AB$23","v":0},{"$f":"COUNTIF($D$71:$AA$71,$AA$91)*$AB$23","v":0},{"$f":"COUNTIF($D$71:$AA$71,$AB$91)*$AB$23","v":0},{"$f":"COUNTIF($D$71:$AA$71,$AC$91)*$AB$23","v":0},{"$f":"COUNTIF($D$71:$AA$71,$AD$91)*$AB$23","v":0},{"$f":"COUNTIF($D$71:$AA$71,$AE$91)*$AB$23","v":0},{"$f":"COUNTIF($D$71:$AA$71,$AF$91)*$AB$23","v":0},{"$f":"COUNTIF($D$71:$AA$71,$AG$91)*$AB$23","v":0},{"$f":"COUNTIF($D$71:$AA$71,$AH$91)*$AB$23","v":0},{"$f":"COUNTIF($D$71:$AA$71,$AI$91)*$AB$23","v":0},{"$f":"COUNTIF($D$71:$AA$71,$AJ$91)*$AB$23","v":0},{"$f":"COUNTIF($D$71:$AA$71,$AK$91)*$AB$23","v":0},{"$f":"COUNTIF($D$71:$AA$71,$AL$91)*$AB$23","v":0},{"$f":"COUNTIF($D$71:$AA$71,$AM$91)*$AB$23","v":0},{"$f":"COUNTIF($D$71:$AA$71,$AN$91)*$AB$23","v":0},{"$f":"COUNTIF($D$71:$AA$71,$AO$91)*$AB$23","v":0},{"$f":"COUNTIF($D$71:$AA$71,$AP$91)*$AB$23","v":0},{"$f":"COUNTIF($D$71:$AA$71,$AQ$91)*$AB$23","v":0},{"$f":"COUNTIF($D$71:$AA$71,$AR$91)*$AB$23","v":0},{"$f":"COUNTIF($D$71:$AA$71,$AS$91)*$AB$23","v":0},3,0]
[null,null,"発生時間",{"$f":"SUM($D$92:$D$103)","v":0},{"$f":"SUM($E$92:$E$103)","v":0},{"$f":"SUM($F$92:$F$103)","v":0},{"$f":"SUM($G$92:$G$103)","v":0},{"$f":"SUM($H$92:$H$103)","v":0},{"$f":"SUM($I$92:$I$103)","v":0},{"$f":"SUM($J$92:$J$103)","v":0},{"$f":"SUM($K$92:$K$103)","v":0},{"$f":"SUM($L$92:$L$103)","v":0},{"$f":"SUM($M$92:$M$103)","v":0},{"$f":"SUM($N$92:$N$103)","v":0},{"$f":"SUM($O$92:$O$103)","v":0},{"$f":"SUM($P$92:$P$103)","v":0},{"$f":"SUM($Q$92:$Q$103)","v":0},{"$f":"SUM($R$92:$R$103)","v":0},{"$f":"SUM($S$92:$S$103)","v":0},{"$f":"SUM($T$92:$T$103)","v":0},{"$f":"SUM($U$92:$U$103)","v":0},{"$f":"SUM($V$92:$V$103)","v":0},{"$f":"SUM($W$92:$W$103)","v":0},{"$f":"SUM($X$92:$X$103)","v":0},{"$f":"SUM($Y$92:$Y$103)","v":0},{"$f":"SUM($Z$92:$Z$103)","v":0},{"$f":"SUM($AA$92:$AA$103)","v":0},{"$f":"SUM($AB$92:$AB$103)","v":0},{"$f":"SUM($AC$92:$AC$103)","v":0},{"$f":"SUM($AD$92:$AD$103)","v":0},{"$f":"SUM($AE$92:$AE$103)","v":0},{"$f":"SUM($AF$92:$AF$103)","v":0},{"$f":"SUM($AG$92:$AG$103)","v":0},{"$f":"SUM($AH$92:$AH$103)","v":0},{"$f":"SUM($AI$92:$AI$103)","v":0},{"$f":"SUM($AJ$92:$AJ$103)","v":0},{"$f":"SUM($AK$92:$AK$103)","v":0},{"$f":"SUM($AL$92:$AL$103)","v":0},{"$f":"SUM($AM$92:$AM$103)","v":0},{"$f":"SUM($AN$92:$AN$103)","v":0},{"$f":"SUM($AO$92:$AO$103)","v":0},{"$f":"SUM($AP$92:$AP$103)","v":0},{"$f":"SUM($AQ$92:$AQ$103)","v":0},{"$f":"SUM($AR$92:$AR$103)","v":0},{"$f":"SUM($AS$92:$AS$103)","v":0},"発生時間"]
[null,"εc","冷房時消費電力比",{"$f":"$D$106/$D$110","v":0},{"$f":"$E$106/$E$110","v":0},{"$f":"$F$106/$F$110","v":0},{"$f":"$G$106/$G$110","v":0},{"$f":"$H$106/$H$110","v":0},{"$f":"$I$106/$I$110","v":0},{"$f":"$J$106/$J$110","v":0},{"$f":"$K$106/$K$110","v":0},{"$f":"$L$106/$L$110","v":0},{"$f":"$M$106/$M$110","v":0},{"$f":"$N$106/$N$110","v":0},{"$f":"$O$106/$O$110","v":0},{"$f":"$P$106/$P$110","v":0},{"$f":"$Q$106/$Q$110","v":0},{"$f":"$R$106/$R$110","v":0},{"$f":"$S$106/$S$110","v":0},{"$f":"$T$106/$T$110","v":0},{"$f":"$U$106/$U$110","v":0},{"$f":"$V$106/$V$110","v":0},{"$f":"$W$106/$W$110","v":0},{"$f":"$X$106/$X$110","v":0},{"$f":"$Y$106/$Y$110","v":0},{"$f":"$Z$106/$Z$110","v":0},{"$f":"$AA$106/$AA$110","v":0},{"$f":"$AB$106/$AB$110","v":0},{"$f":"$AC$106/$AC$110","v":3.7610619469026565E-2},{"$f":"$AD$106/$AD$110","v":7.7444814403748966E-2},{"$f":"$AE$106/$AE$110","v":0.11957515416451978},{"$f":"$AF$106/$AF$110","v":0.16407740070746205},{"$f":"$AG$106/$AG$110","v":0.21103068610459791},{"$f":"$AH$106/$AH$110","v":0.26051770204211372},{"$f":"$AI$106/$AI$110","v":0.31262490225041267},{"$f":"$AJ$106/$AJ$110","v":0.36744271890737462},{"$f":"$AK$106/$AK$110","v":0.42506579415321138},{"$f":"$AL$106/$AL$110","v":0.48559322796254145},{"$f":"$AM$106/$AM$110","v":0.54912884373805226},{"$f":"$AN$106/$AN$110","v":0.61578147312174669},{"$f":"$AO$106/$AO$110","v":0.68566526166585851},{"$f":"$AP$106/$AP$110","v":0.75889999716786083},{"$f":"$AQ$106/$AQ$110","v":0.83561146265461006},{"$f":"$AR$106/$AR$110","v":0.9159318162018798},{"$f":"$AS$106/$AS$110","v":0.99999999999999978},"冷房時消費電力比","εc"]
[null,"αc","冷房空調負荷率",{"$f":"IF((1/(35-$G$25))*$D$91-$G$25/(35-$G$25)<0,0,IF((1/(35-$G$25))*$D$91-$G$25/(35-$G$25)>1,1,(1/(35-$G$25))*$D$91-$G$25/(35-$G$25)))","v":0},{"$f":"IF((1/(35-$G$25))*$E$91-$G$25/(35-$G$25)<0,0,IF((1/(35-$G$25))*$E$91-$G$25/(35-$G$25)>1,1,(1/(35-$G$25))*$E$91-$G$25/(35-$G$25)))","v":0},{"$f":"IF((1/(35-$G$25))*$F$91-$G$25/(35-$G$25)<0,0,IF((1/(35-$G$25))*$F$91-$G$25/(35-$G$25)>1,1,(1/(35-$G$25))*$F$91-$G$25/(35-$G$25)))","v":0},{"$f":"IF((1/(35-$G$25))*$G$91-$G$25/(35-$G$25)<0,0,IF((1/(35-$G$25))*$G$91-$G$25/(35-$G$25)>1,1,(1/(35-$G$25))*$G$91-$G$25/(35-$G$25)))","v":0},{"$f":"IF((1/(35-$G$25))*$H$91-$G$25/(35-$G$25)<0,0,IF((1/(35-$G$25))*$H$91-$G$25/(35-$G$25)>1,1,(1/(35-$G$25))*$H$91-$G$25/(35-$G$25)))","v":0},{"$f":"IF((1/(35-$G$25))*$I$91-$G$25/(35-$G$25)<0,0,IF((1/(35-$G$25))*$I$91-$G$25/(35-$G$25)>1,1,(1/(35-$G$25))*$I$91-$G$25/(35-$G$25)))","v":0},{"$f":"IF((1/(35-$G$25))*$J$91-$G$25/(35-$G$25)<0,0,IF((1/(35-$G$25))*$J$91-$G$25/(35-$G$25)>1,1,(1/(35-$G$25))*$J$91-$G$25/(35-$G$25)))","v":0},{"$f":"IF((1/(35-$G$25))*$K$91-$G$25/(35-$G$25)<0,0,IF((1/(35-$G$25))*$K$91-$G$25/(35-$G$25)>1,1,(1/(35-$G$25))*$K$91-$G$25/(35-$G$25)))","v":0},{"$f":"IF((1/(35-$G$25))*$L$91-$G$25/(35-$G$25)<0,0,IF((1/(35-$G$25))*$L$91-$G$25/(35-$G$25)>1,1,(1/(35-$G$25))*$L$91-$G$25/(35-$G$25)))","v":0},{"$f":"IF((1/(35-$G$25))*$M$91-$G$25/(35-$G$25)<0,0,IF((1/(35-$G$25))*$M$91-$G$25/(35-$G$25)>1,1,(1/(35-$G$25))*$M$91-$G$25/(35-$G$25)))","v":0},{"$f":"IF((1/(35-$G$25))*$N$91-$G$25/(35-$G$25)<0,0,IF((1/(35-$G$25))*$N$91-$G$25/(35-$G$25)>1,1,(1/(35-$G$25))*$N$91-$G$25/(35-$G$25)))","v":0},{"$f":"IF((1/(35-$G$25))*$O$91-$G$25/(35-$G$25)<0,0,IF((1/(35-$G$25))*$O$91-$G$25/(35-$G$25)>1,1,(1/(35-$G$25))*$O$91-$G$25/(35-$G$25)))","v":0},{"$f":"IF((1/(35-$G$25))*$P$91-$G$25/(35-$G$25)<0,0,IF((1/(35-$G$25))*$P$91-$G$25/(35-$G$25)>1,1,(1/(35-$G$25))*$P$91-$G$25/(35-$G$25)))","v":0},{"$f":"IF((1/(35-$G$25))*$Q$91-$G$25/(35-$G$25)<0,0,IF((1/(35-$G$25))*$Q$91-$G$25/(35-$G$25)>1,1,(1/(35-$G$25))*$Q$91-$G$25/(35-$G$25)))","v":0},{"$f":"IF((1/(35-$G$25))*$R$91-$G$25/(35-$G$25)<0,0,IF((1/(35-$G$25))*$R$91-$G$25/(35-$G$25)>1,1,(1/(35-$G$25))*$R$91-$G$25/(35-$G$25)))","v":0},{"$f":"IF((1/(35-$G$25))*$S$91-$G$25/(35-$G$25)<0,0,IF((1/(35-$G$25))*$S$91-$G$25/(35-$G$25)>1,1,(1/(35-$G$25))*$S$91-$G$25/(35-$G$25)))","v":0},{"$f":"IF((1/(35-$G$25))*$T$91-$G$25/(35-$G$25)<0,0,IF((1/(35-$G$25))*$T$91-$G$25/(35-$G$25)>1,1,(1/(35-$G$25))*$T$91-$G$25/(35-$G$25)))","v":0},{"$f":"IF((1/(35-$G$25))*$U$91-$G$25/(35-$G$25)<0,0,IF((1/(35-$G$25))*$U$91-$G$25/(35-$G$25)>1,1,(1/(35-$G$25))*$U$91-$G$25/(35-$G$25)))","v":0},{"$f":"IF((1/(35-$G$25))*$V$91-$G$25/(35-$G$25)<0,0,IF((1/(35-$G$25))*$V$91-$G$25/(35-$G$25)>1,1,(1/(35-$G$25))*$V$91-$G$25/(35-$G$25)))","v":0},{"$f":"IF((1/(35-$G$25))*$W$91-$G$25/(35-$G$25)<0,0,IF((1/(35-$G$25))*$W$91-$G$25/(35-$G$25)>1,1,(1/(35-$G$25))*$W$91-$G$25/(35-$G$25)))","v":0},{"$f":"IF((1/(35-$G$25))*$X$91-$G$25/(35-$G$25)<0,0,IF((1/(35-$G$25))*$X$91-$G$25/(35-$G$25)>1,1,(1/(35-$G$25))*$X$91-$G$25/(35-$G$25)))","v":0},{"$f":"IF((1/(35-$G$25))*$Y$91-$G$25/(35-$G$25)<0,0,IF((1/(35-$G$25))*$Y$91-$G$25/(35-$G$25)>1,1,(1/(35-$G$25))*$Y$91-$G$25/(35-$G$25)))","v":0},{"$f":"IF((1/(35-$G$25))*$Z$91-$G$25/(35-$G$25)<0,0,IF((1/(35-$G$25))*$Z$91-$G$25/(35-$G$25)>1,1,(1/(35-$G$25))*$Z$91-$G$25/(35-$G$25)))","v":0},{"$f":"IF((1/(35-$G$25))*$AA$91-$G$25/(35-$G$25)<0,0,IF((1/(35-$G$25))*$AA$91-$G$25/(35-$G$25)>1,1,(1/(35-$G$25))*$AA$91-$G$25/(35-$G$25)))","v":0},{"$f":"IF((1/(35-$G$25))*$AB$91-$G$25/(35-$G$25)<0,0,IF((1/(35-$G$25))*$AB$91-$G$25/(35-$G$25)>1,1,(1/(35-$G$25))*$AB$91-$G$25/(35-$G$25)))","v":0},{"$f":"IF((1/(35-$G$25))*$AC$91-$G$25/(35-$G$25)<0,0,IF((1/(35-$G$25))*$AC$91-$G$25/(35-$G$25)>1,1,(1/(35-$G$25))*$AC$91-$G$25/(35-$G$25)))","v":5.8823529411764719E-2},{"$f":"IF((1/(35-$G$25))*$AD$91-$G$25/(35-$G$25)<0,0,IF((1/(35-$G$25))*$AD$91-$G$25/(35-$G$25)>1,1,(1/(35-$G$25))*$AD$91-$G$25/(35-$G$25)))","v":0.11764705882352944},{"$f":"IF((1/(35-$G$25))*$AE$91-$G$25/(35-$G$25)<0,0,IF((1/(35-$G$25))*$AE$91-$G$25/(35-$G$25)>1,1,(1/(35-$G$25))*$AE$91-$G$25/(35-$G$25)))","v":0.17647058823529416},{"$f":"IF((1/(35-$G$25))*$AF$91-$G$25/(35-$G$25)<0,0,IF((1/(35-$G$25))*$AF$91-$G$25/(35-$G$25)>1,1,(1/(35-$G$25))*$AF$91-$G$25/(35-$G$25)))","v":0.23529411764705888},{"$f":"IF((1/(35-$G$25))*$AG$91-$G$25/(35-$G$25)<0,0,IF((1/(35-$G$25))*$AG$91-$G$25/(35-$G$25)>1,1,(1/(35-$G$25))*$AG$91-$G$25/(35-$G$25)))","v":0.29411764705882359},{"$f":"IF((1/(35-$G$25))*$AH$91-$G$25/(35-$G$25)<0,0,IF((1/(35-$G$25))*$AH$91-$G$25/(35-$G$25)>1,1,(1/(35-$G$25))*$AH$91-$G$25/(35-$G$25)))","v":0.35294117647058809},{"$f":"IF((1/(35-$G$25))*$AI$91-$G$25/(35-$G$25)<0,0,IF((1/(35-$G$25))*$AI$91-$G$25/(35-$G$25)>1,1,(1/(35-$G$25))*$AI$91-$G$25/(35-$G$25)))","v":0.41176470588235281},{"$f":"IF((1/(35-$G$25))*$AJ$91-$G$25/(35-$G$25)<0,0,IF((1/(35-$G$25))*$AJ$91-$G$25/(35-$G$25)>1,1,(1/(35-$G$25))*$AJ$91-$G$25/(35-$G$25)))","v":0.47058823529411753},{"$f":"IF((1/(35-$G$25))*$AK$91-$G$25/(35-$G$25)<0,0,IF((1/(35-$G$25))*$AK$91-$G$25/(35-$G$25)>1,1,(1/(35-$G$25))*$AK$91-$G$25/(35-$G$25)))","v":0.52941176470588225},{"$f":"IF((1/(35-$G$25))*$AL$91-$G$25/(35-$G$25)<0,0,IF((1/(35-$G$25))*$AL$91-$G$25/(35-$G$25)>1,1,(1/(35-$G$25))*$AL$91-$G$25/(35-$G$25)))","v":0.58823529411764697},{"$f":"IF((1/(35-$G$25))*$AM$91-$G$25/(35-$G$25)<0,0,IF((1/(35-$G$25))*$AM$91-$G$25/(35-$G$25)>1,1,(1/(35-$G$25))*$AM$91-$G$25/(35-$G$25)))","v":0.64705882352941169},{"$f":"IF((1/(35-$G$25))*$AN$91-$G$25/(35-$G$25)<0,0,IF((1/(35-$G$25))*$AN$91-$G$25/(35-$G$25)>1,1,(1/(35-$G$25))*$AN$91-$G$25/(35-$G$25)))","v":0.70588235294117641},{"$f":"IF((1/(35-$G$25))*$AO$91-$G$25/(35-$G$25)<0,0,IF((1/(35-$G$25))*$AO$91-$G$25/(35-$G$25)>1,1,(1/(35-$G$25))*$AO$91-$G$25/(35-$G$25)))","v":0.76470588235294112},{"$f":"IF((1/(35-$G$25))*$AP$91-$G$25/(35-$G$25)<0,0,IF((1/(35-$G$25))*$AP$91-$G$25/(35-$G$25)>1,1,(1/(35-$G$25))*$AP$91-$G$25/(35-$G$25)))","v":0.82352941176470584},{"$f":"IF((1/(35-$G$25))*$AQ$91-$G$25/(35-$G$25)<0,0,IF((1/(35-$G$25))*$AQ$91-$G$25/(35-$G$25)>1,1,(1/(35-$G$25))*$AQ$91-$G$25/(35-$G$25)))","v":0.88235294117647056},{"$f":"IF((1/(35-$G$25))*$AR$91-$G$25/(35-$G$25)<0,0,IF((1/(35-$G$25))*$AR$91-$G$25/(35-$G$25)>1,1,(1/(35-$G$25))*$AR$91-$G$25/(35-$G$25)))","v":0.94117647058823528},{"$f":"IF((1/(35-$G$25))*$AS$91-$G$25/(35-$G$25)<0,0,IF((1/(35-$G$25))*$AS$91-$G$25/(35-$G$25)>1,1,(1/(35-$G$25))*$AS$91-$G$25/(35-$G$25)))","v":0.99999999999999978},"冷房空調負荷率","αc"]
[null,"Φc","冷房能力",{"$f":"($G$27-1.077*$G$27)/6*($D$91-35)+$G$27","v":33.575666666666663},{"$f":"($G$27-1.077*$G$27)/6*($E$91-35)+$G$27","v":33.293333333333322},{"$f":"($G$27-1.077*$G$27)/6*($F$91-35)+$G$27","v":33.010999999999996},{"$f":"($G$27-1.077*$G$27)/6*($G$91-35)+$G$27","v":32.728666666666662},{"$f":"($G$27-1.077*$G$27)/6*($H$91-35)+$G$27","v":32.446333333333328},{"$f":"($G$27-1.077*$G$27)/6*($I$91-35)+$G$27","v":32.163999999999994},{"$f":"($G$27-1.077*$G$27)/6*($J$91-35)+$G$27","v":31.881666666666661},{"$f":"($G$27-1.077*$G$27)/6*($K$91-35)+$G$27","v":31.599333333333327},{"$f":"($G$27-1.077*$G$27)/6*($L$91-35)+$G$27","v":31.316999999999993},{"$f":"($G$27-1.077*$G$27)/6*($M$91-35)+$G$27","v":31.034666666666659},{"$f":"($G$27-1.077*$G$27)/6*($N$91-35)+$G$27","v":30.752333333333326},{"$f":"($G$27-1.077*$G$27)/6*($O$91-35)+$G$27","v":30.469999999999995},{"$f":"($G$27-1.077*$G$27)/6*($P$91-35)+$G$27","v":30.187666666666662},{"$f":"($G$27-1.077*$G$27)/6*($Q$91-35)+$G$27","v":29.905333333333328},{"$f":"($G$27-1.077*$G$27)/6*($R$91-35)+$G$27","v":29.622999999999994},{"$f":"($G$27-1.077*$G$27)/6*($S$91-35)+$G$27","v":29.340666666666664},{"$f":"($G$27-1.077*$G$27)/6*($T$91-35)+$G$27","v":29.05833333333333},{"$f":"($G$27-1.077*$G$27)/6*($U$91-35)+$G$27","v":28.775999999999996},{"$f":"($G$27-1.077*$G$27)/6*($V$91-35)+$G$27","v":28.493666666666662},{"$f":"($G$27-1.077*$G$27)/6*($W$91-35)+$G$27","v":28.211333333333329},{"$f":"($G$27-1.077*$G$27)/6*($X$91-35)+$G$27","v":27.928999999999995},{"$f":"($G$27-1.077*$G$27)/6*($Y$91-35)+$G$27","v":27.646666666666661},{"$f":"($G$27-1.077*$G$27)/6*($Z$91-35)+$G$27","v":27.364333333333331},{"$f":"($G$27-1.077*$G$27)/6*($AA$91-35)+$G$27","v":27.081999999999997},{"$f":"($G$27-1.077*$G$27)/6*($AB$91-35)+$G$27","v":26.799666666666663},{"$f":"($G$27-1.077*$G$27)/6*($AC$91-35)+$G$27","v":26.51733333333333},{"$f":"($G$27-1.077*$G$27)/6*($AD$91-35)+$G$27","v":26.234999999999999},{"$f":"($G$27-1.077*$G$27)/6*($AE$91-35)+$G$27","v":25.952666666666666},{"$f":"($G$27-1.077*$G$27)/6*($AF$91-35)+$G$27","v":25.670333333333332},{"$f":"($G$27-1.077*$G$27)/6*($AG$91-35)+$G$27","v":25.387999999999998},{"$f":"($G$27-1.077*$G$27)/6*($AH$91-35)+$G$27","v":25.105666666666664},{"$f":"($G$27-1.077*$G$27)/6*($AI$91-35)+$G$27","v":24.823333333333331},{"$f":"($G$27-1.077*$G$27)/6*($AJ$91-35)+$G$27","v":24.540999999999997},{"$f":"($G$27-1.077*$G$27)/6*($AK$91-35)+$G$27","v":24.258666666666667},{"$f":"($G$27-1.077*$G$27)/6*($AL$91-35)+$G$27","v":23.976333333333333},{"$f":"($G$27-1.077*$G$27)/6*($AM$91-35)+$G$27","v":23.693999999999999},{"$f":"($G$27-1.077*$G$27)/6*($AN$91-35)+$G$27","v":23.411666666666665},{"$f":"($G$27-1.077*$G$27)/6*($AO$91-35)+$G$27","v":23.129333333333332},{"$f":"($G$27-1.077*$G$27)/6*($AP$91-35)+$G$27","v":22.847000000000001},{"$f":"($G$27-1.077*$G$27)/6*($AQ$91-35)+$G$27","v":22.564666666666668},{"$f":"($G$27-1.077*$G$27)/6*($AR$91-35)+$G$27","v":22.282333333333334},{"$f":"($G$27-1.077*$G$27)/6*($AS$91-35)+$G$27","v":22},"冷房能力","Φc"]
[null,"Pc","消費電力",{"$f":"($G$28-0.914*$G$28)/6*($D$91-35)+$G$28","v":2.7214000000000018},{"$f":"($G$28-0.914*$G$28)/6*($E$91-35)+$G$28","v":2.8160000000000016},{"$f":"($G$28-0.914*$G$28)/6*($F$91-35)+$G$28","v":2.9106000000000019},{"$f":"($G$28-0.914*$G$28)/6*($G$91-35)+$G$28","v":3.0052000000000016},{"$f":"($G$28-0.914*$G$28)/6*($H$91-35)+$G$28","v":3.0998000000000014},{"$f":"($G$28-0.914*$G$28)/6*($I$91-35)+$G$28","v":3.1944000000000017},{"$f":"($G$28-0.914*$G$28)/6*($J$91-35)+$G$28","v":3.2890000000000015},{"$f":"($G$28-0.914*$G$28)/6*($K$91-35)+$G$28","v":3.3836000000000013},{"$f":"($G$28-0.914*$G$28)/6*($L$91-35)+$G$28","v":3.4782000000000015},{"$f":"($G$28-0.914*$G$28)/6*($M$91-35)+$G$28","v":3.5728000000000013},{"$f":"($G$28-0.914*$G$28)/6*($N$91-35)+$G$28","v":3.6674000000000011},{"$f":"($G$28-0.914*$G$28)/6*($O$91-35)+$G$28","v":3.7620000000000013},{"$f":"($G$28-0.914*$G$28)/6*($P$91-35)+$G$28","v":3.8566000000000011},{"$f":"($G$28-0.914*$G$28)/6*($Q$91-35)+$G$28","v":3.9512000000000009},{"$f":"($G$28-0.914*$G$28)/6*($R$91-35)+$G$28","v":4.0458000000000016},{"$f":"($G$28-0.914*$G$28)/6*($S$91-35)+$G$28","v":4.1404000000000014},{"$f":"($G$28-0.914*$G$28)/6*($T$91-35)+$G$28","v":4.2350000000000012},{"$f":"($G$28-0.914*$G$28)/6*($U$91-35)+$G$28","v":4.329600000000001},{"$f":"($G$28-0.914*$G$28)/6*($V$91-35)+$G$28","v":4.4242000000000008},{"$f":"($G$28-0.914*$G$28)/6*($W$91-35)+$G$28","v":4.5188000000000006},{"$f":"($G$28-0.914*$G$28)/6*($X$91-35)+$G$28","v":4.6134000000000004},{"$f":"($G$28-0.914*$G$28)/6*($Y$91-35)+$G$28","v":4.7080000000000002},{"$f":"($G$28-0.914*$G$28)/6*($Z$91-35)+$G$28","v":4.8026000000000009},{"$f":"($G$28-0.914*$G$28)/6*($AA$91-35)+$G$28","v":4.8972000000000007},{"$f":"($G$28-0.914*$G$28)/6*($AB$91-35)+$G$28","v":4.9918000000000005},{"$f":"($G$28-0.914*$G$28)/6*($AC$91-35)+$G$28","v":5.0864000000000003},{"$f":"($G$28-0.914*$G$28)/6*($AD$91-35)+$G$28","v":5.1810000000000009},{"$f":"($G$28-0.914*$G$28)/6*($AE$91-35)+$G$28","v":5.2756000000000007},{"$f":"($G$28-0.914*$G$28)/6*($AF$91-35)+$G$28","v":5.3702000000000005},{"$f":"($G$28-0.914*$G$28)/6*($AG$91-35)+$G$28","v":5.4648000000000003},{"$f":"($G$28-0.914*$G$28)/6*($AH$91-35)+$G$28","v":5.5594000000000001},{"$f":"($G$28-0.914*$G$28)/6*($AI$91-35)+$G$28","v":5.6539999999999999},{"$f":"($G$28-0.914*$G$28)/6*($AJ$91-35)+$G$28","v":5.7485999999999997},{"$f":"($G$28-0.914*$G$28)/6*($AK$91-35)+$G$28","v":5.8432000000000004},{"$f":"($G$28-0.914*$G$28)/6*($AL$91-35)+$G$28","v":5.9378000000000002},{"$f":"($G$28-0.914*$G$28)/6*($AM$91-35)+$G$28","v":6.0324},{"$f":"($G$28-0.914*$G$28)/6*($AN$91-35)+$G$28","v":6.1269999999999998},{"$f":"($G$28-0.914*$G$28)/6*($AO$91-35)+$G$28","v":6.2215999999999996},{"$f":"($G$28-0.914*$G$28)/6*($AP$91-35)+$G$28","v":6.3162000000000003},{"$f":"($G$28-0.914*$G$28)/6*($AQ$91-35)+$G$28","v":6.4108000000000001},{"$f":"($G$28-0.914*$G$28)/6*($AR$91-35)+$G$28","v":6.5053999999999998},{"$f":"($G$28-0.914*$G$28)/6*($AS$91-35)+$G$28","v":6.6},"消費電力","Pc"]
[null,"σc","COP",{"$f":"$D$107/$D$108","v":12.337644839665849},{"$f":"$E$107/$E$108","v":11.822916666666655},{"$f":"$F$107/$F$108","v":11.34164777021919},{"$f":"$G$107/$G$108","v":10.890678379697405},{"$f":"$H$107/$H$108","v":10.46723444523302},{"$f":"$I$107/$I$108","v":10.068870523415971},{"$f":"$J$107/$J$108","v":9.6934225195094701},{"$f":"$K$107/$K$108","v":9.3389683571738136},{"$f":"$L$107/$L$108","v":9.003795066413657},{"$f":"$M$107/$M$108","v":8.6863711001641981},{"$f":"$N$107/$N$108","v":8.385322935412912},{"$f":"$O$107/$O$108","v":8.0994152046783583},{"$f":"$P$107/$P$108","v":7.827533751663811},{"$f":"$Q$107/$Q$108","v":7.5686711210096478},{"$f":"$R$107/$R$108","v":7.3219140837411594},{"$f":"$S$107/$S$108","v":7.0864328728303194},{"$f":"$T$107/$T$108","v":6.8614718614718591},{"$f":"$U$107/$U$108","v":6.6463414634146316},{"$f":"$V$107/$V$108","v":6.440411072434939},{"$f":"$W$107/$W$108","v":6.2431028886725075},{"$f":"$X$107/$X$108","v":6.0538865045302801},{"$f":"$Y$107/$Y$108","v":5.872274143302179},{"$f":"$Z$107/$Z$108","v":5.6978164605283235},{"$f":"$AA$107/$AA$108","v":5.5300988319856232},{"$f":"$AB$107/$AB$108","v":5.3687380637578954},{"$f":"$AC$107/$AC$108","v":5.2133794694348321},{"$f":"$AD$107/$AD$108","v":5.0636942675159222},{"$f":"$AE$107/$AE$108","v":4.919377258826799},{"$f":"$AF$107/$AF$108","v":4.7801447494196356},{"$f":"$AG$107/$AG$108","v":4.6457326892109494},{"$f":"$AH$107/$AH$108","v":4.5158950006595431},{"$f":"$AI$107/$AI$108","v":4.3904020752269775},{"$f":"$AJ$107/$AJ$108","v":4.2690394182931497},{"$f":"$AK$107/$AK$108","v":4.1516064257028109},{"$f":"$AL$107/$AL$108","v":4.0379152772631839},{"$f":"$AM$107/$AM$108","v":3.9277899343544855},{"$f":"$AN$107/$AN$108","v":3.8210652304009574},{"$f":"$AO$107/$AO$108","v":3.7175860443187174},{"$f":"$AP$107/$AP$108","v":3.6172065482410312},{"$f":"$AQ$107/$AQ$108","v":3.5197895218485473},{"$f":"$AR$107/$AR$108","v":3.4252057265246312},{"$f":"$AS$107/$AS$108","v":3.3333333333333335},"COP","σc"]
[null,"βc","冷房COP比",{"$f":"$D$109/$AS$109","v":3.7012934518997547},{"$f":"$E$109/$AS$109","v":3.5468749999999964},{"$f":"$F$109/$AS$109","v":3.4024943310657569},{"$f":"$G$109/$AS$109","v":3.2672035139092213},{"$f":"$H$109/$AS$109","v":3.1401703335699058},{"$f":"$I$109/$AS$109","v":3.020661157024791},{"$f":"$J$109/$AS$109","v":2.9080267558528408},{"$f":"$K$109/$AS$109","v":2.8016905071521441},{"$f":"$L$109/$AS$109","v":2.7011385199240969},{"$f":"$M$109/$AS$109","v":2.6059113300492593},{"$f":"$N$109/$AS$109","v":2.5155968806238733},{"$f":"$O$109/$AS$109","v":2.4298245614035072},{"$f":"$P$109/$AS$109","v":2.3482601254991433},{"$f":"$Q$109/$AS$109","v":2.2706013363028941},{"$f":"$R$109/$AS$109","v":2.1965742251223479},{"$f":"$S$109/$AS$109","v":2.1259298618490958},{"$f":"$T$109/$AS$109","v":2.0584415584415576},{"$f":"$U$109/$AS$109","v":1.9939024390243894},{"$f":"$V$109/$AS$109","v":1.9321233217304816},{"$f":"$W$109/$AS$109","v":1.8729308666017521},{"$f":"$X$109/$AS$109","v":1.816165951359084},{"$f":"$Y$109/$AS$109","v":1.7616822429906536},{"$f":"$Z$109/$AS$109","v":1.7093449381584969},{"$f":"$AA$109/$AS$109","v":1.6590296495956869},{"$f":"$AB$109/$AS$109","v":1.6106214191273684},{"$f":"$AC$109/$AS$109","v":1.5640138408304496},{"$f":"$AD$109/$AS$109","v":1.5191082802547766},{"$f":"$AE$109/$AS$109","v":1.4758131776480397},{"$f":"$AF$109/$AS$109","v":1.4340434248258906},{"$f":"$AG$109/$AS$109","v":1.3937198067632848},{"$f":"$AH$109/$AS$109","v":1.3547685001978629},{"$f":"$AI$109/$AS$109","v":1.3171206225680931},{"$f":"$AJ$109/$AS$109","v":1.2807118254879448},{"$f":"$AK$109/$AS$109","v":1.2454819277108433},{"$f":"$AL$109/$AS$109","v":1.2113745831789551},{"$f":"$AM$109/$AS$109","v":1.1783369803063457},{"$f":"$AN$109/$AS$109","v":1.1463195691202872},{"$f":"$AO$109/$AS$109","v":1.1152758132956151},{"$f":"$AP$109/$AS$109","v":1.0851619644723094},{"$f":"$AQ$109/$AS$109","v":1.0559368565545642},{"$f":"$AR$109/$AS$109","v":1.0275617179573893},{"$f":"$AS$109/$AS$109","v":1},"冷房COP比","βc"]
[null,"Σ合計",{"$f":"SUM($D$111:$AS$111)","v":0},{"$f":"$D$104*$D$105","v":0},{"$f":"$E$104*$E$105","v":0},{"$f":"$F$104*$F$105","v":0},{"$f":"$G$104*$G$105","v":0},{"$f":"$H$104*$H$105","v":0},{"$f":"$I$104*$I$105","v":0},{"$f":"$J$104*$J$105","v":0},{"$f":"$K$104*$K$105","v":0},{"$f":"$L$104*$L$105","v":0},{"$f":"$M$104*$M$105","v":0},{"$f":"$N$104*$N$105","v":0},{"$f":"$O$104*$O$105","v":0},{"$f":"$P$104*$P$105","v":0},{"$f":"$Q$104*$Q$105","v":0},{"$f":"$R$104*$R$105","v":0},{"$f":"$S$104*$S$105","v":0},{"$f":"$T$104*$T$105","v":0},{"$f":"$U$104*$U$105","v":0},{"$f":"$V$104*$V$105","v":0},{"$f":"$W$104*$W$105","v":0},{"$f":"$X$104*$X$105","v":0},{"$f":"$Y$104*$Y$105","v":0},{"$f":"$Z$104*$Z$105","v":0},{"$f":"$AA$104*$AA$105","v":0},{"$f":"$AB$104*$AB$105","v":0},{"$f":"$AC$104*$AC$105","v":0},{"$f":"$AD$104*$AD$105","v":0},{"$f":"$AE$104*$AE$105","v":0},{"$f":"$AF$104*$AF$105","v":0},{"$f":"$AG$104*$AG$105","v":0},{"$f":"$AH$104*$AH$105","v":0},{"$f":"$AI$104*$AI$105","v":0},{"$f":"$AJ$104*$AJ$105","v":0},{"$f":"$AK$104*$AK$105","v":0},{"$f":"$AL$104*$AL$105","v":0},{"$f":"$AM$104*$AM$105","v":0},{"$f":"$AN$104*$AN$105","v":0},{"$f":"$AO$104*$AO$105","v":0},{"$f":"$AP$104*$AP$105","v":0},{"$f":"$AQ$104*$AQ$105","v":0},{"$f":"$AR$104*$AR$105","v":0},{"$f":"$AS$104*$AS$105","v":0},{"$f":"SUM($D$111:$AS$111)","v":0},{"$f":"SUM(AU92:AU103)","v":0}]
[]
[null,null,"暖房期間中　温度(T)が発生する時間[hour]"]
[null,null,null," 温度(T)"]
[null,null,"月",-6,-5,-4,-3,-2,-1,0,1,2,3,4,5,6,7,8,9,10,11,12,13,14,15,16,17,18,19,20,21,22,23,24,25,26,27,28,29,30,31,32,33,34,35,"月"]
[null,null,4,{"$f":"COUNTIF($D$76:$AA$76,$D$115)*$AB$12","v":0},{"$f":"COUNTIF($D$76:$AA$76,$E$115)*$AB$12","v":0},{"$f":"COUNTIF($D$76:$AA$76,$F$115)*$AB$12","v":0},{"$f":"COUNTIF($D$76:$AA$76,$G$115)*$AB$12","v":0},{"$f":"COUNTIF($D$76:$AA$76,$H$115)*$AB$12","v":0},{"$f":"COUNTIF($D$76:$AA$76,$I$115)*$AB$12","v":0},{"$f":"COUNTIF($D$76:$AA$76,$J$115)*$AB$12","v":0},{"$f":"COUNTIF($D$76:$AA$76,$K$115)*$AB$12","v":0},{"$f":"COUNTIF($D$76:$AA$76,$L$115)*$AB$12","v":0},{"$f":"COUNTIF($D$76:$AA$76,$M$115)*$AB$12","v":0},{"$f":"COUNTIF($D$76:$AA$76,$N$115)*$AB$12","v":0},{"$f":"COUNTIF($D$76:$AA$76,$O$115)*$AB$12","v":0},{"$f":"COUNTIF($D$76:$AA$76,$P$115)*$AB$12","v":0},{"$f":"COUNTIF($D$76:$AA$76,$Q$115)*$AB$12","v":0},{"$f":"COUNTIF($D$76:$AA$76,$R$115)*$AB$12","v":0},{"$f":"COUNTIF($D$76:$AA$76,$S$115)*$AB$12","v":0},{"$f":"COUNTIF($D$76:$AA$76,$T$115)*$AB$12","v":0},{"$f":"COUNTIF($D$76:$AA$76,$U$115)*$AB$12","v":0},{"$f":"COUNTIF($D$76:$AA$76,$V$115)*$AB$12","v":0},{"$f":"COUNTIF($D$76:$AA$76,$W$115)*$AB$12","v":0},{"$f":"COUNTIF($D$76:$AA$76,$X$115)*$AB$12","v":0},{"$f":"COUNTIF($D$76:$AA$76,$Y$115)*$AB$12","v":0},{"$f":"COUNTIF($D$76:$AA$76,$Z$115)*$AB$12","v":0},{"$f":"COUNTIF($D$76:$AA$76,$AA$115)*$AB$12","v":0},{"$f":"COUNTIF($D$76:$AA$76,$AB$115)*$AB$12","v":0},{"$f":"COUNTIF($D$76:$AA$76,$AC$115)*$AB$12","v":0},{"$f":"COUNTIF($D$76:$AA$76,$AD$115)*$AB$12","v":0},{"$f":"COUNTIF($D$76:$AA$76,$AE$115)*$AB$12","v":0},{"$f":"COUNTIF($D$76:$AA$76,$AF$115)*$AB$12","v":0},{"$f":"COUNTIF($D$76:$AA$76,$AG$115)*$AB$12","v":0},{"$f":"COUNTIF($D$76:$AA$76,$AH$115)*$AB$12","v":0},{"$f":"COUNTIF($D$76:$AA$76,$AI$115)*$AB$12","v":0},{"$f":"COUNTIF($D$76:$AA$76,$AJ$115)*$AB$12","v":0},{"$f":"COUNTIF($D$76:$AA$76,$AK$115)*$AB$12","v":0},{"$f":"COUNTIF($D$76:$AA$76,$AL$115)*$AB$12","v":0},{"$f":"COUNTIF($D$76:$AA$76,$AM$115)*$AB$12","v":0},{"$f":"COUNTIF($D$76:$AA$76,$AN$115)*$AB$12","v":0},{"$f":"COUNTIF($D$76:$AA$76,$AO$115)*$AB$12","v":0},{"$f":"COUNTIF($D$76:$AA$76,$AP$115)*$AB$12","v":0},{"$f":"COUNTIF($D$76:$AA$76,$AQ$115)*$AB$12","v":0},{"$f":"COUNTIF($D$76:$AA$76,$AR$115)*$AB$12","v":0},{"$f":"COUNTIF($D$76:$AA$76,$AS$115)*$AB$12","v":0},4,{"$f":"SUMPRODUCT(D116:AS116,$D$129:$AS$129)","v":0}]
[null,null,5,{"$f":"COUNTIF($D$77:$AA$77,$D$115)*$AB$13","v":0},{"$f":"COUNTIF($D$77:$AA$77,$E$115)*$AB$13","v":0},{"$f":"COUNTIF($D$77:$AA$77,$F$115)*$AB$13","v":0},{"$f":"COUNTIF($D$77:$AA$77,$G$115)*$AB$13","v":0},{"$f":"COUNTIF($D$77:$AA$77,$H$115)*$AB$13","v":0},{"$f":"COUNTIF($D$77:$AA$77,$I$115)*$AB$13","v":0},{"$f":"COUNTIF($D$77:$AA$77,$J$115)*$AB$13","v":0},{"$f":"COUNTIF($D$77:$AA$77,$K$115)*$AB$13","v":0},{"$f":"COUNTIF($D$77:$AA$77,$L$115)*$AB$13","v":0},{"$f":"COUNTIF($D$77:$AA$77,$M$115)*$AB$13","v":0},{"$f":"COUNTIF($D$77:$AA$77,$N$115)*$AB$13","v":0},{"$f":"COUNTIF($D$77:$AA$77,$O$115)*$AB$13","v":0},{"$f":"COUNTIF($D$77:$AA$77,$P$115)*$AB$13","v":0},{"$f":"COUNTIF($D$77:$AA$77,$Q$115)*$AB$13","v":0},{"$f":"COUNTIF($D$77:$AA$77,$R$115)*$AB$13","v":0},{"$f":"COUNTIF($D$77:$AA$77,$S$115)*$AB$13","v":0},{"$f":"COUNTIF($D$77:$AA$77,$T$115)*$AB$13","v":0},{"$f":"COUNTIF($D$77:$AA$77,$U$115)*$AB$13","v":0},{"$f":"COUNTIF($D$77:$AA$77,$V$115)*$AB$13","v":0},{"$f":"COUNTIF($D$77:$AA$77,$W$115)*$AB$13","v":0},{"$f":"COUNTIF($D$77:$AA$77,$X$115)*$AB$13","v":0},{"$f":"COUNTIF($D$77:$AA$77,$Y$115)*$AB$13","v":0},{"$f":"COUNTIF($D$77:$AA$77,$Z$115)*$AB$13","v":0},{"$f":"COUNTIF($D$77:$AA$77,$AA$115)*$AB$13","v":0},{"$f":"COUNTIF($D$77:$AA$77,$AB$115)*$AB$13","v":0},{"$f":"COUNTIF($D$77:$AA$77,$AC$115)*$AB$13","v":0},{"$f":"COUNTIF($D$77:$AA$77,$AD$115)*$AB$13","v":0},{"$f":"COUNTIF($D$77:$AA$77,$AE$115)*$AB$13","v":0},{"$f":"COUNTIF($D$77:$AA$77,$AF$115)*$AB$13","v":0},{"$f":"COUNTIF($D$77:$AA$77,$AG$115)*$AB$13","v":0},{"$f":"COUNTIF($D$77:$AA$77,$AH$115)*$AB$13","v":0},{"$f":"COUNTIF($D$77:$AA$77,$AI$115)*$AB$13","v":0},{"$f":"COUNTIF($D$77:$AA$77,$AJ$115)*$AB$13","v":0},{"$f":"COUNTIF($D$77:$AA$77,$AK$115)*$AB$13","v":0},{"$f":"COUNTIF($D$77:$AA$77,$AL$115)*$AB$13","v":0},{"$f":"COUNTIF($D$77:$AA$77,$AM$115)*$AB$13","v":0},{"$f":"COUNTIF($D$77:$AA$77,$AN$115)*$AB$13","v":0},{"$f":"COUNTIF($D$77:$AA$77,$AO$115)*$AB$13","v":0},{"$f":"COUNTIF($D$77:$AA$77,$AP$115)*$AB$13","v":0},{"$f":"COUNTIF($D$77:$AA$77,$AQ$115)*$AB$13","v":0},{"$f":"COUNTIF($D$77:$AA$77,$AR$115)*$AB$13","v":0},{"$f":"COUNTIF($D$77:$AA$77,$AS$115)*$AB$13","v":0},5,{"$f":"SUMPRODUCT(D117:AS117,$D$129:$AS$129)","v":0}]
[null,null,6,{"$f":"COUNTIF($D$78:$AA$78,$D$115)*$AB$14","v":0},{"$f":"COUNTIF($D$78:$AA$78,$E$115)*$AB$14","v":0},{"$f":"COUNTIF($D$78:$AA$78,$F$115)*$AB$14","v":0},{"$f":"COUNTIF($D$78:$AA$78,$G$115)*$AB$14","v":0},{"$f":"COUNTIF($D$78:$AA$78,$H$115)*$AB$14","v":0},{"$f":"COUNTIF($D$78:$AA$78,$I$115)*$AB$14","v":0},{"$f":"COUNTIF($D$78:$AA$78,$J$115)*$AB$14","v":0},{"$f":"COUNTIF($D$78:$AA$78,$K$115)*$AB$14","v":0},{"$f":"COUNTIF($D$78:$AA$78,$L$115)*$AB$14","v":0},{"$f":"COUNTIF($D$78:$AA$78,$M$115)*$AB$14","v":0},{"$f":"COUNTIF($D$78:$AA$78,$N$115)*$AB$14","v":0},{"$f":"COUNTIF($D$78:$AA$78,$O$115)*$AB$14","v":0},{"$f":"COUNTIF($D$78:$AA$78,$P$115)*$AB$14","v":0},{"$f":"COUNTIF($D$78:$AA$78,$Q$115)*$AB$14","v":0},{"$f":"COUNTIF($D$78:$AA$78,$R$115)*$AB$14","v":0},{"$f":"COUNTIF($D$78:$AA$78,$S$115)*$AB$14","v":0},{"$f":"COUNTIF($D$78:$AA$78,$T$115)*$AB$14","v":0},{"$f":"COUNTIF($D$78:$AA$78,$U$115)*$AB$14","v":0},{"$f":"COUNTIF($D$78:$AA$78,$V$115)*$AB$14","v":0},{"$f":"COUNTIF($D$78:$AA$78,$W$115)*$AB$14","v":0},{"$f":"COUNTIF($D$78:$AA$78,$X$115)*$AB$14","v":0},{"$f":"COUNTIF($D$78:$AA$78,$Y$115)*$AB$14","v":0},{"$f":"COUNTIF($D$78:$AA$78,$Z$115)*$AB$14","v":0},{"$f":"COUNTIF($D$78:$AA$78,$AA$115)*$AB$14","v":0},{"$f":"COUNTIF($D$78:$AA$78,$AB$115)*$AB$14","v":0},{"$f":"COUNTIF($D$78:$AA$78,$AC$115)*$AB$14","v":0},{"$f":"COUNTIF($D$78:$AA$78,$AD$115)*$AB$14","v":0},{"$f":"COUNTIF($D$78:$AA$78,$AE$115)*$AB$14","v":0},{"$f":"COUNTIF($D$78:$AA$78,$AF$115)*$AB$14","v":0},{"$f":"COUNTIF($D$78:$AA$78,$AG$115)*$AB$14","v":0},{"$f":"COUNTIF($D$78:$AA$78,$AH$115)*$AB$14","v":0},{"$f":"COUNTIF($D$78:$AA$78,$AI$115)*$AB$14","v":0},{"$f":"COUNTIF($D$78:$AA$78,$AJ$115)*$AB$14","v":0},{"$f":"COUNTIF($D$78:$AA$78,$AK$115)*$AB$14","v":0},{"$f":"COUNTIF($D$78:$AA$78,$AL$115)*$AB$14","v":0},{"$f":"COUNTIF($D$78:$AA$78,$AM$115)*$AB$14","v":0},{"$f":"COUNTIF($D$78:$AA$78,$AN$115)*$AB$14","v":0},{"$f":"COUNTIF($D$78:$AA$78,$AO$115)*$AB$14","v":0},{"$f":"COUNTIF($D$78:$AA$78,$AP$115)*$AB$14","v":0},{"$f":"COUNTIF($D$78:$AA$78,$AQ$115)*$AB$14","v":0},{"$f":"COUNTIF($D$78:$AA$78,$AR$115)*$AB$14","v":0},{"$f":"COUNTIF($D$78:$AA$78,$AS$115)*$AB$14","v":0},6,0]
[null,null,7,{"$f":"COUNTIF($D$79:$AA$79,$D$115)*$AB$15","v":0},{"$f":"COUNTIF($D$79:$AA$79,$E$115)*$AB$15","v":0},{"$f":"COUNTIF($D$79:$AA$79,$F$115)*$AB$15","v":0},{"$f":"COUNTIF($D$79:$AA$79,$G$115)*$AB$15","v":0},{"$f":"COUNTIF($D$79:$AA$79,$H$115)*$AB$15","v":0},{"$f":"COUNTIF($D$79:$AA$79,$I$115)*$AB$15","v":0},{"$f":"COUNTIF($D$79:$AA$79,$J$115)*$AB$15","v":0},{"$f":"COUNTIF($D$79:$AA$79,$K$115)*$AB$15","v":0},{"$f":"COUNTIF($D$79:$AA$79,$L$115)*$AB$15","v":0},{"$f":"COUNTIF($D$79:$AA$79,$M$115)*$AB$15","v":0},{"$f":"COUNTIF($D$79:$AA$79,$N$115)*$AB$15","v":0},{"$f":"COUNTIF($D$79:$AA$79,$O$115)*$AB$15","v":0},{"$f":"COUNTIF($D$79:$AA$79,$P$115)*$AB$15","v":0},{"$f":"COUNTIF($D$79:$AA$79,$Q$115)*$AB$15","v":0},{"$f":"COUNTIF($D$79:$AA$79,$R$115)*$AB$15","v":0},{"$f":"COUNTIF($D$79:$AA$79,$S$115)*$AB$15","v":0},{"$f":"COUNTIF($D$79:$AA$79,$T$115)*$AB$15","v":0},{"$f":"COUNTIF($D$79:$AA$79,$U$115)*$AB$15","v":0},{"$f":"COUNTIF($D$79:$AA$79,$V$115)*$AB$15","v":0},{"$f":"COUNTIF($D$79:$AA$79,$W$115)*$AB$15","v":0},{"$f":"COUNTIF($D$79:$AA$79,$X$115)*$AB$15","v":0},{"$f":"COUNTIF($D$79:$AA$79,$Y$115)*$AB$15","v":0},{"$f":"COUNTIF($D$79:$AA$79,$Z$115)*$AB$15","v":0},{"$f":"COUNTIF($D$79:$AA$79,$AA$115)*$AB$15","v":0},{"$f":"COUNTIF($D$79:$AA$79,$AB$115)*$AB$15","v":0},{"$f":"COUNTIF($D$79:$AA$79,$AC$115)*$AB$15","v":0},{"$f":"COUNTIF($D$79:$AA$79,$AD$115)*$AB$15","v":0},{"$f":"COUNTIF($D$79:$AA$79,$AE$115)*$AB$15","v":0},{"$f":"COUNTIF($D$79:$AA$79,$AF$115)*$AB$15","v":0},{"$f":"COUNTIF($D$79:$AA$79,$AG$115)*$AB$15","v":0},{"$f":"COUNTIF($D$79:$AA$79,$AH$115)*$AB$15","v":0},{"$f":"COUNTIF($D$79:$AA$79,$AI$115)*$AB$15","v":0},{"$f":"COUNTIF($D$79:$AA$79,$AJ$115)*$AB$15","v":0},{"$f":"COUNTIF($D$79:$AA$79,$AK$115)*$AB$15","v":0},{"$f":"COUNTIF($D$79:$AA$79,$AL$115)*$AB$15","v":0},{"$f":"COUNTIF($D$79:$AA$79,$AM$115)*$AB$15","v":0},{"$f":"COUNTIF($D$79:$AA$79,$AN$115)*$AB$15","v":0},{"$f":"COUNTIF($D$79:$AA$79,$AO$115)*$AB$15","v":0},{"$f":"COUNTIF($D$79:$AA$79,$AP$115)*$AB$15","v":0},{"$f":"COUNTIF($D$79:$AA$79,$AQ$115)*$AB$15","v":0},{"$f":"COUNTIF($D$79:$AA$79,$AR$115)*$AB$15","v":0},{"$f":"COUNTIF($D$79:$AA$79,$AS$115)*$AB$15","v":0},7,0]
[null,null,8,{"$f":"COUNTIF($D$80:$AA$80,$D$115)*$AB$16","v":0},{"$f":"COUNTIF($D$80:$AA$80,$E$115)*$AB$16","v":0},{"$f":"COUNTIF($D$80:$AA$80,$F$115)*$AB$16","v":0},{"$f":"COUNTIF($D$80:$AA$80,$G$115)*$AB$16","v":0},{"$f":"COUNTIF($D$80:$AA$80,$H$115)*$AB$16","v":0},{"$f":"COUNTIF($D$80:$AA$80,$I$115)*$AB$16","v":0},{"$f":"COUNTIF($D$80:$AA$80,$J$115)*$AB$16","v":0},{"$f":"COUNTIF($D$80:$AA$80,$K$115)*$AB$16","v":0},{"$f":"COUNTIF($D$80:$AA$80,$L$115)*$AB$16","v":0},{"$f":"COUNTIF($D$80:$AA$80,$M$115)*$AB$16","v":0},{"$f":"COUNTIF($D$80:$AA$80,$N$115)*$AB$16","v":0},{"$f":"COUNTIF($D$80:$AA$80,$O$115)*$AB$16","v":0},{"$f":"COUNTIF($D$80:$AA$80,$P$115)*$AB$16","v":0},{"$f":"COUNTIF($D$80:$AA$80,$Q$115)*$AB$16","v":0},{"$f":"COUNTIF($D$80:$AA$80,$R$115)*$AB$16","v":0},{"$f":"COUNTIF($D$80:$AA$80,$S$115)*$AB$16","v":0},{"$f":"COUNTIF($D$80:$AA$80,$T$115)*$AB$16","v":0},{"$f":"COUNTIF($D$80:$AA$80,$U$115)*$AB$16","v":0},{"$f":"COUNTIF($D$80:$AA$80,$V$115)*$AB$16","v":0},{"$f":"COUNTIF($D$80:$AA$80,$W$115)*$AB$16","v":0},{"$f":"COUNTIF($D$80:$AA$80,$X$115)*$AB$16","v":0},{"$f":"COUNTIF($D$80:$AA$80,$Y$115)*$AB$16","v":0},{"$f":"COUNTIF($D$80:$AA$80,$Z$115)*$AB$16","v":0},{"$f":"COUNTIF($D$80:$AA$80,$AA$115)*$AB$16","v":0},{"$f":"COUNTIF($D$80:$AA$80,$AB$115)*$AB$16","v":0},{"$f":"COUNTIF($D$80:$AA$80,$AC$115)*$AB$16","v":0},{"$f":"COUNTIF($D$80:$AA$80,$AD$115)*$AB$16","v":0},{"$f":"COUNTIF($D$80:$AA$80,$AE$115)*$AB$16","v":0},{"$f":"COUNTIF($D$80:$AA$80,$AF$115)*$AB$16","v":0},{"$f":"COUNTIF($D$80:$AA$80,$AG$115)*$AB$16","v":0},{"$f":"COUNTIF($D$80:$AA$80,$AH$115)*$AB$16","v":0},{"$f":"COUNTIF($D$80:$AA$80,$AI$115)*$AB$16","v":0},{"$f":"COUNTIF($D$80:$AA$80,$AJ$115)*$AB$16","v":0},{"$f":"COUNTIF($D$80:$AA$80,$AK$115)*$AB$16","v":0},{"$f":"COUNTIF($D$80:$AA$80,$AL$115)*$AB$16","v":0},{"$f":"COUNTIF($D$80:$AA$80,$AM$115)*$AB$16","v":0},{"$f":"COUNTIF($D$80:$AA$80,$AN$115)*$AB$16","v":0},{"$f":"COUNTIF($D$80:$AA$80,$AO$115)*$AB$16","v":0},{"$f":"COUNTIF($D$80:$AA$80,$AP$115)*$AB$16","v":0},{"$f":"COUNTIF($D$80:$AA$80,$AQ$115)*$AB$16","v":0},{"$f":"COUNTIF($D$80:$AA$80,$AR$115)*$AB$16","v":0},{"$f":"COUNTIF($D$80:$AA$80,$AS$115)*$AB$16","v":0},8,0]
[null,null,9,{"$f":"COUNTIF($D$81:$AA$81,$D$115)*$AB$17","v":0},{"$f":"COUNTIF($D$81:$AA$81,$E$115)*$AB$17","v":0},{"$f":"COUNTIF($D$81:$AA$81,$F$115)*$AB$17","v":0},{"$f":"COUNTIF($D$81:$AA$81,$G$115)*$AB$17","v":0},{"$f":"COUNTIF($D$81:$AA$81,$H$115)*$AB$17","v":0},{"$f":"COUNTIF($D$81:$AA$81,$I$115)*$AB$17","v":0},{"$f":"COUNTIF($D$81:$AA$81,$J$115)*$AB$17","v":0},{"$f":"COUNTIF($D$81:$AA$81,$K$115)*$AB$17","v":0},{"$f":"COUNTIF($D$81:$AA$81,$L$115)*$AB$17","v":0},{"$f":"COUNTIF($D$81:$AA$81,$M$115)*$AB$17","v":0},{"$f":"COUNTIF($D$81:$AA$81,$N$115)*$AB$17","v":0},{"$f":"COUNTIF($D$81:$AA$81,$O$115)*$AB$17","v":0},{"$f":"COUNTIF($D$81:$AA$81,$P$115)*$AB$17","v":0},{"$f":"COUNTIF($D$81:$AA$81,$Q$115)*$AB$17","v":0},{"$f":"COUNTIF($D$81:$AA$81,$R$115)*$AB$17","v":0},{"$f":"COUNTIF($D$81:$AA$81,$S$115)*$AB$17","v":0},{"$f":"COUNTIF($D$81:$AA$81,$T$115)*$AB$17","v":0},{"$f":"COUNTIF($D$81:$AA$81,$U$115)*$AB$17","v":0},{"$f":"COUNTIF($D$81:$AA$81,$V$115)*$AB$17","v":0},{"$f":"COUNTIF($D$81:$AA$81,$W$115)*$AB$17","v":0},{"$f":"COUNTIF($D$81:$AA$81,$X$115)*$AB$17","v":0},{"$f":"COUNTIF($D$81:$AA$81,$Y$115)*$AB$17","v":0},{"$f":"COUNTIF($D$81:$AA$81,$Z$115)*$AB$17","v":0},{"$f":"COUNTIF($D$81:$AA$81,$AA$115)*$AB$17","v":0},{"$f":"COUNTIF($D$81:$AA$81,$AB$115)*$AB$17","v":0},{"$f":"COUNTIF($D$81:$AA$81,$AC$115)*$AB$17","v":0},{"$f":"COUNTIF($D$81:$AA$81,$AD$115)*$AB$17","v":0},{"$f":"COUNTIF($D$81:$AA$81,$AE$115)*$AB$17","v":0},{"$f":"COUNTIF($D$81:$AA$81,$AF$115)*$AB$17","v":0},{"$f":"COUNTIF($D$81:$AA$81,$AG$115)*$AB$17","v":0},{"$f":"COUNTIF($D$81:$AA$81,$AH$115)*$AB$17","v":0},{"$f":"COUNTIF($D$81:$AA$81,$AI$115)*$AB$17","v":0},{"$f":"COUNTIF($D$81:$AA$81,$AJ$115)*$AB$17","v":0},{"$f":"COUNTIF($D$81:$AA$81,$AK$115)*$AB$17","v":0},{"$f":"COUNTIF($D$81:$AA$81,$AL$115)*$AB$17","v":0},{"$f":"COUNTIF($D$81:$AA$81,$AM$115)*$AB$17","v":0},{"$f":"COUNTIF($D$81:$AA$81,$AN$115)*$AB$17","v":0},{"$f":"COUNTIF($D$81:$AA$81,$AO$115)*$AB$17","v":0},{"$f":"COUNTIF($D$81:$AA$81,$AP$115)*$AB$17","v":0},{"$f":"COUNTIF($D$81:$AA$81,$AQ$115)*$AB$17","v":0},{"$f":"COUNTIF($D$81:$AA$81,$AR$115)*$AB$17","v":0},{"$f":"COUNTIF($D$81:$AA$81,$AS$115)*$AB$17","v":0},9,0]
[null,null,10,{"$f":"COUNTIF($D$82:$AA$82,$D$115)*$AB$18","v":0},{"$f":"COUNTIF($D$82:$AA$82,$E$115)*$AB$18","v":0},{"$f":"COUNTIF($D$82:$AA$82,$F$115)*$AB$18","v":0},{"$f":"COUNTIF($D$82:$AA$82,$G$115)*$AB$18","v":0},{"$f":"COUNTIF($D$82:$AA$82,$H$115)*$AB$18","v":0},{"$f":"COUNTIF($D$82:$AA$82,$I$115)*$AB$18","v":0},{"$f":"COUNTIF($D$82:$AA$82,$J$115)*$AB$18","v":0},{"$f":"COUNTIF($D$82:$AA$82,$K$115)*$AB$18","v":0},{"$f":"COUNTIF($D$82:$AA$82,$L$115)*$AB$18","v":0},{"$f":"COUNTIF($D$82:$AA$82,$M$115)*$AB$18","v":0},{"$f":"COUNTIF($D$82:$AA$82,$N$115)*$AB$18","v":0},{"$f":"COUNTIF($D$82:$AA$82,$O$115)*$AB$18","v":0},{"$f":"COUNTIF($D$82:$AA$82,$P$115)*$AB$18","v":0},{"$f":"COUNTIF($D$82:$AA$82,$Q$115)*$AB$18","v":0},{"$f":"COUNTIF($D$82:$AA$82,$R$115)*$AB$18","v":0},{"$f":"COUNTIF($D$82:$AA$82,$S$115)*$AB$18","v":0},{"$f":"COUNTIF($D$82:$AA$82,$T$115)*$AB$18","v":0},{"$f":"COUNTIF($D$82:$AA$82,$U$115)*$AB$18","v":0},{"$f":"COUNTIF($D$82:$AA$82,$V$115)*$AB$18","v":0},{"$f":"COUNTIF($D$82:$AA$82,$W$115)*$AB$18","v":0},{"$f":"COUNTIF($D$82:$AA$82,$X$115)*$AB$18","v":0},{"$f":"COUNTIF($D$82:$AA$82,$Y$115)*$AB$18","v":0},{"$f":"COUNTIF($D$82:$AA$82,$Z$115)*$AB$18","v":0},{"$f":"COUNTIF($D$82:$AA$82,$AA$115)*$AB$18","v":0},{"$f":"COUNTIF($D$82:$AA$82,$AB$115)*$AB$18","v":0},{"$f":"COUNTIF($D$82:$AA$82,$AC$115)*$AB$18","v":0},{"$f":"COUNTIF($D$82:$AA$82,$AD$115)*$AB$18","v":0},{"$f":"COUNTIF($D$82:$AA$82,$AE$115)*$AB$18","v":0},{"$f":"COUNTIF($D$82:$AA$82,$AF$115)*$AB$18","v":0},{"$f":"COUNTIF($D$82:$AA$82,$AG$115)*$AB$18","v":0},{"$f":"COUNTIF($D$82:$AA$82,$AH$115)*$AB$18","v":0},{"$f":"COUNTIF($D$82:$AA$82,$AI$115)*$AB$18","v":0},{"$f":"COUNTIF($D$82:$AA$82,$AJ$115)*$AB$18","v":0},{"$f":"COUNTIF($D$82:$AA$82,$AK$115)*$AB$18","v":0},{"$f":"COUNTIF($D$82:$AA$82,$AL$115)*$AB$18","v":0},{"$f":"COUNTIF($D$82:$AA$82,$AM$115)*$AB$18","v":0},{"$f":"COUNTIF($D$82:$AA$82,$AN$115)*$AB$18","v":0},{"$f":"COUNTIF($D$82:$AA$82,$AO$115)*$AB$18","v":0},{"$f":"COUNTIF($D$82:$AA$82,$AP$115)*$AB$18","v":0},{"$f":"COUNTIF($D$82:$AA$82,$AQ$115)*$AB$18","v":0},{"$f":"COUNTIF($D$82:$AA$82,$AR$115)*$AB$18","v":0},{"$f":"COUNTIF($D$82:$AA$82,$AS$115)*$AB$18","v":0},10,0]
[null,null,11,{"$f":"COUNTIF($D$83:$AA$83,$D$115)*$AB$19","v":0},{"$f":"COUNTIF($D$83:$AA$83,$E$115)*$AB$19","v":0},{"$f":"COUNTIF($D$83:$AA$83,$F$115)*$AB$19","v":0},{"$f":"COUNTIF($D$83:$AA$83,$G$115)*$AB$19","v":0},{"$f":"COUNTIF($D$83:$AA$83,$H$115)*$AB$19","v":0},{"$f":"COUNTIF($D$83:$AA$83,$I$115)*$AB$19","v":0},{"$f":"COUNTIF($D$83:$AA$83,$J$115)*$AB$19","v":0},{"$f":"COUNTIF($D$83:$AA$83,$K$115)*$AB$19","v":0},{"$f":"COUNTIF($D$83:$AA$83,$L$115)*$AB$19","v":0},{"$f":"COUNTIF($D$83:$AA$83,$M$115)*$AB$19","v":0},{"$f":"COUNTIF($D$83:$AA$83,$N$115)*$AB$19","v":0},{"$f":"COUNTIF($D$83:$AA$83,$O$115)*$AB$19","v":0},{"$f":"COUNTIF($D$83:$AA$83,$P$115)*$AB$19","v":0},{"$f":"COUNTIF($D$83:$AA$83,$Q$115)*$AB$19","v":0},{"$f":"COUNTIF($D$83:$AA$83,$R$115)*$AB$19","v":0},{"$f":"COUNTIF($D$83:$AA$83,$S$115)*$AB$19","v":0},{"$f":"COUNTIF($D$83:$AA$83,$T$115)*$AB$19","v":0},{"$f":"COUNTIF($D$83:$AA$83,$U$115)*$AB$19","v":0},{"$f":"COUNTIF($D$83:$AA$83,$V$115)*$AB$19","v":0},{"$f":"COUNTIF($D$83:$AA$83,$W$115)*$AB$19","v":0},{"$f":"COUNTIF($D$83:$AA$83,$X$115)*$AB$19","v":0},{"$f":"COUNTIF($D$83:$AA$83,$Y$115)*$AB$19","v":0},{"$f":"COUNTIF($D$83:$AA$83,$Z$115)*$AB$19","v":0},{"$f":"COUNTIF($D$83:$AA$83,$AA$115)*$AB$19","v":0},{"$f":"COUNTIF($D$83:$AA$83,$AB$115)*$AB$19","v":0},{"$f":"COUNTIF($D$83:$AA$83,$AC$115)*$AB$19","v":0},{"$f":"COUNTIF($D$83:$AA$83,$AD$115)*$AB$19","v":0},{"$f":"COUNTIF($D$83:$AA$83,$AE$115)*$AB$19","v":0},{"$f":"COUNTIF($D$83:$AA$83,$AF$115)*$AB$19","v":0},{"$f":"COUNTIF($D$83:$AA$83,$AG$115)*$AB$19","v":0},{"$f":"COUNTIF($D$83:$AA$83,$AH$115)*$AB$19","v":0},{"$f":"COUNTIF($D$83:$AA$83,$AI$115)*$AB$19","v":0},{"$f":"COUNTIF($D$83:$AA$83,$AJ$115)*$AB$19","v":0},{"$f":"COUNTIF($D$83:$AA$83,$AK$115)*$AB$19","v":0},{"$f":"COUNTIF($D$83:$AA$83,$AL$115)*$AB$19","v":0},{"$f":"COUNTIF($D$83:$AA$83,$AM$115)*$AB$19","v":0},{"$f":"COUNTIF($D$83:$AA$83,$AN$115)*$AB$19","v":0},{"$f":"COUNTIF($D$83:$AA$83,$AO$115)*$AB$19","v":0},{"$f":"COUNTIF($D$83:$AA$83,$AP$115)*$AB$19","v":0},{"$f":"COUNTIF($D$83:$AA$83,$AQ$115)*$AB$19","v":0},{"$f":"COUNTIF($D$83:$AA$83,$AR$115)*$AB$19","v":0},{"$f":"COUNTIF($D$83:$AA$83,$AS$115)*$AB$19","v":0},11,0]
[null,null,12,{"$f":"COUNTIF($D$84:$AA$84,$D$115)*$AB$20","v":0},{"$f":"COUNTIF($D$84:$AA$84,$E$115)*$AB$20","v":0},{"$f":"COUNTIF($D$84:$AA$84,$F$115)*$AB$20","v":0},{"$f":"COUNTIF($D$84:$AA$84,$G$115)*$AB$20","v":0},{"$f":"COUNTIF($D$84:$AA$84,$H$115)*$AB$20","v":0},{"$f":"COUNTIF($D$84:$AA$84,$I$115)*$AB$20","v":0},{"$f":"COUNTIF($D$84:$AA$84,$J$115)*$AB$20","v":0},{"$f":"COUNTIF($D$84:$AA$84,$K$115)*$AB$20","v":0},{"$f":"COUNTIF($D$84:$AA$84,$L$115)*$AB$20","v":0},{"$f":"COUNTIF($D$84:$AA$84,$M$115)*$AB$20","v":0},{"$f":"COUNTIF($D$84:$AA$84,$N$115)*$AB$20","v":0},{"$f":"COUNTIF($D$84:$AA$84,$O$115)*$AB$20","v":0},{"$f":"COUNTIF($D$84:$AA$84,$P$115)*$AB$20","v":0},{"$f":"COUNTIF($D$84:$AA$84,$Q$115)*$AB$20","v":0},{"$f":"COUNTIF($D$84:$AA$84,$R$115)*$AB$20","v":0},{"$f":"COUNTIF($D$84:$AA$84,$S$115)*$AB$20","v":0},{"$f":"COUNTIF($D$84:$AA$84,$T$115)*$AB$20","v":0},{"$f":"COUNTIF($D$84:$AA$84,$U$115)*$AB$20","v":0},{"$f":"COUNTIF($D$84:$AA$84,$V$115)*$AB$20","v":0},{"$f":"COUNTIF($D$84:$AA$84,$W$115)*$AB$20","v":0},{"$f":"COUNTIF($D$84:$AA$84,$X$115)*$AB$20","v":0},{"$f":"COUNTIF($D$84:$AA$84,$Y$115)*$AB$20","v":0},{"$f":"COUNTIF($D$84:$AA$84,$Z$115)*$AB$20","v":0},{"$f":"COUNTIF($D$84:$AA$84,$AA$115)*$AB$20","v":0},{"$f":"COUNTIF($D$84:$AA$84,$AB$115)*$AB$20","v":0},{"$f":"COUNTIF($D$84:$AA$84,$AC$115)*$AB$20","v":0},{"$f":"COUNTIF($D$84:$AA$84,$AD$115)*$AB$20","v":0},{"$f":"COUNTIF($D$84:$AA$84,$AE$115)*$AB$20","v":0},{"$f":"COUNTIF($D$84:$AA$84,$AF$115)*$AB$20","v":0},{"$f":"COUNTIF($D$84:$AA$84,$AG$115)*$AB$20","v":0},{"$f":"COUNTIF($D$84:$AA$84,$AH$115)*$AB$20","v":0},{"$f":"COUNTIF($D$84:$AA$84,$AI$115)*$AB$20","v":0},{"$f":"COUNTIF($D$84:$AA$84,$AJ$115)*$AB$20","v":0},{"$f":"COUNTIF($D$84:$AA$84,$AK$115)*$AB$20","v":0},{"$f":"COUNTIF($D$84:$AA$84,$AL$115)*$AB$20","v":0},{"$f":"COUNTIF($D$84:$AA$84,$AM$115)*$AB$20","v":0},{"$f":"COUNTIF($D$84:$AA$84,$AN$115)*$AB$20","v":0},{"$f":"COUNTIF($D$84:$AA$84,$AO$115)*$AB$20","v":0},{"$f":"COUNTIF($D$84:$AA$84,$AP$115)*$AB$20","v":0},{"$f":"COUNTIF($D$84:$AA$84,$AQ$115)*$AB$20","v":0},{"$f":"COUNTIF($D$84:$AA$84,$AR$115)*$AB$20","v":0},{"$f":"COUNTIF($D$84:$AA$84,$AS$115)*$AB$20","v":0},12,0]
[null,null,1,{"$f":"COUNTIF($D$85:$AA$85,$D$115)*$AB$21","v":0},{"$f":"COUNTIF($D$85:$AA$85,$E$115)*$AB$21","v":0},{"$f":"COUNTIF($D$85:$AA$85,$F$115)*$AB$21","v":0},{"$f":"COUNTIF($D$85:$AA$85,$G$115)*$AB$21","v":0},{"$f":"COUNTIF($D$85:$AA$85,$H$115)*$AB$21","v":0},{"$f":"COUNTIF($D$85:$AA$85,$I$115)*$AB$21","v":0},{"$f":"COUNTIF($D$85:$AA$85,$J$115)*$AB$21","v":0},{"$f":"COUNTIF($D$85:$AA$85,$K$115)*$AB$21","v":0},{"$f":"COUNTIF($D$85:$AA$85,$L$115)*$AB$21","v":0},{"$f":"COUNTIF($D$85:$AA$85,$M$115)*$AB$21","v":0},{"$f":"COUNTIF($D$85:$AA$85,$N$115)*$AB$21","v":0},{"$f":"COUNTIF($D$85:$AA$85,$O$115)*$AB$21","v":0},{"$f":"COUNTIF($D$85:$AA$85,$P$115)*$AB$21","v":0},{"$f":"COUNTIF($D$85:$AA$85,$Q$115)*$AB$21","v":0},{"$f":"COUNTIF($D$85:$AA$85,$R$115)*$AB$21","v":0},{"$f":"COUNTIF($D$85:$AA$85,$S$115)*$AB$21","v":0},{"$f":"COUNTIF($D$85:$AA$85,$T$115)*$AB$21","v":0},{"$f":"COUNTIF($D$85:$AA$85,$U$115)*$AB$21","v":0},{"$f":"COUNTIF($D$85:$AA$85,$V$115)*$AB$21","v":0},{"$f":"COUNTIF($D$85:$AA$85,$W$115)*$AB$21","v":0},{"$f":"COUNTIF($D$85:$AA$85,$X$115)*$AB$21","v":0},{"$f":"COUNTIF($D$85:$AA$85,$Y$115)*$AB$21","v":0},{"$f":"COUNTIF($D$85:$AA$85,$Z$115)*$AB$21","v":0},{"$f":"COUNTIF($D$85:$AA$85,$AA$115)*$AB$21","v":0},{"$f":"COUNTIF($D$85:$AA$85,$AB$115)*$AB$21","v":0},{"$f":"COUNTIF($D$85:$AA$85,$AC$115)*$AB$21","v":0},{"$f":"COUNTIF($D$85:$AA$85,$AD$115)*$AB$21","v":0},{"$f":"COUNTIF($D$85:$AA$85,$AE$115)*$AB$21","v":0},{"$f":"COUNTIF($D$85:$AA$85,$AF$115)*$AB$21","v":0},{"$f":"COUNTIF($D$85:$AA$85,$AG$115)*$AB$21","v":0},{"$f":"COUNTIF($D$85:$AA$85,$AH$115)*$AB$21","v":0},{"$f":"COUNTIF($D$85:$AA$85,$AI$115)*$AB$21","v":0},{"$f":"COUNTIF($D$85:$AA$85,$AJ$115)*$AB$21","v":0},{"$f":"COUNTIF($D$85:$AA$85,$AK$115)*$AB$21","v":0},{"$f":"COUNTIF($D$85:$AA$85,$AL$115)*$AB$21","v":0},{"$f":"COUNTIF($D$85:$AA$85,$AM$115)*$AB$21","v":0},{"$f":"COUNTIF($D$85:$AA$85,$AN$115)*$AB$21","v":0},{"$f":"COUNTIF($D$85:$AA$85,$AO$115)*$AB$21","v":0},{"$f":"COUNTIF($D$85:$AA$85,$AP$115)*$AB$21","v":0},{"$f":"COUNTIF($D$85:$AA$85,$AQ$115)*$AB$21","v":0},{"$f":"COUNTIF($D$85:$AA$85,$AR$115)*$AB$21","v":0},{"$f":"COUNTIF($D$85:$AA$85,$AS$115)*$AB$21","v":0},1,0]
[null,null,2,{"$f":"COUNTIF($D$86:$AA$86,$D$115)*$AB$22","v":0},{"$f":"COUNTIF($D$86:$AA$86,$E$115)*$AB$22","v":0},{"$f":"COUNTIF($D$86:$AA$86,$F$115)*$AB$22","v":0},{"$f":"COUNTIF($D$86:$AA$86,$G$115)*$AB$22","v":0},{"$f":"COUNTIF($D$86:$AA$86,$H$115)*$AB$22","v":0},{"$f":"COUNTIF($D$86:$AA$86,$I$115)*$AB$22","v":0},{"$f":"COUNTIF($D$86:$AA$86,$J$115)*$AB$22","v":0},{"$f":"COUNTIF($D$86:$AA$86,$K$115)*$AB$22","v":0},{"$f":"COUNTIF($D$86:$AA$86,$L$115)*$AB$22","v":0},{"$f":"COUNTIF($D$86:$AA$86,$M$115)*$AB$22","v":0},{"$f":"COUNTIF($D$86:$AA$86,$N$115)*$AB$22","v":0},{"$f":"COUNTIF($D$86:$AA$86,$O$115)*$AB$22","v":0},{"$f":"COUNTIF($D$86:$AA$86,$P$115)*$AB$22","v":0},{"$f":"COUNTIF($D$86:$AA$86,$Q$115)*$AB$22","v":0},{"$f":"COUNTIF($D$86:$AA$86,$R$115)*$AB$22","v":0},{"$f":"COUNTIF($D$86:$AA$86,$S$115)*$AB$22","v":0},{"$f":"COUNTIF($D$86:$AA$86,$T$115)*$AB$22","v":0},{"$f":"COUNTIF($D$86:$AA$86,$U$115)*$AB$22","v":0},{"$f":"COUNTIF($D$86:$AA$86,$V$115)*$AB$22","v":0},{"$f":"COUNTIF($D$86:$AA$86,$W$115)*$AB$22","v":0},{"$f":"COUNTIF($D$86:$AA$86,$X$115)*$AB$22","v":0},{"$f":"COUNTIF($D$86:$AA$86,$Y$115)*$AB$22","v":0},{"$f":"COUNTIF($D$86:$AA$86,$Z$115)*$AB$22","v":0},{"$f":"COUNTIF($D$86:$AA$86,$AA$115)*$AB$22","v":0},{"$f":"COUNTIF($D$86:$AA$86,$AB$115)*$AB$22","v":0},{"$f":"COUNTIF($D$86:$AA$86,$AC$115)*$AB$22","v":0},{"$f":"COUNTIF($D$86:$AA$86,$AD$115)*$AB$22","v":0},{"$f":"COUNTIF($D$86:$AA$86,$AE$115)*$AB$22","v":0},{"$f":"COUNTIF($D$86:$AA$86,$AF$115)*$AB$22","v":0},{"$f":"COUNTIF($D$86:$AA$86,$AG$115)*$AB$22","v":0},{"$f":"COUNTIF($D$86:$AA$86,$AH$115)*$AB$22","v":0},{"$f":"COUNTIF($D$86:$AA$86,$AI$115)*$AB$22","v":0},{"$f":"COUNTIF($D$86:$AA$86,$AJ$115)*$AB$22","v":0},{"$f":"COUNTIF($D$86:$AA$86,$AK$115)*$AB$22","v":0},{"$f":"COUNTIF($D$86:$AA$86,$AL$115)*$AB$22","v":0},{"$f":"COUNTIF($D$86:$AA$86,$AM$115)*$AB$22","v":0},{"$f":"COUNTIF($D$86:$AA$86,$AN$115)*$AB$22","v":0},{"$f":"COUNTIF($D$86:$AA$86,$AO$115)*$AB$22","v":0},{"$f":"COUNTIF($D$86:$AA$86,$AP$115)*$AB$22","v":0},{"$f":"COUNTIF($D$86:$AA$86,$AQ$115)*$AB$22","v":0},{"$f":"COUNTIF($D$86:$AA$86,$AR$115)*$AB$22","v":0},{"$f":"COUNTIF($D$86:$AA$86,$AS$115)*$AB$22","v":0},2,0]
[null,null,3,{"$f":"COUNTIF($D$87:$AA$87,$D$115)*$AB$23","v":0},{"$f":"COUNTIF($D$87:$AA$87,$E$115)*$AB$23","v":0},{"$f":"COUNTIF($D$87:$AA$87,$F$115)*$AB$23","v":0},{"$f":"COUNTIF($D$87:$AA$87,$G$115)*$AB$23","v":0},{"$f":"COUNTIF($D$87:$AA$87,$H$115)*$AB$23","v":0},{"$f":"COUNTIF($D$87:$AA$87,$I$115)*$AB$23","v":0},{"$f":"COUNTIF($D$87:$AA$87,$J$115)*$AB$23","v":0},{"$f":"COUNTIF($D$87:$AA$87,$K$115)*$AB$23","v":0},{"$f":"COUNTIF($D$87:$AA$87,$L$115)*$AB$23","v":0},{"$f":"COUNTIF($D$87:$AA$87,$M$115)*$AB$23","v":0},{"$f":"COUNTIF($D$87:$AA$87,$N$115)*$AB$23","v":0},{"$f":"COUNTIF($D$87:$AA$87,$O$115)*$AB$23","v":0},{"$f":"COUNTIF($D$87:$AA$87,$P$115)*$AB$23","v":0},{"$f":"COUNTIF($D$87:$AA$87,$Q$115)*$AB$23","v":0},{"$f":"COUNTIF($D$87:$AA$87,$R$115)*$AB$23","v":0},{"$f":"COUNTIF($D$87:$AA$87,$S$115)*$AB$23","v":0},{"$f":"COUNTIF($D$87:$AA$87,$T$115)*$AB$23","v":0},{"$f":"COUNTIF($D$87:$AA$87,$U$115)*$AB$23","v":0},{"$f":"COUNTIF($D$87:$AA$87,$V$115)*$AB$23","v":0},{"$f":"COUNTIF($D$87:$AA$87,$W$115)*$AB$23","v":0},{"$f":"COUNTIF($D$87:$AA$87,$X$115)*$AB$23","v":0},{"$f":"COUNTIF($D$87:$AA$87,$Y$115)*$AB$23","v":0},{"$f":"COUNTIF($D$87:$AA$87,$Z$115)*$AB$23","v":0},{"$f":"COUNTIF($D$87:$AA$87,$AA$115)*$AB$23","v":0},{"$f":"COUNTIF($D$87:$AA$87,$AB$115)*$AB$23","v":0},{"$f":"COUNTIF($D$87:$AA$87,$AC$115)*$AB$23","v":0},{"$f":"COUNTIF($D$87:$AA$87,$AD$115)*$AB$23","v":0},{"$f":"COUNTIF($D$87:$AA$87,$AE$115)*$AB$23","v":0},{"$f":"COUNTIF($D$87:$AA$87,$AF$115)*$AB$23","v":0},{"$f":"COUNTIF($D$87:$AA$87,$AG$115)*$AB$23","v":0},{"$f":"COUNTIF($D$87:$AA$87,$AH$115)*$AB$23","v":0},{"$f":"COUNTIF($D$87:$AA$87,$AI$115)*$AB$23","v":0},{"$f":"COUNTIF($D$87:$AA$87,$AJ$115)*$AB$23","v":0},{"$f":"COUNTIF($D$87:$AA$87,$AK$115)*$AB$23","v":0},{"$f":"COUNTIF($D$87:$AA$87,$AL$115)*$AB$23","v":0},{"$f":"COUNTIF($D$87:$AA$87,$AM$115)*$AB$23","v":0},{"$f":"COUNTIF($D$87:$AA$87,$AN$115)*$AB$23","v":0},{"$f":"COUNTIF($D$87:$AA$87,$AO$115)*$AB$23","v":0},{"$f":"COUNTIF($D$87:$AA$87,$AP$115)*$AB$23","v":0},{"$f":"COUNTIF($D$87:$AA$87,$AQ$115)*$AB$23","v":0},{"$f":"COUNTIF($D$87:$AA$87,$AR$115)*$AB$23","v":0},{"$f":"COUNTIF($D$87:$AA$87,$AS$115)*$AB$23","v":0},3,0]
[null,null,"発生時間",{"$f":"SUM($D$116:$D$127)","v":0},{"$f":"SUM($E$116:$E$127)","v":0},{"$f":"SUM($F$116:$F$127)","v":0},{"$f":"SUM($G$116:$G$127)","v":0},{"$f":"SUM($H$116:$H$127)","v":0},{"$f":"SUM($I$116:$I$127)","v":0},{"$f":"SUM($J$116:$J$127)","v":0},{"$f":"SUM($K$116:$K$127)","v":0},{"$f":"SUM($L$116:$L$127)","v":0},{"$f":"SUM($M$116:$M$127)","v":0},{"$f":"SUM($N$116:$N$127)","v":0},{"$f":"SUM($O$116:$O$127)","v":0},{"$f":"SUM($P$116:$P$127)","v":0},{"$f":"SUM($Q$116:$Q$127)","v":0},{"$f":"SUM($R$116:$R$127)","v":0},{"$f":"SUM($S$116:$S$127)","v":0},{"$f":"SUM($T$116:$T$127)","v":0},{"$f":"SUM($U$116:$U$127)","v":0},{"$f":"SUM($V$116:$V$127)","v":0},{"$f":"SUM($W$116:$W$127)","v":0},{"$f":"SUM($X$116:$X$127)","v":0},{"$f":"SUM($Y$116:$Y$127)","v":0},{"$f":"SUM($Z$116:$Z$127)","v":0},{"$f":"SUM($AA$116:$AA$127)","v":0},{"$f":"SUM($AB$116:$AB$127)","v":0},{"$f":"SUM($AC$116:$AC$127)","v":0},{"$f":"SUM($AD$116:$AD$127)","v":0},{"$f":"SUM($AE$116:$AE$127)","v":0},{"$f":"SUM($AF$116:$AF$127)","v":0},{"$f":"SUM($AG$116:$AG$127)","v":0},{"$f":"SUM($AH$116:$AH$127)","v":0},{"$f":"SUM($AI$116:$AI$127)","v":0},{"$f":"SUM($AJ$116:$AJ$127)","v":0},{"$f":"SUM($AK$116:$AK$127)","v":0},{"$f":"SUM($AL$116:$AL$127)","v":0},{"$f":"SUM($AM$116:$AM$127)","v":0},{"$f":"SUM($AN$116:$AN$127)","v":0},{"$f":"SUM($AO$116:$AO$127)","v":0},{"$f":"SUM($AP$116:$AP$127)","v":0},{"$f":"SUM($AQ$116:$AQ$127)","v":0},{"$f":"SUM($AR$116:$AR$127)","v":0},{"$f":"SUM($AR$116:$AR$127)","v":0},"発生時間"]
[null,"εw","暖房時消費電力比",{"$f":"$D$130/$D$134","v":1.2510729613733909},{"$f":"$E$130/$E$134","v":1.2231404958677687},{"$f":"$F$130/$F$134","v":1.1972111553784861},{"$f":"$G$130/$G$134","v":1.1730769230769231},{"$f":"$H$130/$H$134","v":1.1505576208178439},{"$f":"$I$130/$I$134","v":1.1294964028776977},{"$f":"$J$130/$J$134","v":1.1097560975609755},{"$f":"$K$130/$K$134","v":1.0002815315315317},{"$f":"$L$130/$L$134","v":0.89480874316939907},{"$f":"$M$130/$M$134","v":0.79299363057324845},{"$f":"$N$130/$N$134","v":0.69453044375645012},{"$f":"$O$130/$O$134","v":0.59914658634538154},{"$f":"$P$130/$P$134","v":0.50659824046920821},{"$f":"$Q$130/$Q$134","v":0.41666666666666674},{"$f":"$R$130/$R$134","v":0.32915506035283199},{"$f":"$S$130/$S$134","v":0.24388586956521743},{"$f":"$T$130/$T$134","v":0.16069849690539356},{"$f":"$U$130/$U$134","v":7.9447322970639084E-2},{"$f":"$V$130/$V$134","v":0},{"$f":"$W$130/$W$134","v":0},{"$f":"$X$130/$X$134","v":0},{"$f":"$Y$130/$Y$134","v":0},{"$f":"$Z$130/$Z$134","v":0},{"$f":"$AA$130/$AA$134","v":0},{"$f":"$AB$130/$AB$134","v":0},{"$f":"$AC$130/$AC$134","v":0},{"$f":"$AD$130/$AD$134","v":0},{"$f":"$AE$130/$AE$134","v":0},{"$f":"$AF$130/$AF$134","v":0},{"$f":"$AG$130/$AG$134","v":0},{"$f":"$AH$130/$AH$134","v":0},{"$f":"$AI$130/$AI$134","v":0},{"$f":"$AJ$130/$AJ$134","v":0},{"$f":"$AK$130/$AK$134","v":0},{"$f":"$AL$130/$AL$134","v":0},{"$f":"$AM$130/$AM$134","v":0},{"$f":"$AN$130/$AN$134","v":0},{"$f":"$AO$130/$AO$134","v":0},{"$f":"$AP$130/$AP$134","v":0},{"$f":"$AQ$130/$AQ$134","v":0},{"$f":"$AR$130/$AR$134","v":0},{"$f":"$AR$130/$AR$134","v":0},"暖房時消費電力比","εw"]
[null,"αw","暖房空調負荷率",{"$f":"IF((1/(0-$G$26))*$D$115+1<0,0,IF((1/(0-$G$26))*$D$115+1>1,1,(1/(0-$G$26))*$D$115+1))","v":1},{"$f":"IF((1/(0-$G$26))*$E$115+1<0,0,IF((1/(0-$G$26))*$E$115+1>1,1,(1/(0-$G$26))*$E$115+1))","v":1},{"$f":"IF((1/(0-$G$26))*$F$115+1<0,0,IF((1/(0-$G$26))*$F$115+1>1,1,(1/(0-$G$26))*$F$115+1))","v":1},{"$f":"IF((1/(0-$G$26))*$G$115+1<0,0,IF((1/(0-$G$26))*$G$115+1>1,1,(1/(0-$G$26))*$G$115+1))","v":1},{"$f":"IF((1/(0-$G$26))*$H$115+1<0,0,IF((1/(0-$G$26))*$H$115+1>1,1,(1/(0-$G$26))*$H$115+1))","v":1},{"$f":"IF((1/(0-$G$26))*$I$115+1<0,0,IF((1/(0-$G$26))*$I$115+1>1,1,(1/(0-$G$26))*$I$115+1))","v":1},{"$f":"IF((1/(0-$G$26))*$J$115+1<0,0,IF((1/(0-$G$26))*$J$115+1>1,1,(1/(0-$G$26))*$J$115+1))","v":1},{"$f":"IF((1/(0-$G$26))*$K$115+1<0,0,IF((1/(0-$G$26))*$K$115+1>1,1,(1/(0-$G$26))*$K$115+1))","v":0.91666666666666663},{"$f":"IF((1/(0-$G$26))*$L$115+1<0,0,IF((1/(0-$G$26))*$L$115+1>1,1,(1/(0-$G$26))*$L$115+1))","v":0.83333333333333337},{"$f":"IF((1/(0-$G$26))*$M$115+1<0,0,IF((1/(0-$G$26))*$M$115+1>1,1,(1/(0-$G$26))*$M$115+1))","v":0.75},{"$f":"IF((1/(0-$G$26))*$N$115+1<0,0,IF((1/(0-$G$26))*$N$115+1>1,1,(1/(0-$G$26))*$N$115+1))","v":0.66666666666666674},{"$f":"IF((1/(0-$G$26))*$O$115+1<0,0,IF((1/(0-$G$26))*$O$115+1>1,1,(1/(0-$G$26))*$O$115+1))","v":0.58333333333333337},{"$f":"IF((1/(0-$G$26))*$P$115+1<0,0,IF((1/(0-$G$26))*$P$115+1>1,1,(1/(0-$G$26))*$P$115+1))","v":0.5},{"$f":"IF((1/(0-$G$26))*$Q$115+1<0,0,IF((1/(0-$G$26))*$Q$115+1>1,1,(1/(0-$G$26))*$Q$115+1))","v":0.41666666666666674},{"$f":"IF((1/(0-$G$26))*$R$115+1<0,0,IF((1/(0-$G$26))*$R$115+1>1,1,(1/(0-$G$26))*$R$115+1))","v":0.33333333333333337},{"$f":"IF((1/(0-$G$26))*$S$115+1<0,0,IF((1/(0-$G$26))*$S$115+1>1,1,(1/(0-$G$26))*$S$115+1))","v":0.25},{"$f":"IF((1/(0-$G$26))*$T$115+1<0,0,IF((1/(0-$G$26))*$T$115+1>1,1,(1/(0-$G$26))*$T$115+1))","v":0.16666666666666674},{"$f":"IF((1/(0-$G$26))*$U$115+1<0,0,IF((1/(0-$G$26))*$U$115+1>1,1,(1/(0-$G$26))*$U$115+1))","v":8.333333333333337E-2},{"$f":"IF((1/(0-$G$26))*$V$115+1<0,0,IF((1/(0-$G$26))*$V$115+1>1,1,(1/(0-$G$26))*$V$115+1))","v":0},{"$f":"IF((1/(0-$G$26))*$W$115+1<0,0,IF((1/(0-$G$26))*$W$115+1>1,1,(1/(0-$G$26))*$W$115+1))","v":0},{"$f":"IF((1/(0-$G$26))*$X$115+1<0,0,IF((1/(0-$G$26))*$X$115+1>1,1,(1/(0-$G$26))*$X$115+1))","v":0},{"$f":"IF((1/(0-$G$26))*$Y$115+1<0,0,IF((1/(0-$G$26))*$Y$115+1>1,1,(1/(0-$G$26))*$Y$115+1))","v":0},{"$f":"IF((1/(0-$G$26))*$Z$115+1<0,0,IF((1/(0-$G$26))*$Z$115+1>1,1,(1/(0-$G$26))*$Z$115+1))","v":0},{"$f":"IF((1/(0-$G$26))*$AA$115+1<0,0,IF((1/(0-$G$26))*$AA$115+1>1,1,(1/(0-$G$26))*$AA$115+1))","v":0},{"$f":"IF((1/(0-$G$26))*$AB$115+1<0,0,IF((1/(0-$G$26))*$AB$115+1>1,1,(1/(0-$G$26))*$AB$115+1))","v":0},{"$f":"IF((1/(0-$G$26))*$AC$115+1<0,0,IF((1/(0-$G$26))*$AC$115+1>1,1,(1/(0-$G$26))*$AC$115+1))","v":0},{"$f":"IF((1/(0-$G$26))*$AD$115+1<0,0,IF((1/(0-$G$26))*$AD$115+1>1,1,(1/(0-$G$26))*$AD$115+1))","v":0},{"$f":"IF((1/(0-$G$26))*$AE$115+1<0,0,IF((1/(0-$G$26))*$AE$115+1>1,1,(1/(0-$G$26))*$AE$115+1))","v":0},{"$f":"IF((1/(0-$G$26))*$AF$115+1<0,0,IF((1/(0-$G$26))*$AF$115+1>1,1,(1/(0-$G$26))*$AF$115+1))","v":0},{"$f":"IF((1/(0-$G$26))*$AG$115+1<0,0,IF((1/(0-$G$26))*$AG$115+1>1,1,(1/(0-$G$26))*$AG$115+1))","v":0},{"$f":"IF((1/(0-$G$26))*$AH$115+1<0,0,IF((1/(0-$G$26))*$AH$115+1>1,1,(1/(0-$G$26))*$AH$115+1))","v":0},{"$f":"IF((1/(0-$G$26))*$AI$115+1<0,0,IF((1/(0-$G$26))*$AI$115+1>1,1,(1/(0-$G$26))*$AI$115+1))","v":0},{"$f":"IF((1/(0-$G$26))*$AJ$115+1<0,0,IF((1/(0-$G$26))*$AJ$115+1>1,1,(1/(0-$G$26))*$AJ$115+1))","v":0},{"$f":"IF((1/(0-$G$26))*$AK$115+1<0,0,IF((1/(0-$G$26))*$AK$115+1>1,1,(1/(0-$G$26))*$AK$115+1))","v":0},{"$f":"IF((1/(0-$G$26))*$AL$115+1<0,0,IF((1/(0-$G$26))*$AL$115+1>1,1,(1/(0-$G$26))*$AL$115+1))","v":0},{"$f":"IF((1/(0-$G$26))*$AM$115+1<0,0,IF((1/(0-$G$26))*$AM$115+1>1,1,(1/(0-$G$26))*$AM$115+1))","v":0},{"$f":"IF((1/(0-$G$26))*$AN$115+1<0,0,IF((1/(0-$G$26))*$AN$115+1>1,1,(1/(0-$G$26))*$AN$115+1))","v":0},{"$f":"IF((1/(0-$G$26))*$AO$115+1<0,0,IF((1/(0-$G$26))*$AO$115+1>1,1,(1/(0-$G$26))*$AO$115+1))","v":0},{"$f":"IF((1/(0-$G$26))*$AP$115+1<0,0,IF((1/(0-$G$26))*$AP$115+1>1,1,(1/(0-$G$26))*$AP$115+1))","v":0},{"$f":"IF((1/(0-$G$26))*$AQ$115+1<0,0,IF((1/(0-$G$26))*$AQ$115+1>1,1,(1/(0-$G$26))*$AQ$115+1))","v":0},{"$f":"IF((1/(0-$G$26))*$AR$115+1<0,0,IF((1/(0-$G$26))*$AR$115+1>1,1,(1/(0-$G$26))*$AR$115+1))","v":0},{"$f":"IF((1/(0-$G$26))*$AR$115+1<0,0,IF((1/(0-$G$26))*$AR$115+1>1,1,(1/(0-$G$26))*$AR$115+1))","v":0},"暖房空調負荷率","αw"]
[null,"Φw","暖房能力",{"$f":"($G$30-0.64*$G$30)/14*($D$115-7)+$G$30","v":16.642857142857142},{"$f":"($G$30-0.64*$G$30)/14*($E$115-7)+$G$30","v":17.285714285714285},{"$f":"($G$30-0.64*$G$30)/14*($F$115-7)+$G$30","v":17.928571428571427},{"$f":"($G$30-0.64*$G$30)/14*($G$115-7)+$G$30","v":18.571428571428569},{"$f":"($G$30-0.64*$G$30)/14*($H$115-7)+$G$30","v":19.214285714285715},{"$f":"($G$30-0.64*$G$30)/14*($I$115-7)+$G$30","v":19.857142857142858},{"$f":"($G$30-0.64*$G$30)/14*($J$115-7)+$G$30","v":20.5},{"$f":"($G$30-0.64*$G$30)/14*($K$115-7)+$G$30","v":21.142857142857142},{"$f":"($G$30-0.64*$G$30)/14*($L$115-7)+$G$30","v":21.785714285714285},{"$f":"($G$30-0.64*$G$30)/14*($M$115-7)+$G$30","v":22.428571428571427},{"$f":"($G$30-0.64*$G$30)/14*($N$115-7)+$G$30","v":23.071428571428569},{"$f":"($G$30-0.64*$G$30)/14*($O$115-7)+$G$30","v":23.714285714285715},{"$f":"($G$30-0.64*$G$30)/14*($P$115-7)+$G$30","v":24.357142857142858},{"$f":"($G$30-0.64*$G$30)/14*($Q$115-7)+$G$30","v":25},{"$f":"($G$30-0.64*$G$30)/14*($R$115-7)+$G$30","v":25.642857142857142},{"$f":"($G$30-0.64*$G$30)/14*($S$115-7)+$G$30","v":26.285714285714285},{"$f":"($G$30-0.64*$G$30)/14*($T$115-7)+$G$30","v":26.928571428571431},{"$f":"($G$30-0.64*$G$30)/14*($U$115-7)+$G$30","v":27.571428571428573},{"$f":"($G$30-0.64*$G$30)/14*($V$115-7)+$G$30","v":28.214285714285715},{"$f":"($G$30-0.64*$G$30)/14*($W$115-7)+$G$30","v":28.857142857142858},{"$f":"($G$30-0.64*$G$30)/14*($X$115-7)+$G$30","v":29.5},{"$f":"($G$30-0.64*$G$30)/14*($Y$115-7)+$G$30","v":30.142857142857142},{"$f":"($G$30-0.64*$G$30)/14*($Z$115-7)+$G$30","v":30.785714285714285},{"$f":"($G$30-0.64*$G$30)/14*($AA$115-7)+$G$30","v":31.428571428571431},{"$f":"($G$30-0.64*$G$30)/14*($AB$115-7)+$G$30","v":32.071428571428569},{"$f":"($G$30-0.64*$G$30)/14*($AC$115-7)+$G$30","v":32.714285714285715},{"$f":"($G$30-0.64*$G$30)/14*($AD$115-7)+$G$30","v":33.357142857142861},{"$f":"($G$30-0.64*$G$30)/14*($AE$115-7)+$G$30","v":34},{"$f":"($G$30-0.64*$G$30)/14*($AF$115-7)+$G$30","v":34.642857142857146},{"$f":"($G$30-0.64*$G$30)/14*($AG$115-7)+$G$30","v":35.285714285714285},{"$f":"($G$30-0.64*$G$30)/14*($AH$115-7)+$G$30","v":35.928571428571431},{"$f":"($G$30-0.64*$G$30)/14*($AI$115-7)+$G$30","v":36.571428571428569},{"$f":"($G$30-0.64*$G$30)/14*($AJ$115-7)+$G$30","v":37.214285714285715},{"$f":"($G$30-0.64*$G$30)/14*($AK$115-7)+$G$30","v":37.857142857142861},{"$f":"($G$30-0.64*$G$30)/14*($AL$115-7)+$G$30","v":38.5},{"$f":"($G$30-0.64*$G$30)/14*($AM$115-7)+$G$30","v":39.142857142857146},{"$f":"($G$30-0.64*$G$30)/14*($AN$115-7)+$G$30","v":39.785714285714285},{"$f":"($G$30-0.64*$G$30)/14*($AO$115-7)+$G$30","v":40.428571428571431},{"$f":"($G$30-0.64*$G$30)/14*($AP$115-7)+$G$30","v":41.071428571428569},{"$f":"($G$30-0.64*$G$30)/14*($AQ$115-7)+$G$30","v":41.714285714285715},{"$f":"($G$30-0.64*$G$30)/14*($AR$115-7)+$G$30","v":42.357142857142861},{"$f":"($G$30-0.64*$G$30)/14*($AS$115-7)+$G$30","v":43},"暖房能力","Φw"]
[null,"Pw","消費電力",{"$f":"($G$31-0.82*$G$31)/14*($D$115-7)+$G$31","v":5.330285714285715},{"$f":"($G$31-0.82*$G$31)/14*($E$115-7)+$G$31","v":5.4125714285714288},{"$f":"($G$31-0.82*$G$31)/14*($F$115-7)+$G$31","v":5.4948571428571427},{"$f":"($G$31-0.82*$G$31)/14*($G$115-7)+$G$31","v":5.5771428571428574},{"$f":"($G$31-0.82*$G$31)/14*($H$115-7)+$G$31","v":5.6594285714285721},{"$f":"($G$31-0.82*$G$31)/14*($I$115-7)+$G$31","v":5.741714285714286},{"$f":"($G$31-0.82*$G$31)/14*($J$115-7)+$G$31","v":5.8239999999999998},{"$f":"($G$31-0.82*$G$31)/14*($K$115-7)+$G$31","v":5.9062857142857146},{"$f":"($G$31-0.82*$G$31)/14*($L$115-7)+$G$31","v":5.9885714285714293},{"$f":"($G$31-0.82*$G$31)/14*($M$115-7)+$G$31","v":6.0708571428571432},{"$f":"($G$31-0.82*$G$31)/14*($N$115-7)+$G$31","v":6.153142857142857},{"$f":"($G$31-0.82*$G$31)/14*($O$115-7)+$G$31","v":6.2354285714285718},{"$f":"($G$31-0.82*$G$31)/14*($P$115-7)+$G$31","v":6.3177142857142865},{"$f":"($G$31-0.82*$G$31)/14*($Q$115-7)+$G$31","v":6.4},{"$f":"($G$31-0.82*$G$31)/14*($R$115-7)+$G$31","v":6.4822857142857142},{"$f":"($G$31-0.82*$G$31)/14*($S$115-7)+$G$31","v":6.5645714285714289},{"$f":"($G$31-0.82*$G$31)/14*($T$115-7)+$G$31","v":6.6468571428571437},{"$f":"($G$31-0.82*$G$31)/14*($U$115-7)+$G$31","v":6.7291428571428575},{"$f":"($G$31-0.82*$G$31)/14*($V$115-7)+$G$31","v":6.8114285714285714},{"$f":"($G$31-0.82*$G$31)/14*($W$115-7)+$G$31","v":6.8937142857142861},{"$f":"($G$31-0.82*$G$31)/14*($X$115-7)+$G$31","v":6.9760000000000009},{"$f":"($G$31-0.82*$G$31)/14*($Y$115-7)+$G$31","v":7.0582857142857147},{"$f":"($G$31-0.82*$G$31)/14*($Z$115-7)+$G$31","v":7.1405714285714286},{"$f":"($G$31-0.82*$G$31)/14*($AA$115-7)+$G$31","v":7.2228571428571433},{"$f":"($G$31-0.82*$G$31)/14*($AB$115-7)+$G$31","v":7.305142857142858},{"$f":"($G$31-0.82*$G$31)/14*($AC$115-7)+$G$31","v":7.3874285714285719},{"$f":"($G$31-0.82*$G$31)/14*($AD$115-7)+$G$31","v":7.4697142857142858},{"$f":"($G$31-0.82*$G$31)/14*($AE$115-7)+$G$31","v":7.5520000000000005},{"$f":"($G$31-0.82*$G$31)/14*($AF$115-7)+$G$31","v":7.6342857142857152},{"$f":"($G$31-0.82*$G$31)/14*($AG$115-7)+$G$31","v":7.7165714285714291},{"$f":"($G$31-0.82*$G$31)/14*($AH$115-7)+$G$31","v":7.7988571428571429},{"$f":"($G$31-0.82*$G$31)/14*($AI$115-7)+$G$31","v":7.8811428571428577},{"$f":"($G$31-0.82*$G$31)/14*($AJ$115-7)+$G$31","v":7.9634285714285724},{"$f":"($G$31-0.82*$G$31)/14*($AK$115-7)+$G$31","v":8.0457142857142863},{"$f":"($G$31-0.82*$G$31)/14*($AL$115-7)+$G$31","v":8.1280000000000001},{"$f":"($G$31-0.82*$G$31)/14*($AM$115-7)+$G$31","v":8.210285714285714},{"$f":"($G$31-0.82*$G$31)/14*($AN$115-7)+$G$31","v":8.2925714285714296},{"$f":"($G$31-0.82*$G$31)/14*($AO$115-7)+$G$31","v":8.3748571428571434},{"$f":"($G$31-0.82*$G$31)/14*($AP$115-7)+$G$31","v":8.4571428571428573},{"$f":"($G$31-0.82*$G$31)/14*($AQ$115-7)+$G$31","v":8.5394285714285729},{"$f":"($G$31-0.82*$G$31)/14*($AR$115-7)+$G$31","v":8.6217142857142868},{"$f":"($G$31-0.82*$G$31)/14*($AS$115-7)+$G$31","v":8.7040000000000006},"消費電力","Pw"]
[null,"σw","COP",{"$f":"$D$131/$D$132","v":3.1223198970840476},{"$f":"$E$131/$E$132","v":3.1936233108108105},{"$f":"$F$131/$F$132","v":3.2627911813643924},{"$f":"$G$131/$G$132","v":3.3299180327868849},{"$f":"$H$131/$H$132","v":3.3950928917609042},{"$f":"$I$131/$I$132","v":3.4583996815286624},{"$f":"$J$131/$J$132","v":3.5199175824175826},{"$f":"$K$131/$K$132","v":3.579721362229102},{"$f":"$L$131/$L$132","v":3.6378816793893125},{"$f":"$M$131/$M$132","v":3.6944653614457827},{"$f":"$N$131/$N$132","v":3.7495356612184247},{"$f":"$O$131/$O$132","v":3.8031524926686218},{"$f":"$P$131/$P$132","v":3.8553726483357451},{"$f":"$Q$131/$Q$132","v":3.90625},{"$f":"$R$131/$R$132","v":3.955835684062059},{"$f":"$S$131/$S$132","v":4.0041782729805009},{"$f":"$T$131/$T$132","v":4.0513239339752403},{"$f":"$U$131/$U$132","v":4.0973165760869561},{"$f":"$V$131/$V$132","v":4.1421979865771812},{"$f":"$W$131/$W$132","v":4.1860079575596814},{"$f":"$X$131/$X$132","v":4.2287844036697244},{"$f":"$Y$131/$Y$132","v":4.27056347150259},{"$f":"$Z$131/$Z$132","v":4.3113796414852752},{"$f":"$AA$131/$AA$132","v":4.3512658227848098},{"$f":"$AB$131/$AB$132","v":4.3902534418022521},{"$f":"$AC$131/$AC$132","v":4.4283725247524748},{"$f":"$AD$131/$AD$132","v":4.465651774785802},{"$f":"$AE$131/$AE$132","v":4.5021186440677967},{"$f":"$AF$131/$AF$132","v":4.5377994011976046},{"$f":"$AG$131/$AG$132","v":4.5727191943127954},{"$f":"$AH$131/$AH$132","v":4.6069021101992966},{"$f":"$AI$131/$AI$132","v":4.640371229698375},{"$f":"$AJ$131/$AJ$132","v":4.6731486796785298},{"$f":"$AK$131/$AK$132","v":4.7052556818181817},{"$f":"$AL$131/$AL$132","v":4.7367125984251972},{"$f":"$AM$131/$AM$132","v":4.7675389755011137},{"$f":"$AN$131/$AN$132","v":4.7977535832414544},{"$f":"$AO$131/$AO$132","v":4.8273744541484715},{"$f":"$AP$131/$AP$132","v":4.8564189189189184},{"$f":"$AQ$131/$AQ$132","v":4.884903640256959},{"$f":"$AR$131/$AR$132","v":4.9128446447507956},{"$f":"$AS$131/$AS$132","v":4.9402573529411757},"COP","σw"]
[null,"βw","暖房COP比",{"$f":"$D$133/$Q$133","v":0.79931389365351613},{"$f":"$E$133/$Q$133","v":0.81756756756756754},{"$f":"$F$133/$Q$133","v":0.83527454242928445},{"$f":"$G$133/$Q$133","v":0.85245901639344257},{"$f":"$H$133/$Q$133","v":0.86914378029079153},{"$f":"$I$133/$Q$133","v":0.88535031847133761},{"$f":"$J$133/$Q$133","v":0.90109890109890112},{"$f":"$K$133/$Q$133","v":0.91640866873065008},{"$f":"$L$133/$Q$133","v":0.93129770992366401},{"$f":"$M$133/$Q$133","v":0.94578313253012036},{"$f":"$N$133/$Q$133","v":0.95988112927191671},{"$f":"$O$133/$Q$133","v":0.97360703812316718},{"$f":"$P$133/$Q$133","v":0.98697539797395073},{"$f":"$Q$133/$Q$133","v":1},{"$f":"$R$133/$Q$133","v":1.0126939351198871},{"$f":"$S$133/$Q$133","v":1.0250696378830082},{"$f":"$T$133/$Q$133","v":1.0371389270976614},{"$f":"$U$133/$Q$133","v":1.0489130434782608},{"$f":"$V$133/$Q$133","v":1.0604026845637584},{"$f":"$W$133/$Q$133","v":1.0716180371352784},{"$f":"$X$133/$Q$133","v":1.0825688073394495},{"$f":"$Y$133/$Q$133","v":1.0932642487046631},{"$f":"$Z$133/$Q$133","v":1.1037131882202305},{"$f":"$AA$133/$Q$133","v":1.1139240506329113},{"$f":"$AB$133/$Q$133","v":1.1239048811013765},{"$f":"$AC$133/$Q$133","v":1.1336633663366336},{"$f":"$AD$133/$Q$133","v":1.1432068543451652},{"$f":"$AE$133/$Q$133","v":1.152542372881356},{"$f":"$AF$133/$Q$133","v":1.1616766467065869},{"$f":"$AG$133/$Q$133","v":1.1706161137440756},{"$f":"$AH$133/$Q$133","v":1.1793669402110198},{"$f":"$AI$133/$Q$133","v":1.187935034802784},{"$f":"$AJ$133/$Q$133","v":1.1963260619977036},{"$f":"$AK$133/$Q$133","v":1.2045454545454546},{"$f":"$AL$133/$Q$133","v":1.2125984251968505},{"$f":"$AM$133/$Q$133","v":1.2204899777282852},{"$f":"$AN$133/$Q$133","v":1.2282249173098123},{"$f":"$AO$133/$Q$133","v":1.2358078602620086},{"$f":"$AP$133/$Q$133","v":1.2432432432432432},{"$f":"$AQ$133/$Q$133","v":1.2505353319057815},{"$f":"$AR$133/$Q$133","v":1.2576882290562037},{"$f":"$AS$133/$Q$133","v":1.2647058823529409},"暖房COP比","βw"]
[null,"Σ合計",{"$f":"SUM($D$135:$AS$135)","v":0},{"$f":"$D$128*$D$129","v":0},{"$f":"$E$128*$E$129","v":0},{"$f":"$F$128*$F$129","v":0},{"$f":"$G$128*$G$129","v":0},{"$f":"$H$128*$H$129","v":0},{"$f":"$I$128*$I$129","v":0},{"$f":"$J$128*$J$129","v":0},{"$f":"$K$128*$K$129","v":0},{"$f":"$L$128*$L$129","v":0},{"$f":"$M$128*$M$129","v":0},{"$f":"$N$128*$N$129","v":0},{"$f":"$O$128*$O$129","v":0},{"$f":"$P$128*$P$129","v":0},{"$f":"$Q$128*$Q$129","v":0},{"$f":"$R$128*$R$129","v":0},{"$f":"$S$128*$S$129","v":0},{"$f":"$T$128*$T$129","v":0},{"$f":"$U$128*$U$129","v":0},{"$f":"$V$128*$V$129","v":0},{"$f":"$W$128*$W$129","v":0},{"$f":"$X$128*$X$129","v":0},{"$f":"$Y$128*$Y$129","v":0},{"$f":"$Z$128*$Z$129","v":0},{"$f":"$AA$128*$AA$129","v":0},{"$f":"$AB$128*$AB$129","v":0},{"$f":"$AC$128*$AC$129","v":0},{"$f":"$AD$128*$AD$129","v":0},{"$f":"$AE$128*$AE$129","v":0},{"$f":"$AF$128*$AF$129","v":0},{"$f":"$AG$128*$AG$129","v":0},{"$f":"$AH$128*$AH$129","v":0},{"$f":"$AI$128*$AI$129","v":0},{"$f":"$AJ$128*$AJ$129","v":0},{"$f":"$AK$128*$AK$129","v":0},{"$f":"$AL$128*$AL$129","v":0},{"$f":"$AM$128*$AM$129","v":0},{"$f":"$AN$128*$AN$129","v":0},{"$f":"$AO$128*$AO$129","v":0},{"$f":"$AP$128*$AP$129","v":0},{"$f":"$AQ$128*$AQ$129","v":0},{"$f":"$AR$128*$AR$129","v":0},{"$f":"$AS$128*$AS$129","v":0},{"$f":"SUM($D$135:$AS$135)","v":0},{"$f":"SUM(AU116:AU127)","v":0}]

{"sheet":"寒冷地(γ個別入力)","index":21,"n_rows":138,"n_cols":47,"rows_kept":138,"cut":false,"hidden":true,"merged":[[1,2,1,3],[2,2,2,3],[3,2,3,3],[4,33,4,34],[6,2,6,3],[9,3,9,26],[5,2,5,3],[9,30,9,32],[24,3,24,4],[24,7,24,8],[24,9,24,17],[25,3,25,4],[25,7,25,8],[25,9,25,17],[26,3,26,4],[26,7,26,8],[26,9,26,17],[27,3,27,4],[27,7,27,8],[27,9,27,17],[28,3,28,4],[28,7,28,8],[28,9,28,17],[29,3,29,4],[29,7,29,8],[29,9,29,17],[30,3,30,4],[30,7,30,8],[30,9,30,17],[31,3,31,4],[31,7,31,8],[31,9,31,17],[36,3,36,4],[36,7,36,8],[36,9,36,17],[32,3,32,4],[32,7,32,8],[32,9,32,17],[33,3,33,4],[33,7,33,8],[33,9,33,17],[34,3,34,4],[34,7,34,8],[34,9,34,11],[34,12,34,17],[35,3,35,4],[35,7,35,8],[35,9,35,11],[40,2,41,2],[40,3,40,26],[56,2,57,2],[56,3,56,26],[56,27,57,27],[40,27,41,27],[88,46,89,46],[112,3,112,44],[112,46,113,46],[72,2,73,2],[72,3,72,26],[72,27,73,27],[88,3,88,44]]}
[]
[null,null,"EHPの設置場所"]
[null,null,{"$f":"IF('2-1 設備条件シート'!$L$8=\"\",\"\",'2-1 設備条件シート'!$L$8)","v":""},null,null,"手順1：空調を行う月、時間を下記の指定の色で塗る(指定の色以外で塗ると計算できません。)"]
[null,null,{"$f":"VLOOKUP($C$3,γ一覧表!$C$3:$E$50,2,FALSE)","v":{"$error":"#N/A"}},null,null,null,"冷房","青","【左から5列目、一番薄い色(アクセント1,白＋基本色80％)】"]
[null,null,null,null,null,null,"暖房","オレンジ","【左から6番目、一番薄い色(アクセント2,白＋基本色80％)】"]
[null,null,"使用するγ値",null,null,"手順2：各月の運転日数を入力する"]
[null,null,{"$f":"IF('2-1 設備条件シート'!$L$16=\"\",\"---\",IF('2-1 設備条件シート'!$L$16<=1,\"---\",'2-1 設備条件シート'!$L$16))","v":"---"},null,null,"手順3：Ctrl + Alt + F9を同時に押す"]
[null,null,null,null,null,"手順4：黄色のセルに値を入力する(緑は自動計算)"]
[null,null,"時刻別平均気温[℃]",null,null,null,null,null,null,null,null,null,null,null,null,null,null,null,null,null,null,null,null,null,null,null,null,null,null,"電力使用量[kWh]"]
[null,null,null," 時刻",null,null,null,null,null,null,null,null,null,null,null,null,null,null,null,null,null,null,null,null,null,null,null,null,null,null,"期間"]
[null,null,"月",0,1,2,3,4,5,6,7,8,9,10,11,12,13,14,15,16,17,18,19,20,21,22,23,"運転日数",null,"月","冷房","暖房","月合計"]
[null,null,4,{"$f":"IFERROR(INDIRECT($C$4&\"!B5\"),\"\")","v":""},{"$f":"IFERROR(INDIRECT($C$4&\"!C5\"),\"\")","v":""},{"$f":"IFERROR(INDIRECT($C$4&\"!D5\"),\"\")","v":""},{"$f":"IFERROR(INDIRECT($C$4&\"!E5\"),\"\")","v":""},{"$f":"IFERROR(INDIRECT($C$4&\"!F5\"),\"\")","v":""},{"$f":"IFERROR(INDIRECT($C$4&\"!G5\"),\"\")","v":""},{"$f":"IFERROR(INDIRECT($C$4&\"!H5\"),\"\")","v":""},{"$f":"IFERROR(INDIRECT($C$4&\"!I5\"),\"\")","v":""},{"$f":"IFERROR(INDIRECT($C$4&\"!J5\"),\"\")","v":""},{"$f":"IFERROR(INDIRECT($C$4&\"!K5\"),\"\")","v":""},{"$f":"IFERROR(INDIRECT($C$4&\"!L5\"),\"\")","v":""},{"$f":"IFERROR(INDIRECT($C$4&\"!M5\"),\"\")","v":""},{"$f":"IFERROR(INDIRECT($C$4&\"!N5\"),\"\")","v":""},{"$f":"IFERROR(INDIRECT($C$4&\"!O5\"),\"\")","v":""},{"$f":"IFERROR(INDIRECT($C$4&\"!P5\"),\"\")","v":""},{"$f":"IFERROR(INDIRECT($C$4&\"!Q5\"),\"\")","v":""},{"$f":"IFERROR(INDIRECT($C$4&\"!R5\"),\"\")","v":""},{"$f":"IFERROR(INDIRECT($C$4&\"!S5\"),\"\")","v":""},{"$f":"IFERROR(INDIRECT($C$4&\"!T5\"),\"\")","v":""},{"$f":"IFERROR(INDIRECT($C$4&\"!U5\"),\"\")","v":""},{"$f":"IFERROR(INDIRECT($C$4&\"!V5\"),\"\")","v":""},{"$f":"IFERROR(INDIRECT($C$4&\"!W5\"),\"\")","v":""},{"$f":"IFERROR(INDIRECT($C$4&\"!X5\"),\"\")","v":""},{"$f":"IFERROR(INDIRECT($C$4&\"!Y5\"),\"\")","v":""},null,null,4,{"$f":"IFERROR($G$28/($C$7*$G$31)*AU91,\"\")","v":""},{"$f":"IF($C$7=\"---\",\"\",AU115)","v":""},{"$f":"IFERROR($AE$12+$AF$12,\"\")","v":""}]
[null,null,5,{"$f":"IFERROR(INDIRECT($C$4&\"!B6\"),\"\")","v":""},{"$f":"IFERROR(INDIRECT($C$4&\"!C6\"),\"\")","v":""},{"$f":"IFERROR(INDIRECT($C$4&\"!D6\"),\"\")","v":""},{"$f":"IFERROR(INDIRECT($C$4&\"!E6\"),\"\")","v":""},{"$f":"IFERROR(INDIRECT($C$4&\"!F6\"),\"\")","v":""},{"$f":"IFERROR(INDIRECT($C$4&\"!G6\"),\"\")","v":""},{"$f":"IFERROR(INDIRECT($C$4&\"!H6\"),\"\")","v":""},{"$f":"IFERROR(INDIRECT($C$4&\"!I6\"),\"\")","v":""},{"$f":"IFERROR(INDIRECT($C$4&\"!J6\"),\"\")","v":""},{"$f":"IFERROR(INDIRECT($C$4&\"!K6\"),\"\")","v":""},{"$f":"IFERROR(INDIRECT($C$4&\"!L6\"),\"\")","v":""},{"$f":"IFERROR(INDIRECT($C$4&\"!M6\"),\"\")","v":""},{"$f":"IFERROR(INDIRECT($C$4&\"!N6\"),\"\")","v":""},{"$f":"IFERROR(INDIRECT($C$4&\"!O6\"),\"\")","v":""},{"$f":"IFERROR(INDIRECT($C$4&\"!P6\"),\"\")","v":""},{"$f":"IFERROR(INDIRECT($C$4&\"!Q6\"),\"\")","v":""},{"$f":"IFERROR(INDIRECT($C$4&\"!R6\"),\"\")","v":""},{"$f":"IFERROR(INDIRECT($C$4&\"!S6\"),\"\")","v":""},{"$f":"IFERROR(INDIRECT($C$4&\"!T6\"),\"\")","v":""},{"$f":"IFERROR(INDIRECT($C$4&\"!U6\"),\"\")","v":""},{"$f":"IFERROR(INDIRECT($C$4&\"!V6\"),\"\")","v":""},{"$f":"IFERROR(INDIRECT($C$4&\"!W6\"),\"\")","v":""},{"$f":"IFERROR(INDIRECT($C$4&\"!X6\"),\"\")","v":""},{"$f":"IFERROR(INDIRECT($C$4&\"!Y6\"),\"\")","v":""},null,null,5,{"$f":"IFERROR($G$28/($C$7*$G$31)*AU92,\"\")","v":""},{"$f":"IF($C$7=\"---\",\"\",AU116)","v":""},{"$f":"IFERROR($AE$13+$AF$13,\"\")","v":""}]
[null,null,6,{"$f":"IFERROR(INDIRECT($C$4&\"!B7\"),\"\")","v":""},{"$f":"IFERROR(INDIRECT($C$4&\"!C7\"),\"\")","v":""},{"$f":"IFERROR(INDIRECT($C$4&\"!D7\"),\"\")","v":""},{"$f":"IFERROR(INDIRECT($C$4&\"!E7\"),\"\")","v":""},{"$f":"IFERROR(INDIRECT($C$4&\"!F7\"),\"\")","v":""},{"$f":"IFERROR(INDIRECT($C$4&\"!G7\"),\"\")","v":""},{"$f":"IFERROR(INDIRECT($C$4&\"!H7\"),\"\")","v":""},{"$f":"IFERROR(INDIRECT($C$4&\"!I7\"),\"\")","v":""},{"$f":"IFERROR(INDIRECT($C$4&\"!J7\"),\"\")","v":""},{"$f":"IFERROR(INDIRECT($C$4&\"!K7\"),\"\")","v":""},{"$f":"IFERROR(INDIRECT($C$4&\"!L7\"),\"\")","v":""},{"$f":"IFERROR(INDIRECT($C$4&\"!M7\"),\"\")","v":""},{"$f":"IFERROR(INDIRECT($C$4&\"!N7\"),\"\")","v":""},{"$f":"IFERROR(INDIRECT($C$4&\"!O7\"),\"\")","v":""},{"$f":"IFERROR(INDIRECT($C$4&\"!P7\"),\"\")","v":""},{"$f":"IFERROR(INDIRECT($C$4&\"!Q7\"),\"\")","v":""},{"$f":"IFERROR(INDIRECT($C$4&\"!R7\"),\"\")","v":""},{"$f":"IFERROR(INDIRECT($C$4&\"!S7\"),\"\")","v":""},{"$f":"IFERROR(INDIRECT($C$4&\"!T7\"),\"\")","v":""},{"$f":"IFERROR(INDIRECT($C$4&\"!U7\"),\"\")","v":""},{"$f":"IFERROR(INDIRECT($C$4&\"!V7\"),\"\")","v":""},{"$f":"IFERROR(INDIRECT($C$4&\"!W7\"),\"\")","v":""},{"$f":"IFERROR(INDIRECT($C$4&\"!X7\"),\"\")","v":""},{"$f":"IFERROR(INDIRECT($C$4&\"!Y7\"),\"\")","v":""},null,null,6,"","",{"$f":"IFERROR($AE$14+$AF$14,\"\")","v":""}]
[null,null,7,{"$f":"IFERROR(INDIRECT($C$4&\"!B8\"),\"\")","v":""},{"$f":"IFERROR(INDIRECT($C$4&\"!C8\"),\"\")","v":""},{"$f":"IFERROR(INDIRECT($C$4&\"!D8\"),\"\")","v":""},{"$f":"IFERROR(INDIRECT($C$4&\"!E8\"),\"\")","v":""},{"$f":"IFERROR(INDIRECT($C$4&\"!F8\"),\"\")","v":""},{"$f":"IFERROR(INDIRECT($C$4&\"!G8\"),\"\")","v":""},{"$f":"IFERROR(INDIRECT($C$4&\"!H8\"),\"\")","v":""},{"$f":"IFERROR(INDIRECT($C$4&\"!I8\"),\"\")","v":""},{"$f":"IFERROR(INDIRECT($C$4&\"!J8\"),\"\")","v":""},{"$f":"IFERROR(INDIRECT($C$4&\"!K8\"),\"\")","v":""},{"$f":"IFERROR(INDIRECT($C$4&\"!L8\"),\"\")","v":""},{"$f":"IFERROR(INDIRECT($C$4&\"!M8\"),\"\")","v":""},{"$f":"IFERROR(INDIRECT($C$4&\"!N8\"),\"\")","v":""},{"$f":"IFERROR(INDIRECT($C$4&\"!O8\"),\"\")","v":""},{"$f":"IFERROR(INDIRECT($C$4&\"!P8\"),\"\")","v":""},{"$f":"IFERROR(INDIRECT($C$4&\"!Q8\"),\"\")","v":""},{"$f":"IFERROR(INDIRECT($C$4&\"!R8\"),\"\")","v":""},{"$f":"IFERROR(INDIRECT($C$4&\"!S8\"),\"\")","v":""},{"$f":"IFERROR(INDIRECT($C$4&\"!T8\"),\"\")","v":""},{"$f":"IFERROR(INDIRECT($C$4&\"!U8\"),\"\")","v":""},{"$f":"IFERROR(INDIRECT($C$4&\"!V8\"),\"\")","v":""},{"$f":"IFERROR(INDIRECT($C$4&\"!W8\"),\"\")","v":""},{"$f":"IFERROR(INDIRECT($C$4&\"!X8\"),\"\")","v":""},{"$f":"IFERROR(INDIRECT($C$4&\"!Y8\"),\"\")","v":""},null,null,7,"","",{"$f":"IFERROR($AE$15+$AF$15,\"\")","v":""}]
[null,null,8,{"$f":"IFERROR(INDIRECT($C$4&\"!B9\"),\"\")","v":""},{"$f":"IFERROR(INDIRECT($C$4&\"!C9\"),\"\")","v":""},{"$f":"IFERROR(INDIRECT($C$4&\"!D9\"),\"\")","v":""},{"$f":"IFERROR(INDIRECT($C$4&\"!E9\"),\"\")","v":""},{"$f":"IFERROR(INDIRECT($C$4&\"!F9\"),\"\")","v":""},{"$f":"IFERROR(INDIRECT($C$4&\"!G9\"),\"\")","v":""},{"$f":"IFERROR(INDIRECT($C$4&\"!H9\"),\"\")","v":""},{"$f":"IFERROR(INDIRECT($C$4&\"!I9\"),\"\")","v":""},{"$f":"IFERROR(INDIRECT($C$4&\"!J9\"),\"\")","v":""},{"$f":"IFERROR(INDIRECT($C$4&\"!K9\"),\"\")","v":""},{"$f":"IFERROR(INDIRECT($C$4&\"!L9\"),\"\")","v":""},{"$f":"IFERROR(INDIRECT($C$4&\"!M9\"),\"\")","v":""},{"$f":"IFERROR(INDIRECT($C$4&\"!N9\"),\"\")","v":""},{"$f":"IFERROR(INDIRECT($C$4&\"!O9\"),\"\")","v":""},{"$f":"IFERROR(INDIRECT($C$4&\"!P9\"),\"\")","v":""},{"$f":"IFERROR(INDIRECT($C$4&\"!Q9\"),\"\")","v":""},{"$f":"IFERROR(INDIRECT($C$4&\"!R9\"),\"\")","v":""},{"$f":"IFERROR(INDIRECT($C$4&\"!S9\"),\"\")","v":""},{"$f":"IFERROR(INDIRECT($C$4&\"!T9\"),\"\")","v":""},{"$f":"IFERROR(INDIRECT($C$4&\"!U9\"),\"\")","v":""},{"$f":"IFERROR(INDIRECT($C$4&\"!V9\"),\"\")","v":""},{"$f":"IFERROR(INDIRECT($C$4&\"!W9\"),\"\")","v":""},{"$f":"IFERROR(INDIRECT($C$4&\"!X9\"),\"\")","v":""},{"$f":"IFERROR(INDIRECT($C$4&\"!Y9\"),\"\")","v":""},null,null,8,"","",{"$f":"IFERROR($AE$16+$AF$16,\"\")","v":""}]
[null,null,9,{"$f":"IFERROR(INDIRECT($C$4&\"!B10\"),\"\")","v":""},{"$f":"IFERROR(INDIRECT($C$4&\"!C10\"),\"\")","v":""},{"$f":"IFERROR(INDIRECT($C$4&\"!D10\"),\"\")","v":""},{"$f":"IFERROR(INDIRECT($C$4&\"!E10\"),\"\")","v":""},{"$f":"IFERROR(INDIRECT($C$4&\"!F10\"),\"\")","v":""},{"$f":"IFERROR(INDIRECT($C$4&\"!G10\"),\"\")","v":""},{"$f":"IFERROR(INDIRECT($C$4&\"!H10\"),\"\")","v":""},{"$f":"IFERROR(INDIRECT($C$4&\"!I10\"),\"\")","v":""},{"$f":"IFERROR(INDIRECT($C$4&\"!J10\"),\"\")","v":""},{"$f":"IFERROR(INDIRECT($C$4&\"!K10\"),\"\")","v":""},{"$f":"IFERROR(INDIRECT($C$4&\"!L10\"),\"\")","v":""},{"$f":"IFERROR(INDIRECT($C$4&\"!M10\"),\"\")","v":""},{"$f":"IFERROR(INDIRECT($C$4&\"!N10\"),\"\")","v":""},{"$f":"IFERROR(INDIRECT($C$4&\"!O10\"),\"\")","v":""},{"$f":"IFERROR(INDIRECT($C$4&\"!P10\"),\"\")","v":""},{"$f":"IFERROR(INDIRECT($C$4&\"!Q10\"),\"\")","v":""},{"$f":"IFERROR(INDIRECT($C$4&\"!R10\"),\"\")","v":""},{"$f":"IFERROR(INDIRECT($C$4&\"!S10\"),\"\")","v":""},{"$f":"IFERROR(INDIRECT($C$4&\"!T10\"),\"\")","v":""},{"$f":"IFERROR(INDIRECT($C$4&\"!U10\"),\"\")","v":""},{"$f":"IFERROR(INDIRECT($C$4&\"!V10\"),\"\")","v":""},{"$f":"IFERROR(INDIRECT($C$4&\"!W10\"),\"\")","v":""},{"$f":"IFERROR(INDIRECT($C$4&\"!X10\"),\"\")","v":""},{"$f":"IFERROR(INDIRECT($C$4&\"!Y10\"),\"\")","v":""},null,null,9,"","",{"$f":"IFERROR($AE$17+$AF$17,\"\")","v":""}]
[null,null,10,{"$f":"IFERROR(INDIRECT($C$4&\"!B11\"),\"\")","v":""},{"$f":"IFERROR(INDIRECT($C$4&\"!C11\"),\"\")","v":""},{"$f":"IFERROR(INDIRECT($C$4&\"!D11\"),\"\")","v":""},{"$f":"IFERROR(INDIRECT($C$4&\"!E11\"),\"\")","v":""},{"$f":"IFERROR(INDIRECT($C$4&\"!F11\"),\"\")","v":""},{"$f":"IFERROR(INDIRECT($C$4&\"!G11\"),\"\")","v":""},{"$f":"IFERROR(INDIRECT($C$4&\"!H11\"),\"\")","v":""},{"$f":"IFERROR(INDIRECT($C$4&\"!I11\"),\"\")","v":""},{"$f":"IFERROR(INDIRECT($C$4&\"!J11\"),\"\")","v":""},{"$f":"IFERROR(INDIRECT($C$4&\"!K11\"),\"\")","v":""},{"$f":"IFERROR(INDIRECT($C$4&\"!L11\"),\"\")","v":""},{"$f":"IFERROR(INDIRECT($C$4&\"!M11\"),\"\")","v":""},{"$f":"IFERROR(INDIRECT($C$4&\"!N11\"),\"\")","v":""},{"$f":"IFERROR(INDIRECT($C$4&\"!O11\"),\"\")","v":""},{"$f":"IFERROR(INDIRECT($C$4&\"!P11\"),\"\")","v":""},{"$f":"IFERROR(INDIRECT($C$4&\"!Q11\"),\"\")","v":""},{"$f":"IFERROR(INDIRECT($C$4&\"!R11\"),\"\")","v":""},{"$f":"IFERROR(INDIRECT($C$4&\"!S11\"),\"\")","v":""},{"$f":"IFERROR(INDIRECT($C$4&\"!T11\"),\"\")","v":""},{"$f":"IFERROR(INDIRECT($C$4&\"!U11\"),\"\")","v":""},{"$f":"IFERROR(INDIRECT($C$4&\"!V11\"),\"\")","v":""},{"$f":"IFERROR(INDIRECT($C$4&\"!W11\"),\"\")","v":""},{"$f":"IFERROR(INDIRECT($C$4&\"!X11\"),\"\")","v":""},{"$f":"IFERROR(INDIRECT($C$4&\"!Y11\"),\"\")","v":""},null,null,10,"","",{"$f":"IFERROR($AE$18+$AF$18,\"\")","v":""}]
[null,null,11,{"$f":"IFERROR(INDIRECT($C$4&\"!B12\"),\"\")","v":""},{"$f":"IFERROR(INDIRECT($C$4&\"!C12\"),\"\")","v":""},{"$f":"IFERROR(INDIRECT($C$4&\"!D12\"),\"\")","v":""},{"$f":"IFERROR(INDIRECT($C$4&\"!E12\"),\"\")","v":""},{"$f":"IFERROR(INDIRECT($C$4&\"!F12\"),\"\")","v":""},{"$f":"IFERROR(INDIRECT($C$4&\"!G12\"),\"\")","v":""},{"$f":"IFERROR(INDIRECT($C$4&\"!H12\"),\"\")","v":""},{"$f":"IFERROR(INDIRECT($C$4&\"!I12\"),\"\")","v":""},{"$f":"IFERROR(INDIRECT($C$4&\"!J12\"),\"\")","v":""},{"$f":"IFERROR(INDIRECT($C$4&\"!K12\"),\"\")","v":""},{"$f":"IFERROR(INDIRECT($C$4&\"!L12\"),\"\")","v":""},{"$f":"IFERROR(INDIRECT($C$4&\"!M12\"),\"\")","v":""},{"$f":"IFERROR(INDIRECT($C$4&\"!N12\"),\"\")","v":""},{"$f":"IFERROR(INDIRECT($C$4&\"!O12\"),\"\")","v":""},{"$f":"IFERROR(INDIRECT($C$4&\"!P12\"),\"\")","v":""},{"$f":"IFERROR(INDIRECT($C$4&\"!Q12\"),\"\")","v":""},{"$f":"IFERROR(INDIRECT($C$4&\"!R12\"),\"\")","v":""},{"$f":"IFERROR(INDIRECT($C$4&\"!S12\"),\"\")","v":""},{"$f":"IFERROR(INDIRECT($C$4&\"!T12\"),\"\")","v":""},{"$f":"IFERROR(INDIRECT($C$4&\"!U12\"),\"\")","v":""},{"$f":"IFERROR(INDIRECT($C$4&\"!V12\"),\"\")","v":""},{"$f":"IFERROR(INDIRECT($C$4&\"!W12\"),\"\")","v":""},{"$f":"IFERROR(INDIRECT($C$4&\"!X12\"),\"\")","v":""},{"$f":"IFERROR(INDIRECT($C$4&\"!Y12\"),\"\")","v":""},null,null,11,"","",{"$f":"IFERROR($AE$19+$AF$19,\"\")","v":""}]
[null,null,12,{"$f":"IFERROR(INDIRECT($C$4&\"!B13\"),\"\")","v":""},{"$f":"IFERROR(INDIRECT($C$4&\"!C13\"),\"\")","v":""},{"$f":"IFERROR(INDIRECT($C$4&\"!D13\"),\"\")","v":""},{"$f":"IFERROR(INDIRECT($C$4&\"!E13\"),\"\")","v":""},{"$f":"IFERROR(INDIRECT($C$4&\"!F13\"),\"\")","v":""},{"$f":"IFERROR(INDIRECT($C$4&\"!G13\"),\"\")","v":""},{"$f":"IFERROR(INDIRECT($C$4&\"!H13\"),\"\")","v":""},{"$f":"IFERROR(INDIRECT($C$4&\"!I13\"),\"\")","v":""},{"$f":"IFERROR(INDIRECT($C$4&\"!J13\"),\"\")","v":""},{"$f":"IFERROR(INDIRECT($C$4&\"!K13\"),\"\")","v":""},{"$f":"IFERROR(INDIRECT($C$4&\"!L13\"),\"\")","v":""},{"$f":"IFERROR(INDIRECT($C$4&\"!M13\"),\"\")","v":""},{"$f":"IFERROR(INDIRECT($C$4&\"!N13\"),\"\")","v":""},{"$f":"IFERROR(INDIRECT($C$4&\"!O13\"),\"\")","v":""},{"$f":"IFERROR(INDIRECT($C$4&\"!P13\"),\"\")","v":""},{"$f":"IFERROR(INDIRECT($C$4&\"!Q13\"),\"\")","v":""},{"$f":"IFERROR(INDIRECT($C$4&\"!R13\"),\"\")","v":""},{"$f":"IFERROR(INDIRECT($C$4&\"!S13\"),\"\")","v":""},{"$f":"IFERROR(INDIRECT($C$4&\"!T13\"),\"\")","v":""},{"$f":"IFERROR(INDIRECT($C$4&\"!U13\"),\"\")","v":""},{"$f":"IFERROR(INDIRECT($C$4&\"!V13\"),\"\")","v":""},{"$f":"IFERROR(INDIRECT($C$4&\"!W13\"),\"\")","v":""},{"$f":"IFERROR(INDIRECT($C$4&\"!X13\"),\"\")","v":""},{"$f":"IFERROR(INDIRECT($C$4&\"!Y13\"),\"\")","v":""},null,null,12,"","",{"$f":"IFERROR($AE$20+$AF$20,\"\")","v":""}]
[null,null,1,{"$f":"IFERROR(INDIRECT($C$4&\"!B14\"),\"\")","v":""},{"$f":"IFERROR(INDIRECT($C$4&\"!C14\"),\"\")","v":""},{"$f":"IFERROR(INDIRECT($C$4&\"!D14\"),\"\")","v":""},{"$f":"IFERROR(INDIRECT($C$4&\"!E14\"),\"\")","v":""},{"$f":"IFERROR(INDIRECT($C$4&\"!F14\"),\"\")","v":""},{"$f":"IFERROR(INDIRECT($C$4&\"!G14\"),\"\")","v":""},{"$f":"IFERROR(INDIRECT($C$4&\"!H14\"),\"\")","v":""},{"$f":"IFERROR(INDIRECT($C$4&\"!I14\"),\"\")","v":""},{"$f":"IFERROR(INDIRECT($C$4&\"!J14\"),\"\")","v":""},{"$f":"IFERROR(INDIRECT($C$4&\"!K14\"),\"\")","v":""},{"$f":"IFERROR(INDIRECT($C$4&\"!L14\"),\"\")","v":""},{"$f":"IFERROR(INDIRECT($C$4&\"!M14\"),\"\")","v":""},{"$f":"IFERROR(INDIRECT($C$4&\"!N14\"),\"\")","v":""},{"$f":"IFERROR(INDIRECT($C$4&\"!O14\"),\"\")","v":""},{"$f":"IFERROR(INDIRECT($C$4&\"!P14\"),\"\")","v":""},{"$f":"IFERROR(INDIRECT($C$4&\"!Q14\"),\"\")","v":""},{"$f":"IFERROR(INDIRECT($C$4&\"!R14\"),\"\")","v":""},{"$f":"IFERROR(INDIRECT($C$4&\"!S14\"),\"\")","v":""},{"$f":"IFERROR(INDIRECT($C$4&\"!T14\"),\"\")","v":""},{"$f":"IFERROR(INDIRECT($C$4&\"!U14\"),\"\")","v":""},{"$f":"IFERROR(INDIRECT($C$4&\"!V14\"),\"\")","v":""},{"$f":"IFERROR(INDIRECT($C$4&\"!W14\"),\"\")","v":""},{"$f":"IFERROR(INDIRECT($C$4&\"!X14\"),\"\")","v":""},{"$f":"IFERROR(INDIRECT($C$4&\"!Y14\"),\"\")","v":""},null,null,1,"","",{"$f":"IFERROR($AE$21+$AF$21,\"\")","v":""}]
[null,null,2,{"$f":"IFERROR(INDIRECT($C$4&\"!B15\"),\"\")","v":""},{"$f":"IFERROR(INDIRECT($C$4&\"!C15\"),\"\")","v":""},{"$f":"IFERROR(INDIRECT($C$4&\"!D15\"),\"\")","v":""},{"$f":"IFERROR(INDIRECT($C$4&\"!E15\"),\"\")","v":""},{"$f":"IFERROR(INDIRECT($C$4&\"!F15\"),\"\")","v":""},{"$f":"IFERROR(INDIRECT($C$4&\"!G15\"),\"\")","v":""},{"$f":"IFERROR(INDIRECT($C$4&\"!H15\"),\"\")","v":""},{"$f":"IFERROR(INDIRECT($C$4&\"!I15\"),\"\")","v":""},{"$f":"IFERROR(INDIRECT($C$4&\"!J15\"),\"\")","v":""},{"$f":"IFERROR(INDIRECT($C$4&\"!K15\"),\"\")","v":""},{"$f":"IFERROR(INDIRECT($C$4&\"!L15\"),\"\")","v":""},{"$f":"IFERROR(INDIRECT($C$4&\"!M15\"),\"\")","v":""},{"$f":"IFERROR(INDIRECT($C$4&\"!N15\"),\"\")","v":""},{"$f":"IFERROR(INDIRECT($C$4&\"!O15\"),\"\")","v":""},{"$f":"IFERROR(INDIRECT($C$4&\"!P15\"),\"\")","v":""},{"$f":"IFERROR(INDIRECT($C$4&\"!Q15\"),\"\")","v":""},{"$f":"IFERROR(INDIRECT($C$4&\"!R15\"),\"\")","v":""},{"$f":"IFERROR(INDIRECT($C$4&\"!S15\"),\"\")","v":""},{"$f":"IFERROR(INDIRECT($C$4&\"!T15\"),\"\")","v":""},{"$f":"IFERROR(INDIRECT($C$4&\"!U15\"),\"\")","v":""},{"$f":"IFERROR(INDIRECT($C$4&\"!V15\"),\"\")","v":""},{"$f":"IFERROR(INDIRECT($C$4&\"!W15\"),\"\")","v":""},{"$f":"IFERROR(INDIRECT($C$4&\"!X15\"),\"\")","v":""},{"$f":"IFERROR(INDIRECT($C$4&\"!Y15\"),\"\")","v":""},null,null,2,"","",{"$f":"IFERROR($AE$22+$AF$22,\"\")","v":""}]
[null,null,3,{"$f":"IFERROR(INDIRECT($C$4&\"!B16\"),\"\")","v":""},{"$f":"IFERROR(INDIRECT($C$4&\"!C16\"),\"\")","v":""},{"$f":"IFERROR(INDIRECT($C$4&\"!D16\"),\"\")","v":""},{"$f":"IFERROR(INDIRECT($C$4&\"!E16\"),\"\")","v":""},{"$f":"IFERROR(INDIRECT($C$4&\"!F16\"),\"\")","v":""},{"$f":"IFERROR(INDIRECT($C$4&\"!G16\"),\"\")","v":""},{"$f":"IFERROR(INDIRECT($C$4&\"!H16\"),\"\")","v":""},{"$f":"IFERROR(INDIRECT($C$4&\"!I16\"),\"\")","v":""},{"$f":"IFERROR(INDIRECT($C$4&\"!J16\"),\"\")","v":""},{"$f":"IFERROR(INDIRECT($C$4&\"!K16\"),\"\")","v":""},{"$f":"IFERROR(INDIRECT($C$4&\"!L16\"),\"\")","v":""},{"$f":"IFERROR(INDIRECT($C$4&\"!M16\"),\"\")","v":""},{"$f":"IFERROR(INDIRECT($C$4&\"!N16\"),\"\")","v":""},{"$f":"IFERROR(INDIRECT($C$4&\"!O16\"),\"\")","v":""},{"$f":"IFERROR(INDIRECT($C$4&\"!P16\"),\"\")","v":""},{"$f":"IFERROR(INDIRECT($C$4&\"!Q16\"),\"\")","v":""},{"$f":"IFERROR(INDIRECT($C$4&\"!R16\"),\"\")","v":""},{"$f":"IFERROR(INDIRECT($C$4&\"!S16\"),\"\")","v":""},{"$f":"IFERROR(INDIRECT($C$4&\"!T16\"),\"\")","v":""},{"$f":"IFERROR(INDIRECT($C$4&\"!U16\"),\"\")","v":""},{"$f":"IFERROR(INDIRECT($C$4&\"!V16\"),\"\")","v":""},{"$f":"IFERROR(INDIRECT($C$4&\"!W16\"),\"\")","v":""},{"$f":"IFERROR(INDIRECT($C$4&\"!X16\"),\"\")","v":""},{"$f":"IFERROR(INDIRECT($C$4&\"!Y16\"),\"\")","v":""},null,null,3,"","",{"$f":"IFERROR($AE$23+$AF$23,\"\")","v":""}]
[null,null,null,null,null,null,null,null,null,null,null,null,null,null,null,null,null,null,null,"●時刻別平均気温表記載の数値は、選択された都道府県の県庁所在地の月別、時刻別平均気温",null,null,null,null,null,null,null,null,null,"合計",{"$f":"IFERROR(SUM($AE$12:$AE$23),\"\")","v":0},{"$f":"IFERROR(SUM($AF$12:$AF$23),\"\")","v":0},{"$f":"IFERROR(SUM($AG$12:$AG$23),\"\")","v":0}]
[null,null,null,"冷房負荷ゼロ点",null,"Tco",18,"℃",null,"冷房が不要になると思われる外気温度を入力",null,null,null,null,null,null,null,null,null,"●本データは気象庁発表の1992年4月1日から2022年3月31日までの30年の1時間データを整理したもの"]
[null,null,null,"暖房負荷ゼロ点",null,"Two",12,"℃",null,"暖房が不要になると思われる外気温度を入力",null,null,null,null,null,null,null,null,null,"●2月はうるう日を含みます",null,null,null,null,null,null,null,{"$f":"'2-1 設備条件シート'!M3","v":"Ver. 1.1.2"}]
[null,null,null,"暖房設計外気温",null,"Td",-5,"℃",null,"設備設計時に最大暖房負荷計算を行った外気温度(JIS B8616のth100に相当)"]
[null,null,null,"設計暖房能力",null,"Φwd",16,"kW",null,"最大暖房負荷に対して選定した空調機の暖房能力(原則、最大空調負荷に等しい)"]
[null,null,null,"定格冷房能力",null,"Φco",22,"kW",null,"空調機の仕様を入力"]
[null,null,null,"定格冷房消費電力",null,"Pco",6.6,"kW",null,"空調機の仕様を入力"]
[null,null,null,"定格冷房COP",null,"σco",{"$f":"IFERROR($G$29/$G$30,\"\")","v":3.3333333333333335},"σco＝Φco／Pco",null,"自動計算"]
[null,null,null,"定格暖房能力",null,"Φwo",25,"kW",null,"空調機の仕様を入力"]
[null,null,null,"定格暖房消費電力",null,"Pwo",6.4,"kW",null,"空調機の仕様を入力"]
[null,null,null,"定格暖房COP",null,"σwo",{"$f":"IFERROR($G$32/$G$33,\"\")","v":3.90625},"σwo＝Φwo／Pwo",null,"自動計算"]
[null,null,null,"低温暖房能力",null,"Φw2",19.5,"kW",null,"空調機の仕様を入力",null,null,"着霜を考慮した外気温2℃時の空調機の性能"]
[null,null,null,"低温暖房消費電力",null,"Pw2",8.77,"kW",null,"空調機の仕様を入力",null,null,"寒冷地向け空調機では、カタログ等に記載"]
[null,null,null,"低温暖房COP",null,"σw2",{"$f":"IFERROR($G$35/$G$36,\"\")","v":2.2234891676168758},"σw2＝Φw2／Pw2",null,"自動計算"]
[]
[]
[null,null,"作業表1(青色のセルを「24」、オレンジ色のセルを「19」として抽出）"]
[null,null,"月"," 時刻",null,null,null,null,null,null,null,null,null,null,null,null,null,null,null,null,null,null,null,null,null,null,null,"月"]
[null,null,null,0,1,2,3,4,5,6,7,8,9,10,11,12,13,14,15,16,17,18,19,20,21,22,23]
[null,null,4,{"$f":"CELLCOLOR($D$12)","v":-4142},{"$f":"CELLCOLOR($E$12)","v":-4142},{"$f":"CELLCOLOR($F$12)","v":-4142},{"$f":"CELLCOLOR($G$12)","v":-4142},{"$f":"CELLCOLOR($H$12)","v":-4142},{"$f":"CELLCOLOR($I$12)","v":-4142},{"$f":"CELLCOLOR($J$12)","v":-4142},{"$f":"CELLCOLOR($K$12)","v":-4142},{"$f":"CELLCOLOR($L$12)","v":-4142},{"$f":"CELLCOLOR($M$12)","v":-4142},{"$f":"CELLCOLOR($N$12)","v":-4142},{"$f":"CELLCOLOR($O$12)","v":-4142},{"$f":"CELLCOLOR($P$12)","v":-4142},{"$f":"CELLCOLOR($Q$12)","v":-4142},{"$f":"CELLCOLOR($R$12)","v":-4142},{"$f":"CELLCOLOR($S$12)","v":-4142},{"$f":"CELLCOLOR($T$12)","v":-4142},{"$f":"CELLCOLOR($U$12)","v":-4142},{"$f":"CELLCOLOR($V$12)","v":-4142},{"$f":"CELLCOLOR($W$12)","v":-4142},{"$f":"CELLCOLOR($X$12)","v":-4142},{"$f":"CELLCOLOR($Y$12)","v":-4142},{"$f":"CELLCOLOR($Z$12)","v":-4142},{"$f":"CELLCOLOR($AA$12)","v":-4142},4]
[null,null,5,{"$f":"CELLCOLOR($D$13)","v":-4142},{"$f":"CELLCOLOR($E$13)","v":-4142},{"$f":"CELLCOLOR($F$13)","v":-4142},{"$f":"CELLCOLOR($G$13)","v":-4142},{"$f":"CELLCOLOR($H$13)","v":-4142},{"$f":"CELLCOLOR($I$13)","v":-4142},{"$f":"CELLCOLOR($J$13)","v":-4142},{"$f":"CELLCOLOR($K$13)","v":-4142},{"$f":"CELLCOLOR($L$13)","v":-4142},{"$f":"CELLCOLOR($M$13)","v":-4142},{"$f":"CELLCOLOR($N$13)","v":-4142},{"$f":"CELLCOLOR($O$13)","v":-4142},{"$f":"CELLCOLOR($P$13)","v":-4142},{"$f":"CELLCOLOR($Q$13)","v":-4142},{"$f":"CELLCOLOR($R$13)","v":-4142},{"$f":"CELLCOLOR($S$13)","v":-4142},{"$f":"CELLCOLOR($T$13)","v":-4142},{"$f":"CELLCOLOR($U$13)","v":-4142},{"$f":"CELLCOLOR($V$13)","v":-4142},{"$f":"CELLCOLOR($W$13)","v":-4142},{"$f":"CELLCOLOR($X$13)","v":-4142},{"$f":"CELLCOLOR($Y$13)","v":-4142},{"$f":"CELLCOLOR($Z$13)","v":-4142},{"$f":"CELLCOLOR($AA$13)","v":-4142},5]
[null,null,6,{"$f":"CELLCOLOR($D$14)","v":-4142},{"$f":"CELLCOLOR($E$14)","v":-4142},{"$f":"CELLCOLOR($F$14)","v":-4142},{"$f":"CELLCOLOR($G$14)","v":-4142},{"$f":"CELLCOLOR($H$14)","v":-4142},{"$f":"CELLCOLOR($I$14)","v":-4142},{"$f":"CELLCOLOR($J$14)","v":-4142},{"$f":"CELLCOLOR($K$14)","v":-4142},{"$f":"CELLCOLOR($L$14)","v":-4142},{"$f":"CELLCOLOR($M$14)","v":-4142},{"$f":"CELLCOLOR($N$14)","v":-4142},{"$f":"CELLCOLOR($O$14)","v":-4142},{"$f":"CELLCOLOR($P$14)","v":-4142},{"$f":"CELLCOLOR($Q$14)","v":-4142},{"$f":"CELLCOLOR($R$14)","v":-4142},{"$f":"CELLCOLOR($S$14)","v":-4142},{"$f":"CELLCOLOR($T$14)","v":-4142},{"$f":"CELLCOLOR($U$14)","v":-4142},{"$f":"CELLCOLOR($V$14)","v":-4142},{"$f":"CELLCOLOR($W$14)","v":-4142},{"$f":"CELLCOLOR($X$14)","v":-4142},{"$f":"CELLCOLOR($Y$14)","v":-4142},{"$f":"CELLCOLOR($Z$14)","v":-4142},{"$f":"CELLCOLOR($AA$14)","v":-4142},6]
[null,null,7,{"$f":"CELLCOLOR($D$15)","v":-4142},{"$f":"CELLCOLOR($E$15)","v":-4142},{"$f":"CELLCOLOR($F$15)","v":-4142},{"$f":"CELLCOLOR($G$15)","v":-4142},{"$f":"CELLCOLOR($H$15)","v":-4142},{"$f":"CELLCOLOR($I$15)","v":-4142},{"$f":"CELLCOLOR($J$15)","v":-4142},{"$f":"CELLCOLOR($K$15)","v":-4142},{"$f":"CELLCOLOR($L$15)","v":-4142},{"$f":"CELLCOLOR($M$15)","v":-4142},{"$f":"CELLCOLOR($N$15)","v":-4142},{"$f":"CELLCOLOR($O$15)","v":-4142},{"$f":"CELLCOLOR($P$15)","v":-4142},{"$f":"CELLCOLOR($Q$15)","v":-4142},{"$f":"CELLCOLOR($R$15)","v":-4142},{"$f":"CELLCOLOR($S$15)","v":-4142},{"$f":"CELLCOLOR($T$15)","v":-4142},{"$f":"CELLCOLOR($U$15)","v":-4142},{"$f":"CELLCOLOR($V$15)","v":-4142},{"$f":"CELLCOLOR($W$15)","v":-4142},{"$f":"CELLCOLOR($X$15)","v":-4142},{"$f":"CELLCOLOR($Y$15)","v":-4142},{"$f":"CELLCOLOR($Z$15)","v":-4142},{"$f":"CELLCOLOR($AA$15)","v":-4142},7]
[null,null,8,{"$f":"CELLCOLOR($D$16)","v":-4142},{"$f":"CELLCOLOR($E$16)","v":-4142},{"$f":"CELLCOLOR($F$16)","v":-4142},{"$f":"CELLCOLOR($G$16)","v":-4142},{"$f":"CELLCOLOR($H$16)","v":-4142},{"$f":"CELLCOLOR($I$16)","v":-4142},{"$f":"CELLCOLOR($J$16)","v":-4142},{"$f":"CELLCOLOR($K$16)","v":-4142},{"$f":"CELLCOLOR($L$16)","v":-4142},{"$f":"CELLCOLOR($M$16)","v":-4142},{"$f":"CELLCOLOR($N$16)","v":-4142},{"$f":"CELLCOLOR($O$16)","v":-4142},{"$f":"CELLCOLOR($P$16)","v":-4142},{"$f":"CELLCOLOR($Q$16)","v":-4142},{"$f":"CELLCOLOR($R$16)","v":-4142},{"$f":"CELLCOLOR($S$16)","v":-4142},{"$f":"CELLCOLOR($T$16)","v":-4142},{"$f":"CELLCOLOR($U$16)","v":-4142},{"$f":"CELLCOLOR($V$16)","v":-4142},{"$f":"CELLCOLOR($W$16)","v":-4142},{"$f":"CELLCOLOR($X$16)","v":-4142},{"$f":"CELLCOLOR($Y$16)","v":-4142},{"$f":"CELLCOLOR($Z$16)","v":-4142},{"$f":"CELLCOLOR($AA$16)","v":-4142},8]
[null,null,9,{"$f":"CELLCOLOR($D$17)","v":-4142},{"$f":"CELLCOLOR($E$17)","v":-4142},{"$f":"CELLCOLOR($F$17)","v":-4142},{"$f":"CELLCOLOR($G$17)","v":-4142},{"$f":"CELLCOLOR($H$17)","v":-4142},{"$f":"CELLCOLOR($I$17)","v":-4142},{"$f":"CELLCOLOR($J$17)","v":-4142},{"$f":"CELLCOLOR($K$17)","v":-4142},{"$f":"CELLCOLOR($L$17)","v":-4142},{"$f":"CELLCOLOR($M$17)","v":-4142},{"$f":"CELLCOLOR($N$17)","v":-4142},{"$f":"CELLCOLOR($O$17)","v":-4142},{"$f":"CELLCOLOR($P$17)","v":-4142},{"$f":"CELLCOLOR($Q$17)","v":-4142},{"$f":"CELLCOLOR($R$17)","v":-4142},{"$f":"CELLCOLOR($S$17)","v":-4142},{"$f":"CELLCOLOR($T$17)","v":-4142},{"$f":"CELLCOLOR($U$17)","v":-4142},{"$f":"CELLCOLOR($V$17)","v":-4142},{"$f":"CELLCOLOR($W$17)","v":-4142},{"$f":"CELLCOLOR($X$17)","v":-4142},{"$f":"CELLCOLOR($Y$17)","v":-4142},{"$f":"CELLCOLOR($Z$17)","v":-4142},{"$f":"CELLCOLOR($AA$17)","v":-4142},9]
[null,null,10,{"$f":"CELLCOLOR($D$18)","v":-4142},{"$f":"CELLCOLOR($E$18)","v":-4142},{"$f":"CELLCOLOR($F$18)","v":-4142},{"$f":"CELLCOLOR($G$18)","v":-4142},{"$f":"CELLCOLOR($H$18)","v":-4142},{"$f":"CELLCOLOR($I$18)","v":-4142},{"$f":"CELLCOLOR($J$18)","v":-4142},{"$f":"CELLCOLOR($K$18)","v":-4142},{"$f":"CELLCOLOR($L$18)","v":-4142},{"$f":"CELLCOLOR($M$18)","v":-4142},{"$f":"CELLCOLOR($N$18)","v":-4142},{"$f":"CELLCOLOR($O$18)","v":-4142},{"$f":"CELLCOLOR($P$18)","v":-4142},{"$f":"CELLCOLOR($Q$18)","v":-4142},{"$f":"CELLCOLOR($R$18)","v":-4142},{"$f":"CELLCOLOR($S$18)","v":-4142},{"$f":"CELLCOLOR($T$18)","v":-4142},{"$f":"CELLCOLOR($U$18)","v":-4142},{"$f":"CELLCOLOR($V$18)","v":-4142},{"$f":"CELLCOLOR($W$18)","v":-4142},{"$f":"CELLCOLOR($X$18)","v":-4142},{"$f":"CELLCOLOR($Y$18)","v":-4142},{"$f":"CELLCOLOR($Z$18)","v":-4142},{"$f":"CELLCOLOR($AA$18)","v":-4142},10]
[null,null,11,{"$f":"CELLCOLOR($D$19)","v":-4142},{"$f":"CELLCOLOR($E$19)","v":-4142},{"$f":"CELLCOLOR($F$19)","v":-4142},{"$f":"CELLCOLOR($G$19)","v":-4142},{"$f":"CELLCOLOR($H$19)","v":-4142},{"$f":"CELLCOLOR($I$19)","v":-4142},{"$f":"CELLCOLOR($J$19)","v":-4142},{"$f":"CELLCOLOR($K$19)","v":-4142},{"$f":"CELLCOLOR($L$19)","v":-4142},{"$f":"CELLCOLOR($M$19)","v":-4142},{"$f":"CELLCOLOR($N$19)","v":-4142},{"$f":"CELLCOLOR($O$19)","v":-4142},{"$f":"CELLCOLOR($P$19)","v":-4142},{"$f":"CELLCOLOR($Q$19)","v":-4142},{"$f":"CELLCOLOR($R$19)","v":-4142},{"$f":"CELLCOLOR($S$19)","v":-4142},{"$f":"CELLCOLOR($T$19)","v":-4142},{"$f":"CELLCOLOR($U$19)","v":-4142},{"$f":"CELLCOLOR($V$19)","v":-4142},{"$f":"CELLCOLOR($W$19)","v":-4142},{"$f":"CELLCOLOR($X$19)","v":-4142},{"$f":"CELLCOLOR($Y$19)","v":-4142},{"$f":"CELLCOLOR($Z$19)","v":-4142},{"$f":"CELLCOLOR($AA$19)","v":-4142},11]
[null,null,12,{"$f":"CELLCOLOR($D$20)","v":-4142},{"$f":"CELLCOLOR($E$20)","v":-4142},{"$f":"CELLCOLOR($F$20)","v":-4142},{"$f":"CELLCOLOR($G$20)","v":-4142},{"$f":"CELLCOLOR($H$20)","v":-4142},{"$f":"CELLCOLOR($I$20)","v":-4142},{"$f":"CELLCOLOR($J$20)","v":-4142},{"$f":"CELLCOLOR($K$20)","v":-4142},{"$f":"CELLCOLOR($L$20)","v":-4142},{"$f":"CELLCOLOR($M$20)","v":-4142},{"$f":"CELLCOLOR($N$20)","v":-4142},{"$f":"CELLCOLOR($O$20)","v":-4142},{"$f":"CELLCOLOR($P$20)","v":-4142},{"$f":"CELLCOLOR($Q$20)","v":-4142},{"$f":"CELLCOLOR($R$20)","v":-4142},{"$f":"CELLCOLOR($S$20)","v":-4142},{"$f":"CELLCOLOR($T$20)","v":-4142},{"$f":"CELLCOLOR($U$20)","v":-4142},{"$f":"CELLCOLOR($V$20)","v":-4142},{"$f":"CELLCOLOR($W$20)","v":-4142},{"$f":"CELLCOLOR($X$20)","v":-4142},{"$f":"CELLCOLOR($Y$20)","v":-4142},{"$f":"CELLCOLOR($Z$20)","v":-4142},{"$f":"CELLCOLOR($AA$20)","v":-4142},12]
[null,null,1,{"$f":"CELLCOLOR($D$21)","v":-4142},{"$f":"CELLCOLOR($E$21)","v":-4142},{"$f":"CELLCOLOR($F$21)","v":-4142},{"$f":"CELLCOLOR($G$21)","v":-4142},{"$f":"CELLCOLOR($H$21)","v":-4142},{"$f":"CELLCOLOR($I$21)","v":-4142},{"$f":"CELLCOLOR($J$21)","v":-4142},{"$f":"CELLCOLOR($K$21)","v":-4142},{"$f":"CELLCOLOR($L$21)","v":-4142},{"$f":"CELLCOLOR($M$21)","v":-4142},{"$f":"CELLCOLOR($N$21)","v":-4142},{"$f":"CELLCOLOR($O$21)","v":-4142},{"$f":"CELLCOLOR($P$21)","v":-4142},{"$f":"CELLCOLOR($Q$21)","v":-4142},{"$f":"CELLCOLOR($R$21)","v":-4142},{"$f":"CELLCOLOR($S$21)","v":-4142},{"$f":"CELLCOLOR($T$21)","v":-4142},{"$f":"CELLCOLOR($U$21)","v":-4142},{"$f":"CELLCOLOR($V$21)","v":-4142},{"$f":"CELLCOLOR($W$21)","v":-4142},{"$f":"CELLCOLOR($X$21)","v":-4142},{"$f":"CELLCOLOR($Y$21)","v":-4142},{"$f":"CELLCOLOR($Z$21)","v":-4142},{"$f":"CELLCOLOR($AA$21)","v":-4142},1]
[null,null,2,{"$f":"CELLCOLOR($D$22)","v":-4142},{"$f":"CELLCOLOR($E$22)","v":-4142},{"$f":"CELLCOLOR($F$22)","v":-4142},{"$f":"CELLCOLOR($G$22)","v":-4142},{"$f":"CELLCOLOR($H$22)","v":-4142},{"$f":"CELLCOLOR($I$22)","v":-4142},{"$f":"CELLCOLOR($J$22)","v":-4142},{"$f":"CELLCOLOR($K$22)","v":-4142},{"$f":"CELLCOLOR($L$22)","v":-4142},{"$f":"CELLCOLOR($M$22)","v":-4142},{"$f":"CELLCOLOR($N$22)","v":-4142},{"$f":"CELLCOLOR($O$22)","v":-4142},{"$f":"CELLCOLOR($P$22)","v":-4142},{"$f":"CELLCOLOR($Q$22)","v":-4142},{"$f":"CELLCOLOR($R$22)","v":-4142},{"$f":"CELLCOLOR($S$22)","v":-4142},{"$f":"CELLCOLOR($T$22)","v":-4142},{"$f":"CELLCOLOR($U$22)","v":-4142},{"$f":"CELLCOLOR($V$22)","v":-4142},{"$f":"CELLCOLOR($W$22)","v":-4142},{"$f":"CELLCOLOR($X$22)","v":-4142},{"$f":"CELLCOLOR($Y$22)","v":-4142},{"$f":"CELLCOLOR($Z$22)","v":-4142},{"$f":"CELLCOLOR($AA$22)","v":-4142},2]
[null,null,3,{"$f":"CELLCOLOR($D$23)","v":-4142},{"$f":"CELLCOLOR($E$23)","v":-4142},{"$f":"CELLCOLOR($F$23)","v":-4142},{"$f":"CELLCOLOR($G$23)","v":-4142},{"$f":"CELLCOLOR($H$23)","v":-4142},{"$f":"CELLCOLOR($I$23)","v":-4142},{"$f":"CELLCOLOR($J$23)","v":-4142},{"$f":"CELLCOLOR($K$23)","v":-4142},{"$f":"CELLCOLOR($L$23)","v":-4142},{"$f":"CELLCOLOR($M$23)","v":-4142},{"$f":"CELLCOLOR($N$23)","v":-4142},{"$f":"CELLCOLOR($O$23)","v":-4142},{"$f":"CELLCOLOR($P$23)","v":-4142},{"$f":"CELLCOLOR($Q$23)","v":-4142},{"$f":"CELLCOLOR($R$23)","v":-4142},{"$f":"CELLCOLOR($S$23)","v":-4142},{"$f":"CELLCOLOR($T$23)","v":-4142},{"$f":"CELLCOLOR($U$23)","v":-4142},{"$f":"CELLCOLOR($V$23)","v":-4142},{"$f":"CELLCOLOR($W$23)","v":-4142},{"$f":"CELLCOLOR($X$23)","v":-4142},{"$f":"CELLCOLOR($Y$23)","v":-4142},{"$f":"CELLCOLOR($Z$23)","v":-4142},{"$f":"CELLCOLOR($AA$23)","v":-4142},3]
[]
[null,null,"作業表2-1(冷房)",null,"●月▲時の平均気温(四捨五入で表示）"]
[null,null,"月"," 時刻",null,null,null,null,null,null,null,null,null,null,null,null,null,null,null,null,null,null,null,null,null,null,null,"月"]
[null,null,null,0,1,2,3,4,5,6,7,8,9,10,11,12,13,14,15,16,17,18,19,20,21,22,23]
[null,null,4,{"$f":"IF($D$43=24,ROUND($D$12,0),\"\")&\"\"","v":""},{"$f":"IF($E$43=24,ROUND($E$12,0),\"\")&\"\"","v":""},{"$f":"IF($F$43=24,ROUND($F$12,0),\"\")&\"\"","v":""},{"$f":"IF($G$43=24,ROUND($G$12,0),\"\")&\"\"","v":""},{"$f":"IF($H$43=24,ROUND($H$12,0),\"\")&\"\"","v":""},{"$f":"IF($I$43=24,ROUND($I$12,0),\"\")&\"\"","v":""},{"$f":"IF($J$43=24,ROUND($J$12,0),\"\")&\"\"","v":""},{"$f":"IF($K$43=24,ROUND($K$12,0),\"\")&\"\"","v":""},{"$f":"IF($L$43=24,ROUND($L$12,0),\"\")&\"\"","v":""},{"$f":"IF($M$43=24,ROUND($M$12,0),\"\")&\"\"","v":""},{"$f":"IF($N$43=24,ROUND($N$12,0),\"\")&\"\"","v":""},{"$f":"IF($O$43=24,ROUND($O$12,0),\"\")&\"\"","v":""},{"$f":"IF($P$43=24,ROUND($P$12,0),\"\")&\"\"","v":""},{"$f":"IF($Q$43=24,ROUND($Q$12,0),\"\")&\"\"","v":""},{"$f":"IF($R$43=24,ROUND($R$12,0),\"\")&\"\"","v":""},{"$f":"IF($S$43=24,ROUND($S$12,0),\"\")&\"\"","v":""},{"$f":"IF($T$43=24,ROUND($T$12,0),\"\")&\"\"","v":""},{"$f":"IF($U$43=24,ROUND($U$12,0),\"\")&\"\"","v":""},{"$f":"IF($V$43=24,ROUND($V$12,0),\"\")&\"\"","v":""},{"$f":"IF($W$43=24,ROUND($W$12,0),\"\")&\"\"","v":""},{"$f":"IF($X$43=24,ROUND($X$12,0),\"\")&\"\"","v":""},{"$f":"IF($Y$43=24,ROUND($Y$12,0),\"\")&\"\"","v":""},{"$f":"IF($Z$43=24,ROUND($Z$12,0),\"\")&\"\"","v":""},{"$f":"IF($AA$43=24,ROUND($AA$12,0),\"\")&\"\"","v":""},4]
[null,null,5,{"$f":"IF($D$44=24,ROUND($D$13,0),\"\")&\"\"","v":""},{"$f":"IF($E$44=24,ROUND($E$13,0),\"\")&\"\"","v":""},{"$f":"IF($F$44=24,ROUND($F$13,0),\"\")&\"\"","v":""},{"$f":"IF($G$44=24,ROUND($G$13,0),\"\")&\"\"","v":""},{"$f":"IF($H$44=24,ROUND($H$13,0),\"\")&\"\"","v":""},{"$f":"IF($I$44=24,ROUND($I$13,0),\"\")&\"\"","v":""},{"$f":"IF($J$44=24,ROUND($J$13,0),\"\")&\"\"","v":""},{"$f":"IF($K$44=24,ROUND($K$13,0),\"\")&\"\"","v":""},{"$f":"IF($L$44=24,ROUND($L$13,0),\"\")&\"\"","v":""},{"$f":"IF($M$44=24,ROUND($M$13,0),\"\")&\"\"","v":""},{"$f":"IF($N$44=24,ROUND($N$13,0),\"\")&\"\"","v":""},{"$f":"IF($O$44=24,ROUND($O$13,0),\"\")&\"\"","v":""},{"$f":"IF($P$44=24,ROUND($P$13,0),\"\")&\"\"","v":""},{"$f":"IF($Q$44=24,ROUND($Q$13,0),\"\")&\"\"","v":""},{"$f":"IF($R$44=24,ROUND($R$13,0),\"\")&\"\"","v":""},{"$f":"IF($S$44=24,ROUND($S$13,0),\"\")&\"\"","v":""},{"$f":"IF($T$44=24,ROUND($T$13,0),\"\")&\"\"","v":""},{"$f":"IF($U$44=24,ROUND($U$13,0),\"\")&\"\"","v":""},{"$f":"IF($V$44=24,ROUND($V$13,0),\"\")&\"\"","v":""},{"$f":"IF($W$44=24,ROUND($W$13,0),\"\")&\"\"","v":""},{"$f":"IF($X$44=24,ROUND($X$13,0),\"\")&\"\"","v":""},{"$f":"IF($Y$44=24,ROUND($Y$13,0),\"\")&\"\"","v":""},{"$f":"IF($Z$44=24,ROUND($Z$13,0),\"\")&\"\"","v":""},{"$f":"IF($AA$44=24,ROUND($AA$13,0),\"\")&\"\"","v":""},5]
[null,null,6,{"$f":"IF($D$45=24,ROUND($D$14,0),\"\")&\"\"","v":""},{"$f":"IF($E$45=24,ROUND($E$14,0),\"\")&\"\"","v":""},{"$f":"IF($F$45=24,ROUND($F$14,0),\"\")&\"\"","v":""},{"$f":"IF($G$45=24,ROUND($G$14,0),\"\")&\"\"","v":""},{"$f":"IF($H$45=24,ROUND($H$14,0),\"\")&\"\"","v":""},{"$f":"IF($I$45=24,ROUND($I$14,0),\"\")&\"\"","v":""},{"$f":"IF($J$45=24,ROUND($J$14,0),\"\")&\"\"","v":""},{"$f":"IF($K$45=24,ROUND($K$14,0),\"\")&\"\"","v":""},{"$f":"IF($L$45=24,ROUND($L$14,0),\"\")&\"\"","v":""},{"$f":"IF($M$45=24,ROUND($M$14,0),\"\")&\"\"","v":""},{"$f":"IF($N$45=24,ROUND($N$14,0),\"\")&\"\"","v":""},{"$f":"IF($O$45=24,ROUND($O$14,0),\"\")&\"\"","v":""},{"$f":"IF($P$45=24,ROUND($P$14,0),\"\")&\"\"","v":""},{"$f":"IF($Q$45=24,ROUND($Q$14,0),\"\")&\"\"","v":""},{"$f":"IF($R$45=24,ROUND($R$14,0),\"\")&\"\"","v":""},{"$f":"IF($S$45=24,ROUND($S$14,0),\"\")&\"\"","v":""},{"$f":"IF($T$45=24,ROUND($T$14,0),\"\")&\"\"","v":""},{"$f":"IF($U$45=24,ROUND($U$14,0),\"\")&\"\"","v":""},{"$f":"IF($V$45=24,ROUND($V$14,0),\"\")&\"\"","v":""},{"$f":"IF($W$45=24,ROUND($W$14,0),\"\")&\"\"","v":""},{"$f":"IF($X$45=24,ROUND($X$14,0),\"\")&\"\"","v":""},{"$f":"IF($Y$45=24,ROUND($Y$14,0),\"\")&\"\"","v":""},{"$f":"IF($Z$45=24,ROUND($Z$14,0),\"\")&\"\"","v":""},{"$f":"IF($AA$45=24,ROUND($AA$14,0),\"\")&\"\"","v":""},6]
[null,null,7,{"$f":"IF($D$46=24,ROUND($D$15,0),\"\")&\"\"","v":""},{"$f":"IF($E$46=24,ROUND($E$15,0),\"\")&\"\"","v":""},{"$f":"IF($F$46=24,ROUND($F$15,0),\"\")&\"\"","v":""},{"$f":"IF($G$46=24,ROUND($G$15,0),\"\")&\"\"","v":""},{"$f":"IF($H$46=24,ROUND($H$15,0),\"\")&\"\"","v":""},{"$f":"IF($I$46=24,ROUND($I$15,0),\"\")&\"\"","v":""},{"$f":"IF($J$46=24,ROUND($J$15,0),\"\")&\"\"","v":""},{"$f":"IF($K$46=24,ROUND($K$15,0),\"\")&\"\"","v":""},{"$f":"IF($L$46=24,ROUND($L$15,0),\"\")&\"\"","v":""},{"$f":"IF($M$46=24,ROUND($M$15,0),\"\")&\"\"","v":""},{"$f":"IF($N$46=24,ROUND($N$15,0),\"\")&\"\"","v":""},{"$f":"IF($O$46=24,ROUND($O$15,0),\"\")&\"\"","v":""},{"$f":"IF($P$46=24,ROUND($P$15,0),\"\")&\"\"","v":""},{"$f":"IF($Q$46=24,ROUND($Q$15,0),\"\")&\"\"","v":""},{"$f":"IF($R$46=24,ROUND($R$15,0),\"\")&\"\"","v":""},{"$f":"IF($S$46=24,ROUND($S$15,0),\"\")&\"\"","v":""},{"$f":"IF($T$46=24,ROUND($T$15,0),\"\")&\"\"","v":""},{"$f":"IF($U$46=24,ROUND($U$15,0),\"\")&\"\"","v":""},{"$f":"IF($V$46=24,ROUND($V$15,0),\"\")&\"\"","v":""},{"$f":"IF($W$46=24,ROUND($W$15,0),\"\")&\"\"","v":""},{"$f":"IF($X$46=24,ROUND($X$15,0),\"\")&\"\"","v":""},{"$f":"IF($Y$46=24,ROUND($Y$15,0),\"\")&\"\"","v":""},{"$f":"IF($Z$46=24,ROUND($Z$15,0),\"\")&\"\"","v":""},{"$f":"IF($AA$46=24,ROUND($AA$15,0),\"\")&\"\"","v":""},7]
[null,null,8,{"$f":"IF($D$47=24,ROUND($D$16,0),\"\")&\"\"","v":""},{"$f":"IF($E$47=24,ROUND($E$16,0),\"\")&\"\"","v":""},{"$f":"IF($F$47=24,ROUND($F$16,0),\"\")&\"\"","v":""},{"$f":"IF($G$47=24,ROUND($G$16,0),\"\")&\"\"","v":""},{"$f":"IF($H$47=24,ROUND($H$16,0),\"\")&\"\"","v":""},{"$f":"IF($I$47=24,ROUND($I$16,0),\"\")&\"\"","v":""},{"$f":"IF($J$47=24,ROUND($J$16,0),\"\")&\"\"","v":""},{"$f":"IF($K$47=24,ROUND($K$16,0),\"\")&\"\"","v":""},{"$f":"IF($L$47=24,ROUND($L$16,0),\"\")&\"\"","v":""},{"$f":"IF($M$47=24,ROUND($M$16,0),\"\")&\"\"","v":""},{"$f":"IF($N$47=24,ROUND($N$16,0),\"\")&\"\"","v":""},{"$f":"IF($O$47=24,ROUND($O$16,0),\"\")&\"\"","v":""},{"$f":"IF($P$47=24,ROUND($P$16,0),\"\")&\"\"","v":""},{"$f":"IF($Q$47=24,ROUND($Q$16,0),\"\")&\"\"","v":""},{"$f":"IF($R$47=24,ROUND($R$16,0),\"\")&\"\"","v":""},{"$f":"IF($S$47=24,ROUND($S$16,0),\"\")&\"\"","v":""},{"$f":"IF($T$47=24,ROUND($T$16,0),\"\")&\"\"","v":""},{"$f":"IF($U$47=24,ROUND($U$16,0),\"\")&\"\"","v":""},{"$f":"IF($V$47=24,ROUND($V$16,0),\"\")&\"\"","v":""},{"$f":"IF($W$47=24,ROUND($W$16,0),\"\")&\"\"","v":""},{"$f":"IF($X$47=24,ROUND($X$16,0),\"\")&\"\"","v":""},{"$f":"IF($Y$47=24,ROUND($Y$16,0),\"\")&\"\"","v":""},{"$f":"IF($Z$47=24,ROUND($Z$16,0),\"\")&\"\"","v":""},{"$f":"IF($AA$47=24,ROUND($AA$16,0),\"\")&\"\"","v":""},8]
[null,null,9,{"$f":"IF($D$48=24,ROUND($D$17,0),\"\")&\"\"","v":""},{"$f":"IF($E$48=24,ROUND($E$17,0),\"\")&\"\"","v":""},{"$f":"IF($F$48=24,ROUND($F$17,0),\"\")&\"\"","v":""},{"$f":"IF($G$48=24,ROUND($G$17,0),\"\")&\"\"","v":""},{"$f":"IF($H$48=24,ROUND($H$17,0),\"\")&\"\"","v":""},{"$f":"IF($I$48=24,ROUND($I$17,0),\"\")&\"\"","v":""},{"$f":"IF($J$48=24,ROUND($J$17,0),\"\")&\"\"","v":""},{"$f":"IF($K$48=24,ROUND($K$17,0),\"\")&\"\"","v":""},{"$f":"IF($L$48=24,ROUND($L$17,0),\"\")&\"\"","v":""},{"$f":"IF($M$48=24,ROUND($M$17,0),\"\")&\"\"","v":""},{"$f":"IF($N$48=24,ROUND($N$17,0),\"\")&\"\"","v":""},{"$f":"IF($O$48=24,ROUND($O$17,0),\"\")&\"\"","v":""},{"$f":"IF($P$48=24,ROUND($P$17,0),\"\")&\"\"","v":""},{"$f":"IF($Q$48=24,ROUND($Q$17,0),\"\")&\"\"","v":""},{"$f":"IF($R$48=24,ROUND($R$17,0),\"\")&\"\"","v":""},{"$f":"IF($S$48=24,ROUND($S$17,0),\"\")&\"\"","v":""},{"$f":"IF($T$48=24,ROUND($T$17,0),\"\")&\"\"","v":""},{"$f":"IF($U$48=24,ROUND($U$17,0),\"\")&\"\"","v":""},{"$f":"IF($V$48=24,ROUND($V$17,0),\"\")&\"\"","v":""},{"$f":"IF($W$48=24,ROUND($W$17,0),\"\")&\"\"","v":""},{"$f":"IF($X$48=24,ROUND($X$17,0),\"\")&\"\"","v":""},{"$f":"IF($Y$48=24,ROUND($Y$17,0),\"\")&\"\"","v":""},{"$f":"IF($Z$48=24,ROUND($Z$17,0),\"\")&\"\"","v":""},{"$f":"IF($AA$48=24,ROUND($AA$17,0),\"\")&\"\"","v":""},9]
[null,null,10,{"$f":"IF($D$49=24,ROUND($D$18,0),\"\")&\"\"","v":""},{"$f":"IF($E$49=24,ROUND($E$18,0),\"\")&\"\"","v":""},{"$f":"IF($F$49=24,ROUND($F$18,0),\"\")&\"\"","v":""},{"$f":"IF($G$49=24,ROUND($G$18,0),\"\")&\"\"","v":""},{"$f":"IF($H$49=24,ROUND($H$18,0),\"\")&\"\"","v":""},{"$f":"IF($I$49=24,ROUND($I$18,0),\"\")&\"\"","v":""},{"$f":"IF($J$49=24,ROUND($J$18,0),\"\")&\"\"","v":""},{"$f":"IF($K$49=24,ROUND($K$18,0),\"\")&\"\"","v":""},{"$f":"IF($L$49=24,ROUND($L$18,0),\"\")&\"\"","v":""},{"$f":"IF($M$49=24,ROUND($M$18,0),\"\")&\"\"","v":""},{"$f":"IF($N$49=24,ROUND($N$18,0),\"\")&\"\"","v":""},{"$f":"IF($O$49=24,ROUND($O$18,0),\"\")&\"\"","v":""},{"$f":"IF($P$49=24,ROUND($P$18,0),\"\")&\"\"","v":""},{"$f":"IF($Q$49=24,ROUND($Q$18,0),\"\")&\"\"","v":""},{"$f":"IF($R$49=24,ROUND($R$18,0),\"\")&\"\"","v":""},{"$f":"IF($S$49=24,ROUND($S$18,0),\"\")&\"\"","v":""},{"$f":"IF($T$49=24,ROUND($T$18,0),\"\")&\"\"","v":""},{"$f":"IF($U$49=24,ROUND($U$18,0),\"\")&\"\"","v":""},{"$f":"IF($V$49=24,ROUND($V$18,0),\"\")&\"\"","v":""},{"$f":"IF($W$49=24,ROUND($W$18,0),\"\")&\"\"","v":""},{"$f":"IF($X$49=24,ROUND($X$18,0),\"\")&\"\"","v":""},{"$f":"IF($Y$49=24,ROUND($Y$18,0),\"\")&\"\"","v":""},{"$f":"IF($Z$49=24,ROUND($Z$18,0),\"\")&\"\"","v":""},{"$f":"IF($AA$49=24,ROUND($AA$18,0),\"\")&\"\"","v":""},10]
[null,null,11,{"$f":"IF($D$50=24,ROUND($D$19,0),\"\")&\"\"","v":""},{"$f":"IF($E$50=24,ROUND($E$19,0),\"\")&\"\"","v":""},{"$f":"IF($F$50=24,ROUND($F$19,0),\"\")&\"\"","v":""},{"$f":"IF($G$50=24,ROUND($G$19,0),\"\")&\"\"","v":""},{"$f":"IF($H$50=24,ROUND($H$19,0),\"\")&\"\"","v":""},{"$f":"IF($I$50=24,ROUND($I$19,0),\"\")&\"\"","v":""},{"$f":"IF($J$50=24,ROUND($J$19,0),\"\")&\"\"","v":""},{"$f":"IF($K$50=24,ROUND($K$19,0),\"\")&\"\"","v":""},{"$f":"IF($L$50=24,ROUND($L$19,0),\"\")&\"\"","v":""},{"$f":"IF($M$50=24,ROUND($M$19,0),\"\")&\"\"","v":""},{"$f":"IF($N$50=24,ROUND($N$19,0),\"\")&\"\"","v":""},{"$f":"IF($O$50=24,ROUND($O$19,0),\"\")&\"\"","v":""},{"$f":"IF($P$50=24,ROUND($P$19,0),\"\")&\"\"","v":""},{"$f":"IF($Q$50=24,ROUND($Q$19,0),\"\")&\"\"","v":""},{"$f":"IF($R$50=24,ROUND($R$19,0),\"\")&\"\"","v":""},{"$f":"IF($S$50=24,ROUND($S$19,0),\"\")&\"\"","v":""},{"$f":"IF($T$50=24,ROUND($T$19,0),\"\")&\"\"","v":""},{"$f":"IF($U$50=24,ROUND($U$19,0),\"\")&\"\"","v":""},{"$f":"IF($V$50=24,ROUND($V$19,0),\"\")&\"\"","v":""},{"$f":"IF($W$50=24,ROUND($W$19,0),\"\")&\"\"","v":""},{"$f":"IF($X$50=24,ROUND($X$19,0),\"\")&\"\"","v":""},{"$f":"IF($Y$50=24,ROUND($Y$19,0),\"\")&\"\"","v":""},{"$f":"IF($Z$50=24,ROUND($Z$19,0),\"\")&\"\"","v":""},{"$f":"IF($AA$50=24,ROUND($AA$19,0),\"\")&\"\"","v":""},11]
[null,null,12,{"$f":"IF($D$51=24,ROUND($D$20,0),\"\")&\"\"","v":""},{"$f":"IF($E$51=24,ROUND($E$20,0),\"\")&\"\"","v":""},{"$f":"IF($F$51=24,ROUND($F$20,0),\"\")&\"\"","v":""},{"$f":"IF($G$51=24,ROUND($G$20,0),\"\")&\"\"","v":""},{"$f":"IF($H$51=24,ROUND($H$20,0),\"\")&\"\"","v":""},{"$f":"IF($I$51=24,ROUND($I$20,0),\"\")&\"\"","v":""},{"$f":"IF($J$51=24,ROUND($J$20,0),\"\")&\"\"","v":""},{"$f":"IF($K$51=24,ROUND($K$20,0),\"\")&\"\"","v":""},{"$f":"IF($L$51=24,ROUND($L$20,0),\"\")&\"\"","v":""},{"$f":"IF($M$51=24,ROUND($M$20,0),\"\")&\"\"","v":""},{"$f":"IF($N$51=24,ROUND($N$20,0),\"\")&\"\"","v":""},{"$f":"IF($O$51=24,ROUND($O$20,0),\"\")&\"\"","v":""},{"$f":"IF($P$51=24,ROUND($P$20,0),\"\")&\"\"","v":""},{"$f":"IF($Q$51=24,ROUND($Q$20,0),\"\")&\"\"","v":""},{"$f":"IF($R$51=24,ROUND($R$20,0),\"\")&\"\"","v":""},{"$f":"IF($S$51=24,ROUND($S$20,0),\"\")&\"\"","v":""},{"$f":"IF($T$51=24,ROUND($T$20,0),\"\")&\"\"","v":""},{"$f":"IF($U$51=24,ROUND($U$20,0),\"\")&\"\"","v":""},{"$f":"IF($V$51=24,ROUND($V$20,0),\"\")&\"\"","v":""},{"$f":"IF($W$51=24,ROUND($W$20,0),\"\")&\"\"","v":""},{"$f":"IF($X$51=24,ROUND($X$20,0),\"\")&\"\"","v":""},{"$f":"IF($Y$51=24,ROUND($Y$20,0),\"\")&\"\"","v":""},{"$f":"IF($Z$51=24,ROUND($Z$20,0),\"\")&\"\"","v":""},{"$f":"IF($AA$51=24,ROUND($AA$20,0),\"\")&\"\"","v":""},12]
[null,null,1,{"$f":"IF($D$52=24,ROUND($D$21,0),\"\")&\"\"","v":""},{"$f":"IF($E$52=24,ROUND($E$21,0),\"\")&\"\"","v":""},{"$f":"IF($F$52=24,ROUND($F$21,0),\"\")&\"\"","v":""},{"$f":"IF($G$52=24,ROUND($G$21,0),\"\")&\"\"","v":""},{"$f":"IF($H$52=24,ROUND($H$21,0),\"\")&\"\"","v":""},{"$f":"IF($I$52=24,ROUND($I$21,0),\"\")&\"\"","v":""},{"$f":"IF($J$52=24,ROUND($J$21,0),\"\")&\"\"","v":""},{"$f":"IF($K$52=24,ROUND($K$21,0),\"\")&\"\"","v":""},{"$f":"IF($L$52=24,ROUND($L$21,0),\"\")&\"\"","v":""},{"$f":"IF($M$52=24,ROUND($M$21,0),\"\")&\"\"","v":""},{"$f":"IF($N$52=24,ROUND($N$21,0),\"\")&\"\"","v":""},{"$f":"IF($O$52=24,ROUND($O$21,0),\"\")&\"\"","v":""},{"$f":"IF($P$52=24,ROUND($P$21,0),\"\")&\"\"","v":""},{"$f":"IF($Q$52=24,ROUND($Q$21,0),\"\")&\"\"","v":""},{"$f":"IF($R$52=24,ROUND($R$21,0),\"\")&\"\"","v":""},{"$f":"IF($S$52=24,ROUND($S$21,0),\"\")&\"\"","v":""},{"$f":"IF($T$52=24,ROUND($T$21,0),\"\")&\"\"","v":""},{"$f":"IF($U$52=24,ROUND($U$21,0),\"\")&\"\"","v":""},{"$f":"IF($V$52=24,ROUND($V$21,0),\"\")&\"\"","v":""},{"$f":"IF($W$52=24,ROUND($W$21,0),\"\")&\"\"","v":""},{"$f":"IF($X$52=24,ROUND($X$21,0),\"\")&\"\"","v":""},{"$f":"IF($Y$52=24,ROUND($Y$21,0),\"\")&\"\"","v":""},{"$f":"IF($Z$52=24,ROUND($Z$21,0),\"\")&\"\"","v":""},{"$f":"IF($AA$52=24,ROUND($AA$21,0),\"\")&\"\"","v":""},1]
[null,null,2,{"$f":"IF($D$53=24,ROUND($D$22,0),\"\")&\"\"","v":""},{"$f":"IF($E$53=24,ROUND($E$22,0),\"\")&\"\"","v":""},{"$f":"IF($F$53=24,ROUND($F$22,0),\"\")&\"\"","v":""},{"$f":"IF($G$53=24,ROUND($G$22,0),\"\")&\"\"","v":""},{"$f":"IF($H$53=24,ROUND($H$22,0),\"\")&\"\"","v":""},{"$f":"IF($I$53=24,ROUND($I$22,0),\"\")&\"\"","v":""},{"$f":"IF($J$53=24,ROUND($J$22,0),\"\")&\"\"","v":""},{"$f":"IF($K$53=24,ROUND($K$22,0),\"\")&\"\"","v":""},{"$f":"IF($L$53=24,ROUND($L$22,0),\"\")&\"\"","v":""},{"$f":"IF($M$53=24,ROUND($M$22,0),\"\")&\"\"","v":""},{"$f":"IF($N$53=24,ROUND($N$22,0),\"\")&\"\"","v":""},{"$f":"IF($O$53=24,ROUND($O$22,0),\"\")&\"\"","v":""},{"$f":"IF($P$53=24,ROUND($P$22,0),\"\")&\"\"","v":""},{"$f":"IF($Q$53=24,ROUND($Q$22,0),\"\")&\"\"","v":""},{"$f":"IF($R$53=24,ROUND($R$22,0),\"\")&\"\"","v":""},{"$f":"IF($S$53=24,ROUND($S$22,0),\"\")&\"\"","v":""},{"$f":"IF($T$53=24,ROUND($T$22,0),\"\")&\"\"","v":""},{"$f":"IF($U$53=24,ROUND($U$22,0),\"\")&\"\"","v":""},{"$f":"IF($V$53=24,ROUND($V$22,0),\"\")&\"\"","v":""},{"$f":"IF($W$53=24,ROUND($W$22,0),\"\")&\"\"","v":""},{"$f":"IF($X$53=24,ROUND($X$22,0),\"\")&\"\"","v":""},{"$f":"IF($Y$53=24,ROUND($Y$22,0),\"\")&\"\"","v":""},{"$f":"IF($Z$53=24,ROUND($Z$22,0),\"\")&\"\"","v":""},{"$f":"IF($AA$53=24,ROUND($AA$22,0),\"\")&\"\"","v":""},2]
[null,null,3,{"$f":"IF($D$54=24,ROUND($D$23,0),\"\")&\"\"","v":""},{"$f":"IF($E$54=24,ROUND($E$23,0),\"\")&\"\"","v":""},{"$f":"IF($F$54=24,ROUND($F$23,0),\"\")&\"\"","v":""},{"$f":"IF($G$54=24,ROUND($G$23,0),\"\")&\"\"","v":""},{"$f":"IF($H$54=24,ROUND($H$23,0),\"\")&\"\"","v":""},{"$f":"IF($I$54=24,ROUND($I$23,0),\"\")&\"\"","v":""},{"$f":"IF($J$54=24,ROUND($J$23,0),\"\")&\"\"","v":""},{"$f":"IF($K$54=24,ROUND($K$23,0),\"\")&\"\"","v":""},{"$f":"IF($L$54=24,ROUND($L$23,0),\"\")&\"\"","v":""},{"$f":"IF($M$54=24,ROUND($M$23,0),\"\")&\"\"","v":""},{"$f":"IF($N$54=24,ROUND($N$23,0),\"\")&\"\"","v":""},{"$f":"IF($O$54=24,ROUND($O$23,0),\"\")&\"\"","v":""},{"$f":"IF($P$54=24,ROUND($P$23,0),\"\")&\"\"","v":""},{"$f":"IF($Q$54=24,ROUND($Q$23,0),\"\")&\"\"","v":""},{"$f":"IF($R$54=24,ROUND($R$23,0),\"\")&\"\"","v":""},{"$f":"IF($S$54=24,ROUND($S$23,0),\"\")&\"\"","v":""},{"$f":"IF($T$54=24,ROUND($T$23,0),\"\")&\"\"","v":""},{"$f":"IF($U$54=24,ROUND($U$23,0),\"\")&\"\"","v":""},{"$f":"IF($V$54=24,ROUND($V$23,0),\"\")&\"\"","v":""},{"$f":"IF($W$54=24,ROUND($W$23,0),\"\")&\"\"","v":""},{"$f":"IF($X$54=24,ROUND($X$23,0),\"\")&\"\"","v":""},{"$f":"IF($Y$54=24,ROUND($Y$23,0),\"\")&\"\"","v":""},{"$f":"IF($Z$54=24,ROUND($Z$23,0),\"\")&\"\"","v":""},{"$f":"IF($AA$54=24,ROUND($AA$23,0),\"\")&\"\"","v":""},3]
[]
[null,null,"作業表2-2(暖房)",null,"●月▲時の平均気温"]
[null,null,"月"," 時刻",null,null,null,null,null,null,null,null,null,null,null,null,null,null,null,null,null,null,null,null,null,null,null,"月"]
[null,null,null,0,1,2,3,4,5,6,7,8,9,10,11,12,13,14,15,16,17,18,19,20,21,22,23]
[null,null,4,{"$f":"IF($D$43=19,ROUND($D$12,0),\"\")&\"\"","v":""},{"$f":"IF($E$43=19,ROUND($E$12,0),\"\")&\"\"","v":""},{"$f":"IF($F$43=19,ROUND($F$12,0),\"\")&\"\"","v":""},{"$f":"IF($G$43=19,ROUND($G$12,0),\"\")&\"\"","v":""},{"$f":"IF($H$43=19,ROUND($H$12,0),\"\")&\"\"","v":""},{"$f":"IF($I$43=19,ROUND($I$12,0),\"\")&\"\"","v":""},{"$f":"IF($J$43=19,ROUND($J$12,0),\"\")&\"\"","v":""},{"$f":"IF($K$43=19,ROUND($K$12,0),\"\")&\"\"","v":""},{"$f":"IF($L$43=19,ROUND($L$12,0),\"\")&\"\"","v":""},{"$f":"IF($M$43=19,ROUND($M$12,0),\"\")&\"\"","v":""},{"$f":"IF($N$43=19,ROUND($N$12,0),\"\")&\"\"","v":""},{"$f":"IF($O$43=19,ROUND($O$12,0),\"\")&\"\"","v":""},{"$f":"IF($P$43=19,ROUND($P$12,0),\"\")&\"\"","v":""},{"$f":"IF($Q$43=19,ROUND($Q$12,0),\"\")&\"\"","v":""},{"$f":"IF($R$43=19,ROUND($R$12,0),\"\")&\"\"","v":""},{"$f":"IF($S$43=19,ROUND($S$12,0),\"\")&\"\"","v":""},{"$f":"IF($T$43=19,ROUND($T$12,0),\"\")&\"\"","v":""},{"$f":"IF($U$43=19,ROUND($U$12,0),\"\")&\"\"","v":""},{"$f":"IF($V$43=19,ROUND($V$12,0),\"\")&\"\"","v":""},{"$f":"IF($W$43=19,ROUND($W$12,0),\"\")&\"\"","v":""},{"$f":"IF($X$43=19,ROUND($X$12,0),\"\")&\"\"","v":""},{"$f":"IF($Y$43=19,ROUND($Y$12,0),\"\")&\"\"","v":""},{"$f":"IF($Z$43=19,ROUND($Z$12,0),\"\")&\"\"","v":""},{"$f":"IF($AA$43=19,ROUND($AA$12,0),\"\")&\"\"","v":""},4]
[null,null,5,{"$f":"IF($D$44=19,ROUND($D$13,0),\"\")&\"\"","v":""},{"$f":"IF($E$44=19,ROUND($E$13,0),\"\")&\"\"","v":""},{"$f":"IF($F$44=19,ROUND($F$13,0),\"\")&\"\"","v":""},{"$f":"IF($G$44=19,ROUND($G$13,0),\"\")&\"\"","v":""},{"$f":"IF($H$44=19,ROUND($H$13,0),\"\")&\"\"","v":""},{"$f":"IF($I$44=19,ROUND($I$13,0),\"\")&\"\"","v":""},{"$f":"IF($J$44=19,ROUND($J$13,0),\"\")&\"\"","v":""},{"$f":"IF($K$44=19,ROUND($K$13,0),\"\")&\"\"","v":""},{"$f":"IF($L$44=19,ROUND($L$13,0),\"\")&\"\"","v":""},{"$f":"IF($M$44=19,ROUND($M$13,0),\"\")&\"\"","v":""},{"$f":"IF($N$44=19,ROUND($N$13,0),\"\")&\"\"","v":""},{"$f":"IF($O$44=19,ROUND($O$13,0),\"\")&\"\"","v":""},{"$f":"IF($P$44=19,ROUND($P$13,0),\"\")&\"\"","v":""},{"$f":"IF($Q$44=19,ROUND($Q$13,0),\"\")&\"\"","v":""},{"$f":"IF($R$44=19,ROUND($R$13,0),\"\")&\"\"","v":""},{"$f":"IF($S$44=19,ROUND($S$13,0),\"\")&\"\"","v":""},{"$f":"IF($T$44=19,ROUND($T$13,0),\"\")&\"\"","v":""},{"$f":"IF($U$44=19,ROUND($U$13,0),\"\")&\"\"","v":""},{"$f":"IF($V$44=19,ROUND($V$13,0),\"\")&\"\"","v":""},{"$f":"IF($W$44=19,ROUND($W$13,0),\"\")&\"\"","v":""},{"$f":"IF($X$44=19,ROUND($X$13,0),\"\")&\"\"","v":""},{"$f":"IF($Y$44=19,ROUND($Y$13,0),\"\")&\"\"","v":""},{"$f":"IF($Z$44=19,ROUND($Z$13,0),\"\")&\"\"","v":""},{"$f":"IF($AA$44=19,ROUND($AA$13,0),\"\")&\"\"","v":""},5]
[null,null,6,{"$f":"IF($D$45=19,ROUND($D$14,0),\"\")&\"\"","v":""},{"$f":"IF($E$45=19,ROUND($E$14,0),\"\")&\"\"","v":""},{"$f":"IF($F$45=19,ROUND($F$14,0),\"\")&\"\"","v":""},{"$f":"IF($G$45=19,ROUND($G$14,0),\"\")&\"\"","v":""},{"$f":"IF($H$45=19,ROUND($H$14,0),\"\")&\"\"","v":""},{"$f":"IF($I$45=19,ROUND($I$14,0),\"\")&\"\"","v":""},{"$f":"IF($J$45=19,ROUND($J$14,0),\"\")&\"\"","v":""},{"$f":"IF($K$45=19,ROUND($K$14,0),\"\")&\"\"","v":""},{"$f":"IF($L$45=19,ROUND($L$14,0),\"\")&\"\"","v":""},{"$f":"IF($M$45=19,ROUND($M$14,0),\"\")&\"\"","v":""},{"$f":"IF($N$45=19,ROUND($N$14,0),\"\")&\"\"","v":""},{"$f":"IF($O$45=19,ROUND($O$14,0),\"\")&\"\"","v":""},{"$f":"IF($P$45=19,ROUND($P$14,0),\"\")&\"\"","v":""},{"$f":"IF($Q$45=19,ROUND($Q$14,0),\"\")&\"\"","v":""},{"$f":"IF($R$45=19,ROUND($R$14,0),\"\")&\"\"","v":""},{"$f":"IF($S$45=19,ROUND($S$14,0),\"\")&\"\"","v":""},{"$f":"IF($T$45=19,ROUND($T$14,0),\"\")&\"\"","v":""},{"$f":"IF($U$45=19,ROUND($U$14,0),\"\")&\"\"","v":""},{"$f":"IF($V$45=19,ROUND($V$14,0),\"\")&\"\"","v":""},{"$f":"IF($W$45=19,ROUND($W$14,0),\"\")&\"\"","v":""},{"$f":"IF($X$45=19,ROUND($X$14,0),\"\")&\"\"","v":""},{"$f":"IF($Y$45=19,ROUND($Y$14,0),\"\")&\"\"","v":""},{"$f":"IF($Z$45=19,ROUND($Z$14,0),\"\")&\"\"","v":""},{"$f":"IF($AA$45=19,ROUND($AA$14,0),\"\")&\"\"","v":""},6]
[null,null,7,{"$f":"IF($D$46=19,ROUND($D$15,0),\"\")&\"\"","v":""},{"$f":"IF($E$46=19,ROUND($E$15,0),\"\")&\"\"","v":""},{"$f":"IF($F$46=19,ROUND($F$15,0),\"\")&\"\"","v":""},{"$f":"IF($G$46=19,ROUND($G$15,0),\"\")&\"\"","v":""},{"$f":"IF($H$46=19,ROUND($H$15,0),\"\")&\"\"","v":""},{"$f":"IF($I$46=19,ROUND($I$15,0),\"\")&\"\"","v":""},{"$f":"IF($J$46=19,ROUND($J$15,0),\"\")&\"\"","v":""},{"$f":"IF($K$46=19,ROUND($K$15,0),\"\")&\"\"","v":""},{"$f":"IF($L$46=19,ROUND($L$15,0),\"\")&\"\"","v":""},{"$f":"IF($M$46=19,ROUND($M$15,0),\"\")&\"\"","v":""},{"$f":"IF($N$46=19,ROUND($N$15,0),\"\")&\"\"","v":""},{"$f":"IF($O$46=19,ROUND($O$15,0),\"\")&\"\"","v":""},{"$f":"IF($P$46=19,ROUND($P$15,0),\"\")&\"\"","v":""},{"$f":"IF($Q$46=19,ROUND($Q$15,0),\"\")&\"\"","v":""},{"$f":"IF($R$46=19,ROUND($R$15,0),\"\")&\"\"","v":""},{"$f":"IF($S$46=19,ROUND($S$15,0),\"\")&\"\"","v":""},{"$f":"IF($T$46=19,ROUND($T$15,0),\"\")&\"\"","v":""},{"$f":"IF($U$46=19,ROUND($U$15,0),\"\")&\"\"","v":""},{"$f":"IF($V$46=19,ROUND($V$15,0),\"\")&\"\"","v":""},{"$f":"IF($W$46=19,ROUND($W$15,0),\"\")&\"\"","v":""},{"$f":"IF($X$46=19,ROUND($X$15,0),\"\")&\"\"","v":""},{"$f":"IF($Y$46=19,ROUND($Y$15,0),\"\")&\"\"","v":""},{"$f":"IF($Z$46=19,ROUND($Z$15,0),\"\")&\"\"","v":""},{"$f":"IF($AA$46=19,ROUND($AA$15,0),\"\")&\"\"","v":""},7]
[null,null,8,{"$f":"IF($D$47=19,ROUND($D$16,0),\"\")&\"\"","v":""},{"$f":"IF($E$47=19,ROUND($E$16,0),\"\")&\"\"","v":""},{"$f":"IF($F$47=19,ROUND($F$16,0),\"\")&\"\"","v":""},{"$f":"IF($G$47=19,ROUND($G$16,0),\"\")&\"\"","v":""},{"$f":"IF($H$47=19,ROUND($H$16,0),\"\")&\"\"","v":""},{"$f":"IF($I$47=19,ROUND($I$16,0),\"\")&\"\"","v":""},{"$f":"IF($J$47=19,ROUND($J$16,0),\"\")&\"\"","v":""},{"$f":"IF($K$47=19,ROUND($K$16,0),\"\")&\"\"","v":""},{"$f":"IF($L$47=19,ROUND($L$16,0),\"\")&\"\"","v":""},{"$f":"IF($M$47=19,ROUND($M$16,0),\"\")&\"\"","v":""},{"$f":"IF($N$47=19,ROUND($N$16,0),\"\")&\"\"","v":""},{"$f":"IF($O$47=19,ROUND($O$16,0),\"\")&\"\"","v":""},{"$f":"IF($P$47=19,ROUND($P$16,0),\"\")&\"\"","v":""},{"$f":"IF($Q$47=19,ROUND($Q$16,0),\"\")&\"\"","v":""},{"$f":"IF($R$47=19,ROUND($R$16,0),\"\")&\"\"","v":""},{"$f":"IF($S$47=19,ROUND($S$16,0),\"\")&\"\"","v":""},{"$f":"IF($T$47=19,ROUND($T$16,0),\"\")&\"\"","v":""},{"$f":"IF($U$47=19,ROUND($U$16,0),\"\")&\"\"","v":""},{"$f":"IF($V$47=19,ROUND($V$16,0),\"\")&\"\"","v":""},{"$f":"IF($W$47=19,ROUND($W$16,0),\"\")&\"\"","v":""},{"$f":"IF($X$47=19,ROUND($X$16,0),\"\")&\"\"","v":""},{"$f":"IF($Y$47=19,ROUND($Y$16,0),\"\")&\"\"","v":""},{"$f":"IF($Z$47=19,ROUND($Z$16,0),\"\")&\"\"","v":""},{"$f":"IF($AA$47=19,ROUND($AA$16,0),\"\")&\"\"","v":""},8]
[null,null,9,{"$f":"IF($D$48=19,ROUND($D$17,0),\"\")&\"\"","v":""},{"$f":"IF($E$48=19,ROUND($E$17,0),\"\")&\"\"","v":""},{"$f":"IF($F$48=19,ROUND($F$17,0),\"\")&\"\"","v":""},{"$f":"IF($G$48=19,ROUND($G$17,0),\"\")&\"\"","v":""},{"$f":"IF($H$48=19,ROUND($H$17,0),\"\")&\"\"","v":""},{"$f":"IF($I$48=19,ROUND($I$17,0),\"\")&\"\"","v":""},{"$f":"IF($J$48=19,ROUND($J$17,0),\"\")&\"\"","v":""},{"$f":"IF($K$48=19,ROUND($K$17,0),\"\")&\"\"","v":""},{"$f":"IF($L$48=19,ROUND($L$17,0),\"\")&\"\"","v":""},{"$f":"IF($M$48=19,ROUND($M$17,0),\"\")&\"\"","v":""},{"$f":"IF($N$48=19,ROUND($N$17,0),\"\")&\"\"","v":""},{"$f":"IF($O$48=19,ROUND($O$17,0),\"\")&\"\"","v":""},{"$f":"IF($P$48=19,ROUND($P$17,0),\"\")&\"\"","v":""},{"$f":"IF($Q$48=19,ROUND($Q$17,0),\"\")&\"\"","v":""},{"$f":"IF($R$48=19,ROUND($R$17,0),\"\")&\"\"","v":""},{"$f":"IF($S$48=19,ROUND($S$17,0),\"\")&\"\"","v":""},{"$f":"IF($T$48=19,ROUND($T$17,0),\"\")&\"\"","v":""},{"$f":"IF($U$48=19,ROUND($U$17,0),\"\")&\"\"","v":""},{"$f":"IF($V$48=19,ROUND($V$17,0),\"\")&\"\"","v":""},{"$f":"IF($W$48=19,ROUND($W$17,0),\"\")&\"\"","v":""},{"$f":"IF($X$48=19,ROUND($X$17,0),\"\")&\"\"","v":""},{"$f":"IF($Y$48=19,ROUND($Y$17,0),\"\")&\"\"","v":""},{"$f":"IF($Z$48=19,ROUND($Z$17,0),\"\")&\"\"","v":""},{"$f":"IF($AA$48=19,ROUND($AA$17,0),\"\")&\"\"","v":""},9]
[null,null,10,{"$f":"IF($D$49=19,ROUND($D$18,0),\"\")&\"\"","v":""},{"$f":"IF($E$49=19,ROUND($E$18,0),\"\")&\"\"","v":""},{"$f":"IF($F$49=19,ROUND($F$18,0),\"\")&\"\"","v":""},{"$f":"IF($G$49=19,ROUND($G$18,0),\"\")&\"\"","v":""},{"$f":"IF($H$49=19,ROUND($H$18,0),\"\")&\"\"","v":""},{"$f":"IF($I$49=19,ROUND($I$18,0),\"\")&\"\"","v":""},{"$f":"IF($J$49=19,ROUND($J$18,0),\"\")&\"\"","v":""},{"$f":"IF($K$49=19,ROUND($K$18,0),\"\")&\"\"","v":""},{"$f":"IF($L$49=19,ROUND($L$18,0),\"\")&\"\"","v":""},{"$f":"IF($M$49=19,ROUND($M$18,0),\"\")&\"\"","v":""},{"$f":"IF($N$49=19,ROUND($N$18,0),\"\")&\"\"","v":""},{"$f":"IF($O$49=19,ROUND($O$18,0),\"\")&\"\"","v":""},{"$f":"IF($P$49=19,ROUND($P$18,0),\"\")&\"\"","v":""},{"$f":"IF($Q$49=19,ROUND($Q$18,0),\"\")&\"\"","v":""},{"$f":"IF($R$49=19,ROUND($R$18,0),\"\")&\"\"","v":""},{"$f":"IF($S$49=19,ROUND($S$18,0),\"\")&\"\"","v":""},{"$f":"IF($T$49=19,ROUND($T$18,0),\"\")&\"\"","v":""},{"$f":"IF($U$49=19,ROUND($U$18,0),\"\")&\"\"","v":""},{"$f":"IF($V$49=19,ROUND($V$18,0),\"\")&\"\"","v":""},{"$f":"IF($W$49=19,ROUND($W$18,0),\"\")&\"\"","v":""},{"$f":"IF($X$49=19,ROUND($X$18,0),\"\")&\"\"","v":""},{"$f":"IF($Y$49=19,ROUND($Y$18,0),\"\")&\"\"","v":""},{"$f":"IF($Z$49=19,ROUND($Z$18,0),\"\")&\"\"","v":""},{"$f":"IF($AA$49=19,ROUND($AA$18,0),\"\")&\"\"","v":""},10]
[null,null,11,{"$f":"IF($D$50=19,ROUND($D$19,0),\"\")&\"\"","v":""},{"$f":"IF($E$50=19,ROUND($E$19,0),\"\")&\"\"","v":""},{"$f":"IF($F$50=19,ROUND($F$19,0),\"\")&\"\"","v":""},{"$f":"IF($G$50=19,ROUND($G$19,0),\"\")&\"\"","v":""},{"$f":"IF($H$50=19,ROUND($H$19,0),\"\")&\"\"","v":""},{"$f":"IF($I$50=19,ROUND($I$19,0),\"\")&\"\"","v":""},{"$f":"IF($J$50=19,ROUND($J$19,0),\"\")&\"\"","v":""},{"$f":"IF($K$50=19,ROUND($K$19,0),\"\")&\"\"","v":""},{"$f":"IF($L$50=19,ROUND($L$19,0),\"\")&\"\"","v":""},{"$f":"IF($M$50=19,ROUND($M$19,0),\"\")&\"\"","v":""},{"$f":"IF($N$50=19,ROUND($N$19,0),\"\")&\"\"","v":""},{"$f":"IF($O$50=19,ROUND($O$19,0),\"\")&\"\"","v":""},{"$f":"IF($P$50=19,ROUND($P$19,0),\"\")&\"\"","v":""},{"$f":"IF($Q$50=19,ROUND($Q$19,0),\"\")&\"\"","v":""},{"$f":"IF($R$50=19,ROUND($R$19,0),\"\")&\"\"","v":""},{"$f":"IF($S$50=19,ROUND($S$19,0),\"\")&\"\"","v":""},{"$f":"IF($T$50=19,ROUND($T$19,0),\"\")&\"\"","v":""},{"$f":"IF($U$50=19,ROUND($U$19,0),\"\")&\"\"","v":""},{"$f":"IF($V$50=19,ROUND($V$19,0),\"\")&\"\"","v":""},{"$f":"IF($W$50=19,ROUND($W$19,0),\"\")&\"\"","v":""},{"$f":"IF($X$50=19,ROUND($X$19,0),\"\")&\"\"","v":""},{"$f":"IF($Y$50=19,ROUND($Y$19,0),\"\")&\"\"","v":""},{"$f":"IF($Z$50=19,ROUND($Z$19,0),\"\")&\"\"","v":""},{"$f":"IF($AA$50=19,ROUND($AA$19,0),\"\")&\"\"","v":""},11]
[null,null,12,{"$f":"IF($D$51=19,ROUND($D$20,0),\"\")&\"\"","v":""},{"$f":"IF($E$51=19,ROUND($E$20,0),\"\")&\"\"","v":""},{"$f":"IF($F$51=19,ROUND($F$20,0),\"\")&\"\"","v":""},{"$f":"IF($G$51=19,ROUND($G$20,0),\"\")&\"\"","v":""},{"$f":"IF($H$51=19,ROUND($H$20,0),\"\")&\"\"","v":""},{"$f":"IF($I$51=19,ROUND($I$20,0),\"\")&\"\"","v":""},{"$f":"IF($J$51=19,ROUND($J$20,0),\"\")&\"\"","v":""},{"$f":"IF($K$51=19,ROUND($K$20,0),\"\")&\"\"","v":""},{"$f":"IF($L$51=19,ROUND($L$20,0),\"\")&\"\"","v":""},{"$f":"IF($M$51=19,ROUND($M$20,0),\"\")&\"\"","v":""},{"$f":"IF($N$51=19,ROUND($N$20,0),\"\")&\"\"","v":""},{"$f":"IF($O$51=19,ROUND($O$20,0),\"\")&\"\"","v":""},{"$f":"IF($P$51=19,ROUND($P$20,0),\"\")&\"\"","v":""},{"$f":"IF($Q$51=19,ROUND($Q$20,0),\"\")&\"\"","v":""},{"$f":"IF($R$51=19,ROUND($R$20,0),\"\")&\"\"","v":""},{"$f":"IF($S$51=19,ROUND($S$20,0),\"\")&\"\"","v":""},{"$f":"IF($T$51=19,ROUND($T$20,0),\"\")&\"\"","v":""},{"$f":"IF($U$51=19,ROUND($U$20,0),\"\")&\"\"","v":""},{"$f":"IF($V$51=19,ROUND($V$20,0),\"\")&\"\"","v":""},{"$f":"IF($W$51=19,ROUND($W$20,0),\"\")&\"\"","v":""},{"$f":"IF($X$51=19,ROUND($X$20,0),\"\")&\"\"","v":""},{"$f":"IF($Y$51=19,ROUND($Y$20,0),\"\")&\"\"","v":""},{"$f":"IF($Z$51=19,ROUND($Z$20,0),\"\")&\"\"","v":""},{"$f":"IF($AA$51=19,ROUND($AA$20,0),\"\")&\"\"","v":""},12]
[null,null,1,{"$f":"IF($D$52=19,ROUND($D$21,0),\"\")&\"\"","v":""},{"$f":"IF($E$52=19,ROUND($E$21,0),\"\")&\"\"","v":""},{"$f":"IF($F$52=19,ROUND($F$21,0),\"\")&\"\"","v":""},{"$f":"IF($G$52=19,ROUND($G$21,0),\"\")&\"\"","v":""},{"$f":"IF($H$52=19,ROUND($H$21,0),\"\")&\"\"","v":""},{"$f":"IF($I$52=19,ROUND($I$21,0),\"\")&\"\"","v":""},{"$f":"IF($J$52=19,ROUND($J$21,0),\"\")&\"\"","v":""},{"$f":"IF($K$52=19,ROUND($K$21,0),\"\")&\"\"","v":""},{"$f":"IF($L$52=19,ROUND($L$21,0),\"\")&\"\"","v":""},{"$f":"IF($M$52=19,ROUND($M$21,0),\"\")&\"\"","v":""},{"$f":"IF($N$52=19,ROUND($N$21,0),\"\")&\"\"","v":""},{"$f":"IF($O$52=19,ROUND($O$21,0),\"\")&\"\"","v":""},{"$f":"IF($P$52=19,ROUND($P$21,0),\"\")&\"\"","v":""},{"$f":"IF($Q$52=19,ROUND($Q$21,0),\"\")&\"\"","v":""},{"$f":"IF($R$52=19,ROUND($R$21,0),\"\")&\"\"","v":""},{"$f":"IF($S$52=19,ROUND($S$21,0),\"\")&\"\"","v":""},{"$f":"IF($T$52=19,ROUND($T$21,0),\"\")&\"\"","v":""},{"$f":"IF($U$52=19,ROUND($U$21,0),\"\")&\"\"","v":""},{"$f":"IF($V$52=19,ROUND($V$21,0),\"\")&\"\"","v":""},{"$f":"IF($W$52=19,ROUND($W$21,0),\"\")&\"\"","v":""},{"$f":"IF($X$52=19,ROUND($X$21,0),\"\")&\"\"","v":""},{"$f":"IF($Y$52=19,ROUND($Y$21,0),\"\")&\"\"","v":""},{"$f":"IF($Z$52=19,ROUND($Z$21,0),\"\")&\"\"","v":""},{"$f":"IF($AA$52=19,ROUND($AA$21,0),\"\")&\"\"","v":""},1]
[null,null,2,{"$f":"IF($D$53=19,ROUND($D$22,0),\"\")&\"\"","v":""},{"$f":"IF($E$53=19,ROUND($E$22,0),\"\")&\"\"","v":""},{"$f":"IF($F$53=19,ROUND($F$22,0),\"\")&\"\"","v":""},{"$f":"IF($G$53=19,ROUND($G$22,0),\"\")&\"\"","v":""},{"$f":"IF($H$53=19,ROUND($H$22,0),\"\")&\"\"","v":""},{"$f":"IF($I$53=19,ROUND($I$22,0),\"\")&\"\"","v":""},{"$f":"IF($J$53=19,ROUND($J$22,0),\"\")&\"\"","v":""},{"$f":"IF($K$53=19,ROUND($K$22,0),\"\")&\"\"","v":""},{"$f":"IF($L$53=19,ROUND($L$22,0),\"\")&\"\"","v":""},{"$f":"IF($M$53=19,ROUND($M$22,0),\"\")&\"\"","v":""},{"$f":"IF($N$53=19,ROUND($N$22,0),\"\")&\"\"","v":""},{"$f":"IF($O$53=19,ROUND($O$22,0),\"\")&\"\"","v":""},{"$f":"IF($P$53=19,ROUND($P$22,0),\"\")&\"\"","v":""},{"$f":"IF($Q$53=19,ROUND($Q$22,0),\"\")&\"\"","v":""},{"$f":"IF($R$53=19,ROUND($R$22,0),\"\")&\"\"","v":""},{"$f":"IF($S$53=19,ROUND($S$22,0),\"\")&\"\"","v":""},{"$f":"IF($T$53=19,ROUND($T$22,0),\"\")&\"\"","v":""},{"$f":"IF($U$53=19,ROUND($U$22,0),\"\")&\"\"","v":""},{"$f":"IF($V$53=19,ROUND($V$22,0),\"\")&\"\"","v":""},{"$f":"IF($W$53=19,ROUND($W$22,0),\"\")&\"\"","v":""},{"$f":"IF($X$53=19,ROUND($X$22,0),\"\")&\"\"","v":""},{"$f":"IF($Y$53=19,ROUND($Y$22,0),\"\")&\"\"","v":""},{"$f":"IF($Z$53=19,ROUND($Z$22,0),\"\")&\"\"","v":""},{"$f":"IF($AA$53=19,ROUND($AA$22,0),\"\")&\"\"","v":""},2]
[null,null,3,{"$f":"IF($D$54=19,ROUND($D$23,0),\"\")&\"\"","v":""},{"$f":"IF($E$54=19,ROUND($E$23,0),\"\")&\"\"","v":""},{"$f":"IF($F$54=19,ROUND($F$23,0),\"\")&\"\"","v":""},{"$f":"IF($G$54=19,ROUND($G$23,0),\"\")&\"\"","v":""},{"$f":"IF($H$54=19,ROUND($H$23,0),\"\")&\"\"","v":""},{"$f":"IF($I$54=19,ROUND($I$23,0),\"\")&\"\"","v":""},{"$f":"IF($J$54=19,ROUND($J$23,0),\"\")&\"\"","v":""},{"$f":"IF($K$54=19,ROUND($K$23,0),\"\")&\"\"","v":""},{"$f":"IF($L$54=19,ROUND($L$23,0),\"\")&\"\"","v":""},{"$f":"IF($M$54=19,ROUND($M$23,0),\"\")&\"\"","v":""},{"$f":"IF($N$54=19,ROUND($N$23,0),\"\")&\"\"","v":""},{"$f":"IF($O$54=19,ROUND($O$23,0),\"\")&\"\"","v":""},{"$f":"IF($P$54=19,ROUND($P$23,0),\"\")&\"\"","v":""},{"$f":"IF($Q$54=19,ROUND($Q$23,0),\"\")&\"\"","v":""},{"$f":"IF($R$54=19,ROUND($R$23,0),\"\")&\"\"","v":""},{"$f":"IF($S$54=19,ROUND($S$23,0),\"\")&\"\"","v":""},{"$f":"IF($T$54=19,ROUND($T$23,0),\"\")&\"\"","v":""},{"$f":"IF($U$54=19,ROUND($U$23,0),\"\")&\"\"","v":""},{"$f":"IF($V$54=19,ROUND($V$23,0),\"\")&\"\"","v":""},{"$f":"IF($W$54=19,ROUND($W$23,0),\"\")&\"\"","v":""},{"$f":"IF($X$54=19,ROUND($X$23,0),\"\")&\"\"","v":""},{"$f":"IF($Y$54=19,ROUND($Y$23,0),\"\")&\"\"","v":""},{"$f":"IF($Z$54=19,ROUND($Z$23,0),\"\")&\"\"","v":""},{"$f":"IF($AA$54=19,ROUND($AA$23,0),\"\")&\"\"","v":""},3]
[]
[null,null,"冷房期間中　温度(T)が発生する時間[hour]"]
[null,null,null," 温度(T)",null,null,null,null,null,null,null,null,null,null,null,null,null,null,null,null,null,null,null,null,null,null,null,null,null,null,null,null,null,null,null,null,null,null,null,null,null,null,null,null,null,null,"月単位"]
[null,null,"月",-6,-5,-4,-3,-2,-1,0,1,2,3,4,5,6,7,8,9,10,11,12,13,14,15,16,17,18,19,20,21,22,23,24,25,26,27,28,29,30,31,32,33,34,35,"月"]
[null,null,4,{"$f":"COUNTIF($D$59:$AA$59,$D$90)*$AB$12","v":0},{"$f":"COUNTIF($D$59:$AA$59,$E$90)*$AB$12","v":0},{"$f":"COUNTIF($D$59:$AA$59,$F$90)*$AB$12","v":0},{"$f":"COUNTIF($D$59:$AA$59,$G$90)*$AB$12","v":0},{"$f":"COUNTIF($D$59:$AA$59,$H$90)*$AB$12","v":0},{"$f":"COUNTIF($D$59:$AA$59,$I$90)*$AB$12","v":0},{"$f":"COUNTIF($D$59:$AA$59,$J$90)*$AB$12","v":0},{"$f":"COUNTIF($D$59:$AA$59,$K$90)*$AB$12","v":0},{"$f":"COUNTIF($D$59:$AA$59,$L$90)*$AB$12","v":0},{"$f":"COUNTIF($D$59:$AA$59,$M$90)*$AB$12","v":0},{"$f":"COUNTIF($D$59:$AA$59,$N$90)*$AB$12","v":0},{"$f":"COUNTIF($D$59:$AA$59,$O$90)*$AB$12","v":0},{"$f":"COUNTIF($D$59:$AA$59,$P$90)*$AB$12","v":0},{"$f":"COUNTIF($D$59:$AA$59,$Q$90)*$AB$12","v":0},{"$f":"COUNTIF($D$59:$AA$59,$R$90)*$AB$12","v":0},{"$f":"COUNTIF($D$59:$AA$59,$S$90)*$AB$12","v":0},{"$f":"COUNTIF($D$59:$AA$59,$T$90)*$AB$12","v":0},{"$f":"COUNTIF($D$59:$AA$59,$U$90)*$AB$12","v":0},{"$f":"COUNTIF($D$59:$AA$59,$V$90)*$AB$12","v":0},{"$f":"COUNTIF($D$59:$AA$59,$W$90)*$AB$12","v":0},{"$f":"COUNTIF($D$59:$AA$59,$X$90)*$AB$12","v":0},{"$f":"COUNTIF($D$59:$AA$59,$Y$90)*$AB$12","v":0},{"$f":"COUNTIF($D$59:$AA$59,$Z$90)*$AB$12","v":0},{"$f":"COUNTIF($D$59:$AA$59,$AA$90)*$AB$12","v":0},{"$f":"COUNTIF($D$59:$AA$59,$AB$90)*$AB$12","v":0},{"$f":"COUNTIF($D$59:$AA$59,$AC$90)*$AB$12","v":0},{"$f":"COUNTIF($D$59:$AA$59,$AD$90)*$AB$12","v":0},{"$f":"COUNTIF($D$59:$AA$59,$AE$90)*$AB$12","v":0},{"$f":"COUNTIF($D$59:$AA$59,$AF$90)*$AB$12","v":0},{"$f":"COUNTIF($D$59:$AA$59,$AG$90)*$AB$12","v":0},{"$f":"COUNTIF($D$59:$AA$59,$AH$90)*$AB$12","v":0},{"$f":"COUNTIF($D$59:$AA$59,$AI$90)*$AB$12","v":0},{"$f":"COUNTIF($D$59:$AA$59,$AJ$90)*$AB$12","v":0},{"$f":"COUNTIF($D$59:$AA$59,$AK$90)*$AB$12","v":0},{"$f":"COUNTIF($D$59:$AA$59,$AL$90)*$AB$12","v":0},{"$f":"COUNTIF($D$59:$AA$59,$AM$90)*$AB$12","v":0},{"$f":"COUNTIF($D$59:$AA$59,$AN$90)*$AB$12","v":0},{"$f":"COUNTIF($D$59:$AA$59,$AO$90)*$AB$12","v":0},{"$f":"COUNTIF($D$59:$AA$59,$AP$90)*$AB$12","v":0},{"$f":"COUNTIF($D$59:$AA$59,$AQ$90)*$AB$12","v":0},{"$f":"COUNTIF($D$59:$AA$59,$AR$90)*$AB$12","v":0},{"$f":"COUNTIF($D$59:$AA$59,$AS$90)*$AB$12","v":0},4,{"$f":"SUMPRODUCT(D91:AS91,$D$104:$AS$104)","v":0}]
[null,null,5,{"$f":"COUNTIF($D$60:$AA$60,$D$90)*$AB$13","v":0},{"$f":"COUNTIF($D$60:$AA$60,$E$90)*$AB$13","v":0},{"$f":"COUNTIF($D$60:$AA$60,$F$90)*$AB$13","v":0},{"$f":"COUNTIF($D$60:$AA$60,$G$90)*$AB$13","v":0},{"$f":"COUNTIF($D$60:$AA$60,$H$90)*$AB$13","v":0},{"$f":"COUNTIF($D$60:$AA$60,$I$90)*$AB$13","v":0},{"$f":"COUNTIF($D$60:$AA$60,$J$90)*$AB$13","v":0},{"$f":"COUNTIF($D$60:$AA$60,$K$90)*$AB$13","v":0},{"$f":"COUNTIF($D$60:$AA$60,$L$90)*$AB$13","v":0},{"$f":"COUNTIF($D$60:$AA$60,$M$90)*$AB$13","v":0},{"$f":"COUNTIF($D$60:$AA$60,$N$90)*$AB$13","v":0},{"$f":"COUNTIF($D$60:$AA$60,$O$90)*$AB$13","v":0},{"$f":"COUNTIF($D$60:$AA$60,$P$90)*$AB$13","v":0},{"$f":"COUNTIF($D$60:$AA$60,$Q$90)*$AB$13","v":0},{"$f":"COUNTIF($D$60:$AA$60,$R$90)*$AB$13","v":0},{"$f":"COUNTIF($D$60:$AA$60,$S$90)*$AB$13","v":0},{"$f":"COUNTIF($D$60:$AA$60,$T$90)*$AB$13","v":0},{"$f":"COUNTIF($D$60:$AA$60,$U$90)*$AB$13","v":0},{"$f":"COUNTIF($D$60:$AA$60,$V$90)*$AB$13","v":0},{"$f":"COUNTIF($D$60:$AA$60,$W$90)*$AB$13","v":0},{"$f":"COUNTIF($D$60:$AA$60,$X$90)*$AB$13","v":0},{"$f":"COUNTIF($D$60:$AA$60,$Y$90)*$AB$13","v":0},{"$f":"COUNTIF($D$60:$AA$60,$Z$90)*$AB$13","v":0},{"$f":"COUNTIF($D$60:$AA$60,$AA$90)*$AB$13","v":0},{"$f":"COUNTIF($D$60:$AA$60,$AB$90)*$AB$13","v":0},{"$f":"COUNTIF($D$60:$AA$60,$AC$90)*$AB$13","v":0},{"$f":"COUNTIF($D$60:$AA$60,$AD$90)*$AB$13","v":0},{"$f":"COUNTIF($D$60:$AA$60,$AE$90)*$AB$13","v":0},{"$f":"COUNTIF($D$60:$AA$60,$AF$90)*$AB$13","v":0},{"$f":"COUNTIF($D$60:$AA$60,$AG$90)*$AB$13","v":0},{"$f":"COUNTIF($D$60:$AA$60,$AH$90)*$AB$13","v":0},{"$f":"COUNTIF($D$60:$AA$60,$AI$90)*$AB$13","v":0},{"$f":"COUNTIF($D$60:$AA$60,$AJ$90)*$AB$13","v":0},{"$f":"COUNTIF($D$60:$AA$60,$AK$90)*$AB$13","v":0},{"$f":"COUNTIF($D$60:$AA$60,$AL$90)*$AB$13","v":0},{"$f":"COUNTIF($D$60:$AA$60,$AM$90)*$AB$13","v":0},{"$f":"COUNTIF($D$60:$AA$60,$AN$90)*$AB$13","v":0},{"$f":"COUNTIF($D$60:$AA$60,$AO$90)*$AB$13","v":0},{"$f":"COUNTIF($D$60:$AA$60,$AP$90)*$AB$13","v":0},{"$f":"COUNTIF($D$60:$AA$60,$AQ$90)*$AB$13","v":0},{"$f":"COUNTIF($D$60:$AA$60,$AR$90)*$AB$13","v":0},{"$f":"COUNTIF($D$60:$AA$60,$AS$90)*$AD$13","v":0},5,{"$f":"SUMPRODUCT(D92:AS92,$D$104:$AS$104)","v":0}]
[null,null,6,{"$f":"COUNTIF($D$61:$AA$61,$D$90)*$AB$14","v":0},{"$f":"COUNTIF($D$61:$AA$61,$E$90)*$AB$14","v":0},{"$f":"COUNTIF($D$61:$AA$61,$F$90)*$AB$14","v":0},{"$f":"COUNTIF($D$61:$AA$61,$G$90)*$AB$14","v":0},{"$f":"COUNTIF($D$61:$AA$61,$H$90)*$AB$14","v":0},{"$f":"COUNTIF($D$61:$AA$61,$I$90)*$AB$14","v":0},{"$f":"COUNTIF($D$61:$AA$61,$J$90)*$AB$14","v":0},{"$f":"COUNTIF($D$61:$AA$61,$K$90)*$AB$14","v":0},{"$f":"COUNTIF($D$61:$AA$61,$L$90)*$AB$14","v":0},{"$f":"COUNTIF($D$61:$AA$61,$M$90)*$AB$14","v":0},{"$f":"COUNTIF($D$61:$AA$61,$N$90)*$AB$14","v":0},{"$f":"COUNTIF($D$61:$AA$61,$O$90)*$AB$14","v":0},{"$f":"COUNTIF($D$61:$AA$61,$P$90)*$AB$14","v":0},{"$f":"COUNTIF($D$61:$AA$61,$Q$90)*$AB$14","v":0},{"$f":"COUNTIF($D$61:$AA$61,$R$90)*$AB$14","v":0},{"$f":"COUNTIF($D$61:$AA$61,$S$90)*$AB$14","v":0},{"$f":"COUNTIF($D$61:$AA$61,$T$90)*$AB$14","v":0},{"$f":"COUNTIF($D$61:$AA$61,$U$90)*$AB$14","v":0},{"$f":"COUNTIF($D$61:$AA$61,$V$90)*$AB$14","v":0},{"$f":"COUNTIF($D$61:$AA$61,$W$90)*$AB$14","v":0},{"$f":"COUNTIF($D$61:$AA$61,$X$90)*$AB$14","v":0},{"$f":"COUNTIF($D$61:$AA$61,$Y$90)*$AB$14","v":0},{"$f":"COUNTIF($D$61:$AA$61,$Z$90)*$AB$14","v":0},{"$f":"COUNTIF($D$61:$AA$61,$AA$90)*$AB$14","v":0},{"$f":"COUNTIF($D$61:$AA$61,$AB$90)*$AB$14","v":0},{"$f":"COUNTIF($D$61:$AA$61,$AC$90)*$AB$14","v":0},{"$f":"COUNTIF($D$61:$AA$61,$AD$90)*$AB$14","v":0},{"$f":"COUNTIF($D$61:$AA$61,$AE$90)*$AB$14","v":0},{"$f":"COUNTIF($D$61:$AA$61,$AF$90)*$AB$14","v":0},{"$f":"COUNTIF($D$61:$AA$61,$AG$90)*$AB$14","v":0},{"$f":"COUNTIF($D$61:$AA$61,$AH$90)*$AB$14","v":0},{"$f":"COUNTIF($D$61:$AA$61,$AI$90)*$AB$14","v":0},{"$f":"COUNTIF($D$61:$AA$61,$AJ$90)*$AB$14","v":0},{"$f":"COUNTIF($D$61:$AA$61,$AK$90)*$AB$14","v":0},{"$f":"COUNTIF($D$61:$AA$61,$AL$90)*$AB$14","v":0},{"$f":"COUNTIF($D$61:$AA$61,$AM$90)*$AB$14","v":0},{"$f":"COUNTIF($D$61:$AA$61,$AN$90)*$AB$14","v":0},{"$f":"COUNTIF($D$61:$AA$61,$AO$90)*$AB$14","v":0},{"$f":"COUNTIF($D$61:$AA$61,$AP$90)*$AB$14","v":0},{"$f":"COUNTIF($D$61:$AA$61,$AQ$90)*$AB$14","v":0},{"$f":"COUNTIF($D$61:$AA$61,$AR$90)*$AB$14","v":0},{"$f":"COUNTIF($D$61:$AA$61,$AS$90)*$AB$14","v":0},6,0]
[null,null,7,{"$f":"COUNTIF($D$62:$AA$62,$D$90)*$AB$15","v":0},{"$f":"COUNTIF($D$62:$AA$62,$E$90)*$AB$15","v":0},{"$f":"COUNTIF($D$62:$AA$62,$F$90)*$AB$15","v":0},{"$f":"COUNTIF($D$62:$AA$62,$G$90)*$AB$15","v":0},{"$f":"COUNTIF($D$62:$AA$62,$H$90)*$AB$15","v":0},{"$f":"COUNTIF($D$62:$AA$62,$I$90)*$AB$15","v":0},{"$f":"COUNTIF($D$62:$AA$62,$J$90)*$AB$15","v":0},{"$f":"COUNTIF($D$62:$AA$62,$K$90)*$AB$15","v":0},{"$f":"COUNTIF($D$62:$AA$62,$L$90)*$AB$15","v":0},{"$f":"COUNTIF($D$62:$AA$62,$M$90)*$AB$15","v":0},{"$f":"COUNTIF($D$62:$AA$62,$N$90)*$AB$15","v":0},{"$f":"COUNTIF($D$62:$AA$62,$O$90)*$AB$15","v":0},{"$f":"COUNTIF($D$62:$AA$62,$P$90)*$AB$15","v":0},{"$f":"COUNTIF($D$62:$AA$62,$Q$90)*$AB$15","v":0},{"$f":"COUNTIF($D$62:$AA$62,$R$90)*$AB$15","v":0},{"$f":"COUNTIF($D$62:$AA$62,$S$90)*$AB$15","v":0},{"$f":"COUNTIF($D$62:$AA$62,$T$90)*$AB$15","v":0},{"$f":"COUNTIF($D$62:$AA$62,$U$90)*$AB$15","v":0},{"$f":"COUNTIF($D$62:$AA$62,$V$90)*$AB$15","v":0},{"$f":"COUNTIF($D$62:$AA$62,$W$90)*$AB$15","v":0},{"$f":"COUNTIF($D$62:$AA$62,$X$90)*$AB$15","v":0},{"$f":"COUNTIF($D$62:$AA$62,$Y$90)*$AB$15","v":0},{"$f":"COUNTIF($D$62:$AA$62,$Z$90)*$AB$15","v":0},{"$f":"COUNTIF($D$62:$AA$62,$AA$90)*$AB$15","v":0},{"$f":"COUNTIF($D$62:$AA$62,$AB$90)*$AB$15","v":0},{"$f":"COUNTIF($D$62:$AA$62,$AC$90)*$AB$15","v":0},{"$f":"COUNTIF($D$62:$AA$62,$AD$90)*$AB$15","v":0},{"$f":"COUNTIF($D$62:$AA$62,$AE$90)*$AB$15","v":0},{"$f":"COUNTIF($D$62:$AA$62,$AF$90)*$AB$15","v":0},{"$f":"COUNTIF($D$62:$AA$62,$AG$90)*$AB$15","v":0},{"$f":"COUNTIF($D$62:$AA$62,$AH$90)*$AB$15","v":0},{"$f":"COUNTIF($D$62:$AA$62,$AI$90)*$AB$15","v":0},{"$f":"COUNTIF($D$62:$AA$62,$AJ$90)*$AB$15","v":0},{"$f":"COUNTIF($D$62:$AA$62,$AK$90)*$AB$15","v":0},{"$f":"COUNTIF($D$62:$AA$62,$AL$90)*$AB$15","v":0},{"$f":"COUNTIF($D$62:$AA$62,$AM$90)*$AB$15","v":0},{"$f":"COUNTIF($D$62:$AA$62,$AN$90)*$AB$15","v":0},{"$f":"COUNTIF($D$62:$AA$62,$AO$90)*$AB$15","v":0},{"$f":"COUNTIF($D$62:$AA$62,$AP$90)*$AB$15","v":0},{"$f":"COUNTIF($D$62:$AA$62,$AQ$90)*$AB$15","v":0},{"$f":"COUNTIF($D$62:$AA$62,$AR$90)*$AB$15","v":0},{"$f":"COUNTIF($D$62:$AA$62,$AS$90)*$AB$15","v":0},7,0]
[null,null,8,{"$f":"COUNTIF($D$63:$AA$63,$D$90)*$AB$16","v":0},{"$f":"COUNTIF($D$63:$AA$63,$E$90)*$AB$16","v":0},{"$f":"COUNTIF($D$63:$AA$63,$F$90)*$AB$16","v":0},{"$f":"COUNTIF($D$63:$AA$63,$G$90)*$AB$16","v":0},{"$f":"COUNTIF($D$63:$AA$63,$H$90)*$AB$16","v":0},{"$f":"COUNTIF($D$63:$AA$63,$I$90)*$AB$16","v":0},{"$f":"COUNTIF($D$63:$AA$63,$J$90)*$AB$16","v":0},{"$f":"COUNTIF($D$63:$AA$63,$K$90)*$AB$16","v":0},{"$f":"COUNTIF($D$63:$AA$63,$L$90)*$AB$16","v":0},{"$f":"COUNTIF($D$63:$AA$63,$M$90)*$AB$16","v":0},{"$f":"COUNTIF($D$63:$AA$63,$N$90)*$AB$16","v":0},{"$f":"COUNTIF($D$63:$AA$63,$O$90)*$AB$16","v":0},{"$f":"COUNTIF($D$63:$AA$63,$P$90)*$AB$16","v":0},{"$f":"COUNTIF($D$63:$AA$63,$Q$90)*$AB$16","v":0},{"$f":"COUNTIF($D$63:$AA$63,$R$90)*$AB$16","v":0},{"$f":"COUNTIF($D$63:$AA$63,$S$90)*$AB$16","v":0},{"$f":"COUNTIF($D$63:$AA$63,$T$90)*$AB$16","v":0},{"$f":"COUNTIF($D$63:$AA$63,$U$90)*$AB$16","v":0},{"$f":"COUNTIF($D$63:$AA$63,$V$90)*$AB$16","v":0},{"$f":"COUNTIF($D$63:$AA$63,$W$90)*$AB$16","v":0},{"$f":"COUNTIF($D$63:$AA$63,$X$90)*$AB$16","v":0},{"$f":"COUNTIF($D$63:$AA$63,$Y$90)*$AB$16","v":0},{"$f":"COUNTIF($D$63:$AA$63,$Z$90)*$AB$16","v":0},{"$f":"COUNTIF($D$63:$AA$63,$AA$90)*$AB$16","v":0},{"$f":"COUNTIF($D$63:$AA$63,$AB$90)*$AB$16","v":0},{"$f":"COUNTIF($D$63:$AA$63,$AC$90)*$AB$16","v":0},{"$f":"COUNTIF($D$63:$AA$63,$AD$90)*$AB$16","v":0},{"$f":"COUNTIF($D$63:$AA$63,$AE$90)*$AB$16","v":0},{"$f":"COUNTIF($D$63:$AA$63,$AF$90)*$AB$16","v":0},{"$f":"COUNTIF($D$63:$AA$63,$AG$90)*$AB$16","v":0},{"$f":"COUNTIF($D$63:$AA$63,$AH$90)*$AB$16","v":0},{"$f":"COUNTIF($D$63:$AA$63,$AI$90)*$AB$16","v":0},{"$f":"COUNTIF($D$63:$AA$63,$AJ$90)*$AB$16","v":0},{"$f":"COUNTIF($D$63:$AA$63,$AK$90)*$AB$16","v":0},{"$f":"COUNTIF($D$63:$AA$63,$AL$90)*$AB$16","v":0},{"$f":"COUNTIF($D$63:$AA$63,$AM$90)*$AB$16","v":0},{"$f":"COUNTIF($D$63:$AA$63,$AN$90)*$AB$16","v":0},{"$f":"COUNTIF($D$63:$AA$63,$AO$90)*$AB$16","v":0},{"$f":"COUNTIF($D$63:$AA$63,$AP$90)*$AB$16","v":0},{"$f":"COUNTIF($D$63:$AA$63,$AQ$90)*$AB$16","v":0},{"$f":"COUNTIF($D$63:$AA$63,$AR$90)*$AB$16","v":0},{"$f":"COUNTIF($D$63:$AA$63,$AS$90)*$AB$16","v":0},8,0]
[null,null,9,{"$f":"COUNTIF($D$64:$AA$64,$D$90)*$AB$17","v":0},{"$f":"COUNTIF($D$64:$AA$64,$E$90)*$AB$17","v":0},{"$f":"COUNTIF($D$64:$AA$64,$F$90)*$AB$17","v":0},{"$f":"COUNTIF($D$64:$AA$64,$G$90)*$AB$17","v":0},{"$f":"COUNTIF($D$64:$AA$64,$H$90)*$AB$17","v":0},{"$f":"COUNTIF($D$64:$AA$64,$I$90)*$AB$17","v":0},{"$f":"COUNTIF($D$64:$AA$64,$J$90)*$AB$17","v":0},{"$f":"COUNTIF($D$64:$AA$64,$K$90)*$AB$17","v":0},{"$f":"COUNTIF($D$64:$AA$64,$L$90)*$AB$17","v":0},{"$f":"COUNTIF($D$64:$AA$64,$M$90)*$AB$17","v":0},{"$f":"COUNTIF($D$64:$AA$64,$N$90)*$AB$17","v":0},{"$f":"COUNTIF($D$64:$AA$64,$O$90)*$AB$17","v":0},{"$f":"COUNTIF($D$64:$AA$64,$P$90)*$AB$17","v":0},{"$f":"COUNTIF($D$64:$AA$64,$Q$90)*$AB$17","v":0},{"$f":"COUNTIF($D$64:$AA$64,$R$90)*$AB$17","v":0},{"$f":"COUNTIF($D$64:$AA$64,$S$90)*$AB$17","v":0},{"$f":"COUNTIF($D$64:$AA$64,$T$90)*$AB$17","v":0},{"$f":"COUNTIF($D$64:$AA$64,$U$90)*$AB$17","v":0},{"$f":"COUNTIF($D$64:$AA$64,$V$90)*$AB$17","v":0},{"$f":"COUNTIF($D$64:$AA$64,$W$90)*$AB$17","v":0},{"$f":"COUNTIF($D$64:$AA$64,$X$90)*$AB$17","v":0},{"$f":"COUNTIF($D$64:$AA$64,$Y$90)*$AB$17","v":0},{"$f":"COUNTIF($D$64:$AA$64,$Z$90)*$AB$17","v":0},{"$f":"COUNTIF($D$64:$AA$64,$AA$90)*$AB$17","v":0},{"$f":"COUNTIF($D$64:$AA$64,$AB$90)*$AB$17","v":0},{"$f":"COUNTIF($D$64:$AA$64,$AC$90)*$AB$17","v":0},{"$f":"COUNTIF($D$64:$AA$64,$AD$90)*$AB$17","v":0},{"$f":"COUNTIF($D$64:$AA$64,$AE$90)*$AB$17","v":0},{"$f":"COUNTIF($D$64:$AA$64,$AF$90)*$AB$17","v":0},{"$f":"COUNTIF($D$64:$AA$64,$AG$90)*$AB$17","v":0},{"$f":"COUNTIF($D$64:$AA$64,$AH$90)*$AB$17","v":0},{"$f":"COUNTIF($D$64:$AA$64,$AI$90)*$AB$17","v":0},{"$f":"COUNTIF($D$64:$AA$64,$AJ$90)*$AB$17","v":0},{"$f":"COUNTIF($D$64:$AA$64,$AK$90)*$AB$17","v":0},{"$f":"COUNTIF($D$64:$AA$64,$AL$90)*$AB$17","v":0},{"$f":"COUNTIF($D$64:$AA$64,$AM$90)*$AB$17","v":0},{"$f":"COUNTIF($D$64:$AA$64,$AN$90)*$AB$17","v":0},{"$f":"COUNTIF($D$64:$AA$64,$AO$90)*$AB$17","v":0},{"$f":"COUNTIF($D$64:$AA$64,$AP$90)*$AB$17","v":0},{"$f":"COUNTIF($D$64:$AA$64,$AQ$90)*$AB$17","v":0},{"$f":"COUNTIF($D$64:$AA$64,$AR$90)*$AB$17","v":0},{"$f":"COUNTIF($D$64:$AA$64,$AS$90)*$AB$17","v":0},9,0]
[null,null,10,{"$f":"COUNTIF($D$65:$AA$65,$D$90)*$AB$18","v":0},{"$f":"COUNTIF($D$65:$AA$65,$E$90)*$AB$18","v":0},{"$f":"COUNTIF($D$65:$AA$65,$F$90)*$AB$18","v":0},{"$f":"COUNTIF($D$65:$AA$65,$G$90)*$AB$18","v":0},{"$f":"COUNTIF($D$65:$AA$65,$H$90)*$AB$18","v":0},{"$f":"COUNTIF($D$65:$AA$65,$I$90)*$AB$18","v":0},{"$f":"COUNTIF($D$65:$AA$65,$J$90)*$AB$18","v":0},{"$f":"COUNTIF($D$65:$AA$65,$K$90)*$AB$18","v":0},{"$f":"COUNTIF($D$65:$AA$65,$L$90)*$AB$18","v":0},{"$f":"COUNTIF($D$65:$AA$65,$M$90)*$AB$18","v":0},{"$f":"COUNTIF($D$65:$AA$65,$N$90)*$AB$18","v":0},{"$f":"COUNTIF($D$65:$AA$65,$O$90)*$AB$18","v":0},{"$f":"COUNTIF($D$65:$AA$65,$P$90)*$AB$18","v":0},{"$f":"COUNTIF($D$65:$AA$65,$Q$90)*$AB$18","v":0},{"$f":"COUNTIF($D$65:$AA$65,$R$90)*$AB$18","v":0},{"$f":"COUNTIF($D$65:$AA$65,$S$90)*$AB$18","v":0},{"$f":"COUNTIF($D$65:$AA$65,$T$90)*$AB$18","v":0},{"$f":"COUNTIF($D$65:$AA$65,$U$90)*$AB$18","v":0},{"$f":"COUNTIF($D$65:$AA$65,$V$90)*$AB$18","v":0},{"$f":"COUNTIF($D$65:$AA$65,$W$90)*$AB$18","v":0},{"$f":"COUNTIF($D$65:$AA$65,$X$90)*$AB$18","v":0},{"$f":"COUNTIF($D$65:$AA$65,$Y$90)*$AB$18","v":0},{"$f":"COUNTIF($D$65:$AA$65,$Z$90)*$AB$18","v":0},{"$f":"COUNTIF($D$65:$AA$65,$AA$90)*$AB$18","v":0},{"$f":"COUNTIF($D$65:$AA$65,$AB$90)*$AB$18","v":0},{"$f":"COUNTIF($D$65:$AA$65,$AC$90)*$AB$18","v":0},{"$f":"COUNTIF($D$65:$AA$65,$AD$90)*$AB$18","v":0},{"$f":"COUNTIF($D$65:$AA$65,$AE$90)*$AB$18","v":0},{"$f":"COUNTIF($D$65:$AA$65,$AF$90)*$AB$18","v":0},{"$f":"COUNTIF($D$65:$AA$65,$AG$90)*$AB$18","v":0},{"$f":"COUNTIF($D$65:$AA$65,$AH$90)*$AB$18","v":0},{"$f":"COUNTIF($D$65:$AA$65,$AI$90)*$AB$18","v":0},{"$f":"COUNTIF($D$65:$AA$65,$AJ$90)*$AB$18","v":0},{"$f":"COUNTIF($D$65:$AA$65,$AK$90)*$AB$18","v":0},{"$f":"COUNTIF($D$65:$AA$65,$AL$90)*$AB$18","v":0},{"$f":"COUNTIF($D$65:$AA$65,$AM$90)*$AB$18","v":0},{"$f":"COUNTIF($D$65:$AA$65,$AN$90)*$AB$18","v":0},{"$f":"COUNTIF($D$65:$AA$65,$AO$90)*$AB$18","v":0},{"$f":"COUNTIF($D$65:$AA$65,$AP$90)*$AB$18","v":0},{"$f":"COUNTIF($D$65:$AA$65,$AQ$90)*$AB$18","v":0},{"$f":"COUNTIF($D$65:$AA$65,$AR$90)*$AB$18","v":0},{"$f":"COUNTIF($D$65:$AA$65,$AS$90)*$AB$18","v":0},10,0]
[null,null,11,{"$f":"COUNTIF($D$66:$AA$66,$D$90)*$AB$19","v":0},{"$f":"COUNTIF($D$66:$AA$66,$E$90)*$AB$19","v":0},{"$f":"COUNTIF($D$66:$AA$66,$F$90)*$AB$19","v":0},{"$f":"COUNTIF($D$66:$AA$66,$G$90)*$AB$19","v":0},{"$f":"COUNTIF($D$66:$AA$66,$H$90)*$AB$19","v":0},{"$f":"COUNTIF($D$66:$AA$66,$I$90)*$AB$19","v":0},{"$f":"COUNTIF($D$66:$AA$66,$J$90)*$AB$19","v":0},{"$f":"COUNTIF($D$66:$AA$66,$K$90)*$AB$19","v":0},{"$f":"COUNTIF($D$66:$AA$66,$L$90)*$AB$19","v":0},{"$f":"COUNTIF($D$66:$AA$66,$M$90)*$AB$19","v":0},{"$f":"COUNTIF($D$66:$AA$66,$N$90)*$AB$19","v":0},{"$f":"COUNTIF($D$66:$AA$66,$O$90)*$AB$19","v":0},{"$f":"COUNTIF($D$66:$AA$66,$P$90)*$AB$19","v":0},{"$f":"COUNTIF($D$66:$AA$66,$Q$90)*$AB$19","v":0},{"$f":"COUNTIF($D$66:$AA$66,$R$90)*$AB$19","v":0},{"$f":"COUNTIF($D$66:$AA$66,$S$90)*$AB$19","v":0},{"$f":"COUNTIF($D$66:$AA$66,$T$90)*$AB$19","v":0},{"$f":"COUNTIF($D$66:$AA$66,$U$90)*$AB$19","v":0},{"$f":"COUNTIF($D$66:$AA$66,$V$90)*$AB$19","v":0},{"$f":"COUNTIF($D$66:$AA$66,$W$90)*$AB$19","v":0},{"$f":"COUNTIF($D$66:$AA$66,$X$90)*$AB$19","v":0},{"$f":"COUNTIF($D$66:$AA$66,$Y$90)*$AB$19","v":0},{"$f":"COUNTIF($D$66:$AA$66,$Z$90)*$AB$19","v":0},{"$f":"COUNTIF($D$66:$AA$66,$AA$90)*$AB$19","v":0},{"$f":"COUNTIF($D$66:$AA$66,$AB$90)*$AB$19","v":0},{"$f":"COUNTIF($D$66:$AA$66,$AC$90)*$AB$19","v":0},{"$f":"COUNTIF($D$66:$AA$66,$AD$90)*$AB$19","v":0},{"$f":"COUNTIF($D$66:$AA$66,$AE$90)*$AB$19","v":0},{"$f":"COUNTIF($D$66:$AA$66,$AF$90)*$AB$19","v":0},{"$f":"COUNTIF($D$66:$AA$66,$AG$90)*$AB$19","v":0},{"$f":"COUNTIF($D$66:$AA$66,$AH$90)*$AB$19","v":0},{"$f":"COUNTIF($D$66:$AA$66,$AI$90)*$AB$19","v":0},{"$f":"COUNTIF($D$66:$AA$66,$AJ$90)*$AB$19","v":0},{"$f":"COUNTIF($D$66:$AA$66,$AK$90)*$AB$19","v":0},{"$f":"COUNTIF($D$66:$AA$66,$AL$90)*$AB$19","v":0},{"$f":"COUNTIF($D$66:$AA$66,$AM$90)*$AB$19","v":0},{"$f":"COUNTIF($D$66:$AA$66,$AN$90)*$AB$19","v":0},{"$f":"COUNTIF($D$66:$AA$66,$AO$90)*$AB$19","v":0},{"$f":"COUNTIF($D$66:$AA$66,$AP$90)*$AB$19","v":0},{"$f":"COUNTIF($D$66:$AA$66,$AQ$90)*$AB$19","v":0},{"$f":"COUNTIF($D$66:$AA$66,$AR$90)*$AB$19","v":0},{"$f":"COUNTIF($D$66:$AA$66,$AS$90)*$AB$19","v":0},11,0]
[null,null,12,{"$f":"COUNTIF($D$67:$AA$67,$D$90)*$AB$20","v":0},{"$f":"COUNTIF($D$67:$AA$67,$E$90)*$AB$20","v":0},{"$f":"COUNTIF($D$67:$AA$67,$F$90)*$AB$20","v":0},{"$f":"COUNTIF($D$67:$AA$67,$G$90)*$AB$20","v":0},{"$f":"COUNTIF($D$67:$AA$67,$H$90)*$AB$20","v":0},{"$f":"COUNTIF($D$67:$AA$67,$I$90)*$AB$20","v":0},{"$f":"COUNTIF($D$67:$AA$67,$J$90)*$AB$20","v":0},{"$f":"COUNTIF($D$67:$AA$67,$K$90)*$AB$20","v":0},{"$f":"COUNTIF($D$67:$AA$67,$L$90)*$AB$20","v":0},{"$f":"COUNTIF($D$67:$AA$67,$M$90)*$AB$20","v":0},{"$f":"COUNTIF($D$67:$AA$67,$N$90)*$AB$20","v":0},{"$f":"COUNTIF($D$67:$AA$67,$O$90)*$AB$20","v":0},{"$f":"COUNTIF($D$67:$AA$67,$P$90)*$AB$20","v":0},{"$f":"COUNTIF($D$67:$AA$67,$Q$90)*$AB$20","v":0},{"$f":"COUNTIF($D$67:$AA$67,$R$90)*$AB$20","v":0},{"$f":"COUNTIF($D$67:$AA$67,$S$90)*$AB$20","v":0},{"$f":"COUNTIF($D$67:$AA$67,$T$90)*$AB$20","v":0},{"$f":"COUNTIF($D$67:$AA$67,$U$90)*$AB$20","v":0},{"$f":"COUNTIF($D$67:$AA$67,$V$90)*$AB$20","v":0},{"$f":"COUNTIF($D$67:$AA$67,$W$90)*$AB$20","v":0},{"$f":"COUNTIF($D$67:$AA$67,$X$90)*$AB$20","v":0},{"$f":"COUNTIF($D$67:$AA$67,$Y$90)*$AB$20","v":0},{"$f":"COUNTIF($D$67:$AA$67,$Z$90)*$AB$20","v":0},{"$f":"COUNTIF($D$67:$AA$67,$AA$90)*$AB$20","v":0},{"$f":"COUNTIF($D$67:$AA$67,$AB$90)*$AB$20","v":0},{"$f":"COUNTIF($D$67:$AA$67,$AC$90)*$AB$20","v":0},{"$f":"COUNTIF($D$67:$AA$67,$AD$90)*$AB$20","v":0},{"$f":"COUNTIF($D$67:$AA$67,$AE$90)*$AB$20","v":0},{"$f":"COUNTIF($D$67:$AA$67,$AF$90)*$AB$20","v":0},{"$f":"COUNTIF($D$67:$AA$67,$AG$90)*$AB$20","v":0},{"$f":"COUNTIF($D$67:$AA$67,$AH$90)*$AB$20","v":0},{"$f":"COUNTIF($D$67:$AA$67,$AI$90)*$AB$20","v":0},{"$f":"COUNTIF($D$67:$AA$67,$AJ$90)*$AB$20","v":0},{"$f":"COUNTIF($D$67:$AA$67,$AK$90)*$AB$20","v":0},{"$f":"COUNTIF($D$67:$AA$67,$AL$90)*$AB$20","v":0},{"$f":"COUNTIF($D$67:$AA$67,$AM$90)*$AB$20","v":0},{"$f":"COUNTIF($D$67:$AA$67,$AN$90)*$AB$20","v":0},{"$f":"COUNTIF($D$67:$AA$67,$AO$90)*$AB$20","v":0},{"$f":"COUNTIF($D$67:$AA$67,$AP$90)*$AB$20","v":0},{"$f":"COUNTIF($D$67:$AA$67,$AQ$90)*$AB$20","v":0},{"$f":"COUNTIF($D$67:$AA$67,$AR$90)*$AB$20","v":0},{"$f":"COUNTIF($D$67:$AA$67,$AS$90)*$AB$20","v":0},12,0]
[null,null,1,{"$f":"COUNTIF($D$68:$AA$68,$D$90)*$AB$21","v":0},{"$f":"COUNTIF($D$68:$AA$68,$E$90)*$AB$21","v":0},{"$f":"COUNTIF($D$68:$AA$68,$F$90)*$AB$21","v":0},{"$f":"COUNTIF($D$68:$AA$68,$G$90)*$AB$21","v":0},{"$f":"COUNTIF($D$68:$AA$68,$H$90)*$AB$21","v":0},{"$f":"COUNTIF($D$68:$AA$68,$I$90)*$AB$21","v":0},{"$f":"COUNTIF($D$68:$AA$68,$J$90)*$AB$21","v":0},{"$f":"COUNTIF($D$68:$AA$68,$K$90)*$AB$21","v":0},{"$f":"COUNTIF($D$68:$AA$68,$L$90)*$AB$21","v":0},{"$f":"COUNTIF($D$68:$AA$68,$M$90)*$AB$21","v":0},{"$f":"COUNTIF($D$68:$AA$68,$N$90)*$AB$21","v":0},{"$f":"COUNTIF($D$68:$AA$68,$O$90)*$AB$21","v":0},{"$f":"COUNTIF($D$68:$AA$68,$P$90)*$AB$21","v":0},{"$f":"COUNTIF($D$68:$AA$68,$Q$90)*$AB$21","v":0},{"$f":"COUNTIF($D$68:$AA$68,$R$90)*$AB$21","v":0},{"$f":"COUNTIF($D$68:$AA$68,$S$90)*$AB$21","v":0},{"$f":"COUNTIF($D$68:$AA$68,$T$90)*$AB$21","v":0},{"$f":"COUNTIF($D$68:$AA$68,$U$90)*$AB$21","v":0},{"$f":"COUNTIF($D$68:$AA$68,$V$90)*$AB$21","v":0},{"$f":"COUNTIF($D$68:$AA$68,$W$90)*$AB$21","v":0},{"$f":"COUNTIF($D$68:$AA$68,$X$90)*$AB$21","v":0},{"$f":"COUNTIF($D$68:$AA$68,$Y$90)*$AB$21","v":0},{"$f":"COUNTIF($D$68:$AA$68,$Z$90)*$AB$21","v":0},{"$f":"COUNTIF($D$68:$AA$68,$AA$90)*$AB$21","v":0},{"$f":"COUNTIF($D$68:$AA$68,$AB$90)*$AB$21","v":0},{"$f":"COUNTIF($D$68:$AA$68,$AC$90)*$AB$21","v":0},{"$f":"COUNTIF($D$68:$AA$68,$AD$90)*$AB$21","v":0},{"$f":"COUNTIF($D$68:$AA$68,$AE$90)*$AB$21","v":0},{"$f":"COUNTIF($D$68:$AA$68,$AF$90)*$AB$21","v":0},{"$f":"COUNTIF($D$68:$AA$68,$AG$90)*$AB$21","v":0},{"$f":"COUNTIF($D$68:$AA$68,$AH$90)*$AB$21","v":0},{"$f":"COUNTIF($D$68:$AA$68,$AI$90)*$AB$21","v":0},{"$f":"COUNTIF($D$68:$AA$68,$AJ$90)*$AB$21","v":0},{"$f":"COUNTIF($D$68:$AA$68,$AK$90)*$AB$21","v":0},{"$f":"COUNTIF($D$68:$AA$68,$AL$90)*$AB$21","v":0},{"$f":"COUNTIF($D$68:$AA$68,$AM$90)*$AB$21","v":0},{"$f":"COUNTIF($D$68:$AA$68,$AN$90)*$AB$21","v":0},{"$f":"COUNTIF($D$68:$AA$68,$AO$90)*$AB$21","v":0},{"$f":"COUNTIF($D$68:$AA$68,$AP$90)*$AB$21","v":0},{"$f":"COUNTIF($D$68:$AA$68,$AQ$90)*$AB$21","v":0},{"$f":"COUNTIF($D$68:$AA$68,$AR$90)*$AB$21","v":0},{"$f":"COUNTIF($D$68:$AA$68,$AS$90)*$AB$21","v":0},1,0]
[null,null,2,{"$f":"COUNTIF($D$69:$AA$69,$D$90)*$AB$22","v":0},{"$f":"COUNTIF($D$69:$AA$69,$E$90)*$AB$22","v":0},{"$f":"COUNTIF($D$69:$AA$69,$F$90)*$AB$22","v":0},{"$f":"COUNTIF($D$69:$AA$69,$G$90)*$AB$22","v":0},{"$f":"COUNTIF($D$69:$AA$69,$H$90)*$AB$22","v":0},{"$f":"COUNTIF($D$69:$AA$69,$I$90)*$AB$22","v":0},{"$f":"COUNTIF($D$69:$AA$69,$J$90)*$AB$22","v":0},{"$f":"COUNTIF($D$69:$AA$69,$K$90)*$AB$22","v":0},{"$f":"COUNTIF($D$69:$AA$69,$L$90)*$AB$22","v":0},{"$f":"COUNTIF($D$69:$AA$69,$M$90)*$AB$22","v":0},{"$f":"COUNTIF($D$69:$AA$69,$N$90)*$AB$22","v":0},{"$f":"COUNTIF($D$69:$AA$69,$O$90)*$AB$22","v":0},{"$f":"COUNTIF($D$69:$AA$69,$P$90)*$AB$22","v":0},{"$f":"COUNTIF($D$69:$AA$69,$Q$90)*$AB$22","v":0},{"$f":"COUNTIF($D$69:$AA$69,$R$90)*$AB$22","v":0},{"$f":"COUNTIF($D$69:$AA$69,$S$90)*$AB$22","v":0},{"$f":"COUNTIF($D$69:$AA$69,$T$90)*$AB$22","v":0},{"$f":"COUNTIF($D$69:$AA$69,$U$90)*$AB$22","v":0},{"$f":"COUNTIF($D$69:$AA$69,$V$90)*$AB$22","v":0},{"$f":"COUNTIF($D$69:$AA$69,$W$90)*$AB$22","v":0},{"$f":"COUNTIF($D$69:$AA$69,$X$90)*$AB$22","v":0},{"$f":"COUNTIF($D$69:$AA$69,$Y$90)*$AB$22","v":0},{"$f":"COUNTIF($D$69:$AA$69,$Z$90)*$AB$22","v":0},{"$f":"COUNTIF($D$69:$AA$69,$AA$90)*$AB$22","v":0},{"$f":"COUNTIF($D$69:$AA$69,$AB$90)*$AB$22","v":0},{"$f":"COUNTIF($D$69:$AA$69,$AC$90)*$AB$22","v":0},{"$f":"COUNTIF($D$69:$AA$69,$AD$90)*$AB$22","v":0},{"$f":"COUNTIF($D$69:$AA$69,$AE$90)*$AB$22","v":0},{"$f":"COUNTIF($D$69:$AA$69,$AF$90)*$AB$22","v":0},{"$f":"COUNTIF($D$69:$AA$69,$AG$90)*$AB$22","v":0},{"$f":"COUNTIF($D$69:$AA$69,$AH$90)*$AB$22","v":0},{"$f":"COUNTIF($D$69:$AA$69,$AI$90)*$AB$22","v":0},{"$f":"COUNTIF($D$69:$AA$69,$AJ$90)*$AB$22","v":0},{"$f":"COUNTIF($D$69:$AA$69,$AK$90)*$AB$22","v":0},{"$f":"COUNTIF($D$69:$AA$69,$AL$90)*$AB$22","v":0},{"$f":"COUNTIF($D$69:$AA$69,$AM$90)*$AB$22","v":0},{"$f":"COUNTIF($D$69:$AA$69,$AN$90)*$AB$22","v":0},{"$f":"COUNTIF($D$69:$AA$69,$AO$90)*$AB$22","v":0},{"$f":"COUNTIF($D$69:$AA$69,$AP$90)*$AB$22","v":0},{"$f":"COUNTIF($D$69:$AA$69,$AQ$90)*$AB$22","v":0},{"$f":"COUNTIF($D$69:$AA$69,$AR$90)*$AB$22","v":0},{"$f":"COUNTIF($D$69:$AA$69,$AS$90)*$AB$22","v":0},2,0]
[null,null,3,{"$f":"COUNTIF($D$70:$AA$70,$D$90)*$AB$23","v":0},{"$f":"COUNTIF($D$70:$AA$70,$E$90)*$AB$23","v":0},{"$f":"COUNTIF($D$70:$AA$70,$F$90)*$AB$23","v":0},{"$f":"COUNTIF($D$70:$AA$70,$G$90)*$AB$23","v":0},{"$f":"COUNTIF($D$70:$AA$70,$H$90)*$AB$23","v":0},{"$f":"COUNTIF($D$70:$AA$70,$I$90)*$AB$23","v":0},{"$f":"COUNTIF($D$70:$AA$70,$J$90)*$AB$23","v":0},{"$f":"COUNTIF($D$70:$AA$70,$K$90)*$AB$23","v":0},{"$f":"COUNTIF($D$70:$AA$70,$L$90)*$AB$23","v":0},{"$f":"COUNTIF($D$70:$AA$70,$M$90)*$AB$23","v":0},{"$f":"COUNTIF($D$70:$AA$70,$N$90)*$AB$23","v":0},{"$f":"COUNTIF($D$70:$AA$70,$O$90)*$AB$23","v":0},{"$f":"COUNTIF($D$70:$AA$70,$P$90)*$AB$23","v":0},{"$f":"COUNTIF($D$70:$AA$70,$Q$90)*$AB$23","v":0},{"$f":"COUNTIF($D$70:$AA$70,$R$90)*$AB$23","v":0},{"$f":"COUNTIF($D$70:$AA$70,$S$90)*$AB$23","v":0},{"$f":"COUNTIF($D$70:$AA$70,$T$90)*$AB$23","v":0},{"$f":"COUNTIF($D$70:$AA$70,$U$90)*$AB$23","v":0},{"$f":"COUNTIF($D$70:$AA$70,$V$90)*$AB$23","v":0},{"$f":"COUNTIF($D$70:$AA$70,$W$90)*$AB$23","v":0},{"$f":"COUNTIF($D$70:$AA$70,$X$90)*$AB$23","v":0},{"$f":"COUNTIF($D$70:$AA$70,$Y$90)*$AB$23","v":0},{"$f":"COUNTIF($D$70:$AA$70,$Z$90)*$AB$23","v":0},{"$f":"COUNTIF($D$70:$AA$70,$AA$90)*$AB$23","v":0},{"$f":"COUNTIF($D$70:$AA$70,$AB$90)*$AB$23","v":0},{"$f":"COUNTIF($D$70:$AA$70,$AC$90)*$AB$23","v":0},{"$f":"COUNTIF($D$70:$AA$70,$AD$90)*$AB$23","v":0},{"$f":"COUNTIF($D$70:$AA$70,$AE$90)*$AB$23","v":0},{"$f":"COUNTIF($D$70:$AA$70,$AF$90)*$AB$23","v":0},{"$f":"COUNTIF($D$70:$AA$70,$AG$90)*$AB$23","v":0},{"$f":"COUNTIF($D$70:$AA$70,$AH$90)*$AB$23","v":0},{"$f":"COUNTIF($D$70:$AA$70,$AI$90)*$AB$23","v":0},{"$f":"COUNTIF($D$70:$AA$70,$AJ$90)*$AB$23","v":0},{"$f":"COUNTIF($D$70:$AA$70,$AK$90)*$AB$23","v":0},{"$f":"COUNTIF($D$70:$AA$70,$AL$90)*$AB$23","v":0},{"$f":"COUNTIF($D$70:$AA$70,$AM$90)*$AB$23","v":0},{"$f":"COUNTIF($D$70:$AA$70,$AN$90)*$AB$23","v":0},{"$f":"COUNTIF($D$70:$AA$70,$AO$90)*$AB$23","v":0},{"$f":"COUNTIF($D$70:$AA$70,$AP$90)*$AB$23","v":0},{"$f":"COUNTIF($D$70:$AA$70,$AQ$90)*$AB$23","v":0},{"$f":"COUNTIF($D$70:$AA$70,$AR$90)*$AB$23","v":0},{"$f":"COUNTIF($D$70:$AA$70,$AS$90)*$AB$23","v":0},3,0]
[null,null,"発生時間",{"$f":"SUM($D$91:$D$102)","v":0},{"$f":"SUM($E$91:$E$102)","v":0},{"$f":"SUM($F$91:$F$102)","v":0},{"$f":"SUM($G$91:$G$102)","v":0},{"$f":"SUM($H$91:$H$102)","v":0},{"$f":"SUM($I$91:$I$102)","v":0},{"$f":"SUM($J$91:$J$102)","v":0},{"$f":"SUM($K$91:$K$102)","v":0},{"$f":"SUM($L$91:$L$102)","v":0},{"$f":"SUM($M$91:$M$102)","v":0},{"$f":"SUM($N$91:$N$102)","v":0},{"$f":"SUM($O$91:$O$102)","v":0},{"$f":"SUM($P$91:$P$102)","v":0},{"$f":"SUM($Q$91:$Q$102)","v":0},{"$f":"SUM($R$91:$R$102)","v":0},{"$f":"SUM($S$91:$S$102)","v":0},{"$f":"SUM($T$91:$T$102)","v":0},{"$f":"SUM($U$91:$U$102)","v":0},{"$f":"SUM($V$91:$V$102)","v":0},{"$f":"SUM($W$91:$W$102)","v":0},{"$f":"SUM($X$91:$X$102)","v":0},{"$f":"SUM($Y$91:$Y$102)","v":0},{"$f":"SUM($Z$91:$Z$102)","v":0},{"$f":"SUM($AA$91:$AA$102)","v":0},{"$f":"SUM($AB$91:$AB$102)","v":0},{"$f":"SUM($AC$91:$AC$102)","v":0},{"$f":"SUM($AD$91:$AD$102)","v":0},{"$f":"SUM($AE$91:$AE$102)","v":0},{"$f":"SUM($AF$91:$AF$102)","v":0},{"$f":"SUM($AG$91:$AG$102)","v":0},{"$f":"SUM($AH$91:$AH$102)","v":0},{"$f":"SUM($AI$91:$AI$102)","v":0},{"$f":"SUM($AJ$91:$AJ$102)","v":0},{"$f":"SUM($AK$91:$AK$102)","v":0},{"$f":"SUM($AL$91:$AL$102)","v":0},{"$f":"SUM($AM$91:$AM$102)","v":0},{"$f":"SUM($AN$91:$AN$102)","v":0},{"$f":"SUM($AO$91:$AO$102)","v":0},{"$f":"SUM($AP$91:$AP$102)","v":0},{"$f":"SUM($AQ$91:$AQ$102)","v":0},{"$f":"SUM($AR$91:$AR$102)","v":0},{"$f":"SUM($AS$91:$AS$102)","v":0},"発生時間"]
[null,"εc","冷房時消費電力比",{"$f":"$D$105/$D$109","v":0},{"$f":"$E$105/$E$109","v":0},{"$f":"$F$105/$F$109","v":0},{"$f":"$G$105/$G$109","v":0},{"$f":"$H$105/$H$109","v":0},{"$f":"$I$105/$I$109","v":0},{"$f":"$J$105/$J$109","v":0},{"$f":"$K$105/$K$109","v":0},{"$f":"$L$105/$L$109","v":0},{"$f":"$M$105/$M$109","v":0},{"$f":"$N$105/$N$109","v":0},{"$f":"$O$105/$O$109","v":0},{"$f":"$P$105/$P$109","v":0},{"$f":"$Q$105/$Q$109","v":0},{"$f":"$R$105/$R$109","v":0},{"$f":"$S$105/$S$109","v":0},{"$f":"$T$105/$T$109","v":0},{"$f":"$U$105/$U$109","v":0},{"$f":"$V$105/$V$109","v":0},{"$f":"$W$105/$W$109","v":0},{"$f":"$X$105/$X$109","v":0},{"$f":"$Y$105/$Y$109","v":0},{"$f":"$Z$105/$Z$109","v":0},{"$f":"$AA$105/$AA$109","v":0},{"$f":"$AB$105/$AB$109","v":0},{"$f":"$AC$105/$AC$109","v":3.7610619469026565E-2},{"$f":"$AD$105/$AD$109","v":7.7444814403748966E-2},{"$f":"$AE$105/$AE$109","v":0.11957515416451978},{"$f":"$AF$105/$AF$109","v":0.16407740070746205},{"$f":"$AG$105/$AG$109","v":0.21103068610459791},{"$f":"$AH$105/$AH$109","v":0.26051770204211372},{"$f":"$AI$105/$AI$109","v":0.31262490225041267},{"$f":"$AJ$105/$AJ$109","v":0.36744271890737462},{"$f":"$AK$105/$AK$109","v":0.42506579415321138},{"$f":"$AL$105/$AL$109","v":0.48559322796254145},{"$f":"$AM$105/$AM$109","v":0.54912884373805226},{"$f":"$AN$105/$AN$109","v":0.61578147312174669},{"$f":"$AO$105/$AO$109","v":0.68566526166585851},{"$f":"$AP$105/$AP$109","v":0.75889999716786083},{"$f":"$AQ$105/$AQ$109","v":0.83561146265461006},{"$f":"$AR$105/$AR$109","v":0.9159318162018798},{"$f":"$AS$105/$AS$109","v":0.99999999999999978},"冷房時消費電力比","εc"]
[null,"αc","冷房空調負荷率",{"$f":"IF((1/(35-$G$25))*$D$90-$G$25/(35-$G$25)<0,0,IF((1/(35-$G$25))*$D$90-$G$25/(35-$G$25)>1,1,(1/(35-$G$25))*$D$90-$G$25/(35-$G$25)))","v":0},{"$f":"IF((1/(35-$G$25))*$E$90-$G$25/(35-$G$25)<0,0,IF((1/(35-$G$25))*$E$90-$G$25/(35-$G$25)>1,1,(1/(35-$G$25))*$E$90-$G$25/(35-$G$25)))","v":0},{"$f":"IF((1/(35-$G$25))*$F$90-$G$25/(35-$G$25)<0,0,IF((1/(35-$G$25))*$F$90-$G$25/(35-$G$25)>1,1,(1/(35-$G$25))*$F$90-$G$25/(35-$G$25)))","v":0},{"$f":"IF((1/(35-$G$25))*$G$90-$G$25/(35-$G$25)<0,0,IF((1/(35-$G$25))*$G$90-$G$25/(35-$G$25)>1,1,(1/(35-$G$25))*$G$90-$G$25/(35-$G$25)))","v":0},{"$f":"IF((1/(35-$G$25))*$H$90-$G$25/(35-$G$25)<0,0,IF((1/(35-$G$25))*$H$90-$G$25/(35-$G$25)>1,1,(1/(35-$G$25))*$H$90-$G$25/(35-$G$25)))","v":0},{"$f":"IF((1/(35-$G$25))*$I$90-$G$25/(35-$G$25)<0,0,IF((1/(35-$G$25))*$I$90-$G$25/(35-$G$25)>1,1,(1/(35-$G$25))*$I$90-$G$25/(35-$G$25)))","v":0},{"$f":"IF((1/(35-$G$25))*$J$90-$G$25/(35-$G$25)<0,0,IF((1/(35-$G$25))*$J$90-$G$25/(35-$G$25)>1,1,(1/(35-$G$25))*$J$90-$G$25/(35-$G$25)))","v":0},{"$f":"IF((1/(35-$G$25))*$K$90-$G$25/(35-$G$25)<0,0,IF((1/(35-$G$25))*$K$90-$G$25/(35-$G$25)>1,1,(1/(35-$G$25))*$K$90-$G$25/(35-$G$25)))","v":0},{"$f":"IF((1/(35-$G$25))*$L$90-$G$25/(35-$G$25)<0,0,IF((1/(35-$G$25))*$L$90-$G$25/(35-$G$25)>1,1,(1/(35-$G$25))*$L$90-$G$25/(35-$G$25)))","v":0},{"$f":"IF((1/(35-$G$25))*$M$90-$G$25/(35-$G$25)<0,0,IF((1/(35-$G$25))*$M$90-$G$25/(35-$G$25)>1,1,(1/(35-$G$25))*$M$90-$G$25/(35-$G$25)))","v":0},{"$f":"IF((1/(35-$G$25))*$N$90-$G$25/(35-$G$25)<0,0,IF((1/(35-$G$25))*$N$90-$G$25/(35-$G$25)>1,1,(1/(35-$G$25))*$N$90-$G$25/(35-$G$25)))","v":0},{"$f":"IF((1/(35-$G$25))*$O$90-$G$25/(35-$G$25)<0,0,IF((1/(35-$G$25))*$O$90-$G$25/(35-$G$25)>1,1,(1/(35-$G$25))*$O$90-$G$25/(35-$G$25)))","v":0},{"$f":"IF((1/(35-$G$25))*$P$90-$G$25/(35-$G$25)<0,0,IF((1/(35-$G$25))*$P$90-$G$25/(35-$G$25)>1,1,(1/(35-$G$25))*$P$90-$G$25/(35-$G$25)))","v":0},{"$f":"IF((1/(35-$G$25))*$Q$90-$G$25/(35-$G$25)<0,0,IF((1/(35-$G$25))*$Q$90-$G$25/(35-$G$25)>1,1,(1/(35-$G$25))*$Q$90-$G$25/(35-$G$25)))","v":0},{"$f":"IF((1/(35-$G$25))*$R$90-$G$25/(35-$G$25)<0,0,IF((1/(35-$G$25))*$R$90-$G$25/(35-$G$25)>1,1,(1/(35-$G$25))*$R$90-$G$25/(35-$G$25)))","v":0},{"$f":"IF((1/(35-$G$25))*$S$90-$G$25/(35-$G$25)<0,0,IF((1/(35-$G$25))*$S$90-$G$25/(35-$G$25)>1,1,(1/(35-$G$25))*$S$90-$G$25/(35-$G$25)))","v":0},{"$f":"IF((1/(35-$G$25))*$T$90-$G$25/(35-$G$25)<0,0,IF((1/(35-$G$25))*$T$90-$G$25/(35-$G$25)>1,1,(1/(35-$G$25))*$T$90-$G$25/(35-$G$25)))","v":0},{"$f":"IF((1/(35-$G$25))*$U$90-$G$25/(35-$G$25)<0,0,IF((1/(35-$G$25))*$U$90-$G$25/(35-$G$25)>1,1,(1/(35-$G$25))*$U$90-$G$25/(35-$G$25)))","v":0},{"$f":"IF((1/(35-$G$25))*$V$90-$G$25/(35-$G$25)<0,0,IF((1/(35-$G$25))*$V$90-$G$25/(35-$G$25)>1,1,(1/(35-$G$25))*$V$90-$G$25/(35-$G$25)))","v":0},{"$f":"IF((1/(35-$G$25))*$W$90-$G$25/(35-$G$25)<0,0,IF((1/(35-$G$25))*$W$90-$G$25/(35-$G$25)>1,1,(1/(35-$G$25))*$W$90-$G$25/(35-$G$25)))","v":0},{"$f":"IF((1/(35-$G$25))*$X$90-$G$25/(35-$G$25)<0,0,IF((1/(35-$G$25))*$X$90-$G$25/(35-$G$25)>1,1,(1/(35-$G$25))*$X$90-$G$25/(35-$G$25)))","v":0},{"$f":"IF((1/(35-$G$25))*$Y$90-$G$25/(35-$G$25)<0,0,IF((1/(35-$G$25))*$Y$90-$G$25/(35-$G$25)>1,1,(1/(35-$G$25))*$Y$90-$G$25/(35-$G$25)))","v":0},{"$f":"IF((1/(35-$G$25))*$Z$90-$G$25/(35-$G$25)<0,0,IF((1/(35-$G$25))*$Z$90-$G$25/(35-$G$25)>1,1,(1/(35-$G$25))*$Z$90-$G$25/(35-$G$25)))","v":0},{"$f":"IF((1/(35-$G$25))*$AA$90-$G$25/(35-$G$25)<0,0,IF((1/(35-$G$25))*$AA$90-$G$25/(35-$G$25)>1,1,(1/(35-$G$25))*$AA$90-$G$25/(35-$G$25)))","v":0},{"$f":"IF((1/(35-$G$25))*$AB$90-$G$25/(35-$G$25)<0,0,IF((1/(35-$G$25))*$AB$90-$G$25/(35-$G$25)>1,1,(1/(35-$G$25))*$AB$90-$G$25/(35-$G$25)))","v":0},{"$f":"IF((1/(35-$G$25))*$AC$90-$G$25/(35-$G$25)<0,0,IF((1/(35-$G$25))*$AC$90-$G$25/(35-$G$25)>1,1,(1/(35-$G$25))*$AC$90-$G$25/(35-$G$25)))","v":5.8823529411764719E-2},{"$f":"IF((1/(35-$G$25))*$AD$90-$G$25/(35-$G$25)<0,0,IF((1/(35-$G$25))*$AD$90-$G$25/(35-$G$25)>1,1,(1/(35-$G$25))*$AD$90-$G$25/(35-$G$25)))","v":0.11764705882352944},{"$f":"IF((1/(35-$G$25))*$AE$90-$G$25/(35-$G$25)<0,0,IF((1/(35-$G$25))*$AE$90-$G$25/(35-$G$25)>1,1,(1/(35-$G$25))*$AE$90-$G$25/(35-$G$25)))","v":0.17647058823529416},{"$f":"IF((1/(35-$G$25))*$AF$90-$G$25/(35-$G$25)<0,0,IF((1/(35-$G$25))*$AF$90-$G$25/(35-$G$25)>1,1,(1/(35-$G$25))*$AF$90-$G$25/(35-$G$25)))","v":0.23529411764705888},{"$f":"IF((1/(35-$G$25))*$AG$90-$G$25/(35-$G$25)<0,0,IF((1/(35-$G$25))*$AG$90-$G$25/(35-$G$25)>1,1,(1/(35-$G$25))*$AG$90-$G$25/(35-$G$25)))","v":0.29411764705882359},{"$f":"IF((1/(35-$G$25))*$AH$90-$G$25/(35-$G$25)<0,0,IF((1/(35-$G$25))*$AH$90-$G$25/(35-$G$25)>1,1,(1/(35-$G$25))*$AH$90-$G$25/(35-$G$25)))","v":0.35294117647058809},{"$f":"IF((1/(35-$G$25))*$AI$90-$G$25/(35-$G$25)<0,0,IF((1/(35-$G$25))*$AI$90-$G$25/(35-$G$25)>1,1,(1/(35-$G$25))*$AI$90-$G$25/(35-$G$25)))","v":0.41176470588235281},{"$f":"IF((1/(35-$G$25))*$AJ$90-$G$25/(35-$G$25)<0,0,IF((1/(35-$G$25))*$AJ$90-$G$25/(35-$G$25)>1,1,(1/(35-$G$25))*$AJ$90-$G$25/(35-$G$25)))","v":0.47058823529411753},{"$f":"IF((1/(35-$G$25))*$AK$90-$G$25/(35-$G$25)<0,0,IF((1/(35-$G$25))*$AK$90-$G$25/(35-$G$25)>1,1,(1/(35-$G$25))*$AK$90-$G$25/(35-$G$25)))","v":0.52941176470588225},{"$f":"IF((1/(35-$G$25))*$AL$90-$G$25/(35-$G$25)<0,0,IF((1/(35-$G$25))*$AL$90-$G$25/(35-$G$25)>1,1,(1/(35-$G$25))*$AL$90-$G$25/(35-$G$25)))","v":0.58823529411764697},{"$f":"IF((1/(35-$G$25))*$AM$90-$G$25/(35-$G$25)<0,0,IF((1/(35-$G$25))*$AM$90-$G$25/(35-$G$25)>1,1,(1/(35-$G$25))*$AM$90-$G$25/(35-$G$25)))","v":0.64705882352941169},{"$f":"IF((1/(35-$G$25))*$AN$90-$G$25/(35-$G$25)<0,0,IF((1/(35-$G$25))*$AN$90-$G$25/(35-$G$25)>1,1,(1/(35-$G$25))*$AN$90-$G$25/(35-$G$25)))","v":0.70588235294117641},{"$f":"IF((1/(35-$G$25))*$AO$90-$G$25/(35-$G$25)<0,0,IF((1/(35-$G$25))*$AO$90-$G$25/(35-$G$25)>1,1,(1/(35-$G$25))*$AO$90-$G$25/(35-$G$25)))","v":0.76470588235294112},{"$f":"IF((1/(35-$G$25))*$AP$90-$G$25/(35-$G$25)<0,0,IF((1/(35-$G$25))*$AP$90-$G$25/(35-$G$25)>1,1,(1/(35-$G$25))*$AP$90-$G$25/(35-$G$25)))","v":0.82352941176470584},{"$f":"IF((1/(35-$G$25))*$AQ$90-$G$25/(35-$G$25)<0,0,IF((1/(35-$G$25))*$AQ$90-$G$25/(35-$G$25)>1,1,(1/(35-$G$25))*$AQ$90-$G$25/(35-$G$25)))","v":0.88235294117647056},{"$f":"IF((1/(35-$G$25))*$AR$90-$G$25/(35-$G$25)<0,0,IF((1/(35-$G$25))*$AR$90-$G$25/(35-$G$25)>1,1,(1/(35-$G$25))*$AR$90-$G$25/(35-$G$25)))","v":0.94117647058823528},{"$f":"IF((1/(35-$G$25))*$AS$90-$G$25/(35-$G$25)<0,0,IF((1/(35-$G$25))*$AS$90-$G$25/(35-$G$25)>1,1,(1/(35-$G$25))*$AS$90-$G$25/(35-$G$25)))","v":0.99999999999999978},"冷房空調負荷率","αc"]
[null,"Φc","冷房能力",{"$f":"($G$29-1.077*$G$29)/(35-29)*($D$90-35)+$G$29","v":33.575666666666663},{"$f":"($G$29-1.077*$G$29)/(35-29)*($E$90-35)+$G$29","v":33.293333333333322},{"$f":"($G$29-1.077*$G$29)/(35-29)*($F$90-35)+$G$29","v":33.010999999999996},{"$f":"($G$29-1.077*$G$29)/(35-29)*($G$90-35)+$G$29","v":32.728666666666662},{"$f":"($G$29-1.077*$G$29)/(35-29)*($H$90-35)+$G$29","v":32.446333333333328},{"$f":"($G$29-1.077*$G$29)/(35-29)*($I$90-35)+$G$29","v":32.163999999999994},{"$f":"($G$29-1.077*$G$29)/(35-29)*($J$90-35)+$G$29","v":31.881666666666661},{"$f":"($G$29-1.077*$G$29)/(35-29)*($K$90-35)+$G$29","v":31.599333333333327},{"$f":"($G$29-1.077*$G$29)/(35-29)*($L$90-35)+$G$29","v":31.316999999999993},{"$f":"($G$29-1.077*$G$29)/(35-29)*($M$90-35)+$G$29","v":31.034666666666659},{"$f":"($G$29-1.077*$G$29)/(35-29)*($N$90-35)+$G$29","v":30.752333333333326},{"$f":"($G$29-1.077*$G$29)/(35-29)*($O$90-35)+$G$29","v":30.469999999999995},{"$f":"($G$29-1.077*$G$29)/(35-29)*($P$90-35)+$G$29","v":30.187666666666662},{"$f":"($G$29-1.077*$G$29)/(35-29)*($Q$90-35)+$G$29","v":29.905333333333328},{"$f":"($G$29-1.077*$G$29)/(35-29)*($R$90-35)+$G$29","v":29.622999999999994},{"$f":"($G$29-1.077*$G$29)/(35-29)*($S$90-35)+$G$29","v":29.340666666666664},{"$f":"($G$29-1.077*$G$29)/(35-29)*($T$90-35)+$G$29","v":29.05833333333333},{"$f":"($G$29-1.077*$G$29)/(35-29)*($U$90-35)+$G$29","v":28.775999999999996},{"$f":"($G$29-1.077*$G$29)/(35-29)*($V$90-35)+$G$29","v":28.493666666666662},{"$f":"($G$29-1.077*$G$29)/(35-29)*($W$90-35)+$G$29","v":28.211333333333329},{"$f":"($G$29-1.077*$G$29)/(35-29)*($X$90-35)+$G$29","v":27.928999999999995},{"$f":"($G$29-1.077*$G$29)/(35-29)*($Y$90-35)+$G$29","v":27.646666666666661},{"$f":"($G$29-1.077*$G$29)/(35-29)*($Z$90-35)+$G$29","v":27.364333333333331},{"$f":"($G$29-1.077*$G$29)/(35-29)*($AA$90-35)+$G$29","v":27.081999999999997},{"$f":"($G$29-1.077*$G$29)/(35-29)*($AB$90-35)+$G$29","v":26.799666666666663},{"$f":"($G$29-1.077*$G$29)/(35-29)*($AC$90-35)+$G$29","v":26.51733333333333},{"$f":"($G$29-1.077*$G$29)/(35-29)*($AD$90-35)+$G$29","v":26.234999999999999},{"$f":"($G$29-1.077*$G$29)/(35-29)*($AE$90-35)+$G$29","v":25.952666666666666},{"$f":"($G$29-1.077*$G$29)/(35-29)*($AF$90-35)+$G$29","v":25.670333333333332},{"$f":"($G$29-1.077*$G$29)/(35-29)*($AG$90-35)+$G$29","v":25.387999999999998},{"$f":"($G$29-1.077*$G$29)/(35-29)*($AH$90-35)+$G$29","v":25.105666666666664},{"$f":"($G$29-1.077*$G$29)/(35-29)*($AI$90-35)+$G$29","v":24.823333333333331},{"$f":"($G$29-1.077*$G$29)/(35-29)*($AJ$90-35)+$G$29","v":24.540999999999997},{"$f":"($G$29-1.077*$G$29)/(35-29)*($AK$90-35)+$G$29","v":24.258666666666667},{"$f":"($G$29-1.077*$G$29)/(35-29)*($AL$90-35)+$G$29","v":23.976333333333333},{"$f":"($G$29-1.077*$G$29)/(35-29)*($AM$90-35)+$G$29","v":23.693999999999999},{"$f":"($G$29-1.077*$G$29)/(35-29)*($AN$90-35)+$G$29","v":23.411666666666665},{"$f":"($G$29-1.077*$G$29)/(35-29)*($AO$90-35)+$G$29","v":23.129333333333332},{"$f":"($G$29-1.077*$G$29)/(35-29)*($AP$90-35)+$G$29","v":22.847000000000001},{"$f":"($G$29-1.077*$G$29)/(35-29)*($AQ$90-35)+$G$29","v":22.564666666666668},{"$f":"($G$29-1.077*$G$29)/(35-29)*($AR$90-35)+$G$29","v":22.282333333333334},{"$f":"($G$29-1.077*$G$29)/(35-29)*($AS$90-35)+$G$29","v":22},"冷房能力","Φc"]
[null,"Pc","消費電力",{"$f":"($G$30-0.914*$G$30)/(35-29)*($D$90-35)+$G$30","v":2.7214000000000018},{"$f":"($G$30-0.914*$G$30)/(35-29)*($E$90-35)+$G$30","v":2.8160000000000016},{"$f":"($G$30-0.914*$G$30)/(35-29)*($F$90-35)+$G$30","v":2.9106000000000019},{"$f":"($G$30-0.914*$G$30)/(35-29)*($G$90-35)+$G$30","v":3.0052000000000016},{"$f":"($G$30-0.914*$G$30)/(35-29)*($H$90-35)+$G$30","v":3.0998000000000014},{"$f":"($G$30-0.914*$G$30)/(35-29)*($I$90-35)+$G$30","v":3.1944000000000017},{"$f":"($G$30-0.914*$G$30)/(35-29)*($J$90-35)+$G$30","v":3.2890000000000015},{"$f":"($G$30-0.914*$G$30)/(35-29)*($K$90-35)+$G$30","v":3.3836000000000013},{"$f":"($G$30-0.914*$G$30)/(35-29)*($L$90-35)+$G$30","v":3.4782000000000015},{"$f":"($G$30-0.914*$G$30)/(35-29)*($M$90-35)+$G$30","v":3.5728000000000013},{"$f":"($G$30-0.914*$G$30)/(35-29)*($N$90-35)+$G$30","v":3.6674000000000011},{"$f":"($G$30-0.914*$G$30)/(35-29)*($O$90-35)+$G$30","v":3.7620000000000013},{"$f":"($G$30-0.914*$G$30)/(35-29)*($P$90-35)+$G$30","v":3.8566000000000011},{"$f":"($G$30-0.914*$G$30)/(35-29)*($Q$90-35)+$G$30","v":3.9512000000000009},{"$f":"($G$30-0.914*$G$30)/(35-29)*($R$90-35)+$G$30","v":4.0458000000000016},{"$f":"($G$30-0.914*$G$30)/(35-29)*($S$90-35)+$G$30","v":4.1404000000000014},{"$f":"($G$30-0.914*$G$30)/(35-29)*($T$90-35)+$G$30","v":4.2350000000000012},{"$f":"($G$30-0.914*$G$30)/(35-29)*($U$90-35)+$G$30","v":4.329600000000001},{"$f":"($G$30-0.914*$G$30)/(35-29)*($V$90-35)+$G$30","v":4.4242000000000008},{"$f":"($G$30-0.914*$G$30)/(35-29)*($W$90-35)+$G$30","v":4.5188000000000006},{"$f":"($G$30-0.914*$G$30)/(35-29)*($X$90-35)+$G$30","v":4.6134000000000004},{"$f":"($G$30-0.914*$G$30)/(35-29)*($Y$90-35)+$G$30","v":4.7080000000000002},{"$f":"($G$30-0.914*$G$30)/(35-29)*($Z$90-35)+$G$30","v":4.8026000000000009},{"$f":"($G$30-0.914*$G$30)/(35-29)*($AA$90-35)+$G$30","v":4.8972000000000007},{"$f":"($G$30-0.914*$G$30)/(35-29)*($AB$90-35)+$G$30","v":4.9918000000000005},{"$f":"($G$30-0.914*$G$30)/(35-29)*($AC$90-35)+$G$30","v":5.0864000000000003},{"$f":"($G$30-0.914*$G$30)/(35-29)*($AD$90-35)+$G$30","v":5.1810000000000009},{"$f":"($G$30-0.914*$G$30)/(35-29)*($AE$90-35)+$G$30","v":5.2756000000000007},{"$f":"($G$30-0.914*$G$30)/(35-29)*($AF$90-35)+$G$30","v":5.3702000000000005},{"$f":"($G$30-0.914*$G$30)/(35-29)*($AG$90-35)+$G$30","v":5.4648000000000003},{"$f":"($G$30-0.914*$G$30)/(35-29)*($AH$90-35)+$G$30","v":5.5594000000000001},{"$f":"($G$30-0.914*$G$30)/(35-29)*($AI$90-35)+$G$30","v":5.6539999999999999},{"$f":"($G$30-0.914*$G$30)/(35-29)*($AJ$90-35)+$G$30","v":5.7485999999999997},{"$f":"($G$30-0.914*$G$30)/(35-29)*($AK$90-35)+$G$30","v":5.8432000000000004},{"$f":"($G$30-0.914*$G$30)/(35-29)*($AL$90-35)+$G$30","v":5.9378000000000002},{"$f":"($G$30-0.914*$G$30)/(35-29)*($AM$90-35)+$G$30","v":6.0324},{"$f":"($G$30-0.914*$G$30)/(35-29)*($AN$90-35)+$G$30","v":6.1269999999999998},{"$f":"($G$30-0.914*$G$30)/(35-29)*($AO$90-35)+$G$30","v":6.2215999999999996},{"$f":"($G$30-0.914*$G$30)/(35-29)*($AP$90-35)+$G$30","v":6.3162000000000003},{"$f":"($G$30-0.914*$G$30)/(35-29)*($AQ$90-35)+$G$30","v":6.4108000000000001},{"$f":"($G$30-0.914*$G$30)/(35-29)*($AR$90-35)+$G$30","v":6.5053999999999998},{"$f":"($G$30-0.914*$G$30)/(35-29)*($AS$90-35)+$G$30","v":6.6},"消費電力","Pc"]
[null,"σc","COP",{"$f":"$D$106/$D$107","v":12.337644839665849},{"$f":"$E$106/$E$107","v":11.822916666666655},{"$f":"$F$106/$F$107","v":11.34164777021919},{"$f":"$G$106/$G$107","v":10.890678379697405},{"$f":"$H$106/$H$107","v":10.46723444523302},{"$f":"$I$106/$I$107","v":10.068870523415971},{"$f":"$J$106/$J$107","v":9.6934225195094701},{"$f":"$K$106/$K$107","v":9.3389683571738136},{"$f":"$L$106/$L$107","v":9.003795066413657},{"$f":"$M$106/$M$107","v":8.6863711001641981},{"$f":"$N$106/$N$107","v":8.385322935412912},{"$f":"$O$106/$O$107","v":8.0994152046783583},{"$f":"$P$106/$P$107","v":7.827533751663811},{"$f":"$Q$106/$Q$107","v":7.5686711210096478},{"$f":"$R$106/$R$107","v":7.3219140837411594},{"$f":"$S$106/$S$107","v":7.0864328728303194},{"$f":"$T$106/$T$107","v":6.8614718614718591},{"$f":"$U$106/$U$107","v":6.6463414634146316},{"$f":"$V$106/$V$107","v":6.440411072434939},{"$f":"$W$106/$W$107","v":6.2431028886725075},{"$f":"$X$106/$X$107","v":6.0538865045302801},{"$f":"$Y$106/$Y$107","v":5.872274143302179},{"$f":"$Z$106/$Z$107","v":5.6978164605283235},{"$f":"$AA$106/$AA$107","v":5.5300988319856232},{"$f":"$AB$106/$AB$107","v":5.3687380637578954},{"$f":"$AC$106/$AC$107","v":5.2133794694348321},{"$f":"$AD$106/$AD$107","v":5.0636942675159222},{"$f":"$AE$106/$AE$107","v":4.919377258826799},{"$f":"$AF$106/$AF$107","v":4.7801447494196356},{"$f":"$AG$106/$AG$107","v":4.6457326892109494},{"$f":"$AH$106/$AH$107","v":4.5158950006595431},{"$f":"$AI$106/$AI$107","v":4.3904020752269775},{"$f":"$AJ$106/$AJ$107","v":4.2690394182931497},{"$f":"$AK$106/$AK$107","v":4.1516064257028109},{"$f":"$AL$106/$AL$107","v":4.0379152772631839},{"$f":"$AM$106/$AM$107","v":3.9277899343544855},{"$f":"$AN$106/$AN$107","v":3.8210652304009574},{"$f":"$AO$106/$AO$107","v":3.7175860443187174},{"$f":"$AP$106/$AP$107","v":3.6172065482410312},{"$f":"$AQ$106/$AQ$107","v":3.5197895218485473},{"$f":"$AR$106/$AR$107","v":3.4252057265246312},{"$f":"$AS$106/$AS$107","v":3.3333333333333335},"COP","σc"]
[null,"βc","冷房COP比",{"$f":"$D$108/$AS$108","v":3.7012934518997547},{"$f":"$E$108/$AS$108","v":3.5468749999999964},{"$f":"$F$108/$AS$108","v":3.4024943310657569},{"$f":"$G$108/$AS$108","v":3.2672035139092213},{"$f":"$H$108/$AS$108","v":3.1401703335699058},{"$f":"$I$108/$AS$108","v":3.020661157024791},{"$f":"$J$108/$AS$108","v":2.9080267558528408},{"$f":"$K$108/$AS$108","v":2.8016905071521441},{"$f":"$L$108/$AS$108","v":2.7011385199240969},{"$f":"$M$108/$AS$108","v":2.6059113300492593},{"$f":"$N$108/$AS$108","v":2.5155968806238733},{"$f":"$O$108/$AS$108","v":2.4298245614035072},{"$f":"$P$108/$AS$108","v":2.3482601254991433},{"$f":"$Q$108/$AS$108","v":2.2706013363028941},{"$f":"$R$108/$AS$108","v":2.1965742251223479},{"$f":"$S$108/$AS$108","v":2.1259298618490958},{"$f":"$T$108/$AS$108","v":2.0584415584415576},{"$f":"$U$108/$AS$108","v":1.9939024390243894},{"$f":"$V$108/$AS$108","v":1.9321233217304816},{"$f":"$W$108/$AS$108","v":1.8729308666017521},{"$f":"$X$108/$AS$108","v":1.816165951359084},{"$f":"$Y$108/$AS$108","v":1.7616822429906536},{"$f":"$Z$108/$AS$108","v":1.7093449381584969},{"$f":"$AA$108/$AS$108","v":1.6590296495956869},{"$f":"$AB$108/$AS$108","v":1.6106214191273684},{"$f":"$AC$108/$AS$108","v":1.5640138408304496},{"$f":"$AD$108/$AS$108","v":1.5191082802547766},{"$f":"$AE$108/$AS$108","v":1.4758131776480397},{"$f":"$AF$108/$AS$108","v":1.4340434248258906},{"$f":"$AG$108/$AS$108","v":1.3937198067632848},{"$f":"$AH$108/$AS$108","v":1.3547685001978629},{"$f":"$AI$108/$AS$108","v":1.3171206225680931},{"$f":"$AJ$108/$AS$108","v":1.2807118254879448},{"$f":"$AK$108/$AS$108","v":1.2454819277108433},{"$f":"$AL$108/$AS$108","v":1.2113745831789551},{"$f":"$AM$108/$AS$108","v":1.1783369803063457},{"$f":"$AN$108/$AS$108","v":1.1463195691202872},{"$f":"$AO$108/$AS$108","v":1.1152758132956151},{"$f":"$AP$108/$AS$108","v":1.0851619644723094},{"$f":"$AQ$108/$AS$108","v":1.0559368565545642},{"$f":"$AR$108/$AS$108","v":1.0275617179573893},{"$f":"$AS$108/$AS$108","v":1},"冷房COP比","βc"]
[null,"Σ合計",{"$f":"SUM($D$110:$AS$110)","v":0},{"$f":"$D$103*$D$104","v":0},{"$f":"$E$103*$E$104","v":0},{"$f":"$F$103*$F$104","v":0},{"$f":"$G$103*$G$104","v":0},{"$f":"$H$103*$H$104","v":0},{"$f":"$I$103*$I$104","v":0},{"$f":"$J$103*$J$104","v":0},{"$f":"$K$103*$K$104","v":0},{"$f":"$L$103*$L$104","v":0},{"$f":"$M$103*$M$104","v":0},{"$f":"$N$103*$N$104","v":0},{"$f":"$O$103*$O$104","v":0},{"$f":"$P$103*$P$104","v":0},{"$f":"$Q$103*$Q$104","v":0},{"$f":"$R$103*$R$104","v":0},{"$f":"$S$103*$S$104","v":0},{"$f":"$T$103*$T$104","v":0},{"$f":"$U$103*$U$104","v":0},{"$f":"$V$103*$V$104","v":0},{"$f":"$W$103*$W$104","v":0},{"$f":"$X$103*$X$104","v":0},{"$f":"$Y$103*$Y$104","v":0},{"$f":"$Z$103*$Z$104","v":0},{"$f":"$AA$103*$AA$104","v":0},{"$f":"$AB$103*$AB$104","v":0},{"$f":"$AC$103*$AC$104","v":0},{"$f":"$AD$103*$AD$104","v":0},{"$f":"$AE$103*$AE$104","v":0},{"$f":"$AF$103*$AF$104","v":0},{"$f":"$AG$103*$AG$104","v":0},{"$f":"$AH$103*$AH$104","v":0},{"$f":"$AI$103*$AI$104","v":0},{"$f":"$AJ$103*$AJ$104","v":0},{"$f":"$AK$103*$AK$104","v":0},{"$f":"$AL$103*$AL$104","v":0},{"$f":"$AM$103*$AM$104","v":0},{"$f":"$AN$103*$AN$104","v":0},{"$f":"$AO$103*$AO$104","v":0},{"$f":"$AP$103*$AP$104","v":0},{"$f":"$AQ$103*$AQ$104","v":0},{"$f":"$AR$103*$AR$104","v":0},{"$f":"$AS$103*$AS$104","v":0},{"$f":"SUM($D$110:$AS$110)","v":0},{"$f":"SUM($AU$91:$AU$102)","v":0}]
[]
[null,null,"暖房期間中　温度(T)が発生する時間[hour]"]
[null,null,null," 温度(T)",null,null,null,null,null,null,null,null,null,null,null,null,null,null,null,null,null,null,null,null,null,null,null,null,null,null,null,null,null,null,null,null,null,null,null,null,null,null,null,null,null,null,"月単位"]
[null,null,"月",-6,-5,-4,-3,-2,-1,0,1,2,3,4,5,6,7,8,9,10,11,12,13,14,15,16,17,18,19,20,21,22,23,24,25,26,27,28,29,30,31,32,33,34,35,"月"]
[null,null,4,{"$f":"COUNTIF($D$75:$AA$75,$D$114)*$AB$12","v":0},{"$f":"COUNTIF($D$75:$AA$75,$E$114)*$AB$12","v":0},{"$f":"COUNTIF($D$75:$AA$75,$F$114)*$AB$12","v":0},{"$f":"COUNTIF($D$75:$AA$75,$G$114)*$AB$12","v":0},{"$f":"COUNTIF($D$75:$AA$75,$H$114)*$AB$12","v":0},{"$f":"COUNTIF($D$75:$AA$75,$I$114)*$AB$12","v":0},{"$f":"COUNTIF($D$75:$AA$75,$J$114)*$AB$12","v":0},{"$f":"COUNTIF($D$75:$AA$75,$K$114)*$AB$12","v":0},{"$f":"COUNTIF($D$75:$AA$75,$L$114)*$AB$12","v":0},{"$f":"COUNTIF($D$75:$AA$75,$M$114)*$AB$12","v":0},{"$f":"COUNTIF($D$75:$AA$75,$N$114)*$AB$12","v":0},{"$f":"COUNTIF($D$75:$AA$75,$O$114)*$AB$12","v":0},{"$f":"COUNTIF($D$75:$AA$75,$P$114)*$AB$12","v":0},{"$f":"COUNTIF($D$75:$AA$75,$Q$114)*$AB$12","v":0},{"$f":"COUNTIF($D$75:$AA$75,$R$114)*$AB$12","v":0},{"$f":"COUNTIF($D$75:$AA$75,$S$114)*$AB$12","v":0},{"$f":"COUNTIF($D$75:$AA$75,$T$114)*$AB$12","v":0},{"$f":"COUNTIF($D$75:$AA$75,$U$114)*$AB$12","v":0},{"$f":"COUNTIF($D$75:$AA$75,$V$114)*$AB$12","v":0},{"$f":"COUNTIF($D$75:$AA$75,$W$114)*$AB$12","v":0},{"$f":"COUNTIF($D$75:$AA$75,$X$114)*$AB$12","v":0},{"$f":"COUNTIF($D$75:$AA$75,$Y$114)*$AB$12","v":0},{"$f":"COUNTIF($D$75:$AA$75,$Z$114)*$AB$12","v":0},{"$f":"COUNTIF($D$75:$AA$75,$AA$114)*$AB$12","v":0},{"$f":"COUNTIF($D$75:$AA$75,$AB$114)*$AB$12","v":0},{"$f":"COUNTIF($D$75:$AA$75,$AC$114)*$AB$12","v":0},{"$f":"COUNTIF($D$75:$AA$75,$AD$114)*$AB$12","v":0},{"$f":"COUNTIF($D$75:$AA$75,$AE$114)*$AB$12","v":0},{"$f":"COUNTIF($D$75:$AA$75,$AF$114)*$AB$12","v":0},{"$f":"COUNTIF($D$75:$AA$75,$AG$114)*$AB$12","v":0},{"$f":"COUNTIF($D$75:$AA$75,$AH$114)*$AB$12","v":0},{"$f":"COUNTIF($D$75:$AA$75,$AI$114)*$AB$12","v":0},{"$f":"COUNTIF($D$75:$AA$75,$AJ$114)*$AB$12","v":0},{"$f":"COUNTIF($D$75:$AA$75,$AK$114)*$AB$12","v":0},{"$f":"COUNTIF($D$75:$AA$75,$AL$114)*$AB$12","v":0},{"$f":"COUNTIF($D$75:$AA$75,$AM$114)*$AB$12","v":0},{"$f":"COUNTIF($D$75:$AA$75,$AN$114)*$AB$12","v":0},{"$f":"COUNTIF($D$75:$AA$75,$AO$114)*$AB$12","v":0},{"$f":"COUNTIF($D$75:$AA$75,$AP$114)*$AB$12","v":0},{"$f":"COUNTIF($D$75:$AA$75,$AQ$114)*$AB$12","v":0},{"$f":"COUNTIF($D$75:$AA$75,$AR$114)*$AB$12","v":0},{"$f":"COUNTIF($D$75:$AA$75,$AS$114)*$AB$12","v":0},4,{"$f":"SUMPRODUCT(D115:AS115,$D$128:$AS$128,$D$137:$AS$137,$D$135:$AS$135)","v":0}]
[null,null,5,{"$f":"COUNTIF($D$76:$AA$76,$D$114)*$AB$13","v":0},{"$f":"COUNTIF($D$76:$AA$76,$E$114)*$AB$13","v":0},{"$f":"COUNTIF($D$76:$AA$76,$F$114)*$AB$13","v":0},{"$f":"COUNTIF($D$76:$AA$76,$G$114)*$AB$13","v":0},{"$f":"COUNTIF($D$76:$AA$76,$H$114)*$AB$13","v":0},{"$f":"COUNTIF($D$76:$AA$76,$I$114)*$AB$13","v":0},{"$f":"COUNTIF($D$76:$AA$76,$J$114)*$AB$13","v":0},{"$f":"COUNTIF($D$76:$AA$76,$K$114)*$AB$13","v":0},{"$f":"COUNTIF($D$76:$AA$76,$L$114)*$AB$13","v":0},{"$f":"COUNTIF($D$76:$AA$76,$M$114)*$AB$13","v":0},{"$f":"COUNTIF($D$76:$AA$76,$N$114)*$AB$13","v":0},{"$f":"COUNTIF($D$76:$AA$76,$O$114)*$AB$13","v":0},{"$f":"COUNTIF($D$76:$AA$76,$P$114)*$AB$13","v":0},{"$f":"COUNTIF($D$76:$AA$76,$Q$114)*$AB$13","v":0},{"$f":"COUNTIF($D$76:$AA$76,$R$114)*$AB$13","v":0},{"$f":"COUNTIF($D$76:$AA$76,$S$114)*$AB$13","v":0},{"$f":"COUNTIF($D$76:$AA$76,$T$114)*$AB$13","v":0},{"$f":"COUNTIF($D$76:$AA$76,$U$114)*$AB$13","v":0},{"$f":"COUNTIF($D$76:$AA$76,$V$114)*$AB$13","v":0},{"$f":"COUNTIF($D$76:$AA$76,$W$114)*$AB$13","v":0},{"$f":"COUNTIF($D$76:$AA$76,$X$114)*$AB$13","v":0},{"$f":"COUNTIF($D$76:$AA$76,$Y$114)*$AB$13","v":0},{"$f":"COUNTIF($D$76:$AA$76,$Z$114)*$AB$13","v":0},{"$f":"COUNTIF($D$76:$AA$76,$AA$114)*$AB$13","v":0},{"$f":"COUNTIF($D$76:$AA$76,$AB$114)*$AB$13","v":0},{"$f":"COUNTIF($D$76:$AA$76,$AC$114)*$AB$13","v":0},{"$f":"COUNTIF($D$76:$AA$76,$AD$114)*$AB$13","v":0},{"$f":"COUNTIF($D$76:$AA$76,$AE$114)*$AB$13","v":0},{"$f":"COUNTIF($D$76:$AA$76,$AF$114)*$AB$13","v":0},{"$f":"COUNTIF($D$76:$AA$76,$AG$114)*$AB$13","v":0},{"$f":"COUNTIF($D$76:$AA$76,$AH$114)*$AB$13","v":0},{"$f":"COUNTIF($D$76:$AA$76,$AI$114)*$AB$13","v":0},{"$f":"COUNTIF($D$76:$AA$76,$AJ$114)*$AB$13","v":0},{"$f":"COUNTIF($D$76:$AA$76,$AK$114)*$AB$13","v":0},{"$f":"COUNTIF($D$76:$AA$76,$AL$114)*$AB$13","v":0},{"$f":"COUNTIF($D$76:$AA$76,$AM$114)*$AB$13","v":0},{"$f":"COUNTIF($D$76:$AA$76,$AN$114)*$AB$13","v":0},{"$f":"COUNTIF($D$76:$AA$76,$AO$114)*$AB$13","v":0},{"$f":"COUNTIF($D$76:$AA$76,$AP$114)*$AB$13","v":0},{"$f":"COUNTIF($D$76:$AA$76,$AQ$114)*$AB$13","v":0},{"$f":"COUNTIF($D$76:$AA$76,$AR$114)*$AB$13","v":0},{"$f":"COUNTIF($D$76:$AA$76,$AS$114)*$AB$13","v":0},5,{"$f":"SUMPRODUCT(D116:AS116,$D$128:$AS$128,$D$137:$AS$137,$D$135:$AS$135)","v":0}]
[null,null,6,{"$f":"COUNTIF($D$77:$AA$77,$D$114)*$AB$14","v":0},{"$f":"COUNTIF($D$77:$AA$77,$E$114)*$AB$14","v":0},{"$f":"COUNTIF($D$77:$AA$77,$F$114)*$AB$14","v":0},{"$f":"COUNTIF($D$77:$AA$77,$G$114)*$AB$14","v":0},{"$f":"COUNTIF($D$77:$AA$77,$H$114)*$AB$14","v":0},{"$f":"COUNTIF($D$77:$AA$77,$I$114)*$AB$14","v":0},{"$f":"COUNTIF($D$77:$AA$77,$J$114)*$AB$14","v":0},{"$f":"COUNTIF($D$77:$AA$77,$K$114)*$AB$14","v":0},{"$f":"COUNTIF($D$77:$AA$77,$L$114)*$AB$14","v":0},{"$f":"COUNTIF($D$77:$AA$77,$M$114)*$AB$14","v":0},{"$f":"COUNTIF($D$77:$AA$77,$N$114)*$AB$14","v":0},{"$f":"COUNTIF($D$77:$AA$77,$O$114)*$AB$14","v":0},{"$f":"COUNTIF($D$77:$AA$77,$P$114)*$AB$14","v":0},{"$f":"COUNTIF($D$77:$AA$77,$Q$114)*$AB$14","v":0},{"$f":"COUNTIF($D$77:$AA$77,$R$114)*$AB$14","v":0},{"$f":"COUNTIF($D$77:$AA$77,$S$114)*$AB$14","v":0},{"$f":"COUNTIF($D$77:$AA$77,$T$114)*$AB$14","v":0},{"$f":"COUNTIF($D$77:$AA$77,$U$114)*$AB$14","v":0},{"$f":"COUNTIF($D$77:$AA$77,$V$114)*$AB$14","v":0},{"$f":"COUNTIF($D$77:$AA$77,$W$114)*$AB$14","v":0},{"$f":"COUNTIF($D$77:$AA$77,$X$114)*$AB$14","v":0},{"$f":"COUNTIF($D$77:$AA$77,$Y$114)*$AB$14","v":0},{"$f":"COUNTIF($D$77:$AA$77,$Z$114)*$AB$14","v":0},{"$f":"COUNTIF($D$77:$AA$77,$AA$114)*$AB$14","v":0},{"$f":"COUNTIF($D$77:$AA$77,$AB$114)*$AB$14","v":0},{"$f":"COUNTIF($D$77:$AA$77,$AC$114)*$AB$14","v":0},{"$f":"COUNTIF($D$77:$AA$77,$AD$114)*$AB$14","v":0},{"$f":"COUNTIF($D$77:$AA$77,$AE$114)*$AB$14","v":0},{"$f":"COUNTIF($D$77:$AA$77,$AF$114)*$AB$14","v":0},{"$f":"COUNTIF($D$77:$AA$77,$AG$114)*$AB$14","v":0},{"$f":"COUNTIF($D$77:$AA$77,$AH$114)*$AB$14","v":0},{"$f":"COUNTIF($D$77:$AA$77,$AI$114)*$AB$14","v":0},{"$f":"COUNTIF($D$77:$AA$77,$AJ$114)*$AB$14","v":0},{"$f":"COUNTIF($D$77:$AA$77,$AK$114)*$AB$14","v":0},{"$f":"COUNTIF($D$77:$AA$77,$AL$114)*$AB$14","v":0},{"$f":"COUNTIF($D$77:$AA$77,$AM$114)*$AB$14","v":0},{"$f":"COUNTIF($D$77:$AA$77,$AN$114)*$AB$14","v":0},{"$f":"COUNTIF($D$77:$AA$77,$AO$114)*$AB$14","v":0},{"$f":"COUNTIF($D$77:$AA$77,$AP$114)*$AB$14","v":0},{"$f":"COUNTIF($D$77:$AA$77,$AQ$114)*$AB$14","v":0},{"$f":"COUNTIF($D$77:$AA$77,$AR$114)*$AB$14","v":0},{"$f":"COUNTIF($D$77:$AA$77,$AS$114)*$AB$14","v":0},6,0]
[null,null,7,{"$f":"COUNTIF($D$78:$AA$78,$D$114)*$AB$15","v":0},{"$f":"COUNTIF($D$78:$AA$78,$E$114)*$AB$15","v":0},{"$f":"COUNTIF($D$78:$AA$78,$F$114)*$AB$15","v":0},{"$f":"COUNTIF($D$78:$AA$78,$G$114)*$AB$15","v":0},{"$f":"COUNTIF($D$78:$AA$78,$H$114)*$AB$15","v":0},{"$f":"COUNTIF($D$78:$AA$78,$I$114)*$AB$15","v":0},{"$f":"COUNTIF($D$78:$AA$78,$J$114)*$AB$15","v":0},{"$f":"COUNTIF($D$78:$AA$78,$K$114)*$AB$15","v":0},{"$f":"COUNTIF($D$78:$AA$78,$L$114)*$AB$15","v":0},{"$f":"COUNTIF($D$78:$AA$78,$M$114)*$AB$15","v":0},{"$f":"COUNTIF($D$78:$AA$78,$N$114)*$AB$15","v":0},{"$f":"COUNTIF($D$78:$AA$78,$O$114)*$AB$15","v":0},{"$f":"COUNTIF($D$78:$AA$78,$P$114)*$AB$15","v":0},{"$f":"COUNTIF($D$78:$AA$78,$Q$114)*$AB$15","v":0},{"$f":"COUNTIF($D$78:$AA$78,$R$114)*$AB$15","v":0},{"$f":"COUNTIF($D$78:$AA$78,$S$114)*$AB$15","v":0},{"$f":"COUNTIF($D$78:$AA$78,$T$114)*$AB$15","v":0},{"$f":"COUNTIF($D$78:$AA$78,$U$114)*$AB$15","v":0},{"$f":"COUNTIF($D$78:$AA$78,$V$114)*$AB$15","v":0},{"$f":"COUNTIF($D$78:$AA$78,$W$114)*$AB$15","v":0},{"$f":"COUNTIF($D$78:$AA$78,$X$114)*$AB$15","v":0},{"$f":"COUNTIF($D$78:$AA$78,$Y$114)*$AB$15","v":0},{"$f":"COUNTIF($D$78:$AA$78,$Z$114)*$AB$15","v":0},{"$f":"COUNTIF($D$78:$AA$78,$AA$114)*$AB$15","v":0},{"$f":"COUNTIF($D$78:$AA$78,$AB$114)*$AB$15","v":0},{"$f":"COUNTIF($D$78:$AA$78,$AC$114)*$AB$15","v":0},{"$f":"COUNTIF($D$78:$AA$78,$AD$114)*$AB$15","v":0},{"$f":"COUNTIF($D$78:$AA$78,$AE$114)*$AB$15","v":0},{"$f":"COUNTIF($D$78:$AA$78,$AF$114)*$AB$15","v":0},{"$f":"COUNTIF($D$78:$AA$78,$AG$114)*$AB$15","v":0},{"$f":"COUNTIF($D$78:$AA$78,$AH$114)*$AB$15","v":0},{"$f":"COUNTIF($D$78:$AA$78,$AI$114)*$AB$15","v":0},{"$f":"COUNTIF($D$78:$AA$78,$AJ$114)*$AB$15","v":0},{"$f":"COUNTIF($D$78:$AA$78,$AK$114)*$AB$15","v":0},{"$f":"COUNTIF($D$78:$AA$78,$AL$114)*$AB$15","v":0},{"$f":"COUNTIF($D$78:$AA$78,$AM$114)*$AB$15","v":0},{"$f":"COUNTIF($D$78:$AA$78,$AN$114)*$AB$15","v":0},{"$f":"COUNTIF($D$78:$AA$78,$AO$114)*$AB$15","v":0},{"$f":"COUNTIF($D$78:$AA$78,$AP$114)*$AB$15","v":0},{"$f":"COUNTIF($D$78:$AA$78,$AQ$114)*$AB$15","v":0},{"$f":"COUNTIF($D$78:$AA$78,$AR$114)*$AB$15","v":0},{"$f":"COUNTIF($D$78:$AA$78,$AS$114)*$AB$15","v":0},7,0]
[null,null,8,{"$f":"COUNTIF($D$79:$AA$79,$D$114)*$AB$16","v":0},{"$f":"COUNTIF($D$79:$AA$79,$E$114)*$AB$16","v":0},{"$f":"COUNTIF($D$79:$AA$79,$F$114)*$AB$16","v":0},{"$f":"COUNTIF($D$79:$AA$79,$G$114)*$AB$16","v":0},{"$f":"COUNTIF($D$79:$AA$79,$H$114)*$AB$16","v":0},{"$f":"COUNTIF($D$79:$AA$79,$I$114)*$AB$16","v":0},{"$f":"COUNTIF($D$79:$AA$79,$J$114)*$AB$16","v":0},{"$f":"COUNTIF($D$79:$AA$79,$K$114)*$AB$16","v":0},{"$f":"COUNTIF($D$79:$AA$79,$L$114)*$AB$16","v":0},{"$f":"COUNTIF($D$79:$AA$79,$M$114)*$AB$16","v":0},{"$f":"COUNTIF($D$79:$AA$79,$N$114)*$AB$16","v":0},{"$f":"COUNTIF($D$79:$AA$79,$O$114)*$AB$16","v":0},{"$f":"COUNTIF($D$79:$AA$79,$P$114)*$AB$16","v":0},{"$f":"COUNTIF($D$79:$AA$79,$Q$114)*$AB$16","v":0},{"$f":"COUNTIF($D$79:$AA$79,$R$114)*$AB$16","v":0},{"$f":"COUNTIF($D$79:$AA$79,$S$114)*$AB$16","v":0},{"$f":"COUNTIF($D$79:$AA$79,$T$114)*$AB$16","v":0},{"$f":"COUNTIF($D$79:$AA$79,$U$114)*$AB$16","v":0},{"$f":"COUNTIF($D$79:$AA$79,$V$114)*$AB$16","v":0},{"$f":"COUNTIF($D$79:$AA$79,$W$114)*$AB$16","v":0},{"$f":"COUNTIF($D$79:$AA$79,$X$114)*$AB$16","v":0},{"$f":"COUNTIF($D$79:$AA$79,$Y$114)*$AB$16","v":0},{"$f":"COUNTIF($D$79:$AA$79,$Z$114)*$AB$16","v":0},{"$f":"COUNTIF($D$79:$AA$79,$AA$114)*$AB$16","v":0},{"$f":"COUNTIF($D$79:$AA$79,$AB$114)*$AB$16","v":0},{"$f":"COUNTIF($D$79:$AA$79,$AC$114)*$AB$16","v":0},{"$f":"COUNTIF($D$79:$AA$79,$AD$114)*$AB$16","v":0},{"$f":"COUNTIF($D$79:$AA$79,$AE$114)*$AB$16","v":0},{"$f":"COUNTIF($D$79:$AA$79,$AF$114)*$AB$16","v":0},{"$f":"COUNTIF($D$79:$AA$79,$AG$114)*$AB$16","v":0},{"$f":"COUNTIF($D$79:$AA$79,$AH$114)*$AB$16","v":0},{"$f":"COUNTIF($D$79:$AA$79,$AI$114)*$AB$16","v":0},{"$f":"COUNTIF($D$79:$AA$79,$AJ$114)*$AB$16","v":0},{"$f":"COUNTIF($D$79:$AA$79,$AK$114)*$AB$16","v":0},{"$f":"COUNTIF($D$79:$AA$79,$AL$114)*$AB$16","v":0},{"$f":"COUNTIF($D$79:$AA$79,$AM$114)*$AB$16","v":0},{"$f":"COUNTIF($D$79:$AA$79,$AN$114)*$AB$16","v":0},{"$f":"COUNTIF($D$79:$AA$79,$AO$114)*$AB$16","v":0},{"$f":"COUNTIF($D$79:$AA$79,$AP$114)*$AB$16","v":0},{"$f":"COUNTIF($D$79:$AA$79,$AQ$114)*$AB$16","v":0},{"$f":"COUNTIF($D$79:$AA$79,$AR$114)*$AB$16","v":0},{"$f":"COUNTIF($D$79:$AA$79,$AS$114)*$AB$16","v":0},8,0]
[null,null,9,{"$f":"COUNTIF($D$80:$AA$80,$D$114)*$AB$17","v":0},{"$f":"COUNTIF($D$80:$AA$80,$E$114)*$AB$17","v":0},{"$f":"COUNTIF($D$80:$AA$80,$F$114)*$AB$17","v":0},{"$f":"COUNTIF($D$80:$AA$80,$G$114)*$AB$17","v":0},{"$f":"COUNTIF($D$80:$AA$80,$H$114)*$AB$17","v":0},{"$f":"COUNTIF($D$80:$AA$80,$I$114)*$AB$17","v":0},{"$f":"COUNTIF($D$80:$AA$80,$J$114)*$AB$17","v":0},{"$f":"COUNTIF($D$80:$AA$80,$K$114)*$AB$17","v":0},{"$f":"COUNTIF($D$80:$AA$80,$L$114)*$AB$17","v":0},{"$f":"COUNTIF($D$80:$AA$80,$M$114)*$AB$17","v":0},{"$f":"COUNTIF($D$80:$AA$80,$N$114)*$AB$17","v":0},{"$f":"COUNTIF($D$80:$AA$80,$O$114)*$AB$17","v":0},{"$f":"COUNTIF($D$80:$AA$80,$P$114)*$AB$17","v":0},{"$f":"COUNTIF($D$80:$AA$80,$Q$114)*$AB$17","v":0},{"$f":"COUNTIF($D$80:$AA$80,$R$114)*$AB$17","v":0},{"$f":"COUNTIF($D$80:$AA$80,$S$114)*$AB$17","v":0},{"$f":"COUNTIF($D$80:$AA$80,$T$114)*$AB$17","v":0},{"$f":"COUNTIF($D$80:$AA$80,$U$114)*$AB$17","v":0},{"$f":"COUNTIF($D$80:$AA$80,$V$114)*$AB$17","v":0},{"$f":"COUNTIF($D$80:$AA$80,$W$114)*$AB$17","v":0},{"$f":"COUNTIF($D$80:$AA$80,$X$114)*$AB$17","v":0},{"$f":"COUNTIF($D$80:$AA$80,$Y$114)*$AB$17","v":0},{"$f":"COUNTIF($D$80:$AA$80,$Z$114)*$AB$17","v":0},{"$f":"COUNTIF($D$80:$AA$80,$AA$114)*$AB$17","v":0},{"$f":"COUNTIF($D$80:$AA$80,$AB$114)*$AB$17","v":0},{"$f":"COUNTIF($D$80:$AA$80,$AC$114)*$AB$17","v":0},{"$f":"COUNTIF($D$80:$AA$80,$AD$114)*$AB$17","v":0},{"$f":"COUNTIF($D$80:$AA$80,$AE$114)*$AB$17","v":0},{"$f":"COUNTIF($D$80:$AA$80,$AF$114)*$AB$17","v":0},{"$f":"COUNTIF($D$80:$AA$80,$AG$114)*$AB$17","v":0},{"$f":"COUNTIF($D$80:$AA$80,$AH$114)*$AB$17","v":0},{"$f":"COUNTIF($D$80:$AA$80,$AI$114)*$AB$17","v":0},{"$f":"COUNTIF($D$80:$AA$80,$AJ$114)*$AB$17","v":0},{"$f":"COUNTIF($D$80:$AA$80,$AK$114)*$AB$17","v":0},{"$f":"COUNTIF($D$80:$AA$80,$AL$114)*$AB$17","v":0},{"$f":"COUNTIF($D$80:$AA$80,$AM$114)*$AB$17","v":0},{"$f":"COUNTIF($D$80:$AA$80,$AN$114)*$AB$17","v":0},{"$f":"COUNTIF($D$80:$AA$80,$AO$114)*$AB$17","v":0},{"$f":"COUNTIF($D$80:$AA$80,$AP$114)*$AB$17","v":0},{"$f":"COUNTIF($D$80:$AA$80,$AQ$114)*$AB$17","v":0},{"$f":"COUNTIF($D$80:$AA$80,$AR$114)*$AB$17","v":0},{"$f":"COUNTIF($D$80:$AA$80,$AS$114)*$AB$17","v":0},9,0]
[null,null,10,{"$f":"COUNTIF($D$81:$AA$81,$D$114)*$AB$18","v":0},{"$f":"COUNTIF($D$81:$AA$81,$E$114)*$AB$18","v":0},{"$f":"COUNTIF($D$81:$AA$81,$F$114)*$AB$18","v":0},{"$f":"COUNTIF($D$81:$AA$81,$G$114)*$AB$18","v":0},{"$f":"COUNTIF($D$81:$AA$81,$H$114)*$AB$18","v":0},{"$f":"COUNTIF($D$81:$AA$81,$I$114)*$AB$18","v":0},{"$f":"COUNTIF($D$81:$AA$81,$J$114)*$AB$18","v":0},{"$f":"COUNTIF($D$81:$AA$81,$K$114)*$AB$18","v":0},{"$f":"COUNTIF($D$81:$AA$81,$L$114)*$AB$18","v":0},{"$f":"COUNTIF($D$81:$AA$81,$M$114)*$AB$18","v":0},{"$f":"COUNTIF($D$81:$AA$81,$N$114)*$AB$18","v":0},{"$f":"COUNTIF($D$81:$AA$81,$O$114)*$AB$18","v":0},{"$f":"COUNTIF($D$81:$AA$81,$P$114)*$AB$18","v":0},{"$f":"COUNTIF($D$81:$AA$81,$Q$114)*$AB$18","v":0},{"$f":"COUNTIF($D$81:$AA$81,$R$114)*$AB$18","v":0},{"$f":"COUNTIF($D$81:$AA$81,$S$114)*$AB$18","v":0},{"$f":"COUNTIF($D$81:$AA$81,$T$114)*$AB$18","v":0},{"$f":"COUNTIF($D$81:$AA$81,$U$114)*$AB$18","v":0},{"$f":"COUNTIF($D$81:$AA$81,$V$114)*$AB$18","v":0},{"$f":"COUNTIF($D$81:$AA$81,$W$114)*$AB$18","v":0},{"$f":"COUNTIF($D$81:$AA$81,$X$114)*$AB$18","v":0},{"$f":"COUNTIF($D$81:$AA$81,$Y$114)*$AB$18","v":0},{"$f":"COUNTIF($D$81:$AA$81,$Z$114)*$AB$18","v":0},{"$f":"COUNTIF($D$81:$AA$81,$AA$114)*$AB$18","v":0},{"$f":"COUNTIF($D$81:$AA$81,$AB$114)*$AB$18","v":0},{"$f":"COUNTIF($D$81:$AA$81,$AC$114)*$AB$18","v":0},{"$f":"COUNTIF($D$81:$AA$81,$AD$114)*$AB$18","v":0},{"$f":"COUNTIF($D$81:$AA$81,$AE$114)*$AB$18","v":0},{"$f":"COUNTIF($D$81:$AA$81,$AF$114)*$AB$18","v":0},{"$f":"COUNTIF($D$81:$AA$81,$AG$114)*$AB$18","v":0},{"$f":"COUNTIF($D$81:$AA$81,$AH$114)*$AB$18","v":0},{"$f":"COUNTIF($D$81:$AA$81,$AI$114)*$AB$18","v":0},{"$f":"COUNTIF($D$81:$AA$81,$AJ$114)*$AB$18","v":0},{"$f":"COUNTIF($D$81:$AA$81,$AK$114)*$AB$18","v":0},{"$f":"COUNTIF($D$81:$AA$81,$AL$114)*$AB$18","v":0},{"$f":"COUNTIF($D$81:$AA$81,$AM$114)*$AB$18","v":0},{"$f":"COUNTIF($D$81:$AA$81,$AN$114)*$AB$18","v":0},{"$f":"COUNTIF($D$81:$AA$81,$AO$114)*$AB$18","v":0},{"$f":"COUNTIF($D$81:$AA$81,$AP$114)*$AB$18","v":0},{"$f":"COUNTIF($D$81:$AA$81,$AQ$114)*$AB$18","v":0},{"$f":"COUNTIF($D$81:$AA$81,$AR$114)*$AB$18","v":0},{"$f":"COUNTIF($D$81:$AA$81,$AS$114)*$AB$18","v":0},10,0]
[null,null,11,{"$f":"COUNTIF($D$82:$AA$82,$D$114)*$AB$19","v":0},{"$f":"COUNTIF($D$82:$AA$82,$E$114)*$AB$19","v":0},{"$f":"COUNTIF($D$82:$AA$82,$F$114)*$AB$19","v":0},{"$f":"COUNTIF($D$82:$AA$82,$G$114)*$AB$19","v":0},{"$f":"COUNTIF($D$82:$AA$82,$H$114)*$AB$19","v":0},{"$f":"COUNTIF($D$82:$AA$82,$I$114)*$AB$19","v":0},{"$f":"COUNTIF($D$82:$AA$82,$J$114)*$AB$19","v":0},{"$f":"COUNTIF($D$82:$AA$82,$K$114)*$AB$19","v":0},{"$f":"COUNTIF($D$82:$AA$82,$L$114)*$AB$19","v":0},{"$f":"COUNTIF($D$82:$AA$82,$M$114)*$AB$19","v":0},{"$f":"COUNTIF($D$82:$AA$82,$N$114)*$AB$19","v":0},{"$f":"COUNTIF($D$82:$AA$82,$O$114)*$AB$19","v":0},{"$f":"COUNTIF($D$82:$AA$82,$P$114)*$AB$19","v":0},{"$f":"COUNTIF($D$82:$AA$82,$Q$114)*$AB$19","v":0},{"$f":"COUNTIF($D$82:$AA$82,$R$114)*$AB$19","v":0},{"$f":"COUNTIF($D$82:$AA$82,$S$114)*$AB$19","v":0},{"$f":"COUNTIF($D$82:$AA$82,$T$114)*$AB$19","v":0},{"$f":"COUNTIF($D$82:$AA$82,$U$114)*$AB$19","v":0},{"$f":"COUNTIF($D$82:$AA$82,$V$114)*$AB$19","v":0},{"$f":"COUNTIF($D$82:$AA$82,$W$114)*$AB$19","v":0},{"$f":"COUNTIF($D$82:$AA$82,$X$114)*$AB$19","v":0},{"$f":"COUNTIF($D$82:$AA$82,$Y$114)*$AB$19","v":0},{"$f":"COUNTIF($D$82:$AA$82,$Z$114)*$AB$19","v":0},{"$f":"COUNTIF($D$82:$AA$82,$AA$114)*$AB$19","v":0},{"$f":"COUNTIF($D$82:$AA$82,$AB$114)*$AB$19","v":0},{"$f":"COUNTIF($D$82:$AA$82,$AC$114)*$AB$19","v":0},{"$f":"COUNTIF($D$82:$AA$82,$AD$114)*$AB$19","v":0},{"$f":"COUNTIF($D$82:$AA$82,$AE$114)*$AB$19","v":0},{"$f":"COUNTIF($D$82:$AA$82,$AF$114)*$AB$19","v":0},{"$f":"COUNTIF($D$82:$AA$82,$AG$114)*$AB$19","v":0},{"$f":"COUNTIF($D$82:$AA$82,$AH$114)*$AB$19","v":0},{"$f":"COUNTIF($D$82:$AA$82,$AI$114)*$AB$19","v":0},{"$f":"COUNTIF($D$82:$AA$82,$AJ$114)*$AB$19","v":0},{"$f":"COUNTIF($D$82:$AA$82,$AK$114)*$AB$19","v":0},{"$f":"COUNTIF($D$82:$AA$82,$AL$114)*$AB$19","v":0},{"$f":"COUNTIF($D$82:$AA$82,$AM$114)*$AB$19","v":0},{"$f":"COUNTIF($D$82:$AA$82,$AN$114)*$AB$19","v":0},{"$f":"COUNTIF($D$82:$AA$82,$AO$114)*$AB$19","v":0},{"$f":"COUNTIF($D$82:$AA$82,$AP$114)*$AB$19","v":0},{"$f":"COUNTIF($D$82:$AA$82,$AQ$114)*$AB$19","v":0},{"$f":"COUNTIF($D$82:$AA$82,$AR$114)*$AB$19","v":0},{"$f":"COUNTIF($D$82:$AA$82,$AS$114)*$AB$19","v":0},11,0]
[null,null,12,{"$f":"COUNTIF($D$83:$AA$83,$D$114)*$AB$20","v":0},{"$f":"COUNTIF($D$83:$AA$83,$E$114)*$AB$20","v":0},{"$f":"COUNTIF($D$83:$AA$83,$F$114)*$AB$20","v":0},{"$f":"COUNTIF($D$83:$AA$83,$G$114)*$AB$20","v":0},{"$f":"COUNTIF($D$83:$AA$83,$H$114)*$AB$20","v":0},{"$f":"COUNTIF($D$83:$AA$83,$I$114)*$AB$20","v":0},{"$f":"COUNTIF($D$83:$AA$83,$J$114)*$AB$20","v":0},{"$f":"COUNTIF($D$83:$AA$83,$K$114)*$AB$20","v":0},{"$f":"COUNTIF($D$83:$AA$83,$L$114)*$AB$20","v":0},{"$f":"COUNTIF($D$83:$AA$83,$M$114)*$AB$20","v":0},{"$f":"COUNTIF($D$83:$AA$83,$N$114)*$AB$20","v":0},{"$f":"COUNTIF($D$83:$AA$83,$O$114)*$AB$20","v":0},{"$f":"COUNTIF($D$83:$AA$83,$P$114)*$AB$20","v":0},{"$f":"COUNTIF($D$83:$AA$83,$Q$114)*$AB$20","v":0},{"$f":"COUNTIF($D$83:$AA$83,$R$114)*$AB$20","v":0},{"$f":"COUNTIF($D$83:$AA$83,$S$114)*$AB$20","v":0},{"$f":"COUNTIF($D$83:$AA$83,$T$114)*$AB$20","v":0},{"$f":"COUNTIF($D$83:$AA$83,$U$114)*$AB$20","v":0},{"$f":"COUNTIF($D$83:$AA$83,$V$114)*$AB$20","v":0},{"$f":"COUNTIF($D$83:$AA$83,$W$114)*$AB$20","v":0},{"$f":"COUNTIF($D$83:$AA$83,$X$114)*$AB$20","v":0},{"$f":"COUNTIF($D$83:$AA$83,$Y$114)*$AB$20","v":0},{"$f":"COUNTIF($D$83:$AA$83,$Z$114)*$AB$20","v":0},{"$f":"COUNTIF($D$83:$AA$83,$AA$114)*$AB$20","v":0},{"$f":"COUNTIF($D$83:$AA$83,$AB$114)*$AB$20","v":0},{"$f":"COUNTIF($D$83:$AA$83,$AC$114)*$AB$20","v":0},{"$f":"COUNTIF($D$83:$AA$83,$AD$114)*$AB$20","v":0},{"$f":"COUNTIF($D$83:$AA$83,$AE$114)*$AB$20","v":0},{"$f":"COUNTIF($D$83:$AA$83,$AF$114)*$AB$20","v":0},{"$f":"COUNTIF($D$83:$AA$83,$AG$114)*$AB$20","v":0},{"$f":"COUNTIF($D$83:$AA$83,$AH$114)*$AB$20","v":0},{"$f":"COUNTIF($D$83:$AA$83,$AI$114)*$AB$20","v":0},{"$f":"COUNTIF($D$83:$AA$83,$AJ$114)*$AB$20","v":0},{"$f":"COUNTIF($D$83:$AA$83,$AK$114)*$AB$20","v":0},{"$f":"COUNTIF($D$83:$AA$83,$AL$114)*$AB$20","v":0},{"$f":"COUNTIF($D$83:$AA$83,$AM$114)*$AB$20","v":0},{"$f":"COUNTIF($D$83:$AA$83,$AN$114)*$AB$20","v":0},{"$f":"COUNTIF($D$83:$AA$83,$AO$114)*$AB$20","v":0},{"$f":"COUNTIF($D$83:$AA$83,$AP$114)*$AB$20","v":0},{"$f":"COUNTIF($D$83:$AA$83,$AQ$114)*$AB$20","v":0},{"$f":"COUNTIF($D$83:$AA$83,$AR$114)*$AB$20","v":0},{"$f":"COUNTIF($D$83:$AA$83,$AS$114)*$AB$20","v":0},12,0]
[null,null,1,{"$f":"COUNTIF($D$84:$AA$84,$D$114)*$AB$21","v":0},{"$f":"COUNTIF($D$84:$AA$84,$E$114)*$AB$21","v":0},{"$f":"COUNTIF($D$84:$AA$84,$F$114)*$AB$21","v":0},{"$f":"COUNTIF($D$84:$AA$84,$G$114)*$AB$21","v":0},{"$f":"COUNTIF($D$84:$AA$84,$H$114)*$AB$21","v":0},{"$f":"COUNTIF($D$84:$AA$84,$I$114)*$AB$21","v":0},{"$f":"COUNTIF($D$84:$AA$84,$J$114)*$AB$21","v":0},{"$f":"COUNTIF($D$84:$AA$84,$K$114)*$AB$21","v":0},{"$f":"COUNTIF($D$84:$AA$84,$L$114)*$AB$21","v":0},{"$f":"COUNTIF($D$84:$AA$84,$M$114)*$AB$21","v":0},{"$f":"COUNTIF($D$84:$AA$84,$N$114)*$AB$21","v":0},{"$f":"COUNTIF($D$84:$AA$84,$O$114)*$AB$21","v":0},{"$f":"COUNTIF($D$84:$AA$84,$P$114)*$AB$21","v":0},{"$f":"COUNTIF($D$84:$AA$84,$Q$114)*$AB$21","v":0},{"$f":"COUNTIF($D$84:$AA$84,$R$114)*$AB$21","v":0},{"$f":"COUNTIF($D$84:$AA$84,$S$114)*$AB$21","v":0},{"$f":"COUNTIF($D$84:$AA$84,$T$114)*$AB$21","v":0},{"$f":"COUNTIF($D$84:$AA$84,$U$114)*$AB$21","v":0},{"$f":"COUNTIF($D$84:$AA$84,$V$114)*$AB$21","v":0},{"$f":"COUNTIF($D$84:$AA$84,$W$114)*$AB$21","v":0},{"$f":"COUNTIF($D$84:$AA$84,$X$114)*$AB$21","v":0},{"$f":"COUNTIF($D$84:$AA$84,$Y$114)*$AB$21","v":0},{"$f":"COUNTIF($D$84:$AA$84,$Z$114)*$AB$21","v":0},{"$f":"COUNTIF($D$84:$AA$84,$AA$114)*$AB$21","v":0},{"$f":"COUNTIF($D$84:$AA$84,$AB$114)*$AB$21","v":0},{"$f":"COUNTIF($D$84:$AA$84,$AC$114)*$AB$21","v":0},{"$f":"COUNTIF($D$84:$AA$84,$AD$114)*$AB$21","v":0},{"$f":"COUNTIF($D$84:$AA$84,$AE$114)*$AB$21","v":0},{"$f":"COUNTIF($D$84:$AA$84,$AF$114)*$AB$21","v":0},{"$f":"COUNTIF($D$84:$AA$84,$AG$114)*$AB$21","v":0},{"$f":"COUNTIF($D$84:$AA$84,$AH$114)*$AB$21","v":0},{"$f":"COUNTIF($D$84:$AA$84,$AI$114)*$AB$21","v":0},{"$f":"COUNTIF($D$84:$AA$84,$AJ$114)*$AB$21","v":0},{"$f":"COUNTIF($D$84:$AA$84,$AK$114)*$AB$21","v":0},{"$f":"COUNTIF($D$84:$AA$84,$AL$114)*$AB$21","v":0},{"$f":"COUNTIF($D$84:$AA$84,$AM$114)*$AB$21","v":0},{"$f":"COUNTIF($D$84:$AA$84,$AN$114)*$AB$21","v":0},{"$f":"COUNTIF($D$84:$AA$84,$AO$114)*$AB$21","v":0},{"$f":"COUNTIF($D$84:$AA$84,$AP$114)*$AB$21","v":0},{"$f":"COUNTIF($D$84:$AA$84,$AQ$114)*$AB$21","v":0},{"$f":"COUNTIF($D$84:$AA$84,$AR$114)*$AB$21","v":0},{"$f":"COUNTIF($D$84:$AA$84,$AS$114)*$AB$21","v":0},1,0]
[null,null,2,{"$f":"COUNTIF($D$85:$AA$85,$D$114)*$AB$22","v":0},{"$f":"COUNTIF($D$85:$AA$85,$E$114)*$AB$22","v":0},{"$f":"COUNTIF($D$85:$AA$85,$F$114)*$AB$22","v":0},{"$f":"COUNTIF($D$85:$AA$85,$G$114)*$AB$22","v":0},{"$f":"COUNTIF($D$85:$AA$85,$H$114)*$AB$22","v":0},{"$f":"COUNTIF($D$85:$AA$85,$I$114)*$AB$22","v":0},{"$f":"COUNTIF($D$85:$AA$85,$J$114)*$AB$22","v":0},{"$f":"COUNTIF($D$85:$AA$85,$K$114)*$AB$22","v":0},{"$f":"COUNTIF($D$85:$AA$85,$L$114)*$AB$22","v":0},{"$f":"COUNTIF($D$85:$AA$85,$M$114)*$AB$22","v":0},{"$f":"COUNTIF($D$85:$AA$85,$N$114)*$AB$22","v":0},{"$f":"COUNTIF($D$85:$AA$85,$O$114)*$AB$22","v":0},{"$f":"COUNTIF($D$85:$AA$85,$P$114)*$AB$22","v":0},{"$f":"COUNTIF($D$85:$AA$85,$Q$114)*$AB$22","v":0},{"$f":"COUNTIF($D$85:$AA$85,$R$114)*$AB$22","v":0},{"$f":"COUNTIF($D$85:$AA$85,$S$114)*$AB$22","v":0},{"$f":"COUNTIF($D$85:$AA$85,$T$114)*$AB$22","v":0},{"$f":"COUNTIF($D$85:$AA$85,$U$114)*$AB$22","v":0},{"$f":"COUNTIF($D$85:$AA$85,$V$114)*$AB$22","v":0},{"$f":"COUNTIF($D$85:$AA$85,$W$114)*$AB$22","v":0},{"$f":"COUNTIF($D$85:$AA$85,$X$114)*$AB$22","v":0},{"$f":"COUNTIF($D$85:$AA$85,$Y$114)*$AB$22","v":0},{"$f":"COUNTIF($D$85:$AA$85,$Z$114)*$AB$22","v":0},{"$f":"COUNTIF($D$85:$AA$85,$AA$114)*$AB$22","v":0},{"$f":"COUNTIF($D$85:$AA$85,$AB$114)*$AB$22","v":0},{"$f":"COUNTIF($D$85:$AA$85,$AC$114)*$AB$22","v":0},{"$f":"COUNTIF($D$85:$AA$85,$AD$114)*$AB$22","v":0},{"$f":"COUNTIF($D$85:$AA$85,$AE$114)*$AB$22","v":0},{"$f":"COUNTIF($D$85:$AA$85,$AF$114)*$AB$22","v":0},{"$f":"COUNTIF($D$85:$AA$85,$AG$114)*$AB$22","v":0},{"$f":"COUNTIF($D$85:$AA$85,$AH$114)*$AB$22","v":0},{"$f":"COUNTIF($D$85:$AA$85,$AI$114)*$AB$22","v":0},{"$f":"COUNTIF($D$85:$AA$85,$AJ$114)*$AB$22","v":0},{"$f":"COUNTIF($D$85:$AA$85,$AK$114)*$AB$22","v":0},{"$f":"COUNTIF($D$85:$AA$85,$AL$114)*$AB$22","v":0},{"$f":"COUNTIF($D$85:$AA$85,$AM$114)*$AB$22","v":0},{"$f":"COUNTIF($D$85:$AA$85,$AN$114)*$AB$22","v":0},{"$f":"COUNTIF($D$85:$AA$85,$AO$114)*$AB$22","v":0},{"$f":"COUNTIF($D$85:$AA$85,$AP$114)*$AB$22","v":0},{"$f":"COUNTIF($D$85:$AA$85,$AQ$114)*$AB$22","v":0},{"$f":"COUNTIF($D$85:$AA$85,$AR$114)*$AB$22","v":0},{"$f":"COUNTIF($D$85:$AA$85,$AS$114)*$AB$22","v":0},2,0]
[null,null,3,{"$f":"COUNTIF($D$86:$AA$86,$D$114)*$AB$23","v":0},{"$f":"COUNTIF($D$86:$AA$86,$E$114)*$AB$23","v":0},{"$f":"COUNTIF($D$86:$AA$86,$F$114)*$AB$23","v":0},{"$f":"COUNTIF($D$86:$AA$86,$G$114)*$AB$23","v":0},{"$f":"COUNTIF($D$86:$AA$86,$H$114)*$AB$23","v":0},{"$f":"COUNTIF($D$86:$AA$86,$I$114)*$AB$23","v":0},{"$f":"COUNTIF($D$86:$AA$86,$J$114)*$AB$23","v":0},{"$f":"COUNTIF($D$86:$AA$86,$K$114)*$AB$23","v":0},{"$f":"COUNTIF($D$86:$AA$86,$L$114)*$AB$23","v":0},{"$f":"COUNTIF($D$86:$AA$86,$M$114)*$AB$23","v":0},{"$f":"COUNTIF($D$86:$AA$86,$N$114)*$AB$23","v":0},{"$f":"COUNTIF($D$86:$AA$86,$O$114)*$AB$23","v":0},{"$f":"COUNTIF($D$86:$AA$86,$P$114)*$AB$23","v":0},{"$f":"COUNTIF($D$86:$AA$86,$Q$114)*$AB$23","v":0},{"$f":"COUNTIF($D$86:$AA$86,$R$114)*$AB$23","v":0},{"$f":"COUNTIF($D$86:$AA$86,$S$114)*$AB$23","v":0},{"$f":"COUNTIF($D$86:$AA$86,$T$114)*$AB$23","v":0},{"$f":"COUNTIF($D$86:$AA$86,$U$114)*$AB$23","v":0},{"$f":"COUNTIF($D$86:$AA$86,$V$114)*$AB$23","v":0},{"$f":"COUNTIF($D$86:$AA$86,$W$114)*$AB$23","v":0},{"$f":"COUNTIF($D$86:$AA$86,$X$114)*$AB$23","v":0},{"$f":"COUNTIF($D$86:$AA$86,$Y$114)*$AB$23","v":0},{"$f":"COUNTIF($D$86:$AA$86,$Z$114)*$AB$23","v":0},{"$f":"COUNTIF($D$86:$AA$86,$AA$114)*$AB$23","v":0},{"$f":"COUNTIF($D$86:$AA$86,$AB$114)*$AB$23","v":0},{"$f":"COUNTIF($D$86:$AA$86,$AC$114)*$AB$23","v":0},{"$f":"COUNTIF($D$86:$AA$86,$AD$114)*$AB$23","v":0},{"$f":"COUNTIF($D$86:$AA$86,$AE$114)*$AB$23","v":0},{"$f":"COUNTIF($D$86:$AA$86,$AF$114)*$AB$23","v":0},{"$f":"COUNTIF($D$86:$AA$86,$AG$114)*$AB$23","v":0},{"$f":"COUNTIF($D$86:$AA$86,$AH$114)*$AB$23","v":0},{"$f":"COUNTIF($D$86:$AA$86,$AI$114)*$AB$23","v":0},{"$f":"COUNTIF($D$86:$AA$86,$AJ$114)*$AB$23","v":0},{"$f":"COUNTIF($D$86:$AA$86,$AK$114)*$AB$23","v":0},{"$f":"COUNTIF($D$86:$AA$86,$AL$114)*$AB$23","v":0},{"$f":"COUNTIF($D$86:$AA$86,$AM$114)*$AB$23","v":0},{"$f":"COUNTIF($D$86:$AA$86,$AN$114)*$AB$23","v":0},{"$f":"COUNTIF($D$86:$AA$86,$AO$114)*$AB$23","v":0},{"$f":"COUNTIF($D$86:$AA$86,$AP$114)*$AB$23","v":0},{"$f":"COUNTIF($D$86:$AA$86,$AQ$114)*$AB$23","v":0},{"$f":"COUNTIF($D$86:$AA$86,$AR$114)*$AB$23","v":0},{"$f":"COUNTIF($D$86:$AA$86,$AS$114)*$AB$23","v":0},3,0]
[null,null,"発生時間",{"$f":"SUM($D$115:$D$126)","v":0},{"$f":"SUM($E$115:$E$126)","v":0},{"$f":"SUM($F$115:$F$126)","v":0},{"$f":"SUM($G$115:$G$126)","v":0},{"$f":"SUM($H$115:$H$126)","v":0},{"$f":"SUM($I$115:$I$126)","v":0},{"$f":"SUM($J$115:$J$126)","v":0},{"$f":"SUM($K$115:$K$126)","v":0},{"$f":"SUM($L$115:$L$126)","v":0},{"$f":"SUM($M$115:$M$126)","v":0},{"$f":"SUM($N$115:$N$126)","v":0},{"$f":"SUM($O$115:$O$126)","v":0},{"$f":"SUM($P$115:$P$126)","v":0},{"$f":"SUM($Q$115:$Q$126)","v":0},{"$f":"SUM($R$115:$R$126)","v":0},{"$f":"SUM($S$115:$S$126)","v":0},{"$f":"SUM($T$115:$T$126)","v":0},{"$f":"SUM($U$115:$U$126)","v":0},{"$f":"SUM($V$115:$V$126)","v":0},{"$f":"SUM($W$115:$W$126)","v":0},{"$f":"SUM($X$115:$X$126)","v":0},{"$f":"SUM($Y$115:$Y$126)","v":0},{"$f":"SUM($Z$115:$Z$126)","v":0},{"$f":"SUM($AA$115:$AA$126)","v":0},{"$f":"SUM($AB$115:$AB$126)","v":0},{"$f":"SUM($AC$115:$AC$126)","v":0},{"$f":"SUM($AD$115:$AD$126)","v":0},{"$f":"SUM($AE$115:$AE$126)","v":0},{"$f":"SUM($AF$115:$AF$126)","v":0},{"$f":"SUM($AG$115:$AG$126)","v":0},{"$f":"SUM($AH$115:$AH$126)","v":0},{"$f":"SUM($AI$115:$AI$126)","v":0},{"$f":"SUM($AJ$115:$AJ$126)","v":0},{"$f":"SUM($AK$115:$AK$126)","v":0},{"$f":"SUM($AL$115:$AL$126)","v":0},{"$f":"SUM($AM$115:$AM$126)","v":0},{"$f":"SUM($AN$115:$AN$126)","v":0},{"$f":"SUM($AO$115:$AO$126)","v":0},{"$f":"SUM($AP$115:$AP$126)","v":0},{"$f":"SUM($AQ$115:$AQ$126)","v":0},{"$f":"SUM($AR$115:$AR$126)","v":0},{"$f":"SUM($AS$115:$AS$126)","v":0},"発生時間"]
[null,"εw","暖房時消費電力比",{"$f":"$D$129/$D$133","v":0.76509131669984332},{"$f":"$E$129/$E$133","v":0.7992191924607519},{"$f":"$F$129/$F$133","v":0.78287136133970037},{"$f":"$G$129/$G$133","v":0.76141672984884667},{"$f":"$H$129/$H$133","v":0.73518731906486556},{"$f":"$I$129/$I$133","v":0.70448697857913767},{"$f":"$J$129/$J$133","v":0.66959431231966504},{"$f":"$K$129/$K$133","v":0.63076524715054272},{"$f":"$L$129/$L$133","v":0.58823529411764708},{"$f":"$M$129/$M$133","v":0.54222154440851789},{"$f":"$N$129/$N$133","v":0.49292443564014371},{"$f":"$O$129/$O$133","v":0.44052931872715972},{"$f":"$P$129/$P$133","v":0.35759875797826463},{"$f":"$Q$129/$Q$133","v":0.29411764705882348},{"$f":"$R$129/$R$133","v":0.23234474848435202},{"$f":"$S$129/$S$133","v":0.17215473145780058},{"$f":"$T$129/$T$133","v":0.11343423310968954},{"$f":"$U$129/$U$133","v":5.6080463273392278E-2},{"$f":"$V$129/$V$133","v":0},{"$f":"$W$129/$W$133","v":0},{"$f":"$X$129/$X$133","v":0},{"$f":"$Y$129/$Y$133","v":0},{"$f":"$Z$129/$Z$133","v":0},{"$f":"$AA$129/$AA$133","v":0},{"$f":"$AB$129/$AB$133","v":0},{"$f":"$AC$129/$AC$133","v":0},{"$f":"$AD$129/$AD$133","v":0},{"$f":"$AE$129/$AE$133","v":0},{"$f":"$AF$129/$AF$133","v":0},{"$f":"$AG$129/$AG$133","v":0},{"$f":"$AH$129/$AH$133","v":0},{"$f":"$AI$129/$AI$133","v":0},{"$f":"$AJ$129/$AJ$133","v":0},{"$f":"$AK$129/$AK$133","v":0},{"$f":"$AL$129/$AL$133","v":0},{"$f":"$AM$129/$AM$133","v":0},{"$f":"$AN$129/$AN$133","v":0},{"$f":"$AO$129/$AO$133","v":0},{"$f":"$AP$129/$AP$133","v":0},{"$f":"$AQ$129/$AQ$133","v":0},{"$f":"$AR$129/$AR$133","v":0},{"$f":"$AS$129/$AS$133","v":0},"暖房時消費電力比"]
[null,"αw","暖房空調負荷率",{"$f":"IF((($G$27-$D$114)/($G$26-$G$27))+1<0,0,IF((($G$27-$D$114)/($G$26-$G$27))+1>1,1,(($G$27-$D$114)/($G$26-$G$27))+1))","v":1},{"$f":"IF((($G$27-$E$114)/($G$26-$G$27))+1<0,0,IF((($G$27-$E$114)/($G$26-$G$27))+1>1,1,(($G$27-$E$114)/($G$26-$G$27))+1))","v":1},{"$f":"IF((($G$27-$F$114)/($G$26-$G$27))+1<0,0,IF((($G$27-$F$114)/($G$26-$G$27))+1>1,1,(($G$27-$F$114)/($G$26-$G$27))+1))","v":0.94117647058823528},{"$f":"IF((($G$27-$G$114)/($G$26-$G$27))+1<0,0,IF((($G$27-$G$114)/($G$26-$G$27))+1>1,1,(($G$27-$G$114)/($G$26-$G$27))+1))","v":0.88235294117647056},{"$f":"IF((($G$27-$H$114)/($G$26-$G$27))+1<0,0,IF((($G$27-$H$114)/($G$26-$G$27))+1>1,1,(($G$27-$H$114)/($G$26-$G$27))+1))","v":0.82352941176470584},{"$f":"IF((($G$27-$I$114)/($G$26-$G$27))+1<0,0,IF((($G$27-$I$114)/($G$26-$G$27))+1>1,1,(($G$27-$I$114)/($G$26-$G$27))+1))","v":0.76470588235294112},{"$f":"IF((($G$27-$J$114)/($G$26-$G$27))+1<0,0,IF((($G$27-$J$114)/($G$26-$G$27))+1>1,1,(($G$27-$J$114)/($G$26-$G$27))+1))","v":0.70588235294117641},{"$f":"IF((($G$27-$K$114)/($G$26-$G$27))+1<0,0,IF((($G$27-$K$114)/($G$26-$G$27))+1>1,1,(($G$27-$K$114)/($G$26-$G$27))+1))","v":0.64705882352941169},{"$f":"IF((($G$27-$L$114)/($G$26-$G$27))+1<0,0,IF((($G$27-$L$114)/($G$26-$G$27))+1>1,1,(($G$27-$L$114)/($G$26-$G$27))+1))","v":0.58823529411764708},{"$f":"IF((($G$27-$M$114)/($G$26-$G$27))+1<0,0,IF((($G$27-$M$114)/($G$26-$G$27))+1>1,1,(($G$27-$M$114)/($G$26-$G$27))+1))","v":0.52941176470588236},{"$f":"IF((($G$27-$N$114)/($G$26-$G$27))+1<0,0,IF((($G$27-$N$114)/($G$26-$G$27))+1>1,1,(($G$27-$N$114)/($G$26-$G$27))+1))","v":0.47058823529411764},{"$f":"IF((($G$27-$O$114)/($G$26-$G$27))+1<0,0,IF((($G$27-$O$114)/($G$26-$G$27))+1>1,1,(($G$27-$O$114)/($G$26-$G$27))+1))","v":0.41176470588235292},{"$f":"IF((($G$27-$P$114)/($G$26-$G$27))+1<0,0,IF((($G$27-$P$114)/($G$26-$G$27))+1>1,1,(($G$27-$P$114)/($G$26-$G$27))+1))","v":0.3529411764705882},{"$f":"IF((($G$27-$Q$114)/($G$26-$G$27))+1<0,0,IF((($G$27-$Q$114)/($G$26-$G$27))+1>1,1,(($G$27-$Q$114)/($G$26-$G$27))+1))","v":0.29411764705882348},{"$f":"IF((($G$27-$R$114)/($G$26-$G$27))+1<0,0,IF((($G$27-$R$114)/($G$26-$G$27))+1>1,1,(($G$27-$R$114)/($G$26-$G$27))+1))","v":0.23529411764705888},{"$f":"IF((($G$27-$S$114)/($G$26-$G$27))+1<0,0,IF((($G$27-$S$114)/($G$26-$G$27))+1>1,1,(($G$27-$S$114)/($G$26-$G$27))+1))","v":0.17647058823529416},{"$f":"IF((($G$27-$T$114)/($G$26-$G$27))+1<0,0,IF((($G$27-$T$114)/($G$26-$G$27))+1>1,1,(($G$27-$T$114)/($G$26-$G$27))+1))","v":0.11764705882352944},{"$f":"IF((($G$27-$U$114)/($G$26-$G$27))+1<0,0,IF((($G$27-$U$114)/($G$26-$G$27))+1>1,1,(($G$27-$U$114)/($G$26-$G$27))+1))","v":5.8823529411764719E-2},{"$f":"IF((($G$27-$V$114)/($G$26-$G$27))+1<0,0,IF((($G$27-$V$114)/($G$26-$G$27))+1>1,1,(($G$27-$V$114)/($G$26-$G$27))+1))","v":0},{"$f":"IF((($G$27-$W$114)/($G$26-$G$27))+1<0,0,IF((($G$27-$W$114)/($G$26-$G$27))+1>1,1,(($G$27-$W$114)/($G$26-$G$27))+1))","v":0},{"$f":"IF((($G$27-$X$114)/($G$26-$G$27))+1<0,0,IF((($G$27-$X$114)/($G$26-$G$27))+1>1,1,(($G$27-$X$114)/($G$26-$G$27))+1))","v":0},{"$f":"IF((($G$27-$Y$114)/($G$26-$G$27))+1<0,0,IF((($G$27-$Y$114)/($G$26-$G$27))+1>1,1,(($G$27-$Y$114)/($G$26-$G$27))+1))","v":0},{"$f":"IF((($G$27-$Z$114)/($G$26-$G$27))+1<0,0,IF((($G$27-$Z$114)/($G$26-$G$27))+1>1,1,(($G$27-$Z$114)/($G$26-$G$27))+1))","v":0},{"$f":"IF((($G$27-$AA$114)/($G$26-$G$27))+1<0,0,IF((($G$27-$AA$114)/($G$26-$G$27))+1>1,1,(($G$27-$AA$114)/($G$26-$G$27))+1))","v":0},{"$f":"IF((($G$27-$AB$114)/($G$26-$G$27))+1<0,0,IF((($G$27-$AB$114)/($G$26-$G$27))+1>1,1,(($G$27-$AB$114)/($G$26-$G$27))+1))","v":0},{"$f":"IF((($G$27-$AC$114)/($G$26-$G$27))+1<0,0,IF((($G$27-$AC$114)/($G$26-$G$27))+1>1,1,(($G$27-$AC$114)/($G$26-$G$27))+1))","v":0},{"$f":"IF((($G$27-$AD$114)/($G$26-$G$27))+1<0,0,IF((($G$27-$AD$114)/($G$26-$G$27))+1>1,1,(($G$27-$AD$114)/($G$26-$G$27))+1))","v":0},{"$f":"IF((($G$27-$AE$114)/($G$26-$G$27))+1<0,0,IF((($G$27-$AE$114)/($G$26-$G$27))+1>1,1,(($G$27-$AE$114)/($G$26-$G$27))+1))","v":0},{"$f":"IF((($G$27-$AF$114)/($G$26-$G$27))+1<0,0,IF((($G$27-$AF$114)/($G$26-$G$27))+1>1,1,(($G$27-$AF$114)/($G$26-$G$27))+1))","v":0},{"$f":"IF((($G$27-$AG$114)/($G$26-$G$27))+1<0,0,IF((($G$27-$AG$114)/($G$26-$G$27))+1>1,1,(($G$27-$AG$114)/($G$26-$G$27))+1))","v":0},{"$f":"IF((($G$27-$AH$114)/($G$26-$G$27))+1<0,0,IF((($G$27-$AH$114)/($G$26-$G$27))+1>1,1,(($G$27-$AH$114)/($G$26-$G$27))+1))","v":0},{"$f":"IF((($G$27-$AI$114)/($G$26-$G$27))+1<0,0,IF((($G$27-$AI$114)/($G$26-$G$27))+1>1,1,(($G$27-$AI$114)/($G$26-$G$27))+1))","v":0},{"$f":"IF((($G$27-$AJ$114)/($G$26-$G$27))+1<0,0,IF((($G$27-$AJ$114)/($G$26-$G$27))+1>1,1,(($G$27-$AJ$114)/($G$26-$G$27))+1))","v":0},{"$f":"IF((($G$27-$AK$114)/($G$26-$G$27))+1<0,0,IF((($G$27-$AK$114)/($G$26-$G$27))+1>1,1,(($G$27-$AK$114)/($G$26-$G$27))+1))","v":0},{"$f":"IF((($G$27-$AL$114)/($G$26-$G$27))+1<0,0,IF((($G$27-$AL$114)/($G$26-$G$27))+1>1,1,(($G$27-$AL$114)/($G$26-$G$27))+1))","v":0},{"$f":"IF((($G$27-$AM$114)/($G$26-$G$27))+1<0,0,IF((($G$27-$AM$114)/($G$26-$G$27))+1>1,1,(($G$27-$AM$114)/($G$26-$G$27))+1))","v":0},{"$f":"IF((($G$27-$AN$114)/($G$26-$G$27))+1<0,0,IF((($G$27-$AN$114)/($G$26-$G$27))+1>1,1,(($G$27-$AN$114)/($G$26-$G$27))+1))","v":0},{"$f":"IF((($G$27-$AO$114)/($G$26-$G$27))+1<0,0,IF((($G$27-$AO$114)/($G$26-$G$27))+1>1,1,(($G$27-$AO$114)/($G$26-$G$27))+1))","v":0},{"$f":"IF((($G$27-$AP$114)/($G$26-$G$27))+1<0,0,IF((($G$27-$AP$114)/($G$26-$G$27))+1>1,1,(($G$27-$AP$114)/($G$26-$G$27))+1))","v":0},{"$f":"IF((($G$27-$AQ$114)/($G$26-$G$27))+1<0,0,IF((($G$27-$AQ$114)/($G$26-$G$27))+1>1,1,(($G$27-$AQ$114)/($G$26-$G$27))+1))","v":0},{"$f":"IF((($G$27-$AR$114)/($G$26-$G$27))+1<0,0,IF((($G$27-$AR$114)/($G$26-$G$27))+1>1,1,(($G$27-$AR$114)/($G$26-$G$27))+1))","v":0},{"$f":"IF((($G$27-$AS$114)/($G$26-$G$27))+1<0,0,IF((($G$27-$AS$114)/($G$26-$G$27))+1>1,1,(($G$27-$AS$114)/($G$26-$G$27))+1))","v":0},"暖房空調負荷率"]
[null,"Φw","暖房能力",{"$f":"($G$35-0.64*$G$32)/9*($D$114-2)+$G$35","v":16.388888888888889},{"$f":"($G$35-0.64*$G$32)/9*($E$114-2)+$G$35","v":16.777777777777779},{"$f":"($G$35-0.64*$G$32)/9*($F$114-2)+$G$35","v":17.166666666666668},{"$f":"($G$35-0.64*$G$32)/9*($G$114-2)+$G$35","v":17.555555555555557},{"$f":"($G$35-0.64*$G$32)/9*($H$114-2)+$G$35","v":17.944444444444443},{"$f":"($G$35-0.64*$G$32)/9*($I$114-2)+$G$35","v":18.333333333333332},{"$f":"($G$35-0.64*$G$32)/9*($J$114-2)+$G$35","v":18.722222222222221},{"$f":"($G$35-0.64*$G$32)/9*($K$114-2)+$G$35","v":19.111111111111111},{"$f":"($G$35-0.64*$G$32)/9*($L$114-2)+$G$35","v":19.5},{"$f":"($G$35-0.64*$G$32)/9*($M$114-2)+$G$35","v":19.888888888888889},{"$f":"($G$35-0.64*$G$32)/9*($N$114-2)+$G$35","v":20.277777777777779},{"$f":"($G$35-0.64*$G$32)/9*($O$114-2)+$G$35","v":20.666666666666668},{"$f":"($G$32-0.64*$G$32)/14*($P$114-7)+$G$32","v":24.357142857142858},{"$f":"($G$32-0.64*$G$32)/14*($Q$114-7)+$G$32","v":25},{"$f":"($G$32-0.64*$G$32)/14*($R$114-7)+$G$32","v":25.642857142857142},{"$f":"($G$32-0.64*$G$32)/14*($S$114-7)+$G$32","v":26.285714285714285},{"$f":"($G$32-0.64*$G$32)/14*($T$114-7)+$G$32","v":26.928571428571431},{"$f":"($G$32-0.64*$G$32)/14*($U$114-7)+$G$32","v":27.571428571428573},{"$f":"($G$32-0.64*$G$32)/14*($V$114-7)+$G$32","v":28.214285714285715},{"$f":"($G$32-0.64*$G$32)/14*($W$114-7)+$G$32","v":28.857142857142858},{"$f":"($G$32-0.64*$G$32)/14*($X$114-7)+$G$32","v":29.5},{"$f":"($G$32-0.64*$G$32)/14*($Y$114-7)+$G$32","v":30.142857142857142},{"$f":"($G$32-0.64*$G$32)/14*($Z$114-7)+$G$32","v":30.785714285714285},{"$f":"($G$32-0.64*$G$32)/14*($AA$114-7)+$G$32","v":31.428571428571431},{"$f":"($G$32-0.64*$G$32)/14*($AB$114-7)+$G$32","v":32.071428571428569},{"$f":"($G$32-0.64*$G$32)/14*($AC$114-7)+$G$32","v":32.714285714285715},{"$f":"($G$32-0.64*$G$32)/14*($AD$114-7)+$G$32","v":33.357142857142861},{"$f":"($G$32-0.64*$G$32)/14*($AE$114-7)+$G$32","v":34},{"$f":"($G$32-0.64*$G$32)/14*($AF$114-7)+$G$32","v":34.642857142857146},{"$f":"($G$32-0.64*$G$32)/14*($AG$114-7)+$G$32","v":35.285714285714285},{"$f":"($G$32-0.64*$G$32)/14*($AH$114-7)+$G$32","v":35.928571428571431},{"$f":"($G$32-0.64*$G$32)/14*($AI$114-7)+$G$32","v":36.571428571428569},{"$f":"($G$32-0.64*$G$32)/14*($AJ$114-7)+$G$32","v":37.214285714285715},{"$f":"($G$32-0.64*$G$32)/14*($AK$114-7)+$G$32","v":37.857142857142861},{"$f":"($G$32-0.64*$G$32)/14*($AL$114-7)+$G$32","v":38.5},{"$f":"($G$32-0.64*$G$32)/14*($AM$114-7)+$G$32","v":39.142857142857146},{"$f":"($G$32-0.64*$G$32)/14*($AN$114-7)+$G$32","v":39.785714285714285},{"$f":"($G$32-0.64*$G$32)/14*($AO$114-7)+$G$32","v":40.428571428571431},{"$f":"($G$32-0.64*$G$32)/14*($AP$114-7)+$G$32","v":41.071428571428569},{"$f":"($G$32-0.64*$G$32)/14*($AQ$114-7)+$G$32","v":41.714285714285715},{"$f":"($G$32-0.64*$G$32)/14*($AR$114-7)+$G$32","v":42.357142857142861},{"$f":"($G$32-0.64*$G$32)/14*($AS$114-7)+$G$32","v":43},"暖房能力"]
[null,"Pw","消費電力",{"$f":"($G$36-0.82*$G$33)/9*($D$114-2)+$G$36","v":5.6393333333333331},{"$f":"($G$36-0.82*$G$33)/9*($E$114-2)+$G$36","v":6.0306666666666668},{"$f":"($G$36-0.82*$G$33)/9*($F$114-2)+$G$36","v":6.4220000000000006},{"$f":"($G$36-0.82*$G$33)/9*($G$114-2)+$G$36","v":6.8133333333333335},{"$f":"($G$36-0.82*$G$33)/9*($H$114-2)+$G$36","v":7.2046666666666663},{"$f":"($G$36-0.82*$G$33)/9*($I$114-2)+$G$36","v":7.5960000000000001},{"$f":"($G$36-0.82*$G$33)/9*($J$114-2)+$G$36","v":7.987333333333333},{"$f":"($G$36-0.82*$G$33)/9*($K$114-2)+$G$36","v":8.3786666666666658},{"$f":"($G$36-0.82*$G$33)/9*($L$114-2)+$G$36","v":8.77},{"$f":"($G$36-0.82*$G$33)/9*($M$114-2)+$G$36","v":9.1613333333333333},{"$f":"($G$36-0.82*$G$33)/9*($N$114-2)+$G$36","v":9.5526666666666653},{"$f":"($G$36-0.82*$G$33)/9*($O$114-2)+$G$36","v":9.9439999999999991},{"$f":"($G$33-0.82*$G$33)/14*($P$114-7)+$G$33","v":6.3177142857142865},{"$f":"($G$33-0.82*$G$33)/14*($Q$114-7)+$G$33","v":6.4},{"$f":"($G$33-0.82*$G$33)/14*($R$114-7)+$G$33","v":6.4822857142857142},{"$f":"($G$33-0.82*$G$33)/14*($S$114-7)+$G$33","v":6.5645714285714289},{"$f":"($G$33-0.82*$G$33)/14*($T$114-7)+$G$33","v":6.6468571428571437},{"$f":"($G$33-0.82*$G$33)/14*($U$114-7)+$G$33","v":6.7291428571428575},{"$f":"($G$33-0.82*$G$33)/14*($V$114-7)+$G$33","v":6.8114285714285714},{"$f":"($G$33-0.82*$G$33)/14*($W$114-7)+$G$33","v":6.8937142857142861},{"$f":"($G$33-0.82*$G$33)/14*($X$114-7)+$G$33","v":6.9760000000000009},{"$f":"($G$33-0.82*$G$33)/14*($Y$114-7)+$G$33","v":7.0582857142857147},{"$f":"($G$33-0.82*$G$33)/14*($Z$114-7)+$G$33","v":7.1405714285714286},{"$f":"($G$33-0.82*$G$33)/14*($AA$114-7)+$G$33","v":7.2228571428571433},{"$f":"($G$33-0.82*$G$33)/14*($AB$114-7)+$G$33","v":7.305142857142858},{"$f":"($G$33-0.82*$G$33)/14*($AC$114-7)+$G$33","v":7.3874285714285719},{"$f":"($G$33-0.82*$G$33)/14*($AD$114-7)+$G$33","v":7.4697142857142858},{"$f":"($G$33-0.82*$G$33)/14*($AE$114-7)+$G$33","v":7.5520000000000005},{"$f":"($G$33-0.82*$G$33)/14*($AF$114-7)+$G$33","v":7.6342857142857152},{"$f":"($G$33-0.82*$G$33)/14*($AG$114-7)+$G$33","v":7.7165714285714291},{"$f":"($G$33-0.82*$G$33)/14*($AH$114-7)+$G$33","v":7.7988571428571429},{"$f":"($G$33-0.82*$G$33)/14*($AI$114-7)+$G$33","v":7.8811428571428577},{"$f":"($G$33-0.82*$G$33)/14*($AJ$114-7)+$G$33","v":7.9634285714285724},{"$f":"($G$33-0.82*$G$33)/14*($AK$114-7)+$G$33","v":8.0457142857142863},{"$f":"($G$33-0.82*$G$33)/14*($AL$114-7)+$G$33","v":8.1280000000000001},{"$f":"($G$33-0.82*$G$33)/14*($AM$114-7)+$G$33","v":8.210285714285714},{"$f":"($G$33-0.82*$G$33)/14*($AN$114-7)+$G$33","v":8.2925714285714296},{"$f":"($G$33-0.82*$G$33)/14*($AO$114-7)+$G$33","v":8.3748571428571434},{"$f":"($G$33-0.82*$G$33)/14*($AP$114-7)+$G$33","v":8.4571428571428573},{"$f":"($G$33-0.82*$G$33)/14*($AQ$114-7)+$G$33","v":8.5394285714285729},{"$f":"($G$33-0.82*$G$33)/14*($AR$114-7)+$G$33","v":8.6217142857142868},{"$f":"($G$33-0.82*$G$33)/14*($AS$114-7)+$G$33","v":8.7040000000000006},"消費電力"]
[null,"σw","COP",{"$f":"$D$130/$D$131","v":2.9061748827678611},{"$f":"$E$130/$E$131","v":2.7820767926892183},{"$f":"$F$130/$F$131","v":2.6731028755320252},{"$f":"$G$130/$G$131","v":2.5766470971950426},{"$f":"$H$130/$H$131","v":2.4906696277104343},{"$f":"$I$130/$I$131","v":2.4135509917500437},{"$f":"$J$130/$J$131","v":2.3439890938430294},{"$f":"$K$130/$K$131","v":2.2809251007850628},{"$f":"$L$130/$L$131","v":2.2234891676168758},{"$f":"$M$130/$M$131","v":2.1709600737398729},{"$f":"$N$130/$N$131","v":2.1227347802824115},{"$f":"$O$130/$O$131","v":2.0783051756503088},{"$f":"$P$130/$P$131","v":3.8553726483357451},{"$f":"$Q$130/$Q$131","v":3.90625},{"$f":"$R$130/$R$131","v":3.955835684062059},{"$f":"$S$130/$S$131","v":4.0041782729805009},{"$f":"$T$130/$T$131","v":4.0513239339752403},{"$f":"$U$130/$U$131","v":4.0973165760869561},{"$f":"$V$130/$V$131","v":4.1421979865771812},{"$f":"$W$130/$W$131","v":4.1860079575596814},{"$f":"$X$130/$X$131","v":4.2287844036697244},{"$f":"$Y$130/$Y$131","v":4.27056347150259},{"$f":"$Z$130/$Z$131","v":4.3113796414852752},{"$f":"$AA$130/$AA$131","v":4.3512658227848098},{"$f":"$AB$130/$AB$131","v":4.3902534418022521},{"$f":"$AC$130/$AC$131","v":4.4283725247524748},{"$f":"$AD$130/$AD$131","v":4.465651774785802},{"$f":"$AE$130/$AE$131","v":4.5021186440677967},{"$f":"$AF$130/$AF$131","v":4.5377994011976046},{"$f":"$AG$130/$AG$131","v":4.5727191943127954},{"$f":"$AH$130/$AH$131","v":4.6069021101992966},{"$f":"$AI$130/$AI$131","v":4.640371229698375},{"$f":"$AJ$130/$AJ$131","v":4.6731486796785298},{"$f":"$AK$130/$AK$131","v":4.7052556818181817},{"$f":"$AL$130/$AL$131","v":4.7367125984251972},{"$f":"$AM$130/$AM$131","v":4.7675389755011137},{"$f":"$AN$130/$AN$131","v":4.7977535832414544},{"$f":"$AO$130/$AO$131","v":4.8273744541484715},{"$f":"$AP$130/$AP$131","v":4.8564189189189184},{"$f":"$AQ$130/$AQ$131","v":4.884903640256959},{"$f":"$AR$130/$AR$131","v":4.9128446447507956},{"$f":"$AS$130/$AS$131","v":4.9402573529411757},"COP"]
[null,"βw","暖房COP比",{"$f":"$D$132/$L$132","v":1.3070335241986739},{"$f":"$E$132/$L$132","v":1.2512212036863817},{"$f":"$F$132/$L$132","v":1.2022108829956852},{"$f":"$G$132/$L$132","v":1.1588305149948985},{"$f":"$H$132/$L$132","v":1.120162699231821},{"$f":"$I$132/$L$132","v":1.0854790870588658},{"$f":"$J$132/$L$132","v":1.054194069384788},{"$f":"$K$132/$L$132","v":1.0258314427633333},{"$f":"$L$132/$L$132","v":1},{"$f":"$M$132/$L$132","v":0.97637537675377872},{"$f":"$N$132/$L$132","v":0.95468636015778197},{"$f":"$O$132/$L$132","v":0.93470443027965167},{"$f":"$P$132/$Q$132","v":0.98697539797395073},{"$f":"$Q$132/$Q$132","v":1},{"$f":"$R$132/$Q$132","v":1.0126939351198871},{"$f":"$S$132/$Q$132","v":1.0250696378830082},{"$f":"$T$132/$Q$132","v":1.0371389270976614},{"$f":"$U$132/$Q$132","v":1.0489130434782608},{"$f":"$V$132/$Q$132","v":1.0604026845637584},{"$f":"$W$132/$Q$132","v":1.0716180371352784},{"$f":"$X$132/$Q$132","v":1.0825688073394495},{"$f":"$Y$132/$Q$132","v":1.0932642487046631},{"$f":"$Z$132/$Q$132","v":1.1037131882202305},{"$f":"$AA$132/$Q$132","v":1.1139240506329113},{"$f":"$AB$132/$Q$132","v":1.1239048811013765},{"$f":"$AC$132/$Q$132","v":1.1336633663366336},{"$f":"$AD$132/$Q$132","v":1.1432068543451652},{"$f":"$AE$132/$Q$132","v":1.152542372881356},{"$f":"$AF$132/$Q$132","v":1.1616766467065869},{"$f":"$AG$132/$Q$132","v":1.1706161137440756},{"$f":"$AH$132/$Q$132","v":1.1793669402110198},{"$f":"$AI$132/$Q$132","v":1.187935034802784},{"$f":"$AJ$132/$Q$132","v":1.1963260619977036},{"$f":"$AK$132/$Q$132","v":1.2045454545454546},{"$f":"$AL$132/$Q$132","v":1.2125984251968505},{"$f":"$AM$132/$Q$132","v":1.2204899777282852},{"$f":"$AN$132/$Q$132","v":1.2282249173098123},{"$f":"$AO$132/$Q$132","v":1.2358078602620086},{"$f":"$AP$132/$Q$132","v":1.2432432432432432},{"$f":"$AQ$132/$Q$132","v":1.2505353319057815},{"$f":"$AR$132/$Q$132","v":1.2576882290562037},{"$f":"$AS$132/$Q$132","v":1.2647058823529409},"暖房COP比"]
[null,"δ","集積加熱補正係数",{"$f":"(0.15/7)*$D$114+0.15","v":2.1428571428571436E-2},{"$f":"(0.15/7)*$E$114+0.15","v":4.2857142857142844E-2},{"$f":"(0.15/7)*$F$114+0.15","v":6.4285714285714279E-2},{"$f":"(0.15/7)*$G$114+0.15","v":8.5714285714285715E-2},{"$f":"(0.15/7)*$H$114+0.15","v":0.10714285714285714},{"$f":"(0.15/7)*$I$114+0.15","v":0.12857142857142856},{"$f":"(-0.15/5.5)*$J$114+0.15","v":0.15},{"$f":"(-0.15/5.5)*$K$114+0.15","v":0.12272727272727273},{"$f":"(-0.15/5.5)*$L$114+0.15","v":9.5454545454545459E-2},{"$f":"(-0.15/5.5)*$M$114+0.15","v":6.8181818181818177E-2},{"$f":"(-0.15/5.5)*$N$114+0.15","v":4.0909090909090909E-2},{"$f":"(-0.15/5.5)*$O$114+0.15","v":1.3636363636363641E-2},0,0,0,0,0,0,0,0,0,0,0,0,0,0,0,0,0,0,0,0,0,0,0,0,0,0,0,0,0,0,"集積加熱補正係数"]
[null,null,null,{"$f":"1+D$134","v":1.0214285714285714},{"$f":"1+E$134","v":1.0428571428571429},1.0642857142857143,1.0857142857142856,1.1071428571428572,1.1285714285714286,1.1499999999999999,1.1227272727272728,1.0954545454545455,1.0681818181818181,1.040909090909091,1.0136363636363637,1,1,1,1,1,1,1,1,1,1,1,1,1,1,1,1,1,1,1,1,1,1,1,1,1,1,1,1,1,1,"∑"]
[null,null,"∑",{"$f":"D$127*D$128*D$135","v":0},{"$f":"E$127*E$128*E$135","v":0},0,0,0,0,0,0,0,0,0,0,0,0,0,0,0,0,0,0,0,0,0,0,0,0,0,0,0,0,0,0,0,0,0,0,0,0,0,0,0,0]
[null,null,null,{"$f":"$G$28/$G$37","v":7.1958974358974359},{"$f":"$G$28/$G$37","v":7.1958974358974359},7.1958974358974359,7.1958974358974359,7.1958974358974359,7.1958974358974359,7.1958974358974359,7.1958974358974359,7.1958974358974359,7.1958974358974359,7.1958974358974359,7.1958974358974359,{"$f":"$G$28/$G$34","v":4.0960000000000001},{"$f":"$G$28/$G$34","v":4.0960000000000001},4.0960000000000001,4.0960000000000001,4.0960000000000001,4.0960000000000001,4.0960000000000001,4.0960000000000001,4.0960000000000001,4.0960000000000001,4.0960000000000001,4.0960000000000001,4.0960000000000001,4.0960000000000001,4.0960000000000001,4.0960000000000001,4.0960000000000001,4.0960000000000001,4.0960000000000001,4.0960000000000001,4.0960000000000001,4.0960000000000001,4.0960000000000001,4.0960000000000001,4.0960000000000001,4.0960000000000001,4.0960000000000001,4.0960000000000001,4.0960000000000001,4.0960000000000001]
[null,null,{"$f":"SUM(D138:AS138)","v":0},{"$f":"D$137*D$136","v":0},{"$f":"E$137*E$136","v":0},0,0,0,0,0,0,0,0,0,0,{"$f":"P$137*P$136","v":0},{"$f":"Q$137*Q$136","v":0},{"$f":"R$137*R$136","v":0},0,0,0,0,0,0,0,0,0,0,0,0,0,0,0,0,0,0,0,0,0,0,0,0,0,0,0,{"$f":"SUM($D$138:$AS$138)","v":0},{"$f":"SUM($AU$115:$AU$126)","v":0}]

{"sheet":"γ一覧表","index":22,"n_rows":104,"n_cols":10,"rows_kept":104,"cut":false,"hidden":true,"merged":[[1,7,1,9],[1,1,1,5]]}
[]
[null,"都道府県",null,null,null,null,null,"個別対応用"]
[null,null,"都道府県名","県庁所在都市名","γ","シート名",null,null,"γ","シート名"]
[null,1,"北海道","札幌",2,"寒冷地(γ既定値)",null,1,0,"温暖地(γ個別入力)"]
[null,2,"青森","青森",1.5,"寒冷地(γ既定値)",null,2,0.1,"温暖地(γ個別入力)"]
[null,3,"岩手","盛岡",1.5,"寒冷地(γ既定値)",null,3,0.2,"温暖地(γ個別入力)"]
[null,4,"宮城","仙台",1,"温暖地(γ既定値)",null,4,0.3,"温暖地(γ個別入力)"]
[null,5,"秋田","秋田",1.5,"寒冷地(γ既定値)",null,5,0.4,"温暖地(γ個別入力)"]
[null,6,"山形","山形",1,"温暖地(γ既定値)",null,6,0.5,"温暖地(γ個別入力)"]
[null,7,"福島","福島",1,"温暖地(γ既定値)",null,7,0.6,"温暖地(γ個別入力)"]
[null,8,"茨城","水戸",0.8,"温暖地(γ既定値)",null,8,0.7,"温暖地(γ個別入力)"]
[null,9,"栃木","宇都宮",1,"温暖地(γ既定値)",null,9,0.8,"温暖地(γ個別入力)"]
[null,10,"群馬","前橋",0.6,"温暖地(γ既定値)",null,10,0.9,"温暖地(γ個別入力)"]
[null,11,"埼玉","さいたま",0.6,"温暖地(γ既定値)",null,11,1,"温暖地(γ個別入力)"]
[null,12,"千葉","千葉",0.6,"温暖地(γ既定値)",null,12,1.1000000000000001,"寒冷地(γ個別入力)"]
[null,13,"東京","東京",0.6,"温暖地(γ既定値)",null,13,1.2,"寒冷地(γ個別入力)"]
[null,14,"神奈川","横浜",0.6,"温暖地(γ既定値)",null,14,1.3,"寒冷地(γ個別入力)"]
[null,15,"新潟","新潟",1,"温暖地(γ既定値)",null,15,1.4,"寒冷地(γ個別入力)"]
[null,16,"富山","富山",0.8,"温暖地(γ既定値)",null,16,1.5,"寒冷地(γ個別入力)"]
[null,17,"石川","金沢",0.6,"温暖地(γ既定値)",null,17,1.6,"寒冷地(γ個別入力)"]
[null,18,"福井","福井",0.6,"温暖地(γ既定値)",null,18,1.7,"寒冷地(γ個別入力)"]
[null,19,"山梨","甲府",0.6,"温暖地(γ既定値)",null,19,1.8,"寒冷地(γ個別入力)"]
[null,20,"長野","長野",1,"温暖地(γ既定値)",null,20,1.9,"寒冷地(γ個別入力)"]
[null,21,"岐阜","岐阜",0.6,"温暖地(γ既定値)",null,21,2,"寒冷地(γ個別入力)"]
[null,22,"静岡","静岡",0.6,"温暖地(γ既定値)",null,22,2.1,"寒冷地(γ個別入力)"]
[null,23,"愛知","名古屋",0.6,"温暖地(γ既定値)",null,23,2.2000000000000002,"寒冷地(γ個別入力)"]
[null,24,"三重","津",0.6,"温暖地(γ既定値)",null,24,2.2999999999999998,"寒冷地(γ個別入力)"]
[null,25,"滋賀","大津",0.8,"温暖地(γ既定値)",null,25,2.4,"寒冷地(γ個別入力)"]
[null,26,"京都","京都",0.6,"温暖地(γ既定値)",null,26,2.5,"寒冷地(γ個別入力)"]
[null,27,"大阪","大阪",0.6,"温暖地(γ既定値)",null,27,2.6,"寒冷地(γ個別入力)"]
[null,28,"兵庫","神戸",0.6,"温暖地(γ既定値)",null,28,2.7,"寒冷地(γ個別入力)"]
[null,29,"奈良","奈良",0.6,"温暖地(γ既定値)",null,29,2.8,"寒冷地(γ個別入力)"]
[null,30,"和歌山","和歌山",0.6,"温暖地(γ既定値)",null,30,2.9,"寒冷地(γ個別入力)"]
[null,31,"鳥取","鳥取",0.6,"温暖地(γ既定値)",null,31,3,"寒冷地(γ個別入力)"]
[null,32,"島根","松江",0.6,"温暖地(γ既定値)",null,32,3.1,"寒冷地(γ個別入力)"]
[null,33,"岡山","岡山",0.6,"温暖地(γ既定値)",null,33,3.2,"寒冷地(γ個別入力)"]
[null,34,"広島","広島",0.6,"温暖地(γ既定値)",null,34,3.3,"寒冷地(γ個別入力)"]
[null,35,"山口","山口",0.6,"温暖地(γ既定値)",null,35,3.4,"寒冷地(γ個別入力)"]
[null,36,"徳島","徳島",0.6,"温暖地(γ既定値)",null,36,3.5,"寒冷地(γ個別入力)"]
[null,37,"香川","高松",0.6,"温暖地(γ既定値)",null,37,3.6,"寒冷地(γ個別入力)"]
[null,38,"愛媛","松山",0.6,"温暖地(γ既定値)",null,38,3.7,"寒冷地(γ個別入力)"]
[null,39,"高知","高知",0.6,"温暖地(γ既定値)",null,39,3.8,"寒冷地(γ個別入力)"]
[null,40,"福岡","福岡",0.6,"温暖地(γ既定値)",null,40,3.9,"寒冷地(γ個別入力)"]
[null,41,"佐賀","佐賀",0.6,"温暖地(γ既定値)",null,41,4,"寒冷地(γ個別入力)"]
[null,42,"長崎","長崎",0.6,"温暖地(γ既定値)",null,42,4.0999999999999996,"寒冷地(γ個別入力)"]
[null,43,"熊本","熊本",0.6,"温暖地(γ既定値)",null,43,4.2,"寒冷地(γ個別入力)"]
[null,44,"大分","大分",0.6,"温暖地(γ既定値)",null,44,4.3,"寒冷地(γ個別入力)"]
[null,45,"宮崎","宮崎",0.4,"温暖地(γ既定値)",null,45,4.4000000000000004,"寒冷地(γ個別入力)"]
[null,46,"鹿児島","鹿児島",0.4,"温暖地(γ既定値)",null,46,4.5,"寒冷地(γ個別入力)"]
[null,47,"沖縄","那覇",0,"温暖地(γ既定値)",null,47,4.5999999999999996,"寒冷地(γ個別入力)"]
[null,null,null,null,null,null,null,48,4.7,"寒冷地(γ個別入力)"]
[null,null,null,null,null,null,null,49,4.8,"寒冷地(γ個別入力)"]
[null,null,null,null,null,null,null,50,4.9000000000000004,"寒冷地(γ個別入力)"]
[null,null,null,null,null,null,null,51,5,"寒冷地(γ個別入力)"]
[null,null,null,null,null,null,null,52,5.0999999999999996,"寒冷地(γ個別入力)"]
[null,null,null,null,null,null,null,53,5.2,"寒冷地(γ個別入力)"]
[null,null,null,null,null,null,null,54,5.3,"寒冷地(γ個別入力)"]
[null,null,null,null,null,null,null,55,5.4,"寒冷地(γ個別入力)"]
[null,null,null,null,null,null,null,56,5.5,"寒冷地(γ個別入力)"]
[null,null,null,null,null,null,null,57,5.6,"寒冷地(γ個別入力)"]
[null,null,null,null,null,null,null,58,5.7,"寒冷地(γ個別入力)"]
[null,null,null,null,null,null,null,59,5.8,"寒冷地(γ個別入力)"]
[null,null,null,null,null,null,null,60,5.9,"寒冷地(γ個別入力)"]
[null,null,null,null,null,null,null,61,6,"寒冷地(γ個別入力)"]
[null,null,null,null,null,null,null,62,6.1,"寒冷地(γ個別入力)"]
[null,null,null,null,null,null,null,63,6.2,"寒冷地(γ個別入力)"]
[null,null,null,null,null,null,null,64,6.3,"寒冷地(γ個別入力)"]
[null,null,null,null,null,null,null,65,6.4,"寒冷地(γ個別入力)"]
[null,null,null,null,null,null,null,66,6.5,"寒冷地(γ個別入力)"]
[null,null,null,null,null,null,null,67,6.6,"寒冷地(γ個別入力)"]
[null,null,null,null,null,null,null,68,6.7,"寒冷地(γ個別入力)"]
[null,null,null,null,null,null,null,69,6.8000000000000096,"寒冷地(γ個別入力)"]
[null,null,null,null,null,null,null,70,6.9000000000000101,"寒冷地(γ個別入力)"]
[null,null,null,null,null,null,null,71,7.0000000000000098,"寒冷地(γ個別入力)"]
[null,null,null,null,null,null,null,72,7.1000000000000103,"寒冷地(γ個別入力)"]
[null,null,null,null,null,null,null,73,7.2000000000000099,"寒冷地(γ個別入力)"]
[null,null,null,null,null,null,null,74,7.3000000000000096,"寒冷地(γ個別入力)"]
[null,null,null,null,null,null,null,75,7.4000000000000101,"寒冷地(γ個別入力)"]
[null,null,null,null,null,null,null,76,7.5000000000000098,"寒冷地(γ個別入力)"]
[null,null,null,null,null,null,null,77,7.6000000000000103,"寒冷地(γ個別入力)"]
[null,null,null,null,null,null,null,78,7.7000000000000099,"寒冷地(γ個別入力)"]
[null,null,null,null,null,null,null,79,7.8000000000000096,"寒冷地(γ個別入力)"]
[null,null,null,null,null,null,null,80,7.9000000000000101,"寒冷地(γ個別入力)"]
[null,null,null,null,null,null,null,81,8.0000000000000107,"寒冷地(γ個別入力)"]
[null,null,null,null,null,null,null,82,8.1000000000000103,"寒冷地(γ個別入力)"]
[null,null,null,null,null,null,null,83,8.2000000000000099,"寒冷地(γ個別入力)"]
[null,null,null,null,null,null,null,84,8.3000000000000096,"寒冷地(γ個別入力)"]
[null,null,null,null,null,null,null,85,8.4000000000000092,"寒冷地(γ個別入力)"]
[null,null,null,null,null,null,null,86,8.5000000000000195,"寒冷地(γ個別入力)"]
[null,null,null,null,null,null,null,87,8.6000000000000192,"寒冷地(γ個別入力)"]
[null,null,null,null,null,null,null,88,8.7000000000000206,"寒冷地(γ個別入力)"]
[null,null,null,null,null,null,null,89,8.8000000000000203,"寒冷地(γ個別入力)"]
[null,null,null,null,null,null,null,90,8.9000000000000199,"寒冷地(γ個別入力)"]
[null,null,null,null,null,null,null,91,9.0000000000000195,"寒冷地(γ個別入力)"]
[null,null,null,null,null,null,null,92,9.1000000000000192,"寒冷地(γ個別入力)"]
[null,null,null,null,null,null,null,93,9.2000000000000206,"寒冷地(γ個別入力)"]
[null,null,null,null,null,null,null,94,9.3000000000000203,"寒冷地(γ個別入力)"]
[null,null,null,null,null,null,null,95,9.4000000000000199,"寒冷地(γ個別入力)"]
[null,null,null,null,null,null,null,96,9.5000000000000195,"寒冷地(γ個別入力)"]
[null,null,null,null,null,null,null,97,9.6000000000000192,"寒冷地(γ個別入力)"]
[null,null,null,null,null,null,null,98,9.7000000000000206,"寒冷地(γ個別入力)"]
[null,null,null,null,null,null,null,99,9.8000000000000203,"寒冷地(γ個別入力)"]
[null,null,null,null,null,null,null,100,9.9000000000000199,"寒冷地(γ個別入力)"]
[null,null,null,null,null,null,null,101,10,"寒冷地(γ個別入力)"]

{"sheet":"札幌","index":23,"n_rows":16,"n_cols":25,"rows_kept":16,"cut":false,"hidden":true,"merged":[]}
["気象データ"]
[{"$f":"RIGHT(CELL(\"filename\",A2),LEN(CELL(\"filename\",A2))-FIND(\"]\",CELL(\"filename\",A2)))","v":"札幌"},{"$f":"VLOOKUP(A2,γ一覧表!$D$4:$E$50,2,FALSE)","v":2},"暖・冷房負荷比(γ)"]
["時刻別平均気温"]
["時刻",0,1,2,3,4,5,6,7,8,9,10,11,12,13,14,15,16,17,18,19,20,21,22,23]
["4月",5.5,5.3,5.0999999999999996,4.8,4.5999999999999996,4.5,4.8,5.7,7,8.1,9,9.6999999999999993,10.1,10.3,10.199999999999999,9.9,9.4,8.6999999999999993,8,7.4,7,6.7,6.3,6]
["5月",10.9,10.7,10.4,10.199999999999999,10,10,10.7,11.8,13,14.1,15.1,15.8,16.2,16.3,16.100000000000001,15.8,15.2,14.6,13.8,13,12.5,12.1,11.8,11.4]
["6月",15.1,14.8,14.6,14.3,14.2,14.3,14.9,15.9,17.100000000000001,18.2,19.100000000000001,19.8,20.2,20.3,20.2,19.7,19.2,18.5,17.8,17.100000000000001,16.5,16.100000000000001,15.8,15.5]
["7月",19.399999999999999,19.2,19,18.8,18.600000000000001,18.7,19.2,20.100000000000001,21.1,22.1,23,23.6,24.1,24.2,24.1,23.8,23.2,22.6,21.9,21.2,20.7,20.399999999999999,20.100000000000001,19.8]
["8月",20.8,20.6,20.399999999999999,20.2,20,19.899999999999999,20.2,21.1,22.2,23.2,24.1,24.7,25.1,25.3,25.2,24.8,24.3,23.7,23,22.4,22,21.6,21.3,21]
["9月",17.100000000000001,16.8,16.5,16.3,16.100000000000001,15.9,16,17,18.399999999999999,19.7,20.6,21.2,21.5,21.7,21.6,21.3,20.7,20,19.3,18.7,18.3,17.899999999999999,17.5,17.2]
["10月",10.7,10.5,10.199999999999999,10,9.8000000000000007,9.6999999999999993,9.6,10.199999999999999,11.6,13,14,14.7,15.1,15.2,15.1,14.7,14.1,13.3,12.6,12.1,11.7,11.4,11,10.8]
["11月",4.4000000000000004,4.3,4.2,4,3.9,3.8,3.8,3.9,4.5999999999999996,5.7,6.4,7,7.3,7.4,7.2,6.8,6.4,5.8,5.5,5.2,4.9000000000000004,4.7,4.5,4.3]
["12月",-1.5,-1.7,-1.7,-1.8,-1.9,-2,-2,-2,-1.7,-0.9,-0.2,0.3,0.6,0.7,0.6,0.3,-0.1,-0.4,-0.7,-0.9,-1.1000000000000001,-1.2,-1.4,-1.5]
["1月",-4,-4.2,-4.3,-4.4000000000000004,-4.5,-4.5999999999999996,-4.5999999999999996,-4.7,-4.4000000000000004,-3.5,-2.8,-2.1,-1.8,-1.6,-1.7,-1.9,-2.2000000000000002,-2.6,-2.9,-3.1,-3.4,-3.6,-3.7,-3.9]
["2月",-3.5,-3.7,-3.9,-4.0999999999999996,-4.3,-4.4000000000000004,-4.5,-4.5,-3.8,-2.7,-1.9,-1.3,-1,-0.8,-0.8,-0.9,-1.3,-1.8,-2.1,-2.4,-2.6,-2.8,-3,-3.2]
["3月",0.1,-0.1,-0.3,-0.4,-0.6,-0.7,-0.8,-0.3,0.7,1.7,2.5,3,3.3,3.4,3.4,3.1,2.8,2.2999999999999998,1.8,1.5,1.2,1,0.7,0.5]

{"sheet":"青森","index":24,"n_rows":16,"n_cols":25,"rows_kept":16,"cut":false,"hidden":true,"merged":[]}
["気象データ"]
[{"$f":"RIGHT(CELL(\"filename\",A2),LEN(CELL(\"filename\",A2))-FIND(\"]\",CELL(\"filename\",A2)))","v":"青森"},{"$f":"VLOOKUP(A2,γ一覧表!$D$4:$E$50,2,FALSE)","v":1.5},"暖・冷房負荷比(γ)"]
["時刻別平均気温"]
["時刻",0,1,2,3,4,5,6,7,8,9,10,11,12,13,14,15,16,17,18,19,20,21,22,23]
["4月",6.4,6.1,5.9,5.6,5.4,5.3,5.7,7.2,8.6,9.6999999999999993,10.6,11.2,11.7,11.9,11.9,11.6,11.2,10.4,9.6,8.9,8.3000000000000007,7.8,7.3,6.9]
["5月",11.5,11.2,10.9,10.7,10.5,10.5,11.4,12.7,13.9,14.9,15.7,16.3,16.7,16.899999999999999,16.899999999999999,16.7,16.3,15.6,14.8,14,13.4,12.9,12.4,12]
["6月",15.7,15.4,15.1,14.9,14.7,14.9,15.6,16.600000000000001,17.5,18.399999999999999,19.2,19.7,20.100000000000001,20.3,20.3,20.2,19.899999999999999,19.3,18.600000000000001,17.899999999999999,17.399999999999999,16.899999999999999,16.5,16.2]
["7月",20.100000000000001,19.899999999999999,19.7,19.5,19.399999999999999,19.399999999999999,19.899999999999999,20.8,21.7,22.6,23.3,23.9,24.3,24.4,24.3,24.2,23.9,23.4,22.8,22.1,21.6,21.2,20.8,20.5]
["8月",21.9,21.6,21.4,21.2,21,20.9,21.3,22.4,23.5,24.4,25.1,25.7,26.1,26.4,26.3,26.1,25.7,25.1,24.4,23.7,23.2,22.8,22.5,22.1]
["9月",17.899999999999999,17.7,17.399999999999999,17.2,17,16.8,16.899999999999999,18.100000000000001,19.899999999999999,21.2,22.1,22.7,23.1,23.3,23.3,23,22.4,21.7,20.8,20.100000000000001,19.5,19,18.5,18.100000000000001]
["10月",11.6,11.4,11.1,11,10.8,10.7,10.6,11.4,13.3,14.9,15.9,16.5,16.899999999999999,17.100000000000001,17,16.7,16,15.1,14.2,13.4,12.9,12.5,12.1,11.7]
["11月",6.1,5.9,5.8,5.6,5.5,5.4,5.4,5.6,6.6,7.9,8.9,9.4,9.6999999999999993,9.9,9.6999999999999993,9.4,8.8000000000000007,8.1,7.5,7,6.7,6.5,6.2,6.1]
["12月",0.6,0.5,0.5,0.4,0.3,0.3,0.3,0.3,0.7,1.4,2.2000000000000002,2.7,3,3,2.9,2.7,2.2999999999999998,1.8,1.5,1.3,1.1000000000000001,0.9,0.8,0.7]
["1月",-1.6,-1.7,-1.8,-1.9,-2,-2,-2.1,-2,-1.7,-1.1000000000000001,-0.4,0.1,0.4,0.5,0.5,0.3,-0.1,-0.5,-0.8,-1,-1.2,-1.4,-1.5,-1.6]
["2月",-1.4,-1.5,-1.6,-1.7,-1.7,-1.8,-1.8,-1.8,-1.1000000000000001,-0.2,0.5,1.1000000000000001,1.4,1.5,1.5,1.3,0.9,0.4,0,-0.3,-0.6,-0.8,-1,-1.2]
["3月",1.5,1.3,1.1000000000000001,0.9,0.8,0.7,0.7,1.3,2.6,3.7,4.4000000000000004,4.9000000000000004,5.3,5.5,5.5,5.3,4.9000000000000004,4.3,3.6,3.1,2.7,2.4,2.1,1.8]

{"sheet":"盛岡","index":25,"n_rows":16,"n_cols":25,"rows_kept":16,"cut":false,"hidden":true,"merged":[]}
["気象データ"]
[{"$f":"RIGHT(CELL(\"filename\",A2),LEN(CELL(\"filename\",A2))-FIND(\"]\",CELL(\"filename\",A2)))","v":"盛岡"},{"$f":"VLOOKUP(A2,γ一覧表!$D$4:$E$50,2,FALSE)","v":1.5},"暖・冷房負荷比(γ)"]
["時刻別平均気温"]
["時刻",0,1,2,3,4,5,6,7,8,9,10,11,12,13,14,15,16,17,18,19,20,21,22,23]
["4月",6.1,5.6,5.3,4.9000000000000004,4.7,4.4000000000000004,4.7,6.1,7.6,9.1999999999999993,10.5,11.6,12.4,12.8,13,12.9,12.5,11.7,10.7,9.6999999999999993,8.8000000000000007,8,7.3,6.8]
["5月",11.8,11.4,11,10.6,10.3,10.199999999999999,11,12.3,13.7,15.1,16.3,17.5,18.3,18.8,19,18.899999999999999,18.5,17.8,16.8,15.7,14.7,13.8,13.1,12.5]
["6月",16.3,15.9,15.5,15.2,15,15,15.8,16.899999999999999,18.100000000000001,19.3,20.399999999999999,21.4,22.2,22.6,22.9,22.9,22.5,21.8,20.9,19.899999999999999,19,18.2,17.5,16.899999999999999]
["7月",20.5,20.2,19.899999999999999,19.7,19.5,19.399999999999999,19.899999999999999,20.8,21.8,22.9,23.9,24.7,25.4,25.9,26,26,25.7,25.1,24.2,23.3,22.5,21.9,21.4,20.9]
["8月",21.6,21.3,21.1,20.8,20.7,20.5,20.8,21.7,22.8,24,25.1,26,26.7,27.1,27.2,27.1,26.7,26.1,25.1,24,23.3,22.8,22.2,21.9]
["9月",17.3,17,16.8,16.600000000000001,16.3,16.2,16.2,17.100000000000001,18.399999999999999,19.8,21,22,22.7,23.1,23.2,23,22.5,21.6,20.399999999999999,19.5,18.8,18.3,17.8,17.5]
["10月",10.7,10.4,10.199999999999999,9.9,9.6999999999999993,9.5,9.3000000000000007,9.9,11.4,13,14.5,15.6,16.399999999999999,16.8,16.899999999999999,16.7,16,14.7,13.6,12.8,12.2,11.7,11.2,10.8]
["11月",4.9000000000000004,4.5999999999999996,4.4000000000000004,4.2,4,3.9,3.7,3.8,4.9000000000000004,6.3,7.6,8.6,9.4,9.6999999999999993,9.8000000000000007,9.6,8.8000000000000007,7.8,7,6.5,5.9,5.6,5.2,4.9000000000000004]
["12月",0,-0.2,-0.4,-0.5,-0.7,-0.8,-0.9,-1,-0.5,0.6,1.6,2.4,3,3.3,3.3,3.1,2.4,1.7,1.3,0.9,0.6,0.4,0.2,0]
["1月",-2.8,-3,-3.2,-3.3,-3.5,-3.6,-3.8,-3.8,-3.3,-2.1,-1,-0.1,0.5,0.8,0.9,0.7,0.2,-0.5,-1,-1.3,-1.7,-2,-2.2999999999999998,-2.6]
["2月",-2.2000000000000002,-2.4,-2.6,-2.9,-3.1,-3.3,-3.5,-3.4,-2.5,-1.1000000000000001,0,0.9,1.6,2,2,2,1.5,0.8,0.2,-0.3,-0.7,-1.1000000000000001,-1.4,-1.7]
["3月",1,0.6,0.4,0.1,-0.1,-0.3,-0.4,0.2,1.5,2.9,4.0999999999999996,5,5.7,6.1,6.3,6.1,5.7,4.9000000000000004,4.0999999999999996,3.4,2.8,2.2000000000000002,1.8,1.4]

{"sheet":"仙台","index":26,"n_rows":16,"n_cols":25,"rows_kept":16,"cut":false,"hidden":true,"merged":[]}
["気象データ"]
[{"$f":"RIGHT(CELL(\"filename\",A2),LEN(CELL(\"filename\",A2))-FIND(\"]\",CELL(\"filename\",A2)))","v":"仙台"},{"$f":"VLOOKUP(A2,γ一覧表!$D$4:$E$50,2,FALSE)","v":1},"暖・冷房負荷比(γ)"]
["時刻別平均気温"]
["時刻",0,1,2,3,4,5,6,7,8,9,10,11,12,13,14,15,16,17,18,19,20,21,22,23]
["4月",8.8000000000000007,8.5,8.3000000000000007,8,7.7,7.5,7.8,8.8000000000000007,10.3,11.6,12.7,13.4,13.7,13.9,13.8,13.5,13.1,12.4,11.5,10.9,10.5,10.1,9.6999999999999993,9.4]
["5月",13.8,13.6,13.3,13,12.8,12.7,13.3,14.3,15.7,16.899999999999999,17.8,18.3,18.5,18.600000000000001,18.5,18.2,17.8,17.2,16.399999999999999,15.7,15.2,14.8,14.5,14.2]
["6月",17.600000000000001,17.399999999999999,17.2,17,16.899999999999999,16.899999999999999,17.3,18.100000000000001,19.2,20.100000000000001,20.9,21.3,21.5,21.6,21.5,21.2,20.9,20.399999999999999,19.8,19.2,18.8,18.5,18.2,18]
["7月",21.6,21.4,21.2,21.1,20.9,20.9,21.2,21.9,22.8,23.7,24.4,24.9,25.1,25.3,25.2,24.9,24.5,24.1,23.5,23,22.6,22.3,22.1,21.9]
["8月",23.3,23.1,22.8,22.6,22.5,22.4,22.6,23.2,24.2,25.2,26,26.6,26.9,26.9,26.8,26.6,26.2,25.6,25,24.5,24.2,23.9,23.7,23.4]
["9月",20,19.8,19.5,19.3,19,18.899999999999999,18.899999999999999,19.5,20.7,21.8,22.7,23.3,23.6,23.8,23.7,23.4,23,22.3,21.7,21.4,21,20.7,20.5,20.2]
["10月",14.4,14,13.8,13.5,13.3,13.1,13,13.5,14.8,16.100000000000001,17.3,18.100000000000001,18.600000000000001,18.8,18.7,18.3,17.7,17,16.399999999999999,16,15.6,15.2,14.8,14.5]
["11月",8.6,8.3000000000000007,8.1,7.9,7.7,7.5,7.4,7.6,8.6,10,11.2,12.2,12.7,13,12.9,12.5,11.8,11,10.5,10.1,9.6999999999999993,9.3000000000000007,9,8.6]
["12月",3.4,3.3,3.1,2.9,2.8,2.7,2.5,2.6,3.2,4.4000000000000004,5.4,6.3,6.9,7.1,7.1,6.7,6.1,5.4,5,4.5999999999999996,4.3,4,3.8,3.5]
["1月",0.9,0.7,0.5,0.3,0.2,0.1,0,-0.1,0.6,1.7,2.8,3.7,4.2,4.4000000000000004,4.4000000000000004,4.2,3.6,2.9,2.4,2.1,1.8,1.5,1.3,1.1000000000000001]
["2月",1.2,1,0.8,0.6,0.4,0.3,0.2,0.3,1.2,2.5,3.6,4.5,5,5.3,5.3,5,4.5,3.8,3.2,2.8,2.4,2.1,1.9,1.6]
["3月",4.0999999999999996,3.8,3.6,3.3,3.1,2.9,2.9,3.5,4.7,6,7.2,7.9,8.4,8.6,8.6,8.4,7.9,7.2,6.4,6,5.6,5.2,4.8,4.5]

{"sheet":"秋田","index":27,"n_rows":16,"n_cols":25,"rows_kept":16,"cut":false,"hidden":true,"merged":[]}
["気象データ"]
[{"$f":"RIGHT(CELL(\"filename\",A2),LEN(CELL(\"filename\",A2))-FIND(\"]\",CELL(\"filename\",A2)))","v":"秋田"},{"$f":"VLOOKUP(A2,γ一覧表!$D$4:$E$50,2,FALSE)","v":1.5},"暖・冷房負荷比(γ)"]
["時刻別平均気温"]
["時刻",0,1,2,3,4,5,6,7,8,9,10,11,12,13,14,15,16,17,18,19,20,21,22,23]
["4月",7.8,7.5,7.2,6.9,6.7,6.5,6.7,7.6,9.1,10.5,11.5,12.1,12.4,12.6,12.5,12.3,11.9,11.4,10.7,10.1,9.6999999999999993,9.1999999999999993,8.6999999999999993,8.3000000000000007]
["5月",13.3,12.9,12.6,12.4,12.2,12.1,12.5,13.6,15,16.2,17.100000000000001,17.8,18,18.100000000000001,18,17.8,17.5,17,16.3,15.6,15.2,14.7,14.2,13.8]
["6月",17.7,17.399999999999999,17.2,16.899999999999999,16.7,16.7,17.2,18.2,19.5,20.6,21.4,22,22.3,22.4,22.4,22.2,21.9,21.4,20.8,20.100000000000001,19.5,19.100000000000001,18.600000000000001,18.2]
["7月",22,21.7,21.5,21.3,21.1,21,21.4,22.3,23.3,24.3,25.1,25.6,25.9,26,26,25.9,25.6,25.2,24.6,24,23.5,23.1,22.8,22.4]
["8月",23.5,23.2,22.9,22.7,22.5,22.3,22.5,23.4,24.7,25.9,26.8,27.4,27.8,28,28,27.8,27.4,26.9,26.2,25.6,25.1,24.6,24.1,23.7]
["9月",19.3,19,18.7,18.5,18.3,18.100000000000001,18.100000000000001,18.8,20.100000000000001,21.5,22.7,23.5,24,24.3,24.3,24,23.6,22.9,22.1,21.4,20.8,20.2,19.8,19.399999999999999]
["10月",12.9,12.7,12.4,12.2,12,11.8,11.7,12.1,13.3,14.8,16.100000000000001,17.100000000000001,17.600000000000001,17.899999999999999,17.899999999999999,17.600000000000001,17.100000000000001,16.3,15.6,14.9,14.3,13.7,13.3,13]
["11月",7.4,7.2,7.1,6.9,6.8,6.6,6.5,6.6,7.1,8.1999999999999993,9.3000000000000007,10.1,10.5,10.8,10.8,10.6,10.1,9.5,9,8.5,8.1,7.8,7.6,7.3]
["12月",2.2999999999999998,2.2000000000000002,2.1,2,2,1.9,1.8,1.8,1.9,2.5,3.1,3.6,4,4.2,4.2,4.0999999999999996,3.7,3.4,3.2,2.9,2.7,2.6,2.4,2.2999999999999998]
["1月",-0.1,-0.3,-0.3,-0.4,-0.5,-0.5,-0.6,-0.6,-0.4,0,0.5,1.1000000000000001,1.4,1.6,1.6,1.5,1.2,0.8,0.7,0.5,0.3,0.2,0,-0.1]
["2月",0.1,0,-0.1,-0.2,-0.3,-0.4,-0.5,-0.5,-0.1,0.6,1.4,2,2.4,2.5,2.6,2.5,2.2000000000000002,1.8,1.4,1.1000000000000001,0.9,0.7,0.5,0.3]
["3月",2.8,2.6,2.5,2.2999999999999998,2.1,2.1,2,2.2999999999999998,3.2,4.4000000000000004,5.3,6,6.4,6.6,6.6,6.4,6,5.5,5,4.7,4.2,3.9,3.5,3.2]

{"sheet":"山形","index":28,"n_rows":16,"n_cols":25,"rows_kept":16,"cut":false,"hidden":true,"merged":[]}
["気象データ"]
[{"$f":"RIGHT(CELL(\"filename\",A2),LEN(CELL(\"filename\",A2))-FIND(\"]\",CELL(\"filename\",A2)))","v":"山形"},{"$f":"VLOOKUP(A2,γ一覧表!$D$4:$E$50,2,FALSE)","v":1},"暖・冷房負荷比(γ)"]
["時刻別平均気温"]
["時刻",0,1,2,3,4,5,6,7,8,9,10,11,12,13,14,15,16,17,18,19,20,21,22,23]
["4月",7.6,7.2,6.8,6.4,6.1,5.8,6,7.1,8.6,10.3,11.8,13.1,14.1,14.7,15,14.8,14.3,13.5,12.3,11.2,10.4,9.6,8.9,8.3000000000000007]
["5月",13.5,13,12.6,12.2,11.8,11.7,12.3,13.4,14.8,16.399999999999999,17.899999999999999,19.3,20.3,21,21.2,21.1,20.5,19.600000000000001,18.5,17.3,16.3,15.4,14.7,14.1]
["6月",17.8,17.399999999999999,17,16.7,16.399999999999999,16.399999999999999,17,17.899999999999999,19.2,20.5,21.8,22.9,23.9,24.4,24.6,24.5,24.1,23.3,22.3,21.3,20.399999999999999,19.7,19,18.5]
["7月",21.8,21.5,21.2,21,20.8,20.7,21.1,21.9,23,24.3,25.4,26.4,27.2,27.7,27.8,27.6,27.2,26.5,25.6,24.6,23.9,23.3,22.8,22.3]
["8月",23,22.7,22.4,22.1,21.9,21.7,22,22.8,24,25.4,26.7,27.8,28.5,29,29.2,28.9,28.4,27.6,26.6,25.6,24.9,24.3,23.8,23.3]
["9月",18.7,18.399999999999999,18.2,17.899999999999999,17.600000000000001,17.399999999999999,17.5,18.2,19.3,20.7,22,23.1,23.9,24.4,24.6,24.5,23.9,23,21.9,21.1,20.5,19.899999999999999,19.399999999999999,18.899999999999999]
["10月",12.3,12,11.8,11.5,11.3,11.1,10.9,11.5,12.6,14,15.5,16.7,17.600000000000001,18.2,18.3,18.2,17.399999999999999,16.2,15.3,14.5,13.9,13.3,12.9,12.5]
["11月",6.4,6.2,6,5.8,5.6,5.4,5.3,5.4,6.3,7.5,8.8000000000000007,9.9,10.7,11.3,11.4,11.2,10.4,9.3000000000000007,8.6,8.1,7.6,7.2,6.8,6.5]
["12月",1.5,1.3,1.2,1.1000000000000001,0.9,0.8,0.7,0.7,1.2,2.1,3,3.8,4.4000000000000004,4.7,4.8,4.5999999999999996,4,3.3,2.8,2.5,2.2000000000000002,2,1.8,1.6]
["1月",-1,-1.1000000000000001,-1.3,-1.4,-1.5,-1.7,-1.7,-1.8,-1.4,-0.5,0.4,1.1000000000000001,1.6,2,2,1.8,1.4,0.8,0.3,0,-0.3,-0.5,-0.7,-0.9]
["2月",-0.7,-0.9,-1.2,-1.4,-1.5,-1.7,-1.8,-1.7,-1,0.1,1.2,2.1,2.6,3,3.1,3,2.6,1.9,1.3,0.8,0.4,0.1,-0.1,-0.4]
["3月",2.2999999999999998,2,1.7,1.4,1.2,1,0.9,1.4,2.6,3.9,5.2,6.3,7,7.6,7.8,7.7,7.3,6.5,5.5,4.7,4.0999999999999996,3.6,3.2,2.8]

{"sheet":"福島","index":29,"n_rows":16,"n_cols":25,"rows_kept":16,"cut":false,"hidden":true,"merged":[]}
["気象データ"]
[{"$f":"RIGHT(CELL(\"filename\",A2),LEN(CELL(\"filename\",A2))-FIND(\"]\",CELL(\"filename\",A2)))","v":"福島"},{"$f":"VLOOKUP(A2,γ一覧表!$D$4:$E$50,2,FALSE)","v":1},"暖・冷房負荷比(γ)"]
["時刻別平均気温"]
["時刻",0,1,2,3,4,5,6,7,8,9,10,11,12,13,14,15,16,17,18,19,20,21,22,23]
["4月",9.4,9,8.6,8.1999999999999993,7.9,7.6,7.8,8.6999999999999993,10.3,11.9,13.4,14.6,15.4,16,16.3,16.100000000000001,15.5,14.6,13.4,12.5,11.7,11.1,10.6,10.1]
["5月",14.7,14.3,13.9,13.5,13.2,13,13.5,14.6,16.100000000000001,17.600000000000001,19,20.2,21.1,21.7,21.8,21.6,21,20.2,19.100000000000001,18,17.100000000000001,16.399999999999999,15.9,15.3]
["6月",18.5,18.2,17.899999999999999,17.600000000000001,17.3,17.3,17.7,18.600000000000001,19.7,20.9,22.2,23.2,24,24.5,24.6,24.5,24,23.3,22.3,21.4,20.6,20,19.5,19]
["7月",22.4,22.1,21.9,21.7,21.5,21.4,21.7,22.5,23.5,24.6,25.7,26.6,27.4,27.8,27.9,27.7,27.3,26.6,25.7,24.9,24.1,23.6,23.2,22.8]
["8月",23.7,23.4,23.2,23,22.8,22.6,22.8,23.4,24.5,25.7,26.9,28,28.8,29.2,29.4,29.1,28.6,27.8,26.8,25.9,25.3,24.8,24.3,24]
["9月",20,19.600000000000001,19.399999999999999,19.2,19,18.8,18.7,19.3,20.399999999999999,21.6,22.8,23.8,24.5,25,25.1,24.9,24.4,23.5,22.6,21.8,21.3,20.9,20.5,20.100000000000001]
["10月",14.1,13.8,13.5,13.2,13,12.8,12.6,13,14.1,15.6,16.899999999999999,18.100000000000001,18.899999999999999,19.3,19.5,19.3,18.600000000000001,17.5,16.7,16,15.5,15,14.6,14.2]
["11月",8.1999999999999993,7.9,7.6,7.3,7.1,6.9,6.7,6.8,7.7,9,10.4,11.7,12.6,13.2,13.3,13.1,12.3,11.3,10.6,10.1,9.6,9.1,8.6999999999999993,8.4]
["12月",3.3,3.1,2.9,2.7,2.5,2.4,2.2000000000000002,2.2000000000000002,2.6,3.6,4.8,5.8,6.7,7.1,7.3,7,6.4,5.7,5.0999999999999996,4.7,4.3,4,3.7,3.4]
["1月",0.7,0.5,0.3,0.1,0,-0.1,-0.2,-0.2,0.2,1.2,2.2999999999999998,3.3,4.2,4.5,4.5999999999999996,4.3,3.7,3,2.6,2.2000000000000002,1.8,1.5,1.2,1]
["2月",1.3,1,0.7,0.5,0.4,0.2,0.1,0.1,0.8,2,3.3,4.4000000000000004,5.2,5.7,5.9,5.7,5.0999999999999996,4.3,3.6,3.1,2.7,2.2999999999999998,2,1.7]
["3月",4.2,3.8,3.5,3.2,3,2.8,2.7,3.1,4.4000000000000004,5.8,7.2,8.4,9.1999999999999993,9.8000000000000007,10,9.8000000000000007,9.1999999999999993,8.3000000000000007,7.3,6.6,6.1,5.6,5.0999999999999996,4.7]

{"sheet":"水戸","index":30,"n_rows":16,"n_cols":25,"rows_kept":16,"cut":false,"hidden":true,"merged":[]}
["気象データ"]
[{"$f":"RIGHT(CELL(\"filename\",A2),LEN(CELL(\"filename\",A2))-FIND(\"]\",CELL(\"filename\",A2)))","v":"水戸"},{"$f":"VLOOKUP(A2,γ一覧表!$D$4:$E$50,2,FALSE)","v":0.8},"暖・冷房負荷比(γ)"]
["時刻別平均気温"]
["時刻",0,1,2,3,4,5,6,7,8,9,10,11,12,13,14,15,16,17,18,19,20,21,22,23]
["4月",10,9.5,9.1,8.8000000000000007,8.4,8.1999999999999993,8.4,9.6999999999999993,11.7,13.6,14.9,15.7,16.2,16.399999999999999,16.2,15.9,15.3,14.5,13.7,13,12.5,12,11.3,10.8]
["5月",15,14.6,14.2,13.9,13.7,13.5,14,15.3,17,18.399999999999999,19.399999999999999,20.100000000000001,20.5,20.6,20.5,20.100000000000001,19.5,18.899999999999999,18.100000000000001,17.399999999999999,16.899999999999999,16.5,16.100000000000001,15.6]
["6月",18.7,18.399999999999999,18.2,17.899999999999999,17.7,17.7,18.100000000000001,19.100000000000001,20.3,21.4,22.1,22.7,23,23.1,23,22.7,22.2,21.6,21,20.3,19.899999999999999,19.600000000000001,19.399999999999999,19.100000000000001]
["7月",22.5,22.3,22.1,21.9,21.8,21.7,22.1,23,24.1,25.2,26.1,26.7,27,27.1,27.1,26.7,26.2,25.6,24.9,24.2,23.7,23.3,23.1,22.8]
["8月",24,23.7,23.5,23.3,23.1,22.9,23.2,24.2,25.5,26.7,27.7,28.3,28.7,28.9,28.7,28.3,27.8,27.1,26.2,25.6,25.2,24.9,24.6,24.2]
["9月",20.399999999999999,20.2,19.899999999999999,19.7,19.600000000000001,19.399999999999999,19.399999999999999,20.3,21.7,23.1,24.2,24.8,25.1,25.2,25.1,24.7,24.1,23.4,22.7,22.2,21.9,21.5,21.1,20.6]
["10月",14.7,14.5,14.2,14,13.8,13.6,13.5,14.1,15.6,17.399999999999999,18.8,19.7,20.100000000000001,20.3,20.2,19.8,19.100000000000001,18.2,17.600000000000001,17,16.3,15.7,15.3,14.9]
["11月",8.8000000000000007,8.4,8.1999999999999993,7.9,7.6,7.4,7.2,7.4,8.8000000000000007,11,13.1,14.5,15.2,15.6,15.5,15,14.2,13.2,12.3,11.4,10.6,9.9,9.4,8.9]
["12月",3.4,3,2.7,2.5,2.2999999999999998,2.1,1.9,1.8,2.9,4.9000000000000004,7.3,9,10.1,10.6,10.6,10.199999999999999,9.3000000000000007,8.1999999999999993,7.3,6.2,5.4,4.7,4.0999999999999996,3.6]
["1月",1.1000000000000001,0.7,0.4,0.1,-0.2,-0.4,-0.6,-0.7,0.3,2.4,4.8,6.6,7.6,8.1999999999999993,8.3000000000000007,8,7.2,6.1,5.0999999999999996,4.2,3.3,2.6,2,1.5]
["2月",1.8,1.4,1.1000000000000001,0.7,0.5,0.3,0.1,0.2,1.6,3.8,5.9,7.4,8.1999999999999993,8.6999999999999993,8.8000000000000007,8.5,7.8,6.9,6,5.0999999999999996,4.4000000000000004,3.6,3,2.4]
["3月",5.3,4.8,4.5,4.0999999999999996,3.8,3.6,3.4,4.0999999999999996,5.9,8,9.6999999999999993,10.8,11.4,11.7,11.7,11.4,10.8,10,9.1,8.4,7.8,7.2,6.5,5.9]

{"sheet":"宇都宮","index":31,"n_rows":16,"n_cols":25,"rows_kept":16,"cut":false,"hidden":true,"merged":[]}
["気象データ"]
[{"$f":"RIGHT(CELL(\"filename\",A2),LEN(CELL(\"filename\",A2))-FIND(\"]\",CELL(\"filename\",A2)))","v":"宇都宮"},{"$f":"VLOOKUP(A2,γ一覧表!$D$4:$E$50,2,FALSE)","v":1},"暖・冷房負荷比(γ)"]
["時刻別平均気温"]
["時刻",0,1,2,3,4,5,6,7,8,9,10,11,12,13,14,15,16,17,18,19,20,21,22,23]
["4月",10.3,9.9,9.4,9,8.6999999999999993,8.4,8.6,9.9,11.5,13.1,14.5,15.6,16.5,17.100000000000001,17.399999999999999,17.3,16.899999999999999,15.9,14.7,13.6,12.8,12.1,11.6,11]
["5月",15.5,15.1,14.7,14.4,14.1,13.9,14.5,15.6,17,18.3,19.399999999999999,20.5,21.2,21.8,22,22,21.5,20.7,19.600000000000001,18.5,17.7,17.100000000000001,16.5,16]
["6月",19.2,18.899999999999999,18.600000000000001,18.399999999999999,18.100000000000001,18.100000000000001,18.600000000000001,19.399999999999999,20.399999999999999,21.5,22.4,23.3,24,24.5,24.6,24.5,24.2,23.6,22.7,21.8,21,20.5,20,19.600000000000001]
["7月",22.9,22.7,22.5,22.3,22.1,22,22.3,23.1,24,25.1,26.1,26.9,27.6,28.1,28.3,28.2,27.9,27.2,26.3,25.3,24.6,24.1,23.7,23.3]
["8月",24.1,23.9,23.7,23.5,23.3,23.2,23.4,24.2,25.2,26.3,27.4,28.3,29.1,29.6,29.7,29.6,29.1,28.3,27.2,26.3,25.6,25.1,24.7,24.4]
["9月",20.7,20.399999999999999,20.2,20,19.8,19.600000000000001,19.600000000000001,20.3,21.5,22.7,23.7,24.6,25.3,25.7,25.8,25.7,25.2,24.3,23.3,22.5,22,21.6,21.2,20.9]
["10月",15,14.7,14.4,14.1,13.9,13.6,13.5,14.2,15.6,17,18.3,19.3,20,20.399999999999999,20.5,20.3,19.600000000000001,18.600000000000001,17.7,17,16.399999999999999,15.9,15.5,15.1]
["11月",8.6999999999999993,8.3000000000000007,7.9,7.6,7.3,7.1,6.8,7.2,8.9,10.9,12.4,13.7,14.6,15.1,15.2,14.9,14.1,12.8,12,11.2,10.5,9.8000000000000007,9.4,8.9]
["12月",3.1,2.7,2.4,2.1,1.8,1.5,1.3,1.3,2.6,5,6.8,8.1999999999999993,9.1999999999999993,9.8000000000000007,10,9.6999999999999993,8.9,7.6,6.7,5.8,5,4.4000000000000004,3.8,3.3]
["1月",0.7,0.3,-0.1,-0.4,-0.7,-1,-1.3,-1.4,-0.1,2.2999999999999998,4.2,5.6,6.7,7.4,7.6,7.5,6.9,5.6,4.5999999999999996,3.7,2.9,2.2000000000000002,1.6,1.1000000000000001]
["2月",1.7,1.2,0.9,0.5,0.2,-0.1,-0.3,-0.2,1.5,3.6,5.3,6.7,7.6,8.3000000000000007,8.6999999999999993,8.6999999999999993,8.1,7.1,5.9,4.9000000000000004,4.2,3.5,2.9,2.2999999999999998]
["3月",5.4,4.9000000000000004,4.5,4.0999999999999996,3.8,3.5,3.3,4.0999999999999996,5.9,7.6,9.1,10.3,11.2,11.9,12.2,12.2,11.8,10.9,9.6,8.6,7.8,7.1,6.6,6]

{"sheet":"前橋","index":32,"n_rows":16,"n_cols":25,"rows_kept":16,"cut":false,"hidden":true,"merged":[]}
["気象データ"]
[{"$f":"RIGHT(CELL(\"filename\",A2),LEN(CELL(\"filename\",A2))-FIND(\"]\",CELL(\"filename\",A2)))","v":"前橋"},{"$f":"VLOOKUP(A2,γ一覧表!$D$4:$E$50,2,FALSE)","v":0.6},"暖・冷房負荷比(γ)"]
["時刻別平均気温"]
["時刻",0,1,2,3,4,5,6,7,8,9,10,11,12,13,14,15,16,17,18,19,20,21,22,23]
["4月",11,10.5,10.1,9.8000000000000007,9.5,9.1999999999999993,9.3000000000000007,10.6,12.3,13.9,15.2,16.2,17.100000000000001,17.7,18,17.899999999999999,17.399999999999999,16.600000000000001,15.4,14.4,13.5,12.9,12.3,11.7]
["5月",16.100000000000001,15.7,15.3,14.9,14.6,14.4,14.9,16.2,17.7,19,20.3,21.3,22.2,22.7,23,22.9,22.5,21.7,20.7,19.600000000000001,18.7,18,17.3,16.8]
["6月",20,19.7,19.3,19,18.7,18.600000000000001,19,19.899999999999999,21,22.1,23.2,24.2,24.9,25.4,25.7,25.6,25.4,24.8,24,23.1,22.3,21.7,21.1,20.6]
["7月",23.8,23.5,23.2,23,22.7,22.6,22.9,23.7,24.7,25.8,26.8,27.8,28.6,29.1,29.4,29.4,29.1,28.5,27.7,26.8,25.9,25.3,24.8,24.3]
["8月",24.9,24.6,24.3,24.1,23.8,23.6,23.8,24.7,25.7,26.9,28,29,29.8,30.4,30.7,30.7,30.3,29.6,28.7,27.6,26.8,26.2,25.6,25.2]
["9月",21.2,20.9,20.6,20.399999999999999,20.2,20,20,20.7,21.8,23,24,25,25.6,26.1,26.3,26.1,25.7,25,24.1,23.4,22.7,22.2,21.8,21.4]
["10月",15.4,15.1,14.8,14.6,14.4,14.2,14,14.6,16,17.5,18.8,19.7,20.399999999999999,20.8,20.8,20.6,19.899999999999999,18.899999999999999,18.100000000000001,17.3,16.7,16.3,15.9,15.5]
["11月",9.4,9.1999999999999993,8.9,8.6999999999999993,8.5,8.1999999999999993,8,8.1999999999999993,9.8000000000000007,11.6,13.2,14.3,15.1,15.5,15.5,15.1,14.2,13,12.1,11.4,10.8,10.4,10,9.6]
["12月",4.4000000000000004,4.0999999999999996,3.9,3.7,3.5,3.3,3.1,3,4.2,6.2,7.9,9.1999999999999993,10,10.5,10.5,10,9,7.8,6.9,6.2,5.6,5.2,4.8,4.5]
["1月",1.9,1.6,1.4,1.1000000000000001,1,0.8,0.6,0.5,1.5,3.5,5.3,6.6,7.5,7.9,8,7.6,6.8,5.6,4.7,4,3.4,2.9,2.5,2.2000000000000002]
["2月",2.6,2.2999999999999998,2,1.7,1.5,1.3,1,1.1000000000000001,2.6,4.5,6.2,7.4,8.1999999999999993,8.6999999999999993,8.9,8.6999999999999993,8,6.9,5.8,5,4.4000000000000004,3.9,3.5,3.1]
["3月",5.9,5.5,5.2,4.9000000000000004,4.7,4.4000000000000004,4.2,4.9000000000000004,6.6,8.3000000000000007,9.6999999999999993,10.8,11.6,12.1,12.3,12.2,11.7,10.7,9.6,8.6999999999999993,8,7.5,6.9,6.4]

{"sheet":"さいたま","index":33,"n_rows":16,"n_cols":25,"rows_kept":16,"cut":false,"hidden":true,"merged":[]}
["気象データ"]
[{"$f":"RIGHT(CELL(\"filename\",A2),LEN(CELL(\"filename\",A2))-FIND(\"]\",CELL(\"filename\",A2)))","v":"さいたま"},{"$f":"VLOOKUP(A2,γ一覧表!$D$4:$E$50,2,FALSE)","v":0.6},"暖・冷房負荷比(γ)"]
["時刻別平均気温"]
["時刻",0,1,2,3,4,5,6,7,8,9,10,11,12,13,14,15,16,17,18,19,20,21,22,23]
["4月",11.5,11,10.6,10.199999999999999,9.9,9.6,9.6999999999999993,10.9,12.3,13.7,15,16.100000000000001,17.100000000000001,17.7,18.100000000000001,18,17.600000000000001,16.899999999999999,15.7,14.8,14.1,13.4,12.8,12.3]
["5月",16.5,16.100000000000001,15.7,15.3,15,14.8,15.3,16.3,17.5,18.8,20,21,21.8,22.4,22.7,22.6,22.2,21.4,20.399999999999999,19.5,18.7,18.2,17.600000000000001,17.100000000000001]
["6月",20.3,19.899999999999999,19.600000000000001,19.3,19.100000000000001,19,19.399999999999999,20.2,21,22,22.9,23.8,24.5,25,25.3,25.3,25,24.4,23.6,22.8,22.1,21.6,21.2,20.8]
["7月",24,23.7,23.4,23.2,22.9,22.8,23.3,24,24.9,25.9,26.9,27.8,28.6,29.1,29.5,29.3,28.9,28.3,27.4,26.5,25.8,25.3,24.8,24.5]
["8月",25.2,24.9,24.6,24.4,24.2,24,24.3,25.1,26.1,27.1,28.2,29.1,30,30.6,30.9,30.7,30.2,29.4,28.4,27.5,26.9,26.4,26,25.6]
["9月",21.7,21.4,21.1,20.8,20.6,20.399999999999999,20.399999999999999,21.2,22.2,23.3,24.3,25.1,25.8,26.3,26.5,26.5,26.1,25.3,24.3,23.6,23.1,22.7,22.3,21.9]
["10月",16,15.6,15.3,15.1,14.9,14.6,14.4,15,16.2,17.5,18.7,19.600000000000001,20.3,20.8,21.1,21,20.5,19.5,18.7,18.100000000000001,17.600000000000001,17,16.600000000000001,16.100000000000001]
["11月",9.6999999999999993,9.4,9.1,8.8000000000000007,8.5,8.1999999999999993,8,8.1,9.6,11.2,12.7,14,14.9,15.5,15.9,15.8,15,13.7,12.8,12.1,11.5,10.9,10.4,10]
["12月",4.3,4,3.7,3.4,3.1,2.9,2.7,2.6,3.7,5.6,7.4,8.8000000000000007,9.9,10.6,10.9,10.8,10,8.6,7.6,6.8,6.2,5.5,5,4.5999999999999996]
["1月",2,1.7,1.4,1,0.7,0.4,0.2,0.1,1.2,3.1,5,6.5,7.5,8.1999999999999993,8.6,8.6,8,6.7,5.6,4.5999999999999996,4,3.4,2.8,2.4]
["2月",3.1,2.6,2.2999999999999998,2,1.7,1.4,1.2,1.1000000000000001,2.6,4.4000000000000004,6,7.2,8.1999999999999993,8.9,9.4,9.4,9.1,8.1999999999999993,7,6.1,5.4,4.7,4.2,3.6]
["3月",6.7,6.3,5.9,5.5,5.2,4.9000000000000004,4.5999999999999996,5.2,6.7,8.1,9.5,10.7,11.6,12.3,12.8,12.9,12.6,11.9,10.8,9.8000000000000007,9.1999999999999993,8.5,7.9,7.4]

{"sheet":"千葉","index":34,"n_rows":16,"n_cols":25,"rows_kept":16,"cut":false,"hidden":true,"merged":[]}
["気象データ"]
[{"$f":"RIGHT(CELL(\"filename\",A2),LEN(CELL(\"filename\",A2))-FIND(\"]\",CELL(\"filename\",A2)))","v":"千葉"},{"$f":"VLOOKUP(A2,γ一覧表!$D$4:$E$50,2,FALSE)","v":0.6},"暖・冷房負荷比(γ)"]
["時刻別平均気温"]
["時刻",0,1,2,3,4,5,6,7,8,9,10,11,12,13,14,15,16,17,18,19,20,21,22,23]
["4月",13,12.8,12.5,12.2,12,11.8,11.8,12.6,13.8,14.8,15.7,16.399999999999999,16.899999999999999,17.3,17.3,17.2,16.8,16.2,15.5,14.9,14.5,14.1,13.8,13.5]
["5月",17.399999999999999,17.100000000000001,16.899999999999999,16.7,16.5,16.399999999999999,16.8,17.600000000000001,18.600000000000001,19.5,20.2,20.9,21.4,21.6,21.7,21.5,21.1,20.5,19.8,19.2,18.7,18.3,18,17.7]
["6月",20.5,20.3,20.100000000000001,20,19.8,19.8,20.100000000000001,20.8,21.6,22.4,23,23.6,24,24.3,24.3,24.2,23.9,23.3,22.8,22.2,21.7,21.3,21.1,20.8]
["7月",24.3,24.1,24,23.8,23.7,23.7,23.9,24.6,25.3,26.1,26.8,27.5,27.9,28.1,28.2,28.1,27.7,27.2,26.6,26,25.5,25.1,24.8,24.6]
["8月",25.8,25.6,25.4,25.3,25.2,25,25.2,26,26.9,27.7,28.4,29.1,29.5,29.8,29.9,29.7,29.3,28.7,27.9,27.2,26.7,26.4,26.1,25.9]
["9月",22.6,22.4,22.2,22.1,21.9,21.7,21.7,22.4,23.4,24.3,25,25.6,26,26.3,26.3,26.1,25.7,25,24.3,23.8,23.4,23.1,22.9,22.7]
["10月",17.600000000000001,17.399999999999999,17.100000000000001,16.899999999999999,16.7,16.5,16.3,16.7,17.7,18.8,19.8,20.399999999999999,20.9,21.2,21.3,21.1,20.6,19.899999999999999,19.3,18.899999999999999,18.5,18.2,18,17.7]
["11月",12.5,12.2,11.9,11.5,11.2,11,10.8,10.9,11.8,13.1,14.3,15.2,15.8,16.3,16.5,16.3,15.8,15.2,14.7,14.2,13.8,13.4,13.1,12.7]
["12月",7.5,7.2,6.9,6.6,6.3,6.1,5.9,5.8,6.7,8,9.3000000000000007,10.3,11,11.4,11.6,11.5,11,10.4,9.9,9.4,8.9,8.5,8.1,7.7]
["1月",4.9000000000000004,4.5,4.3,4,3.7,3.5,3.3,3.2,4,5.3,6.6,7.6,8.3000000000000007,8.8000000000000007,9.1,9.1,8.6999999999999993,8.1,7.5,6.9,6.4,6,5.6,5.2]
["2月",5.5,5.2,4.9000000000000004,4.5999999999999996,4.3,4,3.9,3.9,4.8,6.1,7.3,8.1999999999999993,8.9,9.4,9.6999999999999993,9.6,9.3000000000000007,8.6999999999999993,8.1,7.6,7.1,6.7,6.3,6]
["3月",8.6999999999999993,8.3000000000000007,8,7.7,7.4,7.2,7,7.3,8.5,9.6,10.6,11.4,12,12.4,12.6,12.6,12.3,11.7,11,10.5,10.1,9.6999999999999993,9.4,9.1]

{"sheet":"東京","index":35,"n_rows":16,"n_cols":25,"rows_kept":16,"cut":false,"hidden":true,"merged":[]}
["気象データ"]
[{"$f":"RIGHT(CELL(\"filename\",A2),LEN(CELL(\"filename\",A2))-FIND(\"]\",CELL(\"filename\",A2)))","v":"東京"},{"$f":"VLOOKUP(A2,γ一覧表!$D$4:$E$50,2,FALSE)","v":0.6},"暖・冷房負荷比(γ)"]
["時刻別平均気温"]
["時刻",0,1,2,3,4,5,6,7,8,9,10,11,12,13,14,15,16,17,18,19,20,21,22,23]
["4月",13.3,13,12.7,12.4,12.1,11.9,12,12.8,13.7,14.9,15.9,16.7,17.399999999999999,17.8,17.8,17.600000000000001,17.3,16.8,16,15.4,14.9,14.5,14.1,13.8]
["5月",17.8,17.5,17.3,17,16.8,16.7,17,17.8,18.8,19.7,20.6,21.4,21.9,22.2,22.2,22,21.6,21.1,20.399999999999999,19.7,19.2,18.8,18.5,18.2]
["6月",21,20.8,20.6,20.399999999999999,20.2,20.2,20.5,21.1,21.8,22.6,23.3,24,24.4,24.8,24.9,24.7,24.4,24,23.5,22.8,22.3,22,21.7,21.4]
["7月",24.8,24.6,24.4,24.3,24.1,24,24.3,25,25.7,26.6,27.4,28,28.5,28.8,28.9,28.7,28.3,27.9,27.3,26.6,26.1,25.7,25.4,25.2]
["8月",26.3,26.1,25.9,25.7,25.5,25.4,25.6,26.2,27,27.9,28.8,29.5,30,30.4,30.4,30.1,29.7,29.2,28.5,27.8,27.3,27,26.7,26.5]
["9月",23,22.8,22.6,22.4,22.2,22,22,22.5,23.3,24.2,25,25.6,26.1,26.5,26.4,26.3,26,25.4,24.8,24.3,23.9,23.6,23.4,23.1]
["10月",17.899999999999999,17.600000000000001,17.399999999999999,17.100000000000001,16.899999999999999,16.7,16.5,16.899999999999999,17.600000000000001,18.600000000000001,19.5,20.3,20.9,21.2,21.2,21.1,20.8,20.2,19.7,19.3,18.899999999999999,18.600000000000001,18.3,18]
["11月",12.6,12.3,11.9,11.6,11.4,11.1,11,11.1,11.8,12.9,14,15,15.7,16.2,16.3,16.100000000000001,15.7,15.1,14.7,14.3,13.9,13.5,13.1,12.8]
["12月",7.5,7.2,6.9,6.6,6.3,6.2,6.1,6,6.6,7.8,9,9.9,10.8,11.3,11.5,11.2,10.8,10.1,9.6999999999999993,9.3000000000000007,8.9,8.5,8.1999999999999993,7.8]
["1月",4.9000000000000004,4.5999999999999996,4.3,4,3.8,3.6,3.4,3.4,4,5.2,6.4,7.5,8.3000000000000007,8.9,9.1,8.9,8.5,7.9,7.3,6.9,6.5,6,5.7,5.3]
["2月",5.6,5.3,5,4.5999999999999996,4.4000000000000004,4.2,4,4.0999999999999996,4.9000000000000004,6,7.1,8.1999999999999993,8.9,9.5,9.8000000000000007,9.6999999999999993,9.4,8.9,8.1999999999999993,7.7,7.2,6.8,6.5,6.1]
["3月",8.9,8.5,8.1,7.7,7.5,7.3,7.1,7.6,8.4,9.5,10.5,11.5,12.2,12.7,12.9,12.8,12.6,12.1,11.4,10.9,10.4,10,9.6999999999999993,9.3000000000000007]

{"sheet":"横浜","index":36,"n_rows":16,"n_cols":25,"rows_kept":16,"cut":false,"hidden":true,"merged":[]}
["気象データ"]
[{"$f":"RIGHT(CELL(\"filename\",A2),LEN(CELL(\"filename\",A2))-FIND(\"]\",CELL(\"filename\",A2)))","v":"横浜"},{"$f":"VLOOKUP(A2,γ一覧表!$D$4:$E$50,2,FALSE)","v":0.6},"暖・冷房負荷比(γ)"]
["時刻別平均気温"]
["時刻",0,1,2,3,4,5,6,7,8,9,10,11,12,13,14,15,16,17,18,19,20,21,22,23]
["4月",13.1,12.8,12.6,12.3,12.1,11.8,11.9,12.5,13.6,14.7,15.7,16.399999999999999,17,17.399999999999999,17.600000000000001,17.399999999999999,17,16.2,15.4,14.9,14.5,14.1,13.8,13.6]
["5月",17.399999999999999,17.100000000000001,16.899999999999999,16.7,16.5,16.399999999999999,16.7,17.399999999999999,18.5,19.399999999999999,20.2,20.8,21.4,21.7,21.8,21.6,21.1,20.399999999999999,19.600000000000001,18.899999999999999,18.5,18.2,18,17.7]
["6月",20.5,20.3,20.100000000000001,20,19.8,19.8,20.100000000000001,20.7,21.4,22.2,22.9,23.4,23.9,24.2,24.3,24.1,23.8,23.2,22.6,22,21.6,21.3,21,20.8]
["7月",24.2,24,23.9,23.8,23.6,23.6,23.8,24.4,25.3,26.1,26.8,27.4,27.9,28.2,28.2,28.1,27.6,27,26.3,25.6,25.2,24.9,24.7,24.5]
["8月",25.7,25.5,25.4,25.3,25.1,25,25.2,25.8,26.7,27.5,28.4,29,29.6,29.9,30,29.7,29.2,28.4,27.6,26.9,26.6,26.3,26.1,25.9]
["9月",22.7,22.5,22.3,22.1,22,21.8,21.8,22.3,23,23.9,24.7,25.3,25.8,26.1,26.1,25.9,25.5,24.8,24.1,23.7,23.4,23.2,22.9,22.7]
["10月",17.7,17.5,17.2,17,16.8,16.600000000000001,16.399999999999999,16.600000000000001,17.399999999999999,18.5,19.399999999999999,20.100000000000001,20.6,20.9,21,20.8,20.399999999999999,19.7,19.2,18.899999999999999,18.600000000000001,18.3,18.100000000000001,17.8]
["11月",12.6,12.3,12,11.7,11.5,11.2,11,11.1,11.8,13,14.1,15,15.7,16.100000000000001,16.2,16,15.4,14.8,14.5,14.1,13.8,13.5,13.2,12.8]
["12月",7.7,7.3,7,6.8,6.6,6.4,6.3,6.2,6.7,7.9,9.1999999999999993,10.199999999999999,11,11.4,11.6,11.4,10.8,10.1,9.6999999999999993,9.4,9,8.6,8.1999999999999993,7.9]
["1月",5.0999999999999996,4.8,4.5,4.2,3.9,3.7,3.6,3.5,4.0999999999999996,5.3,6.6,7.7,8.4,8.9,9.1,9,8.6,7.8,7.3,6.9,6.6,6.1,5.7,5.4]
["2月",5.7,5.4,5.0999999999999996,4.8,4.5,4.3,4.0999999999999996,4.0999999999999996,4.8,6,7.2,8.1999999999999993,8.9,9.3000000000000007,9.6,9.6,9.3000000000000007,8.6999999999999993,8,7.6,7.2,6.9,6.5,6.2]
["3月",8.9,8.5,8.1999999999999993,7.9,7.6,7.4,7.2,7.4,8.3000000000000007,9.5,10.5,11.3,12,12.4,12.7,12.7,12.4,11.8,11.1,10.6,10.199999999999999,9.9,9.6,9.3000000000000007]

{"sheet":"新潟","index":37,"n_rows":16,"n_cols":25,"rows_kept":16,"cut":false,"hidden":true,"merged":[]}
["気象データ"]
[{"$f":"RIGHT(CELL(\"filename\",A2),LEN(CELL(\"filename\",A2))-FIND(\"]\",CELL(\"filename\",A2)))","v":"新潟"},{"$f":"VLOOKUP(A2,γ一覧表!$D$4:$E$50,2,FALSE)","v":1},"暖・冷房負荷比(γ)"]
["時刻別平均気温"]
["時刻",0,1,2,3,4,5,6,7,8,9,10,11,12,13,14,15,16,17,18,19,20,21,22,23]
["4月",9.8000000000000007,9.4,9.1999999999999993,8.9,8.6999999999999993,8.5,8.6999999999999993,9.6,11,12.4,13.4,14.1,14.4,14.4,14.3,14,13.6,12.9,12.2,11.7,11.4,11.1,10.7,10.4]
["5月",15.2,14.9,14.7,14.4,14.2,14.1,14.6,15.6,16.8,18,18.899999999999999,19.5,19.8,19.8,19.7,19.3,18.8,18.3,17.5,16.899999999999999,16.5,16.2,15.9,15.6]
["6月",19.399999999999999,19.2,19,18.8,18.600000000000001,18.600000000000001,19.100000000000001,20,21,21.9,22.6,23.1,23.3,23.4,23.3,23,22.6,22.1,21.5,20.8,20.5,20.3,20,19.8]
["7月",23.6,23.4,23.2,23,22.9,22.8,23.1,23.9,24.8,25.7,26.4,26.9,27.2,27.3,27.3,27.1,26.7,26.2,25.7,25.1,24.7,24.5,24.2,24]
["8月",25.3,25,24.8,24.5,24.3,24.2,24.3,25.2,26.3,27.5,28.3,28.8,29.2,29.3,29.2,28.9,28.5,28,27.3,26.8,26.5,26.2,25.9,25.6]
["9月",21.5,21.2,20.9,20.7,20.5,20.399999999999999,20.3,21,22.2,23.4,24.3,24.9,25.3,25.3,25.3,25,24.6,24,23.4,23.1,22.8,22.4,22,21.6]
["10月",15.5,15.2,15,14.8,14.7,14.5,14.4,14.8,15.9,17.3,18.3,19,19.399999999999999,19.600000000000001,19.5,19.2,18.7,18,17.600000000000001,17.3,16.8,16.399999999999999,16,15.6]
["11月",9.8000000000000007,9.6,9.5,9.3000000000000007,9.1999999999999993,9.1,8.9,9,9.6999999999999993,10.7,11.7,12.5,12.9,13.1,13.2,12.9,12.5,11.9,11.5,11.2,10.8,10.4,10.1,9.9]
["12月",5,4.8,4.7,4.5999999999999996,4.5,4.5,4.4000000000000004,4.3,4.5999999999999996,5.2,5.9,6.4,6.8,7,7,6.8,6.5,6.2,6,5.7,5.6,5.4,5.0999999999999996,5]
["1月",2.2999999999999998,2.2000000000000002,2.2000000000000002,2.1,2,2,2,1.9,2.1,2.6,3.2,3.7,4,4.2,4.2,4,3.8,3.5,3.3,3.1,2.9,2.7,2.6,2.4]
["2月",2.2999999999999998,2.1,2,2,1.9,1.8,1.7,1.7,2.2000000000000002,2.9,3.6,4.2,4.7,5,5,4.9000000000000004,4.5999999999999996,4.2,3.9,3.6,3.4,3.1,2.8,2.6]
["3月",5,4.7,4.5,4.3,4.2,4,3.9,4.3,5.3,6.4,7.4,8.1999999999999993,8.6,8.9,8.8000000000000007,8.6,8.1999999999999993,7.6,7.1,6.8,6.5,6.1,5.8,5.4]

{"sheet":"富山","index":38,"n_rows":16,"n_cols":25,"rows_kept":16,"cut":false,"hidden":true,"merged":[]}
["気象データ"]
[{"$f":"RIGHT(CELL(\"filename\",A2),LEN(CELL(\"filename\",A2))-FIND(\"]\",CELL(\"filename\",A2)))","v":"富山"},{"$f":"VLOOKUP(A2,γ一覧表!$D$4:$E$50,2,FALSE)","v":0.8},"暖・冷房負荷比(γ)"]
["時刻別平均気温"]
["時刻",0,1,2,3,4,5,6,7,8,9,10,11,12,13,14,15,16,17,18,19,20,21,22,23]
["4月",10,9.8000000000000007,9.6,9.4,9.3000000000000007,9.1,9.3000000000000007,10.4,12,13.5,14.5,15.2,15.6,15.8,15.8,15.4,14.9,14.1,13.2,12.4,11.9,11.4,10.9,10.5]
["5月",15.4,15.2,14.9,14.7,14.6,14.5,15.1,16.399999999999999,17.8,19,19.899999999999999,20.5,20.9,21,21,20.7,20.100000000000001,19.399999999999999,18.399999999999999,17.5,16.899999999999999,16.5,16.100000000000001,15.7]
["6月",19.5,19.3,19.100000000000001,18.899999999999999,18.7,18.7,19.3,20.3,21.5,22.4,23.2,23.7,24,24.2,24.2,23.9,23.5,22.9,22.2,21.4,20.9,20.5,20.3,20]
["7月",23.9,23.7,23.5,23.3,23.2,23.1,23.5,24.4,25.6,26.5,27.3,27.9,28.3,28.4,28.3,28.1,27.6,27.1,26.3,25.6,25.1,24.8,24.5,24.3]
["8月",25.3,25,24.8,24.6,24.4,24.2,24.5,25.7,27.1,28.3,29.1,29.7,30,30.1,30,29.6,29.1,28.4,27.6,26.9,26.5,26.2,25.8,25.5]
["9月",21.2,21,20.7,20.6,20.399999999999999,20.3,20.3,21.2,22.5,23.8,24.7,25.3,25.6,25.7,25.6,25.3,24.8,24.1,23.3,22.9,22.5,22,21.6,21.3]
["10月",15.3,15.1,15,14.8,14.6,14.4,14.3,14.9,16.399999999999999,18,19.100000000000001,19.899999999999999,20.3,20.399999999999999,20.2,19.899999999999999,19.2,18.399999999999999,17.7,17.2,16.600000000000001,16.100000000000001,15.7,15.4]
["11月",9.8000000000000007,9.6,9.5,9.3000000000000007,9.1999999999999993,9.1,9,9.1999999999999993,10.199999999999999,11.5,12.8,13.8,14.2,14.4,14.3,13.9,13.2,12.4,11.8,11.2,10.7,10.4,10.1,9.9]
["12月",4.8,4.7,4.5999999999999996,4.5,4.4000000000000004,4.3,4.3,4.3,4.7,5.6,6.6,7.4,7.8,8,8,7.7,7.2,6.5,6.1,5.7,5.3,5.0999999999999996,4.9000000000000004,4.7]
["1月",2.1,1.9,1.8,1.7,1.7,1.6,1.6,1.5,1.8,2.6,3.5,4.3,4.7,5,5,4.8,4.4000000000000004,3.8,3.4,3,2.7,2.5,2.2999999999999998,2.1]
["2月",2.1,2,1.9,1.8,1.7,1.6,1.5,1.5,2.2000000000000002,3.3,4.3,5.0999999999999996,5.7,6,6,5.9,5.5,4.9000000000000004,4.3,3.8,3.3,2.9,2.7,2.4]
["3月",5.3,5.0999999999999996,4.9000000000000004,4.7,4.5999999999999996,4.4000000000000004,4.3,4.8,6.1,7.5,8.6999999999999993,9.5,10,10.3,10.3,10,9.5,8.8000000000000007,8,7.4,6.8,6.3,5.9,5.6]

{"sheet":"金沢","index":39,"n_rows":16,"n_cols":25,"rows_kept":16,"cut":false,"hidden":true,"merged":[]}
["気象データ"]
[{"$f":"RIGHT(CELL(\"filename\",A2),LEN(CELL(\"filename\",A2))-FIND(\"]\",CELL(\"filename\",A2)))","v":"金沢"},{"$f":"VLOOKUP(A2,γ一覧表!$D$4:$E$50,2,FALSE)","v":0.6},"暖・冷房負荷比(γ)"]
["時刻別平均気温"]
["時刻",0,1,2,3,4,5,6,7,8,9,10,11,12,13,14,15,16,17,18,19,20,21,22,23]
["4月",10.8,10.5,10.3,10,9.9,9.6999999999999993,9.6999999999999993,10.6,12.3,13.6,14.6,15.2,15.5,15.5,15.4,15.2,14.9,14.3,13.7,13.1,12.6,12.1,11.7,11.3]
["5月",16,15.7,15.3,15.1,14.9,14.7,15,16.2,17.8,19,19.8,20.3,20.5,20.5,20.5,20.3,20,19.5,18.899999999999999,18.2,17.7,17.2,16.8,16.399999999999999]
["6月",20,19.8,19.5,19.399999999999999,19.2,19.100000000000001,19.5,20.3,21.6,22.6,23.3,23.7,24,24.1,24,23.8,23.5,23.1,22.6,22,21.5,21.1,20.8,20.5]
["7月",24.5,24.3,24.1,23.9,23.8,23.7,23.9,24.6,25.8,26.7,27.3,27.9,28.1,28.1,28.1,27.9,27.6,27.2,26.7,26.1,25.7,25.4,25.1,24.8]
["8月",25.9,25.7,25.5,25.3,25,24.9,24.9,25.7,27.2,28.4,29.2,29.7,30,30,29.9,29.7,29.4,28.9,28.2,27.6,27.2,26.7,26.4,26.1]
["9月",21.8,21.6,21.4,21.2,21,20.8,20.7,21.3,22.7,24,24.8,25.5,25.8,25.9,25.8,25.6,25.2,24.6,23.9,23.4,22.9,22.6,22.2,21.9]
["10月",16.100000000000001,15.8,15.7,15.5,15.3,15.1,15,15.4,16.8,18.3,19.5,20.2,20.5,20.6,20.5,20.2,19.8,19.100000000000001,18.399999999999999,17.8,17.3,16.899999999999999,16.5,16.2]
["11月",10.7,10.5,10.3,10.199999999999999,10.1,10,9.9,10,10.9,12.1,13.3,14.1,14.5,14.6,14.5,14.2,13.8,13.2,12.6,12.1,11.6,11.3,11,10.8]
["12月",5.9,5.8,5.7,5.6,5.6,5.6,5.5,5.5,5.8,6.5,7.5,8.1,8.4,8.5,8.5,8.3000000000000007,8,7.6,7.1,6.8,6.5,6.3,6.1,6]
["1月",3.3,3.2,3.1,3,2.9,2.8,2.8,2.7,3,3.6,4.4000000000000004,5,5.3,5.5,5.5,5.4,5.0999999999999996,4.7,4.4000000000000004,4.0999999999999996,3.9,3.6,3.5,3.4]
["2月",3.3,3.1,3,2.9,2.8,2.7,2.6,2.6,3.2,4.0999999999999996,5,5.8,6.2,6.4,6.4,6.2,6,5.5,5.0999999999999996,4.7,4.3,4,3.8,3.6]
["3月",6,5.8,5.6,5.4,5.2,5.0999999999999996,5,5.3,6.5,7.9,8.9,9.6,10,10.199999999999999,10.199999999999999,9.9,9.6,9.1,8.5,8,7.5,7,6.7,6.4]

{"sheet":"福井","index":40,"n_rows":16,"n_cols":25,"rows_kept":16,"cut":false,"hidden":true,"merged":[]}
["気象データ"]
[{"$f":"RIGHT(CELL(\"filename\",A2),LEN(CELL(\"filename\",A2))-FIND(\"]\",CELL(\"filename\",A2)))","v":"福井"},{"$f":"VLOOKUP(A2,γ一覧表!$D$4:$E$50,2,FALSE)","v":0.6},"暖・冷房負荷比(γ)"]
["時刻別平均気温"]
["時刻",0,1,2,3,4,5,6,7,8,9,10,11,12,13,14,15,16,17,18,19,20,21,22,23]
["4月",10.6,10.3,10,9.6,9.4,9.1,9.1,9.9,11.4,13.2,14.7,15.8,16.399999999999999,16.7,16.7,16.399999999999999,16,15.4,14.5,13.6,12.9,12.3,11.7,11.3]
["5月",16,15.6,15.2,14.9,14.7,14.5,14.7,15.7,17.2,18.7,20.100000000000001,21.1,21.7,21.9,21.8,21.5,21.2,20.5,19.7,18.8,18.100000000000001,17.5,16.899999999999999,16.5]
["6月",20.100000000000001,19.8,19.5,19.3,19.100000000000001,18.899999999999999,19.2,20.100000000000001,21.3,22.5,23.7,24.5,25,25.2,25.1,24.9,24.5,24,23.3,22.5,21.9,21.4,21,20.6]
["7月",24.4,24.1,23.9,23.7,23.5,23.3,23.5,24.3,25.4,26.6,27.6,28.4,28.9,29.2,29.2,29.1,28.7,28.1,27.4,26.6,26,25.5,25.1,24.8]
["8月",25.6,25.2,25,24.7,24.5,24.3,24.4,25.2,26.6,28.1,29.3,30.2,30.8,31,31,30.7,30.3,29.7,28.7,27.9,27.2,26.7,26.2,25.8]
["9月",21.4,21.1,20.9,20.7,20.5,20.3,20.2,20.7,21.9,23.4,24.8,25.7,26.3,26.6,26.5,26.2,25.8,25.1,24.3,23.5,22.9,22.3,21.9,21.5]
["10月",15.4,15.1,14.9,14.6,14.4,14.3,14.1,14.3,15.5,17.100000000000001,18.8,20.100000000000001,20.8,21.1,21.1,20.8,20.2,19.399999999999999,18.399999999999999,17.600000000000001,16.899999999999999,16.399999999999999,15.9,15.5]
["11月",9.9,9.6,9.4,9.1999999999999993,9,8.9,8.6999999999999993,8.6999999999999993,9.5,10.8,12.2,13.6,14.5,14.9,15,14.7,14.1,13.2,12.3,11.6,11.1,10.7,10.3,10]
["12月",5,4.8,4.5999999999999996,4.5,4.4000000000000004,4.3,4.2,4.2,4.5,5.2,6.2,7.2,7.9,8.4,8.5,8.3000000000000007,7.9,7.2,6.6,6.1,5.8,5.5,5.2,5]
["1月",2.2999999999999998,2.2000000000000002,2.1,1.9,1.8,1.7,1.6,1.6,1.8,2.4,3.3,4.2,4.9000000000000004,5.3,5.4,5.4,5,4.5,3.9,3.5,3.2,2.9,2.6,2.5]
["2月",2.5,2.2999999999999998,2.1,1.9,1.8,1.7,1.6,1.5,2,2.9,4.0999999999999996,5.2,5.9,6.4,6.6,6.5,6.3,5.7,5,4.4000000000000004,3.8,3.4,3.1,2.8]
["3月",5.6,5.3,5,4.8,4.5,4.3,4.2,4.4000000000000004,5.4,7,8.5,9.8000000000000007,10.5,10.8,10.9,10.8,10.4,9.6999999999999993,8.9,8.1999999999999993,7.5,6.9,6.4,6]

{"sheet":"甲府","index":41,"n_rows":16,"n_cols":25,"rows_kept":16,"cut":false,"hidden":true,"merged":[]}
["気象データ"]
[{"$f":"RIGHT(CELL(\"filename\",A2),LEN(CELL(\"filename\",A2))-FIND(\"]\",CELL(\"filename\",A2)))","v":"甲府"},{"$f":"VLOOKUP(A2,γ一覧表!$D$4:$E$50,2,FALSE)","v":0.6},"暖・冷房負荷比(γ)"]
["時刻別平均気温"]
["時刻",0,1,2,3,4,5,6,7,8,9,10,11,12,13,14,15,16,17,18,19,20,21,22,23]
["4月",11.6,11.1,10.6,10.1,9.6,9.1999999999999993,9.4,10.5,11.8,13.5,15.1,16.7,18,19,19.5,19.399999999999999,18.600000000000001,17.5,16.2,15.1,14.4,13.7,13.1,12.4]
["5月",16.399999999999999,15.9,15.4,15,14.6,14.4,14.9,15.9,17.100000000000001,18.600000000000001,20.2,21.6,22.9,23.8,24.1,23.8,23.1,22.1,20.8,19.7,18.899999999999999,18.2,17.600000000000001,17]
["6月",20.2,19.8,19.5,19.2,18.899999999999999,18.8,19.2,19.899999999999999,20.9,22.1,23.4,24.6,25.6,26.4,26.6,26.3,25.7,24.9,23.9,22.9,22.2,21.6,21.2,20.7]
["7月",24,23.7,23.4,23.2,22.9,22.8,23,23.7,24.7,25.9,27.2,28.4,29.4,30.1,30.4,30.1,29.4,28.5,27.5,26.5,25.8,25.3,24.8,24.4]
["8月",25.1,24.8,24.5,24.2,24,23.8,23.9,24.5,25.6,26.9,28.3,29.7,30.8,31.6,31.9,31.5,30.5,29.4,28.2,27.4,26.8,26.2,25.8,25.4]
["9月",21.6,21.2,20.9,20.6,20.399999999999999,20.100000000000001,20.100000000000001,20.6,21.6,22.8,24.1,25.4,26.4,27.1,27.5,27.3,26.6,25.5,24.4,23.7,23.2,22.7,22.2,21.8]
["10月",15.5,15.2,14.8,14.5,14.2,13.9,13.7,14.2,15.2,16.5,17.899999999999999,19.2,20.3,21.1,21.6,21.6,20.9,19.600000000000001,18.7,18,17.3,16.7,16.2,15.7]
["11月",9.1,8.6,8.1999999999999993,7.8,7.4,7.1,6.8,7,8.1999999999999993,9.8000000000000007,11.4,13,14.3,15.4,16,15.9,15.2,13.8,12.8,11.9,11.1,10.5,9.9,9.4]
["12月",3.6,3.2,2.7,2.2999999999999998,2,1.7,1.4,1.3,2.2999999999999998,4,5.8,7.4,8.9,9.9,10.5,10.5,9.8000000000000007,8.5,7.5,6.6,5.8,5.0999999999999996,4.5,3.9]
["1月",1.3,0.9,0.4,0,-0.4,-0.8,-1.1000000000000001,-1.3,-0.3,1.4,3.2,4.8,6.2,7.3,8,8.1999999999999993,7.7,6.4,5.4,4.5,3.8,3.1,2.4,1.8]
["2月",2.8,2.2999999999999998,1.8,1.4,1.1000000000000001,0.7,0.4,0.3,1.7,3.2,4.9000000000000004,6.5,7.9,9,9.8000000000000007,10,9.6,8.5,7.3,6.4,5.6,4.9000000000000004,4.2,3.5]
["3月",6.7,6.2,5.7,5.2,4.8,4.4000000000000004,4.0999999999999996,4.8,6.1,7.7,9.3000000000000007,10.9,12.3,13.3,13.9,14,13.4,12.3,11,10.1,9.4,8.6999999999999993,8.1,7.4]

{"sheet":"長野","index":42,"n_rows":16,"n_cols":25,"rows_kept":16,"cut":false,"hidden":true,"merged":[]}
["気象データ"]
[{"$f":"RIGHT(CELL(\"filename\",A2),LEN(CELL(\"filename\",A2))-FIND(\"]\",CELL(\"filename\",A2)))","v":"長野"},{"$f":"VLOOKUP(A2,γ一覧表!$D$4:$E$50,2,FALSE)","v":1},"暖・冷房負荷比(γ)"]
["時刻別平均気温"]
["時刻",0,1,2,3,4,5,6,7,8,9,10,11,12,13,14,15,16,17,18,19,20,21,22,23]
["4月",8,7.5,7.1,6.7,6.4,6.1,6.3,7.4,8.9,10.7,12.4,13.9,15,15.7,15.9,15.5,14.7,13.5,12.3,11.2,10.4,9.6999999999999993,9.1999999999999993,8.6999999999999993]
["5月",13.8,13.4,13,12.6,12.2,11.9,12.5,13.7,15.2,16.899999999999999,18.399999999999999,19.899999999999999,21,21.6,21.7,21.3,20.399999999999999,19.399999999999999,18.100000000000001,17,16.100000000000001,15.3,14.8,14.3]
["6月",18.100000000000001,17.8,17.5,17.2,16.899999999999999,16.8,17.3,18.2,19.5,20.9,22.2,23.3,24.2,24.7,24.7,24.3,23.6,22.7,21.7,20.7,20,19.399999999999999,18.899999999999999,18.600000000000001]
["7月",22.2,22,21.7,21.5,21.3,21.1,21.5,22.2,23.3,24.6,25.9,27,27.9,28.4,28.5,28,27.3,26.4,25.4,24.5,23.9,23.4,22.9,22.6]
["8月",23.4,23.2,22.9,22.6,22.4,22.1,22.3,23.2,24.4,25.8,27.1,28.3,29.2,29.8,29.9,29.3,28.5,27.4,26.3,25.4,24.8,24.3,23.9,23.6]
["9月",19.399999999999999,19.100000000000001,18.8,18.600000000000001,18.3,18.100000000000001,18.100000000000001,18.7,19.899999999999999,21.2,22.4,23.5,24.3,24.8,24.9,24.5,23.7,22.6,21.7,21,20.5,20.100000000000001,19.7,19.5]
["10月",12.9,12.6,12.3,12,11.8,11.5,11.3,11.8,13,14.4,15.7,17,18,18.600000000000001,18.7,18.3,17.3,16.100000000000001,15.3,14.6,14.1,13.7,13.4,13]
["11月",6.5,6.1,5.8,5.5,5.2,5,4.8,4.9000000000000004,5.9,7.3,8.8000000000000007,10.199999999999999,11.3,12.1,12.4,12.1,11.1,9.9,9.1,8.4,7.9,7.5,7,6.7]
["12月",1.2,0.9,0.6,0.4,0.2,0,-0.1,-0.2,0.3,1.4,2.6,3.8,4.7,5.5,5.8,5.6,4.9000000000000004,3.9,3.2,2.7,2.2000000000000002,1.9,1.6,1.2]
["1月",-1.5,-1.8,-2,-2.2000000000000002,-2.4,-2.6,-2.8,-2.9,-2.4,-1.4,-0.3,0.8,1.7,2.2999999999999998,2.7,2.7,2.2000000000000002,1.3,0.6,0.1,-0.3,-0.6,-1,-1.3]
["2月",-1,-1.3,-1.6,-1.9,-2.1,-2.2999999999999998,-2.5,-2.5,-1.6,-0.5,0.8,2.1,3.1,3.9,4.3,4.2,3.6,2.6,1.7,1.1000000000000001,0.6,0.2,-0.2,-0.5]
["3月",2.4,2.1,1.8,1.5,1.2,1,0.8,1.3,2.5,3.9,5.4,6.9,8,8.8000000000000007,9.1,8.9,8.1999999999999993,7,5.8,5,4.3,3.7,3.3,2.9]

{"sheet":"岐阜","index":43,"n_rows":16,"n_cols":25,"rows_kept":16,"cut":false,"hidden":true,"merged":[]}
["気象データ"]
[{"$f":"RIGHT(CELL(\"filename\",A2),LEN(CELL(\"filename\",A2))-FIND(\"]\",CELL(\"filename\",A2)))","v":"岐阜"},{"$f":"VLOOKUP(A2,γ一覧表!$D$4:$E$50,2,FALSE)","v":0.6},"暖・冷房負荷比(γ)"]
["時刻別平均気温"]
["時刻",0,1,2,3,4,5,6,7,8,9,10,11,12,13,14,15,16,17,18,19,20,21,22,23]
["4月",12.4,12,11.6,11.2,10.9,10.5,10.6,11.6,13,14.4,15.8,17,17.899999999999999,18.5,18.8,18.7,18.2,17.399999999999999,16.3,15.4,14.7,14.1,13.6,13.1]
["5月",17.399999999999999,16.899999999999999,16.5,16.2,15.8,15.5,16,17,18.3,19.600000000000001,20.9,21.9,22.7,23.3,23.6,23.5,23,22.3,21.3,20.3,19.5,18.899999999999999,18.399999999999999,17.899999999999999]
["6月",21.3,21,20.7,20.399999999999999,20.100000000000001,20,20.399999999999999,21.2,22.2,23.2,24.3,25.2,25.9,26.4,26.7,26.6,26.3,25.6,24.8,23.9,23.2,22.6,22.2,21.8]
["7月",25.3,25.1,24.8,24.6,24.3,24.1,24.4,25.1,26,27,28,28.9,29.6,30.1,30.4,30.4,30.1,29.4,28.6,27.7,27,26.5,26.1,25.8]
["8月",26.5,26.2,26,25.7,25.5,25.3,25.4,26.1,27.2,28.3,29.5,30.6,31.4,32,32.299999999999997,32.1,31.6,30.8,29.7,28.7,28.1,27.6,27.2,26.8]
["9月",23,22.6,22.4,22.1,21.8,21.6,21.5,22.2,23.3,24.5,25.6,26.6,27.3,27.8,28,28,27.5,26.6,25.5,24.8,24.2,23.8,23.4,23.1]
["10月",17.100000000000001,16.8,16.5,16.2,15.9,15.6,15.4,16,17.3,18.7,20,21.2,22.1,22.6,22.7,22.5,21.8,20.8,19.8,19.2,18.600000000000001,18.100000000000001,17.7,17.3]
["11月",11,10.7,10.3,10.1,9.8000000000000007,9.6,9.4,9.5,10.8,12.3,13.7,14.9,15.9,16.399999999999999,16.600000000000001,16.399999999999999,15.6,14.5,13.8,13.1,12.5,12,11.6,11.2]
["12月",5.7,5.5,5.2,4.9000000000000004,4.7,4.5,4.3,4.2,5,6.4,7.8,9,9.8000000000000007,10.4,10.6,10.3,9.6999999999999993,8.6999999999999993,8,7.5,7,6.6,6.2,5.9]
["1月",3.3,3,2.7,2.4,2.2000000000000002,2,1.9,1.7,2.4,3.8,5.2,6.4,7.2,7.8,8,7.9,7.3,6.4,5.7,5.2,4.7,4.3,3.9,3.6]
["2月",4,3.6,3.3,3.1,2.8,2.6,2.4,2.2999999999999998,3.4,4.8,6.1,7.4,8.4,9,9.3000000000000007,9.1999999999999993,8.6999999999999993,7.8,6.9,6.2,5.7,5.2,4.8,4.5]
["3月",7.3,6.9,6.6,6.2,5.9,5.7,5.4,6,7.3,8.6999999999999993,10.1,11.3,12.3,12.9,13.1,13.1,12.7,11.8,10.7,10,9.3000000000000007,8.8000000000000007,8.3000000000000007,7.8]

{"sheet":"静岡","index":44,"n_rows":16,"n_cols":25,"rows_kept":16,"cut":false,"hidden":true,"merged":[]}
["気象データ"]
[{"$f":"RIGHT(CELL(\"filename\",A2),LEN(CELL(\"filename\",A2))-FIND(\"]\",CELL(\"filename\",A2)))","v":"静岡"},{"$f":"VLOOKUP(A2,γ一覧表!$D$4:$E$50,2,FALSE)","v":0.6},"暖・冷房負荷比(γ)"]
["時刻別平均気温"]
["時刻",0,1,2,3,4,5,6,7,8,9,10,11,12,13,14,15,16,17,18,19,20,21,22,23]
["4月",13.2,12.8,12.5,12.2,11.9,11.6,11.8,13.1,14.7,16,16.899999999999999,17.600000000000001,18,18.3,18.399999999999999,18.2,17.899999999999999,17.3,16.600000000000001,16,15.4,14.9,14.3,13.9]
["5月",17.5,17.100000000000001,16.7,16.399999999999999,16.2,16,16.600000000000001,17.899999999999999,19.3,20.3,21,21.6,21.9,22.1,22,21.9,21.5,21,20.5,19.899999999999999,19.399999999999999,18.899999999999999,18.399999999999999,18]
["6月",20.9,20.6,20.399999999999999,20.100000000000001,19.899999999999999,19.8,20.3,21.3,22.3,23.1,23.8,24.2,24.6,24.7,24.7,24.5,24.2,23.8,23.3,22.8,22.4,22.1,21.7,21.4]
["7月",24.7,24.5,24.2,24,23.8,23.7,24.1,24.9,25.9,26.8,27.5,27.9,28.2,28.4,28.4,28.2,27.9,27.5,26.9,26.4,26,25.7,25.4,25.1]
["8月",26,25.7,25.5,25.2,25,24.8,25.1,26.1,27.2,28.3,29,29.6,29.9,30.1,30.1,29.8,29.4,28.8,28.2,27.7,27.3,27,26.7,26.3]
["9月",23.1,22.8,22.5,22.3,22.1,21.9,21.9,22.8,24,25.2,26.1,26.6,27,27.2,27.1,26.9,26.4,25.9,25.3,24.8,24.4,24,23.6,23.2]
["10月",17.899999999999999,17.7,17.399999999999999,17.100000000000001,16.899999999999999,16.8,16.600000000000001,17.3,18.8,20.2,21.3,21.9,22.4,22.6,22.6,22.3,21.8,21.1,20.399999999999999,19.8,19.3,18.8,18.5,18.100000000000001]
["11月",12.7,12.4,12.1,11.8,11.6,11.4,11.2,11.4,13,14.8,16.2,17.100000000000001,17.7,18,18,17.7,17,16.100000000000001,15.3,14.6,14,13.6,13.2,12.9]
["12月",7.6,7.3,7,6.7,6.5,6.3,6.1,6,7.2,9.1999999999999993,11,12.2,12.8,13.2,13.3,12.9,12.2,11.2,10.3,9.6,9.1,8.6,8.1999999999999993,7.8]
["1月",5.2,4.9000000000000004,4.5,4.2,4,3.7,3.5,3.4,4.4000000000000004,6.5,8.4,9.5,10.199999999999999,10.7,10.9,10.7,10.1,9.1,8.1999999999999993,7.5,6.9,6.4,6,5.6]
["2月",6,5.7,5.3,5,4.7,4.5,4.3,4.3,5.8,7.8,9.3000000000000007,10.3,11,11.4,11.5,11.5,11,10.3,9.5,8.6999999999999993,8,7.5,7,6.5]
["3月",9.1,8.6999999999999993,8.3000000000000007,8,7.7,7.4,7.3,8.1,9.6999999999999993,11.3,12.4,13.2,13.8,14.2,14.3,14.2,13.9,13.2,12.5,11.8,11.1,10.6,10.1,9.6]

{"sheet":"名古屋","index":45,"n_rows":16,"n_cols":25,"rows_kept":16,"cut":false,"hidden":true,"merged":[]}
["気象データ"]
[{"$f":"RIGHT(CELL(\"filename\",A2),LEN(CELL(\"filename\",A2))-FIND(\"]\",CELL(\"filename\",A2)))","v":"名古屋"},{"$f":"VLOOKUP(A2,γ一覧表!$D$4:$E$50,2,FALSE)","v":0.6},"暖・冷房負荷比(γ)"]
["時刻別平均気温"]
["時刻",0,1,2,3,4,5,6,7,8,9,10,11,12,13,14,15,16,17,18,19,20,21,22,23]
["4月",12.5,12.1,11.7,11.4,11.1,10.7,10.8,11.8,13.2,14.7,16.100000000000001,17.2,18.100000000000001,18.600000000000001,18.8,18.600000000000001,18.100000000000001,17.2,16.2,15.3,14.6,14,13.5,13.1]
["5月",17.3,16.899999999999999,16.600000000000001,16.2,15.9,15.7,16.2,17.2,18.5,19.899999999999999,21,22.1,22.8,23.3,23.4,23.2,22.7,21.9,20.9,20,19.2,18.7,18.2,17.8]
["6月",21.1,20.9,20.6,20.399999999999999,20.100000000000001,20,20.399999999999999,21.2,22.2,23.3,24.3,25.1,25.8,26.2,26.3,26.2,25.8,25.1,24.3,23.5,22.8,22.3,21.9,21.6]
["7月",25.2,24.9,24.7,24.5,24.3,24.1,24.4,25.2,26.1,27.1,28.1,28.9,29.5,29.9,30.2,30.1,29.7,29,28.2,27.4,26.7,26.2,25.9,25.5]
["8月",26.4,26.1,25.9,25.7,25.5,25.3,25.4,26.3,27.4,28.5,29.7,30.6,31.4,31.8,31.9,31.7,31.1,30.3,29.3,28.4,27.8,27.3,27,26.6]
["9月",23,22.7,22.5,22.2,22,21.8,21.7,22.4,23.4,24.6,25.7,26.6,27.3,27.8,27.9,27.7,27.1,26.3,25.4,24.7,24.2,23.8,23.4,23.1]
["10月",17.2,16.899999999999999,16.600000000000001,16.3,16.100000000000001,15.9,15.6,16.100000000000001,17.3,18.7,20,21.1,21.9,22.3,22.4,22.1,21.5,20.6,19.8,19.100000000000001,18.600000000000001,18.100000000000001,17.7,17.3]
["11月",11.2,10.8,10.5,10.199999999999999,10,9.6999999999999993,9.6,9.6999999999999993,10.8,12.3,13.7,14.9,15.8,16.3,16.5,16.2,15.5,14.5,13.7,13.1,12.6,12.2,11.7,11.4]
["12月",6,5.7,5.4,5.0999999999999996,4.9000000000000004,4.7,4.5,4.4000000000000004,5.2,6.5,8,9.1999999999999993,10,10.5,10.7,10.4,9.6999999999999993,8.8000000000000007,8.1,7.6,7.2,6.8,6.4,6.1]
["1月",3.5,3.2,2.9,2.6,2.4,2.2000000000000002,2,1.9,2.6,4,5.4,6.6,7.5,8,8.1999999999999993,8,7.4,6.5,5.8,5.3,4.9000000000000004,4.5,4.0999999999999996,3.8]
["2月",4.0999999999999996,3.8,3.5,3.2,2.9,2.7,2.4,2.4,3.4,4.9000000000000004,6.4,7.6,8.6,9.1999999999999993,9.5,9.4,8.8000000000000007,7.9,6.9,6.3,5.8,5.3,5,4.5999999999999996]
["3月",7.5,7.1,6.7,6.4,6.1,5.8,5.6,6.1,7.4,8.9,10.4,11.6,12.6,13.1,13.3,13.2,12.7,11.8,10.8,10,9.4,8.9,8.4,8]

{"sheet":"津","index":46,"n_rows":16,"n_cols":25,"rows_kept":16,"cut":false,"hidden":true,"merged":[]}
["気象データ"]
[{"$f":"RIGHT(CELL(\"filename\",A2),LEN(CELL(\"filename\",A2))-FIND(\"]\",CELL(\"filename\",A2)))","v":"津"},{"$f":"VLOOKUP(A2,γ一覧表!$D$4:$E$50,2,FALSE)","v":0.6},"暖・冷房負荷比(γ)"]
["時刻別平均気温"]
["時刻",0,1,2,3,4,5,6,7,8,9,10,11,12,13,14,15,16,17,18,19,20,21,22,23]
["4月",12.5,12.2,11.9,11.6,11.4,11.2,11.2,12.1,13.4,14.3,15.1,15.8,16.399999999999999,16.899999999999999,17.100000000000001,17.2,16.899999999999999,16.5,15.8,15.1,14.6,14.1,13.6,13.1]
["5月",17.5,17.100000000000001,16.8,16.600000000000001,16.399999999999999,16.2,16.5,17.5,18.5,19.3,19.899999999999999,20.6,21.2,21.6,21.7,21.7,21.5,21.1,20.5,19.899999999999999,19.399999999999999,18.899999999999999,18.399999999999999,18]
["6月",21.4,21.1,20.8,20.6,20.5,20.399999999999999,20.6,21.4,22.2,22.9,23.5,24.1,24.5,24.8,24.9,24.9,24.8,24.4,24,23.4,23,22.6,22.2,21.9]
["7月",25.5,25.3,25,24.8,24.7,24.5,24.7,25.4,26.2,26.9,27.5,28.1,28.5,28.9,29,29.1,28.9,28.6,28.1,27.5,27.1,26.7,26.3,26]
["8月",26.6,26.3,26.1,25.9,25.7,25.6,25.6,26.3,27.3,28.2,28.9,29.5,30,30.3,30.5,30.4,30.2,29.8,29.2,28.5,28.1,27.7,27.3,26.9]
["9月",23.2,22.9,22.7,22.5,22.4,22.2,22.2,22.7,23.7,24.6,25.4,25.9,26.4,26.7,26.9,26.8,26.4,25.9,25.3,24.8,24.4,24,23.6,23.3]
["10月",17.5,17.3,17.100000000000001,16.899999999999999,16.8,16.7,16.5,16.8,18,19.2,20.100000000000001,20.7,21.2,21.5,21.7,21.6,21.2,20.5,19.899999999999999,19.399999999999999,18.8,18.3,18,17.600000000000001]
["11月",11.8,11.6,11.4,11.2,11.1,10.9,10.8,10.8,12,13.4,14.5,15.2,15.7,16.100000000000001,16.2,16,15.6,14.8,14.2,13.6,13.1,12.6,12.3,12]
["12月",6.9,6.7,6.5,6.3,6.2,6.1,6,5.9,6.6,8,9.1999999999999993,10,10.5,10.8,10.9,10.8,10.199999999999999,9.5,8.9,8.3000000000000007,7.9,7.5,7.2,6.9]
["1月",4.5,4.3,4.0999999999999996,3.9,3.8,3.7,3.6,3.5,4,5.4,6.5,7.3,7.9,8.1999999999999993,8.3000000000000007,8.1999999999999993,7.8,7,6.5,6,5.5,5.2,4.9000000000000004,4.5999999999999996]
["2月",4.7,4.4000000000000004,4.2,4,3.9,3.8,3.7,3.6,4.5,5.9,7,7.7,8.1999999999999993,8.5,8.8000000000000007,8.6999999999999993,8.4,7.8,7.1,6.6,6.1,5.7,5.4,5]
["3月",7.6,7.3,7.1,6.8,6.6,6.5,6.3,6.7,7.9,9.1999999999999993,10.1,10.8,11.3,11.7,12,12.1,11.8,11.2,10.5,9.9,9.4,8.9,8.5,8.1]

{"sheet":"大津","index":47,"n_rows":16,"n_cols":25,"rows_kept":16,"cut":false,"hidden":true,"merged":[]}
["気象データ"]
[{"$f":"RIGHT(CELL(\"filename\",A2),LEN(CELL(\"filename\",A2))-FIND(\"]\",CELL(\"filename\",A2)))","v":"大津"},{"$f":"VLOOKUP(A2,γ一覧表!$D$4:$E$50,2,FALSE)","v":0.8},"暖・冷房負荷比(γ)"]
["時刻別平均気温"]
["時刻",0,1,2,3,4,5,6,7,8,9,10,11,12,13,14,15,16,17,18,19,20,21,22,23]
["4月",10.9,10.5,10.1,9.6999999999999993,9.5,9.1999999999999993,9.1999999999999993,10.3,11.8,12.9,14.1,15.2,16.2,16.8,17.2,17.2,16.899999999999999,16.2,15.2,14.2,13.5,12.8,12.2,11.6]
["5月",16,15.6,15.2,14.9,14.6,14.3,14.8,16.100000000000001,17.3,18.399999999999999,19.5,20.5,21.3,22,22.2,22.2,21.9,21.3,20.399999999999999,19.399999999999999,18.5,17.899999999999999,17.2,16.7]
["6月",20.2,19.8,19.5,19.3,19.100000000000001,18.899999999999999,19.399999999999999,20.399999999999999,21.4,22.2,23.1,23.9,24.7,25.2,25.5,25.5,25.3,24.8,24,23.1,22.3,21.7,21.2,20.8]
["7月",24.4,24.1,23.8,23.6,23.4,23.3,23.6,24.6,25.6,26.5,27.3,28.1,28.8,29.3,29.6,29.5,29.1,28.6,27.8,26.8,26.1,25.6,25.2,24.9]
["8月",25.4,25,24.8,24.5,24.3,24.1,24.3,25.4,26.7,27.7,28.8,29.6,30.4,30.9,31.2,31.1,30.7,29.9,28.8,27.7,27,26.6,26.1,25.7]
["9月",21.6,21.3,21.1,20.8,20.6,20.5,20.399999999999999,21.3,22.6,23.8,24.7,25.5,26.2,26.6,26.8,26.8,26.3,25.4,24.4,23.6,23.1,22.6,22.2,21.8]
["10月",15.7,15.4,15.2,15,14.7,14.6,14.4,14.9,16.399999999999999,17.899999999999999,18.899999999999999,19.8,20.5,21,21.3,21.1,20.6,19.600000000000001,18.600000000000001,17.899999999999999,17.3,16.7,16.2,15.8]
["11月",10,9.6999999999999993,9.5,9.3000000000000007,9.1,8.9,8.8000000000000007,8.9,10,11.6,12.8,13.7,14.4,15,15.2,15.1,14.5,13.5,12.8,12,11.4,10.9,10.5,10.199999999999999]
["12月",5.3,5.0999999999999996,4.8,4.7,4.5,4.4000000000000004,4.3,4.3,4.8,6.1,7.3,8.1,8.8000000000000007,9.1999999999999993,9.5,9.4,8.9,8.1,7.5,6.9,6.4,6,5.6,5.4]
["1月",2.9,2.7,2.5,2.2999999999999998,2.2000000000000002,2.1,2,1.9,2.2999999999999998,3.5,4.7,5.5,6.1,6.5,6.8,6.8,6.4,5.7,5.0999999999999996,4.5999999999999996,4.2,3.8,3.4,3.1]
["2月",3,2.8,2.6,2.4,2.2000000000000002,2.1,2,2,2.8,4,5.0999999999999996,6,6.7,7.2,7.5,7.5,7.2,6.6,5.8,5.3,4.8,4.3,3.8,3.5]
["3月",6,5.6,5.3,5,4.8,4.7,4.5,4.9000000000000004,6.1,7.5,8.5,9.5,10.5,11,11.4,11.4,11.1,10.4,9.5,8.6999999999999993,8.1999999999999993,7.6,7.1,6.6]

{"sheet":"京都","index":48,"n_rows":16,"n_cols":25,"rows_kept":16,"cut":false,"hidden":true,"merged":[]}
["気象データ"]
[{"$f":"RIGHT(CELL(\"filename\",A2),LEN(CELL(\"filename\",A2))-FIND(\"]\",CELL(\"filename\",A2)))","v":"京都"},{"$f":"VLOOKUP(A2,γ一覧表!$D$4:$E$50,2,FALSE)","v":0.6},"暖・冷房負荷比(γ)"]
["時刻別平均気温"]
["時刻",0,1,2,3,4,5,6,7,8,9,10,11,12,13,14,15,16,17,18,19,20,21,22,23]
["4月",12.1,11.7,11.3,10.9,10.7,10.4,10.3,11.2,12.6,14.2,15.7,16.899999999999999,17.8,18.399999999999999,18.8,18.8,18.399999999999999,17.600000000000001,16.600000000000001,15.5,14.7,13.9,13.3,12.8]
["5月",17.100000000000001,16.7,16.3,16,15.7,15.5,15.8,16.899999999999999,18.2,19.600000000000001,20.9,22.1,23,23.6,23.9,23.8,23.4,22.7,21.7,20.6,19.7,19,18.3,17.7]
["6月",21.3,20.9,20.5,20.3,20.100000000000001,19.899999999999999,20.2,21.1,22.2,23.3,24.4,25.3,26,26.6,26.9,26.9,26.6,26,25.2,24.3,23.5,22.8,22.3,21.8]
["7月",25.5,25.2,24.9,24.6,24.4,24.2,24.4,25.2,26.2,27.3,28.3,29.2,29.9,30.5,30.8,30.8,30.5,29.9,29,28.1,27.4,26.8,26.4,26]
["8月",26.7,26.3,26,25.7,25.5,25.3,25.3,26.1,27.3,28.6,29.7,30.8,31.6,32.200000000000003,32.5,32.4,32,31.2,30.2,29.1,28.4,27.9,27.4,27]
["9月",22.8,22.5,22.2,21.9,21.7,21.5,21.4,22.1,23.3,24.6,25.7,26.7,27.4,27.8,28.1,27.9,27.4,26.6,25.6,24.8,24.2,23.7,23.3,22.9]
["10月",16.8,16.5,16.3,16,15.7,15.5,15.4,15.7,16.899999999999999,18.5,19.899999999999999,21,21.8,22.3,22.4,22.3,21.7,20.7,19.600000000000001,18.899999999999999,18.3,17.8,17.399999999999999,17]
["11月",11,10.7,10.4,10.1,9.9,9.6999999999999993,9.5,9.6,10.5,12,13.5,14.8,15.7,16.2,16.5,16.3,15.7,14.7,13.7,13,12.4,11.9,11.5,11.2]
["12月",5.9,5.6,5.4,5.2,5,4.8,4.7,4.5,5,6.2,7.6,8.9,9.8000000000000007,10.4,10.6,10.5,10,9.1,8.3000000000000007,7.7,7.1,6.7,6.3,6]
["1月",3.6,3.3,3.1,2.9,2.7,2.6,2.5,2.2999999999999998,2.7,3.8,5.0999999999999996,6.3,7.2,7.8,8,7.9,7.5,6.8,6,5.4,4.9000000000000004,4.5,4.2,3.9]
["2月",4,3.7,3.5,3.3,3.1,2.9,2.8,2.7,3.3,4.5999999999999996,6,7.2,8.1,8.6999999999999993,9,9,8.6,7.8,7,6.3,5.7,5.2,4.8,4.4000000000000004]
["3月",7.1,6.8,6.5,6.2,5.9,5.7,5.5,5.8,6.9,8.3000000000000007,9.8000000000000007,11.1,12,12.6,12.9,12.9,12.5,11.7,10.7,9.9,9.1999999999999993,8.6,8,7.6]

{"sheet":"大阪","index":49,"n_rows":16,"n_cols":25,"rows_kept":16,"cut":false,"hidden":true,"merged":[]}
["気象データ"]
[{"$f":"RIGHT(CELL(\"filename\",A2),LEN(CELL(\"filename\",A2))-FIND(\"]\",CELL(\"filename\",A2)))","v":"大阪"},{"$f":"VLOOKUP(A2,γ一覧表!$D$4:$E$50,2,FALSE)","v":0.6},"暖・冷房負荷比(γ)"]
["時刻別平均気温"]
["時刻",0,1,2,3,4,5,6,7,8,9,10,11,12,13,14,15,16,17,18,19,20,21,22,23]
["4月",13.7,13.3,12.9,12.6,12.2,12,11.9,12.5,13.6,14.9,16.2,17.2,17.899999999999999,18.399999999999999,18.600000000000001,18.5,18.100000000000001,17.5,16.8,16.100000000000001,15.5,15.1,14.6,14.3]
["5月",18.399999999999999,18.100000000000001,17.7,17.399999999999999,17.100000000000001,16.8,17.100000000000001,17.8,19,20.2,21.4,22.3,22.9,23.3,23.5,23.4,22.9,22.3,21.6,20.8,20.2,19.7,19.3,18.899999999999999]
["6月",22.1,21.8,21.6,21.3,21.1,20.9,21.1,21.8,22.7,23.7,24.6,25.4,26,26.4,26.6,26.5,26.1,25.5,24.9,24.2,23.7,23.2,22.8,22.5]
["7月",26.2,26,25.8,25.6,25.4,25.2,25.4,26,26.8,27.8,28.6,29.4,30,30.4,30.6,30.4,30,29.5,28.9,28.2,27.6,27.2,26.9,26.6]
["8月",27.5,27.3,27,26.8,26.6,26.4,26.4,27.1,28.1,29.2,30.2,31.1,31.8,32.200000000000003,32.299999999999997,32.1,31.5,30.8,30.1,29.4,28.8,28.4,28,27.7]
["9月",23.8,23.6,23.3,23.1,22.9,22.7,22.6,23.1,24,25.1,26.2,27.1,27.7,28.1,28.2,28,27.6,26.9,26.2,25.5,25,24.6,24.3,24]
["10月",18.3,18,17.7,17.399999999999999,17.2,17,16.8,17.100000000000001,18.100000000000001,19.399999999999999,20.5,21.5,22.2,22.5,22.7,22.6,22,21.3,20.6,20.100000000000001,19.600000000000001,19.100000000000001,18.7,18.399999999999999]
["11月",12.8,12.4,12.1,11.9,11.6,11.4,11.3,11.3,12.1,13.3,14.6,15.6,16.399999999999999,16.7,16.899999999999999,16.7,16.2,15.6,15.1,14.7,14.1,13.7,13.3,13]
["12月",7.7,7.5,7.2,7,6.8,6.5,6.4,6.4,6.8,7.9,9.1,10.1,10.8,11.1,11.2,11.1,10.6,10.1,9.6999999999999993,9.3000000000000007,8.9,8.5,8.1999999999999993,7.9]
["1月",5.3,5,4.8,4.5,4.3,4.2,4,4,4.3,5.4,6.5,7.5,8,8.4,8.6,8.5,8.1999999999999993,7.7,7.2,6.8,6.5,6.1,5.8,5.5]
["2月",5.6,5.3,5,4.8,4.5999999999999996,4.4000000000000004,4.2,4.3,4.9000000000000004,6,7.1,8.1,8.6999999999999993,9.1,9.4,9.4,9.1,8.5,7.9,7.5,7.1,6.7,6.3,6]
["3月",8.6999999999999993,8.4,8.1,7.8,7.5,7.3,7.1,7.3,8.1999999999999993,9.4,10.6,11.6,12.3,12.8,13,13,12.7,12.2,11.4,10.9,10.4,9.9,9.5,9.1999999999999993]

{"sheet":"神戸","index":50,"n_rows":16,"n_cols":25,"rows_kept":16,"cut":false,"hidden":true,"merged":[]}
["気象データ"]
[{"$f":"RIGHT(CELL(\"filename\",A2),LEN(CELL(\"filename\",A2))-FIND(\"]\",CELL(\"filename\",A2)))","v":"神戸"},{"$f":"VLOOKUP(A2,γ一覧表!$D$4:$E$50,2,FALSE)","v":0.6},"暖・冷房負荷比(γ)"]
["時刻別平均気温"]
["時刻",0,1,2,3,4,5,6,7,8,9,10,11,12,13,14,15,16,17,18,19,20,21,22,23]
["4月",13.6,13.3,13,12.7,12.4,12.2,12.2,13,13.9,14.7,15.6,16.3,16.899999999999999,17.399999999999999,17.7,17.7,17.399999999999999,17,16.399999999999999,15.6,15.1,14.8,14.4,14.1]
["5月",18.3,18,17.7,17.5,17.3,17.100000000000001,17.399999999999999,18.2,19,19.8,20.5,21.2,21.7,22.1,22.4,22.3,22.1,21.6,21,20.3,19.8,19.399999999999999,19,18.7]
["6月",21.9,21.7,21.5,21.3,21.2,21,21.3,21.9,22.6,23.2,23.8,24.4,24.8,25.3,25.5,25.5,25.2,24.8,24.3,23.6,23.2,22.8,22.6,22.3]
["7月",25.9,25.7,25.5,25.4,25.2,25.1,25.3,25.9,26.5,27.1,27.7,28.3,28.8,29.1,29.3,29.3,28.9,28.5,27.9,27.3,26.9,26.6,26.4,26.2]
["8月",27.3,27.1,26.9,26.7,26.6,26.5,26.5,27.2,27.9,28.7,29.4,30,30.5,30.9,31.1,31,30.6,30,29.3,28.6,28.2,27.9,27.7,27.5]
["9月",24.1,23.9,23.7,23.5,23.3,23.2,23.1,23.7,24.5,25.3,26,26.6,27,27.4,27.5,27.4,27.1,26.6,25.8,25.3,25,24.7,24.4,24.2]
["10月",18.7,18.399999999999999,18.2,18,17.8,17.600000000000001,17.5,17.899999999999999,18.899999999999999,19.8,20.6,21.3,21.8,22.1,22.2,22.1,21.8,21,20.2,19.8,19.5,19.2,19,18.7]
["11月",13,12.8,12.6,12.4,12.2,12,11.9,11.9,13,14,14.9,15.6,16.100000000000001,16.399999999999999,16.5,16.5,16,15.2,14.5,14.2,13.9,13.7,13.4,13.1]
["12月",7.7,7.5,7.4,7.2,7,6.9,6.8,6.7,7.3,8.4,9.3000000000000007,10,10.5,10.8,11,10.9,10.5,9.6999999999999993,9.1,8.6999999999999993,8.5,8.1999999999999993,8,7.7]
["1月",5.0999999999999996,4.8,4.7,4.5,4.4000000000000004,4.3,4.2,4.0999999999999996,4.5999999999999996,5.7,6.6,7.3,7.8,8.1999999999999993,8.3000000000000007,8.3000000000000007,8,7.4,6.8,6.3,6,5.8,5.5,5.3]
["2月",5.5,5.2,5.0999999999999996,4.8,4.7,4.5999999999999996,4.4000000000000004,4.4000000000000004,5.2,6.2,7.1,7.8,8.4,8.8000000000000007,9,9,8.8000000000000007,8.3000000000000007,7.6,7.1,6.7,6.4,6.1,5.8]
["3月",8.6,8.4,8.1,7.9,7.7,7.5,7.3,7.6,8.6,9.5,10.4,11.1,11.7,12.1,12.3,12.4,12.2,11.8,11.1,10.4,10,9.6999999999999993,9.3000000000000007,9]

{"sheet":"奈良","index":51,"n_rows":16,"n_cols":25,"rows_kept":16,"cut":false,"hidden":true,"merged":[]}
["気象データ"]
[{"$f":"RIGHT(CELL(\"filename\",A2),LEN(CELL(\"filename\",A2))-FIND(\"]\",CELL(\"filename\",A2)))","v":"奈良"},{"$f":"VLOOKUP(A2,γ一覧表!$D$4:$E$50,2,FALSE)","v":0.6},"暖・冷房負荷比(γ)"]
["時刻別平均気温"]
["時刻",0,1,2,3,4,5,6,7,8,9,10,11,12,13,14,15,16,17,18,19,20,21,22,23]
["4月",10.7,10.3,9.9,9.6,9.3000000000000007,9.1,9,10.3,12.1,13.9,15.5,16.8,17.7,18.3,18.5,18.5,18,17.2,16,14.6,13.6,12.8,12,11.4]
["5月",15.7,15.3,14.9,14.5,14.3,14,14.5,16,17.600000000000001,19.2,20.6,21.8,22.6,23.1,23.4,23.2,22.8,22,20.9,19.600000000000001,18.399999999999999,17.600000000000001,16.899999999999999,16.3]
["6月",19.8,19.5,19.2,18.899999999999999,18.7,18.600000000000001,19.100000000000001,20.100000000000001,21.4,22.7,23.8,24.7,25.3,25.8,26.1,26,25.7,25.1,24.2,23.2,22.2,21.5,20.9,20.399999999999999]
["7月",24,23.7,23.4,23.2,23,22.9,23.2,24.3,25.5,26.7,27.7,28.6,29.3,29.8,30,29.9,29.5,28.9,28,27.1,26.2,25.5,24.9,24.5]
["8月",24.9,24.6,24.4,24.1,23.9,23.7,23.8,25,26.5,27.9,29.2,30.3,31,31.4,31.6,31.5,31,30.1,28.9,27.8,27,26.3,25.7,25.3]
["9月",21.2,20.9,20.7,20.399999999999999,20.2,20.100000000000001,20,20.9,22.3,23.7,25,26,26.7,27.1,27.2,27,26.4,25.6,24.4,23.4,22.7,22.2,21.7,21.3]
["10月",15.2,15,14.7,14.5,14.3,14.1,14,14.4,16,17.600000000000001,19.100000000000001,20.3,21.1,21.5,21.6,21.4,20.8,19.600000000000001,18.3,17.5,16.8,16.2,15.7,15.4]
["11月",9.6,9.3000000000000007,9.1,8.8000000000000007,8.6,8.4,8.3000000000000007,8.3000000000000007,9.6999999999999993,11.4,13,14.4,15.3,15.7,15.8,15.5,14.8,13.5,12.5,11.7,11.1,10.6,10.1,9.8000000000000007]
["12月",4.8,4.5999999999999996,4.4000000000000004,4.2,4,3.9,3.7,3.7,4.4000000000000004,6,7.5,8.8000000000000007,9.6999999999999993,10.1,10.199999999999999,10,9.4,8.1999999999999993,7.3,6.7,6.1,5.7,5.3,5]
["1月",2.6,2.4,2.2000000000000002,2.1,1.9,1.7,1.6,1.5,2,3.6,5.0999999999999996,6.3,7.1,7.6,7.7,7.6,7,6.2,5.2,4.5,4,3.5,3.2,2.8]
["2月",2.8,2.6,2.2999999999999998,2.1,2,1.8,1.7,1.6,2.7,4.3,5.8,7.1,8,8.5,8.6999999999999993,8.6999999999999993,8.1999999999999993,7.4,6.3,5.4,4.7,4.0999999999999996,3.6,3.2]
["3月",5.9,5.5,5.2,4.9000000000000004,4.7,4.5,4.3,4.7,6.3,8,9.6999999999999993,11,11.9,12.5,12.7,12.6,12.2,11.3,10.199999999999999,9,8.1999999999999993,7.5,6.9,6.4]

{"sheet":"和歌山","index":52,"n_rows":16,"n_cols":25,"rows_kept":16,"cut":false,"hidden":true,"merged":[]}
["気象データ"]
[{"$f":"RIGHT(CELL(\"filename\",A2),LEN(CELL(\"filename\",A2))-FIND(\"]\",CELL(\"filename\",A2)))","v":"和歌山"},{"$f":"VLOOKUP(A2,γ一覧表!$D$4:$E$50,2,FALSE)","v":0.6},"暖・冷房負荷比(γ)"]
["時刻別平均気温"]
["時刻",0,1,2,3,4,5,6,7,8,9,10,11,12,13,14,15,16,17,18,19,20,21,22,23]
["4月",13.6,13.1,12.7,12.3,12,11.7,11.5,12.1,13.5,15.2,16.3,17.100000000000001,17.600000000000001,18.100000000000001,18.399999999999999,18.3,18.100000000000001,17.600000000000001,16.8,16.2,15.7,15.3,14.8,14.3]
["5月",18.3,17.8,17.399999999999999,17,16.7,16.399999999999999,16.5,17.399999999999999,18.899999999999999,20.3,21.2,21.9,22.4,22.7,22.9,22.8,22.5,22,21.3,20.6,20.100000000000001,19.7,19.3,18.8]
["6月",22,21.6,21.3,21,20.8,20.6,20.7,21.4,22.6,23.6,24.4,25,25.4,25.6,25.7,25.6,25.3,24.8,24.3,23.7,23.3,23,22.8,22.5]
["7月",26.1,25.8,25.5,25.3,25,24.8,24.9,25.6,26.7,27.7,28.4,28.9,29.4,29.6,29.7,29.6,29.3,28.8,28.1,27.5,27.1,26.9,26.6,26.4]
["8月",27.2,26.8,26.5,26.2,25.9,25.7,25.6,26.3,27.6,29,29.9,30.6,31,31.3,31.3,31.1,30.7,30.1,29.3,28.7,28.3,28,27.7,27.5]
["9月",23.7,23.3,23,22.7,22.5,22.2,22.1,22.5,23.7,25,26.1,26.9,27.4,27.6,27.8,27.7,27.3,26.7,26,25.5,25.1,24.7,24.3,23.9]
["10月",18,17.600000000000001,17.3,17,16.7,16.5,16.399999999999999,16.5,17.7,19.3,20.6,21.5,22.1,22.4,22.5,22.4,22,21.4,20.7,20.2,19.600000000000001,19.100000000000001,18.600000000000001,18.2]
["11月",12.5,12.1,11.9,11.6,11.4,11.2,11.1,11,11.8,13.3,14.8,15.9,16.600000000000001,16.899999999999999,17,16.899999999999999,16.399999999999999,15.8,15.2,14.7,14.1,13.5,13.1,12.7]
["12月",7.5,7.3,7.1,6.9,6.7,6.5,6.4,6.3,6.7,7.8,9.1999999999999993,10.3,11,11.3,11.4,11.3,10.9,10.3,9.9,9.4,8.9,8.4,8,7.7]
["1月",5.0999999999999996,4.9000000000000004,4.7,4.5,4.2,4.0999999999999996,4,3.9,4.2,5.2,6.5,7.6,8.1999999999999993,8.6,8.8000000000000007,8.6999999999999993,8.5,7.9,7.4,7.1,6.6,6.2,5.8,5.4]
["2月",5.5,5.2,5,4.7,4.5,4.3,4.0999999999999996,4.0999999999999996,4.7,6,7.4,8.4,9,9.4,9.6,9.6,9.4,8.9,8.1999999999999993,7.8,7.3,6.8,6.4,6]
["3月",8.6999999999999993,8.3000000000000007,8,7.7,7.4,7.1,6.9,7.1,8.1,9.6,10.9,11.8,12.4,12.9,13.1,13.2,12.9,12.4,11.7,11.2,10.7,10.199999999999999,9.6999999999999993,9.1999999999999993]

{"sheet":"鳥取","index":53,"n_rows":16,"n_cols":25,"rows_kept":16,"cut":false,"hidden":true,"merged":[]}
["気象データ"]
[{"$f":"RIGHT(CELL(\"filename\",A2),LEN(CELL(\"filename\",A2))-FIND(\"]\",CELL(\"filename\",A2)))","v":"鳥取"},{"$f":"VLOOKUP(A2,γ一覧表!$D$4:$E$50,2,FALSE)","v":0.6},"暖・冷房負荷比(γ)"]
["時刻別平均気温"]
["時刻",0,1,2,3,4,5,6,7,8,9,10,11,12,13,14,15,16,17,18,19,20,21,22,23]
["4月",10.5,10.199999999999999,9.9,9.6999999999999993,9.5,9.3000000000000007,9.3000000000000007,10.4,12.3,14.3,15.8,16.7,17.100000000000001,17.2,17.2,16.899999999999999,16.399999999999999,15.8,14.9,14,13,12.2,11.6,11.2]
["5月",15.5,15.2,15,14.7,14.5,14.3,14.6,16,17.899999999999999,19.7,21,21.7,22.1,22.1,22,21.8,21.3,20.6,19.899999999999999,18.899999999999999,17.8,17,16.399999999999999,16]
["6月",19.8,19.600000000000001,19.399999999999999,19.100000000000001,19,18.8,19.100000000000001,20.2,21.6,23,24.1,24.8,25.2,25.4,25.3,25,24.6,24,23.3,22.6,21.8,21.2,20.7,20.3]
["7月",24.3,24,23.8,23.6,23.5,23.4,23.5,24.5,25.8,27.1,28.2,28.8,29.2,29.3,29.3,29,28.6,28,27.3,26.6,25.9,25.4,25,24.6]
["8月",25.2,25,24.8,24.5,24.3,24.1,24.2,25.2,26.7,28.4,29.7,30.5,31,31.2,31.1,30.7,30.1,29.5,28.6,27.7,26.9,26.3,25.9,25.5]
["9月",21,20.8,20.6,20.399999999999999,20.2,20.100000000000001,20,20.6,22,23.5,24.9,25.8,26.3,26.5,26.4,26.1,25.7,24.9,24.1,23.2,22.5,21.9,21.5,21.1]
["10月",15.2,15,14.8,14.6,14.4,14.3,14.1,14.4,15.8,17.600000000000001,19.399999999999999,20.5,21.1,21.3,21.3,21,20.399999999999999,19.600000000000001,18.5,17.399999999999999,16.7,16.2,15.7,15.4]
["11月",10.3,10,9.9,9.6999999999999993,9.6,9.5,9.4,9.4,10.4,11.9,13.5,14.8,15.4,15.6,15.6,15.3,14.8,13.9,12.8,12,11.3,11,10.6,10.3]
["12月",5.6,5.4,5.3,5.2,5.0999999999999996,5,5,4.9000000000000004,5.3,6.3,7.5,8.5,9.1999999999999993,9.5,9.6,9.4,8.9,8.1999999999999993,7.4,6.8,6.4,6.1,5.8,5.6]
["1月",3.1,2.9,2.8,2.8,2.7,2.6,2.6,2.6,2.8,3.6,4.7,5.7,6.4,6.7,6.7,6.6,6.3,5.7,4.9000000000000004,4.3,3.9,3.6,3.4,3.2]
["2月",3.3,3.2,3,2.9,2.8,2.7,2.7,2.6,3.2,4.3,5.6,6.6,7.3,7.6,7.7,7.7,7.3,6.8,6,5.2,4.5999999999999996,4.0999999999999996,3.8,3.6]
["3月",6,5.7,5.6,5.4,5.2,5.0999999999999996,5,5.3,6.6,8.1999999999999993,9.8000000000000007,10.7,11.3,11.6,11.6,11.5,11.1,10.5,9.6999999999999993,8.8000000000000007,7.9,7.3,6.8,6.4]

{"sheet":"松江","index":54,"n_rows":16,"n_cols":25,"rows_kept":16,"cut":false,"hidden":true,"merged":[]}
["気象データ"]
[{"$f":"RIGHT(CELL(\"filename\",A2),LEN(CELL(\"filename\",A2))-FIND(\"]\",CELL(\"filename\",A2)))","v":"松江"},{"$f":"VLOOKUP(A2,γ一覧表!$D$4:$E$50,2,FALSE)","v":0.6},"暖・冷房負荷比(γ)"]
["時刻別平均気温"]
["時刻",0,1,2,3,4,5,6,7,8,9,10,11,12,13,14,15,16,17,18,19,20,21,22,23]
["4月",10.9,10.6,10.4,10.1,9.9,9.8000000000000007,9.6999999999999993,10.8,12.4,14,15.4,16.3,16.899999999999999,17,16.899999999999999,16.5,15.9,15.1,14.3,13.5,13,12.4,12,11.5]
["5月",15.9,15.5,15.3,15,14.8,14.7,15,16.3,17.8,19.2,20.399999999999999,21.2,21.6,21.8,21.6,21.3,20.7,20,19.100000000000001,18.3,17.7,17.2,16.7,16.3]
["6月",19.899999999999999,19.7,19.5,19.3,19.100000000000001,18.899999999999999,19.3,20.3,21.4,22.6,23.6,24.3,24.7,24.8,24.6,24.2,23.8,23.2,22.5,21.8,21.3,20.9,20.6,20.3]
["7月",24.3,24.1,23.9,23.8,23.6,23.5,23.7,24.6,25.6,26.6,27.4,28,28.4,28.5,28.3,28.1,27.7,27.1,26.5,25.9,25.4,25.1,24.8,24.6]
["8月",25.5,25.3,25.1,24.9,24.7,24.5,24.6,25.6,26.9,28,29,29.7,30.2,30.3,30.1,29.7,29.2,28.5,27.8,27.1,26.7,26.3,26,25.8]
["9月",21.6,21.3,21.1,20.9,20.7,20.5,20.399999999999999,21.1,22.3,23.6,24.6,25.3,25.7,25.8,25.7,25.4,24.9,24.2,23.6,23,22.7,22.3,22,21.7]
["10月",15.8,15.5,15.2,15,14.9,14.7,14.6,14.9,16.2,17.8,19.100000000000001,20.100000000000001,20.7,20.9,20.8,20.399999999999999,19.8,19.100000000000001,18.399999999999999,17.7,17.2,16.8,16.3,15.9]
["11月",10.5,10.3,10.1,10,9.8000000000000007,9.6999999999999993,9.6,9.6,10.5,11.9,13.2,14.3,15,15.3,15.2,14.9,14.3,13.5,12.8,12.2,11.8,11.3,11,10.6]
["12月",6,5.9,5.7,5.6,5.5,5.4,5.2,5.2,5.5,6.5,7.5,8.5,9.1,9.4,9.4,9.1,8.6,8,7.5,7.2,6.9,6.6,6.3,6.1]
["1月",3.7,3.6,3.4,3.3,3.2,3.1,3.1,3,3.2,4.0999999999999996,5,5.9,6.4,6.7,6.8,6.6,6.2,5.6,5.2,4.8,4.5,4.2,4,3.8]
["2月",3.9,3.7,3.5,3.3,3.1,3,2.9,2.9,3.4,4.5999999999999996,5.8,6.8,7.4,7.8,7.8,7.6,7.2,6.6,6,5.5,5.0999999999999996,4.8,4.5,4.2]
["3月",6.4,6.1,5.9,5.7,5.5,5.4,5.3,5.5,6.9,8.4,9.8000000000000007,10.8,11.4,11.6,11.6,11.3,10.7,10.1,9.3000000000000007,8.6999999999999993,8.1999999999999993,7.7,7.2,6.9]

{"sheet":"岡山","index":55,"n_rows":16,"n_cols":25,"rows_kept":16,"cut":false,"hidden":true,"merged":[]}
["気象データ"]
[{"$f":"RIGHT(CELL(\"filename\",A2),LEN(CELL(\"filename\",A2))-FIND(\"]\",CELL(\"filename\",A2)))","v":"岡山"},{"$f":"VLOOKUP(A2,γ一覧表!$D$4:$E$50,2,FALSE)","v":0.6},"暖・冷房負荷比(γ)"]
["時刻別平均気温"]
["時刻",0,1,2,3,4,5,6,7,8,9,10,11,12,13,14,15,16,17,18,19,20,21,22,23]
["4月",12.6,12.1,11.5,11.1,10.7,10.4,10.199999999999999,10.8,12.2,14.2,15.7,16.899999999999999,17.8,18.3,18.600000000000001,18.7,18.600000000000001,18.100000000000001,17.2,16.3,15.4,14.7,14,13.4]
["5月",17.600000000000001,17.100000000000001,16.600000000000001,16.2,15.8,15.5,15.6,16.399999999999999,17.899999999999999,19.5,20.9,22,22.8,23.3,23.6,23.7,23.5,23,22.2,21.3,20.399999999999999,19.600000000000001,18.899999999999999,18.3]
["6月",21.6,21.2,20.8,20.5,20.2,20,20.100000000000001,20.9,22.1,23.2,24.3,25.2,25.8,26.3,26.5,26.5,26.4,25.9,25.4,24.6,23.9,23.3,22.7,22.2]
["7月",25.7,25.4,25.1,24.8,24.6,24.4,24.4,25.1,26.1,27.3,28.3,29.1,29.7,30.1,30.4,30.5,30.3,29.8,29.1,28.4,27.7,27.2,26.7,26.3]
["8月",26.9,26.5,26.2,25.9,25.7,25.4,25.4,26,27.1,28.5,29.6,30.5,31.2,31.6,31.8,31.8,31.6,31.1,30.3,29.5,28.8,28.2,27.7,27.3]
["9月",23,22.7,22.3,22.1,21.8,21.6,21.4,21.8,22.8,24.4,25.6,26.5,27.1,27.4,27.6,27.6,27.4,26.9,26.1,25.4,24.7,24.2,23.7,23.2]
["10月",17,16.600000000000001,16.2,15.9,15.7,15.4,15.2,15.3,16.5,18.2,19.8,20.9,21.7,21.9,22.2,22.2,21.9,21.2,20.3,19.5,18.8,18.2,17.7,17.2]
["11月",11,10.6,10.3,10,9.6999999999999993,9.5,9.3000000000000007,9.1999999999999993,9.9,11.7,13.4,14.9,15.8,16.100000000000001,16.3,16.3,15.9,15.1,14.3,13.5,12.8,12.3,11.7,11.2]
["12月",5.9,5.5,5.2,5,4.7,4.5,4.3,4.2,4.5999999999999996,6,7.8,9.3000000000000007,10.199999999999999,10.6,10.7,10.7,10.3,9.5,8.8000000000000007,8.1999999999999993,7.5,7,6.5,6.1]
["1月",3.6,3.2,2.9,2.7,2.4,2.2000000000000002,2,1.9,2.2000000000000002,3.7,5.4,6.9,7.9,8.1999999999999993,8.4,8.5,8.1999999999999993,7.5,6.7,6,5.4,4.9000000000000004,4.4000000000000004,4]
["2月",4.2,3.8,3.5,3.1,2.9,2.6,2.4,2.4,2.9,4.5999999999999996,6.4,7.8,8.6999999999999993,9.1,9.3000000000000007,9.4,9.1999999999999993,8.6,7.8,7,6.4,5.8,5.3,4.8]
["3月",7.5,7,6.6,6.2,5.9,5.6,5.3,5.4,6.5,8.4,10.1,11.3,12.2,12.7,13,13.1,12.9,12.3,11.5,10.7,9.9,9.3000000000000007,8.6999999999999993,8.1999999999999993]

{"sheet":"広島","index":56,"n_rows":16,"n_cols":25,"rows_kept":16,"cut":false,"hidden":true,"merged":[]}
["気象データ"]
[{"$f":"RIGHT(CELL(\"filename\",A2),LEN(CELL(\"filename\",A2))-FIND(\"]\",CELL(\"filename\",A2)))","v":"広島"},{"$f":"VLOOKUP(A2,γ一覧表!$D$4:$E$50,2,FALSE)","v":0.6},"暖・冷房負荷比(γ)"]
["時刻別平均気温"]
["時刻",0,1,2,3,4,5,6,7,8,9,10,11,12,13,14,15,16,17,18,19,20,21,22,23]
["4月",13,12.5,12,11.6,11.3,11,10.8,11.1,12.3,13.9,15.7,16.8,17.600000000000001,18.100000000000001,18.399999999999999,18.5,18.3,17.899999999999999,17.2,16.399999999999999,15.8,15.2,14.5,13.9]
["5月",18,17.5,17,16.5,16.2,15.9,15.8,16.399999999999999,17.8,19.399999999999999,20.8,21.7,22.4,22.8,23.1,23.1,22.9,22.5,21.9,21.2,20.6,20,19.3,18.7]
["6月",21.9,21.5,21.1,20.8,20.5,20.2,20.3,20.8,21.9,23.1,24.2,24.9,25.4,25.7,25.9,25.9,25.7,25.4,24.9,24.4,23.8,23.4,22.9,22.5]
["7月",26,25.6,25.3,25.1,24.8,24.6,24.6,25,26,27,27.9,28.6,29.1,29.5,29.7,29.8,29.6,29.3,28.8,28.2,27.7,27.3,26.9,26.5]
["8月",27.2,26.8,26.5,26.2,25.9,25.7,25.5,25.9,26.9,28.1,29.4,30.2,30.8,31.3,31.5,31.4,31.1,30.6,29.9,29.3,28.8,28.4,27.9,27.5]
["9月",23.3,22.9,22.6,22.3,22.1,21.9,21.7,21.8,22.7,24,25.5,26.6,27.3,27.7,27.9,27.8,27.5,26.9,26.2,25.6,25.1,24.5,24,23.5]
["10月",17.3,17,16.600000000000001,16.3,16,15.8,15.6,15.6,16.399999999999999,17.899999999999999,19.7,21.1,22,22.5,22.8,22.7,22.3,21.6,20.9,20.2,19.3,18.600000000000001,18,17.5]
["11月",11.4,11.1,10.8,10.5,10.3,10,9.9,9.8000000000000007,10.3,11.5,13.3,14.8,15.9,16.5,16.7,16.7,16.2,15.6,14.9,14.1,13.3,12.7,12.1,11.7]
["12月",6.3,6,5.7,5.5,5.2,5,4.9000000000000004,4.8,5,6,7.4,8.9,10.1,10.7,11,10.9,10.5,9.9,9.1999999999999993,8.6,8,7.4,6.9,6.5]
["1月",4.0999999999999996,3.7,3.5,3.3,3,2.9,2.8,2.7,2.9,3.8,5.2,6.7,7.8,8.4,8.8000000000000007,8.8000000000000007,8.4,7.8,7.2,6.6,6,5.4,4.9000000000000004,4.5]
["2月",4.8,4.5,4.0999999999999996,3.8,3.6,3.4,3.3,3.2,3.6,4.7,6.2,7.8,8.8000000000000007,9.4,9.8000000000000007,9.8000000000000007,9.5,8.8000000000000007,8.1999999999999993,7.6,7,6.5,5.9,5.4]
["3月",8.1999999999999993,7.7,7.3,6.9,6.6,6.3,6.1,6.1,6.8,8.1999999999999993,10,11.4,12.3,12.9,13.2,13.3,13.1,12.5,11.8,11.2,10.6,10,9.4,8.8000000000000007]

{"sheet":"山口","index":57,"n_rows":16,"n_cols":25,"rows_kept":16,"cut":false,"hidden":true,"merged":[]}
["気象データ"]
[{"$f":"RIGHT(CELL(\"filename\",A2),LEN(CELL(\"filename\",A2))-FIND(\"]\",CELL(\"filename\",A2)))","v":"山口"},{"$f":"VLOOKUP(A2,γ一覧表!$D$4:$E$50,2,FALSE)","v":0.6},"暖・冷房負荷比(γ)"]
["時刻別平均気温"]
["時刻",0,1,2,3,4,5,6,7,8,9,10,11,12,13,14,15,16,17,18,19,20,21,22,23]
["4月",11.5,11.1,10.7,10.3,10,9.6999999999999993,9.6,10.199999999999999,11.8,14.1,16.100000000000001,17.5,18.3,18.8,19,18.899999999999999,18.5,17.7,16.600000000000001,15.4,14.4,13.6,12.9,12.2]
["5月",16.399999999999999,15.9,15.5,15.2,14.9,14.6,14.7,15.6,17.399999999999999,19.399999999999999,21.1,22.2,23,23.5,23.7,23.6,23.2,22.5,21.5,20.3,19.2,18.3,17.600000000000001,17]
["6月",20.6,20.3,20,19.7,19.5,19.3,19.399999999999999,20.2,21.5,22.9,24.1,25,25.7,26.1,26.2,26.2,25.9,25.3,24.6,23.6,22.8,22.1,21.6,21.2]
["7月",24.7,24.4,24.1,23.9,23.7,23.5,23.6,24.3,25.5,26.7,27.8,28.6,29.2,29.7,29.8,29.8,29.5,29,28.2,27.3,26.6,26,25.5,25.1]
["8月",25.6,25.3,25.1,24.8,24.6,24.4,24.4,25,26.4,27.9,29.2,30.1,30.8,31.1,31.2,31,30.5,29.9,29,28,27.3,26.8,26.3,25.9]
["9月",21.9,21.6,21.3,21,20.8,20.6,20.5,20.8,22.1,23.9,25.5,26.5,27.2,27.5,27.6,27.4,26.9,26.1,25.1,24.2,23.6,23,22.5,22.1]
["10月",15.8,15.4,15.1,14.8,14.5,14.3,14.1,14.2,15.5,17.600000000000001,19.8,21.3,22.2,22.6,22.7,22.4,21.8,20.8,19.5,18.5,17.7,17,16.5,16]
["11月",9.9,9.6,9.3000000000000007,9.1,8.9,8.6999999999999993,8.6,8.5,9.3000000000000007,11,13.2,15.1,16.100000000000001,16.600000000000001,16.7,16.5,15.9,14.8,13.4,12.5,11.7,11,10.5,10.1]
["12月",5,4.7,4.5,4.3,4.0999999999999996,3.9,3.8,3.7,3.9,5.2,6.9,8.8000000000000007,10.1,10.6,10.7,10.6,10.1,9.1999999999999993,8,7.2,6.5,6,5.6,5.2]
["1月",2.8,2.6,2.2999999999999998,2.1,2,1.9,1.8,1.7,1.9,3,4.7,6.5,7.7,8.1999999999999993,8.4,8.4,7.9,7.2,6.2,5.2,4.5,4,3.5,3.1]
["2月",3.7,3.4,3.2,2.9,2.7,2.5,2.4,2.2999999999999998,2.8,4.3,6.2,7.9,9,9.5,9.8000000000000007,9.8000000000000007,9.4,8.6999999999999993,7.7,6.7,5.9,5.2,4.7,4.2]
["3月",6.9,6.5,6.2,5.9,5.6,5.4,5.2,5.2,6.3,8.1999999999999993,10.4,11.9,12.8,13.3,13.5,13.5,13.2,12.5,11.4,10.3,9.4,8.6,8,7.4]

{"sheet":"徳島","index":58,"n_rows":16,"n_cols":25,"rows_kept":16,"cut":false,"hidden":true,"merged":[]}
["気象データ"]
[{"$f":"RIGHT(CELL(\"filename\",A2),LEN(CELL(\"filename\",A2))-FIND(\"]\",CELL(\"filename\",A2)))","v":"徳島"},{"$f":"VLOOKUP(A2,γ一覧表!$D$4:$E$50,2,FALSE)","v":0.6},"暖・冷房負荷比(γ)"]
["時刻別平均気温"]
["時刻",0,1,2,3,4,5,6,7,8,9,10,11,12,13,14,15,16,17,18,19,20,21,22,23]
["4月",13.4,13,12.6,12.3,12,11.7,11.6,12.3,13.7,15,16,16.7,17.399999999999999,17.899999999999999,18.2,18.3,18.100000000000001,17.5,16.8,16,15.5,14.9,14.4,14]
["5月",18,17.600000000000001,17.3,17,16.7,16.399999999999999,16.600000000000001,17.600000000000001,18.8,20,20.8,21.5,22.1,22.5,22.6,22.6,22.4,21.9,21.3,20.5,19.899999999999999,19.399999999999999,19,18.5]
["6月",21.6,21.4,21.1,20.8,20.6,20.399999999999999,20.6,21.4,22.3,23.2,23.9,24.5,25,25.3,25.4,25.4,25.2,24.8,24.3,23.6,23.1,22.7,22.4,22.1]
["7月",25.5,25.3,25,24.8,24.6,24.4,24.6,25.3,26.2,27.2,27.9,28.5,28.9,29.2,29.3,29.3,29.1,28.6,28,27.3,26.8,26.5,26.2,25.8]
["8月",26.7,26.5,26.2,25.9,25.7,25.5,25.5,26.2,27.3,28.5,29.4,30,30.6,30.9,31.1,31,30.6,30,29.3,28.5,28,27.7,27.3,27]
["9月",23.6,23.3,23,22.8,22.6,22.4,22.3,22.7,23.7,24.9,25.8,26.5,27,27.2,27.4,27.3,27,26.4,25.8,25.3,24.8,24.4,24,23.7]
["10月",18.100000000000001,17.8,17.5,17.3,17.100000000000001,17,16.8,17.100000000000001,18.100000000000001,19.5,20.6,21.4,21.9,22.2,22.3,22.2,21.8,21.1,20.5,20,19.399999999999999,19,18.600000000000001,18.2]
["11月",12.5,12.2,12,11.8,11.6,11.5,11.4,11.4,12.2,13.6,14.9,15.8,16.399999999999999,16.8,16.8,16.600000000000001,16.2,15.5,14.9,14.4,13.8,13.4,13,12.7]
["12月",7.5,7.3,7.1,6.9,6.8,6.7,6.6,6.5,7,8.1999999999999993,9.4,10.4,11.1,11.4,11.5,11.2,10.8,10.1,9.5,9.1,8.6,8.1999999999999993,7.9,7.6]
["1月",5.0999999999999996,4.9000000000000004,4.7,4.5,4.4000000000000004,4.2,4.2,4.0999999999999996,4.5,5.6,6.8,7.8,8.5,8.9,9,8.9,8.5,7.9,7.3,6.9,6.4,6,5.7,5.4]
["2月",5.5,5.2,5,4.8,4.5999999999999996,4.4000000000000004,4.3,4.3,4.9000000000000004,6.3,7.5,8.5,9.1,9.5,9.8000000000000007,9.6999999999999993,9.3000000000000007,8.8000000000000007,8.1,7.6,7.1,6.7,6.3,5.9]
["3月",8.6,8.3000000000000007,7.9,7.7,7.5,7.3,7.1,7.3,8.4,9.6999999999999993,10.9,11.8,12.4,12.8,13.1,13.1,12.9,12.3,11.6,11,10.5,10,9.5,9.1]

{"sheet":"高松","index":59,"n_rows":16,"n_cols":25,"rows_kept":16,"cut":false,"hidden":true,"merged":[]}
["気象データ"]
[{"$f":"RIGHT(CELL(\"filename\",A2),LEN(CELL(\"filename\",A2))-FIND(\"]\",CELL(\"filename\",A2)))","v":"高松"},{"$f":"VLOOKUP(A2,γ一覧表!$D$4:$E$50,2,FALSE)","v":0.6},"暖・冷房負荷比(γ)"]
["時刻別平均気温"]
["時刻",0,1,2,3,4,5,6,7,8,9,10,11,12,13,14,15,16,17,18,19,20,21,22,23]
["4月",12.8,12.3,11.9,11.5,11.2,10.9,10.8,11.7,13.3,14.7,15.8,16.600000000000001,17.399999999999999,18,18.5,18.7,18.5,18,17.100000000000001,16.2,15.4,14.7,14.1,13.5]
["5月",17.8,17.3,16.899999999999999,16.5,16.2,15.9,16.2,17.3,18.7,19.899999999999999,20.9,21.7,22.4,23,23.4,23.5,23.4,23,22.2,21.2,20.3,19.600000000000001,19,18.399999999999999]
["6月",21.8,21.4,21.1,20.8,20.5,20.3,20.6,21.4,22.4,23.3,24.1,24.8,25.4,25.9,26.2,26.3,26.2,25.9,25.2,24.5,23.8,23.3,22.8,22.3]
["7月",25.9,25.6,25.3,25,24.8,24.6,24.7,25.5,26.5,27.5,28.3,29,29.6,30,30.3,30.4,30.3,29.9,29.2,28.5,27.8,27.3,26.8,26.4]
["8月",27.1,26.7,26.4,26.1,25.8,25.6,25.6,26.4,27.7,28.8,29.7,30.4,31,31.5,31.8,31.8,31.6,31.1,30.3,29.5,28.8,28.3,27.8,27.4]
["9月",23.4,23,22.7,22.5,22.3,22.1,21.9,22.5,23.8,25,25.9,26.5,27,27.4,27.6,27.6,27.4,26.9,26.1,25.4,24.9,24.4,24,23.5]
["10月",17.600000000000001,17.2,16.899999999999999,16.7,16.399999999999999,16.2,16.100000000000001,16.399999999999999,17.8,19.5,20.6,21.3,21.8,22.1,22.3,22.3,21.9,21.3,20.5,19.8,19.100000000000001,18.600000000000001,18.2,17.7]
["11月",11.7,11.4,11.1,10.9,10.7,10.6,10.4,10.4,11.5,13.3,14.8,15.7,16.2,16.5,16.600000000000001,16.5,16,15.3,14.5,13.9,13.3,12.8,12.4,12]
["12月",6.8,6.6,6.4,6.2,6,5.9,5.7,5.6,6.2,7.7,9.4,10.3,10.8,11,11.1,11,10.5,9.8000000000000007,9.1999999999999993,8.6,8.1,7.8,7.4,7]
["1月",4.5999999999999996,4.3,4.0999999999999996,3.9,3.7,3.6,3.5,3.4,3.9,5.3,6.7,7.7,8.1999999999999993,8.5,8.6999999999999993,8.6,8.3000000000000007,7.7,7,6.5,6,5.6,5.2,4.8]
["2月",4.9000000000000004,4.5999999999999996,4.3,4,3.8,3.7,3.5,3.4,4.3,5.9,7.3,8.1999999999999993,8.8000000000000007,9.1999999999999993,9.4,9.5,9.1999999999999993,8.6999999999999993,7.9,7.3,6.7,6.2,5.8,5.4]
["3月",7.9,7.5,7.2,6.9,6.6,6.4,6.2,6.4,7.8,9.4,10.5,11.4,12,12.6,12.9,13.1,12.9,12.5,11.6,10.8,10.1,9.5,9,8.5]

{"sheet":"松山","index":60,"n_rows":16,"n_cols":25,"rows_kept":16,"cut":false,"hidden":true,"merged":[]}
["気象データ"]
[{"$f":"RIGHT(CELL(\"filename\",A2),LEN(CELL(\"filename\",A2))-FIND(\"]\",CELL(\"filename\",A2)))","v":"松山"},{"$f":"VLOOKUP(A2,γ一覧表!$D$4:$E$50,2,FALSE)","v":0.6},"暖・冷房負荷比(γ)"]
["時刻別平均気温"]
["時刻",0,1,2,3,4,5,6,7,8,9,10,11,12,13,14,15,16,17,18,19,20,21,22,23]
["4月",12.9,12.5,12.2,11.9,11.6,11.4,11.3,12.1,13.7,15.3,16.399999999999999,17.100000000000001,17.600000000000001,17.899999999999999,18.2,18.3,18,17.600000000000001,16.899999999999999,16.100000000000001,15.2,14.5,13.9,13.5]
["5月",17.5,17.100000000000001,16.7,16.399999999999999,16.2,15.9,16.100000000000001,17.2,18.8,20.100000000000001,21.1,21.8,22.2,22.5,22.7,22.7,22.5,22.1,21.5,20.7,19.8,19,18.5,18]
["6月",21.2,21,20.7,20.5,20.3,20.100000000000001,20.3,21.1,22.2,23.3,24,24.7,25.1,25.5,25.6,25.6,25.3,25,24.4,23.8,23.1,22.5,22.1,21.7]
["7月",25.5,25.3,25,24.8,24.6,24.4,24.5,25.3,26.4,27.5,28.3,28.8,29.3,29.6,29.8,29.7,29.6,29.2,28.6,28,27.3,26.7,26.3,25.9]
["8月",26.5,26.2,25.9,25.6,25.4,25.2,25.2,25.9,27.4,28.7,29.7,30.4,30.8,31.1,31.2,31.1,30.8,30.3,29.6,28.8,28.2,27.6,27.2,26.8]
["9月",23,22.7,22.5,22.2,22,21.9,21.7,22.2,23.6,25,26.1,26.9,27.4,27.7,27.8,27.8,27.4,26.8,26,25.2,24.5,24,23.6,23.2]
["10月",17.399999999999999,17.100000000000001,16.899999999999999,16.7,16.5,16.3,16.100000000000001,16.399999999999999,17.8,19.7,21,21.9,22.4,22.8,22.9,22.7,22.3,21.5,20.5,19.5,18.8,18.3,17.899999999999999,17.5]
["11月",12,11.8,11.6,11.4,11.2,11,10.9,10.9,11.9,13.7,15.3,16.2,16.8,17.100000000000001,17.100000000000001,17,16.600000000000001,15.8,14.7,13.9,13.3,12.8,12.4,12.1]
["12月",7.2,7,6.8,6.7,6.5,6.4,6.2,6.1,6.6,8,9.6,10.6,11.1,11.4,11.5,11.4,10.9,10.3,9.4,8.8000000000000007,8.3000000000000007,7.9,7.5,7.3]
["1月",4.8,4.5999999999999996,4.5,4.3,4.2,4,3.9,3.9,4.2,5.4,7.1,8,8.6,8.9,9.1,9,8.6999999999999993,8.1999999999999993,7.5,6.7,6.2,5.8,5.4,5.0999999999999996]
["2月",5.3,5,4.8,4.5999999999999996,4.5,4.3,4.2,4.0999999999999996,4.8,6.4,7.9,8.8000000000000007,9.4,9.8000000000000007,9.9,10,9.6999999999999993,9.1999999999999993,8.5,7.7,7,6.5,6.1,5.8]
["3月",8.3000000000000007,8.1,7.8,7.5,7.3,7.1,7,7.1,8.4,10.1,11.3,12.1,12.7,13.1,13.3,13.3,13.1,12.6,11.9,11.2,10.3,9.6999999999999993,9.1999999999999993,8.8000000000000007]

{"sheet":"高知","index":61,"n_rows":16,"n_cols":25,"rows_kept":16,"cut":false,"hidden":true,"merged":[]}
["気象データ"]
[{"$f":"RIGHT(CELL(\"filename\",A2),LEN(CELL(\"filename\",A2))-FIND(\"]\",CELL(\"filename\",A2)))","v":"高知"},{"$f":"VLOOKUP(A2,γ一覧表!$D$4:$E$50,2,FALSE)","v":0.6},"暖・冷房負荷比(γ)"]
["時刻別平均気温"]
["時刻",0,1,2,3,4,5,6,7,8,9,10,11,12,13,14,15,16,17,18,19,20,21,22,23]
["4月",13.6,13.2,12.7,12.4,12,11.8,11.7,12.5,14.3,16.2,17.899999999999999,18.8,19.3,19.5,19.600000000000001,19.5,19.100000000000001,18.600000000000001,17.899999999999999,17,16.2,15.6,14.9,14.3]
["5月",18,17.600000000000001,17.2,16.8,16.5,16.2,16.3,17.399999999999999,19.2,21,22.4,23.1,23.4,23.5,23.4,23.2,22.9,22.4,21.8,21.1,20.3,19.7,19.100000000000001,18.600000000000001]
["6月",21.5,21.2,20.9,20.6,20.399999999999999,20.100000000000001,20.3,21.2,22.5,23.8,24.9,25.4,25.6,25.8,25.7,25.5,25.2,24.8,24.3,23.8,23.3,22.8,22.4,22.1]
["7月",25.5,25.2,24.9,24.6,24.4,24.2,24.3,25.1,26.4,27.7,28.7,29.1,29.4,29.5,29.4,29.2,28.9,28.5,28,27.5,27,26.6,26.3,26]
["8月",26.4,26,25.7,25.4,25.2,25,24.9,25.6,27.1,28.8,30,30.6,30.8,30.8,30.7,30.4,30,29.5,28.9,28.3,27.9,27.5,27.1,26.7]
["9月",23.4,23.1,22.8,22.5,22.3,22.1,21.9,22.4,23.8,25.4,26.8,27.7,28.2,28.3,28.2,27.9,27.5,26.9,26.2,25.5,25,24.5,24,23.6]
["10月",18.100000000000001,17.7,17.399999999999999,17.100000000000001,16.8,16.600000000000001,16.399999999999999,16.600000000000001,18.2,20.100000000000001,21.8,23.1,23.8,24,24,23.7,23.1,22.3,21.2,20.5,19.8,19.2,18.7,18.2]
["11月",12.3,11.9,11.6,11.3,11,10.9,10.7,10.7,12,13.8,15.8,17.3,18.2,18.7,18.7,18.399999999999999,17.8,16.7,15.5,14.8,14.1,13.5,13,12.6]
["12月",6.9,6.5,6.2,5.9,5.7,5.5,5.3,5.2,5.8,7.9,10,11.7,12.8,13.3,13.5,13.1,12.5,11.4,10.199999999999999,9.4,8.6999999999999993,8.1,7.6,7.1]
["1月",4.8,4.4000000000000004,4.0999999999999996,3.8,3.5,3.3,3.1,3,3.5,5.5,7.6,9.3000000000000007,10.4,11,11.3,11.1,10.6,9.6999999999999993,8.5,7.6,6.9,6.3,5.7,5.3]
["2月",6,5.6,5.2,4.9000000000000004,4.5999999999999996,4.4000000000000004,4.2,4.0999999999999996,5,7,9,10.5,11.5,12,12.2,12.1,11.7,10.9,9.9,9,8.3000000000000007,7.7,7.1,6.6]
["3月",9.4,8.9,8.5,8.1999999999999993,7.9,7.6,7.4,7.5,9,11,12.7,14,14.7,15.1,15.2,15.1,14.8,14.2,13.3,12.4,11.7,11.1,10.5,9.9]

{"sheet":"福岡","index":62,"n_rows":16,"n_cols":25,"rows_kept":16,"cut":false,"hidden":true,"merged":[]}
["気象データ"]
[{"$f":"RIGHT(CELL(\"filename\",A2),LEN(CELL(\"filename\",A2))-FIND(\"]\",CELL(\"filename\",A2)))","v":"福岡"},{"$f":"VLOOKUP(A2,γ一覧表!$D$4:$E$50,2,FALSE)","v":0.6},"暖・冷房負荷比(γ)"]
["時刻別平均気温"]
["時刻",0,1,2,3,4,5,6,7,8,9,10,11,12,13,14,15,16,17,18,19,20,21,22,23]
["4月",13.9,13.7,13.4,13.2,12.9,12.8,12.6,13.1,14.3,15.7,16.899999999999999,17.7,18.2,18.5,18.5,18.3,17.899999999999999,17.3,16.7,16,15.6,15.2,14.8,14.5]
["5月",18.5,18.2,17.899999999999999,17.600000000000001,17.3,17.100000000000001,17.2,18,19.2,20.5,21.6,22.3,22.7,22.9,22.9,22.7,22.4,21.8,21.1,20.399999999999999,19.899999999999999,19.600000000000001,19.2,18.899999999999999]
["6月",22.1,21.9,21.7,21.4,21.3,21.1,21.2,21.7,22.7,23.6,24.5,25.1,25.5,25.7,25.7,25.5,25.1,24.7,24.1,23.6,23.1,22.9,22.7,22.5]
["7月",26.3,26.1,25.9,25.7,25.5,25.4,25.4,25.9,26.8,27.8,28.6,29.2,29.6,29.7,29.8,29.6,29.3,28.8,28.2,27.7,27.2,27,26.8,26.6]
["8月",27.3,27,26.8,26.6,26.4,26.2,26.1,26.6,27.6,28.7,29.7,30.5,30.8,31,31,30.8,30.4,29.8,29.2,28.6,28.2,28,27.7,27.5]
["9月",23.6,23.4,23.2,22.9,22.7,22.5,22.4,22.7,23.8,25,26,26.8,27.2,27.4,27.3,27.1,26.7,26.1,25.4,24.9,24.6,24.3,24,23.7]
["10月",18.399999999999999,18.100000000000001,17.8,17.5,17.3,17.2,17.100000000000001,17.2,18.3,19.8,21,21.9,22.5,22.8,22.7,22.5,22,21.3,20.6,20.2,19.7,19.3,18.899999999999999,18.5]
["11月",13,12.8,12.6,12.4,12.2,12.1,12,11.9,12.6,13.9,15.3,16.2,16.8,17.100000000000001,17.100000000000001,16.899999999999999,16.399999999999999,15.7,15.2,14.7,14.2,13.8,13.4,13.1]
["12月",8.1999999999999993,8,7.8,7.6,7.4,7.3,7.3,7.2,7.5,8.3000000000000007,9.4,10.4,11,11.3,11.4,11.3,10.9,10.3,9.9,9.5,9.1999999999999993,8.8000000000000007,8.6,8.3000000000000007]
["1月",6.1,5.9,5.7,5.5,5.4,5.3,5.2,5.2,5.3,6,7.1,8,8.6,8.9,9.1,9,8.6999999999999993,8.1999999999999993,7.7,7.4,7.1,6.8,6.6,6.3]
["2月",6.8,6.6,6.4,6.2,6.1,6,5.9,5.8,6.2,7.1,8.3000000000000007,9.1999999999999993,9.9,10.199999999999999,10.4,10.3,9.9,9.4,8.9,8.5,8.1999999999999993,7.8,7.5,7.2]
["3月",9.8000000000000007,9.5,9.1999999999999993,9,8.8000000000000007,8.6,8.5,8.6,9.4,10.7,11.8,12.8,13.4,13.8,13.7,13.6,13.3,12.7,12.1,11.6,11.2,10.9,10.5,10.199999999999999]

{"sheet":"佐賀","index":63,"n_rows":16,"n_cols":25,"rows_kept":16,"cut":false,"hidden":true,"merged":[]}
["気象データ"]
[{"$f":"RIGHT(CELL(\"filename\",A2),LEN(CELL(\"filename\",A2))-FIND(\"]\",CELL(\"filename\",A2)))","v":"佐賀"},{"$f":"VLOOKUP(A2,γ一覧表!$D$4:$E$50,2,FALSE)","v":0.6},"暖・冷房負荷比(γ)"]
["時刻別平均気温"]
["時刻",0,1,2,3,4,5,6,7,8,9,10,11,12,13,14,15,16,17,18,19,20,21,22,23]
["4月",13.1,12.7,12.3,12,11.7,11.5,11.3,11.8,13.2,14.8,16.3,17.600000000000001,18.600000000000001,19.2,19.600000000000001,19.7,19.399999999999999,18.7,17.8,16.7,15.8,15.1,14.4,13.8]
["5月",17.899999999999999,17.399999999999999,17,16.7,16.399999999999999,16.100000000000001,16.100000000000001,17,18.399999999999999,19.899999999999999,21.3,22.5,23.4,24,24.4,24.5,24.3,23.6,22.7,21.6,20.6,19.8,19.100000000000001,18.5]
["6月",21.9,21.6,21.3,21.1,20.8,20.6,20.7,21.3,22.3,23.3,24.4,25.3,26,26.5,26.8,26.8,26.6,26.1,25.5,24.7,23.9,23.3,22.9,22.5]
["7月",25.8,25.6,25.3,25.1,24.9,24.7,24.7,25.3,26.2,27.2,28.1,29,29.6,30.1,30.3,30.4,30.2,29.7,29,28.3,27.5,27,26.6,26.3]
["8月",26.6,26.3,26,25.8,25.5,25.3,25.2,25.8,26.9,28.1,29.2,30.1,30.8,31.4,31.6,31.6,31.3,30.6,29.8,28.9,28.2,27.7,27.3,26.9]
["9月",23,22.7,22.4,22.2,21.9,21.8,21.6,21.9,23.1,24.5,25.7,26.8,27.6,28.1,28.2,28.1,27.7,27,26,25,24.5,24,23.6,23.2]
["10月",17.399999999999999,17,16.7,16.399999999999999,16.2,16,15.8,15.9,17.100000000000001,18.899999999999999,20.5,21.9,22.7,23.3,23.5,23.4,22.9,22,20.7,19.899999999999999,19.2,18.600000000000001,18.100000000000001,17.600000000000001]
["11月",11.7,11.3,11.1,10.8,10.6,10.4,10.3,10.199999999999999,11,12.5,14.1,15.5,16.600000000000001,17.2,17.5,17.3,16.899999999999999,16,15,14.2,13.5,12.9,12.4,11.9]
["12月",6.5,6.2,6,5.8,5.6,5.4,5.3,5.2,5.5,6.6,8,9.4,10.4,11,11.4,11.3,11,10.199999999999999,9.5,8.6999999999999993,8.1,7.6,7.1,6.7]
["1月",4.4000000000000004,4.0999999999999996,3.9,3.7,3.6,3.4,3.3,3.2,3.4,4.5,5.9,7.2,8.1,8.8000000000000007,9.1999999999999993,9.1999999999999993,8.9,8.3000000000000007,7.5,6.9,6.3,5.7,5.3,4.8]
["2月",5.6,5.2,4.9000000000000004,4.7,4.5,4.4000000000000004,4.2,4.0999999999999996,4.5999999999999996,5.9,7.4,8.6999999999999993,9.6999999999999993,10.4,10.8,10.9,10.6,10,9.1,8.3000000000000007,7.7,7.1,6.6,6.1]
["3月",8.6999999999999993,8.4,8,7.8,7.5,7.3,7.1,7.1,8.1,9.6999999999999993,11.2,12.4,13.3,14,14.4,14.4,14.2,13.6,12.7,11.8,11.1,10.4,9.9,9.3000000000000007]

{"sheet":"長崎","index":64,"n_rows":16,"n_cols":25,"rows_kept":16,"cut":false,"hidden":true,"merged":[]}
["気象データ"]
[{"$f":"RIGHT(CELL(\"filename\",A2),LEN(CELL(\"filename\",A2))-FIND(\"]\",CELL(\"filename\",A2)))","v":"長崎"},{"$f":"VLOOKUP(A2,γ一覧表!$D$4:$E$50,2,FALSE)","v":0.6},"暖・冷房負荷比(γ)"]
["時刻別平均気温"]
["時刻",0,1,2,3,4,5,6,7,8,9,10,11,12,13,14,15,16,17,18,19,20,21,22,23]
["4月",14,13.8,13.5,13.3,13.1,13,12.8,13.3,14.2,15.7,16.8,17.600000000000001,18.2,18.5,18.7,18.5,18.2,17.7,17,16.2,15.7,15.2,14.8,14.5]
["5月",18.100000000000001,17.8,17.600000000000001,17.399999999999999,17.3,17.100000000000001,17.100000000000001,17.7,18.899999999999999,20.100000000000001,21.1,21.8,22.2,22.5,22.5,22.4,22.2,21.7,21.1,20.3,19.7,19.2,18.8,18.5]
["6月",21.8,21.6,21.4,21.2,21.1,21,21.1,21.5,22.3,23.2,23.9,24.5,24.8,25,25.1,25,24.8,24.5,24,23.4,22.9,22.6,22.4,22.2]
["7月",25.8,25.6,25.5,25.4,25.3,25.2,25.1,25.5,26.3,27.1,27.8,28.4,28.7,29,29.1,29,28.7,28.4,27.9,27.2,26.8,26.5,26.3,26.1]
["8月",26.9,26.7,26.5,26.4,26.2,26.1,26,26.4,27.2,28.3,29.1,29.8,30.3,30.5,30.6,30.6,30.3,29.8,29.1,28.4,27.9,27.6,27.3,27.1]
["9月",23.8,23.5,23.3,23.1,22.9,22.8,22.7,23,23.8,25,26,26.8,27.3,27.6,27.7,27.6,27.4,26.8,26,25.2,24.8,24.4,24.1,23.8]
["10月",18.600000000000001,18.399999999999999,18.100000000000001,18,17.8,17.7,17.5,17.600000000000001,18.5,20,21.3,22.2,22.8,23.2,23.3,23.2,22.9,22.2,21.2,20.5,20,19.5,19.100000000000001,18.8]
["11月",13.2,13,12.9,12.8,12.6,12.6,12.5,12.4,13,14.2,15.6,16.5,17,17.399999999999999,17.5,17.5,17.100000000000001,16.3,15.4,14.8,14.3,13.9,13.6,13.3]
["12月",8.4,8.1999999999999993,8.1,7.9,7.8,7.7,7.7,7.6,7.8,8.6999999999999993,9.9,10.8,11.4,11.7,11.9,11.8,11.5,10.9,10.1,9.6,9.1999999999999993,8.9,8.6,8.4]
["1月",6.1,6,5.9,5.8,5.7,5.6,5.5,5.5,5.6,6.4,7.5,8.4,9,9.3000000000000007,9.5,9.5,9.3000000000000007,8.8000000000000007,8.1,7.6,7.2,6.9,6.6,6.4]
["2月",7,6.8,6.6,6.5,6.4,6.2,6.1,6.1,6.4,7.4,8.6,9.5,10.199999999999999,10.6,10.8,10.9,10.6,10.199999999999999,9.4,8.8000000000000007,8.4,8,7.7,7.4]
["3月",10,9.8000000000000007,9.5,9.4,9.1999999999999993,9,8.9,8.9,9.6999999999999993,10.9,12.1,12.9,13.5,13.9,14.1,14,13.8,13.4,12.7,12,11.4,11,10.7,10.3]

{"sheet":"熊本","index":65,"n_rows":16,"n_cols":25,"rows_kept":16,"cut":false,"hidden":true,"merged":[]}
["気象データ"]
[{"$f":"RIGHT(CELL(\"filename\",A2),LEN(CELL(\"filename\",A2))-FIND(\"]\",CELL(\"filename\",A2)))","v":"熊本"},{"$f":"VLOOKUP(A2,γ一覧表!$D$4:$E$50,2,FALSE)","v":0.6},"暖・冷房負荷比(γ)"]
["時刻別平均気温"]
["時刻",0,1,2,3,4,5,6,7,8,9,10,11,12,13,14,15,16,17,18,19,20,21,22,23]
["4月",13.8,13.3,12.9,12.4,12.1,11.7,11.5,12.1,13.7,15.5,17.100000000000001,18.3,19.2,19.899999999999999,20.2,20.3,20,19.3,18.3,17.2,16.399999999999999,15.8,15.2,14.6]
["5月",18.5,18,17.600000000000001,17.2,16.8,16.5,16.5,17.399999999999999,18.899999999999999,20.5,21.9,23,23.9,24.5,24.8,24.8,24.5,23.9,22.9,21.7,20.9,20.3,19.7,19.2]
["6月",22.3,21.9,21.6,21.3,21.1,20.9,20.9,21.5,22.5,23.6,24.6,25.5,26.1,26.6,26.8,26.8,26.6,26.1,25.4,24.6,23.9,23.5,23.1,22.8]
["7月",26,25.7,25.5,25.2,25,24.8,24.8,25.4,26.4,27.5,28.5,29.3,29.9,30.3,30.6,30.6,30.3,29.7,28.9,28.1,27.4,27,26.7,26.4]
["8月",26.8,26.5,26.2,25.9,25.7,25.4,25.3,25.9,27.2,28.5,29.6,30.6,31.3,31.8,32,31.9,31.5,30.8,29.8,28.9,28.3,27.8,27.4,27.1]
["9月",23.6,23.2,22.9,22.6,22.3,22,21.8,22.2,23.5,25,26.4,27.5,28.2,28.8,29,28.9,28.5,27.8,26.7,25.8,25.2,24.6,24.2,23.8]
["10月",17.8,17.399999999999999,17,16.7,16.399999999999999,16.100000000000001,15.9,16,17.399999999999999,19.3,21,22.4,23.3,23.9,24.1,24.1,23.6,22.6,21.4,20.5,19.8,19.100000000000001,18.600000000000001,18.100000000000001]
["11月",11.8,11.4,11.1,10.7,10.5,10.3,10.1,9.9,10.9,12.7,14.6,16.100000000000001,17.100000000000001,17.600000000000001,17.899999999999999,17.899999999999999,17.399999999999999,16.3,15.2,14.4,13.7,13.1,12.6,12.1]
["12月",6.5,6.1,5.8,5.5,5.2,5,4.8,4.7,5.0999999999999996,6.5,8.4,10,11,11.6,11.9,11.9,11.5,10.6,9.6,8.9,8.3000000000000007,7.7,7.2,6.7]
["1月",4.5,4.0999999999999996,3.7,3.5,3.3,3.1,2.9,2.8,3,4.4000000000000004,6.1,7.7,8.6999999999999993,9.3000000000000007,9.6999999999999993,9.8000000000000007,9.5,8.8000000000000007,7.9,7.1,6.5,5.9,5.4,5]
["2月",5.8,5.4,5.0999999999999996,4.7,4.5,4.2,4,3.9,4.5,6,7.8,9.3000000000000007,10.3,10.9,11.3,11.4,11.3,10.6,9.6,8.6999999999999993,8.1,7.5,6.9,6.4]
["3月",9.1999999999999993,8.8000000000000007,8.3000000000000007,8,7.6,7.3,7.1,7.1,8.3000000000000007,10.1,11.8,13.2,14.1,14.7,15,15.1,14.9,14.3,13.3,12.3,11.6,11,10.4,9.9]

{"sheet":"大分","index":66,"n_rows":16,"n_cols":25,"rows_kept":16,"cut":false,"hidden":true,"merged":[]}
["気象データ"]
[{"$f":"RIGHT(CELL(\"filename\",A2),LEN(CELL(\"filename\",A2))-FIND(\"]\",CELL(\"filename\",A2)))","v":"大分"},{"$f":"VLOOKUP(A2,γ一覧表!$D$4:$E$50,2,FALSE)","v":0.6},"暖・冷房負荷比(γ)"]
["時刻別平均気温"]
["時刻",0,1,2,3,4,5,6,7,8,9,10,11,12,13,14,15,16,17,18,19,20,21,22,23]
["4月",13.1,12.7,12.2,11.9,11.6,11.3,11.2,11.8,13.4,15,16.2,17,17.7,18.100000000000001,18.2,18.2,17.899999999999999,17.5,16.7,16,15.4,14.9,14.4,13.8]
["5月",17.7,17.2,16.8,16.5,16.100000000000001,15.9,15.9,16.8,18.399999999999999,19.899999999999999,20.8,21.6,22.1,22.4,22.6,22.5,22.3,21.8,21.2,20.399999999999999,19.8,19.3,18.8,18.3]
["6月",21.4,21,20.7,20.399999999999999,20.2,20,20.100000000000001,20.8,21.8,22.8,23.5,24.1,24.6,24.9,25.1,25,24.8,24.4,24,23.4,22.9,22.6,22.2,21.8]
["7月",25.4,25.1,24.8,24.6,24.4,24.1,24.2,24.8,25.9,27,27.7,28.5,29.1,29.4,29.4,29.3,29,28.5,27.9,27.4,26.8,26.5,26.2,25.9]
["8月",26.3,26,25.6,25.4,25.1,24.9,24.8,25.5,26.8,28.1,29,29.7,30.4,30.7,30.8,30.7,30.4,29.8,29,28.3,27.8,27.4,27,26.6]
["9月",22.9,22.6,22.4,22.1,21.9,21.7,21.6,22,23.2,24.5,25.4,26.1,26.6,27,27.1,27,26.7,26.2,25.5,24.9,24.5,24,23.6,23.1]
["10月",17.600000000000001,17.3,17,16.8,16.5,16.399999999999999,16.2,16.399999999999999,17.7,19.3,20.7,21.5,22,22.4,22.5,22.5,22.1,21.5,20.7,20.100000000000001,19.3,18.8,18.3,17.8]
["11月",12.2,11.9,11.6,11.4,11.2,11,10.9,10.9,11.8,13.4,15.1,16.2,16.8,17.2,17.3,17.2,16.7,16,15.3,14.7,14,13.4,12.9,12.4]
["12月",7.3,7,6.7,6.5,6.3,6.2,6.1,6,6.4,7.8,9.5,10.8,11.5,11.9,12,11.9,11.5,10.7,10.1,9.5,8.9,8.3000000000000007,7.9,7.5]
["1月",5.0999999999999996,4.8,4.5999999999999996,4.4000000000000004,4.2,4.0999999999999996,4.0999999999999996,4,4.2,5.5,7.2,8.4,9.1,9.5,9.6999999999999993,9.6,9.3000000000000007,8.6,8,7.5,6.9,6.4,5.9,5.4]
["2月",5.8,5.5,5.3,5,4.9000000000000004,4.7,4.5999999999999996,4.5,5.0999999999999996,6.5,8.1,9.1,9.8000000000000007,10.199999999999999,10.5,10.5,10.199999999999999,9.6,8.9,8.3000000000000007,7.8,7.3,6.8,6.4]
["3月",8.9,8.5,8.1999999999999993,7.8,7.6,7.3,7.1,7.2,8.4,10.1,11.4,12.3,12.9,13.3,13.5,13.4,13.2,12.7,12,11.4,10.9,10.4,9.9,9.4]

{"sheet":"宮崎","index":67,"n_rows":16,"n_cols":25,"rows_kept":16,"cut":false,"hidden":true,"merged":[]}
["気象データ"]
[{"$f":"RIGHT(CELL(\"filename\",A2),LEN(CELL(\"filename\",A2))-FIND(\"]\",CELL(\"filename\",A2)))","v":"宮崎"},{"$f":"VLOOKUP(A2,γ一覧表!$D$4:$E$50,2,FALSE)","v":0.4},"暖・冷房負荷比(γ)"]
["時刻別平均気温"]
["時刻",0,1,2,3,4,5,6,7,8,9,10,11,12,13,14,15,16,17,18,19,20,21,22,23]
["4月",14.5,14.1,13.7,13.4,13.1,12.9,12.7,13.3,14.8,16.7,18.2,19.100000000000001,19.600000000000001,19.899999999999999,20,19.899999999999999,19.7,19.2,18.5,17.7,17.100000000000001,16.3,15.6,15.1]
["5月",18.600000000000001,18.2,18,17.7,17.399999999999999,17.2,17.2,18,19.600000000000001,21.2,22.4,23.1,23.4,23.5,23.5,23.4,23.1,22.7,22.1,21.4,20.8,20.2,19.600000000000001,19.100000000000001]
["6月",21.9,21.6,21.4,21.2,21.1,20.9,21,21.6,22.7,23.8,24.6,25,25.2,25.4,25.4,25.3,25.2,24.8,24.4,23.9,23.4,23,22.7,22.4]
["7月",25.8,25.6,25.4,25.2,25,24.8,24.8,25.6,26.8,27.9,28.8,29.4,29.6,29.8,29.9,29.8,29.5,29.1,28.5,27.8,27.3,26.9,26.6,26.2]
["8月",26.3,26,25.8,25.6,25.4,25.2,25.1,25.8,27.1,28.5,29.5,30.1,30.3,30.5,30.5,30.4,30.1,29.7,29,28.3,27.8,27.4,27,26.6]
["9月",23.5,23.2,22.9,22.7,22.5,22.3,22.1,22.5,23.7,25.3,26.6,27.3,27.6,27.8,27.7,27.5,27.1,26.7,26.1,25.6,25.1,24.6,24.1,23.7]
["10月",18.399999999999999,18,17.7,17.399999999999999,17.2,17,16.8,16.899999999999999,18.2,20.2,21.9,23,23.5,23.8,23.8,23.6,23.3,22.6,21.8,21,20.2,19.600000000000001,19,18.600000000000001]
["11月",12.9,12.6,12.3,12,11.8,11.6,11.4,11.3,12.3,14.1,16.2,17.8,18.600000000000001,18.899999999999999,19,18.899999999999999,18.399999999999999,17.5,16.5,15.4,14.6,14,13.5,13.1]
["12月",7.8,7.5,7.2,7,6.7,6.5,6.3,6.2,6.7,8.5,10.6,12.3,13.3,13.9,14.1,14,13.5,12.5,11.3,10.199999999999999,9.5,8.9,8.4,8]
["1月",6,5.7,5.4,5.0999999999999996,4.9000000000000004,4.7,4.5,4.4000000000000004,4.8,6.4,8.5,10.199999999999999,11.3,11.9,12.2,12.2,11.8,10.9,9.8000000000000007,8.6999999999999993,7.9,7.3,6.8,6.4]
["2月",7.3,6.9,6.7,6.4,6.2,5.9,5.7,5.6,6.3,8,9.9,11.4,12.3,12.9,13.2,13.1,12.8,12.2,11.3,10.4,9.5,8.8000000000000007,8.3000000000000007,7.8]
["3月",10.3,10,9.6999999999999993,9.3000000000000007,9,8.8000000000000007,8.6,8.6,9.8000000000000007,11.7,13.4,14.6,15.4,15.8,15.9,15.9,15.6,15.1,14.3,13.5,12.7,11.9,11.3,10.9]

{"sheet":"鹿児島","index":68,"n_rows":16,"n_cols":25,"rows_kept":16,"cut":false,"hidden":true,"merged":[]}
["気象データ"]
[{"$f":"RIGHT(CELL(\"filename\",A2),LEN(CELL(\"filename\",A2))-FIND(\"]\",CELL(\"filename\",A2)))","v":"鹿児島"},{"$f":"VLOOKUP(A2,γ一覧表!$D$4:$E$50,2,FALSE)","v":0.4},"暖・冷房負荷比(γ)"]
["時刻別平均気温"]
["時刻",0,1,2,3,4,5,6,7,8,9,10,11,12,13,14,15,16,17,18,19,20,21,22,23]
["4月",15.4,15,14.7,14.4,14.2,14,13.9,14.3,15.6,16.899999999999999,18.100000000000001,19.100000000000001,19.7,20.2,20.399999999999999,20.399999999999999,20.100000000000001,19.5,18.8,17.899999999999999,17.3,16.899999999999999,16.399999999999999,16]
["5月",19.5,19.100000000000001,18.8,18.600000000000001,18.399999999999999,18.2,18.2,18.899999999999999,20.100000000000001,21.2,22.3,23.1,23.6,23.9,24.1,24.1,23.8,23.4,22.6,21.7,21.1,20.7,20.3,19.899999999999999]
["6月",23,22.7,22.5,22.4,22.2,22.1,22.1,22.7,23.4,24.1,24.8,25.3,25.7,25.9,26.1,26.1,25.9,25.6,25.1,24.6,24.1,23.8,23.6,23.3]
["7月",26.8,26.6,26.4,26.2,26.1,26,26,26.5,27.4,28.2,28.9,29.5,30,30.3,30.5,30.4,30.2,29.8,29.3,28.5,27.9,27.6,27.3,27.1]
["8月",27.6,27.4,27.2,27,26.8,26.6,26.5,27,28,28.9,29.7,30.4,30.9,31.3,31.4,31.3,31,30.6,29.9,29.2,28.7,28.3,28.1,27.9]
["9月",25.1,24.8,24.6,24.3,24.1,24,23.9,24.2,25.2,26.3,27.2,28,28.5,28.9,29,29,28.6,28.1,27.3,26.7,26.3,25.9,25.6,25.3]
["10月",20.3,19.899999999999999,19.7,19.399999999999999,19.2,19,18.899999999999999,19,20.2,21.6,22.7,23.7,24.3,24.8,25,24.9,24.4,23.7,22.9,22.2,21.7,21.2,20.8,20.399999999999999]
["11月",14.7,14.4,14.2,13.9,13.7,13.6,13.5,13.5,14.3,16,17.3,18.2,18.899999999999999,19.399999999999999,19.600000000000001,19.5,19,18.2,17.399999999999999,16.7,16.2,15.7,15.3,14.9]
["12月",9.5,9.1999999999999993,9,8.8000000000000007,8.6,8.5,8.4,8.3000000000000007,8.6999999999999993,10.199999999999999,11.7,12.7,13.5,13.9,14.1,14,13.5,12.8,12,11.4,10.8,10.3,9.9,9.6]
["1月",7.3,7,6.8,6.7,6.5,6.4,6.3,6.3,6.5,7.8,9.3000000000000007,10.4,11.1,11.6,11.9,11.9,11.5,10.9,10.1,9.5,8.9,8.4,8,7.7]
["2月",8.5,8.1999999999999993,8,7.7,7.6,7.4,7.3,7.3,7.8,9.1999999999999993,10.6,11.7,12.5,13,13.3,13.3,13,12.3,11.6,10.9,10.3,9.8000000000000007,9.4,9]
["3月",11.4,11.1,10.8,10.5,10.3,10.1,10,10,11,12.5,13.7,14.7,15.5,16,16.3,16.3,16,15.3,14.5,13.8,13.2,12.8,12.3,11.8]

{"sheet":"那覇","index":69,"n_rows":16,"n_cols":25,"rows_kept":16,"cut":false,"hidden":true,"merged":[]}
["気象データ"]
[{"$f":"RIGHT(CELL(\"filename\",A2),LEN(CELL(\"filename\",A2))-FIND(\"]\",CELL(\"filename\",A2)))","v":"那覇"},{"$f":"VLOOKUP(A2,γ一覧表!$D$4:$E$50,2,FALSE)","v":0},"暖・冷房負荷比(γ)"]
["時刻別平均気温"]
["時刻",0,1,2,3,4,5,6,7,8,9,10,11,12,13,14,15,16,17,18,19,20,21,22,23]
["4月",20.6,20.5,20.399999999999999,20.3,20.2,20.100000000000001,20.100000000000001,20.399999999999999,21.1,21.9,22.4,22.8,23.1,23.2,23.1,23,22.7,22.3,21.8,21.4,21.2,21.1,21,20.8]
["5月",23.4,23.3,23.2,23.1,23,23,23,23.4,24.1,24.7,25.3,25.6,25.8,25.9,25.9,25.7,25.5,25.1,24.6,24.2,24,23.8,23.7,23.6]
["6月",26.2,26.1,26,25.9,25.9,25.9,25.9,26.3,27,27.6,28.1,28.4,28.6,28.7,28.7,28.6,28.3,27.9,27.5,27,26.7,26.6,26.5,26.4]
["7月",28.1,28,27.8,27.7,27.6,27.6,27.5,28,28.9,29.5,30,30.4,30.7,30.8,30.8,30.7,30.5,30.1,29.5,29,28.6,28.5,28.4,28.2]
["8月",28.1,28,27.8,27.7,27.6,27.5,27.5,27.8,28.7,29.4,29.9,30.3,30.5,30.7,30.6,30.5,30.3,29.9,29.3,28.8,28.6,28.5,28.4,28.2]
["9月",27.2,27,26.9,26.8,26.7,26.6,26.5,26.8,27.6,28.4,29,29.4,29.6,29.6,29.6,29.4,29.1,28.6,28.1,27.8,27.6,27.5,27.4,27.3]
["10月",24.9,24.7,24.6,24.5,24.4,24.3,24.2,24.3,25.1,26,26.6,27,27.2,27.2,27.1,27,26.7,26.2,25.7,25.5,25.3,25.2,25,24.9]
["11月",21.9,21.8,21.7,21.6,21.5,21.4,21.4,21.4,21.9,22.8,23.4,23.9,24.1,24.2,24.1,23.9,23.5,23.1,22.7,22.5,22.3,22.2,22,21.9]
["12月",18.399999999999999,18.3,18.2,18.100000000000001,18.100000000000001,18,17.899999999999999,18,18.3,19.100000000000001,19.8,20.2,20.399999999999999,20.5,20.5,20.3,20,19.600000000000001,19.2,19,18.899999999999999,18.7,18.600000000000001,18.5]
["1月",16.600000000000001,16.5,16.399999999999999,16.3,16.2,16.2,16.2,16.2,16.399999999999999,17.2,17.899999999999999,18.399999999999999,18.600000000000001,18.7,18.7,18.5,18.3,18,17.600000000000001,17.3,17.2,17,16.899999999999999,16.8]
["2月",16.899999999999999,16.8,16.7,16.600000000000001,16.5,16.399999999999999,16.399999999999999,16.399999999999999,16.8,17.7,18.3,18.8,19.100000000000001,19.2,19.2,19,18.8,18.399999999999999,18,17.7,17.5,17.3,17.2,17.100000000000001]
["3月",18.3,18.2,18.100000000000001,18,17.899999999999999,17.8,17.8,17.8,18.5,19.3,19.899999999999999,20.3,20.6,20.7,20.7,20.6,20.3,19.899999999999999,19.5,19.100000000000001,18.899999999999999,18.8,18.7,18.5]